Workbook

Sheet ModelData
A1: Year | B1: Month | C1: GSL50_Cust | D1: Cust_Var | E1: Yr21Plus | F1: XMissing | G1: YMissing
A2: 2017 | B2: 1 | C2: 18175 | D2: 1.0396461 | E2: 0 | F2: 0 | G2: 0
A3: 2017 | B3: 2 | C3: 18209 | D3: 1.0425927 | E3: 0 | F3: 0 | G3: 0
A4: 2017 | B4: 3 | C4: 18263 | D4: 1.0444903 | E4: 0 | F4: 0 | G4: 0
A5: 2017 | B5: 4 | C5: 18294 | D5: 1.0463877 | E5: 0 | F5: 0 | G5: 0
A6: 2017 | B6: 5 | C6: 18306 | D6: 1.0482848 | E6: 0 | F6: 0 | G6: 0
A7: 2017 | B7: 6 | C7: 18321 | D7: 1.0493289 | E7: 0 | F7: 0 | G7: 0
A8: 2017 | B8: 7 | C8: 18326 | D8: 1.0503721 | E8: 0 | F8: 0 | G8: 0
A9: 2017 | B9: 8 | C9: 18350 | D9: 1.0514145 | E9: 0 | F9: 0 | G9: 0
A10: 2017 | B10: 9 | C10: 18391 | D10: 1.0534963 | E10: 0 | F10: 0 | G10: 0
A11: 2017 | B11: 10 | C11: 18417 | D11: 1.0555778 | E11: 0 | F11: 0 | G11: 0
A12: 2017 | B12: 11 | C12: 18448 | D12: 1.0576588 | E12: 0 | F12: 0 | G12: 0
A13: 2017 | B13: 12 | C13: 18413 | D13: 1.0606006 | E13: 0 | F13: 0 | G13: 0
... A109: 2025 | B109: 12 | C109: 19865 | D109: 1.2169861 | E109: 1 | F109: 0 | G109: 0
A110: 2026 | B110: 1 | D110: 1.2177323 | E110: 1 | F110: 0 | G110: 1
A111: 2026 | B111: 2 | D111: 1.2184776 | E111: 1 | F111: 0 | G111: 1
A112: 2026 | B112: 3 | D112: 1.2193733 | E112: 1 | F112: 0 | G112: 1
A113: 2026 | B113: 4 | D113: 1.2202676 | E113: 1 | F113: 0 | G113: 1
A114: 2026 | B114: 5 | D114: 1.2211604 | E114: 1 | F114: 0 | G114: 1
A115: 2026 | B115: 6 | D115: 1.2221003 | E115: 1 | F115: 0 | G115: 1
A116: 2026 | B116: 7 | D116: 1.2230386 | E116: 1 | F116: 0 | G116: 1
A117: 2026 | B117: 8 | D117: 1.2239753 | E117: 1 | F117: 0 | G117: 1
A118: 2026 | B118: 9 | D118: 1.2249124 | E118: 1 | F118: 0 | G118: 1
A119: 2026 | B119: 10 | D119: 1.2258481 | E119: 1 | F119: 0 | G119: 1
A120: 2026 | B120: 11 | D120: 1.2267824 | E120: 1 | F120: 0 | G120: 1
A121: 2026 | B121: 12 | D121: 1.2279923 | E121: 1 | F121: 0 | G121: 1
... A193: 2032 | B193: 12 | D193: 1.3595295 | E193: 1 | F193: 0 | G193: 1

Sheet DStat
A1: Variable | B1: Count | C1: Mean | D1: StdDev | E1: Min | F1: Max | G1: Skewness | H1: Kurtosis | I1: Jarque-Bera | J1: Probability | K1: CorrYX | L1: Units | M1: Definition
A2: GSL50_Cust | B2: 108 | C2: 19076.852 | D2: 579.67938 | E2: 18175 | F2: 20005 | G2: 0.08322718 | H2: 1.3879813 | I2: 11.818401 | J2: 0.0027143561 | K2: 1
A3: Cust_Var | B3: 108 | C3: 1.1284084 | D3: 0.059284302 | E3: 1.0396461 | F3: 1.2196066 | G3: 0.28853857 | H3: 1.6448396 | I3: 9.7626503 | J3: 0.0075869536 | K3: 0.96302867
A4: Yr21Plus | B4: 108 | C4: 0.55555556 | D4: 0.49922058 | E4: 0 | F4: 1 | G4: -0.2236068 | H4: 1.05 | I4: 18.01125 | J4: 0.00012271757 | K4: 0.90267521

Sheet Corr
B1: GSL50_Cust | C1: Cust_Var | D1: Yr21Plus
A2: GSL50_Cust | B2: 1 | C2: 0.96302867 | D2: 0.90267521
A3: Cust_Var | B3: 0.96302867 | C3: 1 | D3: 0.8199474
A4: Yr21Plus | B4: 0.90267521 | C4: 0.8199474 | D4: 1

Sheet Coef
A1: Variable | B1: Coefficient | C1: StdErr | D1: T-Stat | E1: P-Value | F1: Units | G1: Definition
A2: CONST | B2: 10808.566 | C2: 351.95589 | D2: 30.710002 | E2: 8.9836817e-33 | G2: Constant term
A3: mEcon.Cust_Var | B3: 7164.1135 | C3: 326.17566 | D3: 21.963973 | E3: 4.4184673e-27
A4: mBin.Yr21Plus | B4: 328.39839 | C4: 37.666701 | D4: 8.7185334 | E4: 1.553951e-12
A5: MA(1) | B5: 0.83141416 | C5: 0.05470589 | D5: 15.197891 | E5: 5.5757448e-21

Sheet MStat
A1: Model Statistics | D1: Forecast Statistics
A2: Iterations | B2: 18 | D2: Forecast Observations | E2: 0
A3: Adjusted Observations | B3: 108 | D3: Mean Abs. Dev. (MAD) | E3: 0
A4: Deg. of Freedom for Error | B4: 104 | D4: Mean Abs. % Err. (MAPE) | E4: 0
A5: R-Squared | B5: 0.98548649 | D5: Avg. Forecast Error | E5: 0
A6: Adjusted R-Squared | B6: 0.98506783 | D6: Mean % Error | E6: 0
A7: AIC | B7: 8.5570469 | D7: Root Mean-Square Error | E7: 0
A8: BIC | B8: 8.6563851 | D8: Theil's Inequality Coefficient | E8: 0
A9: F-Statistic | B9: 2353.9118 | D9: -- Bias Proportion | E9: 0
A10: Prob (F-Statistic) | B10: 0 | D10: -- Variance Proportion | E10: 0
A11: Log-Likelihood | B11: -611.3259 | D11: -- Covariance Proportion | E11: 0
A12: Model Sum of Squares | B12: 35433182
A13: Sum of Squared Errors | B13: 521833.63
A14: Mean Squared Error | B14: 5017.631
A15: Std. Error of Regression | B15: 70.835239
A16: Mean Abs. Dev. (MAD) | B16: 50.230695
A17: Mean Abs. % Err. (MAPE) | B17: 0.0026508789
A18: Durbin-Watson Statistic | B18: 1.1312721
A19: Durbin-H Statistic | B19: #NA
A20: Ljung-Box Statistic | B20: 151.46941
A21: Prob (Ljung-Box) | B21: 0
A22: Skewness | B22: 0.29242382
A23: Kurtosis | B23: 4.6051612
A24: Jarque-Bera | B24: 13.133651
A25: Prob (Jarque-Bera) | B25: 0.0014062545

Sheet BX
A1: Year | B1: Month | C1: Pred | D1: CONST | E1: Cust_Var | F1: Yr21Plus | G1: ARMA | H1: X-Missing
A2: 2017 | B2: 1 | C2: 18256.709 | D2: 10808.566 | E2: 7448.1426 | F2: 0 | G2: 0 | H2: 0
A3: 2017 | B3: 2 | C3: 18209.885 | D3: 10808.566 | E3: 7469.2521 | F3: 0 | G3: -67.933882 | H3: 0
A4: 2017 | B4: 3 | C4: 18290.678 | D4: 10808.566 | E4: 7482.8474 | F4: 0 | G4: -0.73539011 | H4: 0
A5: 2017 | B5: 4 | C5: 18281.995 | D5: 10808.566 | E5: 7496.4405 | F5: 0 | G5: -23.012074 | H5: 0
A6: 2017 | B6: 5 | C6: 18328.579 | D6: 10808.566 | E6: 7510.0315 | F6: 0 | G6: 9.9814142 | H6: 0
A7: 2017 | B7: 6 | C7: 18307.305 | D7: 10808.566 | E7: 7517.5111 | F7: 0 | G7: -18.772611 | H7: 0
A8: 2017 | B8: 7 | C8: 18344.938 | D8: 10808.566 | E8: 7524.9849 | F8: 0 | G8: 11.386448 | H8: 0
A9: 2017 | B9: 8 | C9: 18325.274 | D9: 10808.566 | E9: 7532.453 | F9: 0 | G9: -15.745009 | H9: 0
A10: 2017 | B10: 9 | C10: 18376.491 | D10: 10808.566 | E10: 7547.3674 | F10: 0 | G10: 20.557337 | H10: 0
A11: 2017 | B11: 10 | C11: 18382.908 | D11: 10808.566 | E11: 7562.2789 | F11: 0 | G11: 12.063007 | H11: 0
A12: 2017 | B12: 11 | C12: 18414.098 | D12: 10808.566 | E12: 7577.1877 | F12: 0 | G12: 28.344411 | H12: 0
A13: 2017 | B13: 12 | C13: 18435.015 | D13: 10808.566 | E13: 7598.2627 | F13: 0 | G13: 28.186331 | H13: 0
... A193: 2032 | B193: 12 | C193: 20876.788 | D193: 10808.566 | E193: 9739.8238 | F193: 328.39839 | G193: 0 | H193: 0

Sheet YHat
A1: Year | B1: Month | C1: Actual | D1: Pred | E1: Upper | F1: Lower | G1: Sigma
A2: 2017 | B2: 1 | C2: 18175 | D2: 18256.709 | E2: 18403.604 | F2: 18109.813 | G2: 74.076438
A3: 2017 | B3: 2 | C3: 18209 | D3: 18209.885 | E3: 18356.473 | F3: 18063.296 | G3: 73.921634
A4: 2017 | B4: 3 | C4: 18263 | D4: 18290.678 | E4: 18437.082 | F4: 18144.275 | G4: 73.828388
A5: 2017 | B5: 4 | C5: 18294 | D5: 18281.995 | E5: 18428.223 | F5: 18135.766 | G5: 73.740233
A6: 2017 | B6: 5 | C6: 18306 | D6: 18328.579 | E6: 18474.643 | F6: 18182.515 | G6: 73.657185
A7: 2017 | B7: 6 | C7: 18321 | D7: 18307.305 | E7: 18453.282 | F7: 18161.327 | G7: 73.61366
A8: 2017 | B8: 7 | C8: 18326 | D8: 18344.938 | E8: 18490.832 | F8: 18199.043 | G8: 73.571717
A9: 2017 | B9: 8 | C9: 18350 | D9: 18325.274 | E9: 18471.089 | F9: 18179.46 | G9: 73.531356
A10: 2017 | B10: 9 | C10: 18391 | D10: 18376.491 | E10: 18522.155 | F10: 18230.827 | G10: 73.455394
A11: 2017 | B11: 10 | C11: 18417 | D11: 18382.908 | E11: 18528.434 | F11: 18237.383 | G11: 73.38565
A12: 2017 | B12: 11 | C12: 18448 | D12: 18414.098 | E12: 18559.498 | F12: 18268.699 | G12: 73.322138
A13: 2017 | B13: 12 | C13: 18413 | D13: 18435.015 | E13: 18580.258 | F13: 18289.773 | G13: 73.242994
... A109: 2025 | B109: 12 | C109: 19865 | D109: 19884.987 | E109: 20032.637 | F109: 19737.338 | G109: 74.456656
A110: 2026 | B110: 1 | D110: 19844.319 | E110: 19992.074 | F110: 19696.565 | G110: 74.509608
A111: 2026 | B111: 2 | D111: 19866.276 | E111: 20054.696 | F111: 19677.856 | G111: 95.016381
A112: 2026 | B112: 3 | D112: 19872.694 | E112: 20061.215 | F112: 19684.172 | G112: 95.067766
A113: 2026 | B113: 4 | D113: 19879.1 | E113: 20067.726 | F113: 19690.475 | G113: 95.119934
A114: 2026 | B114: 5 | D114: 19885.496 | E114: 20074.227 | F114: 19696.766 | G114: 95.172878
A115: 2026 | B115: 6 | D115: 19892.23 | E115: 20081.072 | F115: 19703.387 | G115: 95.229543
A116: 2026 | B116: 7 | D116: 19898.952 | E116: 20087.908 | F116: 19709.995 | G116: 95.287064
A117: 2026 | B117: 8 | D117: 19905.662 | E117: 20094.735 | F117: 19716.59 | G117: 95.345435
A118: 2026 | B118: 9 | D118: 19912.376 | E118: 20101.566 | F118: 19723.186 | G118: 95.40477
A119: 2026 | B119: 10 | D119: 19919.079 | E119: 20108.389 | F119: 19729.77 | G119: 95.464959
A120: 2026 | B120: 11 | D120: 19925.773 | E120: 20115.203 | F120: 19736.343 | G120: 95.525994
A121: 2026 | B121: 12 | D121: 19934.441 | E121: 20124.03 | F121: 19744.851 | G121: 95.606414
... A193: 2032 | B193: 12 | D193: 20876.788 | E193: 21099.995 | F193: 20653.582 | G193: 112.55853

Sheet Variable Data Inputs
A1: Year | B1: Month | C1: Income | D1: Pop | E1: PerCapInc | F1: Emp | G1: ManEmp | H1: GDP | I1: ManGDP | J1: NonMan_Emp | K1: NonMan_GDP
A2: 2015 | B2: 1 | C2: 273244.88 | D2: 6046.9696 | E2: 35757.668 | F2: 3026.0723 | G2: 322.87271 | H2: 357621.03 | I2: 42551.166 | J2: 2703.1996 | K2: 315069.86
A3: 2015 | B3: 2 | C3: 275132.23 | D3: 6052.1941 | E3: 35757.668 | F3: 3032.3277 | G3: 321.67708 | H3: 357978.19 | I3: 42315.424 | J3: 2710.6506 | K3: 315662.76
A4: 2015 | B4: 3 | C4: 277002.55 | D4: 6058.0177 | E4: 35757.668 | F4: 3044.1008 | G4: 320.50809 | H4: 359497.86 | I4: 42385.318 | J4: 2723.5928 | K4: 317112.54
A5: 2015 | B5: 4 | C5: 278872.87 | D5: 6063.8413 | E5: 36041.68 | F5: 3055.874 | G5: 319.33909 | H5: 361017.53 | I5: 42455.211 | J5: 2736.5349 | K5: 318562.32
A6: 2015 | B6: 5 | C6: 280743.18 | D6: 6069.6649 | E6: 36041.68 | F6: 3067.6471 | G6: 318.1701 | H6: 362537.2 | I6: 42525.105 | J6: 2749.477 | K6: 320012.09
A7: 2015 | B7: 6 | C7: 281963.86 | D7: 6077.4086 | E7: 36041.68 | F7: 3085.4882 | G7: 319.7631 | H7: 363415.24 | I7: 42820.166 | J7: 2765.7251 | K7: 320595.08
A8: 2015 | B8: 7 | C8: 283184.54 | D8: 6085.1523 | E8: 36193.978 | F8: 3103.3293 | G8: 321.3561 | H8: 364293.29 | I8: 43115.227 | J8: 2781.9732 | K8: 321178.06
A9: 2015 | B9: 8 | C9: 284405.22 | D9: 6092.896 | E9: 36193.978 | F9: 3121.1704 | G9: 322.94909 | H9: 365171.34 | I9: 43410.289 | J9: 2798.2213 | K9: 321761.05
A10: 2015 | B10: 9 | C10: 285564.57 | D10: 6099.3895 | E10: 36193.978 | F10: 3119.7524 | G10: 322.0354 | H10: 366002.52 | I10: 43558.801 | J10: 2797.717 | K10: 322443.72
A11: 2015 | B11: 10 | C11: 286723.92 | D11: 6105.883 | E11: 36529.282 | F11: 3118.3343 | G11: 321.1217 | H11: 366833.7 | I11: 43707.314 | J11: 2797.2126 | K11: 323126.39
A12: 2015 | B12: 11 | C12: 287883.28 | D12: 6112.3765 | E12: 36529.282 | F12: 3116.9163 | G12: 320.208 | H12: 367664.88 | I12: 43855.827 | J12: 2796.7083 | K12: 323809.06
A13: 2015 | B13: 12 | C13: 286236.99 | D13: 6118.9407 | E13: 36529.282 | F13: 3112.6303 | G13: 325.087 | H13: 368821.14 | I13: 43909.184 | J13: 2787.5433 | K13: 324911.95
A14: =A2+1 -> 2016 | B14: 1 | C14: 284590.7 | D14: 6125.505 | E14: 35612.362 | F14: 3108.3444 | G14: 329.96599 | H14: 369977.39 | I14: 43962.54 | J14: 2778.3784 | K14: 326014.85
A15: =A3+1 -> 2016 | B15: 2 | C15: 282944.41 | D15: 6132.0692 | E15: 35612.362 | F15: 3104.0585 | G15: 334.84499 | H15: 371133.65 | I15: 44015.896 | J15: 2769.2135 | K15: 327117.75
A16: =A4+1 -> 2016 | B16: 3 | C16: 283607.21 | D16: 6138.7042 | E16: 35612.362 | F16: 3110.0871 | G16: 333.25082 | H16: 370879.61 | I16: 43646.57 | J16: 2776.8363 | K16: 327233.04
A17: =A5+1 -> 2016 | B17: 4 | C17: 284270.01 | D17: 6145.3392 | E17: 35319.524 | F17: 3116.1158 | G17: 331.65666 | H17: 370625.58 | I17: 43277.244 | J17: 2784.4591 | K17: 327348.34
A18: =A6+1 -> 2016 | B18: 5 | C18: 284932.81 | D18: 6151.9743 | E18: 35319.524 | F18: 3122.1444 | G18: 330.06249 | H18: 370371.55 | I18: 42907.918 | J18: 2792.0819 | K18: 327463.63
A19: =A7+1 -> 2016 | B19: 6 | C19: 285308.85 | D19: 6157.2829 | E19: 35319.524 | F19: 3119.0477 | G19: 336.05358 | H19: 371380.24 | I19: 43008.297 | J19: 2782.9941 | K19: 328371.94
A20: =A8+1 -> 2016 | B20: 7 | C20: 285684.89 | D20: 6162.5915 | E20: 35296.029 | F20: 3115.951 | G20: 342.04467 | H20: 372388.92 | I20: 43108.676 | J20: 2773.9064 | K20: 329280.25
A21: =A9+1 -> 2016 | B21: 8 | C21: 286060.92 | D21: 6167.9001 | E21: 35296.029 | F21: 3112.8544 | G21: 348.03576 | H21: 373397.61 | I21: 43209.056 | J21: 2764.8186 | K21: 330188.56
A22: =A10+1 -> 2016 | B22: 9 | C22: 286680.55 | D22: 6175.2354 | E22: 35296.029 | F22: 3108.2423 | G22: 342.80402 | H22: 373990.01 | I22: 43124.995 | J22: 2765.4383 | K22: 330865.01
A23: =A11+1 -> 2016 | B23: 10 | C23: 287300.17 | D23: 6182.5708 | E23: 35309.518 | F23: 3103.6302 | G23: 337.57227 | H23: 374582.4 | I23: 43040.934 | J23: 2766.0579 | K23: 331541.46
A24: =A12+1 -> 2016 | B24: 11 | C24: 287919.8 | D24: 6189.9062 | E24: 35309.518 | F24: 3099.0181 | G24: 332.34053 | H24: 375174.79 | I24: 42956.873 | J24: 2766.6776 | K24: 332217.92
A25: =A13+1 -> 2016 | B25: 12 | C25: 289074.46 | D25: 6197.8711 | E25: 35309.518 | F25: 3113.6625 | G25: 331.56292 | H25: 377132.72 | I25: 43300.579 | J25: 2782.0995 | K25: 333832.15
... A193: =A181+1 -> 2030 | B193: 12 | C193: 549871.23 | D193: 7526.4427 | E193: 39229.785 | F193: 3926.9009 | G193: 331.96615 | H193: 509489.41 | I193: 51710.612 | J193: 3594.9348 | K193: 457778.8
A194: =A182+1 -> 2031 | B194: =B182 -> 1 | C194: 551546.86 | D194: 7533.5334 | E194: 39317.671 | F194: 3930.9639 | G194: 331.89329 | H194: 510643.03 | I194: 51871.593 | J194: 3599.0706 | K194: 458771.44
A195: =A183+1 -> 2031 | B195: =B183 -> 2 | C195: 553222.5 | D195: 7540.6241 | E195: 39317.671 | F195: 3935.0268 | G195: 331.82044 | H195: 511796.64 | I195: 52032.575 | J195: 3603.2064 | K195: 459764.07
A196: =A184+1 -> 2031 | B196: =B184 -> 3 | C196: 554909.85 | D196: 7547.8281 | E196: 39317.671 | F196: 3939.0567 | G196: 331.75071 | H196: 512959.68 | I196: 52195.031 | J196: 3607.306 | K196: 460764.65
A197: =A185+1 -> 2031 | B197: =B185 -> 4 | C197: 556597.19 | D197: 7555.0321 | E197: 39144.219 | F197: 3943.0865 | G197: 331.68099 | H197: 514122.71 | I197: 52357.486 | J197: 3611.4056 | K197: 461765.22
A198: =A186+1 -> 2031 | B198: =B186 -> 5 | C198: 558284.54 | D198: 7562.2361 | E198: 39144.219 | F198: 3947.1164 | G198: 331.61126 | H198: 515285.74 | I198: 52519.942 | J198: 3615.5052 | K198: 462765.8
A199: =A187+1 -> 2031 | B199: =B187 -> 6 | C199: 559978.49 | D199: 7569.6263 | E199: 39144.219 | F199: 3951.1122 | G199: 331.54449 | H199: 516458.2 | I199: 52683.868 | J199: 3619.5677 | K199: 463774.33
A200: =A188+1 -> 2031 | B200: =B188 -> 7 | C200: 561672.45 | D200: 7577.0164 | E200: 39190.324 | F200: 3955.108 | G200: 331.47772 | H200: 517630.65 | I200: 52847.794 | J200: 3623.6303 | K200: 464782.86
A201: =A189+1 -> 2031 | B201: =B189 -> 8 | C201: 563366.4 | D201: 7584.4066 | E201: 39190.324 | F201: 3959.1038 | G201: 331.41095 | H201: 518803.1 | I201: 53011.72 | J201: 3627.6928 | K201: 465791.38
A202: =A190+1 -> 2031 | B202: =B190 -> 9 | C202: 565052.47 | D202: 7592.0571 | E202: 39190.324 | F202: 3963.0665 | G202: 331.34715 | H202: 519984.98 | I202: 53177.124 | J202: 3631.7193 | K202: 466807.85
A203: =A191+1 -> 2031 | B203: =B191 -> 10 | C203: 566738.54 | D203: 7599.7076 | E203: 39418.464 | F203: 3967.0292 | G203: 331.28334 | H203: 521166.85 | I203: 53342.527 | J203: 3635.7459 | K203: 467824.32
A204: =A192+1 -> 2031 | B204: =B192 -> 11 | C204: 568424.61 | D204: 7607.3581 | E204: 39418.464 | F204: 3970.9919 | G204: 331.21953 | H204: 522348.72 | I204: 53507.931 | J204: 3639.7724 | K204: 468840.79
A205: =A193+1 -> 2031 | B205: =B193 -> 12 | C205: 570162.07 | D205: 7614.5318 | E205: 39418.464 | F205: 3975.1047 | G205: 331.14685 | H205: 523534.14 | I205: 53675.028 | J205: 3643.9579 | K205: 469859.11
... A217: =A205+1 -> 2032 | B217: =B205 -> 12 | C217: 589400.09 | D217: 7696.3942 | E217: 39608.049 | F217: 4019.737 | G217: 330.40208 | H217: 536747.93 | I217: 55540.624 | J217: 3689.3349 | K217: 481207.3

Sheet Variable Transforms
A1: Year | B1: Month | C1: PerCap_Idx | D1: GDP_Idx | E1: Emp_Idx | F1: NManEmp_Idx | G1: NManGDP_Idx | H1: ManEmp_Idx | I1: ManGDP_Idx | J1: Pop_Idx | L1: Res_Var | M1: Com_Var | N1: Ind_Var | O1: GSP50_Var | P1: CustVar
A2: 2017 | B2: 1 | C2: ='Variable Data Inputs'!E26/'Variable Data Inputs'!$E$2 -> 0.98949523 | D2: ='Variable Data Inputs'!H26/'Variable Data Inputs'!$H$2 -> 1.0600346 | E2: ='Variable Data Inputs'!F26/'Variable Data Inputs'!$F$2 -> 1.0337846 | F2: ='Variable Data Inputs'!J26/'Variable Data Inputs'!$J$2 -> 1.0348927 | G2: ='Variable Data Inputs'!K26/'Variable Data Inputs'!$K$2 -> 1.064673 | H2: ='Variable Data Inputs'!G26/'Variable Data Inputs'!$G$2 -> 1.0245069 | I2: ='Variable Data Inputs'!I26/'Variable Data Inputs'!$I$2 -> 1.0256895 | J2: ='Variable Data Inputs'!D26/'Variable Data Inputs'!$D$2 -> 1.0262721 | L2: =C2 -> 0.98949523 | M2: =(F2^(0.8))*(D2^(0.2)) -> 1.0398729 | N2: =(H2^(0.8))*(I2^(0.2)) -> 1.0247433 | O2: =(M2^(0.8))*(N2^(0.2)) -> 1.0368292 | P2: =D2^0.4*J2^0.6 -> 1.0396461
A3: 2017 | B3: 2 | C3: ='Variable Data Inputs'!E27/'Variable Data Inputs'!$E$2 -> 0.98949523 | D3: ='Variable Data Inputs'!H27/'Variable Data Inputs'!$H$2 -> 1.0655095 | E3: ='Variable Data Inputs'!F27/'Variable Data Inputs'!$F$2 -> 1.0386239 | F3: ='Variable Data Inputs'!J27/'Variable Data Inputs'!$J$2 -> 1.0405978 | G3: ='Variable Data Inputs'!K27/'Variable Data Inputs'!$K$2 -> 1.0697964 | H3: ='Variable Data Inputs'!G27/'Variable Data Inputs'!$G$2 -> 1.0220985 | I3: ='Variable Data Inputs'!I27/'Variable Data Inputs'!$I$2 -> 1.033767 | J3: ='Variable Data Inputs'!D27/'Variable Data Inputs'!$D$2 -> 1.0275893 | L3: =C3 -> 0.98949523 | M3: =(F3^(0.8))*(D3^(0.2)) -> 1.0455331 | N3: =(H3^(0.8))*(I3^(0.2)) -> 1.0244216 | O3: =(M3^(0.8))*(N3^(0.2)) -> 1.0412763 | P3: =D3^0.4*J3^0.6 -> 1.0425927
A4: 2017 | B4: 3 | C4: ='Variable Data Inputs'!E28/'Variable Data Inputs'!$E$2 -> 0.98949523 | D4: ='Variable Data Inputs'!H28/'Variable Data Inputs'!$H$2 -> 1.0681477 | E4: ='Variable Data Inputs'!F28/'Variable Data Inputs'!$F$2 -> 1.0423786 | F4: ='Variable Data Inputs'!J28/'Variable Data Inputs'!$J$2 -> 1.0438095 | G4: ='Variable Data Inputs'!K28/'Variable Data Inputs'!$K$2 -> 1.0727827 | H4: ='Variable Data Inputs'!G28/'Variable Data Inputs'!$G$2 -> 1.030398 | I4: ='Variable Data Inputs'!I28/'Variable Data Inputs'!$I$2 -> 1.0338283 | J4: ='Variable Data Inputs'!D28/'Variable Data Inputs'!$D$2 -> 1.0290106 | L4: =C4 -> 0.98949523 | M4: =(F4^(0.8))*(D4^(0.2)) -> 1.0486324 | N4: =(H4^(0.8))*(I4^(0.2)) -> 1.0310832 | O4: =(M4^(0.8))*(N4^(0.2)) -> 1.0450988 | P4: =D4^0.4*J4^0.6 -> 1.0444903
A5: 2017 | B5: 4 | C5: ='Variable Data Inputs'!E29/'Variable Data Inputs'!$E$2 -> 0.99092896 | D5: ='Variable Data Inputs'!H29/'Variable Data Inputs'!$H$2 -> 1.070786 | E5: ='Variable Data Inputs'!F29/'Variable Data Inputs'!$F$2 -> 1.0461332 | F5: ='Variable Data Inputs'!J29/'Variable Data Inputs'!$J$2 -> 1.0470213 | G5: ='Variable Data Inputs'!K29/'Variable Data Inputs'!$K$2 -> 1.0757689 | H5: ='Variable Data Inputs'!G29/'Variable Data Inputs'!$G$2 -> 1.0386975 | I5: ='Variable Data Inputs'!I29/'Variable Data Inputs'!$I$2 -> 1.0338897 | J5: ='Variable Data Inputs'!D29/'Variable Data Inputs'!$D$2 -> 1.0304319 | L5: =C5 -> 0.99092896 | M5: =(F5^(0.8))*(D5^(0.2)) -> 1.0517317 | N5: =(H5^(0.8))*(I5^(0.2)) -> 1.0377341 | O5: =(M5^(0.8))*(N5^(0.2)) -> 1.0489171 | P5: =D5^0.4*J5^0.6 -> 1.0463877
A6: 2017 | B6: 5 | C6: ='Variable Data Inputs'!E30/'Variable Data Inputs'!$E$2 -> 0.99092896 | D6: ='Variable Data Inputs'!H30/'Variable Data Inputs'!$H$2 -> 1.0734242 | E6: ='Variable Data Inputs'!F30/'Variable Data Inputs'!$F$2 -> 1.0498878 | F6: ='Variable Data Inputs'!J30/'Variable Data Inputs'!$J$2 -> 1.0502331 | G6: ='Variable Data Inputs'!K30/'Variable Data Inputs'!$K$2 -> 1.0787552 | H6: ='Variable Data Inputs'!G30/'Variable Data Inputs'!$G$2 -> 1.0469969 | I6: ='Variable Data Inputs'!I30/'Variable Data Inputs'!$I$2 -> 1.033951 | J6: ='Variable Data Inputs'!D30/'Variable Data Inputs'!$D$2 -> 1.0318532 | L6: =C6 -> 0.99092896 | M6: =(F6^(0.8))*(D6^(0.2)) -> 1.0548309 | N6: =(H6^(0.8))*(I6^(0.2)) -> 1.0443747 | O6: =(M6^(0.8))*(N6^(0.2)) -> 1.0527313 | P6: =D6^0.4*J6^0.6 -> 1.0482848
A7: 2017 | B7: 6 | C7: ='Variable Data Inputs'!E31/'Variable Data Inputs'!$E$2 -> 0.99092896 | D7: ='Variable Data Inputs'!H31/'Variable Data Inputs'!$H$2 -> 1.0733399 | E7: ='Variable Data Inputs'!F31/'Variable Data Inputs'!$F$2 -> 1.051727 | F7: ='Variable Data Inputs'!J31/'Variable Data Inputs'!$J$2 -> 1.0525819 | G7: ='Variable Data Inputs'!K31/'Variable Data Inputs'!$K$2 -> 1.0806812 | H7: ='Variable Data Inputs'!G31/'Variable Data Inputs'!$G$2 -> 1.0445698 | I7: ='Variable Data Inputs'!I31/'Variable Data Inputs'!$I$2 -> 1.0189814 | J7: ='Variable Data Inputs'!D31/'Variable Data Inputs'!$D$2 -> 1.0336207 | L7: =C7 -> 0.99092896 | M7: =(F7^(0.8))*(D7^(0.2)) -> 1.0567011 | N7: =(H7^(0.8))*(I7^(0.2)) -> 1.0394012 | O7: =(M7^(0.8))*(N7^(0.2)) -> 1.0532182 | P7: =D7^0.4*J7^0.6 -> 1.0493289
A8: 2017 | B8: 7 | C8: ='Variable Data Inputs'!E32/'Variable Data Inputs'!$E$2 -> 1.0021153 | D8: ='Variable Data Inputs'!H32/'Variable Data Inputs'!$H$2 -> 1.0732555 | E8: ='Variable Data Inputs'!F32/'Variable Data Inputs'!$F$2 -> 1.0535662 | F8: ='Variable Data Inputs'!J32/'Variable Data Inputs'!$J$2 -> 1.0549307 | G8: ='Variable Data Inputs'!K32/'Variable Data Inputs'!$K$2 -> 1.0826071 | H8: ='Variable Data Inputs'!G32/'Variable Data Inputs'!$G$2 -> 1.0421426 | I8: ='Variable Data Inputs'!I32/'Variable Data Inputs'!$I$2 -> 1.0040119 | J8: ='Variable Data Inputs'!D32/'Variable Data Inputs'!$D$2 -> 1.0353882 | L8: =C8 -> 1.0021153 | M8: =(F8^(0.8))*(D8^(0.2)) -> 1.0585704 | N8: =(H8^(0.8))*(I8^(0.2)) -> 1.0344023 | O8: =(M8^(0.8))*(N8^(0.2)) -> 1.0536921 | P8: =D8^0.4*J8^0.6 -> 1.0503721
A9: 2017 | B9: 8 | C9: ='Variable Data Inputs'!E33/'Variable Data Inputs'!$E$2 -> 1.0021153 | D9: ='Variable Data Inputs'!H33/'Variable Data Inputs'!$H$2 -> 1.0731712 | E9: ='Variable Data Inputs'!F33/'Variable Data Inputs'!$F$2 -> 1.0554054 | F9: ='Variable Data Inputs'!J33/'Variable Data Inputs'!$J$2 -> 1.0572795 | G9: ='Variable Data Inputs'!K33/'Variable Data Inputs'!$K$2 -> 1.0845331 | H9: ='Variable Data Inputs'!G33/'Variable Data Inputs'!$G$2 -> 1.0397154 | I9: ='Variable Data Inputs'!I33/'Variable Data Inputs'!$I$2 -> 0.98904228 | J9: ='Variable Data Inputs'!D33/'Variable Data Inputs'!$D$2 -> 1.0371557 | L9: =C9 -> 1.0021153 | M9: =(F9^(0.8))*(D9^(0.2)) -> 1.0604389 | N9: =(H9^(0.8))*(I9^(0.2)) -> 1.0293772 | O9: =(M9^(0.8))*(N9^(0.2)) -> 1.0541525 | P9: =D9^0.4*J9^0.6 -> 1.0514145
A10: 2017 | B10: 9 | C10: ='Variable Data Inputs'!E34/'Variable Data Inputs'!$E$2 -> 1.0021153 | D10: ='Variable Data Inputs'!H34/'Variable Data Inputs'!$H$2 -> 1.0761051 | E10: ='Variable Data Inputs'!F34/'Variable Data Inputs'!$F$2 -> 1.0602701 | F10: ='Variable Data Inputs'!J34/'Variable Data Inputs'!$J$2 -> 1.0617802 | G10: ='Variable Data Inputs'!K34/'Variable Data Inputs'!$K$2 -> 1.0874142 | H10: ='Variable Data Inputs'!G34/'Variable Data Inputs'!$G$2 -> 1.0476268 | I10: ='Variable Data Inputs'!I34/'Variable Data Inputs'!$I$2 -> 0.99236681 | J10: ='Variable Data Inputs'!D34/'Variable Data Inputs'!$D$2 -> 1.0386884 | L10: =C10 -> 1.0021153 | M10: =(F10^(0.8))*(D10^(0.2)) -> 1.0646299 | N10: =(H10^(0.8))*(I10^(0.2)) -> 1.036334 | O10: =(M10^(0.8))*(N10^(0.2)) -> 1.0589095 | P10: =D10^0.4*J10^0.6 -> 1.0534963
A11: 2017 | B11: 10 | C11: ='Variable Data Inputs'!E35/'Variable Data Inputs'!$E$2 -> 1.0171315 | D11: ='Variable Data Inputs'!H35/'Variable Data Inputs'!$H$2 -> 1.0790389 | E11: ='Variable Data Inputs'!F35/'Variable Data Inputs'!$F$2 -> 1.0651348 | F11: ='Variable Data Inputs'!J35/'Variable Data Inputs'!$J$2 -> 1.066281 | G11: ='Variable Data Inputs'!K35/'Variable Data Inputs'!$K$2 -> 1.0902953 | H11: ='Variable Data Inputs'!G35/'Variable Data Inputs'!$G$2 -> 1.0555383 | I11: ='Variable Data Inputs'!I35/'Variable Data Inputs'!$I$2 -> 0.99569134 | J11: ='Variable Data Inputs'!D35/'Variable Data Inputs'!$D$2 -> 1.0402211 | L11: =C11 -> 1.0171315 | M11: =(F11^(0.8))*(D11^(0.2)) -> 1.0688205 | N11: =(H11^(0.8))*(I11^(0.2)) -> 1.0432878 | O11: =(M11^(0.8))*(N11^(0.2)) -> 1.0636644 | P11: =D11^0.4*J11^0.6 -> 1.0555778
A12: 2017 | B12: 11 | C12: ='Variable Data Inputs'!E36/'Variable Data Inputs'!$E$2 -> 1.0171315 | D12: ='Variable Data Inputs'!H36/'Variable Data Inputs'!$H$2 -> 1.0819728 | E12: ='Variable Data Inputs'!F36/'Variable Data Inputs'!$F$2 -> 1.0699995 | F12: ='Variable Data Inputs'!J36/'Variable Data Inputs'!$J$2 -> 1.0707818 | G12: ='Variable Data Inputs'!K36/'Variable Data Inputs'!$K$2 -> 1.0931764 | H12: ='Variable Data Inputs'!G36/'Variable Data Inputs'!$G$2 -> 1.0634497 | I12: ='Variable Data Inputs'!I36/'Variable Data Inputs'!$I$2 -> 0.99901587 | J12: ='Variable Data Inputs'!D36/'Variable Data Inputs'!$D$2 -> 1.0417538 | L12: =C12 -> 1.0171315 | M12: =(F12^(0.8))*(D12^(0.2)) -> 1.0730107 | N12: =(H12^(0.8))*(I12^(0.2)) -> 1.0502388 | O12: =(M12^(0.8))*(N12^(0.2)) -> 1.0684171 | P12: =D12^0.4*J12^0.6 -> 1.0576588
A13: 2017 | B13: 12 | C13: ='Variable Data Inputs'!E37/'Variable Data Inputs'!$E$2 -> 1.0171315 | D13: ='Variable Data Inputs'!H37/'Variable Data Inputs'!$H$2 -> 1.0871005 | E13: ='Variable Data Inputs'!F37/'Variable Data Inputs'!$F$2 -> 1.0716673 | F13: ='Variable Data Inputs'!J37/'Variable Data Inputs'!$J$2 -> 1.0732582 | G13: ='Variable Data Inputs'!K37/'Variable Data Inputs'!$K$2 -> 1.0970413 | H13: ='Variable Data Inputs'!G37/'Variable Data Inputs'!$G$2 -> 1.0583477 | I13: ='Variable Data Inputs'!I37/'Variable Data Inputs'!$I$2 -> 1.0134935 | J13: ='Variable Data Inputs'!D37/'Variable Data Inputs'!$D$2 -> 1.0432938 | L13: =C13 -> 1.0171315 | M13: =(F13^(0.8))*(D13^(0.2)) -> 1.0760124 | N13: =(H13^(0.8))*(I13^(0.2)) -> 1.0492208 | O13: =(M13^(0.8))*(N13^(0.2)) -> 1.0705999 | P13: =D13^0.4*J13^0.6 -> 1.0606006
A14: =A2+1 -> 2018 | B14: 1 | C14: ='Variable Data Inputs'!E38/'Variable Data Inputs'!$E$2 -> 1.0176613 | D14: ='Variable Data Inputs'!H38/'Variable Data Inputs'!$H$2 -> 1.0922282 | E14: ='Variable Data Inputs'!F38/'Variable Data Inputs'!$F$2 -> 1.0733351 | F14: ='Variable Data Inputs'!J38/'Variable Data Inputs'!$J$2 -> 1.0757345 | G14: ='Variable Data Inputs'!K38/'Variable Data Inputs'!$K$2 -> 1.1009063 | H14: ='Variable Data Inputs'!G38/'Variable Data Inputs'!$G$2 -> 1.0532458 | I14: ='Variable Data Inputs'!I38/'Variable Data Inputs'!$I$2 -> 1.0279712 | J14: ='Variable Data Inputs'!D38/'Variable Data Inputs'!$D$2 -> 1.0448338 | L14: =C14 -> 1.0176613 | M14: =(F14^(0.8))*(D14^(0.2)) -> 1.0790132 | N14: =(H14^(0.8))*(I14^(0.2)) -> 1.0481416 | O14: =(M14^(0.8))*(N14^(0.2)) -> 1.072767 | P14: =D14^0.4*J14^0.6 -> 1.0635396
A15: =A3+1 -> 2018 | B15: 2 | C15: ='Variable Data Inputs'!E39/'Variable Data Inputs'!$E$2 -> 1.0176613 | D15: ='Variable Data Inputs'!H39/'Variable Data Inputs'!$H$2 -> 1.097356 | E15: ='Variable Data Inputs'!F39/'Variable Data Inputs'!$F$2 -> 1.0750029 | F15: ='Variable Data Inputs'!J39/'Variable Data Inputs'!$J$2 -> 1.0782109 | G15: ='Variable Data Inputs'!K39/'Variable Data Inputs'!$K$2 -> 1.1047713 | H15: ='Variable Data Inputs'!G39/'Variable Data Inputs'!$G$2 -> 1.0481438 | I15: ='Variable Data Inputs'!I39/'Variable Data Inputs'!$I$2 -> 1.0424489 | J15: ='Variable Data Inputs'!D39/'Variable Data Inputs'!$D$2 -> 1.0463738 | L15: =C15 -> 1.0176613 | M15: =(F15^(0.8))*(D15^(0.2)) -> 1.082013 | N15: =(H15^(0.8))*(I15^(0.2)) -> 1.0470023 | O15: =(M15^(0.8))*(N15^(0.2)) -> 1.0749185 | P15: =D15^0.4*J15^0.6 -> 1.0664761
A16: =A4+1 -> 2018 | B16: 3 | C16: ='Variable Data Inputs'!E40/'Variable Data Inputs'!$E$2 -> 1.0176613 | D16: ='Variable Data Inputs'!H40/'Variable Data Inputs'!$H$2 -> 1.1002229 | E16: ='Variable Data Inputs'!F40/'Variable Data Inputs'!$F$2 -> 1.0741738 | F16: ='Variable Data Inputs'!J40/'Variable Data Inputs'!$J$2 -> 1.0800211 | G16: ='Variable Data Inputs'!K40/'Variable Data Inputs'!$K$2 -> 1.1081183 | H16: ='Variable Data Inputs'!G40/'Variable Data Inputs'!$G$2 -> 1.0252187 | I16: ='Variable Data Inputs'!I40/'Variable Data Inputs'!$I$2 -> 1.0417616 | J16: ='Variable Data Inputs'!D40/'Variable Data Inputs'!$D$2 -> 1.0479211 | L16: =C16 -> 1.0176613 | M16: =(F16^(0.8))*(D16^(0.2)) -> 1.0840316 | N16: =(H16^(0.8))*(I16^(0.2)) -> 1.0285062 | O16: =(M16^(0.8))*(N16^(0.2)) -> 1.0726917 | P16: =D16^0.4*J16^0.6 -> 1.0685366
A17: =A5+1 -> 2018 | B17: 4 | C17: ='Variable Data Inputs'!E41/'Variable Data Inputs'!$E$2 -> 1.0117374 | D17: ='Variable Data Inputs'!H41/'Variable Data Inputs'!$H$2 -> 1.1030899 | E17: ='Variable Data Inputs'!F41/'Variable Data Inputs'!$F$2 -> 1.0733448 | F17: ='Variable Data Inputs'!J41/'Variable Data Inputs'!$J$2 -> 1.0818312 | G17: ='Variable Data Inputs'!K41/'Variable Data Inputs'!$K$2 -> 1.1114653 | H17: ='Variable Data Inputs'!G41/'Variable Data Inputs'!$G$2 -> 1.0022937 | I17: ='Variable Data Inputs'!I41/'Variable Data Inputs'!$I$2 -> 1.0410744 | J17: ='Variable Data Inputs'!D41/'Variable Data Inputs'!$D$2 -> 1.0494683 | L17: =C17 -> 1.0117374 | M17: =(F17^(0.8))*(D17^(0.2)) -> 1.0860499 | N17: =(H17^(0.8))*(I17^(0.2)) -> 1.0099325 | O17: =(M17^(0.8))*(N17^(0.2)) -> 1.0703808 | P17: =D17^0.4*J17^0.6 -> 1.0705969
A18: =A6+1 -> 2018 | B18: 5 | C18: ='Variable Data Inputs'!E42/'Variable Data Inputs'!$E$2 -> 1.0117374 | D18: ='Variable Data Inputs'!H42/'Variable Data Inputs'!$H$2 -> 1.1059569 | E18: ='Variable Data Inputs'!F42/'Variable Data Inputs'!$F$2 -> 1.0725158 | F18: ='Variable Data Inputs'!J42/'Variable Data Inputs'!$J$2 -> 1.0836414 | G18: ='Variable Data Inputs'!K42/'Variable Data Inputs'!$K$2 -> 1.1148123 | H18: ='Variable Data Inputs'!G42/'Variable Data Inputs'!$G$2 -> 0.97936863 | I18: ='Variable Data Inputs'!I42/'Variable Data Inputs'!$I$2 -> 1.0403872 | J18: ='Variable Data Inputs'!D42/'Variable Data Inputs'!$D$2 -> 1.0510156 | L18: =C18 -> 1.0117374 | M18: =(F18^(0.8))*(D18^(0.2)) -> 1.0880682 | N18: =(H18^(0.8))*(I18^(0.2)) -> 0.99127911 | O18: =(M18^(0.8))*(N18^(0.2)) -> 1.0679823 | P18: =D18^0.4*J18^0.6 -> 1.0726568
A19: =A7+1 -> 2018 | B19: 6 | C19: ='Variable Data Inputs'!E43/'Variable Data Inputs'!$E$2 -> 1.0117374 | D19: ='Variable Data Inputs'!H43/'Variable Data Inputs'!$H$2 -> 1.1084629 | E19: ='Variable Data Inputs'!F43/'Variable Data Inputs'!$F$2 -> 1.0726031 | F19: ='Variable Data Inputs'!J43/'Variable Data Inputs'!$J$2 -> 1.0845627 | G19: ='Variable Data Inputs'!K43/'Variable Data Inputs'!$K$2 -> 1.1171975 | H19: ='Variable Data Inputs'!G43/'Variable Data Inputs'!$G$2 -> 0.97247274 | I19: ='Variable Data Inputs'!I43/'Variable Data Inputs'!$I$2 -> 1.0437873 | J19: ='Variable Data Inputs'!D43/'Variable Data Inputs'!$D$2 -> 1.0529946 | L19: =C19 -> 1.0117374 | M19: =(F19^(0.8))*(D19^(0.2)) -> 1.0893012 | N19: =(H19^(0.8))*(I19^(0.2)) -> 0.98633478 | O19: =(M19^(0.8))*(N19^(0.2)) -> 1.0678819 | P19: =D19^0.4*J19^0.6 -> 1.0748408
A20: =A8+1 -> 2018 | B20: 7 | C20: ='Variable Data Inputs'!E44/'Variable Data Inputs'!$E$2 -> 1.0050405 | D20: ='Variable Data Inputs'!H44/'Variable Data Inputs'!$H$2 -> 1.1109688 | E20: ='Variable Data Inputs'!F44/'Variable Data Inputs'!$F$2 -> 1.0726903 | F20: ='Variable Data Inputs'!J44/'Variable Data Inputs'!$J$2 -> 1.0854841 | G20: ='Variable Data Inputs'!K44/'Variable Data Inputs'!$K$2 -> 1.1195827 | H20: ='Variable Data Inputs'!G44/'Variable Data Inputs'!$G$2 -> 0.96557685 | I20: ='Variable Data Inputs'!I44/'Variable Data Inputs'!$I$2 -> 1.0471873 | J20: ='Variable Data Inputs'!D44/'Variable Data Inputs'!$D$2 -> 1.0549736 | L20: =C20 -> 1.0050405 | M20: =(F20^(0.8))*(D20^(0.2)) -> 1.0905338 | N20: =(H20^(0.8))*(I20^(0.2)) -> 0.98137356 | O20: =(M20^(0.8))*(N20^(0.2)) -> 1.0677711 | P20: =D20^0.4*J20^0.6 -> 1.0770248
A21: =A9+1 -> 2018 | B21: 8 | C21: ='Variable Data Inputs'!E45/'Variable Data Inputs'!$E$2 -> 1.0050405 | D21: ='Variable Data Inputs'!H45/'Variable Data Inputs'!$H$2 -> 1.1134748 | E21: ='Variable Data Inputs'!F45/'Variable Data Inputs'!$F$2 -> 1.0727776 | F21: ='Variable Data Inputs'!J45/'Variable Data Inputs'!$J$2 -> 1.0864054 | G21: ='Variable Data Inputs'!K45/'Variable Data Inputs'!$K$2 -> 1.1219679 | H21: ='Variable Data Inputs'!G45/'Variable Data Inputs'!$G$2 -> 0.95868096 | I21: ='Variable Data Inputs'!I45/'Variable Data Inputs'!$I$2 -> 1.0505874 | J21: ='Variable Data Inputs'!D45/'Variable Data Inputs'!$D$2 -> 1.0569525 | L21: =C21 -> 1.0050405 | M21: =(F21^(0.8))*(D21^(0.2)) -> 1.0917661 | N21: =(H21^(0.8))*(I21^(0.2)) -> 0.97639539 | O21: =(M21^(0.8))*(N21^(0.2)) -> 1.0676498 | P21: =D21^0.4*J21^0.6 -> 1.0792087
A22: =A10+1 -> 2018 | B22: 9 | C22: ='Variable Data Inputs'!E46/'Variable Data Inputs'!$E$2 -> 1.0050405 | D22: ='Variable Data Inputs'!H46/'Variable Data Inputs'!$H$2 -> 1.1146424 | E22: ='Variable Data Inputs'!F46/'Variable Data Inputs'!$F$2 -> 1.0750792 | F22: ='Variable Data Inputs'!J46/'Variable Data Inputs'!$J$2 -> 1.0881066 | G22: ='Variable Data Inputs'!K46/'Variable Data Inputs'!$K$2 -> 1.1236758 | H22: ='Variable Data Inputs'!G46/'Variable Data Inputs'!$G$2 -> 0.96600988 | I22: ='Variable Data Inputs'!I46/'Variable Data Inputs'!$I$2 -> 1.0477551 | J22: ='Variable Data Inputs'!D46/'Variable Data Inputs'!$D$2 -> 1.0583446 | L22: =C22 -> 1.0050405 | M22: =(F22^(0.8))*(D22^(0.2)) -> 1.0933627 | N22: =(H22^(0.8))*(I22^(0.2)) -> 0.98183207 | O22: =(M22^(0.8))*(N22^(0.2)) -> 1.0700864 | P22: =D22^0.4*J22^0.6 -> 1.0805142
A23: =A11+1 -> 2018 | B23: 10 | C23: ='Variable Data Inputs'!E47/'Variable Data Inputs'!$E$2 -> 1.0141732 | D23: ='Variable Data Inputs'!H47/'Variable Data Inputs'!$H$2 -> 1.1158101 | E23: ='Variable Data Inputs'!F47/'Variable Data Inputs'!$F$2 -> 1.0773808 | F23: ='Variable Data Inputs'!J47/'Variable Data Inputs'!$J$2 -> 1.0898077 | G23: ='Variable Data Inputs'!K47/'Variable Data Inputs'!$K$2 -> 1.1253836 | H23: ='Variable Data Inputs'!G47/'Variable Data Inputs'!$G$2 -> 0.9733388 | I23: ='Variable Data Inputs'!I47/'Variable Data Inputs'!$I$2 -> 1.0449228 | J23: ='Variable Data Inputs'!D47/'Variable Data Inputs'!$D$2 -> 1.0597367 | L23: =C23 -> 1.0141732 | M23: =(F23^(0.8))*(D23^(0.2)) -> 1.0949593 | N23: =(H23^(0.8))*(I23^(0.2)) -> 0.98725211 | O23: =(M23^(0.8))*(N23^(0.2)) -> 1.0725165 | P23: =D23^0.4*J23^0.6 -> 1.0818197
A24: =A12+1 -> 2018 | B24: 11 | C24: ='Variable Data Inputs'!E48/'Variable Data Inputs'!$E$2 -> 1.0141732 | D24: ='Variable Data Inputs'!H48/'Variable Data Inputs'!$H$2 -> 1.1169777 | E24: ='Variable Data Inputs'!F48/'Variable Data Inputs'!$F$2 -> 1.0796825 | F24: ='Variable Data Inputs'!J48/'Variable Data Inputs'!$J$2 -> 1.0915089 | G24: ='Variable Data Inputs'!K48/'Variable Data Inputs'!$K$2 -> 1.1270915 | H24: ='Variable Data Inputs'!G48/'Variable Data Inputs'!$G$2 -> 0.98066772 | I24: ='Variable Data Inputs'!I48/'Variable Data Inputs'!$I$2 -> 1.0420905 | J24: ='Variable Data Inputs'!D48/'Variable Data Inputs'!$D$2 -> 1.0611288 | L24: =C24 -> 1.0141732 | M24: =(F24^(0.8))*(D24^(0.2)) -> 1.0965558 | N24: =(H24^(0.8))*(I24^(0.2)) -> 0.99265559 | O24: =(M24^(0.8))*(N24^(0.2)) -> 1.0749402 | P24: =D24^0.4*J24^0.6 -> 1.0831252
A25: =A13+1 -> 2018 | B25: 12 | C25: ='Variable Data Inputs'!E49/'Variable Data Inputs'!$E$2 -> 1.0141732 | D25: ='Variable Data Inputs'!H49/'Variable Data Inputs'!$H$2 -> 1.1178622 | E25: ='Variable Data Inputs'!F49/'Variable Data Inputs'!$F$2 -> 1.0850896 | F25: ='Variable Data Inputs'!J49/'Variable Data Inputs'!$J$2 -> 1.096869 | G25: ='Variable Data Inputs'!K49/'Variable Data Inputs'!$K$2 -> 1.1281088 | H25: ='Variable Data Inputs'!G49/'Variable Data Inputs'!$G$2 -> 0.98646817 | I25: ='Variable Data Inputs'!I49/'Variable Data Inputs'!$I$2 -> 1.0419919 | J25: ='Variable Data Inputs'!D49/'Variable Data Inputs'!$D$2 -> 1.0623584 | L25: =C25 -> 1.0141732 | M25: =(F25^(0.8))*(D25^(0.2)) -> 1.1010359 | N25: =(H25^(0.8))*(I25^(0.2)) -> 0.99733104 | O25: =(M25^(0.8))*(N25^(0.2)) -> 1.0794662 | P25: =D25^0.4*J25^0.6 -> 1.0842213
... A193: =A181+1 -> 2032 | B193: 12 | C193: ='Variable Data Inputs'!E217/'Variable Data Inputs'!$E$2 -> 1.1076799 | D193: ='Variable Data Inputs'!H217/'Variable Data Inputs'!$H$2 -> 1.5008847 | E193: ='Variable Data Inputs'!F217/'Variable Data Inputs'!$F$2 -> 1.3283678 | F193: ='Variable Data Inputs'!J217/'Variable Data Inputs'!$J$2 -> 1.364803 | G193: ='Variable Data Inputs'!K217/'Variable Data Inputs'!$K$2 -> 1.5273035 | H193: ='Variable Data Inputs'!G217/'Variable Data Inputs'!$G$2 -> 1.0233199 | I193: ='Variable Data Inputs'!I217/'Variable Data Inputs'!$I$2 -> 1.3052668 | J193: ='Variable Data Inputs'!D217/'Variable Data Inputs'!$D$2 -> 1.2727688 | L193: =C193 -> 1.1076799 | M193: =(F193^(0.8))*(D193^(0.2)) -> 1.3909946 | N193: =(H193^(0.8))*(I193^(0.2)) -> 1.074358 | O193: =(M193^(0.8))*(N193^(0.2)) -> 1.3209615 | P193: =D193^0.4*J193^0.6 -> 1.3595295
