Workbook

Sheet Info
A2: Green tabs are raw data inputs
A3: Yellow tabs create transformation variables
A4: Red tab is the calculation of the SAE variables
A5: 'Check' tab ensures calculated variables match values found on the 'Data' tab of previously submitted Excel files

Sheet 1.Economic Data
A1: Year | B1: Month | C1: Income | D1: Pop | E1: PerCapInc | F1: Emp | G1: ManEmp | H1: GDP | I1: ManGDP | J1: NonMan_Emp | K1: NonMan_GDP
A2: 2015 | B2: 1 | C2: 273244.88 | D2: 6046.9696 | E2: 35757.668 | F2: 3026.0723 | G2: 322.87271 | H2: 357621.03 | I2: 42551.166 | J2: 2703.1996 | K2: 315069.86
A3: 2015 | B3: 2 | C3: 275132.23 | D3: 6052.1941 | E3: 35757.668 | F3: 3032.3277 | G3: 321.67708 | H3: 357978.19 | I3: 42315.424 | J3: 2710.6506 | K3: 315662.76
A4: 2015 | B4: 3 | C4: 277002.55 | D4: 6058.0177 | E4: 35757.668 | F4: 3044.1008 | G4: 320.50809 | H4: 359497.86 | I4: 42385.318 | J4: 2723.5928 | K4: 317112.54
A5: 2015 | B5: 4 | C5: 278872.87 | D5: 6063.8413 | E5: 36041.68 | F5: 3055.874 | G5: 319.33909 | H5: 361017.53 | I5: 42455.211 | J5: 2736.5349 | K5: 318562.32
A6: 2015 | B6: 5 | C6: 280743.18 | D6: 6069.6649 | E6: 36041.68 | F6: 3067.6471 | G6: 318.1701 | H6: 362537.2 | I6: 42525.105 | J6: 2749.477 | K6: 320012.09
A7: 2015 | B7: 6 | C7: 281963.86 | D7: 6077.4086 | E7: 36041.68 | F7: 3085.4882 | G7: 319.7631 | H7: 363415.24 | I7: 42820.166 | J7: 2765.7251 | K7: 320595.08
A8: 2015 | B8: 7 | C8: 283184.54 | D8: 6085.1523 | E8: 36193.978 | F8: 3103.3293 | G8: 321.3561 | H8: 364293.29 | I8: 43115.227 | J8: 2781.9732 | K8: 321178.06
A9: 2015 | B9: 8 | C9: 284405.22 | D9: 6092.896 | E9: 36193.978 | F9: 3121.1704 | G9: 322.94909 | H9: 365171.34 | I9: 43410.289 | J9: 2798.2213 | K9: 321761.05
A10: 2015 | B10: 9 | C10: 285564.57 | D10: 6099.3895 | E10: 36193.978 | F10: 3119.7524 | G10: 322.0354 | H10: 366002.52 | I10: 43558.801 | J10: 2797.717 | K10: 322443.72
A11: 2015 | B11: 10 | C11: 286723.92 | D11: 6105.883 | E11: 36529.282 | F11: 3118.3343 | G11: 321.1217 | H11: 366833.7 | I11: 43707.314 | J11: 2797.2126 | K11: 323126.39
A12: 2015 | B12: 11 | C12: 287883.28 | D12: 6112.3765 | E12: 36529.282 | F12: 3116.9163 | G12: 320.208 | H12: 367664.88 | I12: 43855.827 | J12: 2796.7083 | K12: 323809.06
A13: 2015 | B13: 12 | C13: 286236.99 | D13: 6118.9407 | E13: 36529.282 | F13: 3112.6303 | G13: 325.087 | H13: 368821.14 | I13: 43909.184 | J13: 2787.5433 | K13: 324911.95
A14: =A2+1 -> 2016 | B14: 1 | C14: 284590.7 | D14: 6125.505 | E14: 35612.362 | F14: 3108.3444 | G14: 329.96599 | H14: 369977.39 | I14: 43962.54 | J14: 2778.3784 | K14: 326014.85
A15: =A3+1 -> 2016 | B15: 2 | C15: 282944.41 | D15: 6132.0692 | E15: 35612.362 | F15: 3104.0585 | G15: 334.84499 | H15: 371133.65 | I15: 44015.896 | J15: 2769.2135 | K15: 327117.75
A16: =A4+1 -> 2016 | B16: 3 | C16: 283607.21 | D16: 6138.7042 | E16: 35612.362 | F16: 3110.0871 | G16: 333.25082 | H16: 370879.61 | I16: 43646.57 | J16: 2776.8363 | K16: 327233.04
A17: =A5+1 -> 2016 | B17: 4 | C17: 284270.01 | D17: 6145.3392 | E17: 35319.524 | F17: 3116.1158 | G17: 331.65666 | H17: 370625.58 | I17: 43277.244 | J17: 2784.4591 | K17: 327348.34
A18: =A6+1 -> 2016 | B18: 5 | C18: 284932.81 | D18: 6151.9743 | E18: 35319.524 | F18: 3122.1444 | G18: 330.06249 | H18: 370371.55 | I18: 42907.918 | J18: 2792.0819 | K18: 327463.63
A19: =A7+1 -> 2016 | B19: 6 | C19: 285308.85 | D19: 6157.2829 | E19: 35319.524 | F19: 3119.0477 | G19: 336.05358 | H19: 371380.24 | I19: 43008.297 | J19: 2782.9941 | K19: 328371.94
A20: =A8+1 -> 2016 | B20: 7 | C20: 285684.89 | D20: 6162.5915 | E20: 35296.029 | F20: 3115.951 | G20: 342.04467 | H20: 372388.92 | I20: 43108.676 | J20: 2773.9064 | K20: 329280.25
A21: =A9+1 -> 2016 | B21: 8 | C21: 286060.92 | D21: 6167.9001 | E21: 35296.029 | F21: 3112.8544 | G21: 348.03576 | H21: 373397.61 | I21: 43209.056 | J21: 2764.8186 | K21: 330188.56
A22: =A10+1 -> 2016 | B22: 9 | C22: 286680.55 | D22: 6175.2354 | E22: 35296.029 | F22: 3108.2423 | G22: 342.80402 | H22: 373990.01 | I22: 43124.995 | J22: 2765.4383 | K22: 330865.01
A23: =A11+1 -> 2016 | B23: 10 | C23: 287300.17 | D23: 6182.5708 | E23: 35309.518 | F23: 3103.6302 | G23: 337.57227 | H23: 374582.4 | I23: 43040.934 | J23: 2766.0579 | K23: 331541.46
A24: =A12+1 -> 2016 | B24: 11 | C24: 287919.8 | D24: 6189.9062 | E24: 35309.518 | F24: 3099.0181 | G24: 332.34053 | H24: 375174.79 | I24: 42956.873 | J24: 2766.6776 | K24: 332217.92
A25: =A13+1 -> 2016 | B25: 12 | C25: 289074.46 | D25: 6197.8711 | E25: 35309.518 | F25: 3113.6625 | G25: 331.56292 | H25: 377132.72 | I25: 43300.579 | J25: 2782.0995 | K25: 333832.15
... A193: =A181+1 -> 2030 | B193: 12 | C193: 549871.23 | D193: 7526.4427 | E193: 39229.785 | F193: 3926.9009 | G193: 331.96615 | H193: 509489.41 | I193: 51710.612 | J193: 3594.9348 | K193: 457778.8
A194: =A182+1 -> 2031 | B194: =B182 -> 1 | C194: 551546.86 | D194: 7533.5334 | E194: 39317.671 | F194: 3930.9639 | G194: 331.89329 | H194: 510643.03 | I194: 51871.593 | J194: 3599.0706 | K194: 458771.44
A195: =A183+1 -> 2031 | B195: =B183 -> 2 | C195: 553222.5 | D195: 7540.6241 | E195: 39317.671 | F195: 3935.0268 | G195: 331.82044 | H195: 511796.64 | I195: 52032.575 | J195: 3603.2064 | K195: 459764.07
A196: =A184+1 -> 2031 | B196: =B184 -> 3 | C196: 554909.85 | D196: 7547.8281 | E196: 39317.671 | F196: 3939.0567 | G196: 331.75071 | H196: 512959.68 | I196: 52195.031 | J196: 3607.306 | K196: 460764.65
A197: =A185+1 -> 2031 | B197: =B185 -> 4 | C197: 556597.19 | D197: 7555.0321 | E197: 39144.219 | F197: 3943.0865 | G197: 331.68099 | H197: 514122.71 | I197: 52357.486 | J197: 3611.4056 | K197: 461765.22
A198: =A186+1 -> 2031 | B198: =B186 -> 5 | C198: 558284.54 | D198: 7562.2361 | E198: 39144.219 | F198: 3947.1164 | G198: 331.61126 | H198: 515285.74 | I198: 52519.942 | J198: 3615.5052 | K198: 462765.8
A199: =A187+1 -> 2031 | B199: =B187 -> 6 | C199: 559978.49 | D199: 7569.6263 | E199: 39144.219 | F199: 3951.1122 | G199: 331.54449 | H199: 516458.2 | I199: 52683.868 | J199: 3619.5677 | K199: 463774.33
A200: =A188+1 -> 2031 | B200: =B188 -> 7 | C200: 561672.45 | D200: 7577.0164 | E200: 39190.324 | F200: 3955.108 | G200: 331.47772 | H200: 517630.65 | I200: 52847.794 | J200: 3623.6303 | K200: 464782.86
A201: =A189+1 -> 2031 | B201: =B189 -> 8 | C201: 563366.4 | D201: 7584.4066 | E201: 39190.324 | F201: 3959.1038 | G201: 331.41095 | H201: 518803.1 | I201: 53011.72 | J201: 3627.6928 | K201: 465791.38
A202: =A190+1 -> 2031 | B202: =B190 -> 9 | C202: 565052.47 | D202: 7592.0571 | E202: 39190.324 | F202: 3963.0665 | G202: 331.34715 | H202: 519984.98 | I202: 53177.124 | J202: 3631.7193 | K202: 466807.85
A203: =A191+1 -> 2031 | B203: =B191 -> 10 | C203: 566738.54 | D203: 7599.7076 | E203: 39418.464 | F203: 3967.0292 | G203: 331.28334 | H203: 521166.85 | I203: 53342.527 | J203: 3635.7459 | K203: 467824.32
A204: =A192+1 -> 2031 | B204: =B192 -> 11 | C204: 568424.61 | D204: 7607.3581 | E204: 39418.464 | F204: 3970.9919 | G204: 331.21953 | H204: 522348.72 | I204: 53507.931 | J204: 3639.7724 | K204: 468840.79
A205: =A193+1 -> 2031 | B205: =B193 -> 12 | C205: 570162.07 | D205: 7614.5318 | E205: 39418.464 | F205: 3975.1047 | G205: 331.14685 | H205: 523534.14 | I205: 53675.028 | J205: 3643.9579 | K205: 469859.11
... A217: =A205+1 -> 2032 | B217: =B205 -> 12 | C217: 589400.09 | D217: 7696.3942 | E217: 39608.049 | F217: 4019.737 | G217: 330.40208 | H217: 536747.93 | I217: 55540.624 | J217: 3689.3349 | K217: 481207.3

Sheet 2.Actual Wthr
A1: Year | B1: Month | C1: AvgDB | D1: HDD13 | E1: HDD15 | F1: CDD15 | G1: CDD18
A2: 2012 | B2: 1 | C2: -1.7145161 | D2: 456.15 | E2: 518.15 | F2: 0 | G2: 0
A3: 2012 | B3: 2 | C3: -0.3362069 | D3: 386.75 | E3: 444.75 | F3: 0 | G3: 0
A4: 2012 | B4: 3 | C4: 6.7145161 | D4: 211.25 | E4: 263.05 | F4: 6.2 | G4: 0.15
A5: 2012 | B5: 4 | C5: 7.2466667 | D5: 180.75 | E5: 235.7 | F5: 3.1 | G5: 0
A6: 2012 | B6: 5 | C6: 16.556452 | D6: 14.15 | E6: 32.3 | F6: 80.55 | G6: 36.35
A7: 2012 | B7: 6 | C7: 20.591667 | D7: 0 | E7: 4.15 | F7: 171.9 | G7: 101.2
A8: 2012 | B8: 7 | C8: 24.275806 | D8: 0 | E8: 0 | F8: 287.55 | G8: 194.55
A9: 2012 | B9: 8 | C9: 21.525806 | D9: 0 | E9: 0 | F9: 202.3 | G9: 111.35
A10: 2012 | B10: 9 | C10: 16.338333 | D10: 12.3 | E10: 33.95 | F10: 74.1 | G10: 35.6
A11: 2012 | B11: 10 | C11: 10.190323 | D11: 107.15 | E11: 156.25 | F11: 7.15 | G11: 1.1
A12: 2012 | B12: 11 | C12: 3.5133333 | D12: 284.6 | E12: 344.6 | F12: 0 | G12: 0
A13: 2012 | B13: 12 | C13: 0.78548387 | D13: 378.65 | E13: 440.65 | F13: 0 | G13: 0
A14: =A2+1 -> 2013 | B14: 1 | C14: -2.1467742 | D14: 469.55 | E14: 531.55 | F14: 0 | G14: 0
A15: =A3+1 -> 2013 | B15: 2 | C15: -4.5446429 | D15: 491.25 | E15: 547.25 | F15: 0 | G15: 0
A16: =A4+1 -> 2013 | B16: 3 | C16: 0.1 | D16: 399.9 | E16: 461.9 | F16: 0 | G16: 0
A17: =A5+1 -> 2013 | B17: 4 | C17: 6.035 | D17: 212.1 | E17: 269.3 | F17: 0.35 | G17: 0
A18: =A6+1 -> 2013 | B18: 5 | C18: 15.201613 | D18: 34.6 | E18: 57.45 | F18: 63.7 | G18: 23
A19: =A7+1 -> 2013 | B19: 6 | C19: 18.861667 | D19: 1.45 | E19: 7.1 | F19: 122.95 | G19: 59.25
A20: =A8+1 -> 2013 | B20: 7 | C20: 20.087097 | D20: 0 | E20: 0 | F20: 221.975 | G20: 130.325
A21: =A9+1 -> 2013 | B21: 8 | C21: 20.856452 | D21: 0 | E21: 0 | F21: 181.55 | G21: 93.15
A22: =A10+1 -> 2013 | B22: 9 | C22: 15.545 | D22: 12.7 | E22: 30.45 | F22: 59.95 | G22: 27.95
A23: =A11+1 -> 2013 | B23: 10 | C23: 10.098387 | D23: 91.55 | E23: 138.65 | F23: 9.35 | G23: 0.35
A24: =A12+1 -> 2013 | B24: 11 | C24: 2.0566667 | D24: 328.3 | E24: 388.3 | F24: 0 | G24: 0
A25: =A13+1 -> 2013 | B25: 12 | C25: -4.1806452 | D25: 532.6 | E25: 594.6 | F25: 0 | G25: 0
... A97: =A85+1 -> 2019 | B97: 12 | C97: -0.78548387 | D97: 427.35 | E97: 489.35 | F97: 0 | G97: 0
A98: =A86+1 -> 2020 | B98: =B86 -> 1 | C98: -1.5080645 | D98: 449.75 | E98: 511.75 | F98: 0 | G98: 0
A99: =A87+1 -> 2020 | B99: =B87 -> 2 | C99: -3.0862069 | D99: 466.5 | E99: 524.5 | F99: 0 | G99: 0
A100: =A88+1 -> 2020 | B100: =B88 -> 3 | C100: 3.1870968 | D100: 304.2 | E100: 366.2 | F100: 0 | G100: 0
A101: =A89+1 -> 2020 | B101: =B89 -> 4 | C101: 5.8983333 | D101: 213.05 | E101: 273.05 | F101: 0 | G101: 0
A102: =A90+1 -> 2020 | B102: =B90 -> 5 | C102: 12.043548 | D102: 98.4 | E102: 138.4 | F102: 46.75 | G102: 24
A103: =A91+1 -> 2020 | B103: =B91 -> 6 | C103: 20.435 | D103: 0.1 | E103: 5.25 | F103: 168.3 | G103: 97.05
A104: =A92+1 -> 2020 | B104: =B92 -> 7 | C104: 24.932258 | D104: 0 | E104: 0 | F104: 307.9 | G104: 214.9
A105: =A93+1 -> 2020 | B105: =B93 -> 8 | C105: 22.033871 | D105: 0 | E105: 0 | F105: 218.05 | G105: 125.9
A106: =A94+1 -> 2020 | B106: =B94 -> 9 | C106: 16.783333 | D106: 9.4 | E106: 24.8 | F106: 78.3 | G106: 32.9
A107: =A95+1 -> 2020 | B107: =B95 -> 10 | C107: 9.25 | D107: 124.3 | E107: 179.7 | F107: 1.45 | G107: 0
A108: =A96+1 -> 2020 | B108: =B96 -> 11 | C108: 6.815 | D108: 195.4 | E108: 247.1 | F108: 1.55 | G108: 0
A109: =A97+1 -> 2020 | B109: =B97 -> 12 | C109: -0.2983871 | D109: 412.25 | E109: 474.25 | F109: 0 | G109: 0
... A169: =A157+1 -> 2025 | B169: =B157 -> 12 | C169: -3.4387097 | D169: 509.6 | E169: 571.6 | F169: 0 | G169: 0

Sheet 3. Normal Wthr
A1: Year | B1: Month | C1: NHDD13 | D1: NHDD15 | E1: NCDD15 | F1: NCDD18
A2: 2025 | B2: 1 | C2: 522.345 | D2: 584.345 | E2: 0 | F2: 0
A3: 2025 | B3: 2 | C3: 440.215 | D3: 496.215 | E3: 0 | F3: 0
A4: 2025 | B4: 3 | C4: 355.55 | D4: 417.4 | E4: 0 | F4: 0
A5: 2025 | B5: 4 | C5: 189.1 | D5: 245.155 | E5: 3.14 | F5: 0.705
A6: 2025 | B6: 5 | C6: 47.3975 | D6: 79.7275 | E6: 49.1 | F6: 21.53
A7: 2025 | B7: 6 | C7: 0.675 | D7: 3.345 | E7: 150.475 | F7: 77.26
A8: 2025 | B8: 7 | C8: 0 | D8: 0 | E8: 246.47 | F8: 153.97
A9: 2025 | B9: 8 | C9: 0 | D9: 0.215 | E9: 215.375 | F9: 126.72
A10: 2025 | B10: 9 | C10: 2.685 | D10: 10.775 | E10: 109.045 | F10: 47.34
A11: 2025 | B11: 10 | C11: 90.755 | D11: 134.645 | E11: 22.135 | F11: 6.515
A12: 2025 | B12: 11 | C12: 264.7 | D12: 322.54 | E12: 1.145 | F12: 0.26
A13: 2025 | B13: 12 | C13: 429.465 | D13: 491.465 | E13: 0 | F13: 0
A14: =A2+1 -> 2026 | B14: 1 | C14: 522.345 | D14: 584.345 | E14: 0 | F14: 0
A15: =A3+1 -> 2026 | B15: 2 | C15: 440.215 | D15: 496.215 | E15: 0 | F15: 0
A16: =A4+1 -> 2026 | B16: 3 | C16: 355.55 | D16: 417.4 | E16: 0 | F16: 0
A17: =A5+1 -> 2026 | B17: 4 | C17: 189.1 | D17: 245.155 | E17: 3.14 | F17: 0.705
A18: =A6+1 -> 2026 | B18: 5 | C18: 47.3975 | D18: 79.7275 | E18: 49.1 | F18: 21.53
A19: =A7+1 -> 2026 | B19: 6 | C19: 0.675 | D19: 3.345 | E19: 150.475 | F19: 77.26
A20: =A8+1 -> 2026 | B20: 7 | C20: 0 | D20: 0 | E20: 246.47 | F20: 153.97
A21: =A9+1 -> 2026 | B21: 8 | C21: 0 | D21: 0.215 | E21: 215.375 | F21: 126.72
A22: =A10+1 -> 2026 | B22: 9 | C22: 2.685 | D22: 10.775 | E22: 109.045 | F22: 47.34
A23: =A11+1 -> 2026 | B23: 10 | C23: 90.755 | D23: 134.645 | E23: 22.135 | F23: 6.515
A24: =A12+1 -> 2026 | B24: 11 | C24: 264.7 | D24: 322.54 | E24: 1.145 | F24: 0.26
A25: =A13+1 -> 2026 | B25: 12 | C25: 429.465 | D25: 491.465 | E25: 0 | F25: 0
... A85: =A73+1 -> 2031 | B85: 12 | C85: 429.465 | D85: 491.465 | E85: 0 | F85: 0
A86: =A74+1 -> 2032 | B86: =B74 -> 1 | C86: 522.345 | D86: 584.345 | E86: 0 | F86: 0
A87: =A75+1 -> 2032 | B87: =B75 -> 2 | C87: 457.28167 | D87: 515.28167 | E87: 0 | F87: 0
A88: =A76+1 -> 2032 | B88: =B76 -> 3 | C88: 355.55 | D88: 417.4 | E88: 0 | F88: 0
A89: =A77+1 -> 2032 | B89: =B77 -> 4 | C89: 189.1 | D89: 245.155 | E89: 3.14 | F89: 0.705
A90: =A78+1 -> 2032 | B90: =B78 -> 5 | C90: 47.3975 | D90: 79.7275 | E90: 49.1 | F90: 21.53
A91: =A79+1 -> 2032 | B91: =B79 -> 6 | C91: 0.675 | D91: 3.345 | E91: 150.475 | F91: 77.26
A92: =A80+1 -> 2032 | B92: =B80 -> 7 | C92: 0 | D92: 0 | E92: 246.47 | F92: 153.97
A93: =A81+1 -> 2032 | B93: =B81 -> 8 | C93: 0 | D93: 0.215 | E93: 215.375 | F93: 126.72
A94: =A82+1 -> 2032 | B94: =B82 -> 9 | C94: 2.685 | D94: 10.775 | E94: 109.045 | F94: 47.34
A95: =A83+1 -> 2032 | B95: =B83 -> 10 | C95: 90.755 | D95: 134.645 | E95: 22.135 | F95: 6.515
A96: =A84+1 -> 2032 | B96: =B84 -> 11 | C96: 264.7 | D96: 322.54 | E96: 1.145 | F96: 0.26
A97: =A85+1 -> 2032 | B97: =B85 -> 12 | C97: 429.465 | D97: 491.465 | E97: 0 | F97: 0
... A193: =A181+1 -> 2040 | B193: =B181 -> 12 | C193: 429.465 | D193: 491.465 | E193: 0 | F193: 0

Sheet 4.Annual SAE Indices
A1: Year | B1: Heating | C1: Cooling | D1: Vent | E1: EWHeat | F1: Cooking | G1: Refrig | H1: Light | I1: Office | J1: Misc | K1: Base | L1: Total | M1: KWh per household
A2: 2017 | B2: 187600.22 | C2: 298645.61 | D2: 187485.73 | E2: 6305.3267 | F2: 34088.135 | G2: 179660.34 | H2: 250777.96 | I2: 140126.91 | J2: 241145.41 | K2: 1039589.8 | L2: 1525835.6
A3: =A2+1 -> 2018 | B3: 185426.39 | C3: 299113.05 | D3: 184428.84 | E3: 6097.3866 | F3: 33665.591 | G3: 178425.38 | H3: 241423.65 | I3: 139468.79 | J3: 238112.73 | K3: 1021622.4 | L3: 1506161.8
A4: =A3+1 -> 2019 | B4: 183277.75 | C4: 299579.42 | D4: 181561.79 | E4: 5914.9578 | F4: 33281.859 | G4: 177363.03 | H4: 233325.25 | I4: 138887.91 | J4: 236836.56 | K4: 1007171.4 | L4: 1490028.5
A5: =A4+1 -> 2020 | B5: 181154.01 | C5: 300041.23 | D5: 178358.85 | E5: 5732.683 | F5: 32861.166 | G5: 176448.94 | H5: 226456.2 | I5: 138834.05 | J5: 235219.38 | K5: 993911.27 | L5: 1475106.5
A6: =A5+1 -> 2021 | B6: 179054.88 | C6: 300520.96 | D6: 175254.83 | E6: 5556.5936 | F6: 32387.618 | G6: 175663.23 | H6: 220683.15 | I6: 138752.99 | J6: 234768.37 | K6: 983066.78 | L6: 1462642.6
A7: =A6+1 -> 2022 | B7: 176980.07 | C7: 300991.2 | D7: 172296.67 | E7: 5349.0112 | F7: 31649.297 | G7: 173972.14 | H7: 213197.75 | I7: 138440.15 | J7: 231935.11 | K7: 966840.13 | L7: 1444811.4
A8: =A7+1 -> 2023 | B8: 174929.3 | C8: 301451.68 | D8: 169608.71 | E8: 5173.2955 | F8: 31107.878 | G8: 171704.91 | H8: 207515.14 | I8: 138294.3 | J8: 229354.83 | K8: 952759.06 | L8: 1429140
A9: =A8+1 -> 2024 | B9: 172902.3 | C9: 301896.54 | D9: 166097.78 | E9: 5028.636 | F9: 30777.932 | G9: 170129.04 | H9: 203145.02 | I9: 138469.7 | J9: 228215.7 | K9: 941863.81 | L9: 1416662.6
A10: =A9+1 -> 2025 | B10: 170898.78 | C10: 302448.56 | D10: 162659.53 | E10: 4906.3281 | F10: 30589.244 | G10: 168987.11 | H10: 199760.94 | I10: 139065.21 | J10: 227600.95 | K10: 933569.31 | L10: 1406916.7
A11: =A10+1 -> 2026 | B11: 168918.48 | C11: 302880.2 | D11: 159292.45 | E11: 4783.4263 | F11: 30368.05 | G11: 167868.41 | H11: 196991.52 | I11: 139623.62 | J11: 227150.6 | K11: 926078.07 | L11: 1397876.8
A12: =A11+1 -> 2027 | B12: 166961.13 | C12: 303303.74 | D12: 154046.26 | E12: 4661.9084 | F12: 30137.808 | G12: 166806.56 | H12: 194636.43 | I12: 140169.81 | J12: 226676.75 | K12: 917135.53 | L12: 1387400.4
A13: =A12+1 -> 2028 | B13: 165026.46 | C13: 303684.15 | D13: 149166.82 | E13: 4533.9556 | F13: 29847.123 | G13: 165698.41 | H13: 192612.38 | I13: 140947.66 | J13: 226200.21 | K13: 909006.55 | L13: 1377717.2
A14: =A13+1 -> 2029 | B14: 163114.21 | C14: 304669.7 | D14: 144634.66 | E14: 4399.7792 | F14: 29495.163 | G14: 164526.95 | H14: 190888.81 | I14: 141672.19 | J14: 225714.49 | K14: 901332.03 | L14: 1369115.9
... A35: =A34+1 -> 2050 | B35: 127700.94 | C35: 323187.2 | D35: 91131.845 | E35: 2397.2354 | F35: 21887.177 | G35: 144369.12 | H35: 152669.29 | I35: 170177.28 | J35: 221686.36 | K35: 804318.31 | L35: 1255206.4

Sheet 5.Monthly Multipliers
A1: Year | B1: Month | C1: EWHeat | D1: ECook | E1: Ref1 | F1: Ref2 | G1: Frz | H1: Dish | I1: CWash | J1: EDry | K1: TV | L1: Light | M1: Misc
A2: 2001 | B2: 1 | C2: 0.1015625 | D2: 0.083333333 | E2: 0.075709779 | F2: 0.075709779 | G2: 0.078171091 | H2: 0.083333333 | I2: 0.083333333 | J2: 0.083333333 | K2: 0.083333333 | L2: 0.098182754 | M2: 0.083333333
A3: 2001 | B3: 2 | C3: 0.09765625 | D3: 0.083333333 | E3: 0.077812829 | F3: 0.077812829 | G3: 0.078171091 | H3: 0.083333333 | I3: 0.083333333 | J3: 0.083333333 | K3: 0.083333333 | L3: 0.094422297 | M3: 0.083333333
A4: 2001 | B4: 3 | C4: 0.09375 | D4: 0.083333333 | E4: 0.078864353 | F4: 0.078864353 | G4: 0.079646018 | H4: 0.083333333 | I4: 0.083333333 | J4: 0.083333333 | K4: 0.083333333 | L4: 0.090621776 | M4: 0.083333333
A5: 2001 | B5: 4 | C5: 0.0859375 | D5: 0.083333333 | E5: 0.079915878 | F5: 0.079915878 | G5: 0.081120944 | H5: 0.083333333 | I5: 0.083333333 | J5: 0.083333333 | K5: 0.083333333 | L5: 0.085759184 | M5: 0.083333333
A6: 2001 | B6: 5 | C6: 0.08203125 | D6: 0.083333333 | E6: 0.084121977 | F6: 0.084121977 | G6: 0.08259587 | H6: 0.083333333 | I6: 0.083333333 | J6: 0.083333333 | K6: 0.083333333 | L6: 0.078758508 | M6: 0.083333333
A7: 2001 | B7: 6 | C7: 0.078125 | D7: 0.083333333 | E7: 0.090431125 | F7: 0.090431125 | G7: 0.087020649 | H7: 0.083333333 | I7: 0.083333333 | J7: 0.083333333 | K7: 0.083333333 | L7: 0.070474301 | M7: 0.083333333
A8: 2001 | B8: 7 | C8: 0.06640625 | D8: 0.083333333 | E8: 0.092534175 | F8: 0.092534175 | G8: 0.09439528 | H8: 0.083333333 | I8: 0.083333333 | J8: 0.083333333 | K8: 0.083333333 | L8: 0.067537872 | M8: 0.083333333
A9: 2001 | B9: 8 | C9: 0.0625 | D9: 0.083333333 | E9: 0.092534175 | F9: 0.092534175 | G9: 0.09439528 | H9: 0.083333333 | I9: 0.083333333 | J9: 0.083333333 | K9: 0.083333333 | L9: 0.070007562 | M9: 0.083333333
A10: 2001 | B10: 9 | C10: 0.0703125 | D10: 0.083333333 | E10: 0.086225026 | F10: 0.086225026 | G10: 0.085545723 | H10: 0.083333333 | I10: 0.083333333 | J10: 0.083333333 | K10: 0.083333333 | L10: 0.075335893 | M10: 0.083333333
A11: 2001 | B11: 10 | C11: 0.078125 | D11: 0.083333333 | E11: 0.084121977 | F11: 0.084121977 | G11: 0.081120944 | H11: 0.083333333 | I11: 0.083333333 | J11: 0.083333333 | K11: 0.083333333 | L11: 0.082900545 | M11: 0.083333333
A12: 2001 | B12: 11 | C12: 0.0859375 | D12: 0.083333333 | E12: 0.079915878 | F12: 0.079915878 | G12: 0.079646018 | H12: 0.083333333 | I12: 0.083333333 | J12: 0.083333333 | K12: 0.083333333 | L12: 0.090621776 | M12: 0.083333333
A13: 2001 | B13: 12 | C13: 0.09765625 | D13: 0.083333333 | E13: 0.077812829 | F13: 0.077812829 | G13: 0.078171091 | H13: 0.083333333 | I13: 0.083333333 | J13: 0.083333333 | K13: 0.083333333 | L13: 0.095377532 | M13: 0.083333333

Sheet 6.Econ Transform
A1: Year | B1: Month | C1: PerCap_Idx | D1: GDP_Idx | E1: Emp_Idx | F1: NManEmp_Idx | G1: NManGDP_Idx | H1: ManEmp_Idx | I1: ManGDP_Idx | J1: Pop_Idx | L1: Res_Var | M1: Com_Var | N1: Ind_Var | O1: GSP50_Var
A2: 2017 | B2: 1 | C2: ='1.Economic Data'!E26/'1.Economic Data'!$E$2 -> 0.98949523 | D2: ='1.Economic Data'!H26/'1.Economic Data'!$H$2 -> 1.0600346 | E2: ='1.Economic Data'!F26/'1.Economic Data'!$F$2 -> 1.0337846 | F2: ='1.Economic Data'!J26/'1.Economic Data'!$J$2 -> 1.0348927 | G2: ='1.Economic Data'!K26/'1.Economic Data'!$K$2 -> 1.064673 | H2: ='1.Economic Data'!G26/'1.Economic Data'!$G$2 -> 1.0245069 | I2: ='1.Economic Data'!I26/'1.Economic Data'!$I$2 -> 1.0256895 | J2: ='1.Economic Data'!D26/'1.Economic Data'!$D$2 -> 1.0262721 | L2: =C2 -> 0.98949523 | M2: =(E2^(0.8))*(D2^(0.2)) -> 1.038982 | N2: =(H2^(0.8))*(I2^(0.2)) -> 1.0247433 | O2: =(M2^(0.5))*(N2^(0.5)) -> 1.0318381
A3: 2017 | B3: 2 | C3: ='1.Economic Data'!E27/'1.Economic Data'!$E$2 -> 0.98949523 | D3: ='1.Economic Data'!H27/'1.Economic Data'!$H$2 -> 1.0655095 | E3: ='1.Economic Data'!F27/'1.Economic Data'!$F$2 -> 1.0386239 | F3: ='1.Economic Data'!J27/'1.Economic Data'!$J$2 -> 1.0405978 | G3: ='1.Economic Data'!K27/'1.Economic Data'!$K$2 -> 1.0697964 | H3: ='1.Economic Data'!G27/'1.Economic Data'!$G$2 -> 1.0220985 | I3: ='1.Economic Data'!I27/'1.Economic Data'!$I$2 -> 1.033767 | J3: ='1.Economic Data'!D27/'1.Economic Data'!$D$2 -> 1.0275893 | L3: =C3 -> 0.98949523 | M3: =(E3^(0.8))*(D3^(0.2)) -> 1.0439462 | N3: =(H3^(0.8))*(I3^(0.2)) -> 1.0244216 | O3: =(M3^(0.5))*(N3^(0.5)) -> 1.0341379
A4: 2017 | B4: 3 | C4: ='1.Economic Data'!E28/'1.Economic Data'!$E$2 -> 0.98949523 | D4: ='1.Economic Data'!H28/'1.Economic Data'!$H$2 -> 1.0681477 | E4: ='1.Economic Data'!F28/'1.Economic Data'!$F$2 -> 1.0423786 | F4: ='1.Economic Data'!J28/'1.Economic Data'!$J$2 -> 1.0438095 | G4: ='1.Economic Data'!K28/'1.Economic Data'!$K$2 -> 1.0727827 | H4: ='1.Economic Data'!G28/'1.Economic Data'!$G$2 -> 1.030398 | I4: ='1.Economic Data'!I28/'1.Economic Data'!$I$2 -> 1.0338283 | J4: ='1.Economic Data'!D28/'1.Economic Data'!$D$2 -> 1.0290106 | L4: =C4 -> 0.98949523 | M4: =(E4^(0.8))*(D4^(0.2)) -> 1.0474822 | N4: =(H4^(0.8))*(I4^(0.2)) -> 1.0310832 | O4: =(M4^(0.5))*(N4^(0.5)) -> 1.0392503
A5: 2017 | B5: 4 | C5: ='1.Economic Data'!E29/'1.Economic Data'!$E$2 -> 0.99092896 | D5: ='1.Economic Data'!H29/'1.Economic Data'!$H$2 -> 1.070786 | E5: ='1.Economic Data'!F29/'1.Economic Data'!$F$2 -> 1.0461332 | F5: ='1.Economic Data'!J29/'1.Economic Data'!$J$2 -> 1.0470213 | G5: ='1.Economic Data'!K29/'1.Economic Data'!$K$2 -> 1.0757689 | H5: ='1.Economic Data'!G29/'1.Economic Data'!$G$2 -> 1.0386975 | I5: ='1.Economic Data'!I29/'1.Economic Data'!$I$2 -> 1.0338897 | J5: ='1.Economic Data'!D29/'1.Economic Data'!$D$2 -> 1.0304319 | L5: =C5 -> 0.99092896 | M5: =(E5^(0.8))*(D5^(0.2)) -> 1.0510179 | N5: =(H5^(0.8))*(I5^(0.2)) -> 1.0377341 | O5: =(M5^(0.5))*(N5^(0.5)) -> 1.0443549
A6: 2017 | B6: 5 | C6: ='1.Economic Data'!E30/'1.Economic Data'!$E$2 -> 0.99092896 | D6: ='1.Economic Data'!H30/'1.Economic Data'!$H$2 -> 1.0734242 | E6: ='1.Economic Data'!F30/'1.Economic Data'!$F$2 -> 1.0498878 | F6: ='1.Economic Data'!J30/'1.Economic Data'!$J$2 -> 1.0502331 | G6: ='1.Economic Data'!K30/'1.Economic Data'!$K$2 -> 1.0787552 | H6: ='1.Economic Data'!G30/'1.Economic Data'!$G$2 -> 1.0469969 | I6: ='1.Economic Data'!I30/'1.Economic Data'!$I$2 -> 1.033951 | J6: ='1.Economic Data'!D30/'1.Economic Data'!$D$2 -> 1.0318532 | L6: =C6 -> 0.99092896 | M6: =(E6^(0.8))*(D6^(0.2)) -> 1.0545534 | N6: =(H6^(0.8))*(I6^(0.2)) -> 1.0443747 | O6: =(M6^(0.5))*(N6^(0.5)) -> 1.0494517
A7: 2017 | B7: 6 | C7: ='1.Economic Data'!E31/'1.Economic Data'!$E$2 -> 0.99092896 | D7: ='1.Economic Data'!H31/'1.Economic Data'!$H$2 -> 1.0733399 | E7: ='1.Economic Data'!F31/'1.Economic Data'!$F$2 -> 1.051727 | F7: ='1.Economic Data'!J31/'1.Economic Data'!$J$2 -> 1.0525819 | G7: ='1.Economic Data'!K31/'1.Economic Data'!$K$2 -> 1.0806812 | H7: ='1.Economic Data'!G31/'1.Economic Data'!$G$2 -> 1.0445698 | I7: ='1.Economic Data'!I31/'1.Economic Data'!$I$2 -> 1.0189814 | J7: ='1.Economic Data'!D31/'1.Economic Data'!$D$2 -> 1.0336207 | L7: =C7 -> 0.99092896 | M7: =(E7^(0.8))*(D7^(0.2)) -> 1.0560145 | N7: =(H7^(0.8))*(I7^(0.2)) -> 1.0394012 | O7: =(M7^(0.5))*(N7^(0.5)) -> 1.0476749
A8: 2017 | B8: 7 | C8: ='1.Economic Data'!E32/'1.Economic Data'!$E$2 -> 1.0021153 | D8: ='1.Economic Data'!H32/'1.Economic Data'!$H$2 -> 1.0732555 | E8: ='1.Economic Data'!F32/'1.Economic Data'!$F$2 -> 1.0535662 | F8: ='1.Economic Data'!J32/'1.Economic Data'!$J$2 -> 1.0549307 | G8: ='1.Economic Data'!K32/'1.Economic Data'!$K$2 -> 1.0826071 | H8: ='1.Economic Data'!G32/'1.Economic Data'!$G$2 -> 1.0421426 | I8: ='1.Economic Data'!I32/'1.Economic Data'!$I$2 -> 1.0040119 | J8: ='1.Economic Data'!D32/'1.Economic Data'!$D$2 -> 1.0353882 | L8: =C8 -> 1.0021153 | M8: =(E8^(0.8))*(D8^(0.2)) -> 1.057475 | N8: =(H8^(0.8))*(I8^(0.2)) -> 1.0344023 | O8: =(M8^(0.5))*(N8^(0.5)) -> 1.045875
A9: 2017 | B9: 8 | C9: ='1.Economic Data'!E33/'1.Economic Data'!$E$2 -> 1.0021153 | D9: ='1.Economic Data'!H33/'1.Economic Data'!$H$2 -> 1.0731712 | E9: ='1.Economic Data'!F33/'1.Economic Data'!$F$2 -> 1.0554054 | F9: ='1.Economic Data'!J33/'1.Economic Data'!$J$2 -> 1.0572795 | G9: ='1.Economic Data'!K33/'1.Economic Data'!$K$2 -> 1.0845331 | H9: ='1.Economic Data'!G33/'1.Economic Data'!$G$2 -> 1.0397154 | I9: ='1.Economic Data'!I33/'1.Economic Data'!$I$2 -> 0.98904228 | J9: ='1.Economic Data'!D33/'1.Economic Data'!$D$2 -> 1.0371557 | L9: =C9 -> 1.0021153 | M9: =(E9^(0.8))*(D9^(0.2)) -> 1.0589349 | N9: =(H9^(0.8))*(I9^(0.2)) -> 1.0293772 | O9: =(M9^(0.5))*(N9^(0.5)) -> 1.0440515
A10: 2017 | B10: 9 | C10: ='1.Economic Data'!E34/'1.Economic Data'!$E$2 -> 1.0021153 | D10: ='1.Economic Data'!H34/'1.Economic Data'!$H$2 -> 1.0761051 | E10: ='1.Economic Data'!F34/'1.Economic Data'!$F$2 -> 1.0602701 | F10: ='1.Economic Data'!J34/'1.Economic Data'!$J$2 -> 1.0617802 | G10: ='1.Economic Data'!K34/'1.Economic Data'!$K$2 -> 1.0874142 | H10: ='1.Economic Data'!G34/'1.Economic Data'!$G$2 -> 1.0476268 | I10: ='1.Economic Data'!I34/'1.Economic Data'!$I$2 -> 0.99236681 | J10: ='1.Economic Data'!D34/'1.Economic Data'!$D$2 -> 1.0386884 | L10: =C10 -> 1.0021153 | M10: =(E10^(0.8))*(D10^(0.2)) -> 1.0634183 | N10: =(H10^(0.8))*(I10^(0.2)) -> 1.036334 | O10: =(M10^(0.5))*(N10^(0.5)) -> 1.0497888
A11: 2017 | B11: 10 | C11: ='1.Economic Data'!E35/'1.Economic Data'!$E$2 -> 1.0171315 | D11: ='1.Economic Data'!H35/'1.Economic Data'!$H$2 -> 1.0790389 | E11: ='1.Economic Data'!F35/'1.Economic Data'!$F$2 -> 1.0651348 | F11: ='1.Economic Data'!J35/'1.Economic Data'!$J$2 -> 1.066281 | G11: ='1.Economic Data'!K35/'1.Economic Data'!$K$2 -> 1.0902953 | H11: ='1.Economic Data'!G35/'1.Economic Data'!$G$2 -> 1.0555383 | I11: ='1.Economic Data'!I35/'1.Economic Data'!$I$2 -> 0.99569134 | J11: ='1.Economic Data'!D35/'1.Economic Data'!$D$2 -> 1.0402211 | L11: =C11 -> 1.0171315 | M11: =(E11^(0.8))*(D11^(0.2)) -> 1.0679012 | N11: =(H11^(0.8))*(I11^(0.2)) -> 1.0432878 | O11: =(M11^(0.5))*(N11^(0.5)) -> 1.0555228
A12: 2017 | B12: 11 | C12: ='1.Economic Data'!E36/'1.Economic Data'!$E$2 -> 1.0171315 | D12: ='1.Economic Data'!H36/'1.Economic Data'!$H$2 -> 1.0819728 | E12: ='1.Economic Data'!F36/'1.Economic Data'!$F$2 -> 1.0699995 | F12: ='1.Economic Data'!J36/'1.Economic Data'!$J$2 -> 1.0707818 | G12: ='1.Economic Data'!K36/'1.Economic Data'!$K$2 -> 1.0931764 | H12: ='1.Economic Data'!G36/'1.Economic Data'!$G$2 -> 1.0634497 | I12: ='1.Economic Data'!I36/'1.Economic Data'!$I$2 -> 0.99901587 | J12: ='1.Economic Data'!D36/'1.Economic Data'!$D$2 -> 1.0417538 | L12: =C12 -> 1.0171315 | M12: =(E12^(0.8))*(D12^(0.2)) -> 1.0723835 | N12: =(H12^(0.8))*(I12^(0.2)) -> 1.0502388 | O12: =(M12^(0.5))*(N12^(0.5)) -> 1.0612534
A13: 2017 | B13: 12 | C13: ='1.Economic Data'!E37/'1.Economic Data'!$E$2 -> 1.0171315 | D13: ='1.Economic Data'!H37/'1.Economic Data'!$H$2 -> 1.0871005 | E13: ='1.Economic Data'!F37/'1.Economic Data'!$F$2 -> 1.0716673 | F13: ='1.Economic Data'!J37/'1.Economic Data'!$J$2 -> 1.0732582 | G13: ='1.Economic Data'!K37/'1.Economic Data'!$K$2 -> 1.0970413 | H13: ='1.Economic Data'!G37/'1.Economic Data'!$G$2 -> 1.0583477 | I13: ='1.Economic Data'!I37/'1.Economic Data'!$I$2 -> 1.0134935 | J13: ='1.Economic Data'!D37/'1.Economic Data'!$D$2 -> 1.0432938 | L13: =C13 -> 1.0171315 | M13: =(E13^(0.8))*(D13^(0.2)) -> 1.0747363 | N13: =(H13^(0.8))*(I13^(0.2)) -> 1.0492208 | O13: =(M13^(0.5))*(N13^(0.5)) -> 1.0619019
A14: =A2+1 -> 2018 | B14: 1 | C14: ='1.Economic Data'!E38/'1.Economic Data'!$E$2 -> 1.0176613 | D14: ='1.Economic Data'!H38/'1.Economic Data'!$H$2 -> 1.0922282 | E14: ='1.Economic Data'!F38/'1.Economic Data'!$F$2 -> 1.0733351 | F14: ='1.Economic Data'!J38/'1.Economic Data'!$J$2 -> 1.0757345 | G14: ='1.Economic Data'!K38/'1.Economic Data'!$K$2 -> 1.1009063 | H14: ='1.Economic Data'!G38/'1.Economic Data'!$G$2 -> 1.0532458 | I14: ='1.Economic Data'!I38/'1.Economic Data'!$I$2 -> 1.0279712 | J14: ='1.Economic Data'!D38/'1.Economic Data'!$D$2 -> 1.0448338 | L14: =C14 -> 1.0176613 | M14: =(E14^(0.8))*(D14^(0.2)) -> 1.0770874 | N14: =(H14^(0.8))*(I14^(0.2)) -> 1.0481416 | O14: =(M14^(0.5))*(N14^(0.5)) -> 1.0625159
A15: =A3+1 -> 2018 | B15: 2 | C15: ='1.Economic Data'!E39/'1.Economic Data'!$E$2 -> 1.0176613 | D15: ='1.Economic Data'!H39/'1.Economic Data'!$H$2 -> 1.097356 | E15: ='1.Economic Data'!F39/'1.Economic Data'!$F$2 -> 1.0750029 | F15: ='1.Economic Data'!J39/'1.Economic Data'!$J$2 -> 1.0782109 | G15: ='1.Economic Data'!K39/'1.Economic Data'!$K$2 -> 1.1047713 | H15: ='1.Economic Data'!G39/'1.Economic Data'!$G$2 -> 1.0481438 | I15: ='1.Economic Data'!I39/'1.Economic Data'!$I$2 -> 1.0424489 | J15: ='1.Economic Data'!D39/'1.Economic Data'!$D$2 -> 1.0463738 | L15: =C15 -> 1.0176613 | M15: =(E15^(0.8))*(D15^(0.2)) -> 1.0794368 | N15: =(H15^(0.8))*(I15^(0.2)) -> 1.0470023 | O15: =(M15^(0.5))*(N15^(0.5)) -> 1.0630958
A16: =A4+1 -> 2018 | B16: 3 | C16: ='1.Economic Data'!E40/'1.Economic Data'!$E$2 -> 1.0176613 | D16: ='1.Economic Data'!H40/'1.Economic Data'!$H$2 -> 1.1002229 | E16: ='1.Economic Data'!F40/'1.Economic Data'!$F$2 -> 1.0741738 | F16: ='1.Economic Data'!J40/'1.Economic Data'!$J$2 -> 1.0800211 | G16: ='1.Economic Data'!K40/'1.Economic Data'!$K$2 -> 1.1081183 | H16: ='1.Economic Data'!G40/'1.Economic Data'!$G$2 -> 1.0252187 | I16: ='1.Economic Data'!I40/'1.Economic Data'!$I$2 -> 1.0417616 | J16: ='1.Economic Data'!D40/'1.Economic Data'!$D$2 -> 1.0479211 | L16: =C16 -> 1.0176613 | M16: =(E16^(0.8))*(D16^(0.2)) -> 1.0793338 | N16: =(H16^(0.8))*(I16^(0.2)) -> 1.0285062 | O16: =(M16^(0.5))*(N16^(0.5)) -> 1.0536135
A17: =A5+1 -> 2018 | B17: 4 | C17: ='1.Economic Data'!E41/'1.Economic Data'!$E$2 -> 1.0117374 | D17: ='1.Economic Data'!H41/'1.Economic Data'!$H$2 -> 1.1030899 | E17: ='1.Economic Data'!F41/'1.Economic Data'!$F$2 -> 1.0733448 | F17: ='1.Economic Data'!J41/'1.Economic Data'!$J$2 -> 1.0818312 | G17: ='1.Economic Data'!K41/'1.Economic Data'!$K$2 -> 1.1114653 | H17: ='1.Economic Data'!G41/'1.Economic Data'!$G$2 -> 1.0022937 | I17: ='1.Economic Data'!I41/'1.Economic Data'!$I$2 -> 1.0410744 | J17: ='1.Economic Data'!D41/'1.Economic Data'!$D$2 -> 1.0494683 | L17: =C17 -> 1.0117374 | M17: =(E17^(0.8))*(D17^(0.2)) -> 1.079229 | N17: =(H17^(0.8))*(I17^(0.2)) -> 1.0099325 | O17: =(M17^(0.5))*(N17^(0.5)) -> 1.0440059
A18: =A6+1 -> 2018 | B18: 5 | C18: ='1.Economic Data'!E42/'1.Economic Data'!$E$2 -> 1.0117374 | D18: ='1.Economic Data'!H42/'1.Economic Data'!$H$2 -> 1.1059569 | E18: ='1.Economic Data'!F42/'1.Economic Data'!$F$2 -> 1.0725158 | F18: ='1.Economic Data'!J42/'1.Economic Data'!$J$2 -> 1.0836414 | G18: ='1.Economic Data'!K42/'1.Economic Data'!$K$2 -> 1.1148123 | H18: ='1.Economic Data'!G42/'1.Economic Data'!$G$2 -> 0.97936863 | I18: ='1.Economic Data'!I42/'1.Economic Data'!$I$2 -> 1.0403872 | J18: ='1.Economic Data'!D42/'1.Economic Data'!$D$2 -> 1.0510156 | L18: =C18 -> 1.0117374 | M18: =(E18^(0.8))*(D18^(0.2)) -> 1.0791221 | N18: =(H18^(0.8))*(I18^(0.2)) -> 0.99127911 | O18: =(M18^(0.5))*(N18^(0.5)) -> 1.0342684
A19: =A7+1 -> 2018 | B19: 6 | C19: ='1.Economic Data'!E43/'1.Economic Data'!$E$2 -> 1.0117374 | D19: ='1.Economic Data'!H43/'1.Economic Data'!$H$2 -> 1.1084629 | E19: ='1.Economic Data'!F43/'1.Economic Data'!$F$2 -> 1.0726031 | F19: ='1.Economic Data'!J43/'1.Economic Data'!$J$2 -> 1.0845627 | G19: ='1.Economic Data'!K43/'1.Economic Data'!$K$2 -> 1.1171975 | H19: ='1.Economic Data'!G43/'1.Economic Data'!$G$2 -> 0.97247274 | I19: ='1.Economic Data'!I43/'1.Economic Data'!$I$2 -> 1.0437873 | J19: ='1.Economic Data'!D43/'1.Economic Data'!$D$2 -> 1.0529946 | L19: =C19 -> 1.0117374 | M19: =(E19^(0.8))*(D19^(0.2)) -> 1.079681 | N19: =(H19^(0.8))*(I19^(0.2)) -> 0.98633478 | O19: =(M19^(0.5))*(N19^(0.5)) -> 1.031953
A20: =A8+1 -> 2018 | B20: 7 | C20: ='1.Economic Data'!E44/'1.Economic Data'!$E$2 -> 1.0050405 | D20: ='1.Economic Data'!H44/'1.Economic Data'!$H$2 -> 1.1109688 | E20: ='1.Economic Data'!F44/'1.Economic Data'!$F$2 -> 1.0726903 | F20: ='1.Economic Data'!J44/'1.Economic Data'!$J$2 -> 1.0854841 | G20: ='1.Economic Data'!K44/'1.Economic Data'!$K$2 -> 1.1195827 | H20: ='1.Economic Data'!G44/'1.Economic Data'!$G$2 -> 0.96557685 | I20: ='1.Economic Data'!I44/'1.Economic Data'!$I$2 -> 1.0471873 | J20: ='1.Economic Data'!D44/'1.Economic Data'!$D$2 -> 1.0549736 | L20: =C20 -> 1.0050405 | M20: =(E20^(0.8))*(D20^(0.2)) -> 1.080239 | N20: =(H20^(0.8))*(I20^(0.2)) -> 0.98137356 | O20: =(M20^(0.5))*(N20^(0.5)) -> 1.0296203
A21: =A9+1 -> 2018 | B21: 8 | C21: ='1.Economic Data'!E45/'1.Economic Data'!$E$2 -> 1.0050405 | D21: ='1.Economic Data'!H45/'1.Economic Data'!$H$2 -> 1.1134748 | E21: ='1.Economic Data'!F45/'1.Economic Data'!$F$2 -> 1.0727776 | F21: ='1.Economic Data'!J45/'1.Economic Data'!$J$2 -> 1.0864054 | G21: ='1.Economic Data'!K45/'1.Economic Data'!$K$2 -> 1.1219679 | H21: ='1.Economic Data'!G45/'1.Economic Data'!$G$2 -> 0.95868096 | I21: ='1.Economic Data'!I45/'1.Economic Data'!$I$2 -> 1.0505874 | J21: ='1.Economic Data'!D45/'1.Economic Data'!$D$2 -> 1.0569525 | L21: =C21 -> 1.0050405 | M21: =(E21^(0.8))*(D21^(0.2)) -> 1.0807962 | N21: =(H21^(0.8))*(I21^(0.2)) -> 0.97639539 | O21: =(M21^(0.5))*(N21^(0.5)) -> 1.0272704
A22: =A10+1 -> 2018 | B22: 9 | C22: ='1.Economic Data'!E46/'1.Economic Data'!$E$2 -> 1.0050405 | D22: ='1.Economic Data'!H46/'1.Economic Data'!$H$2 -> 1.1146424 | E22: ='1.Economic Data'!F46/'1.Economic Data'!$F$2 -> 1.0750792 | F22: ='1.Economic Data'!J46/'1.Economic Data'!$J$2 -> 1.0881066 | G22: ='1.Economic Data'!K46/'1.Economic Data'!$K$2 -> 1.1236758 | H22: ='1.Economic Data'!G46/'1.Economic Data'!$G$2 -> 0.96600988 | I22: ='1.Economic Data'!I46/'1.Economic Data'!$I$2 -> 1.0477551 | J22: ='1.Economic Data'!D46/'1.Economic Data'!$D$2 -> 1.0583446 | L22: =C22 -> 1.0050405 | M22: =(E22^(0.8))*(D22^(0.2)) -> 1.0828779 | N22: =(H22^(0.8))*(I22^(0.2)) -> 0.98183207 | O22: =(M22^(0.5))*(N22^(0.5)) -> 1.031118
A23: =A11+1 -> 2018 | B23: 10 | C23: ='1.Economic Data'!E47/'1.Economic Data'!$E$2 -> 1.0141732 | D23: ='1.Economic Data'!H47/'1.Economic Data'!$H$2 -> 1.1158101 | E23: ='1.Economic Data'!F47/'1.Economic Data'!$F$2 -> 1.0773808 | F23: ='1.Economic Data'!J47/'1.Economic Data'!$J$2 -> 1.0898077 | G23: ='1.Economic Data'!K47/'1.Economic Data'!$K$2 -> 1.1253836 | H23: ='1.Economic Data'!G47/'1.Economic Data'!$G$2 -> 0.9733388 | I23: ='1.Economic Data'!I47/'1.Economic Data'!$I$2 -> 1.0449228 | J23: ='1.Economic Data'!D47/'1.Economic Data'!$D$2 -> 1.0597367 | L23: =C23 -> 1.0141732 | M23: =(E23^(0.8))*(D23^(0.2)) -> 1.0849593 | N23: =(H23^(0.8))*(I23^(0.2)) -> 0.98725211 | O23: =(M23^(0.5))*(N23^(0.5)) -> 1.0349533
A24: =A12+1 -> 2018 | B24: 11 | C24: ='1.Economic Data'!E48/'1.Economic Data'!$E$2 -> 1.0141732 | D24: ='1.Economic Data'!H48/'1.Economic Data'!$H$2 -> 1.1169777 | E24: ='1.Economic Data'!F48/'1.Economic Data'!$F$2 -> 1.0796825 | F24: ='1.Economic Data'!J48/'1.Economic Data'!$J$2 -> 1.0915089 | G24: ='1.Economic Data'!K48/'1.Economic Data'!$K$2 -> 1.1270915 | H24: ='1.Economic Data'!G48/'1.Economic Data'!$G$2 -> 0.98066772 | I24: ='1.Economic Data'!I48/'1.Economic Data'!$I$2 -> 1.0420905 | J24: ='1.Economic Data'!D48/'1.Economic Data'!$D$2 -> 1.0611288 | L24: =C24 -> 1.0141732 | M24: =(E24^(0.8))*(D24^(0.2)) -> 1.0870406 | N24: =(H24^(0.8))*(I24^(0.2)) -> 0.99265559 | O24: =(M24^(0.5))*(N24^(0.5)) -> 1.0387766
A25: =A13+1 -> 2018 | B25: 12 | C25: ='1.Economic Data'!E49/'1.Economic Data'!$E$2 -> 1.0141732 | D25: ='1.Economic Data'!H49/'1.Economic Data'!$H$2 -> 1.1178622 | E25: ='1.Economic Data'!F49/'1.Economic Data'!$F$2 -> 1.0850896 | F25: ='1.Economic Data'!J49/'1.Economic Data'!$J$2 -> 1.096869 | G25: ='1.Economic Data'!K49/'1.Economic Data'!$K$2 -> 1.1281088 | H25: ='1.Economic Data'!G49/'1.Economic Data'!$G$2 -> 0.98646817 | I25: ='1.Economic Data'!I49/'1.Economic Data'!$I$2 -> 1.0419919 | J25: ='1.Economic Data'!D49/'1.Economic Data'!$D$2 -> 1.0623584 | L25: =C25 -> 1.0141732 | M25: =(E25^(0.8))*(D25^(0.2)) -> 1.0915663 | N25: =(H25^(0.8))*(I25^(0.2)) -> 0.99733104 | O25: =(M25^(0.5))*(N25^(0.5)) -> 1.0433853
... A193: =A181+1 -> 2032 | B193: 12 | C193: ='1.Economic Data'!E217/'1.Economic Data'!$E$2 -> 1.1076799 | D193: ='1.Economic Data'!H217/'1.Economic Data'!$H$2 -> 1.5008847 | E193: ='1.Economic Data'!F217/'1.Economic Data'!$F$2 -> 1.3283678 | F193: ='1.Economic Data'!J217/'1.Economic Data'!$J$2 -> 1.364803 | G193: ='1.Economic Data'!K217/'1.Economic Data'!$K$2 -> 1.5273035 | H193: ='1.Economic Data'!G217/'1.Economic Data'!$G$2 -> 1.0233199 | I193: ='1.Economic Data'!I217/'1.Economic Data'!$I$2 -> 1.3052668 | J193: ='1.Economic Data'!D217/'1.Economic Data'!$D$2 -> 1.2727688 | L193: =C193 -> 1.1076799 | M193: =(E193^(0.8))*(D193^(0.2)) -> 1.3612069 | N193: =(H193^(0.8))*(I193^(0.2)) -> 1.074358 | O193: =(M193^(0.5))*(N193^(0.5)) -> 1.209307

Sheet 7.Wthr Transform
A1: Year | B1: Month | C1: Days | D1: Days_Idx | E1: HDD15 | F1: ytdHDD15 | G1: BaseHDD15 | H1: HDD15_Idx | I1: CDD18 | J1: YTDcdd18 | K1: BaseCDD18 | L1: CDD18_Idx
A2: 2015 | B2: 1 | C2: 31 | D2: =C2/365 -> 0.084931507 | E2: ='2.Actual Wthr'!E38 -> 698.65 | F2: =E2 -> 698.65 | G2: =$F$13 -> 3032.5 | H2: =E2/G2 -> 0.23038747 | I2: ='2.Actual Wthr'!G38 -> 0 | J2: =I2 -> 0 | K2: =$J$13 -> 348.7 | L2: =I2/K2 -> 0
A3: 2015 | B3: 2 | C3: 28 | D3: =C3/365 -> 0.076712329 | E3: ='2.Actual Wthr'!E39 -> 772.15 | F3: =F2+E3 -> 1470.8 | G3: =$F$13 -> 3032.5 | H3: =E3/G3 -> 0.2546249 | I3: ='2.Actual Wthr'!G39 -> 0 | J3: =J2+I3 -> 0 | K3: =$J$13 -> 348.7 | L3: =I3/K3 -> 0
A4: 2015 | B4: 3 | C4: 31 | D4: =C4/365 -> 0.084931507 | E4: ='2.Actual Wthr'!E40 -> 522.55 | F4: =F3+E4 -> 1993.35 | G4: =$F$13 -> 3032.5 | H4: =E4/G4 -> 0.17231657 | I4: ='2.Actual Wthr'!G40 -> 0 | J4: =J3+I4 -> 0 | K4: =$J$13 -> 348.7 | L4: =I4/K4 -> 0
A5: 2015 | B5: 4 | C5: 30 | D5: =C5/365 -> 0.082191781 | E5: ='2.Actual Wthr'!E41 -> 224.4 | F5: =F4+E5 -> 2217.75 | G5: =$F$13 -> 3032.5 | H5: =E5/G5 -> 0.073998351 | I5: ='2.Actual Wthr'!G41 -> 0 | J5: =J4+I5 -> 0 | K5: =$J$13 -> 348.7 | L5: =I5/K5 -> 0
A6: 2015 | B6: 5 | C6: 31 | D6: =C6/365 -> 0.084931507 | E6: ='2.Actual Wthr'!E42 -> 43.45 | F6: =F5+E6 -> 2261.2 | G6: =$F$13 -> 3032.5 | H6: =E6/G6 -> 0.014328112 | I6: ='2.Actual Wthr'!G42 -> 33.75 | J6: =J5+I6 -> 33.75 | K6: =$J$13 -> 348.7 | L6: =I6/K6 -> 0.09678807
A7: 2015 | B7: 6 | C7: 30 | D7: =C7/365 -> 0.082191781 | E7: ='2.Actual Wthr'!E43 -> 8.05 | F7: =F6+E7 -> 2269.25 | G7: =$F$13 -> 3032.5 | H7: =E7/G7 -> 0.0026545754 | I7: ='2.Actual Wthr'!G43 -> 32.05 | J7: =J6+I7 -> 65.8 | K7: =$J$13 -> 348.7 | L7: =I7/K7 -> 0.091912819
A8: 2015 | B8: 7 | C8: 31 | D8: =C8/365 -> 0.084931507 | E8: ='2.Actual Wthr'!E44 -> 0 | F8: =F7+E8 -> 2269.25 | G8: =$F$13 -> 3032.5 | H8: =E8/G8 -> 0 | I8: ='2.Actual Wthr'!G44 -> 113.85 | J8: =J7+I8 -> 179.65 | K8: =$J$13 -> 348.7 | L8: =I8/K8 -> 0.32649842
A9: 2015 | B9: 8 | C9: 31 | D9: =C9/365 -> 0.084931507 | E9: ='2.Actual Wthr'!E45 -> 0 | F9: =F8+E9 -> 2269.25 | G9: =$F$13 -> 3032.5 | H9: =E9/G9 -> 0 | I9: ='2.Actual Wthr'!G45 -> 87.7 | J9: =J8+I9 -> 267.35 | K9: =$J$13 -> 348.7 | L9: =I9/K9 -> 0.25150559
A10: 2015 | B10: 9 | C10: 30 | D10: =C10/365 -> 0.082191781 | E10: ='2.Actual Wthr'!E46 -> 7.2 | F10: =F9+E10 -> 2276.45 | G10: =$F$13 -> 3032.5 | H10: =E10/G10 -> 0.0023742786 | I10: ='2.Actual Wthr'!G46 -> 81.35 | J10: =J9+I10 -> 348.7 | K10: =$J$13 -> 348.7 | L10: =I10/K10 -> 0.2332951
A11: 2015 | B11: 10 | C11: 31 | D11: =C11/365 -> 0.084931507 | E11: ='2.Actual Wthr'!E47 -> 162.8 | F11: =F10+E11 -> 2439.25 | G11: =$F$13 -> 3032.5 | H11: =E11/G11 -> 0.053685078 | I11: ='2.Actual Wthr'!G47 -> 0 | J11: =J10+I11 -> 348.7 | K11: =$J$13 -> 348.7 | L11: =I11/K11 -> 0
A12: 2015 | B12: 11 | C12: 30 | D12: =C12/365 -> 0.082191781 | E12: ='2.Actual Wthr'!E48 -> 255.85 | F12: =F11+E12 -> 2695.1 | G12: =$F$13 -> 3032.5 | H12: =E12/G12 -> 0.084369332 | I12: ='2.Actual Wthr'!G48 -> 0 | J12: =J11+I12 -> 348.7 | K12: =$J$13 -> 348.7 | L12: =I12/K12 -> 0
A13: 2015 | B13: 12 | C13: 31 | D13: =C13/365 -> 0.084931507 | E13: ='2.Actual Wthr'!E49 -> 337.4 | F13: =F12+E13 -> 3032.5 | G13: =$F$13 -> 3032.5 | H13: =E13/G13 -> 0.11126134 | I13: ='2.Actual Wthr'!G49 -> 0 | J13: =J12+I13 -> 348.7 | K13: =$J$13 -> 348.7 | L13: =I13/K13 -> 0
A14: =A2+1 -> 2016 | B14: =B2 -> 1 | C14: 31 | D14: =C14/365 -> 0.084931507 | E14: ='2.Actual Wthr'!E50 -> 577.15 | F14: =F13+E14 -> 3609.65 | G14: =$F$13 -> 3032.5 | H14: =E14/G14 -> 0.19032152 | I14: ='2.Actual Wthr'!G50 -> 0 | J14: =J13+I14 -> 348.7 | K14: =$J$13 -> 348.7 | L14: =I14/K14 -> 0
A15: =A3+1 -> 2016 | B15: =B3 -> 2 | C15: 29 | D15: =C15/365 -> 0.079452055 | E15: ='2.Actual Wthr'!E51 -> 501.15 | F15: =F14+E15 -> 4110.8 | G15: =$F$13 -> 3032.5 | H15: =E15/G15 -> 0.16525969 | I15: ='2.Actual Wthr'!G51 -> 0 | J15: =J14+I15 -> 348.7 | K15: =$J$13 -> 348.7 | L15: =I15/K15 -> 0
A16: =A4+1 -> 2016 | B16: =B4 -> 3 | C16: 31 | D16: =C16/365 -> 0.084931507 | E16: ='2.Actual Wthr'!E52 -> 383.2 | F16: =F15+E16 -> 4494 | G16: =$F$13 -> 3032.5 | H16: =E16/G16 -> 0.12636439 | I16: ='2.Actual Wthr'!G52 -> 0 | J16: =J15+I16 -> 348.7 | K16: =$J$13 -> 348.7 | L16: =I16/K16 -> 0
A17: =A5+1 -> 2016 | B17: =B5 -> 4 | C17: 30 | D17: =C17/365 -> 0.082191781 | E17: ='2.Actual Wthr'!E53 -> 306.45 | F17: =F16+E17 -> 4800.45 | G17: =$F$13 -> 3032.5 | H17: =E17/G17 -> 0.10105523 | I17: ='2.Actual Wthr'!G53 -> 0 | J17: =J16+I17 -> 348.7 | K17: =$J$13 -> 348.7 | L17: =I17/K17 -> 0
A18: =A6+1 -> 2016 | B18: =B6 -> 5 | C18: 31 | D18: =C18/365 -> 0.084931507 | E18: ='2.Actual Wthr'!E54 -> 83.8 | F18: =F17+E18 -> 4884.25 | G18: =$F$13 -> 3032.5 | H18: =E18/G18 -> 0.027633965 | I18: ='2.Actual Wthr'!G54 -> 36.8 | J18: =J17+I18 -> 385.5 | K18: =$J$13 -> 348.7 | L18: =I18/K18 -> 0.10553484
A19: =A7+1 -> 2016 | B19: =B7 -> 6 | C19: 30 | D19: =C19/365 -> 0.082191781 | E19: ='2.Actual Wthr'!E55 -> 4.95 | F19: =F18+E19 -> 4889.2 | G19: =$F$13 -> 3032.5 | H19: =E19/G19 -> 0.0016323166 | I19: ='2.Actual Wthr'!G55 -> 83.25 | J19: =J18+I19 -> 468.75 | K19: =$J$13 -> 348.7 | L19: =I19/K19 -> 0.23874391
A20: =A8+1 -> 2016 | B20: =B8 -> 7 | C20: 31 | D20: =C20/365 -> 0.084931507 | E20: ='2.Actual Wthr'!E56 -> 0 | F20: =F19+E20 -> 4889.2 | G20: =$F$13 -> 3032.5 | H20: =E20/G20 -> 0 | I20: ='2.Actual Wthr'!G56 -> 176.15 | J20: =J19+I20 -> 644.9 | K20: =$J$13 -> 348.7 | L20: =I20/K20 -> 0.50516203
A21: =A9+1 -> 2016 | B21: =B9 -> 8 | C21: 31 | D21: =C21/365 -> 0.084931507 | E21: ='2.Actual Wthr'!E57 -> 0 | F21: =F20+E21 -> 4889.2 | G21: =$F$13 -> 3032.5 | H21: =E21/G21 -> 0 | I21: ='2.Actual Wthr'!G57 -> 194.45 | J21: =J20+I21 -> 839.35 | K21: =$J$13 -> 348.7 | L21: =I21/K21 -> 0.55764267
A22: =A10+1 -> 2016 | B22: =B10 -> 9 | C22: 30 | D22: =C22/365 -> 0.082191781 | E22: ='2.Actual Wthr'!E58 -> 3.55 | F22: =F21+E22 -> 4892.75 | G22: =$F$13 -> 3032.5 | H22: =E22/G22 -> 0.0011706513 | I22: ='2.Actual Wthr'!G58 -> 69.05 | J22: =J21+I22 -> 908.4 | K22: =$J$13 -> 348.7 | L22: =I22/K22 -> 0.19802122
A23: =A11+1 -> 2016 | B23: =B11 -> 10 | C23: 31 | D23: =C23/365 -> 0.084931507 | E23: ='2.Actual Wthr'!E59 -> 125.1 | F23: =F22+E23 -> 5017.85 | G23: =$F$13 -> 3032.5 | H23: =E23/G23 -> 0.041253092 | I23: ='2.Actual Wthr'!G59 -> 3.95 | J23: =J22+I23 -> 912.35 | K23: =$J$13 -> 348.7 | L23: =I23/K23 -> 0.011327789
A24: =A12+1 -> 2016 | B24: =B12 -> 11 | C24: 30 | D24: =C24/365 -> 0.082191781 | E24: ='2.Actual Wthr'!E60 -> 248.3 | F24: =F23+E24 -> 5266.15 | G24: =$F$13 -> 3032.5 | H24: =E24/G24 -> 0.081879637 | I24: ='2.Actual Wthr'!G60 -> 0 | J24: =J23+I24 -> 912.35 | K24: =$J$13 -> 348.7 | L24: =I24/K24 -> 0
A25: =A13+1 -> 2016 | B25: =B13 -> 12 | C25: 31 | D25: =C25/365 -> 0.084931507 | E25: ='2.Actual Wthr'!E61 -> 514.7 | F25: =F24+E25 -> 5780.85 | G25: =$F$13 -> 3032.5 | H25: =E25/G25 -> 0.16972795 | I25: ='2.Actual Wthr'!G61 -> 0 | J25: =J24+I25 -> 912.35 | K25: =$J$13 -> 348.7 | L25: =I25/K25 -> 0
... A133: =A121+1 -> 2025 | B133: =B121 -> 12 | C133: 31 | D133: =C133/365 -> 0.084931507 | E133: ='2.Actual Wthr'!E169 -> 571.6 | F133: =F132+E133 -> 30947.975 | G133: =$F$13 -> 3032.5 | H133: =E133/G133 -> 0.18849134 | I133: ='2.Actual Wthr'!G169 -> 0 | J133: =J132+I133 -> 4691.7 | K133: =$J$13 -> 348.7 | L133: =I133/K133 -> 0
A134: =A122+1 -> 2026 | B134: =B122 -> 1 | C134: 31 | D134: =C134/365 -> 0.084931507 | E134: ='3. Normal Wthr'!D14 -> 584.345 | F134: =F133+E134 -> 31532.32 | G134: =$F$13 -> 3032.5 | H134: =E134/G134 -> 0.19269415 | I134: ='3. Normal Wthr'!F14 -> 0 | J134: =J133+I134 -> 4691.7 | K134: =$J$13 -> 348.7 | L134: =I134/K134 -> 0
A135: =A123+1 -> 2026 | B135: =B123 -> 2 | C135: 28 | D135: =C135/365 -> 0.076712329 | E135: ='3. Normal Wthr'!D15 -> 496.215 | F135: =F134+E135 -> 32028.535 | G135: =$F$13 -> 3032.5 | H135: =E135/G135 -> 0.16363232 | I135: ='3. Normal Wthr'!F15 -> 0 | J135: =J134+I135 -> 4691.7 | K135: =$J$13 -> 348.7 | L135: =I135/K135 -> 0
A136: =A124+1 -> 2026 | B136: =B124 -> 3 | C136: 31 | D136: =C136/365 -> 0.084931507 | E136: ='3. Normal Wthr'!D16 -> 417.4 | F136: =F135+E136 -> 32445.935 | G136: =$F$13 -> 3032.5 | H136: =E136/G136 -> 0.13764221 | I136: ='3. Normal Wthr'!F16 -> 0 | J136: =J135+I136 -> 4691.7 | K136: =$J$13 -> 348.7 | L136: =I136/K136 -> 0
A137: =A125+1 -> 2026 | B137: =B125 -> 4 | C137: 30 | D137: =C137/365 -> 0.082191781 | E137: ='3. Normal Wthr'!D17 -> 245.155 | F137: =F136+E137 -> 32691.09 | G137: =$F$13 -> 3032.5 | H137: =E137/G137 -> 0.080842539 | I137: ='3. Normal Wthr'!F17 -> 0.705 | J137: =J136+I137 -> 4692.405 | K137: =$J$13 -> 348.7 | L137: =I137/K137 -> 0.0020217952
A138: =A126+1 -> 2026 | B138: =B126 -> 5 | C138: 31 | D138: =C138/365 -> 0.084931507 | E138: ='3. Normal Wthr'!D18 -> 79.7275 | F138: =F137+E138 -> 32770.818 | G138: =$F$13 -> 3032.5 | H138: =E138/G138 -> 0.026291014 | I138: ='3. Normal Wthr'!F18 -> 21.53 | J138: =J137+I138 -> 4713.935 | K138: =$J$13 -> 348.7 | L138: =I138/K138 -> 0.061743619
A139: =A127+1 -> 2026 | B139: =B127 -> 6 | C139: 30 | D139: =C139/365 -> 0.082191781 | E139: ='3. Normal Wthr'!D19 -> 3.345 | F139: =F138+E139 -> 32774.163 | G139: =$F$13 -> 3032.5 | H139: =E139/G139 -> 0.0011030503 | I139: ='3. Normal Wthr'!F19 -> 77.26 | J139: =J138+I139 -> 4791.195 | K139: =$J$13 -> 348.7 | L139: =I139/K139 -> 0.22156582
A140: =A128+1 -> 2026 | B140: =B128 -> 7 | C140: 31 | D140: =C140/365 -> 0.084931507 | E140: ='3. Normal Wthr'!D20 -> 0 | F140: =F139+E140 -> 32774.163 | G140: =$F$13 -> 3032.5 | H140: =E140/G140 -> 0 | I140: ='3. Normal Wthr'!F20 -> 153.97 | J140: =J139+I140 -> 4945.165 | K140: =$J$13 -> 348.7 | L140: =I140/K140 -> 0.44155434
A141: =A129+1 -> 2026 | B141: =B129 -> 8 | C141: 31 | D141: =C141/365 -> 0.084931507 | E141: ='3. Normal Wthr'!D21 -> 0.215 | F141: =F140+E141 -> 32774.378 | G141: =$F$13 -> 3032.5 | H141: =E141/G141 -> 7.0898599e-05 | I141: ='3. Normal Wthr'!F21 -> 126.72 | J141: =J140+I141 -> 5071.885 | K141: =$J$13 -> 348.7 | L141: =I141/K141 -> 0.36340694
A142: =A130+1 -> 2026 | B142: =B130 -> 9 | C142: 30 | D142: =C142/365 -> 0.082191781 | E142: ='3. Normal Wthr'!D22 -> 10.775 | F142: =F141+E142 -> 32785.153 | G142: =$F$13 -> 3032.5 | H142: =E142/G142 -> 0.0035531739 | I142: ='3. Normal Wthr'!F22 -> 47.34 | J142: =J141+I142 -> 5119.225 | K142: =$J$13 -> 348.7 | L142: =I142/K142 -> 0.1357614
A143: =A131+1 -> 2026 | B143: =B131 -> 10 | C143: 31 | D143: =C143/365 -> 0.084931507 | E143: ='3. Normal Wthr'!D23 -> 134.645 | F143: =F142+E143 -> 32919.798 | G143: =$F$13 -> 3032.5 | H143: =E143/G143 -> 0.04440066 | I143: ='3. Normal Wthr'!F23 -> 6.515 | J143: =J142+I143 -> 5125.74 | K143: =$J$13 -> 348.7 | L143: =I143/K143 -> 0.018683682
A144: =A132+1 -> 2026 | B144: =B132 -> 11 | C144: 30 | D144: =C144/365 -> 0.082191781 | E144: ='3. Normal Wthr'!D24 -> 322.54 | F144: =F143+E144 -> 33242.338 | G144: =$F$13 -> 3032.5 | H144: =E144/G144 -> 0.10636109 | I144: ='3. Normal Wthr'!F24 -> 0.26 | J144: =J143+I144 -> 5126 | K144: =$J$13 -> 348.7 | L144: =I144/K144 -> 0.00074562661
A145: =A133+1 -> 2026 | B145: =B133 -> 12 | C145: 31 | D145: =C145/365 -> 0.084931507 | E145: ='3. Normal Wthr'!D25 -> 491.465 | F145: =F144+E145 -> 33733.803 | G145: =$F$13 -> 3032.5 | H145: =E145/G145 -> 0.16206595 | I145: ='3. Normal Wthr'!F25 -> 0 | J145: =J144+I145 -> 5126 | K145: =$J$13 -> 348.7 | L145: =I145/K145 -> 0
... A313: =A301+1 -> 2040 | B313: =B301 -> 12 | C313: 31 | D313: =C313/365 -> 0.084931507 | E313: ='3. Normal Wthr'!D193 -> 491.465 | F313: =F312+E313 -> 72811.654 | G313: =$F$13 -> 3032.5 | H313: =E313/G313 -> 0.16206595 | I313: ='3. Normal Wthr'!F193 -> 0 | J313: =J312+I313 -> 11206.2 | K313: =$J$13 -> 348.7 | L313: =I313/K313 -> 0

Sheet 8. Model Variables
A1: Year | B1: Month | C1: XHeat | D1: XCool | E1: OtherUse | F1: XOther
A2: 2017 | B2: 1 | C2: =('6.Econ Transform'!M2)*'7.Wthr Transform'!H26*_xlfn.XLOOKUP('8. Model Variables'!A2,'4.Annual SAE Indices'!$A$2:$A$23,'4.Annual SAE Indices'!$B$2:$B$23) -> 33159.356 | D2: =('6.Econ Transform'!M2)*'7.Wthr Transform'!L26*_xlfn.XLOOKUP('8. Model Variables'!$A2,'4.Annual SAE Indices'!$A$2:$A$23,'4.Annual SAE Indices'!$C$2:$C$23) -> 0 | E2: ='6.Econ Transform'!M2*'7.Wthr Transform'!D26 -> 0.08824231 | F2: =E2*_xlfn.XLOOKUP('8. Model Variables'!$A2,'4.Annual SAE Indices'!$A$2:$A$23,'4.Annual SAE Indices'!$K$2:$K$23) -> 91735.806
A3: 2017 | B3: 2 | C3: =('6.Econ Transform'!M3)*'7.Wthr Transform'!H27*_xlfn.XLOOKUP('8. Model Variables'!A3,'4.Annual SAE Indices'!$A$2:$A$23,'4.Annual SAE Indices'!$B$2:$B$23) -> 27534.483 | D3: =('6.Econ Transform'!M3)*'7.Wthr Transform'!L27*_xlfn.XLOOKUP('8. Model Variables'!$A3,'4.Annual SAE Indices'!$A$2:$A$23,'4.Annual SAE Indices'!$C$2:$C$23) -> 0 | E3: ='6.Econ Transform'!M3*'7.Wthr Transform'!D27 -> 0.080083546 | F3: =E3*_xlfn.XLOOKUP('8. Model Variables'!$A3,'4.Annual SAE Indices'!$A$2:$A$23,'4.Annual SAE Indices'!$K$2:$K$23) -> 83254.038
A4: 2017 | B4: 3 | C4: =('6.Econ Transform'!M4)*'7.Wthr Transform'!H28*_xlfn.XLOOKUP('8. Model Variables'!A4,'4.Annual SAE Indices'!$A$2:$A$23,'4.Annual SAE Indices'!$B$2:$B$23) -> 31172.338 | D4: =('6.Econ Transform'!M4)*'7.Wthr Transform'!L28*_xlfn.XLOOKUP('8. Model Variables'!$A4,'4.Annual SAE Indices'!$A$2:$A$23,'4.Annual SAE Indices'!$C$2:$C$23) -> 0 | E4: ='6.Econ Transform'!M4*'7.Wthr Transform'!D28 -> 0.088964239 | F4: =E4*_xlfn.XLOOKUP('8. Model Variables'!$A4,'4.Annual SAE Indices'!$A$2:$A$23,'4.Annual SAE Indices'!$K$2:$K$23) -> 92486.316
A5: 2017 | B5: 4 | C5: =('6.Econ Transform'!M5)*'7.Wthr Transform'!H29*_xlfn.XLOOKUP('8. Model Variables'!A5,'4.Annual SAE Indices'!$A$2:$A$23,'4.Annual SAE Indices'!$B$2:$B$23) -> 11274.356 | D5: =('6.Econ Transform'!M5)*'7.Wthr Transform'!L29*_xlfn.XLOOKUP('8. Model Variables'!$A5,'4.Annual SAE Indices'!$A$2:$A$23,'4.Annual SAE Indices'!$C$2:$C$23) -> 0 | E5: ='6.Econ Transform'!M5*'7.Wthr Transform'!D29 -> 0.086385033 | F5: =E5*_xlfn.XLOOKUP('8. Model Variables'!$A5,'4.Annual SAE Indices'!$A$2:$A$23,'4.Annual SAE Indices'!$K$2:$K$23) -> 89805
A6: 2017 | B6: 5 | C6: =('6.Econ Transform'!M6)*'7.Wthr Transform'!H30*_xlfn.XLOOKUP('8. Model Variables'!A6,'4.Annual SAE Indices'!$A$2:$A$23,'4.Annual SAE Indices'!$B$2:$B$23) -> 6788.0213 | D6: =('6.Econ Transform'!M6)*'7.Wthr Transform'!L30*_xlfn.XLOOKUP('8. Model Variables'!$A6,'4.Annual SAE Indices'!$A$2:$A$23,'4.Annual SAE Indices'!$C$2:$C$23) -> 8038.2734 | E6: ='6.Econ Transform'!M6*'7.Wthr Transform'!D30 -> 0.089564811 | F6: =E6*_xlfn.XLOOKUP('8. Model Variables'!$A6,'4.Annual SAE Indices'!$A$2:$A$23,'4.Annual SAE Indices'!$K$2:$K$23) -> 93110.664
A7: 2017 | B7: 6 | C7: =('6.Econ Transform'!M7)*'7.Wthr Transform'!H31*_xlfn.XLOOKUP('8. Model Variables'!A7,'4.Annual SAE Indices'!$A$2:$A$23,'4.Annual SAE Indices'!$B$2:$B$23) -> 254.78098 | D7: =('6.Econ Transform'!M7)*'7.Wthr Transform'!L31*_xlfn.XLOOKUP('8. Model Variables'!$A7,'4.Annual SAE Indices'!$A$2:$A$23,'4.Annual SAE Indices'!$C$2:$C$23) -> 61229.784 | E7: ='6.Econ Transform'!M7*'7.Wthr Transform'!D31 -> 0.086795711 | F7: =E7*_xlfn.XLOOKUP('8. Model Variables'!$A7,'4.Annual SAE Indices'!$A$2:$A$23,'4.Annual SAE Indices'!$K$2:$K$23) -> 90231.936
A8: 2017 | B8: 7 | C8: =('6.Econ Transform'!M8)*'7.Wthr Transform'!H32*_xlfn.XLOOKUP('8. Model Variables'!A8,'4.Annual SAE Indices'!$A$2:$A$23,'4.Annual SAE Indices'!$B$2:$B$23) -> 0 | D8: =('6.Econ Transform'!M8)*'7.Wthr Transform'!L32*_xlfn.XLOOKUP('8. Model Variables'!$A8,'4.Annual SAE Indices'!$A$2:$A$23,'4.Annual SAE Indices'!$C$2:$C$23) -> 104877.62 | E8: ='6.Econ Transform'!M8*'7.Wthr Transform'!D32 -> 0.089812943 | F8: =E8*_xlfn.XLOOKUP('8. Model Variables'!$A8,'4.Annual SAE Indices'!$A$2:$A$23,'4.Annual SAE Indices'!$K$2:$K$23) -> 93368.62
A9: 2017 | B9: 8 | C9: =('6.Econ Transform'!M9)*'7.Wthr Transform'!H33*_xlfn.XLOOKUP('8. Model Variables'!A9,'4.Annual SAE Indices'!$A$2:$A$23,'4.Annual SAE Indices'!$B$2:$B$23) -> 32.754562 | D9: =('6.Econ Transform'!M9)*'7.Wthr Transform'!L33*_xlfn.XLOOKUP('8. Model Variables'!$A9,'4.Annual SAE Indices'!$A$2:$A$23,'4.Annual SAE Indices'!$C$2:$C$23) -> 67656.928 | E9: ='6.Econ Transform'!M9*'7.Wthr Transform'!D33 -> 0.089936937 | F9: =E9*_xlfn.XLOOKUP('8. Model Variables'!$A9,'4.Annual SAE Indices'!$A$2:$A$23,'4.Annual SAE Indices'!$K$2:$K$23) -> 93497.523
A10: 2017 | B10: 9 | C10: =('6.Econ Transform'!M10)*'7.Wthr Transform'!H34*_xlfn.XLOOKUP('8. Model Variables'!A10,'4.Annual SAE Indices'!$A$2:$A$23,'4.Annual SAE Indices'!$B$2:$B$23) -> 1049.2944 | D10: =('6.Econ Transform'!M10)*'7.Wthr Transform'!L34*_xlfn.XLOOKUP('8. Model Variables'!$A10,'4.Annual SAE Indices'!$A$2:$A$23,'4.Annual SAE Indices'!$C$2:$C$23) -> 64755.69 | E10: ='6.Econ Transform'!M10*'7.Wthr Transform'!D34 -> 0.087404248 | F10: =E10*_xlfn.XLOOKUP('8. Model Variables'!$A10,'4.Annual SAE Indices'!$A$2:$A$23,'4.Annual SAE Indices'!$K$2:$K$23) -> 90864.565
A11: 2017 | B11: 10 | C11: =('6.Econ Transform'!M11)*'7.Wthr Transform'!H35*_xlfn.XLOOKUP('8. Model Variables'!A11,'4.Annual SAE Indices'!$A$2:$A$23,'4.Annual SAE Indices'!$B$2:$B$23) -> 5641.8491 | D11: =('6.Econ Transform'!M11)*'7.Wthr Transform'!L35*_xlfn.XLOOKUP('8. Model Variables'!$A11,'4.Annual SAE Indices'!$A$2:$A$23,'4.Annual SAE Indices'!$C$2:$C$23) -> 7271.138 | E11: ='6.Econ Transform'!M11*'7.Wthr Transform'!D35 -> 0.090698458 | F11: =E11*_xlfn.XLOOKUP('8. Model Variables'!$A11,'4.Annual SAE Indices'!$A$2:$A$23,'4.Annual SAE Indices'!$K$2:$K$23) -> 94289.192
A12: 2017 | B12: 11 | C12: =('6.Econ Transform'!M12)*'7.Wthr Transform'!H36*_xlfn.XLOOKUP('8. Model Variables'!A12,'4.Annual SAE Indices'!$A$2:$A$23,'4.Annual SAE Indices'!$B$2:$B$23) -> 22536.07 | D12: =('6.Econ Transform'!M12)*'7.Wthr Transform'!L36*_xlfn.XLOOKUP('8. Model Variables'!$A12,'4.Annual SAE Indices'!$A$2:$A$23,'4.Annual SAE Indices'!$C$2:$C$23) -> 0 | E12: ='6.Econ Transform'!M12*'7.Wthr Transform'!D36 -> 0.088141107 | F12: =E12*_xlfn.XLOOKUP('8. Model Variables'!$A12,'4.Annual SAE Indices'!$A$2:$A$23,'4.Annual SAE Indices'!$K$2:$K$23) -> 91630.596
A13: 2017 | B13: 12 | C13: =('6.Econ Transform'!M13)*'7.Wthr Transform'!H37*_xlfn.XLOOKUP('8. Model Variables'!A13,'4.Annual SAE Indices'!$A$2:$A$23,'4.Annual SAE Indices'!$B$2:$B$23) -> 41540.857 | D13: =('6.Econ Transform'!M13)*'7.Wthr Transform'!L37*_xlfn.XLOOKUP('8. Model Variables'!$A13,'4.Annual SAE Indices'!$A$2:$A$23,'4.Annual SAE Indices'!$C$2:$C$23) -> 0 | E13: ='6.Econ Transform'!M13*'7.Wthr Transform'!D37 -> 0.091278971 | F13: =E13*_xlfn.XLOOKUP('8. Model Variables'!$A13,'4.Annual SAE Indices'!$A$2:$A$23,'4.Annual SAE Indices'!$K$2:$K$23) -> 94892.688
A14: =A2+1 -> 2018 | B14: =B2 -> 1 | C14: =('6.Econ Transform'!M14)*'7.Wthr Transform'!H38*_xlfn.XLOOKUP('8. Model Variables'!A14,'4.Annual SAE Indices'!$A$2:$A$23,'4.Annual SAE Indices'!$B$2:$B$23) -> 42091.12 | D14: =('6.Econ Transform'!M14)*'7.Wthr Transform'!L38*_xlfn.XLOOKUP('8. Model Variables'!$A14,'4.Annual SAE Indices'!$A$2:$A$23,'4.Annual SAE Indices'!$C$2:$C$23) -> 0 | E14: ='6.Econ Transform'!M14*'7.Wthr Transform'!D38 -> 0.091478653 | F14: =E14*_xlfn.XLOOKUP('8. Model Variables'!$A14,'4.Annual SAE Indices'!$A$2:$A$23,'4.Annual SAE Indices'!$K$2:$K$23) -> 93456.638
A15: =A3+1 -> 2018 | B15: =B3 -> 2 | C15: =('6.Econ Transform'!M15)*'7.Wthr Transform'!H39*_xlfn.XLOOKUP('8. Model Variables'!A15,'4.Annual SAE Indices'!$A$2:$A$23,'4.Annual SAE Indices'!$B$2:$B$23) -> 31077.817 | D15: =('6.Econ Transform'!M15)*'7.Wthr Transform'!L39*_xlfn.XLOOKUP('8. Model Variables'!$A15,'4.Annual SAE Indices'!$A$2:$A$23,'4.Annual SAE Indices'!$C$2:$C$23) -> 0 | E15: ='6.Econ Transform'!M15*'7.Wthr Transform'!D39 -> 0.082806107 | F15: =E15*_xlfn.XLOOKUP('8. Model Variables'!$A15,'4.Annual SAE Indices'!$A$2:$A$23,'4.Annual SAE Indices'!$K$2:$K$23) -> 84596.571
A16: =A4+1 -> 2018 | B16: =B4 -> 3 | C16: =('6.Econ Transform'!M16)*'7.Wthr Transform'!H40*_xlfn.XLOOKUP('8. Model Variables'!A16,'4.Annual SAE Indices'!$A$2:$A$23,'4.Annual SAE Indices'!$B$2:$B$23) -> 30414.881 | D16: =('6.Econ Transform'!M16)*'7.Wthr Transform'!L40*_xlfn.XLOOKUP('8. Model Variables'!$A16,'4.Annual SAE Indices'!$A$2:$A$23,'4.Annual SAE Indices'!$C$2:$C$23) -> 0 | E16: ='6.Econ Transform'!M16*'7.Wthr Transform'!D40 -> 0.09166945 | F16: =E16*_xlfn.XLOOKUP('8. Model Variables'!$A16,'4.Annual SAE Indices'!$A$2:$A$23,'4.Annual SAE Indices'!$K$2:$K$23) -> 93651.56
A17: =A5+1 -> 2018 | B17: =B5 -> 4 | C17: =('6.Econ Transform'!M17)*'7.Wthr Transform'!H41*_xlfn.XLOOKUP('8. Model Variables'!A17,'4.Annual SAE Indices'!$A$2:$A$23,'4.Annual SAE Indices'!$B$2:$B$23) -> 22935.152 | D17: =('6.Econ Transform'!M17)*'7.Wthr Transform'!L41*_xlfn.XLOOKUP('8. Model Variables'!$A17,'4.Annual SAE Indices'!$A$2:$A$23,'4.Annual SAE Indices'!$C$2:$C$23) -> 0 | E17: ='6.Econ Transform'!M17*'7.Wthr Transform'!D41 -> 0.088703751 | F17: =E17*_xlfn.XLOOKUP('8. Model Variables'!$A17,'4.Annual SAE Indices'!$A$2:$A$23,'4.Annual SAE Indices'!$K$2:$K$23) -> 90621.736
A18: =A6+1 -> 2018 | B18: =B6 -> 5 | C18: =('6.Econ Transform'!M18)*'7.Wthr Transform'!H42*_xlfn.XLOOKUP('8. Model Variables'!A18,'4.Annual SAE Indices'!$A$2:$A$23,'4.Annual SAE Indices'!$B$2:$B$23) -> 1735.3899 | D18: =('6.Econ Transform'!M18)*'7.Wthr Transform'!L42*_xlfn.XLOOKUP('8. Model Variables'!$A18,'4.Annual SAE Indices'!$A$2:$A$23,'4.Annual SAE Indices'!$C$2:$C$23) -> 39942.46 | E18: ='6.Econ Transform'!M18*'7.Wthr Transform'!D42 -> 0.091651468 | F18: =E18*_xlfn.XLOOKUP('8. Model Variables'!$A18,'4.Annual SAE Indices'!$A$2:$A$23,'4.Annual SAE Indices'!$K$2:$K$23) -> 93633.19
A19: =A7+1 -> 2018 | B19: =B7 -> 6 | C19: =('6.Econ Transform'!M19)*'7.Wthr Transform'!H43*_xlfn.XLOOKUP('8. Model Variables'!A19,'4.Annual SAE Indices'!$A$2:$A$23,'4.Annual SAE Indices'!$B$2:$B$23) -> 244.26875 | D19: =('6.Econ Transform'!M19)*'7.Wthr Transform'!L43*_xlfn.XLOOKUP('8. Model Variables'!$A19,'4.Annual SAE Indices'!$A$2:$A$23,'4.Annual SAE Indices'!$C$2:$C$23) -> 55568.684 | E19: ='6.Econ Transform'!M19*'7.Wthr Transform'!D43 -> 0.088740903 | F19: =E19*_xlfn.XLOOKUP('8. Model Variables'!$A19,'4.Annual SAE Indices'!$A$2:$A$23,'4.Annual SAE Indices'!$K$2:$K$23) -> 90659.691
