Workbook
Name \0: #REF!
Name \A: #REF!
Name \b: #REF!
Name \M: #REF!
Name \P: #REF!
Name \S: #REF!
Name \Z: #REF!
Name ___________N4: #REF!
Name ___________N6: #REF!
Name ________HUB1: #REF!
Name ________HUB2: #REF!
Name ________HUB3: #REF!
Name ________HUB4: #REF!
Name _______ACT995: #REF!
Name _______HUB1: #REF!
Name _______HUB2: #REF!
Name _______HUB3: #REF!
Name _______HUB4: #REF!
Name _______N4: #REF!
Name _______N6: #REF!
Name _______SUM1: #N/A
Name _______SUM2: #REF!
Name _______SUM3: #REF!
Name ______ACT995: #REF!
Name ______all1: #REF!
Name ______cat2: #REF!
Name ______FED07: #REF!
Name ______FED09: #REF!
Name ______FED10: #REF!
Name ______FED11: #REF!
Name ______HUB1: #REF!
Name ______HUB2: #REF!
Name ______HUB3: #REF!
Name ______HUB4: #REF!
Name ______map1: #REF!
Name ______map2: #REF!
Name ______ONT07: #REF!
Name ______ONT10: #REF!
Name ______SUM1: #N/A
Name ______SUM2: #REF!
Name ______SUM3: #REF!
Name ______yo11121: #REF!
Name _____ACT995: #REF!
Name _____all1: #REF!
Name _____cat2: #REF!
Name _____FED06: #REF!
Name _____FED07: #REF!
Name _____FED08: #REF!
Name _____FED09: #REF!
Name _____FED10: #REF!
Name _____FED11: #REF!
Name _____HUB1: #REF!
Name _____HUB2: #REF!
Name _____HUB3: #REF!
Name _____HUB4: #REF!
Name _____map1: #REF!
Name _____map2: #REF!
Name _____N4: #REF!
Name _____N6: #REF!
Name _____ONT06: #REF!

Sheet Summary
A1: Alectra Utilities Corporation
A2: EB-2025-0252
A3: Interrogatory Responses
A4: JT-1.1.8_2_Staff-282; 2-Staff-146
A5: Part c) Table
A10: ($M) | B10: Depreciation Expenses ( 2027-2031) | C10: PILs Impact ( 2027-2031) | D10: Revenue Requirement (2027-2031) | E10: Opening 2027 Rate Base
A11: Standard depreciation – (a) | B11: ='Depreciation Impact'!G10/1000000 -> 30.293826 | C11: ='PILs Impact'!H10/1000000 -> 153.41432 | D11: ='Revenue Requirements'!G10/1000000 -> 4593.8054 | E11: ='Rate Base'!B20/1000000 -> 4354.6657
A12: Accelerated depreciation – (b) | B12: ='Depreciation Impact'!G11/1000000 -> 55.331844 | C12: ='PILs Impact'!H11/1000000 -> 161.41565 | D12: ='Revenue Requirements'!G9/1000000 -> 4620.6691 | E12: ='Rate Base'!B51/1000000 -> 4354.6657
A13: Variance (a-b) | B13: =B11-B12 -> -25.038018 | C13: =C11-C12 -> -8.0013229 | D13: =D11-D12 -> -26.863641 | E13: =E11-E12 -> 0

Sheet Revenue Requirements
A1: Alectra Utilities Corporation
A2: EB-2025-0252
A3: Interrogatory Responses
A4: JT-1.1.8_2_Staff-282; 2-Staff-146
A5: Revenue Requirements
B8: 2027 | C8: 2028 | D8: 2029 | E8: 2030 | F8: 2031 | G8: 2027 - 2031
A9: Base Revenue Requirement (as filed 1-Staff-1) | B9: 8.1363745e+08 | C9: 8.7235856e+08 | D9: 9.2056714e+08 | E9: 9.7985931e+08 | F9: 1.0342466e+09 | G9: =SUM(B9:F9) -> 4.6206691e+09
A10: Base Revenue Requirement (adjusted to remove accelerated depreciation) | B10: =B24 -> 8.0310761e+08 | C10: =C24 -> 8.6288097e+08 | D10: =D24 -> 9.1583674e+08 | E10: =E24 -> 9.7746065e+08 | F10: =F24 -> 1.0345195e+09 | G10: =SUM(B10:F10) -> 4.5938054e+09
A11: Change | B11: =B9-B10 -> 10529844 | C11: =C9-C10 -> 9477581.4 | D11: =D9-D10 -> 4730395.9 | E11: =E9-E10 -> 2398666.8 | F11: =F9-F10 -> -272846.62 | G11: =G9-G10 -> 26863641
A14: Base Revenue Requirement (adjusted to remove accelerated depreciation) | B14: 2027 | C14: 2028 | D14: 2029 | E14: 2030 | F14: 2031
A15: Rate Base | B15: ='Rate Base'!C51 -> 4.5345962e+09 | C15: ='Rate Base'!D51 -> 4.8143711e+09 | D15: ='Rate Base'!E51 -> 5.1436146e+09 | E15: ='Rate Base'!F51 -> 5.5349324e+09 | F15: ='Rate Base'!G51 -> 5.9343252e+09
A16: x Cost of Capital | B16: 0.061028604 | C16: 0.061896437 | D16: 0.061993399 | E16: 0.062054412 | F16: 0.062847093
A17: Return on Rate Base | B17: =B15*B16 -> 2.7674008e+08 | C17: =C15*C16 -> 2.9799241e+08 | D17: =D15*D16 -> 3.1887016e+08 | E17: =E15*E16 -> 3.4346697e+08 | F17: =F15*F16 -> 3.7295508e+08
A18: OM&A Expenses (excludes Property Taxes) | B18: 3.4548276e+08 | C18: 3.618744e+08 | D18: 3.778309e+08 | E18: 3.9202056e+08 | F18: 4.0280324e+08
A19: Depreciation | B19: ='Depreciation Impact'!B13 -> 1.8642532e+08 | C19: ='Depreciation Impact'!C13 -> 1.9226614e+08 | D19: ='Depreciation Impact'!D13 -> 2.1110779e+08 | E19: ='Depreciation Impact'!E13 -> 2.30634e+08 | F19: ='Depreciation Impact'!F13 -> 2.4254171e+08
A20: Property Taxes | B20: 6940137.6 | C20: 7796639.2 | D20: 8625907.3 | E20: 8807725.6 | F20: 8982169.8
A21: Payment in Lieu of Taxes | B21: ='PILs Impact'!C10 -> 19469060 | C21: ='PILs Impact'!D10 -> 35369613 | D21: ='PILs Impact'!E10 -> 28442153 | E21: ='PILs Impact'!F10 -> 32321381 | F21: ='PILs Impact'!G10 -> 37812116
A22: Service Revenue Requirement | B22: =SUM(B17:B21) -> 8.3505736e+08 | C22: =SUM(C17:C21) -> 8.9529921e+08 | D22: =SUM(D17:D21) -> 9.448769e+08 | E22: =SUM(E17:E21) -> 1.0072506e+09 | F22: =SUM(F17:F21) -> 1.0650943e+09
A23: Less: Revenue Offsets | B23: -31949746 | C23: -32418238 | D23: -29040163 | E23: -29790002 | F23: -30574859
A24: Base Revenue Requirement | B24: =B22+B23 -> 8.0310761e+08 | C24: =C22+C23 -> 8.6288097e+08 | D24: =D22+D23 -> 9.1583674e+08 | E24: =E22+E23 -> 9.7746065e+08 | F24: =F22+F23 -> 1.0345195e+09
A28: Changes: | B28: 2027 | C28: 2028 | D28: 2029 | E28: 2030 | F28: 2031
A29: Rate Base | B29: ='Rate Base'!C36 -> 3977908.7 | C29: ='Rate Base'!D36 -> 11762496 | D29: ='Rate Base'!E36 -> 17797976 | E29: ='Rate Base'!F36 -> 21501182 | F29: ='Rate Base'!G36 -> 24006802
A30: Return on Rate Base | B30: =B29*B16 -> 242766.22 | C30: =C29*C16 -> 728056.62 | D30: =D29*D16 -> 1103357 | E30: =E29*E16 -> 1334243.2 | F30: =F29*F16 -> 1508757.7
A31: Distribution Expenses (not including Depreciation) | B31: 0 | C31: 0 | D31: 0 | E31: 0 | F31: 0
A32: Depreciation | B32: ='Depreciation Impact'!B12 -> -7955817.4 | C32: ='Depreciation Impact'!C12 -> -7613358.1 | D32: ='Depreciation Impact'!D12 -> -4457601.1 | E32: ='Depreciation Impact'!E12 -> -2948810.1 | F32: ='Depreciation Impact'!F12 -> -2062430.9
A33: Property Taxes | B33: 0 | C33: 0 | D33: 0 | E33: 0 | F33: 0
A34: Payment in Lieu of Taxes | B34: ='PILs Impact'!C12 -> -2816792.3 | C34: ='PILs Impact'!D12 -> -2592279.8 | D34: ='PILs Impact'!E12 -> -1376151.8 | E34: ='PILs Impact'!F12 -> -784099.87 | F34: ='PILs Impact'!G12 -> -431999.05
A35: Service Revenue Requirement | B35: =SUM(B30:B34) -> -10529844 | C35: =SUM(C30:C34) -> -9477581.4 | D35: =SUM(D30:D34) -> -4730395.9 | E35: =SUM(E30:E34) -> -2398666.8 | F35: =SUM(F30:F34) -> -985672.24
A36: LESS: Revenue Offsets | B36: 0 | C36: 0 | D36: 0 | E36: 0 | F36: 0
A37: Base Revenue Requirement | B37: =B35+B36 -> -10529844 | C37: =C35+C36 -> -9477581.4 | D37: =D35+D36 -> -4730395.9 | E37: =E35+E36 -> -2398666.8 | F37: =F35+F36 -> -985672.24

Sheet Rate Base
A1: Alectra Utilities Corporation
A2: EB-2025-0252
A3: Interrogatory Responses
A4: JT-1.1.8_2_Staff-282; 2-Staff-146
A5: Rate Base Impact
A8: Rate Base (as filed 1-Staff-1) | B8: Bridge Year | C8: Test Years
B9: 2026 | C9: 2027 | D9: 2028 | E9: 2029 | F9: 2030 | G9: 2031
A10: Opening Gross Assets | B10: 5.2445551e+09 | C10: =B11 -> 5.5923488e+09 | D10: =C11 -> 6.0307841e+09 | E10: =D11 -> 6.4982219e+09 | F10: =E11 -> 7.0699428e+09 | G10: =F11 -> 7.6920181e+09
A11: Closing Gross Assets | B11: 5.5923488e+09 | C11: 6.0307841e+09 | D11: 6.4982219e+09 | E11: 7.0699428e+09 | F11: 7.6920181e+09 | G11: 8.3139342e+09
A12: Average Gross Assets | B12: =AVERAGE(B10:B11) -> 5.418452e+09 | C12: =AVERAGE(C10:C11) -> 5.8115665e+09 | D12: =AVERAGE(D10:D11) -> 6.264503e+09 | E12: =AVERAGE(E10:E11) -> 6.7840824e+09 | F12: =AVERAGE(F10:F11) -> 7.3809804e+09 | G12: =AVERAGE(G10:G11) -> 8.0029761e+09
A13: Opening Accumulated Depreciation | B13: -1.3692807e+09 | C13: =B14 -> -1.531199e+09 | D13: =C14 -> -1.7228794e+09 | E13: =D14 -> -1.9237669e+09 | F13: =E14 -> -2.1402836e+09 | G13: =F14 -> -2.3741284e+09
A14: Closing Accumulated Depreciation | B14: -1.531199e+09 | C14: -1.7228794e+09 | D14: -1.9237669e+09 | E14: -2.1402836e+09 | F14: -2.3741284e+09 | G14: -2.6216062e+09
A15: Average Accumulated Depreciation | B15: =AVERAGE(B13:B14) -> -1.4502399e+09 | C15: =AVERAGE(C13:C14) -> -1.6270392e+09 | D15: =AVERAGE(D13:D14) -> -1.8233232e+09 | E15: =AVERAGE(E13:E14) -> -2.0320253e+09 | F15: =AVERAGE(F13:F14) -> -2.257206e+09 | G15: =AVERAGE(G13:G14) -> -2.4978673e+09
A16: Opening Net Book Value | B16: =B10+B13 -> 3.8752744e+09 | C16: =C10+C13 -> 4.0611498e+09 | D16: =D10+D13 -> 4.3079047e+09 | E16: =E10+E13 -> 4.574455e+09 | F16: =F10+F13 -> 4.9296592e+09 | G16: =G10+G13 -> 5.3178897e+09
A17: Closing Net Book Value | B17: =B11+B14 -> 4.0611498e+09 | C17: =C11+C14 -> 4.3079047e+09 | D17: =D11+D14 -> 4.574455e+09 | E17: =E11+E14 -> 4.9296592e+09 | F17: =F11+F14 -> 5.3178897e+09 | G17: =G11+G14 -> 5.692328e+09
A18: Average Net Book Value | B18: =AVERAGE(B16:B17) -> 3.9682121e+09 | C18: =AVERAGE(C16:C17) -> 4.1845272e+09 | D18: =AVERAGE(D16:D17) -> 4.4411799e+09 | E18: =AVERAGE(E16:E17) -> 4.7520571e+09 | F18: =AVERAGE(F16:F17) -> 5.1237744e+09 | G18: =AVERAGE(G16:G17) -> 5.5051088e+09
A19: Working Capital Allowance | B19: 3.8645362e+08 | C19: 3.4609109e+08 | D19: 3.614287e+08 | E19: 3.7375956e+08 | F19: 3.8965679e+08 | G19: 4.0520954e+08
A20: RATE BASE | B20: =SUM(B18:B19) -> 4.3546657e+09 | C20: =SUM(C18:C19) -> 4.5306183e+09 | D20: =SUM(D18:D19) -> 4.8026086e+09 | E20: =SUM(E18:E19) -> 5.1258167e+09 | F20: =SUM(F18:F19) -> 5.5134312e+09 | G20: =SUM(G18:G19) -> 5.9103184e+09
A24: Changes | B24: Bridge Year | C24: Test Years
B25: 2026 | C25: 2027 | D25: 2028 | E25: 2029 | F25: 2030 | G25: 2031
A26: Opening Gross Assets | B26: 0 | C26: 0 | D26: 0 | E26: 0 | F26: 0 | G26: 0
A27: Closing Gross Assets | B27: 0 | C27: 0 | D27: 0 | E27: 0 | F27: 0 | G27: 0
A28: Average Gross Assets | B28: =AVERAGE(B26:B27) -> 0 | C28: =AVERAGE(C26:C27) -> 0 | D28: =AVERAGE(D26:D27) -> 0 | E28: =AVERAGE(E26:E27) -> 0 | F28: =AVERAGE(F26:F27) -> 0 | G28: =AVERAGE(G26:G27) -> 0
A29: Opening Accumulated Depreciation | B29: 0 | C29: 0 | D29: =C30 -> 7955817.4 | E29: =D30 -> 15569176 | F29: =E30 -> 20026777 | G29: =F30 -> 22975587
A30: Closing Accumulated Depreciation | B30: 0 | C30: =-'Depreciation Impact'!B12 -> 7955817.4 | D30: =-'Depreciation Impact'!C12+D29 -> 15569176 | E30: =-'Depreciation Impact'!D12+E29 -> 20026777 | F30: =-'Depreciation Impact'!E12+F29 -> 22975587 | G30: =-'Depreciation Impact'!F12+G29 -> 25038018
A31: Average Accumulated Depreciation | B31: =AVERAGE(B30:B30) -> 0 | C31: =AVERAGE(C29:C30) -> 3977908.7 | D31: =AVERAGE(D29:D30) -> 11762496 | E31: =AVERAGE(E29:E30) -> 17797976 | F31: =AVERAGE(F29:F30) -> 21501182 | G31: =AVERAGE(G29:G30) -> 24006802
A32: Opening Net Book Value | B32: =+B26+B29 -> 0 | C32: =+C26+C29 -> 0 | D32: =+C33 -> 7955817.4 | E32: =+D33 -> 15569176 | F32: =+E33 -> 20026777 | G32: =+F33 -> 22975587
A33: Closing Net Book Value | B33: =+B27+B30 -> 0 | C33: =+C27+C30 -> 7955817.4 | D33: =+D27+D30 -> 15569176 | E33: =+E27+E30 -> 20026777 | F33: =+F27+F30 -> 22975587 | G33: =+G27+G30 -> 25038018
A34: Average Net Book Value | B34: =AVERAGE(B32:B33) -> 0 | C34: =AVERAGE(C32:C33) -> 3977908.7 | D34: =AVERAGE(D32:D33) -> 11762496 | E34: =AVERAGE(E32:E33) -> 17797976 | F34: =AVERAGE(F32:F33) -> 21501182 | G34: =AVERAGE(G32:G33) -> 24006802
A35: Working Capital Allowance | C35: 0 | D35: 0 | E35: 0 | F35: 0 | G35: 0
A36: RATE BASE | B36: =SUM(B34:B35) -> 0 | C36: =SUM(C34:C35) -> 3977908.7 | D36: =SUM(D34:D35) -> 11762496 | E36: =SUM(E34:E35) -> 17797976 | F36: =SUM(F34:F35) -> 21501182 | G36: =SUM(G34:G35) -> 24006802
A39: Rate Base Adjusted to Remove Accelerated Depreciation | B39: Bridge Year | C39: Test Years
B40: 2026 | C40: 2027 | D40: 2028 | E40: 2029 | F40: 2030 | G40: 2031
A41: Opening Gross Assets | B41: =B10+B26 -> 5.2445551e+09 | C41: =C10+C26 -> 5.5923488e+09 | D41: =D10+D26 -> 6.0307841e+09 | E41: =E10+E26 -> 6.4982219e+09 | F41: =F10+F26 -> 7.0699428e+09 | G41: =G10+G26 -> 7.6920181e+09
A42: Closing Gross Assets | B42: =B11+B27 -> 5.5923488e+09 | C42: =C11+C27 -> 6.0307841e+09 | D42: =D11+D27 -> 6.4982219e+09 | E42: =E11+E27 -> 7.0699428e+09 | F42: =F11+F27 -> 7.6920181e+09 | G42: =G11+G27 -> 8.3139342e+09
A43: Average Gross Assets | B43: =AVERAGE(B41:B42) -> 5.418452e+09 | C43: =AVERAGE(C41:C42) -> 5.8115665e+09 | D43: =AVERAGE(D41:D42) -> 6.264503e+09 | E43: =AVERAGE(E41:E42) -> 6.7840824e+09 | F43: =AVERAGE(F41:F42) -> 7.3809804e+09 | G43: =AVERAGE(G41:G42) -> 8.0029761e+09
A44: Opening Accumulated Depreciation | B44: =B13+B29 -> -1.3692807e+09 | C44: =C13+C29 -> -1.531199e+09 | D44: =D13+D29 -> -1.7149236e+09 | E44: =E13+E29 -> -1.9081977e+09 | F44: =F13+F29 -> -2.1202569e+09 | G44: =G13+G29 -> -2.3511528e+09
A45: Closing Accumulated Depreciation | B45: =B14+B30 -> -1.531199e+09 | C45: =C14+C30 -> -1.7149236e+09 | D45: =D14+D30 -> -1.9081977e+09 | E45: =E14+E30 -> -2.1202569e+09 | F45: =F14+F30 -> -2.3511528e+09 | G45: =G14+G30 -> -2.5965682e+09
A46: Average Accumulated Depreciation | B46: =AVERAGE(B44:B45) -> -1.4502399e+09 | C46: =AVERAGE(C44:C45) -> -1.6230613e+09 | D46: =AVERAGE(D44:D45) -> -1.8115607e+09 | E46: =AVERAGE(E44:E45) -> -2.0142273e+09 | F46: =AVERAGE(F44:F45) -> -2.2357048e+09 | G46: =AVERAGE(G44:G45) -> -2.4738605e+09
A47: Opening Net Book Value | B47: =+B41+B44 -> 3.8752744e+09 | C47: =+C41+C44 -> 4.0611498e+09 | D47: =+C48 -> 4.3158605e+09 | E47: =+D48 -> 4.5900242e+09 | F47: =+E48 -> 4.949686e+09 | G47: =+F48 -> 5.3408653e+09
...

Sheet PILs Impact
A1: Alectra Utilities Corporation
A2: EB-2025-0252
A3: Interrogatory Responses
A4: JT-1.1.8_2_Staff-282; 2-Staff-146
A5: PILs Impact
A7: Updated
A8: Summary:
C9: 2027 | D9: 2028 | E9: 2029 | F9: 2030 | G9: 2031 | H9: Total
A10: Grossed-up PILs for AMI standard depreciation | C10: =+C11+C31 -> 19469060 | D10: =+D11+D31 -> 35369613 | E10: =+E11+E31 -> 28442153 | F10: =+F11+F31 -> 32321381 | G10: =+G11+G31 -> 37812116 | H10: =SUM(C10:G10) -> 1.5341432e+08
A11: Grossed-up PILs for AMI accelerated depreciation (as filed 1-Staff-1) | C11: 22285853 | D11: 37961893 | E11: 29818305 | F11: 33105480 | G11: 38244115 | H11: =SUM(C11:G11) -> 1.6141565e+08
A12: Change | C12: =+C10-C11 -> -2816792.3 | D12: =+D10-D11 -> -2592279.8 | E12: =+E10-E11 -> -1376151.8 | F12: =+F10-F11 -> -784099.87 | G12: =+G10-G11 -> -431999.05 | H12: =SUM(C12:G12) -> -8001322.9
A16: Changes:
C17: 2027 | D17: 2028 | E17: 2029 | F17: 2030 | G17: 2031
A18: Change in Rate Base for AMI standard depreciation | C18: ='Rate Base'!C36 -> 3977908.7 | D18: ='Rate Base'!D36 -> 11762496 | E18: ='Rate Base'!E36 -> 17797976 | F18: ='Rate Base'!F36 -> 21501182 | G18: ='Rate Base'!G36 -> 24006802
A19: Deemed Equity % | C19: 0.4 | D19: 0.4 | E19: 0.4 | F19: 0.4 | G19: 0.4
A20: Return on Equity % | C20: 0.09 | D20: 0.09 | E20: 0.09 | F20: 0.09 | G20: 0.09
A21: Change of Return on Equity | C21: =+C18*C19*C20 -> 143204.71 | D21: =+D18*D19*D20 -> 423449.87 | E21: =+E18*E19*E20 -> 640727.14 | F21: =+F18*F19*F20 -> 774042.54 | G21: =+G18*G19*G20 -> 864244.88
A23: Change in net income before taxes | C23: =+C21 -> 143204.71 | D23: =+D21 -> 423449.87 | E23: =+E21 -> 640727.14 | F23: =+F21 -> 774042.54 | G23: =+G21 -> 864244.88
A24: Reduction in depreciation expense based on standard AMI depreciation | C24: ='Depreciation Impact'!B12 -> -7955817.4 | D24: ='Depreciation Impact'!C12 -> -7613358.1 | E24: ='Depreciation Impact'!D12 -> -4457601.1 | F24: ='Depreciation Impact'!E12 -> -2948810.1 | G24: ='Depreciation Impact'!F12 -> -2062430.9
A25: Change in taxable income | C25: =SUM(C23:C24) -> -7812612.7 | D25: =SUM(D23:D24) -> -7189908.3 | E25: =SUM(E23:E24) -> -3816874 | F25: =SUM(F23:F24) -> -2174767.6 | G25: =SUM(G23:G24) -> -1198186
A26: Tax Rate | C26: 0.265 | D26: 0.265 | E26: 0.265 | F26: 0.265 | G26: 0.265
A27: Total income taxes | C27: =+C25*C26 -> -2070342.4 | D27: =+D25*D26 -> -1905325.7 | E27: =+E25*E26 -> -1011471.6 | F27: =+F25*F26 -> -576313.4 | G27: =+G25*G26 -> -317519.3
A29: Gross-up | B29: =1-C26 -> 0.735 | C29: =C27/$B$29-C27 -> -746449.97 | D29: =D27/$B$29-D27 -> -686954.16 | E29: =E27/$B$29-E27 -> -364680.24 | F29: =F27/$B$29-F27 -> -207786.47 | G29: =G27/$B$29-G27 -> -114479.75
A31: Change in Income tax (grossed up) | C31: =+C27+C29 -> -2816792.3 | D31: =+D27+D29 -> -2592279.8 | E31: =+E27+E29 -> -1376151.8 | F31: =+F27+F29 -> -784099.87 | G31: =+G27+G29 -> -431999.05

Sheet Depreciation Impact
A1: Alectra Utilities Corporation
A2: EB-2025-0252
A3: Interrogatory Responses
A4: JT-1.1.8_2_Staff-282; 2-Staff-146
A5: AMI 1.0 Meters accelerated depreciation
A7: Depreciation Impact | B7: 2027 | C7: 2028 | D7: 2029 | E7: 2030 | F7: 2031 | G7: Total
A8: Depreciation as filed (1-SEC-24_Attach 3 App 2-BA) | B8: 1.9438114e+08 | C8: 1.998795e+08 | D8: 2.1556539e+08 | E8: 2.3358281e+08 | F8: 2.4460414e+08 | G8: =SUM(B8:F8) -> 1.088013e+09
A9: Add: AMI 1.0 Accelerated Depreciation Changes - historical balances
A10: Standard depreciation – (a) | B10: =B22 -> 6688469.1 | C10: =E22 -> 6438130.3 | D10: =H22 -> 6145636.8 | E10: =K22 -> 5724278.6 | F10: =N22 -> 5297311.3 | G10: =SUM(B10:F10) -> 30293826
A11: Accelerated depreciation – (b) | B11: =C22 -> 14644286 | C11: =F22 -> 14051488 | D11: =I22 -> 10603238 | E11: =L22 -> 8673088.7 | F11: =O22 -> 7359742.3 | G11: =SUM(B11:F11) -> 55331844
A12: Variance (a-b) | B12: =+B10-B11 -> -7955817.4 | C12: =+C10-C11 -> -7613358.1 | D12: =+D10-D11 -> -4457601.1 | E12: =+E10-E11 -> -2948810.1 | F12: =+F10-F11 -> -2062430.9 | G12: =+G10-G11 -> -25038018
A13: Depreciation adjusted to remove accelerated depreciation | B13: =B8+B12 -> 1.8642532e+08 | C13: =C8+C12 -> 1.9226614e+08 | D13: =D8+D12 -> 2.1110779e+08 | E13: =E8+E12 -> 2.30634e+08 | F13: =F8+F12 -> 2.4254171e+08 | G13: =G8+G12 -> 1.062975e+09
B17: 2027 | E17: 2028 | F17: 2028 | H17: 2029 | I17: 2029 | K17: 2030 | L17: 2030 | N17: 2031 | O17: 2031 | Q17: 2017-2031 | R17: 2027-2031
A18: Meter Components | B18: Regular | C18: Accelerated | D18: Difference | E18: Regular | F18: Accelerated | G18: Difference | H18: Regular | I18: Accelerated | J18: Difference | K18: Regular | L18: Accelerated | M18: Difference | N18: Regular | O18: Accelerated | P18: Difference | Q18: Regular | R18: Accelerated | S18: Difference
A19: AMI 1.0 Polyphase | B19: 1807093 | C19: 6838216.9 | D19: =B19-C19 -> -5031123.9 | E19: 1806671.6 | F19: 6491167.5 | G19: =E19-F19 -> -4684496 | H19: 1802983.2 | I19: 3331722.1 | J19: =H19-I19 -> -1528739 | K19: 1752862.9 | L19: 2589198.1 | M19: =K19-L19 -> -836335.16 | N19: 1659451.1 | O19: 2397005.2 | P19: =N19-O19 -> -737554.16 | Q19: =B19+E19+H19+K19+N19 -> 8829061.7 | R19: =C19+F19+I19+L19+O19 -> 21647310 | S19: =Q19-R19 -> -12818248
A20: AMI 1.0 Meters Single Phase-Commercial | B20: 1016186.2 | C20: 1603052.4 | D20: =B20-C20 -> -586866.16 | E20: 1016186.2 | F20: 1603146 | G20: =E20-F20 -> -586959.79 | H20: 1016186.2 | I20: 1603146 | J20: =H20-I20 -> -586959.79 | K20: 986446.14 | L20: 1573405.9 | M20: =K20-L20 -> -586959.79 | N20: 894952.41 | O20: 1425480.9 | P20: =N20-O20 -> -530528.47 | Q20: =B20+E20+H20+K20+N20 -> 4929957.1 | R20: =C20+F20+I20+L20+O20 -> 7808231.2 | S20: =Q20-R20 -> -2878274
A21: AMI 1.0 Meters Single Phase-Residential | B21: 3865189.9 | C21: 6203017.2 | D21: =B21-C21 -> -2337827.3 | E21: 3615272.5 | F21: 5957174.9 | G21: =E21-F21 -> -2341902.4 | H21: 3326467.4 | I21: 5668369.8 | J21: =H21-I21 -> -2341902.4 | K21: 2984969.5 | L21: 4510484.7 | M21: =K21-L21 -> -1525515.1 | N21: 2742907.9 | O21: 3537256.2 | P21: =N21-O21 -> -794348.29 | Q21: =B21+E21+H21+K21+N21 -> 16534807 | R21: =C21+F21+I21+L21+O21 -> 25876303 | S21: =Q21-R21 -> -9341495.5
A22: Total | B22: =SUM(B19:B21) -> 6688469.1 | C22: =SUM(C19:C21) -> 14644286 | D22: =SUM(D19:D21) -> -7955817.4 | E22: =SUM(E19:E21) -> 6438130.3 | F22: =SUM(F19:F21) -> 14051488 | G22: =SUM(G19:G21) -> -7613358.1 | H22: =SUM(H19:H21) -> 6145636.8 | I22: =SUM(I19:I21) -> 10603238 | ... S22: =SUM(S19:S21) -> -25038018
