Workbook
Name Construction_Manager: '[1]2024 EWP Re-Forecast'!$AM$6:$AM$330
Name d: 'VRZ ICM Threshold Actual PC2025'!$E$51
Name d: 'WRZ ICM Threshold Actual PC2025'!$E$51
Name d: '[2]VRZ ICM Threshold 2025 PCI'!$E$51
Name Electrical_Const_DRP: '[1]2024 EWP Re-Forecast'!$AN$6:$AN$330
Name g: 'VRZ ICM Threshold Actual PC2025'!$E$20
Name g: 'WRZ ICM Threshold Actual PC2025'!$E$20
Name g: '[2]VRZ ICM Threshold 2025 PCI'!$E$20
Name PCI: 'VRZ ICM Threshold Actual PC2025'!$E$16
Name PCI: 'WRZ ICM Threshold Actual PC2025'!$E$16
Name PCI: '[2]VRZ ICM Threshold 2025 PCI'!$E$16
Name PLT_Hrs: '[1]2024 EWP Re-Forecast'!$AJ$6:$AJ$330
Name RB: 'VRZ ICM Threshold Actual PC2025'!$E$49
Name RB: 'WRZ ICM Threshold Actual PC2025'!$E$49
Name RB: '[2]VRZ ICM Threshold 2025 PCI'!$E$49
Name Work_Center: '[1]2024 EWP Re-Forecast'!$AI$6:$AI$330

Sheet CCC-4-b
A1: Source | B1: 2015 | C1: 2016 | D1: 2017 | E1: 2018 | F1: 2019 | G1: 2020 | H1: 2021 | I1: 2022 | J1: 2023 | K1: 2024 | L1: 2025 | M1: 2026 | N1: 2027
A2: Legacy Utilities Combined ICM Based Estimate of Capex in Rates | B2: ='WRZ ICM Threshold Actual PC2025'!E78+'VRZ ICM Threshold Actual PC2025'!E72 -> 22408260 | C2: ='WRZ ICM Threshold Actual PC2025'!E79+'VRZ ICM Threshold Actual PC2025'!E73 -> 24176818 | D2: ='WRZ ICM Threshold Actual PC2025'!E80+'VRZ ICM Threshold Actual PC2025'!E74 -> 23711809 | E2: ='WRZ ICM Threshold Actual PC2025'!E81+'VRZ ICM Threshold Actual PC2025'!E75 -> 21219572 | F2: ='WRZ ICM Threshold Actual PC2025'!E82+'VRZ ICM Threshold Actual PC2025'!E76 -> 22345825 | G2: ='WRZ ICM Threshold Actual PC2025'!E83+'VRZ ICM Threshold Actual PC2025'!E77 -> 24237757 | H2: ='WRZ ICM Threshold Actual PC2025'!E84+'VRZ ICM Threshold Actual PC2025'!E78 -> 25156499 | I2: ='WRZ ICM Threshold Actual PC2025'!E85+'VRZ ICM Threshold Actual PC2025'!E79 -> 29487173 | J2: ='WRZ ICM Threshold Actual PC2025'!E86+'VRZ ICM Threshold Actual PC2025'!E80 -> 31826180 | K2: ='WRZ ICM Threshold Actual PC2025'!E87+'VRZ ICM Threshold Actual PC2025'!E81 -> 36903191 | L2: ='WRZ ICM Threshold Actual PC2025'!E88+'VRZ ICM Threshold Actual PC2025'!E82 -> 32920450 | M2: ='WRZ ICM Threshold Actual PC2025'!E89+'VRZ ICM Threshold Actual PC2025'!E83 -> 30962399 | N2: ='WRZ ICM Threshold Actual PC2025'!E90+'VRZ ICM Threshold Actual PC2025'!E84 -> 31476452
A5: Legacy Utilities Combined ICM Based Estimate of Capex in Rates vs Actual Capital Spend 2020-2026
A6: Source | B6: 2020 | C6: 2021 | D6: 2022 | E6: 2023 | F6: 2024 | G6: 2025 | H6: 2026 | I6: Total
A7: Legacy Utilities Combined ICM Based Estimate of Capex in Rates | B7: =G2 -> 24237757 | C7: =H2 -> 25156499 | D7: =I2 -> 29487173 | E7: =J2 -> 31826180 | F7: =K2 -> 36903191 | G7: =L2 -> 32920450 | H7: =M2 -> 30962399 | I7: =SUM(B7:H7) -> 2.1149365e+08
A8: Actual Elexicon Capital Spend | B8: 35190386 | C8: 53425261 | D8: 78409173 | E8: 52545344 | F8: 68874028 | G8: 59751811 | H8: 77199088 | I8: =SUM(B8:H8) -> 4.2539509e+08
A9: Variance | B9: =B7-B8 -> -10952629 | C9: =C7-C8 -> -28268762 | D9: =D7-D8 -> -48922000 | E9: =E7-E8 -> -20719163 | F9: =F7-F8 -> -31970838 | G9: =G7-G8 -> -26831361 | H9: =H7-H8 -> -46236689 | I9: =SUM(B9:H9) -> -2.1390144e+08

Sheet CCC-4-c
A1: Part C , ii Calculation
A4: Legacy Utilities Combined ICM Based Estimate of Capex in Rates from Last COS Escalated by PCI vs Actual Capital Spend
A5: Source | B5: 2010 | C5: 2011 | D5: 2012 | E5: 2013 | F5: 2014 | G5: 2015 | H5: 2016 | I5: 2017 | J5: 2018 | K5: 2019 | L5: 2020 | M5: 2021 | N5: 2022 | O5: 2023 | P5: 2024 | Q5: 2025 | R5: 2026 | S5: Total 2020-2026
A6: PCI WRZ | D6: 0.0058 | E6: 0.0108 | F6: 0.014 | G6: 0.013 | H6: 0.018 | I6: 0.016 | J6: 0.006 | K6: 0.009 | L6: 0.014 | M6: 0.016 | N6: 0.027 | O6: 0.034 | P6: 0.045 | Q6: 0.033 | R6: 0.034
A7: PCI VRZ | G7: 0.013 | H7: 0.018 | I7: 0.016 | J7: 0.009 | K7: 0.012 | L7: 0.017 | M7: 0.019 | N7: 0.03 | O7: 0.034 | P7: 0.045 | Q7: 0.033 | R7: 0.034
A8: Growth WRZ | D8: 0.0119 | E8: 0.0119 | F8: 0.0119 | G8: 0.0119 | H8: 0.0119 | I8: 0.0119 | J8: 0.0119 | K8: 0.0119 | L8: 0.0119 | M8: 0.0119 | N8: 0.0119 | O8: 0.0119 | P8: 0.0119 | Q8: 0.0119 | R8: 0.0119
A9: Growth VRZ | G9: 0.0052 | H9: 0.0052 | I9: 0.0052 | J9: 0.0052 | K9: 0.0052 | L9: 0.0052 | M9: 0.0052 | N9: 0.0052 | O9: 0.0052 | P9: 0.0052 | Q9: 0.0052 | R9: 0.0052
A10: Whitby Rate Zone 2010 Capital Revenue Rqmt Escalated by PCI | B10: 11317749 | C10: =B10 -> 11317749 | D10: =C10*(1+D6+D8) -> 11518073 | E10: =D10*(1+E6+E8) -> 11779533 | F10: =E10*(1+F6+F8) -> 12084623 | G10: =F10*(1+G6+G8) -> 12385530 | H10: =G10*(1+H6+H8) -> 12755858 | I10: =H10*(1+I6+I8) -> 13111746 | J10: =I10*(1+J6+J8) -> 13346447 | K10: =J10*(1+K6+K8) -> 13625387 | ... R10: =Q10*(1+R6+R8) -> 18032978 | S10: =SUM(L10:R10) -> 1.1066141e+08
A11: Veridian Rate Zone 2014 Capital Revenue Rqmt Escalated by PCI | F11: 27573789 | G11: =F11*(1+G7+G9) -> 28075632 | H11: =G11*(1+H7+H9) -> 28726987 | I11: =H11*(1+I7+I9) -> 29335999 | J11: =I11*(1+J7+J9) -> 29752570 | K11: =J11*(1+K7+K9) -> 30264314 | L11: =K11*(1+L7+L9) -> 30936182 | M11: =L11*(1+M7+M9) -> 31684837 | N11: =M11*(1+N7+N9) -> 32800144 | ... R11: =Q11*(1+R7+R9) -> 38621315 | S11: =SUM(L11:R11) -> 2.4108988e+08
A12: Legacy Utilities Combined Last COS CRR Escalated by PCI | B12: =B10+B11 -> 11317749 | C12: =C10+C11 -> 11317749 | D12: =D10+D11 -> 11518073 | E12: =E10+E11 -> 11779533 | F12: =F10+F11 -> 39658412 | G12: =G10+G11 -> 40461162 | H12: =H10+H11 -> 41482844 | I12: =I10+I11 -> 42447745 | ... R12: =R10+R11 -> 56654293 | S12: =SUM(L12:R12) -> 3.5175128e+08

Sheet WRZ ICM Threshold Actual PC2025
H3: NOTES and SOURCES
H4: 1. Basis for Growth Factor for WRZ is the 2025 OEB ACM/ICM Excel Workbook.
H5: 2. WRZ ICM Threshold Actual PC2025 Worksheet is extracted from 2025 OEB ACM/ICM Excel Workbook for VRZ Rate Zone. (i.e. Tab 8 Threshold Test)
A8: No Input Required.
C9: Final Materiality Threshold Calculation
C13: Cost of Service Rebasing Year | E13: 2011
C14: Price Cap IR Year in which Application is made | E14: 14
C16: Price Cap Index | E16: N/A
C17: Growth Factor Calculation
C18: ='[3]1. Information Sheet'!F48 -> Revenues Based on 2023 Actual Distribution Demand | E18: ='[3]4. Growth Factor - NUM_CALC2'!N23 -> 26982823
C19: ='[3]1. Information Sheet'!F49 -> Revenues Based on 2011 Board-Approved Distribution Demand | E19: ='[3]6. Growth Factor - DEN_CALC'!N23 -> 23602558
C20: Growth Factor | E20: =((E18/E19)-1)/12 -> 0.011934669
C21: Dead Band | E21: 0.1
C22: Average Net Fixed Assets
C23: Gross Fixed Assets Opening | E23: 129145318
C24: Add: CWIP Opening | E24: 0
C25: Capital Additions | E25: 0
C26: Capital Disposals | E26: 0
C27: Capital Retirements | E27: 0
C28: Deduct: CWIP Closing | E28: 0
C29: Gross Fixed Assets - Closing | E29: 129145318
C31: Average Gross Fixed Assets | E31: =(E23+E29)/2 -> 129145318
C33: Accumulated Depreciation - Opening | E33: 64061997
C34: Depreciation Expense | E34: 4800644
C35: Disposals | E35: 0
C36: Retirements | E36: 0
C37: Accumulated Depreciation - Closing | E37: 68862641
C39: Average Accumulated Depreciation | E39: =(E33+E37)/2 -> 66462319
C41: Average Net Fixed Assets | E41: =E31-E39 -> 62682999
C44: Working Capital Allowance
C45: Working Capital Allowance Base | E45: 87235651
C46: Working Capital Allowance Rate | E46: 0.15
C47: Working Capital Allowance | E47: =E45*E46 -> 13085348
C49: Rate Base | E49: =E41+E47 -> 75768347 | L49: Threshold Value (%) = 1 +(A * B) + 10%
C51: Depreciation | E51: =E34 -> 4800644
C53: Threshold Value (varies by Price Cap IR Year subsequent to CoS rebasing) | F53: Actual Annual Price Cap Index | J53: A | K53: B | L53: No-Dead Band Threshold Value (%) = 1 + (A*B)
C54: Price Cap IR Year 2012 | E54: =L54 -> 1.280998 | F54: 0.0058 | J54: =(RB/d)*(g+F54*(1+g)) -> 0.280998 | K54: 1 | L54: =1+J54*K54 -> 1.280998
C55: Price Cap IR Year 2013 | E55: =L55 -> 1.3672792 | F55: 0.0108 | J55: =(RB/d)*(g+F55*(1+g)) -> 0.36085459 | K55: =K54*((1+g)*(1+F54)) -> 1.0178039 | L55: =1+J55*K55 -> 1.3672792
C56: Price Cap IR Year 2014 | E56: =L56 -> 1.428884 | F56: 0.014 | J56: =(RB/d)*(g+F56*(1+g)) -> 0.41196281 | K56: =K55*((1+g)*(1+F55)) -> 1.0410745 | L56: =1+J56*K56 -> 1.428884
C57: Price Cap IR Year 2015 | E57: =L57 -> 1.4230173 | F57: 0.013 | J57: =(RB/d)*(g+F57*(1+g)) -> 0.39599149 | K57: =K56*((1+g)*(1+F56)) -> 1.0682484 | L57: =1+J57*K57 -> 1.4230173
...

Sheet VRZ ICM Threshold Actual PC2025
H2: NOTES and SOURCES
H3: 1. Basis for Growth Factor for VRZ is the 2025 OEB ACM/ICM Excel Workbook.
H4: 2. VRZ ICM Threshold Actual PC2025 Worksheet is extracted from 2025 OEB ACM/ICM Excel Workbook for VRZ Rate Zone. (i.e. Tab 8 Threshold Test)
A8: No Input Required.
C9: Final Materiality Threshold Calculation
C13: Cost of Service Rebasing Year | E13: 2014
C14: Price Cap IR Year in which Application is made | E14: =2025-E13 -> 11
C16: Price Cap Index | E16: N/A
C17: Growth Factor Calculation
C18: ='[4]1. Information Sheet'!F48 -> Revenues Based on 2023 Actual Distribution Demand | E18: ='[4]4. Growth Factor - NUM_CALC2'!N26 -> 62787551
C19: ='[4]1. Information Sheet'!F49 -> Revenues Based on 2014 Board-Approved Distribution Demand | E19: ='[4]6. Growth Factor - DEN_CALC'!N26 -> 59991237
C20: Growth Factor | E20: =((E18/E19)-1)/9 -> 0.0051791155
C21: Dead Band | E21: 0.1
C22: Average Net Fixed Assets
C23: Gross Fixed Assets Opening | E23: 404954146
C24: Add: CWIP Opening | E24: $ -
C25: Capital Additions | E25: 25483259
C26: Capital Disposals | E26: $ -
C27: Capital Retirements | E27: $ -
C28: Deduct: CWIP Closing | E28: $ -
C29: Gross Fixed Assets - Closing | E29: 430437405
C31: Average Gross Fixed Assets | E31: =(E23+E29)/2 -> 4.1769578e+08
C33: Accumulated Depreciation - Opening | E33: 216999685
C34: Depreciation Expense | E34: 11232271
C35: Disposals | E35: $ -
C36: Retirements | E36: $ -
C37: Accumulated Depreciation - Closing | E37: 228231956
C39: Average Accumulated Depreciation | E39: =(E33+E37)/2 -> 2.2261582e+08
C41: Average Net Fixed Assets | E41: =E31-E39 -> 195079955
C44: Working Capital Allowance
C45: Working Capital Allowance Base | E45: 321090472
C46: Working Capital Allowance Rate | E46: 0.134
C47: Working Capital Allowance | E47: =E45*E46 -> 43026123
C49: Rate Base | E49: =E41+E47 -> 2.3810608e+08 | L49: Threshold Value (%) = 1 +(A * B) + 10%
C51: Depreciation | E51: =E34 -> 11232271
C53: Threshold Value (varies by Price Cap IR Year subsequent to CoS rebasing) | F53: Actual Annual Price Cap Index | J53: A | K53: B | L53: No-Dead Band Threshold Value (%) = 1 + (A*B)
C54: Price Cap IR Year 2015 | E54: =L54 -> 1.3867953 | F54: 0.013 | J54: =(RB/d)*(g+F54*(1+g)) -> 0.38679526 | K54: 1 | L54: =1+J54*K54 -> 1.3867953
C55: Price Cap IR Year 2016 | E55: =L55 -> 1.5023378 | F55: 0.018 | H55: Geometric Mean (2015 to 2026) | J55: =(RB/d)*(g+F55*(1+g)) -> 0.49333617 | K55: =K54*((1+g)*(1+F54)) -> 1.0182464 | L55: =1+J55*K55 -> 1.5023378
C56: Price Cap IR Year 2017 | E56: =L56 -> 1.4696245 | F56: 0.016 | J56: =(RB/d)*(g+F56*(1+g)) -> 0.4507198 | K56: =K55*((1+g)*(1+F55)) -> 1.0419434 | L56: =1+J56*K56 -> 1.4696245
C57: Price Cap IR Year 2018 | E57: =L57 -> 1.3208919 | F57: 0.009 | H57: =GEOMEAN(F54:F64) -> 0.019937129 | J57: =(RB/d)*(g+F57*(1+g)) -> 0.30156254 | K57: =K56*((1+g)*(1+F56)) -> 1.0640972 | L57: =1+J57*K57 -> 1.3208919
...
