Workbook
Name BridgeYear: #REF!
Name EBNUMBER: #REF!
Name LDC_Name: #REF!
Name Table_1_b.__Annual_LRAMVA_Breakdown_by_Year_and_Rate_Class: '1. LRAMVA Summary'!$B$47
Name Table_3.__Inputs_for_Distribution_Rates_and_Adjustments_by_Rate_Class: '3. Distribution Rates'!$B$11
Name Table_3_a.__Distribution_Rates_by_Rate_Class: '3. Distribution Rates'!$B$119
Name Table_4_a.__2011_Lost_Revenues_Work_Form: '4. 2011-2014 LRAM'!$B$18
Name Table_4_b.__2012_Lost_Revenues_Work_Form: '4. 2011-2014 LRAM'!$B$156
Name Table_4_c.__2013_Lost_Revenues_Work_Form: '4. 2011-2014 LRAM'!$B$293
Name Table_4_d.__2014_Lost_Revenues_Work_Form: '4. 2011-2014 LRAM'!$B$438
Name Table_5_a.__2015_Lost_Revenues_Work_Form: '5. 2015-2027 LRAM'!$B$33
Name Table_5_b.__2016_Lost_Revenues_Work_Form: '5. 2015-2027 LRAM'!$B$231
Name Table_5_c.__2017_Lost_Revenues_Work_Form: '5. 2015-2027 LRAM'!$B$431
Name Table_5_d.__2018_Lost_Revenues_Work_Form: '5. 2015-2027 LRAM'!$B$634
Name Table_5_e.__2019_Lost_Revenues_Work_Form: '5. 2015-2027 LRAM'!$B$829
Name Table_5_f.__2020_Lost_Revenues_Work_Form: '5. 2015-2027 LRAM'!$B$1031
Name Table_5_g.__2021_Lost_Revenues_Work_Form: '5. 2015-2027 LRAM'!$B$1231
Name Table_5_h.__2022_Lost_Revenues_Work_Form: '5. 2015-2027 LRAM'!$B$1430
Name Table_5_i.__2023_Lost_Revenues_Work_Form: '5. 2015-2027 LRAM'!$B$1628
Name Table_5_j.__2024_Lost_Revenues_Work_Form: '5. 2015-2027 LRAM'!$B$1654
Name Table_5_k.__2025_Lost_Revenues_Work_Form: '5. 2015-2027 LRAM'!$B$1680
Name Table_5_l.__2026_Lost_Revenues_Work_Form: '5. 2015-2027 LRAM'!$B$1707
Name Table_5_m.__2027_Lost_Revenues_Work_Form: '5. 2015-2027 LRAM'!$B$1734
Name Targets: #REF!
Name TestYear: #REF!

Sheet Contents
B3: Generic LRAMVA Work Forms
B5: Worksheet Name | C5: Description
B6: 1. LRAMVA Summary | C6: Tables 1-a and 1-b provide a summary of the LRAMVA balances and carrying charges associated with the LRAMVA disposition. Table 1c provides a summary of prospective LRAM-eligible amounts related to persisting CDM savings for all years until the LDC's next rebasing application. The balances are populated from entries into other tabs throughout this work form.
B7: 1-a. Summary of Changes | C7: Tables A-1 and A-2 include a template for LDCs to summarize changes to the LRAMVA work form.
B8: 2. LRAMVA Threshold | C8: Tables 2-a, 2-b and 2-c include the LRAMVA thresholds and allocations by rate class.
B9: 3. Distribution Rates | C9: Tables 3-a and 3-b include the distribution rates that are used to calculate lost revenues.
B10: 4. 2011-2014 LRAM | C10: Tables 4-a, 4-b, 4-c and 4-d include the template 2011-2014 LRAMVA work forms.
B11: 5. 2015-2027 LRAM | C11: Tables 5-a, 5-b, 5-c, 5-d, 5-e, 5-f, 5-g, 5-h, 5-i, 5-j, 5-k, 5-l and 5-m include the template 2015-2027 LRAMVA work forms.
B12: 6. Carrying Charges | C12: Table 6-b includes the variance on carrying charges related to the LRAMVA disposition.
B14: 7. Persistence Report | C14: A blank spreadsheet is provided to allow LDCs to populate with CDM savings persistence data provided by the IESO.
B16: 8. Streetlighting | C16: A blank spreadsheet is provided to allow LDCs to populate data on streetlighting projects whose savings were not provided by the IESO in the CDM Final Results Report (i.e., streetlighting projects).

Sheet Instructions
B16: Tab | C16: Instructions
B17: LRAMVA Checklist/Schematic Tab | C17: The LRAMVA work form was created in a generic manner for use by all LDCs. Distributors should follow the checklist, which is referenced in this tab of the work form and listed below:
C19: o Highlight changes to this work form made by the LDC, if any, and provide rationale for the change in Tab 1-a.
C21: o Include any necessary assumptions the LDC has to make in its LRAMVA work form in the "Notes" section of the work form.
C23: o Provide documentation on the LRAMVA threshold by providing the reference and source material from the LDC’s cost of service proceeding where its most recent load forecast was approved.
C25: o Include a copy of initiative-level persistence savings information that was verified by the IESO. Persistence information is available upon request from the IESO.
C27: o Apply the IESO verified savings adjustments to the year it relates to. For example, savings adjustments to 2015 programs will be provided to LDCs with the 2016 Final Results Report. The 2015 savings adjustments should be included in the 2015 verified savings portion of the work form.
C29: o Provide documentation or data substantiating savings from projects that were not provided in the IESO's verified results reports, inserted in Tab 8 (i.e., streetlighting projects), as applicable.
C31: o Provide documentation or analysis on how rate class allocations were determined by customer class and program each year, inserted in Tab 3-a.
B33: Tab 1. LRAMVA Summary | C33: Distributors are required to report any past approved LRAMVA amounts along with the current LRAMVA amount requested for approval. Distributors are also expected to provide prospective LRAM-eligible amounts related to persisting CDM savings for all years until their next rebasing application.There are separate tables indicating new lost revenues and carrying charges amounts by year and the totals for rate rider calculations.
B35: Tab 1-a. Summary of Changes | C35: Distributors should list all significant changes and changes in assumptions in the generic work form affecting the LRAMVA.
B37: Tab 2. LRAMVA Threshold | C37: Distributors should use the tables to display the LRAMVA threshold amounts as approved at a rate class level. This should be taken from the LDC’s most recently approved cost of service application.
B39: Tab 3. Distribution Rates | C39: Distributors should complete the tables with rate class specific distribution rates and adjustments as applicable.
B42: Tabs 4 and 5 (2011-to Next COS) | C42: Distributors should complete the lost revenue calculation for 2011-2014 program years and 2015-2022 program years and persisting savings until distributors next cost of service application, as applicable, by undertaking the following:
C44: o Input or manually link the savings, adjustments and program savings persistence data from Tab 7 (Persistence Report) to Tabs 4 and 5. As noted earlier, persistence data is available upon request from the IESO.
C46: o Ensure that the IESO verified savings adjustments apply to the program year it relates to. For example, savings adjustments related to 2012 programs that were reported by the IESO in 2013 should be included in the 2012 program savings table.
C48: o Confirm the monthly multipliers applied to demand savings. If a different monthly multiplier is used than what was confirmed in the LRAMVA Report, provide rationale in Tab 1-a and highlight the new monthly multiplier that has been used.
C50: o Input the rate class allocations by program and year to allocate actual savings to customers. If a different allocation is proposed for adjustments, LDCs must provide the supporting rationale in Tab 1-a and highlight the change.
C52: o Provide assumptions about the year(s) in which persistence is captured in the load forecast via the "Notes" section of each table and adjust what is included in the LRAMVA totals, as appropriate.
B54: Tab 6. Carrying Charges | C54: Distributors are requested to calculate carrying charges based on the methodology provided in the work form. This includes updating Table 6 as new prescribed interest rates for deferral and variance accounts become available and entering any collected interest amounts into the "Amounts Cleared" row to calculate outstanding variances on carrying charges. Carrying charges are not to be calculated for prospective LRAM-eligible amounts that relate to the persisting savings from CDM programs until the LDCs next cost-of-service application.
B56: Tab 7. Persistence Report | C56: Persistence savings report(s) provided by the IESO should be included for the relevant years in the LRAMVA work form. Tab 7 has been created consistently with the IESO’s persistence report.
B58: Tab 8. Streetlighting | C58: A tab is provided to ensure LDCs include documentation or data to support projects whose program savings were not provided by the IESO (i.e., streetlighting projects).

Sheet LRAMVA Checklist Schematic
B3: General Note on the LRAMVA Model The LRAMVA work form has been created in a generic manner that should allow for use by all LDCs. This LRAMVA work form consolidates information that LDCs are already required to file with the OEB. The model has been created to provide LDCs with a consistent format to display CDM impacts, the forecast savings component and, ultimately, any variance between actual CDM savings and forecast CDM savings. Additionally, LDCs are also able to calculate prospective LRAM-eligible amounts, consistent with guidance provided in the 2021 CDM Guidelines. The majority of the information required in the LRAMVA work form will be provided to LDCs from the IESO as part of the Final CDM Results and Participation and Cost Report. Please contact the IESO for any reports that may be required to complete this LRAMVA work form. The LRAMVA work form is unlocked to enable LDCs to tailor it to their own unique circumstances.
B8: LRAMVA ($) = (Actual Net CDM Savings - Forecast CDM Savings) x Distribution Volumetric Rate + Carrying Charges from LRAMVA balance
B10: Legend | C10: Drop Down List (Blue)
B12: Important Checklist
C13: o Highlight changes to this work form made by the LDC, if any, and provide rationale for the change in Tab 1-a
C14: o Include any necessary assumptions the LDC has to make in its LRAMVA work form in the "Notes" section of the work form
C15: o Provide documentation on the LRAMVA threshold by providing the reference and source material from the LDC’s cost of service proceeding where its most recent load forecast was approved
C16: o Include a copy of initiative-level persistence savings information that was verified by the IESO in Tab 7. Persistence information is available upon request from the IESO
C17: o Apply the IESO verified savings adjustments to the year it relates to.
C18: o Provide documentation or data substantiating savings from projects that were not provided in the IESO's verified results reports, inserted in Tab 8 (i.e., streetlighting projects), as applicable
B20: Work Form Calculations | C20: Source of Calculation | D20: Inputs (Tables to Complete) | E20: Source of Data Inputs | F20: Outputs of Data (Auto-Populated)
B21: Actual Incremental CDM Savings by Initiative | C21: Tabs "4. 2011-2014 LRAM" and "5. 2015-2027 LRAM" | D21: Tables 4-a to 4-d / 5-a to 5-f (Columns D & O) | E21: IESO Verified Persistence Results Reports included in Tab 7 (Columns L to BT). | F21: Tables 4-a to 4-d / 5-a to 5-f (Columns Y-AL)
B22: +/- IESO Verified Savings Adjustments | C22: Tab "4. 2011-2014 LRAM" and "5. 2015-2027 LRAM" | D22: Tables 4-a to 4-d / 5-a to 5-f (Columns D-M & Columns O-X) | E22: IESO Verified Persistence Results Reports included in Tab 7 (Columns L to BT). | F22: Tables 4-a to 4-d / 5-a to 5-f (Columns Y-AL)
B23: + Initiative Level Savings Persistence | C23: Tab "4. 2011-2014 LRAM" and "5. 2015-2027 LRAM" | D23: Tables 4-a to 4-d / 5-a to 5-f (Columns E-M & Columns P-X) | E23: IESO Verified Persistence Results Reports included in Tab 7 (Columns L to BT). | F23: Tables 4-a to 4-d / 5-a to 5-f (Columns Y-AL)
B24: x Allocation % to Rate Class | C24: Tabs "4. 2011-2014 LRAM" and "5. 2015-2027 LRAM" | D24: Tables 4-a to 4-d / 5-a to 5-f (Columns Y-AJ) | E24: Determined by the LDC
B25: Actual Lost Revenues (kWh and kW) by Rate Class | C25: Tabs "4. 2011-2014 LRAM" and "5. 2015-2027 LRAM"
B26: - Forecast Lost Revenues (kWh and kW) by Rate Class | C26: Tabs "4. 2011-2014 LRAM" and "5. 2015-2027 LRAM" | D26: Tab "2. LRAMVA Threshold" Tables 2-a, 2-b and 2-c
B27: x Distribution Rate by Rate Class | C27: Tab "3. Distribution Rates" | D27: Table 3 | E27: LDC's Approved Tariff Sheets
B28: LRAMVA ($) by Rate Class | C28: Tabs "4. 2011-2014 LRAM" and "5. 2015-2027 LRAM" | F28: Tables 1-a and 1-b
B29: + Carrying Charges ($) by Rate Class | C29: Tabs "1. LRAMVA Summary" and "6. Carrying Charges" | D29: Table 6 | F29: Table 6-a
B30: Total LRAMVA ($) by Rate Class | C30: Tab "1. LRAMVA Summary"

Sheet DropDownList
A1: Service Classifications | B1: Billing Unit | C1: Year | D1: Response | E1: Threshold | F1: Tabs | G1: Source of Persistence Reports | H1: Record
A2: Residential | B2: kWh | C2: 2006 | D2: Yes | E2: ='2. LRAMVA Threshold'!D9 -> 2014 | F2: 1. LRAMVA Summary | G2: 2011 Results Persistence | H2: Current year savings
A3: GS<50 kW | B3: kWh | C3: 2007 | D3: No | E3: ='2. LRAMVA Threshold'!D24 -> 0 | F3: 2. LRAMVA Threshold | G3: 2012 Results Persistence | H3: Adjustment
A4: GS>50 kW | B4: kW | C4: 2008 | D4: Not Applicable | F4: 3. Distribution Rates | G4: 2013 Results Persistence
A5: General Service ≥ 1,000 kW | B5: kW | C5: 2009 | F5: 4. 2011-2014 LRAM | G5: 2014 Results Persistence
A6: General Service ≥ 1,500 kW | B6: kW | C6: 2010 | F6: 5. 2015-2020 LRAM | G6: 2015 Results Persistence
A7: General Service 1,000 kW and Greater | B7: kW | C7: 2011 | F7: 6. Carrying Charges | G7: 2016 Results Persistence
A8: General Service 1,000 to 4,999 kW | B8: kW | C8: 2012 | F8: 7. Persistence Data | G8: 2017 Results Persistence
A9: General Service 1,000 to 4,999 kW (co-generation) | B9: kW | C9: 2013 | G9: 2018 Results Persistence
A10: General Service 1,500 to 4,999 kW | B10: kW | C10: 2014 | G10: 2019 Results Persistence
A11: General Service 3,000 to 4,999 kW | B11: kW | C11: 2015 | G11: 2020 Results Persistence
A12: General Service 50 to 1,499 kW | B12: kW | C12: 2016
A13: General Service 50 to 2,999 kW | B13: kW | C13: 2017
A14: General Service 50 to 4,999 kW | B14: kW | C14: 2018
A15: General Service 50 to 499 kW | B15: kW | C15: 2019
A16: General Service 50 to 699 kW | B16: kW | C16: 2020
A17: General Service 50 to 999 kW | B17: kW
A18: General Service 500 to 1,499 kW | B18: kW
A19: General Service 500 to 4,999 kW | B19: kW
A20: General Service 700 to 4,999 kW | B20: kW
A21: General Service Demand Billed (50 kW and above) - GSd | B21: kW
A22: General Service Intermediate 1,000 to 4,999 kW | B22: kW
A23: Intermediate With Self Generation | B23: kW
A24: Intermediate With Self Generation - excluding MUSH customers | B24: kW
A25: Sub-Transmission (Embedded supply to LDC or loads > 500 kW) - ST | B25: kW
A26: Unmetered Scattered Load | B26: kWh
A27: Urban General Service Demand Billed (50 kW and above) - UGd | B27: kW
A28: Embedded Distributor | B28: kW
... A40: Street Lighting | B40: kW

Sheet 1.  LRAMVA Summary
B4: Legend | C4: User Inputs (Green)
C5: Auto Populated Cells (White)
C6: Instructions (Grey)
B8: LDC Name | C8: Elexicon Energy Inc
B9: Application Details
B11: Please fill in the requested information: a) the amounts approved in the previous LRAMVA application, b) details on the current application, and c) documentation of changes if applicable.
B13: A. Previous LRAMVA Application | F13: B. Current LRAMVA Application | J13: C. Documentation of Changes
B14: Previous LRAMVA Application (EB#) | D14: EB-2021-0015 | F14: Current LRAMVA Application (EB#) | H14: EB-2022-0024 | J14: Original Amount | L14: 3787228.7
B15: Application of Previous LRAMVA Claim | D15: 2022 Annual IR Application | F15: Application of Current LRAMVA Claim | H15: 2023 Price Cap IR | J15: Amount for Final Disposition
B16: Period of LRAMVA Claimed in Previous Application | D16: 2019 | F16: Period of New LRAMVA in this Application | H16: 2020-2028
B17: Amount of LRAMVA Claimed in Previous Application | D17: =716742+315409 -> 1032151 | F17: Period of Rate Recovery (# years) | H17: 1
F19: Actual Lost Revenues ($) | G19: A | H19: =SUM(R55,R58,R61,R64,R67,R70,R73,R76,R79,R82, R85, R88) -> 1.7073778e+09
F20: Forecast Lost Revenues ($) | G20: B | H20: =-SUM(R56,R59,R62,R65,R68,R71,R74,R77,R80,R83,R86,R89) -> 3.028222e+08
F21: Carrying Charges ($) | G21: C | H21: =R91 -> 23748594
F22: LRAMVA ($) for Account 1568 | G22: A-B+C | H22: =H19-H20+H21 -> 1.4283042e+09
F23: Total LRAM-Eligible Amounts for Prospective Disposition | G23: (Annual amounts to be recovered in future rate applications) | H23: =R125 -> 2.213574e+09
B25: Table 1-a. LRAMVA Totals by Rate Class
B27: Please input the customer rate classes applicable to the LDC and associated billing units (kWh or kW) in Table 1-a below. This will update all tables throughout the workform. The LRAMVA total by rate class in Table 1-a should be used to inform the determination of rate riders in the Deferral and Variance Account Work Form or IRM Rate Generator Model. Please also ensure that the principal amounts in column E of Table 1-a capture the appropriate years and amounts for the LRAMVA claim. Column F of Table 1-a should include projected carrying charges amounts as determined on a rate class basis from Table 1-b below. NOTE: If the LDC has more than 14 customer classes in which CDM savings was allocated, LDCs must contact OEB staff to make adjustments to the workform.
B29: Customer Class | D29: Billing Unit | E29: Principal ($) | F29: Carrying Charges ($) | G29: Total LRAMVA ($)
B30: Residential - VRZ | D30: kWh | E30: =SUM(D55:D90) -> 0 | F30: =D91 -> 0 | G30: =E30+F30 -> 0
B31: GS<50 kW - VRZ | D31: kWh | E31: =SUM(E55:E90) -> 575675.18 | F31: =E91 -> 9916.8992 | G31: =E31+F31 -> 585592.08
B32: GS 50 to 2,999 kW - VRZ | D32: kWh | E32: =SUM(F55:F90) -> 4.3966509e+08 | F32: =F91 -> 7445097.5 | G32: =E32+F32 -> 4.4711019e+08
B33: GS 3,000 to 4,999 kW - VRZ | D33: kWh | E33: =SUM(G55:G90) -> 17225173 | F33: =G91 -> 293288.9 | G33: =E33+F33 -> 17518462
B34: Large Use - VRZ | D34: kWh | E34: =SUM(H55:H90) -> 1.8893762e+08 | F34: =H91 -> 3247284.6 | G34: =E34+F34 -> 1.921849e+08
B35: Unmetered Scattered Load - VRZ | D35: kWh | E35: =SUM(I55:I90) -> 213.52377 | F35: =I91 -> 3.6219631 | G35: =E35+F35 -> 217.14574
B36: Sentinel Lighting - VRZ | D36: kWh | E36: =SUM(J55:J90) -> 0 | F36: =J91 -> 0 | G36: =E36+F36 -> 0
B37: Street Lighting - VRZ | D37: kWh | E37: =SUM(K55:K90) -> 1.1433289e+08 | F37: =K91 -> 1935584.5 | G37: =E37+F37 -> 1.1626848e+08
B38: Residential - WRZ | D38: kWh | E38: =SUM(L55:L90) -> 0 | F38: =L91 -> 0 | G38: =E38+F38 -> 0
B39: GS<50 kW - WRZ | D39: kWh | E39: =SUM(M55:M90) -> 161785.95 | F39: =M91 -> 2767.5648 | G39: =E39+F39 -> 164553.51
B40: GS>50 kw - WRZ | D40: kWh | E40: =SUM(N55:N90) -> 4.4617813e+08 | F40: =N91 -> 7453589.3 | G40: =E40+F40 -> 4.5363172e+08
B41: Street Lighting - WRZ | D41: kWh | E41: =SUM(O55:O90) -> 1.9747905e+08 | F41: =O91 -> 3361061 | G41: =E41+F41 -> 2.0084011e+08
E42: =SUM(P55:P90) -> 0 | F42: =P91 -> 0 | G42: =E42+F42 -> 0
E43: =SUM(Q55:Q90) -> 0 | F43: =Q91 -> 0 | G43: =E43+F43 -> 0
B44: Total | E44: =SUM(E30:E43) -> 1.4045556e+09 | F44: =SUM(F30:F43) -> 23748594 | G44: =SUM(G30:G43) -> 1.4283042e+09
B47: Table 1-b. Annual LRAMVA Breakdown by Year and Rate Class
B49: In column C of Table 1-b below, please insert a 'check mark' to indicate the years in which LRAMVA has been claimed. If you inserted a check-mark for a particular year, please delete the amounts associated with the actual and forecast lost revenues for all rate classes for that year, up to and including the total. Any LRAMVA from a prior year that has already been claimed cannot be included in the current LRAMVA disposition, with the exception of the case noted below.
B50: If LDCs are seeking to claim true-up amounts that were previously approved by the OEB, please note that the "Amount Cleared" rows are applicable to the LDC and should be filled out. This may relate to claiming the difference in LRAM approved before the May 19, 2016 Peak Demand Consultation, and the lost revenues that would have been incurred after that consultation, as approved by the OEB. If this is the case, reference to the decision must be noted in the rate application. If this is not the case, LDCs are requested to leave those rows blank.
B51: LDCs are expected to include projected carrying charges amounts in row 90 of Table 1-b below. LDCs should also check accuracy of the years included in the LRAMVA balance in row 92.
B53: Description | C53: LRAMVA Previously Claimed | D53: =IF($B$30<>"",$B$30,"") -> Residential - VRZ | E53: =IF($B$31<>"",$B$31,"") -> GS<50 kW - VRZ | F53: =IF($B$32<>"",$B$32,"") -> GS 50 to 2,999 kW - VRZ | G53: =IF($B$33<>"",$B$33,"") -> GS 3,000 to 4,999 kW - VRZ | H53: =IF($B$34<>"",$B$34,"") -> Large Use - VRZ | I53: =IF($B$35<>"",$B$35,"") -> Unmetered Scattered Load - VRZ | J53: =IF($B$36<>"",$B$36,"") -> Sentinel Lighting - VRZ | K53: =IF($B$37<>"",$B$37,"") -> Street Lighting - VRZ | L53: =IF($B$38<>"",$B$38,"") -> Residential - WRZ | M53: =IF($B$39<>"",$B$39,"") -> GS<50 kW - WRZ | N53: =IF($B$40<>"",$B$40,"") -> GS>50 kw - WRZ | O53: =IF($B$41<>"",$B$41,"") -> Street Lighting - WRZ | P53: =IF($B$42<>"",$B$42,"") | Q53: =IF($B$43<>"",$B$43,"") | R53: Total
D54: =D30 -> kWh | E54: =D31 -> kWh | F54: =D32 -> kWh | G54: =D33 -> kWh | H54: =D34 -> kWh | I54: =D35 -> kWh | J54: =D36 -> kWh | K54: =D37 -> kWh | L54: =D38 -> kWh | M54: =D39 -> kWh | N54: =D40 -> kWh | O54: =D41 -> kWh | P54: =D42 -> 0 | Q54: =D43 -> 0
...

Sheet 5.  2015-2027 LRAM
B14: Legend | C14: User Inputs (Green)
C15: Auto Populated Cells (White)
C16: Instructions (Grey)
B18: Instructions | C18: 1. LDCs are expected to apply for disposition of all LRAMVA balances, incluidng persisting amounts that extend to the LDCs next COS, as part of 2023 rate applications. The following LRAMVA work forms apply to all LDCs that need to recover lost revenues for the 2015-2027 period, resulting from CDM activity in the 2015-2022 period. This includes the ability to recover lost revenues that persist until the LDCs next COS application. The 2021 CDM Guidelines indicate that distributors filing an application for 2023 rates should seek disposition of all outstanding LRAMVA balances related to previously established thresholds. Distributors not rebasing for 2023 rates who have complete information on eligible savings (i.e., needing only to account for persistence of savings in future years) may seek a rate adjustment on a prospective basis to address amounts that would otherwise be recorded in the LRAMVA for all years until their next rebasing application. Prospective treatment will not be necessary for cost-of-service applications. More detailed instructions related to prospective LRAM-eligible amounts are included above Table 5-i (2023 Lost Revenue Work Form). Please input or manually link the savings, adjustments and program savings persistence data in these tables from the LDC's Persistence Reports provided by the IESO (in Tab 7). As noted earlier, persistence data is available upon request from the IESO. Please also be advised that the same rate classes (of up to 14) are carried over from the Summary Tab 1.
C19: 2. Please ensure that the IESO verified savings adjustments apply back to the program year it relates to. For example, savings adjustments related to 2016 programs that were reported by the IESO in 2017 should be included in the 2016 program savings table. In order for persisting savings to be claimed in future years, past year's initiative level savings results need to be filled out in the tables below. If the IESO adjustments were made available to the LDC after the LRAMVA was approved, the persistence of those savings adjustments in the future cannot be claimed as approved LRAMVA amounts are considered to be final.
C20: 3. The work forms below include the monthly multipliers for most programs in order to claim demand savings from energy efficiency programs, consistent with the monthly multipliers indicated in the OEB's updated LRAM policy related to peak demand savings in EB-2016-0182. Demand Response (DR3) savings should generally not be included with the LRAMVA calculation, unless suported by empirical evidence. LDCs are requested to confirm the monthly multipliers for all programs each year as placeholder values are provided. If a different monthly multiplier is used, please include rationale in Tab 1-a and highlight the new multiplier that has been used.
C21: 4. LDC are requested to input the applicable rate class allocation percentages to allocate actual savings to the rate classes. The generic template currently includes the same allocation percentage for program savings and its savings adjustments. If a different allocation is proposed for savings adjustments, LDCs must provide supporting rationale in Tab 1-a and highlight the change.
C22: 5. The persistence of future savings is expected to be included in the distributor's load forecast after re-basing. LDCs are requested to delete the applicable savings persistence rows (auto-calculated after the LRAMVA totals for the year) if future year's persistence of savings is already captured in the updated load forecast. Please also provide assumptions about the years in which persistence is captured in the load forecast calculation in the "Notes" section below each table. note #5: As noted above, the work form has been expanded to allow for persistence of savings and lost revenues into the future, up to the time of an LDCs next cost of service application. LDCs should include all persisting lost revenues in order to be able to close its LRAMVA balances entirely.
B24: Tables | C24: Table 5-a. 2015 Lost Revenues | F24: Table 5-f. 2021 Lost Revenues | J24: Table 5-f. 2027 Lost Revenues
C25: Table 5-b. 2016 Lost Revenues | F25: Table 5-f. 2022 Lost Revenues
C26: Table 5-c. 2017 Lost Revenues | F26: Table 5-f. 2023 Lost Revenues
C27: Table 5-d. 2018 Lost Revenues | F27: Table 5-f. 2024 Lost Revenues
C28: Table 5-e. 2019 Lost Revenues | F28: Table 5-f. 2025 Lost Revenues
C29: Table 5-f. 2020 Lost Revenues | F29: Table 5-f. 2026 Lost Revenues
B33: Table 5-a. 2015 Lost Revenues Work Form
B34: Program | C34: Results Status | D34: Net Energy Savings (kWh) | E34: Net Energy Savings Persistence (kWh) | U34: Monthly Multiplier | V34: Net Demand Savings (kW) | W34: Net Peak Demand Savings Persistence (kW) | AJ34: Rate Allocations for LRAMVA
D35: 2015 | E35: 2016 | F35: 2017 | G35: 2018 | H35: 2019 | I35: 2020 | J35: 2021 | K35: 2022 | L35: 2023 | M35: 2024 | N35: 2025 | O35: 2026 | P35: 2027 | Q35: 2028 | R35: 2029 | S35: 2030 | T35: 2031 | V35: 2015 | W35: 2016 | X35: 2017 | Y35: 2018 | Z35: 2019 | AA35: 2020 | AB35: 2021 | AC35: 2022 | AD35: 2023 | AE35: 2024 | AF35: 2025 | AG35: 2026 | AH35: 2027 | AI35: 2028 | AJ35: ='1. LRAMVA Summary'!$D$53 -> Residential - VRZ | AK35: ='1. LRAMVA Summary'!$E$53 -> GS<50 kW - VRZ | AL35: ='1. LRAMVA Summary'!$F$53 -> GS 50 to 2,999 kW - VRZ | AM35: ='1. LRAMVA Summary'!$G$53 -> GS 3,000 to 4,999 kW - VRZ | AN35: ='1. LRAMVA Summary'!$H$53 -> Large Use - VRZ | AO35: ='1. LRAMVA Summary'!$I$53 -> Unmetered Scattered Load - VRZ | AP35: ='1. LRAMVA Summary'!$J$53 -> Sentinel Lighting - VRZ | AQ35: ='1. LRAMVA Summary'!$K$53 -> Street Lighting - VRZ | AR35: ='1. LRAMVA Summary'!$L$53 -> Residential - WRZ | AS35: ='1. LRAMVA Summary'!$M$53 -> GS<50 kW - WRZ | AT35: ='1. LRAMVA Summary'!$N$53 -> GS>50 kw - WRZ | AU35: ='1. LRAMVA Summary'!$O$53 -> Street Lighting - WRZ | AV35: ='1. LRAMVA Summary'!$P$53 | AW35: ='1. LRAMVA Summary'!$Q$53 | AX35: ='1. LRAMVA Summary'!$R$53 -> Total
B36: VERIDIAN RATE ZONE | AJ36: ='1. LRAMVA Summary'!$D$54 -> kWh | AK36: ='1. LRAMVA Summary'!$E$54 -> kWh | AL36: ='1. LRAMVA Summary'!$F$54 -> kWh | AM36: ='1. LRAMVA Summary'!$G$54 -> kWh | AN36: ='1. LRAMVA Summary'!$H$54 -> kWh | AO36: ='1. LRAMVA Summary'!$I$54 -> kWh | AP36: ='1. LRAMVA Summary'!$J$54 -> kWh | AQ36: ='1. LRAMVA Summary'!$K$54 -> kWh | AR36: ='1. LRAMVA Summary'!$L$54 -> kWh | AS36: ='1. LRAMVA Summary'!$M$54 -> kWh | AT36: ='1. LRAMVA Summary'!$N$54 -> kWh | AU36: ='1. LRAMVA Summary'!$O$54 -> kWh | AV36: ='1. LRAMVA Summary'!$P$54 -> 0 | AW36: ='1. LRAMVA Summary'!$Q$54 -> 0
B37: Legacy Framework | R37: Added from IESO Persistence Report
B38: Residential Program
A39: 1 | B39: Coupon Initiative | C39: Verified | D39: 1183155 | E39: 1172349 | F39: 1172349 | G39: 1172349 | H39: 1172349 | I39: 1172349 | J39: 1172349 | K39: 1172105 | L39: 1172105 | M39: 1172105 | N39: 1078793 | O39: 1075041 | P39: 1075041 | Q39: ='Veridian Savings Persistence'!CT75 -> 1069202 | R39: ='Veridian Savings Persistence'!CU75 -> 1069202 | S39: ='Veridian Savings Persistence'!CV75 -> 1068760 | T39: ='Veridian Savings Persistence'!CW75 -> 402611 | V39: 78 | W39: 77 | X39: 77 | Y39: 77 | Z39: 77 | AA39: 77 | AB39: 77 | AC39: 77 | AD39: 77 | AE39: 77 | AF39: 67 | AG39: 67 | AH39: 67 | AI39: 67 | AJ39: 1 | AX39: =SUM(AJ39:AW39) -> 1 | AY39: =SUM(AJ39:AW39) -> 1
B40: Adjustment to 2015 savings | C40: True-up | D40: 260911 | E40: 257439 | F40: 257439 | G40: 257439 | H40: 257439 | I40: 257439 | J40: 257439 | K40: 257244 | L40: 257244 | M40: 257244 | N40: 242686 | O40: 242483 | P40: 242483 | Q40: ='Veridian Savings Persistence'!CT160 -> 238566 | R40: ='Veridian Savings Persistence'!CU160 -> 238566 | S40: ='Veridian Savings Persistence'!CV160 -> 238235 | T40: ='Veridian Savings Persistence'!CW160 -> 122199 | V40: 19 | W40: 18 | X40: 18 | Y40: 18 | Z40: 18 | AA40: 18 | AB40: 18 | AC40: 18 | AD40: 18 | AE40: 18 | AF40: 15 | AG40: 15 | AH40: 15 | AI40: 15 | AJ40: =AJ39 -> 1 | AR40: =AR39 -> 0 | AS40: =AS39 -> 0 | AT40: =AT39 -> 0 | AU40: =AU39 -> 0 | AV40: =AV39 -> 0 | AW40: =AW39 -> 0 | AY40: =SUM(AJ40:AW40) -> 1
AY41: =SUM(AJ41:AW41) -> 0
A42: 2 | B42: Bi-Annual Retailer Event Initiative | C42: Verified | D42: 2088014 | E42: 2050905 | F42: 2050905 | G42: 2050905 | H42: 2050905 | I42: 2050905 | J42: 2050905 | K42: 2049831 | L42: 2049831 | M42: 2049831 | N42: 1890239 | O42: 1792911 | P42: 1792911 | Q42: ='Veridian Savings Persistence'!CT76 -> 1754347 | R42: ='Veridian Savings Persistence'!CU76 -> 1754347 | S42: ='Veridian Savings Persistence'!CV76 -> 1750257 | T42: ='Veridian Savings Persistence'!CW76 -> 648406 | V42: 141 | W42: 139 | X42: 139 | Y42: 139 | Z42: 139 | AA42: 139 | AB42: 139 | AC42: 138 | AD42: 138 | AE42: 138 | AF42: 117 | AG42: 111 | AH42: 111 | AI42: 110 | AJ42: 1 | AX42: =SUM(AJ42:AW42) -> 1 | AY42: =SUM(AJ42:AW42) -> 1
B43: Adjustment to 2015 savings | C43: True-up | D43: 21584 | E43: 21331 | F43: 21331 | G43: 21331 | H43: 21331 | I43: 21331 | J43: 21331 | K43: 21277 | L43: 21277 | M43: 21277 | N43: 18046 | O43: 17898 | P43: 17898 | Q43: ='Veridian Savings Persistence'!CT161 -> 17348 | R43: ='Veridian Savings Persistence'!CU161 -> 17348 | S43: ='Veridian Savings Persistence'!CV161 -> 17284 | T43: ='Veridian Savings Persistence'!CW161 -> 7222 | V43: 1 | W43: 1 | X43: 1 | Y43: 1 | Z43: 1 | AA43: 1 | AB43: 1 | AC43: 1 | AD43: 1 | AE43: 1 | AF43: 1 | AG43: 1 | AH43: 1 | AI43: 1 | AJ43: =AJ42 -> 1 | AR43: =AR42 -> 0 | AS43: =AS42 -> 0 | AT43: =AT42 -> 0 | AU43: =AU42 -> 0 | AV43: =AV42 -> 0 | AW43: =AW42 -> 0 | AY43: =SUM(AJ43:AW43) -> 1
AY44: =SUM(AJ44:AW44) -> 0
A45: 3 | B45: Appliance Retirement Initiative | C45: Verified | D45: 47892 | E45: 47892 | F45: 47892 | G45: 46639 | H45: 21570 | I45: 0 | J45: 0 | K45: 0 | L45: 0 | M45: 0 | N45: 0 | O45: 0 | P45: 0 | Q45: 0 | R45: 0 | S45: 0 | T45: 0 | V45: 8 | W45: 8 | X45: 8 | Y45: 7 | Z45: 3 | AA45: 0 | AB45: 0 | AC45: 0 | AD45: 0 | AE45: 0 | AF45: 0 | AG45: 0 | AH45: 0 | AI45: 0 | AJ45: 1 | AX45: =SUM(AJ45:AW45) -> 1 | AY45: =SUM(AJ45:AW45) -> 1
B46: Adjustment to 2015 savings | C46: True-up | AJ46: =AJ45 -> 1 | AR46: =AR45 -> 0 | AS46: =AS45 -> 0 | AT46: =AT45 -> 0 | AU46: =AU45 -> 0 | AV46: =AV45 -> 0 | AW46: =AW45 -> 0 | AY46: =SUM(AJ46:AW46) -> 1
AY47: =SUM(AJ47:AW47) -> 0
A48: 4 | B48: HVAC Incentives Initiative | C48: Verified | D48: 1808692 | E48: 1808692 | F48: 1808692 | G48: 1808692 | H48: 1808692 | I48: 1808692 | J48: 1808692 | K48: 1808692 | L48: 1808692 | M48: 1808692 | N48: 1808692 | O48: 1808692 | P48: 1808692 | Q48: ='Veridian Savings Persistence'!CT77 -> 1808692 | R48: ='Veridian Savings Persistence'!CU77 -> 1808692 | S48: ='Veridian Savings Persistence'!CV77 -> 1808692 | T48: ='Veridian Savings Persistence'!CW77 -> 1808692 | V48: 946 | W48: 946 | X48: 946 | Y48: 946 | Z48: 946 | AA48: 946 | AB48: 946 | AC48: 946 | AD48: 946 | AE48: 946 | AF48: 946 | AG48: 946 | AH48: 946 | AI48: 946 | AJ48: 1 | AX48: =SUM(AJ48:AW48) -> 1 | AY48: =SUM(AJ48:AW48) -> 1
B49: Adjustment to 2015 savings | C49: True-up | D49: 45841 | E49: 45841 | F49: 45841 | G49: 45841 | H49: 45841 | I49: 45841 | J49: 45841 | K49: 45841 | L49: 45841 | M49: 45841 | N49: 45841 | O49: 45841 | P49: 45841 | Q49: ='Veridian Savings Persistence'!CT162 -> 45841 | R49: ='Veridian Savings Persistence'!CU162 -> 45841 | S49: ='Veridian Savings Persistence'!CV162 -> 45841 | T49: ='Veridian Savings Persistence'!CW162 -> 45841 | V49: 24 | W49: 24 | X49: 24 | Y49: 24 | Z49: 24 | AA49: 24 | AB49: 24 | AC49: 24 | AD49: 24 | AE49: 24 | AF49: 24 | AG49: 24 | AH49: 24 | AI49: 24 | AJ49: =AJ48 -> 1 | AR49: =AR48 -> 0 | AS49: =AS48 -> 0 | AT49: =AT48 -> 0 | AU49: =AU48 -> 0 | AV49: =AV48 -> 0 | AW49: =AW48 -> 0 | AY49: =SUM(AJ49:AW49) -> 1
AY50: =SUM(AJ50:AW50) -> 0
A51: 5 | B51: Residential New Construction and Major Renovation Initiative | C51: Verified | D51: 5803 | E51: 5803 | F51: 5803 | G51: 5803 | H51: 5803 | I51: 5803 | J51: 5803 | K51: 5803 | L51: 5803 | M51: 5803 | N51: 5292 | O51: 5292 | P51: 5292 | Q51: ='Veridian Savings Persistence'!CT78 -> 5292 | R51: ='Veridian Savings Persistence'!CU78 -> 5292 | S51: ='Veridian Savings Persistence'!CV78 -> 5292 | T51: ='Veridian Savings Persistence'!CW78 -> 5292 | V51: 2 | W51: 2 | X51: 2 | Y51: 2 | Z51: 2 | AA51: 2 | AB51: 2 | AC51: 2 | AD51: 2 | AE51: 2 | AF51: 2 | AG51: 2 | AH51: 2 | AI51: 2 | AJ51: 1 | AX51: =SUM(AJ51:AW51) -> 1 | AY51: =SUM(AJ51:AW51) -> 1
B52: Adjustment to 2015 savings | C52: True-up | AJ52: =AJ51 -> 1 | AR52: =AR51 -> 0 | AS52: =AS51 -> 0 | AT52: =AT51 -> 0 | AU52: =AU51 -> 0 | AV52: =AV51 -> 0 | AW52: =AW51 -> 0 | AY52: =SUM(AJ52:AW52) -> 1
AY53: =SUM(AJ53:AW53) -> 0
B54: Commercial & Institutional Program | AY54: =SUM(AJ54:AW54) -> 0
A55: 6 | B55: Energy Audit Initiative | C55: Verified | D55: 729262 | E55: 729262 | F55: 729262 | G55: 729262 | H55: 0 | I55: 0 | J55: 0 | K55: 0 | L55: 0 | M55: 0 | N55: 0 | O55: 0 | P55: 0 | Q55: 0 | R55: 0 | S55: 0 | T55: 0 | U55: 12 | V55: 155 | W55: 155 | X55: 155 | Y55: 155 | Z55: 0 | AA55: 0 | AB55: 0 | AC55: 0 | AD55: 0 | AE55: 0 | AF55: 0 | AG55: 0 | AH55: 0 | AI55: 0 | AK55: 0.1 | AL55: 0.9 | AX55: =SUM(AJ55:AW55) -> 1 | AY55: =SUM(AJ55:AW55) -> 1
B56: Adjustment to 2015 savings | C56: True-up | D56: 204740 | E56: 204740 | F56: 204740 | G56: 204740 | H56: 934004 | I56: 934004 | J56: 934004 | K56: 934004 | L56: 934004 | M56: 934004 | N56: 934004 | O56: 934004 | P56: 934004 | Q56: ='Veridian Savings Persistence'!CT164 -> 653803 | R56: ='Veridian Savings Persistence'!CU164 -> 0 | S56: ='Veridian Savings Persistence'!CV164 -> 0 | T56: ='Veridian Savings Persistence'!CW164 -> 0 | U56: =U55 -> 12 | V56: 44 | W56: 44 | X56: 44 | Y56: 44 | Z56: 203 | AA56: 203 | AB56: 203 | AC56: 203 | AD56: 203 | AE56: 203 | AF56: 203 | AG56: 203 | AH56: 203 | AI56: 142 | AK56: =AK55 -> 0.1 | AL56: =AL55 -> 0.9 | AR56: =AR55 -> 0 | AS56: =AS55 -> 0 | AT56: =AT55 -> 0 | AU56: =AU55 -> 0 | AV56: =AV55 -> 0 | AW56: =AW55 -> 0 | AY56: =SUM(AJ56:AW56) -> 1
AY57: =SUM(AJ57:AW57) -> 0
A58: 7 | B58: Efficiency: Equipment Replacement Incentive Initiative (excluding SL) | C58: Verified | D58: 7428449 | E58: 7428449 | F58: 7369294 | G58: 7369294 | H58: 7369294 | I58: 7362514 | J58: 7091811 | K58: 7091811 | L58: 7031168 | M58: 6127481 | N58: 3792078 | O58: 3643371 | P58: 2396453 | Q58: ='Veridian Savings Persistence'!CT80 -> 2368958 | R58: ='Veridian Savings Persistence'!CU80 -> 2368958 | S58: ='Veridian Savings Persistence'!CV80 -> 1733163 | T58: ='Veridian Savings Persistence'!CW80 -> 359569 | U58: 12 | V58: 1208 | W58: 1208 | X58: 1189 | Y58: 1189 | Z58: 1189 | AA58: 1187 | AB58: 1138 | AC58: 1138 | AD58: 1135 | AE58: 976 | AF58: 590 | AG58: 587 | AH58: 438 | AI58: 429 | AJ58: ='3-a. VRZ Rate Class Alloc.'!P406 -> 0.0069925461 | AK58: ='3-a. VRZ Rate Class Alloc.'!Q406 -> 0.12447966 | AL58: =1-AJ58-AK58-AM58-AN58-AO58 -> 0.77230469 | AM58: ='3-a. VRZ Rate Class Alloc.'!S406 -> 0.026956416 | AN58: ='3-a. VRZ Rate Class Alloc.'!T406 -> 0.069139879 | AO58: ='3-a. VRZ Rate Class Alloc.'!U406 -> 0.00012681547 | AX58: =SUM(AJ58:AW58) -> 1 | AY58: =SUM(AJ58:AW58) -> 1
...

Sheet Veridian Savings Persistence
B1: Savings Persistence Report | AP1: Gross Verified Energy Savings | CC1: Gross Verified Peak Demand Savings | CE1: Gross Verified Savings | DR1: Net Verified Energy Savings | FE1: Net Verified Peak Demand Savings | FG1: Net Verified Savings
B2: For: Veridian Connections Inc.
B4: # | C4: Program / Initiative Name | E4: Gross Verified Annual Energy Savings (kWh) | AR4: Gross Verified Annual Peak Demand Savings (kW) | CG4: Net Verified Annual Energy Savings (kWh) | DT4: Net Verified Annual Peak Demand Savings (kW) | FI4: Blank Row
E5: 2015 | F5: 2016 | G5: 2017 | H5: 2018 | I5: 2019 | J5: 2020 | K5: 2021 | L5: 2022 | M5: 2023 | N5: 2024 | O5: 2025 | P5: 2026 | Q5: 2027 | R5: 2028 | S5: 2029 | T5: 2030 | U5: 2031 | V5: 2032 | W5: 2033 | X5: 2034 | Y5: 2035 | Z5: 2036 | AA5: 2037 | AB5: 2038 | AC5: 2039 | AD5: 2040 | AE5: 2041 | AF5: 2042 | AG5: 2043 | AH5: 2044 | AI5: 2045 | AJ5: 2046 | AK5: 2047 | AL5: 2048 | AM5: 2049 | AN5: 2050 | AR5: 2015 | AS5: 2016 | AT5: 2017 | AU5: 2018 | AV5: 2019 | AW5: 2020 | AX5: 2021 | AY5: 2022 | AZ5: 2023 | BA5: 2024 | BB5: 2025 | BC5: 2026 | BD5: 2027 | BE5: 2028 | BF5: 2029 | BG5: 2030 | BH5: 2031 | BI5: 2032 | BJ5: 2033 | BK5: 2034 | BL5: 2035 | BM5: 2036 | BN5: 2037 | BO5: 2038 | BP5: 2039 | BQ5: 2040 | BR5: 2041 | BS5: 2042 | BT5: 2043 | BU5: 2044 | BV5: 2045 | BW5: 2046 | BX5: 2047 | BY5: 2048 | BZ5: 2049 | CA5: 2050 | CG5: 2015 | CH5: 2016 | CI5: 2017 | CJ5: 2018 | CK5: 2019 | CL5: 2020 | CM5: 2021 | CN5: 2022 | CO5: 2023 | CP5: 2024 | CQ5: 2025 | CR5: 2026 | CS5: 2027 | CT5: 2028 | CU5: 2029 | CV5: 2030 | CW5: 2031 | CX5: 2032 | CY5: 2033 | CZ5: 2034 | DA5: 2035 | DB5: 2036 | DC5: 2037 | DD5: 2038 | DE5: 2039 | DF5: 2040 | DG5: 2041 | DH5: 2042 | DI5: 2043 | DJ5: 2044 | DK5: 2045 | DL5: 2046 | DM5: 2047 | DN5: 2048 | DO5: 2049 | DP5: 2050 | DT5: 2015 | DU5: 2016 | DV5: 2017 | DW5: 2018 | DX5: 2019 | DY5: 2020 | DZ5: 2021 | EA5: 2022 | EB5: 2023 | EC5: 2024 | ED5: 2025 | EE5: 2026 | EF5: 2027 | EG5: 2028 | EH5: 2029 | EI5: 2030 | EJ5: 2031 | EK5: 2032 | EL5: 2033 | EM5: 2034 | EN5: 2035 | EO5: 2036 | EP5: 2037 | EQ5: 2038 | ER5: 2039 | ES5: 2040 | ET5: 2041 | EU5: 2042 | EV5: 2043 | EW5: 2044 | EX5: 2045 | EY5: 2046 | EZ5: 2047 | FA5: 2048 | FB5: 2049 | FC5: 2050
B7: 2015 Verified 2015 Results
B8: 1 | C8: Save on Energy Coupon Program | E8: 0 | F8: 0 | G8: 0 | H8: 0 | I8: 0 | J8: 0 | K8: 0 | L8: 0 | M8: 0 | N8: 0 | O8: 0 | P8: 0 | Q8: 0 | R8: 0 | S8: 0 | T8: 0 | U8: 0 | V8: 0 | W8: 0 | X8: 0 | Y8: 0 | Z8: 0 | AA8: 0 | AB8: 0 | AC8: 0 | AD8: 0 | AE8: 0 | AF8: 0 | AG8: 0 | AH8: 0 | AI8: 0 | AJ8: 0 | AK8: 0 | AL8: 0 | AM8: 0 | AN8: 0 | AR8: 0 | AS8: 0 | AT8: 0 | AU8: 0 | AV8: 0 | AW8: 0 | AX8: 0 | AY8: 0 | AZ8: 0 | BA8: 0 | BB8: 0 | BC8: 0 | BD8: 0 | BE8: 0 | BF8: 0 | BG8: 0 | BH8: 0 | BI8: 0 | BJ8: 0 | BK8: 0 | BL8: 0 | BM8: 0 | BN8: 0 | BO8: 0 | BP8: 0 | BQ8: 0 | BR8: 0 | BS8: 0 | BT8: 0 | BU8: 0 | BV8: 0 | BW8: 0 | BX8: 0 | BY8: 0 | BZ8: 0 | CA8: 0 | CG8: 0 | CH8: 0 | CI8: 0 | CJ8: 0 | CK8: 0 | CL8: 0 | CM8: 0 | CN8: 0 | CO8: 0 | CP8: 0 | CQ8: 0 | CR8: 0 | CS8: 0 | CT8: 0 | CU8: 0 | CV8: 0 | CW8: 0 | CX8: 0 | CY8: 0 | CZ8: 0 | DA8: 0 | DB8: 0 | DC8: 0 | DD8: 0 | DE8: 0 | DF8: 0 | DG8: 0 | DH8: 0 | DI8: 0 | DJ8: 0 | DK8: 0 | DL8: 0 | DM8: 0 | DN8: 0 | DO8: 0 | DP8: 0 | DT8: 0 | DU8: 0 | DV8: 0 | DW8: 0 | DX8: 0 | DY8: 0 | DZ8: 0 | EA8: 0 | EB8: 0 | EC8: 0 | ED8: 0 | EE8: 0 | EF8: 0 | EG8: 0 | EH8: 0 | EI8: 0 | EJ8: 0 | EK8: 0 | EL8: 0 | EM8: 0 | EN8: 0 | EO8: 0 | EP8: 0 | EQ8: 0 | ER8: 0 | ES8: 0 | ET8: 0 | EU8: 0 | EV8: 0 | EW8: 0 | EX8: 0 | EY8: 0 | EZ8: 0 | FA8: 0 | FB8: 0 | FC8: 0 | FI8: TRUE
B9: 2 | C9: Save on Energy Instant Discount Program | E9: 0 | F9: 0 | G9: 0 | H9: 0 | I9: 0 | J9: 0 | K9: 0 | L9: 0 | M9: 0 | N9: 0 | O9: 0 | P9: 0 | Q9: 0 | R9: 0 | S9: 0 | T9: 0 | U9: 0 | V9: 0 | W9: 0 | X9: 0 | Y9: 0 | Z9: 0 | AA9: 0 | AB9: 0 | AC9: 0 | AD9: 0 | AE9: 0 | AF9: 0 | AG9: 0 | AH9: 0 | AI9: 0 | AJ9: 0 | AK9: 0 | AL9: 0 | AM9: 0 | AN9: 0 | AR9: 0 | AS9: 0 | AT9: 0 | AU9: 0 | AV9: 0 | AW9: 0 | AX9: 0 | AY9: 0 | AZ9: 0 | BA9: 0 | BB9: 0 | BC9: 0 | BD9: 0 | BE9: 0 | BF9: 0 | BG9: 0 | BH9: 0 | BI9: 0 | BJ9: 0 | BK9: 0 | BL9: 0 | BM9: 0 | BN9: 0 | BO9: 0 | BP9: 0 | BQ9: 0 | BR9: 0 | BS9: 0 | BT9: 0 | BU9: 0 | BV9: 0 | BW9: 0 | BX9: 0 | BY9: 0 | BZ9: 0 | CA9: 0 | CG9: 0 | CH9: 0 | CI9: 0 | CJ9: 0 | CK9: 0 | CL9: 0 | CM9: 0 | CN9: 0 | CO9: 0 | CP9: 0 | CQ9: 0 | CR9: 0 | CS9: 0 | CT9: 0 | CU9: 0 | CV9: 0 | CW9: 0 | CX9: 0 | CY9: 0 | CZ9: 0 | DA9: 0 | DB9: 0 | DC9: 0 | DD9: 0 | DE9: 0 | DF9: 0 | DG9: 0 | DH9: 0 | DI9: 0 | DJ9: 0 | DK9: 0 | DL9: 0 | DM9: 0 | DN9: 0 | DO9: 0 | DP9: 0 | DT9: 0 | DU9: 0 | DV9: 0 | DW9: 0 | DX9: 0 | DY9: 0 | DZ9: 0 | EA9: 0 | EB9: 0 | EC9: 0 | ED9: 0 | EE9: 0 | EF9: 0 | EG9: 0 | EH9: 0 | EI9: 0 | EJ9: 0 | EK9: 0 | EL9: 0 | EM9: 0 | EN9: 0 | EO9: 0 | EP9: 0 | EQ9: 0 | ER9: 0 | ES9: 0 | ET9: 0 | EU9: 0 | EV9: 0 | EW9: 0 | EX9: 0 | EY9: 0 | EZ9: 0 | FA9: 0 | FB9: 0 | FC9: 0 | FI9: TRUE
B10: 3 | C10: Save on Energy Heating & Cooling Program | E10: 0 | F10: 0 | G10: 0 | H10: 0 | I10: 0 | J10: 0 | K10: 0 | L10: 0 | M10: 0 | N10: 0 | O10: 0 | P10: 0 | Q10: 0 | R10: 0 | S10: 0 | T10: 0 | U10: 0 | V10: 0 | W10: 0 | X10: 0 | Y10: 0 | Z10: 0 | AA10: 0 | AB10: 0 | AC10: 0 | AD10: 0 | AE10: 0 | AF10: 0 | AG10: 0 | AH10: 0 | AI10: 0 | AJ10: 0 | AK10: 0 | AL10: 0 | AM10: 0 | AN10: 0 | AR10: 0 | AS10: 0 | AT10: 0 | AU10: 0 | AV10: 0 | AW10: 0 | AX10: 0 | AY10: 0 | AZ10: 0 | BA10: 0 | BB10: 0 | BC10: 0 | BD10: 0 | BE10: 0 | BF10: 0 | BG10: 0 | BH10: 0 | BI10: 0 | BJ10: 0 | BK10: 0 | BL10: 0 | BM10: 0 | BN10: 0 | BO10: 0 | BP10: 0 | BQ10: 0 | BR10: 0 | BS10: 0 | BT10: 0 | BU10: 0 | BV10: 0 | BW10: 0 | BX10: 0 | BY10: 0 | BZ10: 0 | CA10: 0 | CG10: 0 | CH10: 0 | CI10: 0 | CJ10: 0 | CK10: 0 | CL10: 0 | CM10: 0 | CN10: 0 | CO10: 0 | CP10: 0 | CQ10: 0 | CR10: 0 | CS10: 0 | CT10: 0 | CU10: 0 | CV10: 0 | CW10: 0 | CX10: 0 | CY10: 0 | CZ10: 0 | DA10: 0 | DB10: 0 | DC10: 0 | DD10: 0 | DE10: 0 | DF10: 0 | DG10: 0 | DH10: 0 | DI10: 0 | DJ10: 0 | DK10: 0 | DL10: 0 | DM10: 0 | DN10: 0 | DO10: 0 | DP10: 0 | DT10: 0 | DU10: 0 | DV10: 0 | DW10: 0 | DX10: 0 | DY10: 0 | DZ10: 0 | EA10: 0 | EB10: 0 | EC10: 0 | ED10: 0 | EE10: 0 | EF10: 0 | EG10: 0 | EH10: 0 | EI10: 0 | EJ10: 0 | EK10: 0 | EL10: 0 | EM10: 0 | EN10: 0 | EO10: 0 | EP10: 0 | EQ10: 0 | ER10: 0 | ES10: 0 | ET10: 0 | EU10: 0 | EV10: 0 | EW10: 0 | EX10: 0 | EY10: 0 | EZ10: 0 | FA10: 0 | FB10: 0 | FC10: 0 | FI10: TRUE
B11: 4 | C11: Save on Energy New Construction Program | E11: 0 | F11: 0 | G11: 0 | H11: 0 | I11: 0 | J11: 0 | K11: 0 | L11: 0 | M11: 0 | N11: 0 | O11: 0 | P11: 0 | Q11: 0 | R11: 0 | S11: 0 | T11: 0 | U11: 0 | V11: 0 | W11: 0 | X11: 0 | Y11: 0 | Z11: 0 | AA11: 0 | AB11: 0 | AC11: 0 | AD11: 0 | AE11: 0 | AF11: 0 | AG11: 0 | AH11: 0 | AI11: 0 | AJ11: 0 | AK11: 0 | AL11: 0 | AM11: 0 | AN11: 0 | AR11: 0 | AS11: 0 | AT11: 0 | AU11: 0 | AV11: 0 | AW11: 0 | AX11: 0 | AY11: 0 | AZ11: 0 | BA11: 0 | BB11: 0 | BC11: 0 | BD11: 0 | BE11: 0 | BF11: 0 | BG11: 0 | BH11: 0 | BI11: 0 | BJ11: 0 | BK11: 0 | BL11: 0 | BM11: 0 | BN11: 0 | BO11: 0 | BP11: 0 | BQ11: 0 | BR11: 0 | BS11: 0 | BT11: 0 | BU11: 0 | BV11: 0 | BW11: 0 | BX11: 0 | BY11: 0 | BZ11: 0 | CA11: 0 | CG11: 0 | CH11: 0 | CI11: 0 | CJ11: 0 | CK11: 0 | CL11: 0 | CM11: 0 | CN11: 0 | CO11: 0 | CP11: 0 | CQ11: 0 | CR11: 0 | CS11: 0 | CT11: 0 | CU11: 0 | CV11: 0 | CW11: 0 | CX11: 0 | CY11: 0 | CZ11: 0 | DA11: 0 | DB11: 0 | DC11: 0 | DD11: 0 | DE11: 0 | DF11: 0 | DG11: 0 | DH11: 0 | DI11: 0 | DJ11: 0 | DK11: 0 | DL11: 0 | DM11: 0 | DN11: 0 | DO11: 0 | DP11: 0 | DT11: 0 | DU11: 0 | DV11: 0 | DW11: 0 | DX11: 0 | DY11: 0 | DZ11: 0 | EA11: 0 | EB11: 0 | EC11: 0 | ED11: 0 | EE11: 0 | EF11: 0 | EG11: 0 | EH11: 0 | EI11: 0 | EJ11: 0 | EK11: 0 | EL11: 0 | EM11: 0 | EN11: 0 | EO11: 0 | EP11: 0 | EQ11: 0 | ER11: 0 | ES11: 0 | ET11: 0 | EU11: 0 | EV11: 0 | EW11: 0 | EX11: 0 | EY11: 0 | EZ11: 0 | FA11: 0 | FB11: 0 | FC11: 0 | FI11: TRUE
B12: 5 | C12: Save on Energy Home Assistance Program | E12: 0 | F12: 0 | G12: 0 | H12: 0 | I12: 0 | J12: 0 | K12: 0 | L12: 0 | M12: 0 | N12: 0 | O12: 0 | P12: 0 | Q12: 0 | R12: 0 | S12: 0 | T12: 0 | U12: 0 | V12: 0 | W12: 0 | X12: 0 | Y12: 0 | Z12: 0 | AA12: 0 | AB12: 0 | AC12: 0 | AD12: 0 | AE12: 0 | AF12: 0 | AG12: 0 | AH12: 0 | AI12: 0 | AJ12: 0 | AK12: 0 | AL12: 0 | AM12: 0 | AN12: 0 | AR12: 0 | AS12: 0 | AT12: 0 | AU12: 0 | AV12: 0 | AW12: 0 | AX12: 0 | AY12: 0 | AZ12: 0 | BA12: 0 | BB12: 0 | BC12: 0 | BD12: 0 | BE12: 0 | BF12: 0 | BG12: 0 | BH12: 0 | BI12: 0 | BJ12: 0 | BK12: 0 | BL12: 0 | BM12: 0 | BN12: 0 | BO12: 0 | BP12: 0 | BQ12: 0 | BR12: 0 | BS12: 0 | BT12: 0 | BU12: 0 | BV12: 0 | BW12: 0 | BX12: 0 | BY12: 0 | BZ12: 0 | CA12: 0 | CG12: 0 | CH12: 0 | CI12: 0 | CJ12: 0 | CK12: 0 | CL12: 0 | CM12: 0 | CN12: 0 | CO12: 0 | CP12: 0 | CQ12: 0 | CR12: 0 | CS12: 0 | CT12: 0 | CU12: 0 | CV12: 0 | CW12: 0 | CX12: 0 | CY12: 0 | CZ12: 0 | DA12: 0 | DB12: 0 | DC12: 0 | DD12: 0 | DE12: 0 | DF12: 0 | DG12: 0 | DH12: 0 | DI12: 0 | DJ12: 0 | DK12: 0 | DL12: 0 | DM12: 0 | DN12: 0 | DO12: 0 | DP12: 0 | DT12: 0 | DU12: 0 | DV12: 0 | DW12: 0 | DX12: 0 | DY12: 0 | DZ12: 0 | EA12: 0 | EB12: 0 | EC12: 0 | ED12: 0 | EE12: 0 | EF12: 0 | EG12: 0 | EH12: 0 | EI12: 0 | EJ12: 0 | EK12: 0 | EL12: 0 | EM12: 0 | EN12: 0 | EO12: 0 | EP12: 0 | EQ12: 0 | ER12: 0 | ES12: 0 | ET12: 0 | EU12: 0 | EV12: 0 | EW12: 0 | EX12: 0 | EY12: 0 | EZ12: 0 | FA12: 0 | FB12: 0 | FC12: 0 | FI12: TRUE
B13: 6 | C13: Save on Energy Audit Funding Program | E13: 0 | F13: 0 | G13: 0 | H13: 0 | I13: 0 | J13: 0 | K13: 0 | L13: 0 | M13: 0 | N13: 0 | O13: 0 | P13: 0 | Q13: 0 | R13: 0 | S13: 0 | T13: 0 | U13: 0 | V13: 0 | W13: 0 | X13: 0 | Y13: 0 | Z13: 0 | AA13: 0 | AB13: 0 | AC13: 0 | AD13: 0 | AE13: 0 | AF13: 0 | AG13: 0 | AH13: 0 | AI13: 0 | AJ13: 0 | AK13: 0 | AL13: 0 | AM13: 0 | AN13: 0 | AR13: 0 | AS13: 0 | AT13: 0 | AU13: 0 | AV13: 0 | AW13: 0 | AX13: 0 | AY13: 0 | AZ13: 0 | BA13: 0 | BB13: 0 | BC13: 0 | BD13: 0 | BE13: 0 | BF13: 0 | BG13: 0 | BH13: 0 | BI13: 0 | BJ13: 0 | BK13: 0 | BL13: 0 | BM13: 0 | BN13: 0 | BO13: 0 | BP13: 0 | BQ13: 0 | BR13: 0 | BS13: 0 | BT13: 0 | BU13: 0 | BV13: 0 | BW13: 0 | BX13: 0 | BY13: 0 | BZ13: 0 | CA13: 0 | CG13: 0 | CH13: 0 | CI13: 0 | CJ13: 0 | CK13: 0 | CL13: 0 | CM13: 0 | CN13: 0 | CO13: 0 | CP13: 0 | CQ13: 0 | CR13: 0 | CS13: 0 | CT13: 0 | CU13: 0 | CV13: 0 | CW13: 0 | CX13: 0 | CY13: 0 | CZ13: 0 | DA13: 0 | DB13: 0 | DC13: 0 | DD13: 0 | DE13: 0 | DF13: 0 | DG13: 0 | DH13: 0 | DI13: 0 | DJ13: 0 | DK13: 0 | DL13: 0 | DM13: 0 | DN13: 0 | DO13: 0 | DP13: 0 | DT13: 0 | DU13: 0 | DV13: 0 | DW13: 0 | DX13: 0 | DY13: 0 | DZ13: 0 | EA13: 0 | EB13: 0 | EC13: 0 | ED13: 0 | EE13: 0 | EF13: 0 | EG13: 0 | EH13: 0 | EI13: 0 | EJ13: 0 | EK13: 0 | EL13: 0 | EM13: 0 | EN13: 0 | EO13: 0 | EP13: 0 | EQ13: 0 | ER13: 0 | ES13: 0 | ET13: 0 | EU13: 0 | EV13: 0 | EW13: 0 | EX13: 0 | EY13: 0 | EZ13: 0 | FA13: 0 | FB13: 0 | FC13: 0 | FI13: TRUE
B14: 7 | C14: Save on Energy Retrofit Program | E14: 860886 | F14: 860886 | G14: 855017 | H14: 855017 | I14: 855017 | J14: 855017 | K14: 825025 | L14: 825025 | M14: 825025 | N14: 727266 | O14: 493846 | P14: 493846 | Q14: 241783 | R14: 183478 | S14: 183478 | T14: 125613 | U14: 36043 | V14: 36043 | W14: 36043 | X14: 36043 | Y14: 0 | Z14: 0 | AA14: 0 | AB14: 0 | AC14: 0 | AD14: 0 | AE14: 0 | AF14: 0 | AG14: 0 | AH14: 0 | AI14: 0 | AJ14: 0 | AK14: 0 | AL14: 0 | AM14: 0 | AN14: 0 | AR14: 149 | AS14: 149 | AT14: 147 | AU14: 147 | AV14: 147 | AW14: 147 | AX14: 142 | AY14: 142 | AZ14: 142 | BA14: 126 | BB14: 87 | BC14: 87 | BD14: 67 | BE14: 48 | BF14: 48 | BG14: 35 | BH14: 16 | BI14: 16 | BJ14: 16 | BK14: 16 | BL14: 0 | BM14: 0 | BN14: 0 | BO14: 0 | BP14: 0 | BQ14: 0 | BR14: 0 | BS14: 0 | BT14: 0 | BU14: 0 | BV14: 0 | BW14: 0 | BX14: 0 | BY14: 0 | BZ14: 0 | CA14: 0 | CG14: 659315 | CH14: 659315 | CI14: 654657 | CJ14: 654657 | CK14: 654657 | CL14: 654657 | CM14: 632190 | CN14: 632190 | CO14: 632190 | CP14: 558960 | CQ14: 384108 | CR14: 384108 | CS14: 184057 | CT14: 137782 | CU14: 137782 | CV14: 94219 | CW14: 28349 | CX14: 28349 | CY14: 28349 | CZ14: 28349 | DA14: 0 | DB14: 0 | DC14: 0 | DD14: 0 | DE14: 0 | DF14: 0 | DG14: 0 | DH14: 0 | DI14: 0 | DJ14: 0 | DK14: 0 | DL14: 0 | DM14: 0 | DN14: 0 | DO14: 0 | DP14: 0 | DT14: 113 | DU14: 113 | DV14: 112 | DW14: 112 | DX14: 112 | DY14: 112 | DZ14: 108 | EA14: 108 | EB14: 108 | EC14: 96 | ED14: 67 | EE14: 67 | EF14: 51 | EG14: 36 | EH14: 36 | EI14: 26 | EJ14: 12 | EK14: 12 | EL14: 12 | EM14: 12 | EN14: 0 | EO14: 0 | EP14: 0 | EQ14: 0 | ER14: 0 | ES14: 0 | ET14: 0 | EU14: 0 | EV14: 0 | EW14: 0 | EX14: 0 | EY14: 0 | EZ14: 0 | FA14: 0 | FB14: 0 | FC14: 0 | FI14: FALSE
B15: 8 | C15: Save on Energy Small Business Lighting Program | E15: 0 | F15: 0 | G15: 0 | H15: 0 | I15: 0 | J15: 0 | K15: 0 | L15: 0 | M15: 0 | N15: 0 | O15: 0 | P15: 0 | Q15: 0 | R15: 0 | S15: 0 | T15: 0 | U15: 0 | V15: 0 | W15: 0 | X15: 0 | Y15: 0 | Z15: 0 | AA15: 0 | AB15: 0 | AC15: 0 | AD15: 0 | AE15: 0 | AF15: 0 | AG15: 0 | AH15: 0 | AI15: 0 | AJ15: 0 | AK15: 0 | AL15: 0 | AM15: 0 | AN15: 0 | AR15: 0 | AS15: 0 | AT15: 0 | AU15: 0 | AV15: 0 | AW15: 0 | AX15: 0 | AY15: 0 | AZ15: 0 | BA15: 0 | BB15: 0 | BC15: 0 | BD15: 0 | BE15: 0 | BF15: 0 | BG15: 0 | BH15: 0 | BI15: 0 | BJ15: 0 | BK15: 0 | BL15: 0 | BM15: 0 | BN15: 0 | BO15: 0 | BP15: 0 | BQ15: 0 | BR15: 0 | BS15: 0 | BT15: 0 | BU15: 0 | BV15: 0 | BW15: 0 | BX15: 0 | BY15: 0 | BZ15: 0 | CA15: 0 | CG15: 0 | CH15: 0 | CI15: 0 | CJ15: 0 | CK15: 0 | CL15: 0 | CM15: 0 | CN15: 0 | CO15: 0 | CP15: 0 | CQ15: 0 | CR15: 0 | CS15: 0 | CT15: 0 | CU15: 0 | CV15: 0 | CW15: 0 | CX15: 0 | CY15: 0 | CZ15: 0 | DA15: 0 | DB15: 0 | DC15: 0 | DD15: 0 | DE15: 0 | DF15: 0 | DG15: 0 | DH15: 0 | DI15: 0 | DJ15: 0 | DK15: 0 | DL15: 0 | DM15: 0 | DN15: 0 | DO15: 0 | DP15: 0 | DT15: 0 | DU15: 0 | DV15: 0 | DW15: 0 | DX15: 0 | DY15: 0 | DZ15: 0 | EA15: 0 | EB15: 0 | EC15: 0 | ED15: 0 | EE15: 0 | EF15: 0 | EG15: 0 | EH15: 0 | EI15: 0 | EJ15: 0 | EK15: 0 | EL15: 0 | EM15: 0 | EN15: 0 | EO15: 0 | EP15: 0 | EQ15: 0 | ER15: 0 | ES15: 0 | ET15: 0 | EU15: 0 | EV15: 0 | EW15: 0 | EX15: 0 | EY15: 0 | EZ15: 0 | FA15: 0 | FB15: 0 | FC15: 0 | FI15: TRUE
B16: 9 | C16: Save on Energy High Performance New Construction Program | E16: 0 | F16: 0 | G16: 0 | H16: 0 | I16: 0 | J16: 0 | K16: 0 | L16: 0 | M16: 0 | N16: 0 | O16: 0 | P16: 0 | Q16: 0 | R16: 0 | S16: 0 | T16: 0 | U16: 0 | V16: 0 | W16: 0 | X16: 0 | Y16: 0 | Z16: 0 | AA16: 0 | AB16: 0 | AC16: 0 | AD16: 0 | AE16: 0 | AF16: 0 | AG16: 0 | AH16: 0 | AI16: 0 | AJ16: 0 | AK16: 0 | AL16: 0 | AM16: 0 | AN16: 0 | AR16: 0 | AS16: 0 | AT16: 0 | AU16: 0 | AV16: 0 | AW16: 0 | AX16: 0 | AY16: 0 | AZ16: 0 | BA16: 0 | BB16: 0 | BC16: 0 | BD16: 0 | BE16: 0 | BF16: 0 | BG16: 0 | BH16: 0 | BI16: 0 | BJ16: 0 | BK16: 0 | BL16: 0 | BM16: 0 | BN16: 0 | BO16: 0 | BP16: 0 | BQ16: 0 | BR16: 0 | BS16: 0 | BT16: 0 | BU16: 0 | BV16: 0 | BW16: 0 | BX16: 0 | BY16: 0 | BZ16: 0 | CA16: 0 | CG16: 0 | CH16: 0 | CI16: 0 | CJ16: 0 | CK16: 0 | CL16: 0 | CM16: 0 | CN16: 0 | CO16: 0 | CP16: 0 | CQ16: 0 | CR16: 0 | CS16: 0 | CT16: 0 | CU16: 0 | CV16: 0 | CW16: 0 | CX16: 0 | CY16: 0 | CZ16: 0 | DA16: 0 | DB16: 0 | DC16: 0 | DD16: 0 | DE16: 0 | DF16: 0 | DG16: 0 | DH16: 0 | DI16: 0 | DJ16: 0 | DK16: 0 | DL16: 0 | DM16: 0 | DN16: 0 | DO16: 0 | DP16: 0 | DT16: 0 | DU16: 0 | DV16: 0 | DW16: 0 | DX16: 0 | DY16: 0 | DZ16: 0 | EA16: 0 | EB16: 0 | EC16: 0 | ED16: 0 | EE16: 0 | EF16: 0 | EG16: 0 | EH16: 0 | EI16: 0 | EJ16: 0 | EK16: 0 | EL16: 0 | EM16: 0 | EN16: 0 | EO16: 0 | EP16: 0 | EQ16: 0 | ER16: 0 | ES16: 0 | ET16: 0 | EU16: 0 | EV16: 0 | EW16: 0 | EX16: 0 | EY16: 0 | EZ16: 0 | FA16: 0 | FB16: 0 | FC16: 0 | FI16: TRUE
B17: 10 | C17: Save on Energy Existing Building Commissioning Program | E17: 0 | F17: 0 | G17: 0 | H17: 0 | I17: 0 | J17: 0 | K17: 0 | L17: 0 | M17: 0 | N17: 0 | O17: 0 | P17: 0 | Q17: 0 | R17: 0 | S17: 0 | T17: 0 | U17: 0 | V17: 0 | W17: 0 | X17: 0 | Y17: 0 | Z17: 0 | AA17: 0 | AB17: 0 | AC17: 0 | AD17: 0 | AE17: 0 | AF17: 0 | AG17: 0 | AH17: 0 | AI17: 0 | AJ17: 0 | AK17: 0 | AL17: 0 | AM17: 0 | AN17: 0 | AR17: 0 | AS17: 0 | AT17: 0 | AU17: 0 | AV17: 0 | AW17: 0 | AX17: 0 | AY17: 0 | AZ17: 0 | BA17: 0 | BB17: 0 | BC17: 0 | BD17: 0 | BE17: 0 | BF17: 0 | BG17: 0 | BH17: 0 | BI17: 0 | BJ17: 0 | BK17: 0 | BL17: 0 | BM17: 0 | BN17: 0 | BO17: 0 | BP17: 0 | BQ17: 0 | BR17: 0 | BS17: 0 | BT17: 0 | BU17: 0 | BV17: 0 | BW17: 0 | BX17: 0 | BY17: 0 | BZ17: 0 | CA17: 0 | CG17: 0 | CH17: 0 | CI17: 0 | CJ17: 0 | CK17: 0 | CL17: 0 | CM17: 0 | CN17: 0 | CO17: 0 | CP17: 0 | CQ17: 0 | CR17: 0 | CS17: 0 | CT17: 0 | CU17: 0 | CV17: 0 | CW17: 0 | CX17: 0 | CY17: 0 | CZ17: 0 | DA17: 0 | DB17: 0 | DC17: 0 | DD17: 0 | DE17: 0 | DF17: 0 | DG17: 0 | DH17: 0 | DI17: 0 | DJ17: 0 | DK17: 0 | DL17: 0 | DM17: 0 | DN17: 0 | DO17: 0 | DP17: 0 | DT17: 0 | DU17: 0 | DV17: 0 | DW17: 0 | DX17: 0 | DY17: 0 | DZ17: 0 | EA17: 0 | EB17: 0 | EC17: 0 | ED17: 0 | EE17: 0 | EF17: 0 | EG17: 0 | EH17: 0 | EI17: 0 | EJ17: 0 | EK17: 0 | EL17: 0 | EM17: 0 | EN17: 0 | EO17: 0 | EP17: 0 | EQ17: 0 | ER17: 0 | ES17: 0 | ET17: 0 | EU17: 0 | EV17: 0 | EW17: 0 | EX17: 0 | EY17: 0 | EZ17: 0 | FA17: 0 | FB17: 0 | FC17: 0 | FI17: TRUE
B18: 11 | C18: Save on Energy Business Refrigeration Incentive Program | E18: 0 | F18: 0 | G18: 0 | H18: 0 | I18: 0 | J18: 0 | K18: 0 | L18: 0 | M18: 0 | N18: 0 | O18: 0 | P18: 0 | Q18: 0 | R18: 0 | S18: 0 | T18: 0 | U18: 0 | V18: 0 | W18: 0 | X18: 0 | Y18: 0 | Z18: 0 | AA18: 0 | AB18: 0 | AC18: 0 | AD18: 0 | AE18: 0 | AF18: 0 | AG18: 0 | AH18: 0 | AI18: 0 | AJ18: 0 | AK18: 0 | AL18: 0 | AM18: 0 | AN18: 0 | AR18: 0 | AS18: 0 | AT18: 0 | AU18: 0 | AV18: 0 | AW18: 0 | AX18: 0 | AY18: 0 | AZ18: 0 | BA18: 0 | BB18: 0 | BC18: 0 | BD18: 0 | BE18: 0 | BF18: 0 | BG18: 0 | BH18: 0 | BI18: 0 | BJ18: 0 | BK18: 0 | BL18: 0 | BM18: 0 | BN18: 0 | BO18: 0 | BP18: 0 | BQ18: 0 | BR18: 0 | BS18: 0 | BT18: 0 | BU18: 0 | BV18: 0 | BW18: 0 | BX18: 0 | BY18: 0 | BZ18: 0 | CA18: 0 | CG18: 0 | CH18: 0 | CI18: 0 | CJ18: 0 | CK18: 0 | CL18: 0 | CM18: 0 | CN18: 0 | CO18: 0 | CP18: 0 | CQ18: 0 | CR18: 0 | CS18: 0 | CT18: 0 | CU18: 0 | CV18: 0 | CW18: 0 | CX18: 0 | CY18: 0 | CZ18: 0 | DA18: 0 | DB18: 0 | DC18: 0 | DD18: 0 | DE18: 0 | DF18: 0 | DG18: 0 | DH18: 0 | DI18: 0 | DJ18: 0 | DK18: 0 | DL18: 0 | DM18: 0 | DN18: 0 | DO18: 0 | DP18: 0 | DT18: 0 | DU18: 0 | DV18: 0 | DW18: 0 | DX18: 0 | DY18: 0 | DZ18: 0 | EA18: 0 | EB18: 0 | EC18: 0 | ED18: 0 | EE18: 0 | EF18: 0 | EG18: 0 | EH18: 0 | EI18: 0 | EJ18: 0 | EK18: 0 | EL18: 0 | EM18: 0 | EN18: 0 | EO18: 0 | EP18: 0 | EQ18: 0 | ER18: 0 | ES18: 0 | ET18: 0 | EU18: 0 | EV18: 0 | EW18: 0 | EX18: 0 | EY18: 0 | EZ18: 0 | FA18: 0 | FB18: 0 | FC18: 0 | FI18: TRUE
B19: 12 | C19: Save on Energy Process & Systems Upgrades Program | E19: 0 | F19: 0 | G19: 0 | H19: 0 | I19: 0 | J19: 0 | K19: 0 | L19: 0 | M19: 0 | N19: 0 | O19: 0 | P19: 0 | Q19: 0 | R19: 0 | S19: 0 | T19: 0 | U19: 0 | V19: 0 | W19: 0 | X19: 0 | Y19: 0 | Z19: 0 | AA19: 0 | AB19: 0 | AC19: 0 | AD19: 0 | AE19: 0 | AF19: 0 | AG19: 0 | AH19: 0 | AI19: 0 | AJ19: 0 | AK19: 0 | AL19: 0 | AM19: 0 | AN19: 0 | AR19: 0 | AS19: 0 | AT19: 0 | AU19: 0 | AV19: 0 | AW19: 0 | AX19: 0 | AY19: 0 | AZ19: 0 | BA19: 0 | BB19: 0 | BC19: 0 | BD19: 0 | BE19: 0 | BF19: 0 | BG19: 0 | BH19: 0 | BI19: 0 | BJ19: 0 | BK19: 0 | BL19: 0 | BM19: 0 | BN19: 0 | BO19: 0 | BP19: 0 | BQ19: 0 | BR19: 0 | BS19: 0 | BT19: 0 | BU19: 0 | BV19: 0 | BW19: 0 | BX19: 0 | BY19: 0 | BZ19: 0 | CA19: 0 | CG19: 0 | CH19: 0 | CI19: 0 | CJ19: 0 | CK19: 0 | CL19: 0 | CM19: 0 | CN19: 0 | CO19: 0 | CP19: 0 | CQ19: 0 | CR19: 0 | CS19: 0 | CT19: 0 | CU19: 0 | CV19: 0 | CW19: 0 | CX19: 0 | CY19: 0 | CZ19: 0 | DA19: 0 | DB19: 0 | DC19: 0 | DD19: 0 | DE19: 0 | DF19: 0 | DG19: 0 | DH19: 0 | DI19: 0 | DJ19: 0 | DK19: 0 | DL19: 0 | DM19: 0 | DN19: 0 | DO19: 0 | DP19: 0 | DT19: 0 | DU19: 0 | DV19: 0 | DW19: 0 | DX19: 0 | DY19: 0 | DZ19: 0 | EA19: 0 | EB19: 0 | EC19: 0 | ED19: 0 | EE19: 0 | EF19: 0 | EG19: 0 | EH19: 0 | EI19: 0 | EJ19: 0 | EK19: 0 | EL19: 0 | EM19: 0 | EN19: 0 | EO19: 0 | EP19: 0 | EQ19: 0 | ER19: 0 | ES19: 0 | ET19: 0 | EU19: 0 | EV19: 0 | EW19: 0 | EX19: 0 | EY19: 0 | EZ19: 0 | FA19: 0 | FB19: 0 | FC19: 0 | FI19: TRUE
... B89: 82 | C89: Program Enabled Savings | E89: 0 | F89: 0 | G89: 0 | H89: 0 | I89: 0 | J89: 0 | K89: 0 | L89: 0 | M89: 0 | N89: 0 | O89: 0 | P89: 0 | Q89: 0 | R89: 0 | S89: 0 | T89: 0 | U89: 0 | V89: 0 | W89: 0 | X89: 0 | Y89: 0 | Z89: 0 | AA89: 0 | AB89: 0 | AC89: 0 | AD89: 0 | AE89: 0 | AF89: 0 | AG89: 0 | AH89: 0 | AI89: 0 | AJ89: 0 | AK89: 0 | AL89: 0 | AM89: 0 | AN89: 0 | AR89: 0 | AS89: 0 | AT89: 0 | AU89: 0 | AV89: 0 | AW89: 0 | AX89: 0 | AY89: 0 | AZ89: 0 | BA89: 0 | BB89: 0 | BC89: 0 | BD89: 0 | BE89: 0 | BF89: 0 | BG89: 0 | BH89: 0 | BI89: 0 | BJ89: 0 | BK89: 0 | BL89: 0 | BM89: 0 | BN89: 0 | BO89: 0 | BP89: 0 | BQ89: 0 | BR89: 0 | BS89: 0 | BT89: 0 | BU89: 0 | BV89: 0 | BW89: 0 | BX89: 0 | BY89: 0 | BZ89: 0 | CA89: 0 | CG89: 0 | CH89: 0 | CI89: 0 | CJ89: 0 | CK89: 0 | CL89: 0 | CM89: 0 | CN89: 0 | CO89: 0 | CP89: 0 | CQ89: 0 | CR89: 0 | CS89: 0 | CT89: 0 | CU89: 0 | CV89: 0 | CW89: 0 | CX89: 0 | CY89: 0 | CZ89: 0 | DA89: 0 | DB89: 0 | DC89: 0 | DD89: 0 | DE89: 0 | DF89: 0 | DG89: 0 | DH89: 0 | DI89: 0 | DJ89: 0 | DK89: 0 | DL89: 0 | DM89: 0 | DN89: 0 | DO89: 0 | DP89: 0 | DT89: 0 | DU89: 0 | DV89: 0 | DW89: 0 | DX89: 0 | DY89: 0 | DZ89: 0 | EA89: 0 | EB89: 0 | EC89: 0 | ED89: 0 | EE89: 0 | EF89: 0 | EG89: 0 | EH89: 0 | EI89: 0 | EJ89: 0 | EK89: 0 | EL89: 0 | EM89: 0 | EN89: 0 | EO89: 0 | EP89: 0 | EQ89: 0 | ER89: 0 | ES89: 0 | ET89: 0 | EU89: 0 | EV89: 0 | EW89: 0 | EX89: 0 | EY89: 0 | EZ89: 0 | FA89: 0 | FB89: 0 | FC89: 0 | FI89: TRUE
B90: Subtotal: 2015 Verified 2015 Results | E90: 24963637 | F90: 24726073 | G90: 20800171 | H90: 20784240 | I90: 19902409 | J90: 19847516 | K90: 19448173 | L90: 19447336 | M90: 19196552 | N90: 16016829 | O90: 12255434 | P90: 10671150 | Q90: 8604740 | R90: 8483591 | S90: 8338805 | T90: 7383312 | U90: 4243372 | V90: 4243372 | W90: 4117596 | X90: 1176862 | Y90: 15211 | Z90: 6468 | AA90: 6468 | AB90: 0 | AC90: 0 | AD90: 0 | AE90: 0 | AF90: 0 | AG90: 0 | AH90: 0 | AI90: 0 | AJ90: 0 | AK90: 0 | AL90: 0 | AM90: 0 | AN90: 0 | AR90: 5159 | AS90: 5124 | AT90: 4448 | AU90: 4443 | AV90: 4258 | AW90: 4248 | AX90: 4177 | AY90: 4177 | AZ90: 4160 | BA90: 3642 | BB90: 3016 | BC90: 2679 | BD90: 2407 | BE90: 2377 | BF90: 2356 | BG90: 2203 | BH90: 1818 | BI90: 1818 | BJ90: 1678 | BK90: 215 | BL90: 4 | BM90: 3 | BN90: 3 | BO90: 0 | BP90: 0 | BQ90: 0 | BR90: 0 | BS90: 0 | BT90: 0 | BU90: 0 | BV90: 0 | BW90: 0 | BX90: 0 | BY90: 0 | BZ90: 0 | CA90: 0 | CG90: 20406977 | CH90: 20163500 | CI90: 17128860 | CJ90: 17115083 | CK90: 16360683 | CL90: 16332333 | CM90: 16031188 | CN90: 16029870 | CO90: 15818602 | CP90: 13435977 | CQ90: 10487624 | CR90: 9070940 | CS90: 7401124 | CT90: 7282951 | CU90: 7157165 | CV90: 6469126 | CW90: 3261662 | CX90: 3261662 | CY90: 3187494 | CZ90: 1452836 | DA90: 11913 | DB90: 3170 | DC90: 3170 | DD90: 0 | DE90: 0 | DF90: 0 | DG90: 0 | DH90: 0 | DI90: 0 | DJ90: 0 | DK90: 0 | DL90: 0 | DM90: 0 | DN90: 0 | DO90: 0 | DP90: 0 | DT90: 3875 | DU90: 3840 | DV90: 3280 | DW90: 3278 | DX90: 3119 | DY90: 3114 | DZ90: 3061 | EA90: 3060 | EB90: 3046 | EC90: 2640 | ED90: 2155 | EE90: 1858 | EF90: 1636 | EG90: 1611 | EH90: 1592 | EI90: 1481 | EJ90: 1147 | EK90: 1147 | EL90: 1063 | EM90: 200 | EN90: 2 | EO90: 1 | EP90: 1 | EQ90: 0 | ER90: 0 | ES90: 0 | ET90: 0 | EU90: 0 | EV90: 0 | EW90: 0 | EX90: 0 | EY90: 0 | EZ90: 0 | FA90: 0 | FB90: 0 | FC90: 0
B92: 2016 Verified 2015 Results Adjustments
