Workbook

Sheet Summary
B1: Summary of Customer Data and Economic Analysis Results
B2: Project Name | C2: Project 1 | Q2: R0
B3: Project Number | Q3: R1
B4: Developer | Q4: R2
B5: Municipality | C5: Ajax | Q5: R3
Q6: R4
B7: Technician: | D7: Date Run: | E7: 46133 | F7: Version: | I7: Customer connection horizon | J7: 5 | Q7: TrueUP
I8: Customer revenue horizon | J8: 25
B9: EE Template : | C9: All Areas Excluding Whitby | I9: Number of Connections | J9: 3
B11: New Customers and Input Data
B13: Customers, Type | E13: kWh per Unit | F13: Number of Units or GS load (kW) Added in Each Year
F14: Year 1 | G14: Year 2 | H14: Year 3 | I14: Year 4 | J14: Year 5 | K14: Year 6 | L14: Year 7 | M14: Year 8 | N14: Year 9 | O14: Year 10 | P14: Year 11 | Q14: Year 12 | R14: Year 13 | S14: Year 14 | T14: Year 15 | U14: Year 16 | V14: Year 17 | W14: Year 18 | X14: Year 19 | Y14: Year 20 | Z14: Total
B15: General Service Load | F15: 2960 | G15: 2960 | H15: 2960 | I15: 2960 | J15: 2960 | K15: 0 | L15: 0 | M15: 0 | N15: 0 | O15: 0 | P15: 0 | Q15: 0 | R15: 0 | S15: 0 | T15: 0 | Z15: =SUM(F15:Y15) -> 14800
Z16: =SUM(F16:Y16) -> 0
Z17: =SUM(F17:Y17) -> 0
B18: Residential | E18: 750 | Z18: =SUM(F18:Y18) -> 0
Z19: =SUM(F19:Y19) -> 0
Z20: =SUM(F20:Y20) -> 0
C21: Total Residential | F21: =SUM(F17:F20) -> 0 | G21: =SUM(G17:G20) -> 0 | H21: =SUM(H17:H20) -> 0 | I21: =SUM(I17:I20) -> 0 | J21: =SUM(J17:J20) -> 0 | K21: =SUM(K17:K20) -> 0 | L21: =SUM(L17:L20) -> 0 | M21: =SUM(M17:M20) -> 0 | ... Z21: =SUM(Z17:Z20) -> 0
C22: Average energy added per Res. customer | F22: =IF(F21=0,0,(F17*$E$17+F18*$E$18+F19*$E$19)/F21) -> 0 | G22: =IF(G21=0,F22,(G17*$E$17+G18*$E$18+G19*$E$19)/G21) -> 0 | H22: =IF(H21=0,G22,(H17*$E$17+H18*$E$18+H19*$E$19)/H21) -> 0 | I22: =IF(I21=0,H22,(I17*$E$17+I18*$E$18+I19*$E$19)/I21) -> 0 | J22: =IF(J21=0,I22,(J17*$E$17+J18*$E$18+J19*$E$19)/J21) -> 0 | K22: =IF(K21=0,J22,(K17*$E$17+K18*$E$18+K19*$E$19)/K21) -> 0 | L22: =IF(L21=0,K22,(L17*$E$17+L18*$E$18+L19*$E$19)/L21) -> 0 | M22: =IF(M21=0,L22,(M17*$E$17+M18*$E$18+M19*$E$19)/M21) -> 0 | N22: =IF(N21=0,M22,(N17*$E$17+N18*$E$18+N19*$E$19)/N21) -> 0 | ... R22: =IF(R21=0,Q22,(R17*$E$17+R18*$E$18+R19*$E$19)/R21) -> 0 | S22: =IF(S21=0,Q22,(S17*$E$17+S18*$E$18+S19*$E$19)/S21) -> 0 | T22: =IF(T21=0,S22,(T17*$E$17+T18*$E$18+T19*$E$19)/T21) -> 0 | U22: =IF(U21=0,T22,(U17*$E$17+U18*$E$18+U19*$E$19)/U21) -> 0 | V22: =IF(V21=0,U22,(V17*$E$17+V18*$E$18+V19*$E$19)/V21) -> 0 | W22: =IF(W21=0,V22,(W17*$E$17+W18*$E$18+W19*$E$19)/W21) -> 0 | X22: =IF(X21=0,W22,(X17*$E$17+X18*$E$18+X19*$E$19)/X21) -> 0 | Y22: =IF(Y21=0,X22,(Y17*$E$17+Y18*$E$18+Y19*$E$19)/Y21) -> 0 | Z22: =IF(Z21=0,Y22,(Z17*$E$17+Z18*$E$18+Z19*$E$19)/Z21) -> 0
B24: Data
D27: 0 | E27: 0 | F27: =($D27*F23*F21)+($D27*F15) -> 0 | G27: =($E27*G23*G21)+($E27*G15) -> 0 | H27: =($E27*H23*H21)+($E27*H15) -> 0 | I27: =($E27*I23*I21)+($E27*I15) -> 0 | J27: =($E27*J23*J21)+($E27*J15) -> 0 | K27: =SUM(F27:J27) -> 0
B28: Annual O,M, & A
B29: Incremental OM&A, $/Customer | D29: ='OM&A Calc'!D51 -> 175.00101 | E29: =+D29 -> 175.00101
B31: Distribution Rates in effect | H31: Elexicon Energy Use Only
B32: Monthly, fixed customer charge | H32: NOTE: Option 2 - EE Different from OTC
C33: Residential | F33: =+'Data Inputs'!E31 -> 32.79
C34: General Service < 50kW | F34: =+'Data Inputs'!E32 -> 21.26 | H34: N/A
C36: General Service 50 to 2,999 kW | F36: =+'Data Inputs'!E33 -> 135.84
C37: General Service 3,000 to 4,999 kW | F37: =+'Data Inputs'!E34 -> 7137.67
C38: Large User | F38: =+'Data Inputs'!E35 -> 10722.24
B39: Monthly, variable
C40: Residential, per kWh | F40: =+'Data Inputs'!E42 -> 0
C41: General Service < 50kW, per kWh | F41: =+'Data Inputs'!E43 -> 0.0214
B42: Monthly Variable, per kW
C43: General Service 50 to 2,999 kW | F43: =+'Data Inputs'!E48 -> 4.1908
C44: General Service 3,000 to 4,999 kW | F44: =+'Data Inputs'!E49 -> 2.6549
C45: Large User | F45: =+'Data Inputs'!E50 -> 3.7393
B49: Summary
B52: Statement of Costs
...

Sheet Data Inputs
A1: Table No. | C1: Project name | E1: =+Summary!C2 -> Project 1
C2: Developer name | E2: =+Summary!C4 -> 0
C3: Customer connection horizon (max 5) | E3: =+Summary!J7 -> 5 | F3: YELLOW CELLS ONLY ARE FOR DATA INPUT OF ANNUAL CONSTANTS.
C4: Customer revenue horizon (max 25) | E4: =+Summary!J8 -> 25 | F4: BLUE CELLS ARE USED FOR PROJECT SPECIFIC DATA
A5: 1 | C5: Forecasted customer additions (non-cumulative)
D6: Customer Class | E6: Year 1 | F6: Year 2 | G6: Year 3 | H6: Year 4 | I6: Year 5 | J6: Year 6 | K6: Year 7 | L6: Year 8 | M6: Year 9 | N6: Year 10 | O6: Year 11 | P6: Year 12 | Q6: Year 13 | R6: Year 14 | S6: Year 15 | T6: Year 16 | U6: Year 17 | V6: Year 18 | W6: Year 19 | X6: Year 20
D7: Residential | E7: =+Summary!F21 -> 0 | F7: =+Summary!G21 -> 0 | G7: =+Summary!H21 -> 0 | H7: =+Summary!I21 -> 0 | I7: =+Summary!J21 -> 0 | J7: =+Summary!K21 -> 0 | K7: =+Summary!L21 -> 0 | L7: =+Summary!M21 -> 0 | ... X7: =+Summary!Y21 -> 0
D8: General Service < 50kW
D9: General Service 50 to 2,999 kW
D10: General Service 3,000 to 4,999 kW | E10: 1 | F10: 1 | G10: 1
D11: Large User
D12: Other class - non-demand
D13: Other class - non-demand
D14: Other class - demand
D15: Other class - demand
A16: 2 | C16: Estimate of average energy per added customer (monthly kWh)
D17: Customer Class | E17: Year 1 | F17: Year 2 | G17: Year 3 | H17: Year 4 | I17: Year 5 | J17: Year 6 | K17: Year 7 | L17: Year 8 | M17: Year 9 | N17: Year 10 | O17: Year 11 | P17: Year 12 | Q17: Year 13 | R17: Year 14 | S17: Year 15 | T17: Year 16 | U17: Year 17 | V17: Year 18 | W17: Year 19 | X17: Year 20
D18: Residential | E18: =+Summary!F22 -> 0 | F18: =+Summary!G22 -> 0 | G18: =+Summary!H22 -> 0 | H18: =+Summary!I22 -> 0 | I18: =+Summary!J22 -> 0 | J18: =+Summary!K22 -> 0 | K18: =+Summary!L22 -> 0 | L18: =+Summary!M22 -> 0 | ... X18: =+Summary!Y22 -> 0
D19: General Service < 50kW
D20: Other class - non-demand
D21: Other class - non-demand
A22: 3 | C22: Estimate of average demand per added customer kW
D23: Customer Class | E23: Year 1 | F23: Year 2 | G23: Year 3 | H23: Year 4 | I23: Year 5 | J23: Year 6 | K23: Year 7 | L23: Year 8 | M23: Year 9 | N23: Year 10 | O23: Year 11 | P23: Year 12 | Q23: Year 13 | R23: Year 14 | S23: Year 15 | T23: Year 16 | U23: Year 17 | V23: Year 18 | W23: Year 19 | X23: Year 20
D24: General Service 50 to 2,999 kW | E24: 0 | F24: =+E24 -> 0 | G24: =+F24 -> 0 | H24: =+G24 -> 0 | I24: =+H24 -> 0 | J24: =+I24 -> 0 | K24: =+J24 -> 0 | L24: =+K24 -> 0 | M24: =+L24 -> 0 | ... X24: =+W24 -> 0
D25: General Service 3,000 to 4,999 kW | E25: =Summary!F15 -> 2960 | F25: =SUM(Summary!F15:G15)/SUM(E10:F10) -> 2960 | G25: =SUM(Summary!F15:H15)/SUM(E10:G10) -> 2960 | H25: =SUM(Summary!F15:I15)/SUM(E10:H10) -> 3946.6667 | I25: =SUM(Summary!F15:J15)/SUM(E10:I10) -> 4933.3333 | J25: =+I25 -> 4933.3333 | K25: =+J25 -> 4933.3333 | L25: =+K25 -> 4933.3333 | M25: =+L25 -> 4933.3333 | N25: =+M25 -> 4933.3333 | O25: =+N25 -> 4933.3333 | P25: =+O25 -> 4933.3333 | Q25: =+P25 -> 4933.3333 | ... X25: =+W25 -> 4933.3333
D26: Large User | E26: 0 | F26: =+E26 -> 0 | G26: =+F26 -> 0 | H26: =+G26 -> 0 | I26: =+H26 -> 0 | J26: =+I26 -> 0 | K26: =+J26 -> 0 | L26: =+K26 -> 0 | M26: =+L26 -> 0 | ... X26: =+W26 -> 0
D27: Other class - demand | E27: 0 | F27: =+E27 -> 0 | G27: =+F27 -> 0 | H27: =+G27 -> 0 | I27: =+H27 -> 0 | J27: =+I27 -> 0 | K27: =+J27 -> 0 | L27: =+K27 -> 0 | M27: =+L27 -> 0 | ... X27: =+W27 -> 0
D28: Other class - demand | E28: 0 | F28: =+E28 -> 0 | G28: =+F28 -> 0 | H28: =+G28 -> 0 | I28: =+H28 -> 0 | J28: =+I28 -> 0 | K28: =+J28 -> 0 | L28: =+K28 -> 0 | M28: =+L28 -> 0 | ... X28: =+W28 -> 0
A29: 4 | C29: Approved wires only rates per rate schedule - monthly fixed charge
D30: Customer Class | E30: Year 1 | F30: Year 2 | G30: Year 3 | H30: Year 4 | I30: Year 5 | J30: Year 6 | K30: Year 7 | L30: Year 8 | M30: Year 9 | N30: Year 10 | O30: Year 11 | P30: Year 12 | Q30: Year 13 | R30: Year 14 | S30: Year 15 | T30: Year 16 | U30: Year 17 | V30: Year 18 | W30: Year 19 | X30: Year 20
D31: Residential | E31: 32.79 | F31: =+E31 -> 32.79 | G31: =+F31 -> 32.79 | H31: =+G31 -> 32.79 | I31: =+H31 -> 32.79 | J31: =+I31 -> 32.79 | K31: =+J31 -> 32.79 | L31: =+K31 -> 32.79 | M31: =+L31 -> 32.79 | ... X31: =+W31 -> 32.79
D32: General Service < 50kW | E32: 21.26 | F32: =+E32 -> 21.26 | G32: =+F32 -> 21.26 | H32: =+G32 -> 21.26 | I32: =+H32 -> 21.26 | J32: =+I32 -> 21.26 | K32: =+J32 -> 21.26 | L32: =+K32 -> 21.26 | M32: =+L32 -> 21.26 | ... X32: =+W32 -> 21.26
D33: General Service 50 to 2,999 kW | E33: 135.84 | F33: =+E33 -> 135.84 | G33: =+F33 -> 135.84 | H33: =+G33 -> 135.84 | I33: =+H33 -> 135.84 | J33: =+I33 -> 135.84 | K33: =+J33 -> 135.84 | L33: =+K33 -> 135.84 | M33: =+L33 -> 135.84 | ... X33: =+W33 -> 135.84
D34: General Service 3,000 to 4,999 kW | E34: 7137.67 | F34: =+E34 -> 7137.67 | G34: =+F34 -> 7137.67 | H34: =+G34 -> 7137.67 | I34: =+H34 -> 7137.67 | J34: =+I34 -> 7137.67 | K34: =+J34 -> 7137.67 | L34: =+K34 -> 7137.67 | M34: =+L34 -> 7137.67 | ... X34: =+W34 -> 7137.67
D35: Large User | E35: 10722.24 | F35: =+E35 -> 10722.24 | G35: =+F35 -> 10722.24 | H35: =+G35 -> 10722.24 | I35: =+H35 -> 10722.24 | J35: =+I35 -> 10722.24 | K35: =+J35 -> 10722.24 | L35: =+K35 -> 10722.24 | M35: =+L35 -> 10722.24 | ... X35: =+W35 -> 10722.24
D36: Other class - non-demand
D37: Other class - non-demand
D38: Other class - demand
D39: Other class - demand
A40: 5 | C40: Approved wires only rates per rate schedule - variable charge (per kWh)
...

Sheet NPV Calculation
A1: Discount rate | D1: =+'Data Inputs'!E106 -> 0.054238 | E1: =+'Data Inputs'!F106 -> 0.054238 | F1: =+'Data Inputs'!G106 -> 0.054238 | G1: =+'Data Inputs'!H106 -> 0.054238 | H1: =+'Data Inputs'!I106 -> 0.054238 | I1: =+'Data Inputs'!J106 -> 0.054238 | J1: =+'Data Inputs'!K106 -> 0.054238 | K1: =+'Data Inputs'!L106 -> 0.054238 | ... W1: =+'Data Inputs'!X106 -> 0.054238 | X1: =W1 -> 0.054238 | Y1: =X1 -> 0.054238 | Z1: =Y1 -> 0.054238 | AA1: =Z1 -> 0.054238 | AB1: =AA1 -> 0.054238
A2: Present value factor - end of year | D2: =ROUND(1/((1+D1)^D5),5) -> 0.94855 | E2: =ROUND(1/((1+E1)^E5),5) -> 0.89975 | F2: =ROUND(1/((1+F1)^F5),5) -> 0.85346 | G2: =ROUND(1/((1+G1)^G5),5) -> 0.80955 | H2: =ROUND(1/((1+H1)^H5),5) -> 0.7679 | I2: =ROUND(1/((1+I1)^I5),5) -> 0.7284 | J2: =ROUND(1/((1+J1)^J5),5) -> 0.69092 | K2: =ROUND(1/((1+K1)^K5),5) -> 0.65538 | ... AB2: =ROUND(1/((1+AB1)^AB5),5) -> 0.26701
A3: Present value factor - mid-year | D3: =ROUND((1+D1)^-(D5-0.5),5) -> 0.97394 | E3: =ROUND((1+E1)^-(E5-0.5),5) -> 0.92383 | F3: =ROUND((1+F1)^-(F5-0.5),5) -> 0.8763 | G3: =ROUND((1+G1)^-(G5-0.5),5) -> 0.83122 | H3: =ROUND((1+H1)^-(H5-0.5),5) -> 0.78845 | I3: =ROUND((1+I1)^-(I5-0.5),5) -> 0.74789 | J3: =ROUND((1+J1)^-(J5-0.5),5) -> 0.70941 | K3: =ROUND((1+K1)^-(K5-0.5),5) -> 0.67291 | ... AB3: =ROUND((1+AB1)^-(AB5-0.5),5) -> 0.27416
D4: YEAR 1 | E4: YEAR 2 | F4: YEAR 3 | G4: YEAR 4 | H4: YEAR 5 | I4: YEAR 6 | J4: YEAR 7 | K4: YEAR 8 | L4: YEAR 9 | M4: YEAR 10 | N4: YEAR 11 | O4: YEAR 12 | P4: YEAR 13 | Q4: YEAR 14 | R4: YEAR 15 | S4: YEAR 16 | T4: YEAR 17 | U4: YEAR 18 | V4: YEAR 19 | W4: YEAR 20 | X4: YEAR 21 | Y4: YEAR 22 | Z4: YEAR 23 | AA4: YEAR 24 | AB4: YEAR 25
C5: Total | D5: 1 | E5: 2 | F5: 3 | G5: 4 | H5: 5 | I5: 6 | J5: 7 | K5: 8 | L5: 9 | M5: 10 | N5: 11 | O5: 12 | P5: 13 | Q5: 14 | R5: 15 | S5: 16 | T5: 17 | U5: 18 | V5: 19 | W5: 20 | X5: 21 | Y5: 22 | Z5: 23 | AA5: 24 | AB5: 25
A6: OPERATIONS
A7: Customers
B8: Residential | C8: =+AB8 -> 0 | D8: ='Data Inputs'!E7/2 -> 0 | E8: =D8+'Data Inputs'!E7/2+'Data Inputs'!F7/2 -> 0 | F8: =E8+'Data Inputs'!F7/2+'Data Inputs'!G7/2 -> 0 | G8: =F8+'Data Inputs'!G7/2+'Data Inputs'!H7/2 -> 0 | H8: =G8+'Data Inputs'!H7/2+'Data Inputs'!I7/2 -> 0 | I8: =H8+'Data Inputs'!I7/2+'Data Inputs'!J7/2 -> 0 | J8: =I8+'Data Inputs'!J7/2+'Data Inputs'!K7/2 -> 0 | K8: =J8+'Data Inputs'!K7/2+'Data Inputs'!L7/2 -> 0 | L8: =K8+'Data Inputs'!L7/2+'Data Inputs'!M7/2 -> 0 | ... AB8: =AA8+'Data Inputs'!AB7/2+'Data Inputs'!AC7/2 -> 0
B9: General Service < 50kW | C9: =+AB9 -> 0 | D9: ='Data Inputs'!E8/2 -> 0 | E9: =D9+'Data Inputs'!E8/2+'Data Inputs'!F8/2 -> 0 | F9: =E9+'Data Inputs'!F8/2+'Data Inputs'!G8/2 -> 0 | G9: =F9+'Data Inputs'!G8/2+'Data Inputs'!H8/2 -> 0 | H9: =G9+'Data Inputs'!H8/2+'Data Inputs'!I8/2 -> 0 | I9: =H9+'Data Inputs'!I8/2+'Data Inputs'!J8/2 -> 0 | J9: =I9+'Data Inputs'!J8/2+'Data Inputs'!K8/2 -> 0 | K9: =J9+'Data Inputs'!K8/2+'Data Inputs'!L8/2 -> 0 | L9: =K9+'Data Inputs'!L8/2+'Data Inputs'!M8/2 -> 0 | ... AB9: =AA9+'Data Inputs'!AB8/2+'Data Inputs'!AC8/2 -> 0
B10: General Service 50 to 2,999 kW | C10: =+AB10 -> 0 | D10: ='Data Inputs'!E9/2 -> 0 | E10: =D10+'Data Inputs'!E9/2+'Data Inputs'!F9/2 -> 0 | F10: =E10+'Data Inputs'!F9/2+'Data Inputs'!G9/2 -> 0 | G10: =F10+'Data Inputs'!G9/2+'Data Inputs'!H9/2 -> 0 | H10: =G10+'Data Inputs'!H9/2+'Data Inputs'!I9/2 -> 0 | I10: =H10+'Data Inputs'!I9/2+'Data Inputs'!J9/2 -> 0 | J10: =I10+'Data Inputs'!J9/2+'Data Inputs'!K9/2 -> 0 | K10: =J10+'Data Inputs'!K9/2+'Data Inputs'!L9/2 -> 0 | L10: =K10+'Data Inputs'!L9/2+'Data Inputs'!M9/2 -> 0 | ... AB10: =AA10+'Data Inputs'!AB9/2+'Data Inputs'!AC9/2 -> 0
B11: General Service 3,000 to 4,999 kW | C11: =+AB11 -> 3 | D11: ='Data Inputs'!E10/2 -> 0.5 | E11: =D11+'Data Inputs'!E10/2+'Data Inputs'!F10/2 -> 1.5 | F11: =E11+'Data Inputs'!F10/2+'Data Inputs'!G10/2 -> 2.5 | G11: =F11+'Data Inputs'!G10/2+'Data Inputs'!H10/2 -> 3 | H11: =G11+'Data Inputs'!H10/2+'Data Inputs'!I10/2 -> 3 | I11: =H11+'Data Inputs'!I10/2+'Data Inputs'!J10/2 -> 3 | J11: =I11+'Data Inputs'!J10/2+'Data Inputs'!K10/2 -> 3 | K11: =J11+'Data Inputs'!K10/2+'Data Inputs'!L10/2 -> 3 | L11: =K11+'Data Inputs'!L10/2+'Data Inputs'!M10/2 -> 3 | ... AB11: =AA11+'Data Inputs'!AB10/2+'Data Inputs'!AC10/2 -> 3
B12: Large User | C12: =+AB12 -> 0 | D12: ='Data Inputs'!E11/2 -> 0 | E12: =D12+'Data Inputs'!E11/2+'Data Inputs'!F11/2 -> 0 | F12: =E12+'Data Inputs'!F11/2+'Data Inputs'!G11/2 -> 0 | G12: =F12+'Data Inputs'!G11/2+'Data Inputs'!H11/2 -> 0 | H12: =G12+'Data Inputs'!H11/2+'Data Inputs'!I11/2 -> 0 | I12: =H12+'Data Inputs'!I11/2+'Data Inputs'!J11/2 -> 0 | J12: =I12+'Data Inputs'!J11/2+'Data Inputs'!K11/2 -> 0 | K12: =J12+'Data Inputs'!K11/2+'Data Inputs'!L11/2 -> 0 | L12: =K12+'Data Inputs'!L11/2+'Data Inputs'!M11/2 -> 0 | ... AB12: =AA12+'Data Inputs'!AB11/2+'Data Inputs'!AC11/2 -> 0
B13: Other class - non-demand | C13: =+AB13 -> 0 | D13: ='Data Inputs'!E12/2 -> 0 | E13: =D13+'Data Inputs'!E12/2+'Data Inputs'!F12/2 -> 0 | F13: =E13+'Data Inputs'!F12/2+'Data Inputs'!G12/2 -> 0 | G13: =F13+'Data Inputs'!G12/2+'Data Inputs'!H12/2 -> 0 | H13: =G13+'Data Inputs'!H12/2+'Data Inputs'!I12/2 -> 0 | I13: =H13+'Data Inputs'!I12/2+'Data Inputs'!J12/2 -> 0 | J13: =I13+'Data Inputs'!J12/2+'Data Inputs'!K12/2 -> 0 | K13: =J13+'Data Inputs'!K12/2+'Data Inputs'!L12/2 -> 0 | L13: =K13+'Data Inputs'!L12/2+'Data Inputs'!M12/2 -> 0 | ... AB13: =AA13+'Data Inputs'!AB12/2+'Data Inputs'!AC12/2 -> 0
B14: Other class - non-demand | C14: =+AB14 -> 0 | D14: ='Data Inputs'!E13/2 -> 0 | E14: =D14+'Data Inputs'!E13/2+'Data Inputs'!F13/2 -> 0 | F14: =E14+'Data Inputs'!F13/2+'Data Inputs'!G13/2 -> 0 | G14: =F14+'Data Inputs'!G13/2+'Data Inputs'!H13/2 -> 0 | H14: =G14+'Data Inputs'!H13/2+'Data Inputs'!I13/2 -> 0 | I14: =H14+'Data Inputs'!I13/2+'Data Inputs'!J13/2 -> 0 | J14: =I14+'Data Inputs'!J13/2+'Data Inputs'!K13/2 -> 0 | K14: =J14+'Data Inputs'!K13/2+'Data Inputs'!L13/2 -> 0 | L14: =K14+'Data Inputs'!L13/2+'Data Inputs'!M13/2 -> 0 | ... AB14: =AA14+'Data Inputs'!AB13/2+'Data Inputs'!AC13/2 -> 0
B15: Other class - demand | C15: =+AB15 -> 0 | D15: ='Data Inputs'!E14/2 -> 0 | E15: =D15+'Data Inputs'!E14/2+'Data Inputs'!F14/2 -> 0 | F15: =E15+'Data Inputs'!F14/2+'Data Inputs'!G14/2 -> 0 | G15: =F15+'Data Inputs'!G14/2+'Data Inputs'!H14/2 -> 0 | H15: =G15+'Data Inputs'!H14/2+'Data Inputs'!I14/2 -> 0 | I15: =H15+'Data Inputs'!I14/2+'Data Inputs'!J14/2 -> 0 | J15: =I15+'Data Inputs'!J14/2+'Data Inputs'!K14/2 -> 0 | K15: =J15+'Data Inputs'!K14/2+'Data Inputs'!L14/2 -> 0 | L15: =K15+'Data Inputs'!L14/2+'Data Inputs'!M14/2 -> 0 | ... AB15: =AA15+'Data Inputs'!AB14/2+'Data Inputs'!AC14/2 -> 0
B16: Other class - demand | C16: =+AB16 -> 0 | D16: ='Data Inputs'!E15/2 -> 0 | E16: =D16+'Data Inputs'!E15/2+'Data Inputs'!F15/2 -> 0 | F16: =E16+'Data Inputs'!F15/2+'Data Inputs'!G15/2 -> 0 | G16: =F16+'Data Inputs'!G15/2+'Data Inputs'!H15/2 -> 0 | H16: =G16+'Data Inputs'!H15/2+'Data Inputs'!I15/2 -> 0 | I16: =H16+'Data Inputs'!I15/2+'Data Inputs'!J15/2 -> 0 | J16: =I16+'Data Inputs'!J15/2+'Data Inputs'!K15/2 -> 0 | K16: =J16+'Data Inputs'!K15/2+'Data Inputs'!L15/2 -> 0 | L16: =K16+'Data Inputs'!L15/2+'Data Inputs'!M15/2 -> 0 | ... AB16: =AA16+'Data Inputs'!AB15/2+'Data Inputs'!AC15/2 -> 0
B17: Total Customers | C17: =SUM(C8:C16) -> 3 | D17: =SUM(D8:D16) -> 0.5 | E17: =SUM(E8:E16) -> 1.5 | F17: =SUM(F8:F16) -> 2.5 | G17: =SUM(G8:G16) -> 3 | H17: =SUM(H8:H16) -> 3 | I17: =SUM(I8:I16) -> 3 | J17: =SUM(J8:J16) -> 3 | ... AB17: =SUM(AB8:AB16) -> 3
A18: Customer revenue - fixed charge rate
B19: Residential | C19: =SUM(D19:AB19) -> 0 | D19: =D8*'Data Inputs'!E31*12 -> 0 | E19: =E8*'Data Inputs'!F31*12 -> 0 | F19: =F8*'Data Inputs'!G31*12 -> 0 | G19: =G8*'Data Inputs'!H31*12 -> 0 | H19: =H8*'Data Inputs'!I31*12 -> 0 | I19: =I8*'Data Inputs'!J31*12 -> 0 | J19: =J8*'Data Inputs'!K31*12 -> 0 | K19: =K8*'Data Inputs'!L31*12 -> 0 | ... V19: =V8*'Data Inputs'!W31*12 -> 0 | W19: =W8*'Data Inputs'!$X$31*12 -> 0 | X19: =X8*'Data Inputs'!$X$31*12 -> 0 | Y19: =Y8*'Data Inputs'!$X$31*12 -> 0 | Z19: =Z8*'Data Inputs'!$X$31*12 -> 0 | AA19: =AA8*'Data Inputs'!$X$31*12 -> 0 | AB19: =AB8*'Data Inputs'!$X$31*12 -> 0
B20: General Service < 50kW | C20: =SUM(D20:AB20) -> 0 | D20: =D9*'Data Inputs'!E32*12 -> 0 | E20: =E9*'Data Inputs'!F32*12 -> 0 | F20: =F9*'Data Inputs'!G32*12 -> 0 | G20: =G9*'Data Inputs'!H32*12 -> 0 | H20: =H9*'Data Inputs'!I32*12 -> 0 | I20: =I9*'Data Inputs'!J32*12 -> 0 | J20: =J9*'Data Inputs'!K32*12 -> 0 | K20: =K9*'Data Inputs'!L32*12 -> 0 | ... V20: =V9*'Data Inputs'!W32*12 -> 0 | W20: =W9*'Data Inputs'!$X$32*12 -> 0 | X20: =X9*'Data Inputs'!$X$32*12 -> 0 | Y20: =Y9*'Data Inputs'!$X$32*12 -> 0 | Z20: =Z9*'Data Inputs'!$X$32*12 -> 0 | AA20: =AA9*'Data Inputs'!$X$32*12 -> 0 | AB20: =AB9*'Data Inputs'!$X$32*12 -> 0
B21: General Service 50 to 2,999 kW | C21: =SUM(D21:AB21) -> 0 | D21: =D10*'Data Inputs'!E33*12 -> 0 | E21: =E10*'Data Inputs'!F33*12 -> 0 | F21: =F10*'Data Inputs'!G33*12 -> 0 | G21: =G10*'Data Inputs'!H33*12 -> 0 | H21: =H10*'Data Inputs'!I33*12 -> 0 | I21: =I10*'Data Inputs'!J33*12 -> 0 | J21: =J10*'Data Inputs'!K33*12 -> 0 | K21: =K10*'Data Inputs'!L33*12 -> 0 | ... V21: =V10*'Data Inputs'!W33*12 -> 0 | W21: =W10*'Data Inputs'!$X$33*12 -> 0 | X21: =X10*'Data Inputs'!$X$33*12 -> 0 | Y21: =Y10*'Data Inputs'!$X$33*12 -> 0 | Z21: =Z10*'Data Inputs'!$X$33*12 -> 0 | AA21: =AA10*'Data Inputs'!$X$33*12 -> 0 | AB21: =AB10*'Data Inputs'!$X$33*12 -> 0
B22: General Service 3,000 to 4,999 kW | C22: =SUM(D22:AB22) -> 6038468.8 | D22: =D11*'Data Inputs'!E34*12 -> 42826.02 | E22: =E11*'Data Inputs'!F34*12 -> 128478.06 | F22: =F11*'Data Inputs'!G34*12 -> 214130.1 | G22: =G11*'Data Inputs'!H34*12 -> 256956.12 | H22: =H11*'Data Inputs'!I34*12 -> 256956.12 | I22: =I11*'Data Inputs'!J34*12 -> 256956.12 | J22: =J11*'Data Inputs'!K34*12 -> 256956.12 | K22: =K11*'Data Inputs'!L34*12 -> 256956.12 | ... V22: =V11*'Data Inputs'!W34*12 -> 256956.12 | W22: =W11*'Data Inputs'!$X$34*12 -> 256956.12 | X22: =X11*'Data Inputs'!$X$34*12 -> 256956.12 | Y22: =Y11*'Data Inputs'!$X$34*12 -> 256956.12 | Z22: =Z11*'Data Inputs'!$X$34*12 -> 256956.12 | AA22: =AA11*'Data Inputs'!$X$34*12 -> 256956.12 | AB22: =AB11*'Data Inputs'!$X$34*12 -> 256956.12
B23: Large User | C23: =SUM(D23:AB23) -> 0 | D23: =D12*'Data Inputs'!E35*12 -> 0 | E23: =E12*'Data Inputs'!F35*12 -> 0 | F23: =F12*'Data Inputs'!G35*12 -> 0 | G23: =G12*'Data Inputs'!H35*12 -> 0 | H23: =H12*'Data Inputs'!I35*12 -> 0 | I23: =I12*'Data Inputs'!J35*12 -> 0 | J23: =J12*'Data Inputs'!K35*12 -> 0 | K23: =K12*'Data Inputs'!L35*12 -> 0 | ... V23: =V12*'Data Inputs'!W35*12 -> 0 | W23: =W12*'Data Inputs'!$X$35*12 -> 0 | X23: =X12*'Data Inputs'!$X$35*12 -> 0 | Y23: =Y12*'Data Inputs'!$X$35*12 -> 0 | Z23: =Z12*'Data Inputs'!$X$35*12 -> 0 | AA23: =AA12*'Data Inputs'!$X$35*12 -> 0 | AB23: =AB12*'Data Inputs'!$X$35*12 -> 0
B24: Other class - non-demand | C24: =SUM(D24:AB24) -> 0 | D24: =D13*'Data Inputs'!E36*12 -> 0 | E24: =E13*'Data Inputs'!F36*12 -> 0 | F24: =F13*'Data Inputs'!G36*12 -> 0 | G24: =G13*'Data Inputs'!H36*12 -> 0 | H24: =H13*'Data Inputs'!I36*12 -> 0 | I24: =I13*'Data Inputs'!J36*12 -> 0 | J24: =J13*'Data Inputs'!K36*12 -> 0 | K24: =K13*'Data Inputs'!L36*12 -> 0 | ... V24: =V13*'Data Inputs'!W36*12 -> 0 | W24: =W13*'Data Inputs'!$X$36*12 -> 0 | X24: =X13*'Data Inputs'!$X$36*12 -> 0 | Y24: =Y13*'Data Inputs'!$X$36*12 -> 0 | Z24: =Z13*'Data Inputs'!$X$36*12 -> 0 | AA24: =AA13*'Data Inputs'!$X$36*12 -> 0 | AB24: =AB13*'Data Inputs'!$X$36*12 -> 0
B25: Other class - non-demand | C25: =SUM(D25:AB25) -> 0 | D25: =D14*'Data Inputs'!E37*12 -> 0 | E25: =E14*'Data Inputs'!F37*12 -> 0 | F25: =F14*'Data Inputs'!G37*12 -> 0 | G25: =G14*'Data Inputs'!H37*12 -> 0 | H25: =H14*'Data Inputs'!I37*12 -> 0 | I25: =I14*'Data Inputs'!J37*12 -> 0 | J25: =J14*'Data Inputs'!K37*12 -> 0 | K25: =K14*'Data Inputs'!L37*12 -> 0 | ... V25: =V14*'Data Inputs'!W37*12 -> 0 | W25: =W14*'Data Inputs'!$X$37*12 -> 0 | X25: =X14*'Data Inputs'!$X$37*12 -> 0 | Y25: =Y14*'Data Inputs'!$X$37*12 -> 0 | Z25: =Z14*'Data Inputs'!$X$37*12 -> 0 | AA25: =AA14*'Data Inputs'!$X$37*12 -> 0 | AB25: =AB14*'Data Inputs'!$X$37*12 -> 0
B26: Other class - demand | C26: =SUM(D26:AB26) -> 0 | D26: =D15*'Data Inputs'!E38*12 -> 0 | E26: =E15*'Data Inputs'!F38*12 -> 0 | F26: =F15*'Data Inputs'!G38*12 -> 0 | G26: =G15*'Data Inputs'!H38*12 -> 0 | H26: =H15*'Data Inputs'!I38*12 -> 0 | I26: =I15*'Data Inputs'!J38*12 -> 0 | J26: =J15*'Data Inputs'!K38*12 -> 0 | K26: =K15*'Data Inputs'!L38*12 -> 0 | ... V26: =V15*'Data Inputs'!W38*12 -> 0 | W26: =W15*'Data Inputs'!$X$38*12 -> 0 | X26: =X15*'Data Inputs'!$X$38*12 -> 0 | Y26: =Y15*'Data Inputs'!$X$38*12 -> 0 | Z26: =Z15*'Data Inputs'!$X$38*12 -> 0 | AA26: =AA15*'Data Inputs'!$X$38*12 -> 0 | AB26: =AB15*'Data Inputs'!$X$38*12 -> 0
B27: Other class - demand | C27: =SUM(D27:AB27) -> 0 | D27: =D16*'Data Inputs'!E39*12 -> 0 | E27: =E16*'Data Inputs'!F39*12 -> 0 | F27: =F16*'Data Inputs'!G39*12 -> 0 | G27: =G16*'Data Inputs'!H39*12 -> 0 | H27: =H16*'Data Inputs'!I39*12 -> 0 | I27: =I16*'Data Inputs'!J39*12 -> 0 | J27: =J16*'Data Inputs'!K39*12 -> 0 | K27: =K16*'Data Inputs'!L39*12 -> 0 | ... V27: =V16*'Data Inputs'!W39*12 -> 0 | W27: =W16*'Data Inputs'!$X$39*12 -> 0 | X27: =X16*'Data Inputs'!$X$39*12 -> 0 | Y27: =Y16*'Data Inputs'!$X$39*12 -> 0 | Z27: =Z16*'Data Inputs'!$X$39*12 -> 0 | AA27: =AA16*'Data Inputs'!$X$39*12 -> 0 | AB27: =AB16*'Data Inputs'!$X$39*12 -> 0
B28: Total fixed charge revenue | C28: =SUM(C19:C27) -> 6038468.8 | D28: =SUM(D19:D27) -> 42826.02 | E28: =SUM(E19:E27) -> 128478.06 | F28: =SUM(F19:F27) -> 214130.1 | G28: =SUM(G19:G27) -> 256956.12 | H28: =SUM(H19:H27) -> 256956.12 | I28: =SUM(I19:I27) -> 256956.12 | J28: =SUM(J19:J27) -> 256956.12 | ... AB28: =SUM(AB19:AB27) -> 256956.12
A29: Customer revenue - variable charge rate
B30: Residential | C30: =SUM(D30:AB30) -> 0 | D30: =D8*'Data Inputs'!E18*'Data Inputs'!E42*12 -> 0 | E30: =E8*'Data Inputs'!F18*'Data Inputs'!F42*12 -> 0 | F30: =F8*'Data Inputs'!G18*'Data Inputs'!G42*12 -> 0 | G30: =G8*'Data Inputs'!H18*'Data Inputs'!H42*12 -> 0 | H30: =H8*'Data Inputs'!I18*'Data Inputs'!I42*12 -> 0 | I30: =I8*'Data Inputs'!J18*'Data Inputs'!J42*12 -> 0 | J30: =J8*'Data Inputs'!K18*'Data Inputs'!K42*12 -> 0 | K30: =K8*'Data Inputs'!L18*'Data Inputs'!L42*12 -> 0 | ... V30: =V8*'Data Inputs'!W18*'Data Inputs'!W42*12 -> 0 | W30: =W8*'Data Inputs'!$X$18*'Data Inputs'!$X$42*12 -> 0 | X30: =X8*'Data Inputs'!$X$18*'Data Inputs'!$X$42*12 -> 0 | Y30: =Y8*'Data Inputs'!$X$18*'Data Inputs'!$X$42*12 -> 0 | Z30: =Z8*'Data Inputs'!$X$18*'Data Inputs'!$X$42*12 -> 0 | AA30: =AA8*'Data Inputs'!$X$18*'Data Inputs'!$X$42*12 -> 0 | AB30: =AB8*'Data Inputs'!$X$18*'Data Inputs'!$X$42*12 -> 0
B31: General Service < 50kW | C31: =SUM(D31:AB31) -> 0 | D31: =D9*'Data Inputs'!E19*'Data Inputs'!E43*12 -> 0 | E31: =E9*'Data Inputs'!F19*'Data Inputs'!F43*12 -> 0 | F31: =F9*'Data Inputs'!G19*'Data Inputs'!G43*12 -> 0 | G31: =G9*'Data Inputs'!H19*'Data Inputs'!H43*12 -> 0 | H31: =H9*'Data Inputs'!I19*'Data Inputs'!I43*12 -> 0 | I31: =I9*'Data Inputs'!J19*'Data Inputs'!J43*12 -> 0 | J31: =J9*'Data Inputs'!K19*'Data Inputs'!K43*12 -> 0 | K31: =K9*'Data Inputs'!L19*'Data Inputs'!L43*12 -> 0 | ... V31: =V9*'Data Inputs'!W19*'Data Inputs'!W43*12 -> 0 | W31: =W9*'Data Inputs'!$X$19*'Data Inputs'!$X$43*12 -> 0 | X31: =X9*'Data Inputs'!$X$19*'Data Inputs'!$X$43*12 -> 0 | Y31: =Y9*'Data Inputs'!$X$19*'Data Inputs'!$X$43*12 -> 0 | Z31: =Z9*'Data Inputs'!$X$19*'Data Inputs'!$X$43*12 -> 0 | AA31: =AA9*'Data Inputs'!$X$19*'Data Inputs'!$X$43*12 -> 0 | AB31: =AB9*'Data Inputs'!$X$19*'Data Inputs'!$X$43*12 -> 0
B32: General Service 50 to 2,999 kW | C32: =SUM(D32:AB32) -> 0 | D32: =D10*'Data Inputs'!E24*'Data Inputs'!E48*12 -> 0 | E32: =E10*'Data Inputs'!F24*'Data Inputs'!F48*12 -> 0 | F32: =F10*'Data Inputs'!G24*'Data Inputs'!G48*12 -> 0 | G32: =G10*'Data Inputs'!H24*'Data Inputs'!H48*12 -> 0 | H32: =H10*'Data Inputs'!I24*'Data Inputs'!I48*12 -> 0 | I32: =I10*'Data Inputs'!J24*'Data Inputs'!J48*12 -> 0 | J32: =J10*'Data Inputs'!K24*'Data Inputs'!K48*12 -> 0 | K32: =K10*'Data Inputs'!L24*'Data Inputs'!L48*12 -> 0 | ... V32: =V10*'Data Inputs'!W24*'Data Inputs'!W48*12 -> 0 | W32: =W10*'Data Inputs'!$X$24*'Data Inputs'!$X$48*12 -> 0 | X32: =X10*'Data Inputs'!$X$24*'Data Inputs'!$X$48*12 -> 0 | Y32: =Y10*'Data Inputs'!$X$24*'Data Inputs'!$X$48*12 -> 0 | Z32: =Z10*'Data Inputs'!$X$24*'Data Inputs'!$X$48*12 -> 0 | AA32: =AA10*'Data Inputs'!$X$24*'Data Inputs'!$X$48*12 -> 0 | AB32: =AB10*'Data Inputs'!$X$24*'Data Inputs'!$X$48*12 -> 0
B33: General Service 3,000 to 4,999 kW | C33: =SUM(D33:AB33) -> 10703282 | D33: =D11*'Data Inputs'!E25*'Data Inputs'!E49*12 -> 47151.024 | E33: =E11*'Data Inputs'!F25*'Data Inputs'!F49*12 -> 141453.07 | F33: =F11*'Data Inputs'!G25*'Data Inputs'!G49*12 -> 235755.12 | G33: =G11*'Data Inputs'!H25*'Data Inputs'!H49*12 -> 377208.19 | H33: =H11*'Data Inputs'!I25*'Data Inputs'!I49*12 -> 471510.24 | I33: =I11*'Data Inputs'!J25*'Data Inputs'!J49*12 -> 471510.24 | J33: =J11*'Data Inputs'!K25*'Data Inputs'!K49*12 -> 471510.24 | K33: =K11*'Data Inputs'!L25*'Data Inputs'!L49*12 -> 471510.24 | ... V33: =V11*'Data Inputs'!W25*'Data Inputs'!W49*12 -> 471510.24 | W33: =W11*'Data Inputs'!$X$25*'Data Inputs'!$X$49*12 -> 471510.24 | X33: =X11*'Data Inputs'!$X$25*'Data Inputs'!$X$49*12 -> 471510.24 | Y33: =Y11*'Data Inputs'!$X$25*'Data Inputs'!$X$49*12 -> 471510.24 | Z33: =Z11*'Data Inputs'!$X$25*'Data Inputs'!$X$49*12 -> 471510.24 | AA33: =AA11*'Data Inputs'!$X$25*'Data Inputs'!$X$49*12 -> 471510.24 | AB33: =AB11*'Data Inputs'!$X$25*'Data Inputs'!$X$49*12 -> 471510.24
B34: Large User | C34: =SUM(D34:AB34) -> 0 | D34: =D12*'Data Inputs'!E26*'Data Inputs'!E50*12 -> 0 | E34: =E12*'Data Inputs'!F26*'Data Inputs'!F50*12 -> 0 | F34: =F12*'Data Inputs'!G26*'Data Inputs'!G50*12 -> 0 | G34: =G12*'Data Inputs'!H26*'Data Inputs'!H50*12 -> 0 | H34: =H12*'Data Inputs'!I26*'Data Inputs'!I50*12 -> 0 | I34: =I12*'Data Inputs'!J26*'Data Inputs'!J50*12 -> 0 | J34: =J12*'Data Inputs'!K26*'Data Inputs'!K50*12 -> 0 | K34: =K12*'Data Inputs'!L26*'Data Inputs'!L50*12 -> 0 | ... V34: =V12*'Data Inputs'!W26*'Data Inputs'!W50*12 -> 0 | W34: =W12*'Data Inputs'!$X$26*'Data Inputs'!$X$50*12 -> 0 | X34: =X12*'Data Inputs'!$X$26*'Data Inputs'!$X$50*12 -> 0 | Y34: =Y12*'Data Inputs'!$X$26*'Data Inputs'!$X$50*12 -> 0 | Z34: =Z12*'Data Inputs'!$X$26*'Data Inputs'!$X$50*12 -> 0 | AA34: =AA12*'Data Inputs'!$X$26*'Data Inputs'!$X$50*12 -> 0 | AB34: =AB12*'Data Inputs'!$X$26*'Data Inputs'!$X$50*12 -> 0
B35: Other class - non-demand | C35: =SUM(D35:AB35) -> 0 | D35: =D13*'Data Inputs'!E20*'Data Inputs'!E44*12 -> 0 | E35: =E13*'Data Inputs'!F20*'Data Inputs'!F44*12 -> 0 | F35: =F13*'Data Inputs'!G20*'Data Inputs'!G44*12 -> 0 | G35: =G13*'Data Inputs'!H20*'Data Inputs'!H44*12 -> 0 | H35: =H13*'Data Inputs'!I20*'Data Inputs'!I44*12 -> 0 | I35: =I13*'Data Inputs'!J20*'Data Inputs'!J44*12 -> 0 | J35: =J13*'Data Inputs'!K20*'Data Inputs'!K44*12 -> 0 | K35: =K13*'Data Inputs'!L20*'Data Inputs'!L44*12 -> 0 | ... V35: =V13*'Data Inputs'!W20*'Data Inputs'!W44*12 -> 0 | W35: =W13*'Data Inputs'!$X$20*'Data Inputs'!$X$44*12 -> 0 | X35: =X13*'Data Inputs'!$X$20*'Data Inputs'!$X$44*12 -> 0 | Y35: =Y13*'Data Inputs'!$X$20*'Data Inputs'!$X$44*12 -> 0 | Z35: =Z13*'Data Inputs'!$X$20*'Data Inputs'!$X$44*12 -> 0 | AA35: =AA13*'Data Inputs'!$X$20*'Data Inputs'!$X$44*12 -> 0 | AB35: =AB13*'Data Inputs'!$X$20*'Data Inputs'!$X$44*12 -> 0
B36: Other class - non-demand | C36: =SUM(D36:AB36) -> 0 | D36: =D14*'Data Inputs'!E21*'Data Inputs'!E45*12 -> 0 | E36: =E14*'Data Inputs'!F21*'Data Inputs'!F45*12 -> 0 | F36: =F14*'Data Inputs'!G21*'Data Inputs'!G45*12 -> 0 | G36: =G14*'Data Inputs'!H21*'Data Inputs'!H45*12 -> 0 | H36: =H14*'Data Inputs'!I21*'Data Inputs'!I45*12 -> 0 | I36: =I14*'Data Inputs'!J21*'Data Inputs'!J45*12 -> 0 | J36: =J14*'Data Inputs'!K21*'Data Inputs'!K45*12 -> 0 | K36: =K14*'Data Inputs'!L21*'Data Inputs'!L45*12 -> 0 | ... V36: =V14*'Data Inputs'!W21*'Data Inputs'!W45*12 -> 0 | W36: =W14*'Data Inputs'!$X$21*'Data Inputs'!$X$45*12 -> 0 | X36: =X14*'Data Inputs'!$X$21*'Data Inputs'!$X$45*12 -> 0 | Y36: =Y14*'Data Inputs'!$X$21*'Data Inputs'!$X$45*12 -> 0 | Z36: =Z14*'Data Inputs'!$X$21*'Data Inputs'!$X$45*12 -> 0 | AA36: =AA14*'Data Inputs'!$X$21*'Data Inputs'!$X$45*12 -> 0 | AB36: =AB14*'Data Inputs'!$X$21*'Data Inputs'!$X$45*12 -> 0
B37: Other class - demand | C37: =SUM(D37:AB37) -> 0 | D37: =D15*'Data Inputs'!E27*'Data Inputs'!E51*12 -> 0 | E37: =E15*'Data Inputs'!F27*'Data Inputs'!F51*12 -> 0 | F37: =F15*'Data Inputs'!G27*'Data Inputs'!G51*12 -> 0 | G37: =G15*'Data Inputs'!H27*'Data Inputs'!H51*12 -> 0 | H37: =H15*'Data Inputs'!I27*'Data Inputs'!I51*12 -> 0 | I37: =I15*'Data Inputs'!J27*'Data Inputs'!J51*12 -> 0 | J37: =J15*'Data Inputs'!K27*'Data Inputs'!K51*12 -> 0 | K37: =K15*'Data Inputs'!L27*'Data Inputs'!L51*12 -> 0 | ... V37: =V15*'Data Inputs'!W27*'Data Inputs'!W51*12 -> 0 | W37: =W15*'Data Inputs'!$X$27*'Data Inputs'!$X$51*12 -> 0 | X37: =X15*'Data Inputs'!$X$27*'Data Inputs'!$X$51*12 -> 0 | Y37: =Y15*'Data Inputs'!$X$27*'Data Inputs'!$X$51*12 -> 0 | Z37: =Z15*'Data Inputs'!$X$27*'Data Inputs'!$X$51*12 -> 0 | AA37: =AA15*'Data Inputs'!$X$27*'Data Inputs'!$X$51*12 -> 0 | AB37: =AB15*'Data Inputs'!$X$27*'Data Inputs'!$X$51*12 -> 0
B38: Other class - demand | C38: =SUM(D38:AB38) -> 0 | D38: =D16*'Data Inputs'!E28*'Data Inputs'!E52*12 -> 0 | E38: =E16*'Data Inputs'!F28*'Data Inputs'!F52*12 -> 0 | F38: =F16*'Data Inputs'!G28*'Data Inputs'!G52*12 -> 0 | G38: =G16*'Data Inputs'!H28*'Data Inputs'!H52*12 -> 0 | H38: =H16*'Data Inputs'!I28*'Data Inputs'!I52*12 -> 0 | I38: =I16*'Data Inputs'!J28*'Data Inputs'!J52*12 -> 0 | J38: =J16*'Data Inputs'!K28*'Data Inputs'!K52*12 -> 0 | K38: =K16*'Data Inputs'!L28*'Data Inputs'!L52*12 -> 0 | ... V38: =V16*'Data Inputs'!W28*'Data Inputs'!W52*12 -> 0 | W38: =W16*'Data Inputs'!$X$28*'Data Inputs'!$X$52*12 -> 0 | X38: =X16*'Data Inputs'!$X$28*'Data Inputs'!$X$52*12 -> 0 | Y38: =Y16*'Data Inputs'!$X$28*'Data Inputs'!$X$52*12 -> 0 | Z38: =Z16*'Data Inputs'!$X$28*'Data Inputs'!$X$52*12 -> 0 | AA38: =AA16*'Data Inputs'!$X$28*'Data Inputs'!$X$52*12 -> 0 | AB38: =AB16*'Data Inputs'!$X$28*'Data Inputs'!$X$52*12 -> 0
B39: Total variable charge revenue | C39: =SUM(C30:C38) -> 10703282 | D39: =SUM(D30:D38) -> 47151.024 | E39: =SUM(E30:E38) -> 141453.07 | F39: =SUM(F30:F38) -> 235755.12 | G39: =SUM(G30:G38) -> 377208.19 | H39: =SUM(H30:H38) -> 471510.24 | I39: =SUM(I30:I38) -> 471510.24 | J39: =SUM(J30:J38) -> 471510.24 | ... AB39: =SUM(AB30:AB38) -> 471510.24
A40: Customer revenue - total | C40: =+C28+C39 -> 16741751 | D40: =+D28+D39 -> 89977.044 | E40: =+E28+E39 -> 269931.13 | F40: =+F28+F39 -> 449885.22 | G40: =+G28+G39 -> 634164.31 | H40: =+H28+H39 -> 728466.36 | I40: =+I28+I39 -> 728466.36 | J40: =+J28+J39 -> 728466.36 | ... AB40: =+AB28+AB39 -> 728466.36
...

Sheet OM&A Calc
A1: OM&A COST/CUSTOMER CALCULATION
A2: Customer Count | D2: Elexicon | E2: 179017
A4: Description | B4: OEB | D4: 2024 | E4: 2024/Cust
A5: Operations Supervision & Engineering | B5: 5005 | D5: 3256907.8
A6: Load Dispatching | B6: 5010 | D6: 1894430.3
A7: Station Buildings & Fixtures | B7: 5012 | D7: 284455.25
A8: Distribution Station Equipment | B8: 5016 | D8: 170924.41
B9: 5017 | D9: 58387.14
A10: Overhead Lines | B10: 5020 | D10: 1452299.1
B11: 5025 | D11: 805802.31
A12: Overhead Subtransmission Feeders | B12: 5030 | D12: 45135.48
A13: Overhead Transformers | B13: 5035 | D13: 0
A14: Underground Lines and Feeders | B14: 5040 | D14: -1452153.6
B15: 5045 | D15: 1794776.6
A16: Underground Subtransmission Feeders | B16: 5050 | D16: 0
A17: Underground Transformers | B17: 5055 | D17: 338375.79
A18: Customer Premises | B18: 5070 | D18: 1092098.6
B19: 5075 | D19: 331148.39
A20: Metering | B20: 5065 | D20: 523243.23
B21: 5175 | D21: 449382.89
A22: Miscellaneous | B22: 5085 | D22: 1923786.6
B23: 5090 | D23: 0
B24: 5095 | D24: 187501.06
B25: 5096 | D25: 0
A26: Less: Misc. 5090 5095 5096 | B26: 5090 | D26: =-D23 -> 0
B27: 5095 | D27: =-D24 -> -187501.06
B28: 5096 | D28: =-D25 -> 0
A29: Total Operations | D29: =SUM(D5:D28) -> 12969000 | E29: =+D29/E2 -> 72.445635
A30: Supervision and Direction | B30: 5105 | D30: 610477.32
A31: Station Building Maintenance | B31: 5110 | D31: 88573.24
A32: Station Equipment Maintenance | B32: 5114 | D32: 3122389.9
A33: Poles, Towers & Fixtures | B33: 5120 | D33: 34554.58
A34: Overhead Lines | B34: 5125 | D34: 874580.83
A35: Overhead Services | B35: 5130 | D35: 33443.41
A36: Tree Trimming | B36: 5135 | D36: 1571789.3
A37: Underground Lines | B37: 5145 | D37: 8744.62
B38: 5150 | D38: 282328.06
A39: Underground Services | B39: 5155 | D39: 257485.61
A40: Transformer Maintenance | B40: 5160 | D40: 55157.86
A41: Total Maintenance | D41: =SUM(D30:D40) -> 6939524.8 | E41: =+D41/E2 -> 38.764613
...
