Workbook
Name _MailEndCompose: UFGVA!#REF!

Sheet Summary
A1: =PGTVA!A1 -> EPCOR Natural Gas Limited Partnership
A2: =PGTVA!A2 -> EB-2026-0148
A4: Deferral Account Summary | B4: 2025 | D4: 2026 Carrying Charges
B5: Principal | C5: Carrying Charges | D5: Q1 | E5: Q2 | F5: Q3 | G5: Q4 | H5: Total | J5: Check
D6: 0.0255 | E6: 0.0255 | F6: 0.0255 | G6: =F6 -> 0.0255
A7: PGTVA | B7: =PGTVA!M28 -> 149180.21 | C7: =PGTVA!M35 -> 1103.662 | D7: =$B7*D$6/4 -> 951.02384 | E7: =$B7*E$6/4 -> 951.02384 | F7: =$B7*F$6/4 -> 951.02384 | G7: =$B7*G$6/4 -> 951.02384 | H7: =SUM(B7:G7) -> 154087.97 | J7: =H7-PGTVA!D42 -> 0
A8: UFGVA | B8: =UFGVA!B38 -> 228115.6 | C8: =UFGVA!B39 -> 1690.4369 | D8: =$B8*D$6/4 -> 1454.237 | E8: =$B8*E$6/4 -> 1454.237 | F8: =$B8*F$6/4 -> 1454.237 | G8: =$B8*G$6/4 -> 1454.237 | H8: =SUM(B8:G8) -> 235622.99 | J8: =H8-UFGVA!D40 -> 0
A9: ADVADA | B9: =ADVADA!BI17 -> -25845.162 | C9: =ADVADA!BI24 -> 4687.8368 | D9: =$B9*D$6/4 -> -164.76291 | E9: =$B9*E$6/4 -> -164.76291 | F9: =$B9*F$6/4 -> -164.76291 | G9: =$B9*G$6/4 -> -164.76291 | H9: =SUM(B9:G9) -> -21816.376 | J9: =H9-ADVADA!AZ31 -> 0
A10: ESMDA | B10: =ESMDA!M13 -> -77248.96 | C10: =ESMDA!M20 -> 0 | D10: =$B10*D$6/4 -> -492.46212 | E10: =$B10*E$6/4 -> -492.46212 | F10: =$B10*F$6/4 -> -492.46212 | G10: =$B10*G$6/4 -> -492.46212 | H10: =SUM(B10:G10) -> -79218.808 | J10: =H10-ESMDA!D27 -> 0
A11: Total | B11: =SUM(B7:B10) -> 274201.69 | C11: =SUM(C7:C10) -> 7481.9357 | D11: =SUM(D7:D10) -> 1748.0358 | E11: =SUM(E7:E10) -> 1748.0358 | F11: =SUM(F7:F10) -> 1748.0358 | G11: =SUM(G7:G10) -> 1748.0358 | H11: =SUM(H7:H10) -> 288675.77
A15: Rate Rider Summary | B15: =Summary!$A$7 -> PGTVA | C15: =Summary!$A$8 -> UFGVA | D15: =Summary!$A$9 -> ADVADA | E15: =Summary!$A$10 -> ESMDA | F15: =E15 -> ESMDA
B16: cents / m3 | C16: cents / m3 | D16: cents / m3 | E16: cents / m3 | F16: $ per month
A17: R1 - Residential | B17: =PGTVA!$D$57 -> 0.41180597 | C17: =UFGVA!$D$54 -> 0.62971143 | D17: =ADVADA!$AZ$46 -> -0.066237433 | E17: =ESMDA!$D$42 -> -0.26148694
A18: R1 - General Service | B18: =PGTVA!$E$57 -> 0.39682146 | C18: =UFGVA!$E$54 -> 0.60679791 | D18: =ADVADA!$BA$46 -> -0.052308409 | E18: =ESMDA!$E$42 -> -0.12483686
A19: R2 - Seasonal - Nov to Mar | B19: =PGTVA!$F$57 -> 0.40795578 | C19: =UFGVA!$F$54 -> 0.62382392 | D19: =ADVADA!$BB$46 -> -0.047338011 | E19: =ESMDA!$F$42 -> -0.10829704
A20: R2 - Seasonal - Apr to Oct | B20: =B19 -> 0.40795578 | C20: =C19 -> 0.62382392 | D20: =D19 -> -0.047338011 | E20: =E19 -> -0.10829704
A21: R3 - Large Volume Contract | B21: =PGTVA!$G$57 -> 0.40808776 | C21: =UFGVA!$G$54 -> 0.62402574 | D21: =ADVADA!$BC$46 -> -0.027808761 | E21: =ESMDA!$G$42 -> -0.078660677
A22: R4 - Peaking - Apr to Dec | B22: =PGTVA!$H$57 -> 0.40795578 | C22: =UFGVA!$H$54 -> 0.62382392 | D22: =ADVADA!$BD$46 -> -0.060337512 | E22: =ESMDA!$H$42 -> -0.092792829
A23: R4 - Peaking - Jan to Mar | B23: =B22 -> 0.40795578 | C23: =C22 -> 0.62382392 | D23: =D22 -> -0.060337512 | E23: =E22 -> -0.092792829
A24: R5 - Interruptible Peaking | B24: =PGTVA!$I$57 -> 0.40795578 | C24: =UFGVA!$I$54 -> 0.62382392 | D24: =ADVADA!$BE$46 -> -0.067654699 | E24: =ESMDA!$I$42 -> -0.050338799
A25: R6 - Alco Energy (IGPC) | F25: =ESMDA!$K$42 -> -769.68313
A27: Check | B27: =IF(SUM(PGTVA!$D$57:$I$57)-SUM(B17:B19,B21,B23:B24)=0,"Ok","Check") -> Ok | C27: =IF(SUM(UFGVA!$D$54:$I$54)-SUM(C17:C19,C21,C22,C24)=0,"Ok","Check") -> Ok | D27: =IF(SUM(ADVADA!$AZ$46:$BE$46)-SUM(D17:D19,D21,D22,D24)=0,"Ok","Check") -> Ok | E27: =IF(SUM(ESMDA!$D$42:$I$42)-SUM(E17:E19,E21,E22,E24)=0,"Ok","Check") -> Ok | F27: =IF(SUM(ESMDA!$K$42)-F25=0,"Ok","Check") -> Ok
A30: Disposition Summary | B30: Previous Disposition | C30: Balance Allocation | E30: Balance Recovery
A31: =Summary!$A$7 -> PGTVA | B31: 2024 | C31: 2025 actual volumes | E31: 2025 weather normalized
A32: =Summary!$A$8 -> UFGVA | B32: 2024 | C32: 2025 actual volumes | E32: 2025 weather normalized
A33: =Summary!$A$9 -> ADVADA | B33: 2020 | C33: 2021-2023 actual volumes | E33: 2025 weather normalized
A34: =Summary!$A$10 -> ESMDA | B34: N/A | C34: Approved revenue requirement | E34: 2025 weather normalized

Sheet PGTVA
A1: EPCOR Natural Gas Limited Partnership
A2: EB-2026-0148
A3: Purchased Gas Transportation Variance Account (PGTVA)
A4: Continuity Schedule | B4: EB-2018-0336 | D4: EB-2024-0140
B5: 2025 | C5: 2025 | D5: 2025 | E5: 2025 | F5: 2025 | G5: 2025 | H5: 2025 | I5: 2025 | J5: 2025 | K5: 2025 | L5: 2025 | M5: 2025 | O5: 2026
B6: JAN | C6: FEB | D6: MAR | E6: APR | F6: MAY | G6: JUN | H6: JUL | I6: AUG | J6: SEP | K6: OCT | L6: NOV | M6: DEC | O6: JAN-DEC
A7: Transportation Cost
A8: Enbridge/Union Gas - Delivery | B8: 13373.93 | C8: 11145.35 | D8: 7939.27 | E8: 5490.41 | F8: 2911.59 | G8: 1618.04 | H8: 1092.37 | I8: 1977.57 | J8: 2701.39 | K8: 6225.48 | L8: 14660.48 | M8: 13826.1
A9: Enbridge/Union Gas - Adjustments | B9: 0 | C9: 0 | D9: 0 | E9: 0 | F9: 0 | G9: 0 | H9: 0 | I9: 0 | J9: 0 | K9: 0 | L9: 0 | M9: 0
A10: Enbridge/Union Gas - Demand | B10: 65389.15 | C10: 65389.15 | D10: 65389.15 | E10: 65389.15 | F10: 65389.15 | G10: 65389.15 | H10: 65389.15 | I10: 65389.15 | J10: 65389.15 | K10: 65389.15 | L10: 69479.16 | M10: 69479.16
A11: Lagasco - Demand | B11: 13575.66 | C11: 13575.66 | D11: 13432.45 | E11: 13600.01 | F11: 13600.01 | G11: 13596.94 | H11: 13600 | I11: 13600 | J11: 13744.84 | K11: 13600 | L11: 13600 | M11: 13471.55
A12: Lagasco - Delivery | B12: 3253.91 | C12: 2712.59 | D12: 1999.23 | E12: 2000.08 | F12: 651.47 | G12: -3.1 | H12: 0 | I12: 0 | J12: 0 | K12: 1191.46 | L12: 3643.44 | M12: 3396.5
A13: Clearbeach Resources Inc. - Demand | B13: 0 | C13: 0 | D13: 0 | E13: 0 | F13: 0 | G13: 0 | H13: 0 | I13: 0 | J13: 0 | K13: 0 | L13: 0 | M13: 0
A14: Clearbeach Resources Inc. - Delivery | B14: 4228.66 | C14: 4139.07 | D14: 4129.09 | E14: 4373.1 | F14: 4466.3 | G14: 4182.8072 | H14: 3563.57 | I14: 3526.2 | J14: 3494.473 | K14: 3783.73 | L14: 3951.76 | M14: 4344.25
A15: Total Cost (A) | B15: =SUM(B8:B14) -> 99821.31 | C15: =SUM(C8:C14) -> 96961.82 | D15: =SUM(D8:D14) -> 92889.19 | E15: =SUM(E8:E14) -> 90852.75 | F15: =SUM(F8:F14) -> 87018.52 | G15: =SUM(G8:G14) -> 84783.837 | H15: =SUM(H8:H14) -> 83645.09 | I15: =SUM(I8:I14) -> 84492.92 | ... M15: =SUM(M8:M14) -> 104517.56
A17: Volumes Transported (m3) (B) | B17: 6276107.3 | C17: 5236763.6
A18: Transportation Revenue (F) | D18: 66314.79 | E18: 99218.31 | F18: 70510.3 | G18: 46599.14 | H18: 28459.8 | I18: 20627.57 | J18: 26559.25 | K18: 43682.62 | L18: 110975.62 | M18: 170578.55
A20: Average Cost ($/m3) (A/B) = C | B20: =B15/B17 -> 0.015904972 | C20: =C15/C17 -> 0.0185156
A21: Reference Price - 2024 (EB-2018-0336) (D) | B21: 0.023724 | C21: 0.023724
A22: Rate Difference (C-D) = (E) | B22: =B20-B21 -> -0.007819028 | C22: =C20-C21 -> -0.0052084002
A24: Monthly Variance (B x E) or (A - F) | B24: =B17*B22 -> -49073.059 | C24: =C17*C22 -> -27275.161 | D24: =D15-D18 -> 26574.4 | E24: =E15-E18 -> -8365.56 | F24: =F15-F18 -> 16508.22 | G24: =G15-G18 -> 38184.697 | H24: =H15-H18 -> 55185.29 | I24: =I15-I18 -> 63865.35 | J24: =J15-J18 -> 58770.603 | K24: =K15-K18 -> 46507.2 | ... M24: =M15-M18 -> -66060.99
A26: Opening PGTVA Balance | B26: 0 | C26: =B28 -> -49073.059 | D26: =C28 -> -76348.219 | E26: =D28 -> -49773.819 | F26: =E28 -> -58139.379 | G26: =F28 -> -41631.159 | H26: =G28 -> -3446.462 | I26: =H28 -> 51738.828 | J26: =I28 -> 115604.18 | ... M26: =L28 -> 215241.2
A27: Change in PGTVA Balance | B27: =B24 -> -49073.059 | C27: =C24 -> -27275.161 | D27: =D24 -> 26574.4 | E27: =E24 -> -8365.56 | F27: =F24 -> 16508.22 | G27: =G24 -> 38184.697 | H27: =H24 -> 55185.29 | I27: =I24 -> 63865.35 | ... M27: =M24 -> -66060.99
A28: Closing PGTVA Balance | B28: =SUM(B26:B27) -> -49073.059 | C28: =SUM(C26:C27) -> -76348.219 | D28: =SUM(D26:D27) -> -49773.819 | E28: =SUM(E26:E27) -> -58139.379 | F28: =SUM(F26:F27) -> -41631.159 | G28: =SUM(G26:G27) -> -3446.462 | H28: =SUM(H26:H27) -> 51738.828 | I28: =SUM(I26:I27) -> 115604.18 | ... M28: =SUM(M26:M27) -> 149180.21
A30: PGTVA Interest
A31: Monthly Interest Rate | B31: 0.0364 | C31: 0.0364 | D31: 0.0364 | E31: 0.0316 | F31: 0.0316 | G31: 0.0316 | H31: 0.0291 | I31: 0.0291 | J31: 0.0291 | K31: 0.0291 | L31: 0.0291 | M31: 0.0291 | O31: =(Summary!D6+Summary!E6+Summary!F6+Summary!G6)/4 -> 0.0255
A33: Opening Interest Balance | B33: 0 | C33: =B35 -> 0 | D33: =C35 -> -148.85494 | E33: =D35 -> -380.44454 | F33: =E35 -> -511.5156 | G33: =F35 -> -664.61596 | H33: =G35 -> -774.24468 | I33: =H35 -> -782.60235 | J33: =I35 -> -657.1357 | ... M33: =L35 -> 581.70208 | O33: =M35 -> 1103.662
A34: Monthly Interest Calculation | B34: =B26*B31/12 -> 0 | C34: =C26*C31/12 -> -148.85494 | D34: =D26*D31/12 -> -231.5896 | E34: =E26*E31/12 -> -131.07106 | F34: =F26*F31/12 -> -153.10037 | G34: =G26*G31/12 -> -109.62872 | H34: =H26*H31/12 -> -8.3576702 | I34: =I26*I31/12 -> 125.46666 | ... M34: =M26*M31/12 -> 521.95991 | O34: =M28*O31 -> 3804.0954
A35: Closing Interest Balance | B35: =SUM(B33:B34) -> 0 | C35: =SUM(C33:C34) -> -148.85494 | D35: =SUM(D33:D34) -> -380.44454 | E35: =SUM(E33:E34) -> -511.5156 | F35: =SUM(F33:F34) -> -664.61596 | G35: =SUM(G33:G34) -> -774.24468 | H35: =SUM(H33:H34) -> -782.60235 | I35: =SUM(I33:I34) -> -657.1357 | ... M35: =SUM(M33:M34) -> 1103.662 | O35: =SUM(O33:O34) -> 4907.7574
A38: PGTVA Account Balance
B39: 2025 Balance | C39: 2026 Carrying Charges | D39: 2026 Balance
A40: Principal | B40: =M28 -> 149180.21 | D40: =B40+C40 -> 149180.21
A41: Carrying Charges | B41: =M35 -> 1103.662 | C41: =O34 -> 3804.0954 | D41: =B41+C41 -> 4907.7574
A42: Total | B42: =B41+B40 -> 150283.87 | C42: =C41+C40 -> 3804.0954 | D42: =B42+C42 -> 154087.97
A45: PGTVA Account Balance Allocation (Based on 2025 Actual Volumes)
B46: Unit | C46: Row Sum | D46: Rate 1 - Residential | E46: Rate 1 - GS | F46: Rate 2 | G46: Rate 3 | H46: Rate 4 | I46: Rate 5
A47: Volume | B47: 000's m3 | C47: =SUM(D47:I47) -> 37770.753 | D47: =Allocations!G17/1000 -> 19091.614 | E47: =Allocations!H17/1000 -> 10841.757 | F47: =Allocations!I17/1000 -> 1254.453 | G47: =Allocations!J17/1000 -> 3586.45 | H47: =Allocations!K17/1000 -> 2180.8765 | I47: =Allocations!L17/1000 -> 815.602
A48: Allocation | B48: % | C48: =SUM(D48:I48) -> 1 | D48: =D47/$C$47 -> 0.50546025 | E48: =E47/$C$47 -> 0.28704106 | F48: =F47/$C$47 -> 0.033212285 | G48: =G47/$C$47 -> 0.094953099 | H48: =H47/$C$47 -> 0.057739822 | I48: =I47/$C$47 -> 0.02159348
A49: Total | B49: $ | C49: =SUM(D49:I49) -> 154087.97 | D49: =D48*($O$35+$M$28) -> 77885.343 | E49: =E48*($O$35+$M$28) -> 44229.574 | F49: =F48*($O$35+$M$28) -> 5117.6135 | G49: =G48*($O$35+$M$28) -> 14631.13 | H49: =H48*($O$35+$M$28) -> 8897.0118 | I49: =I48*($O$35+$M$28) -> 3327.2955
A52: PGTVA Account Balance Recovery (Based on 2025 Weather Normalized Volumes)
...

Sheet UFGVA
A1: =PGTVA!A1 -> EPCOR Natural Gas Limited Partnership
A2: =PGTVA!A2 -> EB-2026-0148
A3: Unaccounted For Gas Variance Account (UFGVA)
A4: =PGTVA!A4 -> Continuity Schedule
B5: 2025 | C5: 2025 | D5: 2025 | E5: 2025 | F5: 2025 | G5: 2025 | H5: 2025 | I5: 2025 | J5: 2025 | K5: 2025 | L5: 2025 | M5: 2025 | O5: 2026
B6: JAN | C6: FEB | D6: MAR | E6: APR | F6: MAY | G6: JUN | H6: JUL | I6: AUG | J6: SEP | K6: OCT | L6: NOV | M6: DEC | O6: Jan-Dec
A7: Purchase Volumes:
A8: Enbridge SA 1550 | B8: 3678987.9 | C8: 3047185.6 | D8: 2129400.7 | E8: 1048913.9 | F8: 382912.6 | G8: 113118.7 | H8: 209191.9 | I8: 478676.4 | J8: 535334 | K8: 1419601.7 | L8: 3040086.4 | M8: 3393951.8
A9: Enbridge SA 25050 | B9: 865454.9 | C9: 713050.8 | D9: 549168.1 | E9: 531516 | F9: 455197.8 | G9: 352638 | H9: 114281.5 | I9: 106925.2 | J9: 264600 | K9: 517990.4 | L9: 1522776 | M9: 909223.8
A10: Lagasco Lake | B10: 1104023.2 | C10: 920359.13 | D10: 687112.01 | E10: 577949.97 | F10: 188251.42 | G10: 0 | H10: 0 | I10: 0 | J10: 0 | K10: 372255.28 | L10: 1138343.4 | M10: 1073355.9
A11: Lagasco Wells | B11: 50121.528 | C11: 49163.61 | D11: 53586.929 | E11: 56798.764 | F11: 44092.294 | G11: 43838.728 | H11: 58291.985 | I11: 55756.326 | J11: 46064.47 | K11: 54770.237 | L11: 59278.075 | M11: 55474.586
A12: Walker RNG | B12: 335242.31 | C12: 295122.55 | D12: 396858.82 | E12: 376714.42 | F12: 372431.97 | G12: 269061.6 | H12: 334228.04 | I12: 362627.43 | J12: 409227.2 | K12: 425483.6 | L12: 410945.82 | M12: 382236.52
A13: Clearbeach Resources | B13: 242277.42 | C13: 211881.95 | D13: 193727.92 | E13: 246258.79 | F13: 273188.26 | G13: 191663.61 | H13: 12686.02 | I13: 1577.26 | J13: 3344.24 | K13: 82119.3 | L13: 134619.02 | M13: 270093.21
A14: Total Purchases (A) | B14: =SUM(B8:B13) -> 6276107.3 | C14: =SUM(C8:C13) -> 5236763.6 | D14: =SUM(D8:D13) -> 4009854.5 | E14: =SUM(E8:E13) -> 2838151.8 | F14: =SUM(F8:F13) -> 1716074.3 | G14: =SUM(G8:G13) -> 970320.64 | H14: =SUM(H8:H13) -> 728679.45 | I14: =SUM(I8:I13) -> 1005562.6 | ... M14: =SUM(M8:M13) -> 6084335.8
A16: Calendarized billing volume (B) | B16: 5199708 | C16: 5227361 | D16: 4633199 | E16: 2659846.3 | F16: 2122347 | G16: 1130909.8 | H16: 767214.64 | I16: 953507.83 | J16: 1333653.9 | K16: 2529593 | L16: 5552296 | M16: 5661116 | O16: =SUM(B16:M16) -> 37770753
A17: Volume difference (A - B = C) | B17: =B14-B16 -> 1076399.3 | C17: =C14-C16 -> 9402.64 | D17: =D14-D16 -> -623344.52 | E17: =E14-E16 -> 178305.5 | F17: =F14-F16 -> -406272.63 | G17: =G14-G16 -> -160589.18 | H17: =H14-H16 -> -38535.191 | I17: =I14-I16 -> 52054.786 | ... M17: =M14-M16 -> 423219.81 | O17: =SUM(B17:M17) -> 1531936.7
O18: =O17/O16 -> 0.040558808
A19: PGCVA Reference price (per OEB Decisions) (D) | B19: 0.140187 | C19: 0.140187 | D19: 0.140187 | E19: 0.202733 | F19: 0.202733 | G19: 0.202733 | H19: 0.18424 | I19: 0.18424 | J19: 0.18424 | K19: 0.166755 | L19: 0.166755 | M19: 0.166755
A20: Unit Difference (C * D = E) | B20: =B17*B19 -> 150897.18 | C20: =C17*C19 -> 1318.1279 | D20: =D17*D19 -> -87384.798 | E20: =E17*E19 -> 36148.409 | F20: =F17*F19 -> -82364.87 | G20: =G17*G19 -> -32556.727 | H20: =H17*H19 -> -7099.7235 | I20: =I17*I19 -> 9590.5737 | ... M20: =M17*M19 -> 70574.019
A22: Opening UFG Balance | B22: 0 | C22: =B24 -> 150897.18 | D22: =C24 -> 152215.31 | E22: =D24 -> 64830.512 | F22: =E24 -> 100978.92 | G22: =F24 -> 18614.051 | H22: =G24 -> -13942.676 | I22: =H24 -> -21042.399 | J22: =I24 -> -11451.826 | ... M22: =L24 -> 157541.59
A23: Change in UFG Balance (E) | B23: =B20 -> 150897.18 | C23: =C20 -> 1318.1279 | D23: =D20 -> -87384.798 | E23: =E20 -> 36148.409 | F23: =F20 -> -82364.87 | G23: =G20 -> -32556.727 | H23: =H20 -> -7099.7235 | I23: =I20 -> 9590.5737 | ... M23: =M20 -> 70574.019
A24: Closing UFG Balance | B24: =B22+B23 -> 150897.18 | C24: =C22+C23 -> 152215.31 | D24: =D22+D23 -> 64830.512 | E24: =E22+E23 -> 100978.92 | F24: =F22+F23 -> 18614.051 | G24: =G22+G23 -> -13942.676 | H24: =H22+H23 -> -21042.399 | I24: =I22+I23 -> -11451.826 | ... M24: =M22+M23 -> 228115.6
A26: UFG Interest
A27: Monthly Interest Rate | B27: =PGTVA!B31 -> 0.0364 | C27: =PGTVA!C31 -> 0.0364 | D27: =PGTVA!D31 -> 0.0364 | E27: =PGTVA!E31 -> 0.0316 | F27: =PGTVA!F31 -> 0.0316 | G27: =PGTVA!G31 -> 0.0316 | H27: =PGTVA!H31 -> 0.0291 | I27: =PGTVA!I31 -> 0.0291 | ... M27: =PGTVA!M31 -> 0.0291 | O27: =PGTVA!O31 -> 0.0255
A29: Opening Interest Balance | B29: 0 | C29: =B31 -> 0 | D29: =C31 -> 457.72145 | E29: =D31 -> 919.44123 | F29: =E31 -> 1090.1616 | G29: =F31 -> 1356.0727 | H29: =G31 -> 1405.0897 | I29: =H31 -> 1371.2787 | J29: =I31 -> 1320.2509 | ... M29: =L31 -> 1308.3986 | O29: =M31 -> 1690.4369
A30: Monthly Interest Calculation | B30: =B22*B27/12 -> 0 | C30: =C22*C27/12 -> 457.72145 | D30: =D22*D27/12 -> 461.71977 | E30: =E22*E27/12 -> 170.72035 | F30: =F22*F27/12 -> 265.91116 | G30: =G22*G27/12 -> 49.017001 | H30: =H22*H27/12 -> -33.810989 | I30: =I22*I27/12 -> -51.027818 | ... M30: =M22*M27/12 -> 382.03834 | O30: =O27*M24 -> 5816.9479
A31: Closing Interest Balance | B31: =B29+B30 -> 0 | C31: =C29+C30 -> 457.72145 | D31: =D29+D30 -> 919.44123 | E31: =E29+E30 -> 1090.1616 | F31: =F29+F30 -> 1356.0727 | G31: =G29+G30 -> 1405.0897 | H31: =H29+H30 -> 1371.2787 | I31: =I29+I30 -> 1320.2509 | ... M31: =M29+M30 -> 1690.4369 | O31: =O29+O30 -> 7507.3848
A33: UFG% | B33: =B17/B14 -> 0.17150747 | C33: =C17/C14 -> 0.0017955059 | D33: =D17/D14 -> -0.15545315 | E33: =E17/E14 -> 0.062824511 | F33: =F17/F14 -> -0.23674536 | G33: =G17/G14 -> -0.16550115 | H33: =H17/H14 -> -0.052883597 | I33: =I17/I14 -> 0.051766827 | ... M33: =M17/M14 -> 0.069558916 | O33: =SUM(B17:M17)/SUM(B14:M14) -> 0.03897791
A36: UFGVA Account Balance
B37: 2025 Balance | C37: 2026 Carrying Charges | D37: 2026 Balance
A38: Principal | B38: =M24 -> 228115.6 | D38: =B38+C38 -> 228115.6
A39: Carrying Charges | B39: =M31 -> 1690.4369 | C39: =O30 -> 5816.9479 | D39: =B39+C39 -> 7507.3848
A40: Total | B40: =B39+B38 -> 229806.04 | C40: =C39+C38 -> 5816.9479 | D40: =B40+C40 -> 235622.99
A42: UFGVA Account Balance Allocation (Based on 2025 Actual Volumes)
B43: Unit | C43: Row Sum | D43: =PGTVA!D46 -> Rate 1 - Residential | E43: =PGTVA!E46 -> Rate 1 - GS | F43: =PGTVA!F46 -> Rate 2 | G43: =PGTVA!G46 -> Rate 3 | H43: =PGTVA!H46 -> Rate 4 | I43: =PGTVA!I46 -> Rate 5
A44: Volume | B44: 000's m3 | C44: =SUM(D44:I44) -> 37770.753 | D44: =Allocations!G17/1000 -> 19091.614 | E44: =Allocations!H17/1000 -> 10841.757 | F44: =Allocations!I17/1000 -> 1254.453 | G44: =Allocations!J17/1000 -> 3586.45 | H44: =Allocations!K17/1000 -> 2180.8765 | I44: =Allocations!L17/1000 -> 815.602
A45: Allocation | B45: % | C45: =SUM(D45:I45) -> 1 | D45: =D44/$C$44 -> 0.50546025 | E45: =E44/$C$44 -> 0.28704106 | F45: =F44/$C$44 -> 0.033212285 | G45: =G44/$C$44 -> 0.094953099 | H45: =H44/$C$44 -> 0.057739822 | I45: =I44/$C$44 -> 0.02159348
A46: Total | B46: $ | C46: =SUM(D46:I46) -> 235622.99 | D46: =D45*($D$40) -> 119098.05 | E46: =E45*($D$40) -> 67633.473 | F46: =F45*($D$40) -> 7825.5779 | G46: =G45*($D$40) -> 22373.133 | H46: =H45*($D$40) -> 13604.829 | I46: =I45*($D$40) -> 5087.9204
A49: UFGVA Account Balance Recovery (Based on 2025 Weather Normalized Volumes)
B50: Unit | C50: Row Sum | D50: =PGTVA!D53 -> Rate 1 - Residential | E50: =PGTVA!E53 -> Rate 1 - GS | F50: =PGTVA!F53 -> Rate 2 | G50: =PGTVA!G53 -> Rate 3 | H50: =PGTVA!H53 -> Rate 4 | I50: =PGTVA!I53 -> Rate 5
...

Sheet ADVADA
A1: EPCOR Natural Gas Limited Partnership
A2: EB-2026-0148
A3: Approved Deferral/Variance Disposal Account (ADVADA)
A4: Continuity Schedule | BN4: Hearing | BO4: Amount | BP4: Rate Rider Sunset | BQ4: Two Year Adjustment Window
B5: 2021 | C5: 2021 | D5: 2021 | E5: 2021 | F5: 2021 | G5: 2021 | H5: 2021 | I5: 2021 | J5: 2021 | K5: 2021 | L5: 2021 | M5: 2021 | N5: 2022 | O5: 2022 | P5: 2022 | Q5: 2022 | R5: 2022 | S5: 2022 | T5: 2022 | U5: 2022 | V5: 2022 | W5: 2022 | X5: 2022 | Y5: 2022 | Z5: 2023 | AA5: 2023 | AB5: 2023 | AC5: 2023 | AD5: 2023 | AE5: 2023 | AF5: 2023 | AG5: 2023 | AH5: 2023 | AI5: 2023 | AJ5: 2023 | AK5: 2023 | AL5: 2024 | AM5: 2024 | AN5: 2024 | AO5: 2024 | AP5: 2024 | AQ5: 2024 | AR5: 2024 | AS5: 2024 | AT5: 2024 | AU5: 2024 | AV5: 2024 | AW5: 2024 | AX5: 2025 | AY5: 2025 | AZ5: 2025 | BA5: 2025 | BB5: 2025 | BC5: 2025 | BD5: 2025 | BE5: 2025 | BF5: 2025 | BG5: 2025 | BH5: 2025 | BI5: 2025 | BK5: 2026 | BN5: EB-2020-0234 | BO5: =86261+68206+58805 -> 213272 | BP5: 44651 | BQ5: =BP5+720 -> 45371
B6: JAN | C6: FEB | D6: MAR | E6: APR | F6: MAY | G6: JUN | H6: JUL | I6: AUG | J6: SEP | K6: OCT | L6: NOV | M6: DEC | N6: JAN | O6: FEB | P6: MAR | Q6: APR | R6: MAY | S6: JUN | T6: JUL | U6: AUG | V6: SEP | W6: OCT | X6: NOV | Y6: DEC | Z6: JAN | AA6: FEB | AB6: MAR | AC6: APR | AD6: MAY | AE6: JUN | AF6: JUL | AG6: AUG | AH6: SEP | AI6: OCT | AJ6: NOV | AK6: DEC | AL6: JAN | AM6: FEB | AN6: MAR | AO6: APR | AP6: MAY | AQ6: JUN | AR6: JUL | AS6: AUG | AT6: SEP | AU6: OCT | AV6: NOV | AW6: DEC | AX6: JAN | AY6: FEB | AZ6: MAR | BA6: APR | BB6: MAY | BC6: JUN | BD6: JUL | BE6: AUG | BF6: SEP | BG6: OCT | BH6: NOV | BI6: DEC | BK6: JAN-DEC | BN6: EB-2020-0076 | BO6: =295789+1491+86421 -> 383701 | BP6: 44651 | BQ6: =BP6+720 -> 45371
BN7: EB-2021-0215 | BO7: 352527 | BP7: 44926 | BQ7: =BP7+720 -> 45646
A8: ADVADA 2021 (Approved in EB-2020-0234) | D8: 296583 | E8: -36851.757 | F8: -34645.433 | G8: -27283.337 | H8: -11713.06 | I8: -11123.484 | J8: -11006.286 | K8: -15078.229 | L8: -25176.289 | M8: -28786.643 | N8: -31742.65 | O8: -30866.629 | P8: -28153.792 | Q8: -6157.2439 | R8: 0 | S8: 0 | T8: 0 | U8: 0 | V8: 0 | W8: 0 | X8: 0 | Y8: 0 | Z8: 0 | AA8: 0 | AB8: 0 | AC8: 0 | AD8: 0 | AE8: 0 | AF8: 0 | AG8: 0 | AH8: 0 | AI8: 0 | AJ8: 0 | AK8: 0 | AL8: 0 | AM8: 0 | AN8: 0 | AO8: 0 | AP8: 0 | AQ8: 0 | AR8: 0 | AS8: 0 | AT8: 0 | AU8: 0 | AV8: 0 | AW8: 0 | AX8: 0 | AY8: 0 | AZ8: 0 | BA8: 0 | BB8: 0 | BC8: 0 | BD8: 0 | BE8: 0 | BF8: 0 | BG8: 0 | BH8: 0 | BI8: 0 | BN8: EB-2021-0268 | BO8: =3053+3243 -> 6296 | BP8: 45016 | BQ8: =BP8+720 -> 45736
A9: ADVADA 2021 (Approved in EB-2020-0076) | D9: 373517.59 | E9: -21242.251 | F9: -23606.513 | G9: -15426.752 | H9: -13401.955 | I9: -12736.411 | J9: -14354.097 | K9: -18743.35 | L9: -40759.892 | M9: -47933.766 | N9: -47748.811 | O9: -51188.117 | P9: -45951.142 | Q9: -27921.093 | R9: 0 | S9: 0 | T9: 0 | U9: 0 | V9: 0 | W9: 0 | X9: 0 | Y9: 0 | Z9: 0 | AA9: 0 | AB9: 0 | AC9: 0 | AD9: 0 | AE9: 0 | AF9: 0 | AG9: 0 | AH9: 0 | AI9: 0 | AJ9: 0 | AK9: 0 | AL9: 0 | AM9: 0 | AN9: 0 | AO9: 0 | AP9: 0 | AQ9: 0 | AR9: 0 | AS9: 0 | AT9: 0 | AU9: 0 | AV9: 0 | AW9: 0 | AX9: 0 | AY9: 0 | AZ9: 0 | BA9: 0 | BB9: 0 | BC9: 0 | BD9: 0 | BE9: 0 | BF9: 0 | BG9: 0 | BH9: 0 | BI9: 0 | BN9: EB-2022-0183 | BO9: 129500 | BP9: 45291 | BQ9: =BP9+720 -> 46011
A10: ADVADA 2022 (Approved in EB-2021-0215) | M10: 348520 | N10: -38919.974 | O10: -42762.613 | P10: -39486.56 | Q10: -25469.113 | R10: -26892.621 | S10: -20993.484 | T10: -19734.948 | U10: -19495.846 | V10: -20502.577 | W10: -24404.535 | X10: -33063.273 | Y10: -41203.117 | Z10: 0 | AA10: 0 | AB10: 0 | AC10: 0 | AD10: 0 | AE10: 0 | AF10: 0 | AG10: 0 | AH10: 0 | AI10: 0 | AJ10: 0 | AK10: 0 | AL10: 0 | AM10: 0 | AN10: 0 | AO10: 0 | AP10: 0 | AQ10: 0 | AR10: 0 | AS10: 0 | AT10: 0 | AU10: 0 | AV10: 0 | AW10: 0 | AX10: 0 | AY10: 0 | AZ10: 0 | BA10: 0 | BB10: 0 | BC10: 0 | BD10: 0 | BE10: 0 | BF10: 0 | BG10: 0 | BH10: 0 | BI10: 0
A11: ADVADA 2021 (Approved in EB-2021-0268) | P11: 6227 | Q11: 0 | R11: -581.15529 | S11: -580.3116 | T11: -579.25235 | U11: -580.3718 | V11: -582.78754 | W11: -583.89478 | X11: -587.21547 | Y11: -588.60752 | Z11: -1491.0021 | AA11: -591.71918 | AB11: -591.52131 | AC11: 0 | AD11: 0 | AE11: 0 | AF11: 0 | AG11: 0 | AH11: 0 | AI11: 0 | AJ11: 0 | AK11: 0 | AL11: 0 | AM11: 0 | AN11: 0 | AO11: 0 | AP11: 0 | AQ11: 0 | AR11: 0 | AS11: 0 | AT11: 0 | AU11: 0 | AV11: 0 | AW11: 0 | AX11: 0 | AY11: 0 | AZ11: 0 | BA11: 0 | BB11: 0 | BC11: 0 | BD11: 0 | BE11: 0 | BF11: 0 | BG11: 0 | BH11: 0 | BI11: 0
A12: ADVADA 2023 (Approved in EB-2022-0183) | Y12: 127360.42 | Z12: -20078.022 | AA12: -17922.502 | AB12: -16883.329 | AC12: -13155.591 | AD12: -9003.5701 | AE12: -4190.4354 | AF12: -3116.2308 | AG12: -3440.1887 | AH12: -3993.9659 | AI12: -6257.2846 | AJ12: -15772.254 | AK12: -24374.319 | AL12: 0 | AM12: 0 | AN12: 0 | AO12: 0 | AP12: 0 | AQ12: 0 | AR12: 0 | AS12: 0 | AT12: 0 | AU12: 0 | AV12: 0 | AW12: 0 | AX12: 0 | AY12: 0 | AZ12: 0 | BA12: 0 | BB12: 0 | BC12: 0 | BD12: 0 | BE12: 0 | BF12: 0 | BG12: 0 | BH12: 0 | BI12: 0
A13: Total | B13: =SUM(B8:B12) -> 0 | C13: =SUM(C8:C12) -> 0 | D13: =SUM(D8:D12) -> 670100.59 | E13: =SUM(E8:E12) -> -58094.008 | F13: =SUM(F8:F12) -> -58251.946 | G13: =SUM(G8:G12) -> -42710.089 | H13: =SUM(H8:H12) -> -25115.015 | I13: =SUM(I8:I12) -> -23859.895 | ... BI13: =SUM(BI8:BI12) -> 0
A15: Opening ADVADA Balance | B15: 0 | C15: =B17 -> 0 | D15: =C17 -> 0 | E15: =D17 -> 670100.59 | F15: =E17 -> 612006.59 | G15: =F17 -> 553754.64 | H15: =G17 -> 511044.55 | I15: =H17 -> 485929.53 | J15: =I17 -> 462069.64 | ... BI15: =BH17 -> -25845.162
A16: Change in ADVADA Balance | B16: =B15+B13 -> 0 | C16: =C15+C13 -> 0 | D16: =D13 -> 670100.59 | E16: =E13 -> -58094.008 | F16: =F13 -> -58251.946 | G16: =G13 -> -42710.089 | H16: =H13 -> -25115.015 | I16: =I13 -> -23859.895 | J16: =J13 -> -25360.383 | K16: =K13 -> -33821.579 | ... BI16: =BI13 -> 0
A17: Closing ADVADA Balance | B17: =SUM(B15:B16) -> 0 | C17: =SUM(C15:C16) -> 0 | D17: =SUM(D15:D16) -> 670100.59 | E17: =SUM(E15:E16) -> 612006.59 | F17: =SUM(F15:F16) -> 553754.64 | G17: =SUM(G15:G16) -> 511044.55 | H17: =SUM(H15:H16) -> 485929.53 | I17: =SUM(I15:I16) -> 462069.64 | ... BI17: =SUM(BI15:BI16) -> -25845.162
A19: ADVADA Interest
A20: Monthly Interest Rate | B20: 0.0057 | C20: 0.0057 | D20: 0.0057 | E20: 0.0057 | F20: 0.0057 | G20: 0.0057 | H20: 0.0057 | I20: 0.0057 | J20: 0.0057 | K20: 0.0057 | L20: 0.0057 | M20: 0.0057 | N20: 0.0057 | O20: 0.0057 | P20: 0.0057 | Q20: 0.0102 | R20: 0.0102 | S20: 0.0102 | T20: 0.022 | U20: 0.022 | V20: 0.022 | W20: 0.0387 | X20: 0.0387 | Y20: 0.0387 | Z20: 0.0473 | AA20: 0.0473 | AB20: 0.0473 | AC20: 0.0498 | AD20: 0.0498 | AE20: 0.0498 | AF20: 0.0498 | AG20: 0.0498 | AH20: 0.0498 | AI20: 0.0549 | AJ20: 0.0549 | AK20: 0.0549 | AL20: 0.0549 | AM20: 0.0549 | AN20: 0.0549 | AO20: 0.0549 | AP20: 0.0549 | AQ20: 0.0549 | AR20: 0.052 | AS20: 0.052 | AT20: 0.052 | AU20: 0.044 | AV20: 0.044 | AW20: 0.044 | AX20: 0.0364 | AY20: 0.0364 | AZ20: 0.0364 | BA20: 0.0316 | BB20: 0.0316 | BC20: 0.0316 | BD20: 0.0291 | BE20: 0.0291 | BF20: 0.0291 | BG20: 0.0291 | BH20: 0.0291 | BI20: 0.0291 | BK20: =(Summary!D6+Summary!E6+Summary!F6+Summary!G6)/4 -> 0.0255
A22: Opening Interest Balance | B22: 0 | C22: =B24 -> 0 | D22: =C24 -> 0 | E22: =D24 -> 0 | F22: =E24 -> 318.29778 | G22: =F24 -> 609.00091 | H22: =G24 -> 872.03436 | I22: =H24 -> 1114.7805 | J22: =I24 -> 1345.5971 | ... BI22: =BH24 -> 4750.5113 | BK22: =BI24 -> 4687.8368
A23: Monthly Interest Calculation | B23: =B15*B20/12 -> 0 | C23: =C15*C20/12 -> 0 | D23: =D15*D20/12 -> 0 | E23: =E15*E20/12 -> 318.29778 | F23: =F15*F20/12 -> 290.70313 | G23: =G15*G20/12 -> 263.03345 | H23: =H15*H20/12 -> 242.74616 | I23: =I15*I20/12 -> 230.81653 | ... BI23: =BI15*BI20/12 -> -62.674517 | BK23: =BI17*BK20 -> -659.05162
A24: Closing Interest Balance | B24: =SUM(B22:B23) -> 0 | C24: =SUM(C22:C23) -> 0 | D24: =SUM(D22:D23) -> 0 | E24: =SUM(E22:E23) -> 318.29778 | F24: =SUM(F22:F23) -> 609.00091 | G24: =SUM(G22:G23) -> 872.03436 | H24: =SUM(H22:H23) -> 1114.7805 | I24: =SUM(I22:I23) -> 1345.5971 | ... BI24: =SUM(BI22:BI23) -> 4687.8368 | BK24: =SUM(BK22:BK23) -> 4028.7852
A27: ADVADA Account Balance
AX28: 2025 Balance | AY28: 2026 Carrying Charges | AZ28: 2026 Balance
A29: Principal | AX29: =BI17 -> -25845.162 | AZ29: =AX29+AY29 -> -25845.162
A30: Carrying Charges | AX30: =BI24 -> 4687.8368 | AY30: =BK23 -> -659.05162 | AZ30: =AX30+AY30 -> 4028.7852
A31: Total | AX31: =AX30+AX29 -> -21157.325 | AY31: =AY30+AY29 -> -659.05162 | AZ31: =AX31+AY31 -> -21816.376
A34: ADVADA Account Balance Allocation (Based on 2021-2023 Actual Volumes)
AX35: Unit | AY35: Row Sum | AZ35: Rate 1 - Residential | BA35: Rate 1 - GS | BB35: Rate 2 | BC35: Rate 3 | BD35: Rate 4 | BE35: Rate 5
A36: Volume | AX36: 000's m3 | AY36: =SUM(AZ36:BE36) -> 93214.737 | AZ36: =Allocations!G50/1000 -> 53526.463 | BA36: =Allocations!H50/1000 -> 24910.996 | BB36: =Allocations!I50/1000 -> 2537.2681 | BC36: =Allocations!J50/1000 -> 4259.9834 | BD36: =Allocations!K50/1000 -> 5622.3831 | BE36: =Allocations!L50/1000 -> 2357.6439
A37: Allocation | AX37: % | AY37: =SUM(AZ37:BE37) -> 1 | AZ37: =AZ36/$AY$36 -> 0.57422747 | BA37: =BA36/$AY$36 -> 0.2672431 | BB37: =BB36/$AY$36 -> 0.027219603 | BC37: =BC36/$AY$36 -> 0.04570075 | BD37: =BD36/$AY$36 -> 0.060316461 | BE37: =BE36/$AY$36 -> 0.025292609
A38: Total | AX38: $ | AY38: =SUM(AZ38:BE38) -> -21816.376 | AZ38: =AZ37*($BK$24+$BI$17) -> -12527.563 | BA38: =BA37*($BK$24+$BI$17) -> -5830.2761 | BB38: =BB37*($BK$24+$BI$17) -> -593.8331 | BC38: =BC37*($BK$24+$BI$17) -> -997.02476 | BD38: =BD37*($BK$24+$BI$17) -> -1315.8866 | BE38: =BE37*($BK$24+$BI$17) -> -551.79308
A41: ADVADA Account Balance Recovery (Based on 2025 Weather Normalized Volumes)
AX42: Unit | AY42: Row Sum | AZ42: Rate 1 - Residential | BA42: Rate 1 - GS | BB42: Rate 2 | BC42: Rate 3 | BD42: Rate 4 | BE42: Rate 5
A43: Volume | AX43: 000's m3 | AY43: =SUM(AZ43:BE43) -> 37895.301 | AZ43: =Allocations!G7/1000 -> 18913.116 | BA43: =Allocations!H7/1000 -> 11145.963 | BB43: =Allocations!I7/1000 -> 1254.453 | BC43: =Allocations!J7/1000 -> 3585.2901 | BD43: =Allocations!K7/1000 -> 2180.8765 | BE43: =Allocations!L7/1000 -> 815.602
A44: Allocation | AX44: % | AY44: =SUM(AZ44:BE44) -> 1 | AZ44: =AZ37 -> 0.57422747 | BA44: =BA37 -> 0.2672431 | BB44: =BB37 -> 0.027219603 | BC44: =BC37 -> 0.04570075 | BD44: =BD37 -> 0.060316461 | BE44: =BE37 -> 0.025292609
A45: Total | AX45: $ | AY45: =SUM(AZ45:BE45) -> -21816.376 | AZ45: =AZ43*AZ46*10 -> -12527.563 | BA45: =BA43*BA46*10 -> -5830.2761 | BB45: =BB43*BB46*10 -> -593.8331 | BC45: =BC43*BC46*10 -> -997.02476 | BD45: =BD43*BD46*10 -> -1315.8866 | BE45: =BE43*BE46*10 -> -551.79308
A46: Rate Rider | AX46: ¢/m3 | AZ46: =AZ38/AZ43/10 -> -0.066237433 | BA46: =BA38/BA43/10 -> -0.052308409 | BB46: =BB38/BB43/10 -> -0.047338011 | BC46: =BC38/BC43/10 -> -0.027808761 | BD46: =BD38/BD43/10 -> -0.060337512 | BE46: =BE38/BE43/10 -> -0.067654699

Sheet ESMDA
A1: EPCOR Natural Gas Limited Partnership
A2: EB-2026-0148
A3: Earnings Sharing Mechanism Deferral Account (ESMDA)
A4: Continuity Schedule
B5: 2025 | C5: 2025 | D5: 2025 | E5: 2025 | F5: 2025 | G5: 2025 | H5: 2025 | I5: 2025 | J5: 2025 | K5: 2025 | L5: 2025 | M5: 2025 | O5: 2026
B6: JAN | C6: FEB | D6: MAR | E6: APR | F6: MAY | G6: JUN | H6: JUL | I6: AUG | J6: SEP | K6: OCT | L6: NOV | M6: DEC | O6: JAN-DEC
A8: Earning Sharing Mechanism (50%) | B8: 0 | C8: 0 | D8: 0 | E8: 0 | F8: 0 | G8: 0 | H8: 0 | I8: 0 | J8: 0 | K8: 0 | L8: 0 | M8: -77248.96
A11: Opening ESMDA Balance | B11: 0 | C11: =B13 -> 0 | D11: =C13 -> 0 | E11: =D13 -> 0 | F11: =E13 -> 0 | G11: =F13 -> 0 | H11: =G13 -> 0 | I11: =H13 -> 0 | J11: =I13 -> 0 | ... M11: =L13 -> 0
A12: Change in ESMDA Balance | B12: =B8 -> 0 | C12: =C8 -> 0 | D12: =D8 -> 0 | E12: =E8 -> 0 | F12: =F8 -> 0 | G12: =G8 -> 0 | H12: =H8 -> 0 | I12: =I8 -> 0 | ... M12: =M8 -> -77248.96
A13: Closing ESMDA Balance | B13: =SUM(B11:B12) -> 0 | C13: =SUM(C11:C12) -> 0 | D13: =SUM(D11:D12) -> 0 | E13: =SUM(E11:E12) -> 0 | F13: =SUM(F11:F12) -> 0 | G13: =SUM(G11:G12) -> 0 | H13: =SUM(H11:H12) -> 0 | I13: =SUM(I11:I12) -> 0 | ... M13: =SUM(M11:M12) -> -77248.96
A15: ESMDA Interest
A16: Monthly Interest Rate | B16: 0 | C16: 0 | D16: 0 | E16: 0 | F16: 0 | G16: 0 | H16: 0 | I16: 0 | J16: 0 | K16: 0 | L16: 0 | M16: 0 | O16: =(Summary!D6+Summary!E6+Summary!F6+Summary!G6)/4 -> 0.0255
A18: Opening Interest Balance | B18: 0 | C18: =B20 -> 0 | D18: =C20 -> 0 | E18: =D20 -> 0 | F18: =E20 -> 0 | G18: =F20 -> 0 | H18: =G20 -> 0 | I18: =H20 -> 0 | J18: =I20 -> 0 | ... M18: =L20 -> 0 | O18: =M20 -> 0
A19: Monthly Interest Calculation | B19: =B11*B16/12 -> 0 | C19: =C11*C16/12 -> 0 | D19: =D11*D16/12 -> 0 | E19: =E11*E16/12 -> 0 | F19: =F11*F16/12 -> 0 | G19: =G11*G16/12 -> 0 | H19: =H11*H16/12 -> 0 | I19: =I11*I16/12 -> 0 | ... M19: =M11*M16/12 -> 0 | O19: =M13*O16 -> -1969.8485
A20: Closing Interest Balance | B20: =SUM(B18:B19) -> 0 | C20: =SUM(C18:C19) -> 0 | D20: =SUM(D18:D19) -> 0 | E20: =SUM(E18:E19) -> 0 | F20: =SUM(F18:F19) -> 0 | G20: =SUM(G18:G19) -> 0 | H20: =SUM(H18:H19) -> 0 | I20: =SUM(I18:I19) -> 0 | ... M20: =SUM(M18:M19) -> 0 | O20: =SUM(O18:O19) -> -1969.8485
A23: ESMDA Account Balance
B24: 2025 Balance | C24: 2026 Carrying Charges | D24: 2026 Balance
A25: Principal | B25: =M13 -> -77248.96 | D25: =B25+C25 -> -77248.96
A26: Carrying Charges | B26: =M20 -> 0 | C26: =O19 -> -1969.8485 | D26: =B26+C26 -> -1969.8485
A27: Total | B27: =B26+B25 -> -77248.96 | C27: =C26+C25 -> -1969.8485 | D27: =B27+C27 -> -79218.808
A30: ESMDA Account Balance Allocation (Based on EB-2024-0130 revenue requirement, WACC adjusted - ENGLP_AYLMER_IRM_Rate Model_REPLYSUB_20251113 - Tab H1 Distribution Revenue)
B31: Unit | C31: Row Sum | D31: Rate 1 - Residential | E31: Rate 1 - GS | F31: Rate 2 | G31: Rate 3 | H31: Rate 4 | I31: Rate 5 | J31: Rate 6
A32: Volume | B32: 000's m3 | C32: =SUM(D32:J32) -> 7363213.5 | D32: =Allocations!G38 -> 4596763.8 | E32: =Allocations!H38 -> 1293300.8 | F32: =Allocations!I38 -> 126272.87 | G32: =Allocations!J38 -> 262132.62 | H32: =Allocations!K38 -> 188098.17 | I32: =Allocations!L38 -> 38161.042 | J32: =Allocations!M38 -> 858484.2
A33: Allocation | B33: % | C33: =SUM(D33:J33) -> 1 | D33: =D32/$C$32 -> 0.62428773 | E33: =E32/$C$32 -> 0.17564353 | F33: =F32/$C$32 -> 0.017149153 | G33: =G32/$C$32 -> 0.035600301 | H33: =H32/$C$32 -> 0.025545663 | I33: =I32/$C$32 -> 0.0051826613 | J33: =J32/$C$32 -> 0.11659097
A34: Total | B34: $ | C34: =SUM(D34:J34) -> -79218.808 | D34: =D33*($O$20+$M$13) -> -49455.33 | E34: =E33*($O$20+$M$13) -> -13914.271 | F34: =F33*($O$20+$M$13) -> -1358.5355 | G34: =G33*($O$20+$M$13) -> -2820.2134 | H34: =H33*($O$20+$M$13) -> -2023.697 | I34: =I33*($O$20+$M$13) -> -410.56425 | J34: =J33*($O$20+$M$13) -> -9236.1976
A37: ESMDA Account Balance Recovery (Based on 2025 Weather Normalized Volumes R1-5, Fixed Charge, R6)
B38: Unit | C38: Row Sum | D38: Rate 1 - Residential | E38: Rate 1 - GS | F38: Rate 2 | G38: Rate 3 | H38: Rate 4 | I38: Rate 5 | J38: Unit | K38: Rate 6
A39: Volume | B39: 000's m3 | C39: =SUM(D39:I39) -> 37895.301 | D39: =Allocations!G7/1000 -> 18913.116 | E39: =Allocations!H7/1000 -> 11145.963 | F39: =Allocations!I7/1000 -> 1254.453 | G39: =Allocations!J7/1000 -> 3585.2901 | H39: =Allocations!K7/1000 -> 2180.8765 | I39: =Allocations!L7/1000 -> 815.602 | J39: Months | K39: 12
A40: Allocation | B40: % | C40: =SUM(D40:K40) -> 1 | D40: =D33 -> 0.62428773 | E40: =E33 -> 0.17564353 | F40: =F33 -> 0.017149153 | G40: =G33 -> 0.035600301 | H40: =H33 -> 0.025545663 | I40: =I33 -> 0.0051826613 | J40: % | K40: =J33 -> 0.11659097
A41: Total | B41: $ | C41: =SUM(D41:K41) -> -79218.808 | D41: =D39*D42*10 -> -49455.33 | E41: =E39*E42*10 -> -13914.271 | F41: =F39*F42*10 -> -1358.5355 | G41: =G39*G42*10 -> -2820.2134 | H41: =H39*H42*10 -> -2023.697 | I41: =I39*I42*10 -> -410.56425 | J41: $ | K41: =K39*K42 -> -9236.1976
A42: Rate Rider | B42: ¢/m3 | D42: =D34/D39/10 -> -0.26148694 | E42: =E34/E39/10 -> -0.12483686 | F42: =F34/F39/10 -> -0.10829704 | G42: =G34/G39/10 -> -0.078660677 | H42: =H34/H39/10 -> -0.092792829 | I42: =I34/I39/10 -> -0.050338799 | J42: $/month | K42: =J34/12 -> -769.68313

Sheet Allocations
A1: =PGTVA!A1 -> EPCOR Natural Gas Limited Partnership
A2: =PGTVA!A2 -> EB-2026-0148
A3: Billing & Allocation Determinants
A5: Volumes - 2025 Weather Normalized
B6: 2025 | G6: R1 - R | H6: R1 - GS | I6: R2 | J6: R3 | K6: R4 | L6: R5
A7: R1 Residential | B7: 18913116 | G7: =B7 -> 18913116 | H7: =B8 -> 11145963 | I7: =B9 -> 1254453 | J7: =B10 -> 3585290.1 | K7: =B11 -> 2180876.5 | L7: =B12 -> 815602
A8: R1 General Service | B8: 11145963 | G8: =G7/SUM($F$5:$I7) -> 0.60399178 | H8: =H7/SUM($F$5:$I7) -> 0.35594717 | I8: =I7/SUM($F$5:$I7) -> 0.04006105 | J8: =J7/SUM($F$5:$I7) -> 0.11449651 | K8: =K7/SUM($F$5:$I7) -> 0.069646454 | L8: =L7/SUM($F$5:$I7) -> 0.026046311
A9: R2 Seasonal | B9: 1254453
A10: R3 | B10: 3585290.1
A11: R4 | B11: 2180876.5
A12: R5 | B12: 815602
A13: Total | B13: =SUM(B7:B12) -> 37895301
A15: Volumes - 2025 Actual
B16: =B6 -> 2025 | G16: R1 - R | H16: R1 - GS | I16: R2 | J16: R3 | K16: R4 | L16: R5
A17: R1 Residential | B17: =F72 -> 19091614 | G17: =B17 -> 19091614 | H17: =B18 -> 10841757 | I17: =B19 -> 1254453 | J17: =B20 -> 3586450 | K17: =B21 -> 2180876.5 | L17: =B22 -> 815602
A18: R1 General Service | B18: =F73 -> 10841757 | G18: =G17/SUM($G17:$L$17) -> 0.50546025 | H18: =H17/SUM($G17:$L$17) -> 0.28704106 | I18: =I17/SUM($G17:$L$17) -> 0.033212285 | J18: =J17/SUM($G17:$L$17) -> 0.094953099 | K18: =K17/SUM($G17:$L$17) -> 0.057739822 | L18: =L17/SUM($G17:$L$17) -> 0.02159348
A19: R2 Seasonal | B19: =F74 -> 1254453
A20: R3 | B20: =F75 -> 3586450
A21: R4 | B21: =F76 -> 2180876.5
A22: R5 | B22: =F77 -> 815602
A23: Total | B23: =SUM(B17:B22) -> 37770753
A25: Actual Customer Counts - 2025
B26: =B6 -> 2025 | G26: R1 - R | H26: R1 - GS | I26: R2 | J26: R3 | K26: R4 | L26: R5
A27: R1 Residential | B27: 9820 | G27: =B27 -> 9820 | H27: =B28 -> 782 | I27: =B29 -> 51 | J27: =B30 -> 5 | K27: =B31 -> 43 | L27: =B32 -> 4
A28: R1 General Service | B28: 782 | G28: =G27/SUM($G$27:$L27) -> 0.91732835 | H28: =H27/SUM($G$27:$L27) -> 0.073049977 | I28: =I27/SUM($G$27:$L27) -> 0.0047641289 | J28: =J27/SUM($G$27:$L27) -> 0.00046707146 | K28: =K27/SUM($G$27:$L27) -> 0.0040168146 | L28: =L27/SUM($G$27:$L27) -> 0.00037365717
A29: R2 Seasonal | B29: 51
A30: R3 | B30: 5
A31: R4 | B31: 43
A32: R5 | B32: 4
A33: Total | B33: =SUM(B27:B32) -> 10705
A36: EB-2024-0140 Revenue Requirement (WACC Adjusted)
A37: Rate Class | G37: R1 - R | H37: R1 - GS | I37: R2 | J37: R3 | K37: R4 | L37: R5 | M37: R6
A38: R1 - Residential | B38: 4596763.8 | G38: =B38 -> 4596763.8 | H38: =B39 -> 1293300.8 | I38: =B40 -> 126272.87 | J38: =B41 -> 262132.62 | K38: =B42 -> 188098.17 | L38: =B43 -> 38161.042 | M38: =B44 -> 858484.2
A39: R1 - General Service | B39: 1293300.8 | G39: =G38/SUM($G$38:$M38) -> 0.62428773 | H39: =H38/SUM($G$38:$M38) -> 0.17564353 | I39: =I38/SUM($G$38:$M38) -> 0.017149153 | J39: =J38/SUM($G$38:$M38) -> 0.035600301 | K39: =K38/SUM($G$38:$M38) -> 0.025545663 | L39: =L38/SUM($G$38:$M38) -> 0.0051826613 | M39: =M38/SUM($G$38:$M38) -> 0.11659097
A40: R2 - Seasonal | B40: 126272.87
A41: R3 - Large Volume Contract | B41: 262132.62
A42: R4 - Peaking | B42: 188098.17
A43: R5 - Interruptible Peaking | B43: 38161.042
A44: R6 - Alco Energy (IGPC) | B44: 858484.2
A45: Total Revenue | B45: 7363213.5
...
