Workbook
Name __CAP1000: #REF!
Name __CAP1000: #REF!
Name __CAP1000: #REF!
Name __OP1000: #REF!
Name __OP1000: #REF!
Name __OP1000: #REF!
Name _110: #REF!
Name _110: #REF!
Name _110: #REF!
Name _110INPT: #REF!
Name _110INPT: #REF!
Name _110INPT: #REF!
Name _115: #REF!
Name _115: #REF!
Name _115: #REF!
Name _115INPT: #REF!
Name _115INPT: #REF!
Name _115INPT: #REF!
Name _120: #REF!
Name _120: #REF!
Name _120: #REF!
Name _140: #REF!
Name _140: #REF!
Name _140: #REF!
Name _140INPT: #REF!
Name _140INPT: #REF!
Name _140INPT: #REF!
Name _CAP1000: #REF!
Name _CAP1000: #REF!
Name _CAP1000: #REF!
Name _OP1000: #REF!
Name _OP1000: #REF!
Name _OP1000: #REF!
Name ALL: #REF!
Name ALL: #REF!
Name ALL: #REF!
Name ApprovedYr: #REF!
Name CAfile: #REF!
Name CAPCOSTS: #REF!
Name CAPCOSTS: #REF!
Name CAPCOSTS: #REF!
Name CAPITAL: #REF!
Name CAPITAL: #REF!
Name CAPITAL: #REF!
Name CapitalExpListing: #REF!
Name CapitalExpListing: #REF!
Name CapitalExpListing: #REF!
Name CArevReq: #REF!
Name CASENUMBER: #REF!
Name CASHFLOW: #REF!
Name CASHFLOW: #REF!
Name CASHFLOW: #REF!
Name cc: #REF!
Name cc: #REF!
Name cc: #REF!
Name ClassRange1: #REF!
Name ClassRange2: #REF!
Name contactf: #REF!
Name contactf: #REF!
Name contactf: #REF!

Sheet Exhibit 3
A1: Table 3-1: Summary of Load and Customer Forecast
A2: Year | B2: Billed Actual (GWh) | C2: Growth (GWh) | D2: Billed Weather Normal (GWh) | E2: Growth (GWh) | F2: Customer/ Connection Count | G2: Growth (Customer/ Connection Count)
A3: Billed Energy (GWh) and Customer Count/Connections
A5: 2024 OEB-Approved | B5: =B274/1000000 -> 302.07046 | F5: =B273 -> 26822
A7: 2016 | B7: {=TRANSPOSE('Load Forecast Summary'!B10:M10)/1000000} -> 244.03834 | D7: =B7*F115 -> 238.39617 | F7: {=TRANSPOSE('Load Forecast Summary'!B47:M47)} -> 19399
A8: 2017 | B8: 243.19257 | C8: =B8-B7 -> -0.84577357 | D8: =B8*F116 -> 247.06905 | E8: =D8-D7 -> 8.6728823 | F8: 19958.25 | G8: =F8-F7 -> 559.25
A9: 2018 | B9: 264.47127 | C9: =B9-B8 -> 21.278709 | D9: =B9*F117 -> 257.66378 | E9: =D9-D8 -> 10.594729 | F9: 20997.417 | G9: =F9-F8 -> 1039.1667
A10: 2019 | B10: 271.02131 | C10: =B10-B9 -> 6.5500323 | D10: =B10*F118 -> 270.32207 | E10: =D10-D9 -> 12.658288 | F10: 22042.667 | G10: =F10-F9 -> 1045.25
A11: 2020 | B11: 276.83813 | C11: =B11-B10 -> 5.8168278 | D11: =B11*F119 -> 273.65173 | E11: =D11-D10 -> 3.3296558 | F11: 22460.5 | G11: =F11-F10 -> 417.83333
A12: 2021 | B12: 279.2833 | C12: =B12-B11 -> 2.445169 | D12: =B12*F120 -> 281.54829 | E12: =D12-D11 -> 7.8965635 | F12: 23343.667 | G12: =F12-F11 -> 883.16667
A13: 2022 | B13: 284.46792 | C13: =B13-B12 -> 5.1846217 | D13: =B13*F121 -> 284.13225 | E13: =D13-D12 -> 2.583962 | F13: 24316.583 | G13: =F13-F12 -> 972.91667
A14: 2023 | B14: 286.82714 | C14: =B14-B13 -> 2.3592114 | D14: =B14*F122 -> 293.86301 | E14: =D14-D13 -> 9.7307532 | F14: 25988.25 | G14: =F14-F13 -> 1671.6667
A15: 2024 | B15: 308.4381 | C15: =B15-B14 -> 21.610966 | D15: =B15*F123 -> 314.97699 | E15: =D15-D14 -> 21.113984 | F15: 27915.417 | G15: =F15-F14 -> 1927.1667
A16: 2025 | B16: 332.17444 | C16: =B16-B15 -> 23.736336 | D16: =B16*F124 -> 329.02542 | E16: =D16-D15 -> 14.048434 | F16: 29082.5 | G16: =F16-F15 -> 1167.0833
A17: 2026 Bridge | B17: 338.14988 | C17: =B17-B16 -> 5.9754439 | D17: =B17*F125 -> 338.14988 | E17: =D17-D16 -> 9.1244576 | F17: 30432.524 | G17: =F17-F16 -> 1350.0236
A18: 2027 Test | B18: 350.18225 | C18: =B18-B17 -> 12.032365 | D18: =B18*F126 -> 350.18225 | E18: =D18-D17 -> 12.032365 | F18: 31847.478 | G18: =F18-F17 -> 1414.9549
A20: Table 3-2: Billed Energy by Rate Class
A21: Year | B21: Residential | C21: General Service < 50 kW | D21: General Service > 50 kW | E21: Embedded Distributor | F21: Unmetered Scattered Load | G21: Sentinel Lighting | H21: Street Lighting | I21: Total
A22: Billed Energy (GWh) - Actual
A23: =A7 -> 2016 | B23: {=TRANSPOSE('Load Forecast Summary'!B15:K15)/1000000} -> 150.13592 | C23: {=TRANSPOSE('Load Forecast Summary'!B19:K19)/1000000} -> 33.558137 | D23: {=TRANSPOSE('Load Forecast Summary'!B23:K23)/1000000} -> 58.286974 | E23: {=TRANSPOSE('Load Forecast Summary'!B42:K42)/1000000} -> 0.9483756 | F23: {=TRANSPOSE('Load Forecast Summary'!B28:K28)/1000000} -> 0.461652 | G23: {=TRANSPOSE('Load Forecast Summary'!B32:K32)/1000000} -> 0.1032423 | H23: {=TRANSPOSE('Load Forecast Summary'!B37:K37)/1000000} -> 0.54404161 | I23: =SUM(B23:H23) -> 244.03834
A24: =A8 -> 2017 | B24: 145.25046 | C24: 32.775442 | D24: 63.107665 | E24: 0.9203523 | F24: 0.460196 | G24: 0.10384914 | H24: 0.57460019 | I24: =SUM(B24:H24) -> 243.19257
A25: =A9 -> 2018 | B25: 160.85375 | C25: 36.037382 | D25: 65.404829 | E25: 0.9718899 | F25: 0.482914 | G25: 0.10545954 | H25: 0.61504571 | I25: =SUM(B25:H25) -> 264.47127
A26: =A10 -> 2019 | B26: 161.28452 | C26: 42.480663 | D26: 65.090125 | E26: 0.9229542 | F26: 0.485587 | G26: 0.1038045 | H26: 0.65365325 | I26: =SUM(B26:H26) -> 271.02131
A27: =A11 -> 2020 | B27: 174.9576 | C27: 39.873537 | D27: 59.834547 | E27: 0.9453114 | F27: 0.439968 | G27: 0.10096938 | H27: 0.6862016 | I27: =SUM(B27:H27) -> 276.83813
A28: =A12 -> 2021 | B28: 178.49971 | C28: 40.487961 | D28: 58.095871 | E28: 0.9101709 | F28: 0.439248 | G28: 0.09920568 | H28: 0.75113782 | I28: =SUM(B28:H28) -> 279.2833
A29: =A13 -> 2022 | B29: 181.84366 | C29: 43.953859 | D29: 56.383557 | E29: 0.9355889 | F29: 0.447888 | G29: 0.09758724 | H29: 0.80578163 | I29: =SUM(B29:H29) -> 284.46792
A30: =A14 -> 2023 | B30: 184.11604 | C30: 44.829085 | D30: 55.56683 | E30: 0.9024432 | F30: 0.447888 | G30: 0.09710634 | H30: 0.86774569 | I30: =SUM(B30:H30) -> 286.82714
A31: =A15 -> 2024 | B31: 198.21644 | C31: 51.768404 | D31: 56.073429 | E31: 0.9498078 | F31: 0.402486 | G31: 0.08752248 | H31: 0.94000881 | I31: =SUM(B31:H31) -> 308.4381
A32: =A16 -> 2025 | B32: 216.26022 | C32: 47.670304 | D32: 65.757609 | E32: 0.97659005 | F32: 0.425256 | G32: 0.0939864 | H32: 0.99047021 | I32: =SUM(B32:H32) -> 332.17444
A34: Billed Energy (GWh) - Weather Normal
A35: 2024 OEB-Approved | B35: =B242/1000000 -> 196.51575 | C35: =B246/1000000 -> 43.471713 | D35: =B250/1000000 -> 59.688867 | E35: =B255/1000000 -> 0.9355889 | F35: =B260/1000000 -> 0.46660934 | G35: =B264/1000000 -> 0.09659133 | H35: =B269/1000000 -> 0.89533609 | I35: =SUM(B35:H35) -> 302.07046
A37: =A7 -> 2016 | B37: =B23*$F$115 -> 146.66477 | C37: =C23*$F$115 -> 32.782272 | D37: =D23*$F$115 -> 56.939379 | E37: =E23*$F$115 -> 0.92644916 | F37: =F23*$F$115 -> 0.45097861 | G37: =G23*$F$115 -> 0.10085534 | H37: =H23*$F$115 -> 0.53146337 | I37: =SUM(B37:H37) -> 238.39617
A38: =A8 -> 2017 | B38: =B24*$F$116 -> 147.56575 | C38: =C24*$F$116 -> 33.297883 | D38: =D24*$F$116 -> 64.113601 | E38: =E24*$F$116 -> 0.93502272 | F38: =F24*$F$116 -> 0.46753152 | G38: =G24*$F$116 -> 0.1055045 | H38: =H24*$F$116 -> 0.58375932 | I38: =SUM(B38:H38) -> 247.06905
A39: =A9 -> 2018 | B39: =B25*$F$117 -> 156.71338 | C39: =C25*$F$117 -> 35.10978 | D39: =D25*$F$117 -> 63.721309 | E39: =E25*$F$117 -> 0.94687345 | F39: =F25*$F$117 -> 0.47048379 | G39: =G25*$F$117 -> 0.10274501 | H39: =H25*$F$117 -> 0.59921443 | I39: =SUM(B39:H39) -> 257.66378
A40: =A10 -> 2019 | B40: =B26*$F$118 -> 160.86841 | C40: =C26*$F$118 -> 42.371063 | D40: =D26*$F$118 -> 64.922192 | E40: =E26*$F$118 -> 0.92057298 | F40: =F26*$F$118 -> 0.48433419 | G40: =G26*$F$118 -> 0.10353668 | H40: =H26*$F$118 -> 0.65196682 | I40: =SUM(B40:H40) -> 270.32207
A41: =A11 -> 2020 | B41: =B27*$F$119 -> 172.94384 | C41: =C27*$F$119 -> 39.414593 | D41: =D27*$F$119 -> 59.145851 | E41: =E27*$F$119 -> 0.93443087 | F41: =F27*$F$119 -> 0.43490397 | G41: =G27*$F$119 -> 0.099807222 | H41: =H27*$F$119 -> 0.67830342 | I41: =SUM(B41:H41) -> 273.65173
A42: =A12 -> 2021 | B42: =B28*$F$120 -> 179.94734 | C42: =C28*$F$120 -> 40.816318 | D42: =D28*$F$120 -> 58.567028 | E42: =E28*$F$120 -> 0.91755239 | F42: =F28*$F$120 -> 0.4428103 | G42: =G28*$F$120 -> 0.10001024 | H42: =H28*$F$120 -> 0.75722955 | I42: =SUM(B42:H42) -> 281.54829
A43: =A13 -> 2022 | B43: =B29*$F$121 -> 181.62909 | C43: =C29*$F$121 -> 43.901994 | D43: =D29*$F$121 -> 56.317024 | E43: =E29*$F$121 -> 0.93448491 | F43: =F29*$F$121 -> 0.44735949 | G43: =G29*$F$121 -> 0.097472087 | H43: =H29*$F$121 -> 0.80483081 | I43: =SUM(B43:H43) -> 284.13225
A44: =A14 -> 2023 | B44: =B30*$F$122 -> 188.6324 | C44: =C30*$F$122 -> 45.928743 | D44: =D30*$F$122 -> 56.929885 | E44: =E30*$F$122 -> 0.92458013 | F44: =F30*$F$122 -> 0.45887469 | G44: =G30*$F$122 -> 0.099488359 | H44: =H30*$F$122 -> 0.88903149 | I44: =SUM(B44:H44) -> 293.86301
A45: =A15 -> 2024 | B45: =B31*$F$123 -> 202.41863 | C45: =C31*$F$123 -> 52.865894 | D45: =D31*$F$123 -> 57.262185 | E45: =E31*$F$123 -> 0.96994373 | F45: =F31*$F$123 -> 0.4110187 | G45: =G31*$F$123 -> 0.089377957 | H45: =H31*$F$123 -> 0.959937 | I45: =SUM(B45:H45) -> 314.97699
A46: =A16 -> 2025 | B46: =B32*$F$124 -> 214.21007 | C46: =C32*$F$124 -> 47.21839 | D46: =D32*$F$124 -> 65.134226 | E46: =E32*$F$124 -> 0.96733198 | F46: =F32*$F$124 -> 0.42122457 | G46: =G32*$F$124 -> 0.093095409 | H46: =H32*$F$124 -> 0.98108055 | I46: =SUM(B46:H46) -> 329.02542
A47: =A17 -> 2026 Bridge | B47: ='Rate Class Energy Model'!H34/1000000 -> 221.72618 | C47: ='Rate Class Energy Model'!I34/1000000 -> 48.058712 | D47: ='Rate Class Energy Model'!J34/1000000 -> 65.824563 | E47: ='Rate Class Energy Model'!N34/1000000 -> 0.97659005 | F47: ='Rate Class Energy Model'!K34/1000000 -> 0.4211268 | G47: ='Rate Class Energy Model'!L34/1000000 -> 0.092555677 | H47: ='Rate Class Energy Model'!M34/1000000 -> 1.0501512 | I47: =SUM(B47:H47) -> 338.14988
A48: =A18 -> 2027 Test | B48: ='Rate Class Energy Model'!H35/1000000 -> 231.43398 | C48: ='Rate Class Energy Model'!I35/1000000 -> 49.32489 | D48: ='Rate Class Energy Model'!J35/1000000 -> 66.825175 | E48: ='Rate Class Energy Model'!N35/1000000 -> 0.97659005 | F48: ='Rate Class Energy Model'!K35/1000000 -> 0.4170377 | G48: ='Rate Class Energy Model'!L35/1000000 -> 0.091146733 | H48: ='Rate Class Energy Model'!M35/1000000 -> 1.1134282 | I48: =SUM(B48:H48) -> 350.18225
A50: Table 3-3: Number of Customers/Connections and Annual Normalized Usage By Rate Class
A51: Year | B51: Residential | C51: General Service < 50 kW | D51: General Service > 50 kW | E51: =E21 -> Embedded Distributor | F51: Unmetered Scattered Load | G51: Sentinel Lighting | H51: Street Lighting | I51: Total
A52: Number of Customers/Connections
A54: 2024 OEB-Approved | B54: =B241 -> 20736 | C54: =B245 -> 1314 | D54: =B249 -> 87 | E54: =B254 -> 1 | F54: =B259 -> 75 | G54: =B263 -> 149 | H54: =B268 -> 4460 | I54: =SUM(B54:H54) -> 26822
A56: =A37 -> 2016 | B56: {=TRANSPOSE('Load Forecast Summary'!B14:M14)} -> 15201.583 | C56: {=TRANSPOSE('Load Forecast Summary'!B18:M18)} -> 1016.25 | D56: {=TRANSPOSE('Load Forecast Summary'!B22:M22)} -> 75.583333 | E56: {=TRANSPOSE('Load Forecast Summary'!B41:M41)} -> 1 | F56: {=TRANSPOSE('Load Forecast Summary'!B27:M27)} -> 75.333333 | G56: {=TRANSPOSE('Load Forecast Summary'!B31:M31)} -> 166.08333 | H56: {=TRANSPOSE('Load Forecast Summary'!B36:M36)} -> 2863.1667 | I56: =SUM(B56:H56) -> 19399
A57: =A38 -> 2017 | B57: 15631.667 | C57: 1030.3333 | D57: 86.666667 | E57: 1 | F57: 73.5 | G57: 161.83333 | H57: 2973.25 | I57: =SUM(B57:H57) -> 19958.25
A58: =A39 -> 2018 | B58: 16490.667 | C58: 1082 | D58: 91 | E58: 1 | F58: 74 | G58: 161.5 | H58: 3097.25 | I58: =SUM(B58:H58) -> 20997.417
A59: =A40 -> 2019 | B59: 17294.333 | C59: 1121.0833 | D59: 85.083333 | E59: 1 | F59: 74.5 | G59: 159.91667 | H59: 3306.75 | I59: =SUM(B59:H59) -> 22042.667
A60: =A41 -> 2020 | B60: 17582.833 | C60: 1153.9167 | D60: 80.083333 | E60: 1 | F60: 73.166667 | G60: 155.08333 | H60: 3414.4167 | I60: =SUM(B60:H60) -> 22460.5
A61: =A42 -> 2021 | B61: 18253.333 | C61: 1191.25 | D61: 77.75 | E61: 1 | F61: 71 | G61: 152.75 | H61: 3596.5833 | I61: =SUM(B61:H61) -> 23343.667
A62: =A43 -> 2022 | B62: 18754.667 | C62: 1246.1667 | D62: 78.25 | E62: 1 | F62: 71.833333 | G62: 150.66667 | H62: 4014 | I62: =SUM(B62:H62) -> 24316.583
A63: =A44 -> 2023 | B63: 20106.333 | C63: 1271.5833 | D63: 84.25 | E63: 1 | F63: 74.833333 | G63: 151 | H63: 4299.25 | I63: =SUM(B63:H63) -> 25988.25
A64: =A45 -> 2024 | B64: 21734.083 | C64: 1289.6667 | D64: 83.416667 | E64: 1 | F64: 70.166667 | G64: 148.58333 | H64: 4588.5 | I64: =SUM(B64:H64) -> 27915.417
A65: =A46 -> 2025 | B65: 22632.5 | C65: 1300.1667 | D65: 87.416667 | E65: 1 | F65: 69 | G65: 144.66667 | H65: 4847.75 | I65: =SUM(B65:H65) -> 29082.5
A66: =A47 -> 2026 Bridge | B66: 23655.786 | C66: 1336.2501 | D66: 88.840896 | E66: 1 | F66: 68.330016 | G66: 142.46446 | H66: 5139.852 | I66: =SUM(B66:H66) -> 30432.524
A67: =A48 -> 2027 Test | B67: 24725.338 | C67: 1373.3349 | D67: 90.28833 | E67: 1 | F67: 67.666538 | G67: 140.29577 | H67: 5449.5546 | I67: =SUM(B67:H67) -> 31847.478
A69: Actual Annual Energy Usage per Customer/Connection (kWh per Customer/Connection)
A70: =A56 -> 2016 | B70: =B23*1000000/B56 -> 9876.3341 | C70: =C23*1000000/C56 -> 33021.537 | D70: =D23*1000000/D56 -> 771161.73 | E70: =E23*1000000/E56 -> 948375.6 | F70: =F23*1000000/F56 -> 6128.1239 | G70: =G23*1000000/G56 -> 621.6295 | H70: =H23*1000000/H56 -> 190.01395
A71: =A57 -> 2017 | B71: =B24*1000000/B57 -> 9292.0649 | C71: =C24*1000000/C57 -> 31810.523 | D71: =D24*1000000/D57 -> 728165.36 | E71: =E24*1000000/E57 -> 920352.3 | F71: =F24*1000000/F57 -> 6261.1701 | G71: =G24*1000000/G57 -> 641.70426 | H71: =H24*1000000/H57 -> 193.2566
A72: =A58 -> 2018 | B72: =B25*1000000/B58 -> 9754.2299 | C72: =C25*1000000/C58 -> 33306.268 | D72: =D25*1000000/D58 -> 718734.38 | E72: =E25*1000000/E58 -> 971889.9 | F72: =F25*1000000/F58 -> 6525.8649 | G72: =G25*1000000/G58 -> 653.00025 | H72: =H25*1000000/H58 -> 198.578
A73: =A59 -> 2019 | B73: =B26*1000000/B59 -> 9325.8593 | C73: =C26*1000000/C59 -> 37892.511 | D73: =D26*1000000/D59 -> 765016.15 | E73: =E26*1000000/E59 -> 922954.2 | F73: =F26*1000000/F59 -> 6517.9463 | G73: =G26*1000000/G59 -> 649.11621 | H73: =H26*1000000/H59 -> 197.67241
A74: =A60 -> 2020 | B74: =B27*1000000/B60 -> 9950.4782 | C74: =C27*1000000/C60 -> 34554.954 | D74: =D27*1000000/D60 -> 747153.55 | E74: =E27*1000000/E60 -> 945311.4 | F74: =F27*1000000/F60 -> 6013.2301 | G74: =G27*1000000/G60 -> 651.06532 | H74: =H27*1000000/H60 -> 200.97184
A75: =A61 -> 2021 | B75: =B28*1000000/B61 -> 9779.0199 | C75: =C28*1000000/C61 -> 33987.795 | D75: =D28*1000000/D61 -> 747213.77 | E75: =E28*1000000/E61 -> 910170.9 | F75: =F28*1000000/F61 -> 6186.5915 | G75: =G28*1000000/G61 -> 649.46435 | H75: =H28*1000000/H61 -> 208.84761
A76: =A62 -> 2022 | B76: =B29*1000000/B62 -> 9695.9155 | C76: =C29*1000000/C62 -> 35271.253 | D76: =D29*1000000/D62 -> 720556.64 | E76: =E29*1000000/E62 -> 935588.9 | F76: =F29*1000000/F62 -> 6235.0998 | G76: =G29*1000000/G62 -> 647.70292 | H76: =H29*1000000/H62 -> 200.74281
A77: =A63 -> 2023 | B77: =B30*1000000/B63 -> 9157.1165 | C77: =C30*1000000/C63 -> 35254.54 | D77: =D30*1000000/D63 -> 659546.95 | E77: =E30*1000000/E63 -> 902443.2 | F77: =F30*1000000/F63 -> 5985.1403 | G77: =G30*1000000/G63 -> 643.08834 | H77: =H30*1000000/H63 -> 201.83653
A78: =A64 -> 2024 | B78: =B31*1000000/B64 -> 9120.0738 | C78: =C31*1000000/C64 -> 40140.918 | D78: =D31*1000000/D64 -> 672208.93 | E78: =E31*1000000/E64 -> 949807.8 | F78: =F31*1000000/F64 -> 5736.1425 | G78: =G31*1000000/G64 -> 589.04642 | H78: =H31*1000000/H64 -> 204.8619
A79: =A65 -> 2025 | B79: =B32*1000000/B65 -> 9555.2953 | C79: =C32*1000000/C65 -> 36664.764 | D79: =D32*1000000/D65 -> 752231.94 | E79: =E32*1000000/E65 -> 976590.05 | F79: =F32*1000000/F65 -> 6163.1304 | G79: =G32*1000000/G65 -> 649.67558 | H79: =H32*1000000/H65 -> 204.31545
A81: Normalized Annual Energy Usage per Customer/Connection (kWh per Customer/Connection)
A83: =A35 -> 2024 OEB-Approved | B83: =(B35*1000000)/B54 -> 9477.0327 | C83: =(C35*1000000)/C54 -> 33083.496 | D83: =(D35*1000000)/D54 -> 686078.93 | E83: =(E35*1000000)/E54 -> 935588.9 | F83: =(F35*1000000)/F54 -> 6221.4579 | G83: =(G35*1000000)/G54 -> 648.26396 | H83: =(H35*1000000)/H54 -> 200.748
A85: =A37 -> 2016 | B85: =B37*1000000/B56 -> 9647.9933 | C85: =C37*1000000/C56 -> 32258.079 | D85: =D37*1000000/D56 -> 753332.47 | E85: =E37*1000000/E56 -> 926449.16 | F85: =F37*1000000/F56 -> 5986.4417 | G85: =G37*1000000/G56 -> 607.25743 | H85: =H37*1000000/H56 -> 185.62083
A86: =A38 -> 2017 | B86: =B38*1000000/B57 -> 9440.1804 | C86: =C38*1000000/C57 -> 32317.583 | D86: =D38*1000000/D57 -> 739772.32 | E86: =E38*1000000/E57 -> 935022.72 | F86: =F38*1000000/F57 -> 6360.9731 | G86: =G38*1000000/G57 -> 651.93303 | H86: =H38*1000000/H57 -> 196.33711
A87: =A39 -> 2018 | B87: =B39*1000000/B58 -> 9503.156 | C87: =C39*1000000/C58 -> 32448.965 | D87: =D39*1000000/D58 -> 700234.16 | E87: =E39*1000000/E58 -> 946873.45 | F87: =F39*1000000/F58 -> 6357.8891 | G87: =G39*1000000/G58 -> 636.19202 | H87: =H39*1000000/H58 -> 193.4666
A88: =A40 -> 2019 | B88: =B40*1000000/B59 -> 9301.7986 | C88: =C40*1000000/C59 -> 37794.749 | D88: =D40*1000000/D59 -> 763042.41 | E88: =E40*1000000/E59 -> 920572.98 | F88: =F40*1000000/F59 -> 6501.13 | G88: =G40*1000000/G59 -> 647.44149 | H88: =H40*1000000/H59 -> 197.16242
A89: =A41 -> 2020 | B89: =B41*1000000/B60 -> 9835.9482 | C89: =C41*1000000/C60 -> 34157.226 | D89: =D41*1000000/D60 -> 738553.81 | E89: =E41*1000000/E60 -> 934430.87 | F89: =F41*1000000/F60 -> 5944.0178 | G89: =G41*1000000/G60 -> 643.57156 | H89: =H41*1000000/H60 -> 198.65865
A90: =A42 -> 2021 | B90: =B42*1000000/B61 -> 9858.3277 | C90: =C42*1000000/C61 -> 34263.436 | D90: =D42*1000000/D61 -> 753273.67 | E90: =E42*1000000/E61 -> 917552.39 | F90: =F42*1000000/F61 -> 6236.7648 | G90: =G42*1000000/G61 -> 654.73151 | H90: =H42*1000000/H61 -> 210.54136
A91: =A43 -> 2022 | B91: =B43*1000000/B62 -> 9684.4743 | C91: =C43*1000000/C62 -> 35229.632 | D91: =D43*1000000/D62 -> 719706.38 | E91: =E43*1000000/E62 -> 934484.91 | F91: =F43*1000000/F62 -> 6227.7424 | G91: =G43*1000000/G62 -> 646.93863 | H91: =H43*1000000/H62 -> 200.50593
A92: =A44 -> 2023 | B92: =B44*1000000/B63 -> 9381.7406 | C92: =C44*1000000/C63 -> 36119.334 | D92: =D44*1000000/D63 -> 675725.63 | E92: =E44*1000000/E63 -> 924580.13 | F92: =F44*1000000/F63 -> 6131.9558 | G92: =G44*1000000/G63 -> 658.8633 | H92: =H44*1000000/H63 -> 206.78758
A93: =A45 -> 2024 | B93: =B45*1000000/B64 -> 9313.4194 | C93: =C45*1000000/C64 -> 40991.906 | D93: =D45*1000000/D64 -> 686459.76 | E93: =E45*1000000/E64 -> 969943.73 | F93: =F45*1000000/F64 -> 5857.7487 | G93: =G45*1000000/G64 -> 601.5342 | H93: =H45*1000000/H64 -> 209.20497
A94: =A46 -> 2025 | B94: =B46*1000000/B65 -> 9464.7111 | C94: =C46*1000000/C65 -> 36317.182 | D94: =D46*1000000/D65 -> 745100.78 | E94: =E46*1000000/E65 -> 967331.98 | F94: =F46*1000000/F65 -> 6104.704 | G94: =G46*1000000/G65 -> 643.51665 | H94: =H46*1000000/H65 -> 202.37854
A95: =A47 -> 2026 Bridge | B95: =B47*1000000/B66 -> 9373.0211 | C95: =C47*1000000/C66 -> 35965.357 | D95: =D47*1000000/D66 -> 740926.37 | E95: =E47*1000000/E66 -> 976590.05 | F95: =F47*1000000/F66 -> 6163.1304 | G95: =G47*1000000/G66 -> 649.67558 | H95: =H47*1000000/H66 -> 204.31545
A96: =A48 -> 2027 Test | B96: =B48*1000000/B67 -> 9360.1946 | C96: =C48*1000000/C67 -> 35916.141 | D96: =D48*1000000/D67 -> 740130.81 | E96: =E48*1000000/E67 -> 976590.05 | F96: =F48*1000000/F67 -> 6163.1304 | G96: =G48*1000000/G67 -> 649.67558 | H96: =H48*1000000/H67 -> 204.31545
A98: Table 3-4: Statistical Results | I98: Annual Power Purchases Adjustment Table?
A99: Multiple R | B99: ='Power Purchased Model'!V17 -> 0.98053868
A100: R Square | B100: ='Power Purchased Model'!V18 -> 0.96145609
A101: Adjusted R Square | B101: ='Power Purchased Model'!V19 -> 0.95976557
A102: F Test | B102: ='Power Purchased Model'!Y25 -> 568.73319
A103: Durbin-Watson | B103: ='Power Purchased Model'!V44 -> 1.0798165
A104: MAPE | B104: ='Power Purchased Model'!V39 -> 0.020546447
A105: T-Stats by Coefficient
A106: Heating Degree Days | B106: {='Power Purchased Model'!X31:X35} -> 26.18994
A107: Cooling Degree Days | B107: 20.452296
A108: Days in Month | B108: 7.5072542
A109: Spring Fall Flag | B109: -5.6877888
A110: Number of Customers | B110: 37.244992
A111: Constant | B111: ='Power Purchased Model'!X30 -> -7.1617982
A113: Table 3-5: Total System Purchases
A114: Year | B114: Actual | C114: Predicted | D114: % Difference | E114: Predicted Weather Normal | F114: Weather Normal Conversion Factor | G114: Actual Weather Normal
...

Sheet Inputs
A3: Average Customer / Connection Count
A4: Date | B4: Residential | C4: General Service < 50 kW | D4: General Service >= 50 kW | E4: Unmetered Scattered Load | F4: Sentinel Lighting | G4: Street Lighting | H4: Embedded Distributor
A5: 2016 | B5: =AVERAGE($G$24:$G$35) -> 15201.583 | C5: =AVERAGE($I$24:$I$35) -> 1016.25 | D5: =AVERAGE($L$24:$L$35) -> 75.583333 | E5: =AVERAGE($O$24:$O$35) -> 75.333333 | F5: =AVERAGE($R$24:$R$35) -> 166.08333 | G5: =AVERAGE($U$24:$U$35) -> 2863.1667 | H5: =AVERAGE($X$24:$X$35) -> 1
A6: 2017 | B6: =AVERAGE($G$36:$G$47) -> 15631.667 | C6: =AVERAGE($I$36:$I$47) -> 1030.3333 | D6: =AVERAGE($L$36:$L$47) -> 86.666667 | E6: =AVERAGE($O$36:$O$47) -> 73.5 | F6: =AVERAGE($R$36:$R$47) -> 161.83333 | G6: =AVERAGE($U$36:$U$47) -> 2973.25 | H6: =AVERAGE($X$36:$X$47) -> 1
A7: 2018 | B7: =AVERAGE($G$48:$G$59) -> 16490.667 | C7: =AVERAGE($I$48:$I$59) -> 1082 | D7: =AVERAGE($L$48:$L$59) -> 91 | E7: =AVERAGE($O$48:$O$59) -> 74 | F7: =AVERAGE($R$48:$R$59) -> 161.5 | G7: =AVERAGE($U$48:$U$59) -> 3097.25 | H7: =AVERAGE($X$48:$X$59) -> 1
A8: 2019 | B8: =AVERAGE($G$60:$G$71) -> 17294.333 | C8: =AVERAGE($I$60:$I$71) -> 1121.0833 | D8: =AVERAGE($L$60:$L$71) -> 85.083333 | E8: =AVERAGE($O$60:$O$71) -> 74.5 | F8: =AVERAGE($R$60:$R$71) -> 159.91667 | G8: =AVERAGE($U$60:$U$71) -> 3306.75 | H8: =AVERAGE($X$60:$X$71) -> 1
A9: 2020 | B9: =AVERAGE($G$72:$G$83) -> 17582.833 | C9: =AVERAGE($I$72:$I$83) -> 1153.9167 | D9: =AVERAGE($L$72:$L$83) -> 80.083333 | E9: =AVERAGE($O$72:$O$83) -> 73.166667 | F9: =AVERAGE($R$72:$R$83) -> 155.08333 | G9: =AVERAGE($U$72:$U$83) -> 3414.4167 | H9: =AVERAGE($X$72:$X$83) -> 1
A10: 2021 | B10: =AVERAGE($G$84:$G$95) -> 18253.333 | C10: =AVERAGE($I$84:$I$95) -> 1191.25 | D10: =AVERAGE($L$84:$L$95) -> 77.75 | E10: =AVERAGE($O$84:$O$95) -> 71 | F10: =AVERAGE($R$84:$R$95) -> 152.75 | G10: =AVERAGE($U$84:$U$95) -> 3596.5833 | H10: =AVERAGE($X$84:$X$95) -> 1
A11: 2022 | B11: =AVERAGE($G$96:$G$107) -> 18754.667 | C11: =AVERAGE($I$96:$I$107) -> 1246.1667 | D11: =AVERAGE($L$96:$L$107) -> 78.25 | E11: =AVERAGE($O$96:$O$107) -> 71.833333 | F11: =AVERAGE($R$96:$R$107) -> 150.66667 | G11: =AVERAGE($U$96:$U$107) -> 4014 | H11: =AVERAGE($X$96:$X$107) -> 1
A12: 2023 | B12: =AVERAGE($G$108:$G$119) -> 20106.333 | C12: =AVERAGE($I$108:$I$119) -> 1271.5833 | D12: =AVERAGE($L$108:$L$119) -> 84.25 | E12: =AVERAGE($O$108:$O$119) -> 74.833333 | F12: =AVERAGE($R$108:$R$119) -> 151 | G12: =AVERAGE($U$108:$U$119) -> 4299.25 | H12: =AVERAGE($X$108:$X$119) -> 1
A13: 2024 | B13: =AVERAGE($G$120:$G$131) -> 21734.083 | C13: =AVERAGE($I$120:$I$131) -> 1289.6667 | D13: =AVERAGE($L$120:$L$131) -> 83.416667 | E13: =AVERAGE($O$120:$O$131) -> 70.166667 | F13: =AVERAGE($R$120:$R$131) -> 148.58333 | G13: =AVERAGE($U$120:$U$131) -> 4588.5 | H13: =AVERAGE($X$120:$X$131) -> 1
A14: 2025 | B14: =AVERAGE($G$132:$G$143) -> 22632.5 | C14: =AVERAGE($I$132:$I$143) -> 1300.1667 | D14: =AVERAGE($L$132:$L$143) -> 87.416667 | E14: =AVERAGE($O$132:$O$143) -> 69 | F14: =AVERAGE($R$132:$R$143) -> 144.66667 | G14: =AVERAGE($U$132:$U$143) -> 4847.75 | H14: =AVERAGE($X$132:$X$143) -> 1
A20: Consumption | D20: Wholesale | F20: Retail Consumption
D21: Wholesale Purchases | E21: Embedded Generation | F21: =B4 -> Residential | H21: =C4 -> General Service < 50 kW | J21: =D4 -> General Service >= 50 kW | M21: =E4 -> Unmetered Scattered Load | P21: =F4 -> Sentinel Lighting | S21: =G4 -> Street Lighting | V21: =H4 -> Embedded Distributor
F22: kWh | G22: Number of Customer/ Connection | H22: kWh | I22: Number of Customer/ Connection | J22: kWh | K22: kW | L22: Number of Customer/ Connection | M22: kWh | N22: kW | O22: Number of Customer/ Connection | P22: kWh | Q22: kW | R22: Number of Customer/ Connection | S22: kWh | T22: kW | U22: Customer/ Connection | V22: kWh | W22: kW | X22: Number of Customer/ Connection | Y22: kWh | Z22: kW | AA22: Number of Customer/ Connection
A23: Year | B23: Month
A24: 2016 | B24: January | C24: =SUM(G24,I24,L24,X24) -> 16198 | D24: 25159552 | F24: 15031946 | G24: 15110 | H24: 3038307.5 | I24: 1013 | J24: 5029708.9 | K24: 11858.98 | L24: 74 | M24: 38591 | N24: 0 | O24: 76 | P24: 9060.86 | Q24: 24.539056 | R24: 166 | S24: 58440.27 | T24: 134.66 | U24: 2835 | V24: 92254.5 | W24: 194.4 | X24: 1
A25: 2016 | B25: February | C25: =SUM(G25,I25,L25,X25) -> 16213 | D25: 23014941 | F25: 13742388 | G25: 15125 | H25: 2827715.9 | I25: 1013 | J25: 4750605.5 | K25: 11679.23 | L25: 74 | M25: 38591 | N25: 0 | O25: 76 | P25: 9035.66 | Q25: 24.729056 | R25: 166 | S25: 54906.11 | T25: 135.86 | U25: 2845 | V25: 82077 | W25: 201.3 | X25: 1
A26: 2016 | B26: March | C26: =SUM(G26,I26,L26,X26) -> 16244 | D26: 21970551 | F26: 12724183 | G26: 15151 | H26: 2719965.2 | I26: 1018 | J26: 4947024.8 | K26: 11803.47 | L26: 74 | M26: 38591 | N26: 0 | O26: 76 | P26: 8871.26 | Q26: 24.733167 | R26: 166 | S26: 58975.59 | T26: 135.9 | U26: 2846 | V26: 77005.2 | W26: 171 | X26: 1
A27: 2016 | B27: April | C27: =SUM(G27,I27,L27,X27) -> 16250 | D27: 19763963 | F27: 11375900 | G27: 15161 | H27: 2594881.7 | I27: 1014 | J27: 4677929.5 | K27: 11989.26 | L27: 74 | M27: 38591 | N27: 0 | O27: 76 | P27: 8814.26 | Q27: 24.625444 | R27: 167 | S27: 42839.79 | T27: 136.63 | U27: 2856 | V27: 68808.9 | W27: 166.8 | X27: 1
A28: 2016 | B28: May | C28: =SUM(G28,I28,L28,X28) -> 16262 | D28: 18836973 | F28: 10513778 | G28: 15167 | H28: 2635755 | I28: 1020 | J28: 4551175.3 | K28: 13001.91 | L28: 74 | M28: 38591 | N28: 0 | O28: 75 | P28: 8761.82 | Q28: 24.599 | R28: 167 | S28: 44746.55 | T28: 137.53 | U28: 2872 | V28: 68053.5 | W28: 212.7 | X28: 1
A29: 2016 | B29: June | C29: =SUM(G29,I29,L29,X29) -> 16270 | D29: 19211234 | F29: 11183009 | G29: 15178 | H29: 2755147.7 | I29: 1017 | J29: 4549813.6 | K29: 12884.51 | L29: 74 | M29: 38591 | N29: 0 | O29: 75 | P29: 8742.2 | Q29: 24.724944 | R29: 167 | S29: 43321.32 | T29: 137.53 | U29: 2872 | V29: 79915.2 | W29: 217.2 | X29: 1
A30: 2016 | B30: July | C30: =SUM(G30,I30,L30,X30) -> 16282 | D30: 23404500 | F30: 14200168 | G30: 15191 | H30: 3024140.7 | I30: 1016 | J30: 4781044.4 | K30: 12508 | L30: 74 | M30: 38351 | N30: 0 | O30: 75 | P30: 5753.18 | Q30: 24.754389 | R30: 167 | S30: 31975.26 | T30: 137.53 | U30: 2872 | V30: 92374.8 | W30: 236.7 | X30: 1
A31: 2016 | B31: August | C31: =SUM(G31,I31,L31,X31) -> 16293 | D31: 24564804 | F31: 14840247 | G31: 15202 | H31: 3034570.4 | I31: 1013 | J31: 5041185.6 | K31: 13500.62 | L31: 77 | M31: 38351 | N31: 0 | O31: 75 | P31: 8780.06 | Q31: 24.634056 | R31: 166 | S31: 31975.26 | T31: 137.53 | U31: 2872 | V31: 95967 | W31: 246.6 | X31: 1
A32: 2016 | B32: September | C32: =SUM(G32,I32,L32,X32) -> 16324 | D32: 19239594 | F32: 10645035 | G32: 15234 | H32: 2630169.5 | I32: 1011 | J32: 4755064.6 | K32: 13419.58 | L32: 78 | M32: 38351 | N32: 0 | O32: 75 | P32: 8856.62 | Q32: 24.627889 | R32: 166 | S32: 30943.8 | T32: 137.53 | U32: 2872 | V32: 70155.6 | W32: 222.6 | X32: 1
A33: 2016 | B33: October | C33: =SUM(G33,I33,L33,X33) -> 16371 | D33: 19360398 | F33: 10289584 | G33: 15274 | H33: 2635130.7 | I33: 1018 | J33: 5007649 | K33: 13614.85 | L33: 78 | M33: 38351 | N33: 0 | O33: 75 | P33: 8818.88 | Q33: 24.069389 | R33: 165 | S33: 49028.73 | T33: 137.53 | U33: 2872 | V33: 64336.2 | W33: 147 | X33: 1
A34: 2016 | B34: November | C34: =SUM(G34,I34,L34,X34) -> 16400 | D34: 20317470 | F34: 11036734 | G34: 15300 | H34: 2663742.9 | I34: 1021 | J34: 5099609.5 | K34: 12683.34 | L34: 78 | M34: 38351 | N34: 0 | O34: 75 | P34: 8843.9 | Q34: 24.524056 | R34: 165 | S34: 47547.9 | T34: 138.4 | U34: 2872 | V34: 69149.4 | W34: 183.6 | X34: 1
A35: 2016 | B35: December | C35: =SUM(G35,I35,L35,X35) -> 16426 | D35: 24538056 | F35: 14552945 | G35: 15326 | H35: 2998609.4 | I35: 1021 | J35: 5096163.4 | K35: 12248.51 | L35: 78 | M35: 38351 | N35: 0 | O35: 75 | P35: 8903.6 | Q35: 24.398056 | R35: 165 | S35: 49341.03 | T35: 138.4 | U35: 2872 | V35: 88278.3 | W35: 198.3 | X35: 1
... A113: 2023 | B113: June | C113: =SUM(G113,I113,L113,X113) -> 21388 | D113: 24243663 | F113: 14488840 | G113: 20025 | H113: 3577686.3 | I113: 1276 | J113: 4676161.6 | K113: 14188.282 | L113: 86 | M113: 37417.459 | N113: 0 | O113: 76 | P113: 8104.9324 | Q113: 22.856486 | R113: 151 | S113: 69189.9 | T113: 217.3724 | U113: 4244 | V113: 74751 | W113: 240 | X113: 1
A114: 2023 | B114: July | C114: =SUM(G114,I114,L114,X114) -> 21442 | D114: 28251363 | F114: 17866992 | G114: 20077 | H114: 3910002.2 | I114: 1278 | J114: 4810937.6 | K114: 13007.377 | L114: 86 | M114: 36944.746 | N114: 0 | O114: 76 | P114: 8111.3036 | Q114: 22.187131 | R114: 151 | S114: 51068.78 | T114: 220.73901 | U114: 4244 | V114: 88319.4 | W114: =AVERAGE(W102,W90,W78,W66,W54,W42,W30) -> 244.45714 | X114: 1
A115: 2023 | B115: August | C115: =SUM(G115,I115,L115,X115) -> 21574 | D115: 25466441 | F115: 15595101 | G115: 20207 | H115: 3705982.2 | I115: 1280 | J115: 4622789.7 | K115: 15664.631 | L115: 86 | M115: 36609.513 | N115: 0 | O115: 72 | P115: 8109.0196 | Q115: 22.423374 | R115: 151 | S115: 51068.78 | T115: =AVERAGE(T114,T118) -> 224.33174 | U115: 4360 | V115: 79518 | W115: =AVERAGE(W103,W91,W79,W67,W55,W43,W31) -> 240.64286 | X115: 1
A116: 2023 | B116: September | C116: =SUM(G116,I116,L116,X116) -> 21889 | D116: 23431411 | F116: 13888909 | G116: 20529 | H116: 3485540.5 | I116: 1273 | J116: 4568070.9 | K116: 14457.577 | L116: 86 | M116: 36609.513 | N116: 0 | O116: 72 | P116: 8104.9324 | Q116: 22.561182 | R116: 151 | S116: 49421.4 | T116: =AVERAGE(T115,T118) -> 226.1281 | U116: 4360 | V116: 70107.6 | W116: =AVERAGE(W104,W92,W80,W68,W56,W44,W32) -> 208.62857 | X116: 1
A117: 2023 | B117: October | C117: =SUM(G117,I117,L117,X117) -> 22078 | D117: 23160515 | F117: 13597478 | G117: 20722 | H117: 3511059.2 | I117: 1269 | J117: 4558932 | K117: 15765.366 | L117: 86 | M117: 36609.513 | N117: 0 | O117: 72 | P117: 8109.5005 | Q117: 22.413531 | R117: 151 | S117: 80114.22 | T117: =AVERAGE(T116,T119) -> 227.02628 | U117: 4460 | V117: 66447 | W117: =AVERAGE(W105,W93,W81,W69,W57,W45,W33) -> 148.2 | X117: 1
A118: 2023 | B118: November | C118: =SUM(G118,I118,L118,X118) -> 22191 | D118: 25412592 | F118: 15333234 | G118: 20838 | H118: 3667109.4 | I118: 1266 | J118: 4706498.8 | K118: 14582.134 | L118: 86 | M118: 36609.513 | N118: 0 | O118: 72 | P118: 8036.4118 | Q118: 22.364313 | R118: 151 | S118: 78246 | T118: 227.92446 | U118: 4460 | V118: 71872.2 | W118: =AVERAGE(W106,W94,W82,W70,W58,W46,W34) -> 179.91429 | X118: 1
A119: 2023 | B119: December | C119: =SUM(G119,I119,L119,X119) -> 22337 | D119: 28044242 | F119: 17422587 | G119: 20977 | H119: 3944375.8 | I119: 1273 | J119: 4699271.7 | K119: 12992.161 | L119: 86 | M119: 36609.513 | N119: 0 | O119: 72 | P119: 8003.2934 | Q119: 22.078853 | R119: 151 | S119: 80854.2 | T119: 227.92446 | U119: 4463 | V119: 82785.6 | W119: =AVERAGE(W107,W95,W83,W71,W59,W47,W35) -> 197.18571 | X119: 1
A120: 2024 | B120: January | C120: =SUM(G120,I120,L120,X120) -> 22480 | D120: 30258212 | F120: 19056323 | G120: 21120 | H120: 5119325.5 | I120: 1274 | J120: 4984913 | K120: 12671.873 | L120: 85 | M120: 34034.076 | N120: 0 | O120: 72 | P120: 7398.61 | Q120: 15.10413 | R120: 150 | S120: 98431.2 | T120: 228.00255 | U120: 4463 | V120: 86797.798 | W120: =AVERAGE(W108,W96,W84,W72,W60,W48,W36+W24) -> 224.91429 | X120: 1
A121: 2024 | B121: February | C121: =SUM(G121,I121,L121,X121) -> 22616 | D121: 26987081 | F121: 16746527 | G121: 21254 | H121: 4566987.3 | I121: 1276 | J121: 4593367.8 | K121: 12609.018 | L121: 85 | M121: 33723.795 | N121: 0 | O121: 72 | P121: 7391.9192 | Q121: 20.669784 | R121: 150 | S121: 94508.68 | T121: 228.00255 | U121: 4530 | V121: 76964.404 | W121: =AVERAGE(W109,W97,W85,W73,W61,W49,W37+W25) -> 218.1 | X121: 1
A122: 2024 | B122: March | C122: =SUM(G122,I122,L122,X122) -> 22842 | D122: 26960113 | F122: 16516020 | G122: 21474 | H122: 4553191.2 | I122: 1283 | J122: 4725034.3 | K122: 12361.68 | L122: 84 | M122: 33677.829 | N122: 0 | O122: 71 | P122: 7357.752 | Q122: 21.577328 | R122: 150 | S122: 101437.42 | T122: 234.01426 | U122: 4582 | V122: 74964.596 | W122: =AVERAGE(W110,W98,W86,W74,W62,W50,W38+W26) -> 192.55714 | X122: 1
A123: 2024 | B123: April | C123: =SUM(G123,I123,L123,X123) -> 22955 | D123: 23858192 | F123: 14238695 | G123: 21585 | H123: 4114557.5 | I123: 1286 | J123: 4401429.1 | K123: 12692.768 | L123: 83 | M123: 33677.829 | N123: 0 | O123: 70 | P123: 7332.7436 | Q123: 21.049471 | R123: 149 | S123: 74160.6 | T123: 237.08043 | U123: 4582 | V123: 67067.404 | W123: 575.63508 | X123: 1
A124: 2024 | B124: May | C124: =SUM(G124,I124,L124,X124) -> 23059 | D124: 23467028 | F124: 13563327 | G124: 21682 | H124: 4154211.9 | I124: 1293 | J124: 4509995.8 | K124: 12591.649 | L124: 83 | M124: 33677.829 | N124: 0 | O124: 70 | P124: 7337.9537 | Q124: 20.873518 | R124: 149 | S124: 76632.62 | T124: 209.82668 | U124: 4582 | V124: 67471.202 | W124: 175.7414 | X124: 1
A125: 2024 | B125: June | C125: =SUM(G125,I125,L125,X125) -> 23128 | D125: 26576957 | F125: 16220177 | G125: 21756 | H125: 4205939.5 | I125: 1288 | J125: 4789844.2 | K125: 13673.619 | L125: 83 | M125: 33677.829 | N125: 0 | O125: 70 | P125: 7330.7053 | Q125: 21.067992 | R125: 149 | S125: 75477 | T125: 209.82668 | U125: 4582 | V125: 78671.404 | W125: 185.93598 | X125: 1
A126: 2024 | B126: July | C126: =SUM(G126,I126,L126,X126) -> 23209 | D126: 31188046 | F126: 20077458 | G126: 21837 | H126: 4749980.1 | I126: 1288 | J126: 4987079.1 | K126: 15331.143 | L126: 83 | M126: 33677.829 | N126: 0 | O126: 70 | P126: 7305.6237 | Q126: 20.512353 | R126: 149 | S126: 55691.69 | T126: 209.82668 | U126: 4582 | V126: 96706.798 | W126: 254.70389 | X126: 1
A127: 2024 | B127: August | C127: =SUM(G127,I127,L127,X127) -> 23286 | D127: 29636389 | F127: 18799582 | G127: 21904 | H127: 4663291.2 | I127: 1298 | J127: 4861071.2 | K127: 14008.899 | L127: 83 | M127: 33677.829 | N127: 0 | O127: 70 | P127: 7272.2792 | Q127: 20.32714 | R127: 149 | S127: 55691.69 | T127: 209.82668 | U127: 4582 | V127: 91720.798 | W127: 269.99041 | X127: 1
A128: 2024 | B128: September | C128: =SUM(G128,I128,L128,X128) -> 23309 | D128: 25156586 | F128: 15070046 | G128: 21928 | H128: 4127270.8 | I128: 1297 | J128: 4711782.8 | K128: 14228.475 | L128: 83 | M128: 33677.829 | N128: 0 | O128: 70 | P128: 7270.2317 | Q128: 20.780912 | R128: 147 | S128: 53895.18 | T128: 182.57294 | U128: 4581 | V128: 77865 | W128: 262.34715 | X128: 1
A129: 2024 | B129: October | C129: =SUM(G129,I129,L129,X129) -> 23403 | D129: 24192597 | F129: 13922216 | G129: 22022 | H129: 3662762.5 | I129: 1297 | J129: 4716766.6 | K129: 14057.635 | L129: 83 | M129: 32994.441 | N129: 0 | O129: 69 | P129: 7276.6941 | Q129: 20.854997 | R129: 147 | S129: 84504.76 | T129: 290.32123 | U129: 4614 | V129: 67830 | W129: 241.9687 | X129: 1
A130: 2024 | B130: November | C130: =SUM(G130,I130,L130,X130) -> 23505 | D130: 25649642 | F130: 15105952 | G130: 22123 | H130: 3627305.3 | I130: 1298 | J130: 4285749.9 | K130: 12227.251 | L130: 83 | M130: 32994.441 | N130: 0 | O130: 69 | P130: 7139.5866 | Q130: 19.984495 | R130: 147 | S130: 83365.42 | T130: 366.26177 | U130: 4690 | V130: 71926.798 | W130: 163.0062 | X130: 1
A131: 2024 | B131: December | C131: =SUM(G131,I131,L131,X131) -> 23506 | D131: 30765167 | F131: 18900122 | G131: 22124 | H131: 4223581.5 | I131: 1298 | J131: 4506394.8 | K131: 14052.919 | L131: 83 | M131: 32994.441 | N131: 0 | O131: 69 | P131: 7108.381 | Q131: 20.317879 | R131: 147 | S131: 86212.55 | T131: 244.11754 | U131: 4692 | V131: 91821.596 | W131: 198.67118 | X131: 1
A132: 2025 | B132: January | C132: =SUM(G132,I132,L132,X132) -> 23630 | D132: 33201031 | F132: 20956467 | G132: 22246 | H132: 4580618.6 | I132: 1300 | J132: 5865135.3 | K132: 11976.51 | L132: 83 | M132: 35438 | N132: 0 | O132: 69 | P132: 7904.7258 | Q132: 22.474406 | R132: 145 | S132: 107354.24 | T132: 243.07533 | U132: 4798 | V132: 97843.329 | W132: 188.73507 | X132: 1
A133: 2025 | B133: February | C133: =SUM(G133,I133,L133,X133) -> 23629 | D133: 29519020 | F133: 18665628 | G133: 22245 | H133: 4066844.6 | I133: 1299 | J133: 5208813.9 | K133: 2845.44 | L133: 84 | M133: 35438 | N133: 0 | O133: 69 | P133: 7844.4851 | Q133: 21.748476 | R133: 145 | S133: 96965.12 | T133: =AVERAGE(T132,T137) -> 247.66384 | U133: 4798 | V133: 86861.338 | W133: =AVERAGE(W132,W134) -> 178.14127 | X133: 1
A134: 2025 | B134: March | C134: =SUM(G134,I134,L134,X134) -> 23808 | D134: 28188056 | F134: 17311331 | G134: 22417 | H134: 3897847.1 | I134: 1305 | J134: 5383190.9 | K134: 10164.86 | L134: 85 | M134: 35438 | N134: 0 | O134: 69 | P134: 7844.4851 | Q134: 21.709236 | R134: 145 | S134: 107354.24 | T134: =AVERAGE(T133,T137) -> 249.95809 | U134: 4798 | V134: 80282.353 | W134: 167.54747 | X134: 1
A135: 2025 | B135: April | C135: =SUM(G135,I135,L135,X135) -> 23843 | D135: 25907145 | F135: 15710393 | G135: 22455 | H135: 3617074.1 | I135: 1302 | J135: 5056282 | K135: 3007.05 | L135: 85 | M135: 35438 | N135: 0 | O135: 69 | P135: 7844.4851 | Q135: 20.581102 | R135: 145 | S135: 77918.4 | T135: =AVERAGE(T134,T137) -> 251.10522 | U135: 4798 | V135: 73445.71 | W135: =AVERAGE(W134,W136) -> 165.47653 | X135: 1
A136: 2025 | B136: May | C136: =SUM(G136,I136,L136,X136) -> 23871 | D136: 24336480 | F136: 14437738 | G136: 22485 | H136: 3551068.4 | I136: 1299 | J136: 5079937.4 | K136: 13123.85 | L136: 86 | M136: 35438 | N136: 0 | O136: 69 | P136: 7853.4252 | Q136: 22.464596 | R136: 145 | S136: 81362.29 | T136: =AVERAGE(T135,T137) -> 251.67878 | U136: 4798 | V136: 67158.618 | W136: 163.40559 | X136: 1
A137: 2025 | B137: June | C137: =SUM(G137,I137,L137,X137) -> 24073 | D137: 28531695 | F137: 17777140 | G137: 22686 | H137: 3745699.5 | I137: 1298 | J137: 5399733.3 | K137: 37624.92 | L137: 88 | M137: 35438 | N137: 0 | O137: 69 | P137: 7844.4851 | Q137: 21.797525 | R137: 145 | S137: 78737.7 | T137: 252.25234 | U137: 4853 | V137: 79573.644 | W137: 941.50312 | X137: 1
A138: 2025 | B138: July | C138: =SUM(G138,I138,L138,X138) -> 24104 | D138: 35219494 | F138: 22874335 | G138: 22713 | H138: 4417473.3 | I138: 1302 | J138: 5950072.9 | K138: 14447.18 | L138: 88 | M138: 35438 | N138: 0 | O138: 69 | P138: 7844.4851 | Q138: 22.16049 | R138: 145 | S138: 58099.58 | T138: 251.24719 | U138: 4852 | V138: 100582.67 | W138: 208.14759 | X138: 1
A139: 2025 | B139: August | C139: =SUM(G139,I139,L139,X139) -> 24158 | D139: 31952623 | F139: 20258737 | G139: 22767 | H139: 4184876.9 | I139: 1302 | J139: 5726181.3 | K139: 13430.08 | L139: 88 | M139: 35438 | N139: 0 | O139: 69 | P139: 7833.085 | Q139: 21.797525 | R139: 145 | S139: 58278.18 | T139: 251.17683 | U139: 4868 | V139: 89486.565 | W139: 219.81942 | X139: 1
A140: 2025 | B140: September | C140: =SUM(G140,I140,L140,X140) -> 24210 | D140: 25218658 | F140: 14744356 | G140: 22824 | H140: 3617809.1 | I140: 1297 | J140: 5463541.4 | K140: 13560.95 | L140: 88 | M140: 35438 | N140: 0 | O140: 69 | P140: 7810.2848 | Q140: 21.797525 | R140: 144 | S140: 56493.3 | T140: 252.37296 | U140: 4868 | V140: 65455.914 | W140: 213.98351 | X140: 1
A141: 2025 | B141: October | C141: =SUM(G141,I141,L141,X141) -> 24273 | D141: 25484180 | F141: 14884923 | G141: 22887 | H141: 3667592.1 | I141: 1295 | J141: 5421569.5 | K141: 21045.16 | L141: 90 | M141: 35438 | N141: 0 | O141: 69 | P141: 7810.2848 | Q141: 21.513039 | R141: 144 | S141: 89710.09 | T141: 252.37296 | U141: 4884 | V141: 67365.225 | W141: 140.06193 | X141: 1
A142: 2025 | B142: November | C142: =SUM(G142,I142,L142,X142) -> 24307 | D142: 28123203 | F142: 17221145 | G142: 22914 | H142: 3873728.9 | I142: 1302 | J142: 5430335.3 | K142: 17288.52 | L142: 90 | M142: 35438 | N142: 0 | O142: 69 | P142: 7810.2848 | Q142: 21.513039 | R142: 144 | S142: 87447 | T142: 253.16703 | U142: 4929 | V142: 75523.79 | W142: 153.67906 | X142: 1
A143: 2025 | B143: December | C143: =SUM(G143,I143,L143,X143) -> 24347 | D143: 33367454 | F143: 21418027 | G143: 22951 | H143: 4449671.8 | I143: 1301 | J143: 5772815.4 | K143: 18069.8 | L143: 94 | M143: 35438 | N143: 0 | O143: 69 | P143: 7741.884 | Q143: 21.513039 | R143: 144 | S143: 90750.07 | T143: 254.77527 | U143: 4929 | V143: 93010.893 | W143: 142.00724 | X143: 1

Sheet Load Forecast Summary
A1: IPC Weather Normal Load Forecast for 2027 Rate Application
L2: 2026 Bridge | M2: 2027 Test
B3: 2016 Actual | C3: 2017 Actual | D3: 2018 Actual | E3: 2019 Actual | F3: 2020 Actual | G3: 2021 Actual | H3: 2022 Actual | I3: 2023 Actual | J3: 2024 Actual | K3: 2025 Actual | L3: Weather Normal | M3: Weather Normal
A4: Actual kWh Purchases | B4: ='Power Purchased Model'!B152 -> 259382036 | C4: ='Power Purchased Model'!B153 -> 2.5676943e+08 | D4: ='Power Purchased Model'!B154 -> 2.7881324e+08 | E4: ='Power Purchased Model'!B155 -> 2.8058154e+08 | F4: =+'Power Purchased Model'!B156 -> 2.9140425e+08 | G4: =+'Power Purchased Model'!B157 -> 2.9524025e+08 | H4: =+'Power Purchased Model'!B158 -> 2.999345e+08 | I4: =+'Power Purchased Model'!B159 -> 3.0310317e+08 | J4: =+'Power Purchased Model'!B160 -> 3.2469601e+08 | K4: =+'Power Purchased Model'!B161 -> 3.4904904e+08
A5: Predicted kWh Purchases | B5: ='Power Purchased Model'!N152 -> 2.6232871e+08 | C5: ='Power Purchased Model'!N153 -> 2.5676157e+08 | D5: ='Power Purchased Model'!N154 -> 2.7848883e+08 | E5: =+'Power Purchased Model'!N155 -> 2.8161788e+08 | F5: =+'Power Purchased Model'!N156 -> 2.8844634e+08 | G5: =+'Power Purchased Model'!N157 -> 2.9022491e+08 | H5: =+'Power Purchased Model'!N158 -> 2.9930006e+08 | I5: =+'Power Purchased Model'!N159 -> 3.0722958e+08 | J5: =+'Power Purchased Model'!N160 -> 3.2725942e+08 | K5: =+'Power Purchased Model'!N161 -> 3.4731618e+08 | L5: =+'Power Purchased Model'!N162 -> 3.5615917e+08 | M5: =+'Power Purchased Model'!N163 -> 3.6883236e+08
A6: % Difference | B6: =(B5-B4)/B4 -> 0.01136035 | C6: =(C5-C4)/C4 -> -3.0632553e-05 | D6: =(D5-D4)/D4 -> -0.0011635089 | E6: =(E5-E4)/E4 -> 0.0036935368 | F6: =(F5-F4)/F4 -> -0.010150531 | G6: =(G5-G4)/G4 -> -0.016987316 | H6: =(H5-H4)/H4 -> -0.0021152859 | I6: =(I5-I4)/I4 -> 0.013613857 | ... K6: =(K5-K4)/K4 -> -0.0049645137
L7: =(L5-K5)/K5 -> 0.025460917 | M7: =(M5-L5)/L5 -> 0.035582933
A10: Total Billed | B10: ='Rate Class Energy Model'!G3 -> 2.4403834e+08 | C10: ='Rate Class Energy Model'!G4 -> 2.4319257e+08 | D10: ='Rate Class Energy Model'!G5 -> 2.6447127e+08 | E10: ='Rate Class Energy Model'!G6 -> 2.7102131e+08 | F10: ='Rate Class Energy Model'!G7 -> 2.7683813e+08 | G10: ='Rate Class Energy Model'!G8 -> 2.792833e+08 | H10: ='Rate Class Energy Model'!G9 -> 2.8446792e+08 | I10: ='Rate Class Energy Model'!G10 -> 2.8682714e+08 | J10: ='Rate Class Energy Model'!G11 -> 3.084381e+08 | K10: ='Rate Class Energy Model'!G12 -> 3.3217444e+08 | L10: ='Rate Class Energy Model'!G13 -> 3.3814988e+08 | M10: ='Rate Class Energy Model'!G14 -> 3.5018225e+08
L11: =(L10-K10)/K10 -> 0.017988873 | M11: =(M10-L10)/L10 -> 0.035582933
A12: By Class
A13: ='Rate Class Energy Model'!H2 -> Residential
A14: Customers | B14: ='Rate Class Customer Model'!B11 -> 15201.583 | C14: ='Rate Class Customer Model'!B12 -> 15631.667 | D14: ='Rate Class Customer Model'!B13 -> 16490.667 | E14: ='Rate Class Customer Model'!B14 -> 17294.333 | F14: ='Rate Class Customer Model'!B15 -> 17582.833 | G14: ='Rate Class Customer Model'!B16 -> 18253.333 | H14: ='Rate Class Customer Model'!B17 -> 18754.667 | I14: ='Rate Class Customer Model'!B18 -> 20106.333 | J14: ='Rate Class Customer Model'!B19 -> 21734.083 | K14: ='Rate Class Customer Model'!B20 -> 22632.5 | L14: ='Rate Class Customer Model'!B21 -> 23655.786 | M14: ='Rate Class Customer Model'!B22 -> 24725.338
A15: kWh | B15: ='Rate Class Energy Model'!H3 -> 1.5013592e+08 | C15: ='Rate Class Energy Model'!H4 -> 1.4525046e+08 | D15: ='Rate Class Energy Model'!H5 -> 1.6085375e+08 | E15: ='Rate Class Energy Model'!H6 -> 1.6128452e+08 | F15: ='Rate Class Energy Model'!H7 -> 1.749576e+08 | G15: ='Rate Class Energy Model'!H8 -> 1.7849971e+08 | H15: ='Rate Class Energy Model'!H9 -> 1.8184366e+08 | I15: ='Rate Class Energy Model'!H10 -> 1.8411604e+08 | J15: ='Rate Class Energy Model'!H11 -> 1.9821644e+08 | K15: ='Rate Class Energy Model'!H12 -> 2.1626022e+08 | L15: ='Rate Class Energy Model'!H34 -> 2.2172618e+08 | M15: ='Rate Class Energy Model'!H35 -> 2.3143398e+08
A17: ='Rate Class Energy Model'!I2 -> General Service < 50 kW
A18: Customers | B18: ='Rate Class Customer Model'!C11 -> 1016.25 | C18: ='Rate Class Customer Model'!C12 -> 1030.3333 | D18: ='Rate Class Customer Model'!C13 -> 1082 | E18: ='Rate Class Customer Model'!C14 -> 1121.0833 | F18: ='Rate Class Customer Model'!C15 -> 1153.9167 | G18: ='Rate Class Customer Model'!C16 -> 1191.25 | H18: ='Rate Class Customer Model'!C17 -> 1246.1667 | I18: ='Rate Class Customer Model'!C18 -> 1271.5833 | J18: ='Rate Class Customer Model'!C19 -> 1289.6667 | K18: ='Rate Class Customer Model'!C20 -> 1300.1667 | L18: ='Rate Class Customer Model'!C21 -> 1336.2501 | M18: ='Rate Class Customer Model'!C22 -> 1373.3349
A19: kWh | B19: ='Rate Class Energy Model'!I3 -> 33558136 | C19: ='Rate Class Energy Model'!I4 -> 32775442 | D19: ='Rate Class Energy Model'!I5 -> 36037382 | E19: ='Rate Class Energy Model'!I6 -> 42480663 | F19: ='Rate Class Energy Model'!I7 -> 39873537 | G19: ='Rate Class Energy Model'!I8 -> 40487961 | H19: ='Rate Class Energy Model'!I9 -> 43953859 | I19: ='Rate Class Energy Model'!I10 -> 44829085 | J19: ='Rate Class Energy Model'!I11 -> 51768404 | K19: ='Rate Class Energy Model'!I12 -> 47670304 | L19: ='Rate Class Energy Model'!I34 -> 48058712 | M19: ='Rate Class Energy Model'!I35 -> 49324890
A21: ='Rate Class Energy Model'!J2 -> General Service >= 50 kW
A22: Customers | B22: ='Rate Class Customer Model'!D11 -> 75.583333 | C22: ='Rate Class Customer Model'!D12 -> 86.666667 | D22: ='Rate Class Customer Model'!D13 -> 91 | E22: ='Rate Class Customer Model'!D14 -> 85.083333 | F22: ='Rate Class Customer Model'!D15 -> 80.083333 | G22: ='Rate Class Customer Model'!D16 -> 77.75 | H22: ='Rate Class Customer Model'!D17 -> 78.25 | I22: ='Rate Class Customer Model'!D18 -> 84.25 | J22: ='Rate Class Customer Model'!D19 -> 83.416667 | K22: ='Rate Class Customer Model'!D20 -> 87.416667 | L22: ='Rate Class Customer Model'!D21 -> 88.840896 | M22: ='Rate Class Customer Model'!D22 -> 90.28833
A23: kWh | B23: ='Rate Class Energy Model'!J3 -> 58286974 | C23: ='Rate Class Energy Model'!J4 -> 63107665 | D23: ='Rate Class Energy Model'!J5 -> 65404829 | E23: ='Rate Class Energy Model'!J6 -> 65090125 | F23: ='Rate Class Energy Model'!J7 -> 59834547 | G23: ='Rate Class Energy Model'!J8 -> 58095871 | H23: ='Rate Class Energy Model'!J9 -> 56383557 | I23: ='Rate Class Energy Model'!J10 -> 55566830 | J23: ='Rate Class Energy Model'!J11 -> 56073429 | K23: ='Rate Class Energy Model'!J12 -> 65757609 | L23: ='Rate Class Energy Model'!J34 -> 65824563 | M23: ='Rate Class Energy Model'!J35 -> 66825175
A24: kW | B24: ='Rate Class Load Model'!B2 -> 151192.26 | C24: ='Rate Class Load Model'!B3 -> 163230.4 | D24: ='Rate Class Load Model'!B4 -> 168618.78 | E24: ='Rate Class Load Model'!B5 -> 164137.22 | F24: ='Rate Class Load Model'!B6 -> 153608.63 | G24: ='Rate Class Load Model'!B7 -> 157905.39 | H24: ='Rate Class Load Model'!B8 -> 157377.51 | I24: ='Rate Class Load Model'!B9 -> 162697.74 | J24: ='Rate Class Load Model'!B10 -> 160506.93 | K24: ='Rate Class Load Model'!B11 -> 176584.32 | L24: ='Rate Class Load Model'!B12 -> 176623.49 | M24: ='Rate Class Load Model'!B13 -> 179308.37
A26: ='Rate Class Energy Model'!K2 -> Unmetered Scattered Load
A27: Connections | B27: ='Rate Class Customer Model'!E11 -> 75.333333 | C27: ='Rate Class Customer Model'!E12 -> 73.5 | D27: ='Rate Class Customer Model'!E13 -> 74 | E27: ='Rate Class Customer Model'!E14 -> 74.5 | F27: ='Rate Class Customer Model'!E15 -> 73.166667 | G27: ='Rate Class Customer Model'!E16 -> 71 | H27: ='Rate Class Customer Model'!E17 -> 71.833333 | I27: ='Rate Class Customer Model'!E18 -> 74.833333 | J27: ='Rate Class Customer Model'!E19 -> 70.166667 | K27: ='Rate Class Customer Model'!E20 -> 69 | L27: ='Rate Class Customer Model'!E21 -> 68.330016 | M27: ='Rate Class Customer Model'!E22 -> 67.666538
A28: kWh | B28: ='Rate Class Energy Model'!K3 -> 461652 | C28: ='Rate Class Energy Model'!K4 -> 460196 | D28: ='Rate Class Energy Model'!K5 -> 482914 | E28: ='Rate Class Energy Model'!K6 -> 485587 | F28: ='Rate Class Energy Model'!K7 -> 439968 | G28: ='Rate Class Energy Model'!K8 -> 439248 | H28: ='Rate Class Energy Model'!K9 -> 447888 | I28: ='Rate Class Energy Model'!K10 -> 447888 | J28: ='Rate Class Energy Model'!K11 -> 402486 | K28: ='Rate Class Energy Model'!K12 -> 425256 | L28: ='Rate Class Energy Model'!K34 -> 421126.8 | M28: ='Rate Class Energy Model'!K35 -> 417037.7
A30: ='Rate Class Energy Model'!L2 -> Sentinel Lighting
A31: Connections | B31: ='Rate Class Customer Model'!F11 -> 166.08333 | C31: ='Rate Class Customer Model'!F12 -> 161.83333 | D31: ='Rate Class Customer Model'!F13 -> 161.5 | E31: ='Rate Class Customer Model'!F14 -> 159.91667 | F31: ='Rate Class Customer Model'!F15 -> 155.08333 | G31: ='Rate Class Customer Model'!F16 -> 152.75 | H31: ='Rate Class Customer Model'!F17 -> 150.66667 | I31: ='Rate Class Customer Model'!F18 -> 151 | J31: ='Rate Class Customer Model'!F19 -> 148.58333 | K31: ='Rate Class Customer Model'!F20 -> 144.66667 | L31: ='Rate Class Customer Model'!F21 -> 142.46446 | M31: ='Rate Class Customer Model'!F22 -> 140.29577
A32: kWh | B32: ='Rate Class Energy Model'!L3 -> 103242.3 | C32: ='Rate Class Energy Model'!L4 -> 103849.14 | D32: ='Rate Class Energy Model'!L5 -> 105459.54 | E32: ='Rate Class Energy Model'!L6 -> 103804.5 | F32: ='Rate Class Energy Model'!L7 -> 100969.38 | G32: ='Rate Class Energy Model'!L8 -> 99205.68 | H32: ='Rate Class Energy Model'!L9 -> 97587.24 | I32: ='Rate Class Energy Model'!L10 -> 97106.34 | J32: ='Rate Class Energy Model'!L11 -> 87522.48 | K32: ='Rate Class Energy Model'!L12 -> 93986.4 | L32: ='Rate Class Energy Model'!L34 -> 92555.677 | M32: ='Rate Class Energy Model'!L35 -> 91146.733
A33: kW | B33: ='Rate Class Load Model'!C2 -> 294.9585 | C33: ='Rate Class Load Model'!C3 -> 294.9585 | D33: ='Rate Class Load Model'!C4 -> 294.9585 | E33: ='Rate Class Load Model'!C5 -> 294.9585 | F33: ='Rate Class Load Model'!C6 -> 294.9585 | G33: ='Rate Class Load Model'!C7 -> 294.9585 | H33: ='Rate Class Load Model'!C8 -> 294.9585 | I33: ='Rate Class Load Model'!C9 -> 294.9585 | J33: ='Rate Class Load Model'!C10 -> 294.9585 | K33: ='Rate Class Load Model'!C11 -> 294.9585 | L33: ='Rate Class Load Model'!C12 -> 295 | M33: ='Rate Class Load Model'!C13 -> 295
A35: ='Rate Class Energy Model'!M2 -> Street Lighting
A36: Customers | B36: ='Rate Class Customer Model'!G11 -> 2863.1667 | C36: ='Rate Class Customer Model'!G12 -> 2973.25 | D36: ='Rate Class Customer Model'!G13 -> 3097.25 | E36: ='Rate Class Customer Model'!G14 -> 3306.75 | F36: ='Rate Class Customer Model'!G15 -> 3414.4167 | G36: ='Rate Class Customer Model'!G16 -> 3596.5833 | H36: ='Rate Class Customer Model'!G17 -> 4014 | I36: ='Rate Class Customer Model'!G18 -> 4299.25 | J36: ='Rate Class Customer Model'!G19 -> 4588.5 | K36: ='Rate Class Customer Model'!G20 -> 4847.75 | L36: ='Rate Class Customer Model'!G21 -> 5139.852 | M36: ='Rate Class Customer Model'!G22 -> 5449.5546
A37: kWh | B37: ='Rate Class Energy Model'!M3 -> 544041.61 | C37: ='Rate Class Energy Model'!M4 -> 574600.19 | D37: ='Rate Class Energy Model'!M5 -> 615045.71 | E37: ='Rate Class Energy Model'!M6 -> 653653.25 | F37: ='Rate Class Energy Model'!M7 -> 686201.6 | G37: ='Rate Class Energy Model'!M8 -> 751137.82 | H37: ='Rate Class Energy Model'!M9 -> 805781.63 | I37: ='Rate Class Energy Model'!M10 -> 867745.69 | J37: ='Rate Class Energy Model'!M11 -> 940008.81 | K37: ='Rate Class Energy Model'!M12 -> 990470.21 | L37: ='Rate Class Energy Model'!M34 -> 1050151.2 | M37: ='Rate Class Energy Model'!M35 -> 1113428.2
A38: kW | B38: ='Rate Class Load Model'!D2 -> 1645.03 | C38: ='Rate Class Load Model'!D3 -> 1754.99 | D38: ='Rate Class Load Model'!D4 -> 1867.26 | E38: ='Rate Class Load Model'!D5 -> 1982.65 | F38: ='Rate Class Load Model'!D6 -> 2074.32 | G38: ='Rate Class Load Model'!D7 -> 2279.91 | H38: ='Rate Class Load Model'!D8 -> 2453.62 | I38: ='Rate Class Load Model'!D9 -> 2648.2991 | J38: ='Rate Class Load Model'!D10 -> 2849.68 | K38: ='Rate Class Load Model'!D11 -> 3010.8459 | L38: ='Rate Class Load Model'!D12 -> 3189.6913 | M38: ='Rate Class Load Model'!D13 -> 3381.8867
A40: ='Rate Class Energy Model'!N2 -> Embedded Distributor
A41: Customers | B41: ='Rate Class Customer Model'!H11 -> 1 | C41: ='Rate Class Customer Model'!H12 -> 1 | D41: ='Rate Class Customer Model'!H13 -> 1 | E41: ='Rate Class Customer Model'!H14 -> 1 | F41: ='Rate Class Customer Model'!H15 -> 1 | G41: ='Rate Class Customer Model'!H16 -> 1 | H41: ='Rate Class Customer Model'!H17 -> 1 | I41: ='Rate Class Customer Model'!H18 -> 1 | J41: ='Rate Class Customer Model'!H19 -> 1 | K41: ='Rate Class Customer Model'!H20 -> 1 | L41: ='Rate Class Customer Model'!H21 -> 1 | M41: ='Rate Class Customer Model'!H22 -> 1
A42: kWh | B42: ='Rate Class Energy Model'!N3 -> 948375.6 | C42: ='Rate Class Energy Model'!N4 -> 920352.3 | D42: ='Rate Class Energy Model'!N5 -> 971889.9 | E42: ='Rate Class Energy Model'!N6 -> 922954.2 | F42: ='Rate Class Energy Model'!N7 -> 945311.4 | G42: ='Rate Class Energy Model'!N8 -> 910170.9 | H42: ='Rate Class Energy Model'!N9 -> 935588.9 | I42: ='Rate Class Energy Model'!N10 -> 902443.2 | J42: ='Rate Class Energy Model'!N11 -> 949807.8 | K42: ='Rate Class Energy Model'!N12 -> 976590.05 | L42: ='Rate Class Energy Model'!N34 -> 976590.05 | M42: ='Rate Class Energy Model'!N35 -> 976590.05
A43: kW | B43: ='Rate Class Load Model'!E2 -> 2398.2 | C43: ='Rate Class Load Model'!E3 -> 2283.6 | D43: ='Rate Class Load Model'!E4 -> 2504.1 | E43: ='Rate Class Load Model'!E5 -> 2185.2 | F43: ='Rate Class Load Model'!E6 -> 2361.6 | G43: ='Rate Class Load Model'!E7 -> 2359.2 | H43: ='Rate Class Load Model'!E8 -> 2460 | I43: ='Rate Class Load Model'!E9 -> 2368.6286 | J43: ='Rate Class Load Model'!E10 -> 2963.5714 | K43: ='Rate Class Load Model'!E11 -> 2882.5078 | L43: ='Rate Class Load Model'!E12 -> 2575.2879 | M43: ='Rate Class Load Model'!E13 -> 2575.2879
A46: Total
A47: Customer/Connections | B47: =B14+B18+B22+B27+B31+B36+B41 -> 19399 | C47: =C14+C18+C22+C27+C31+C36+C41 -> 19958.25 | D47: =D14+D18+D22+D27+D31+D36+D41 -> 20997.417 | E47: =E14+E18+E22+E27+E31+E36+E41 -> 22042.667 | F47: =F14+F18+F22+F27+F31+F36+F41 -> 22460.5 | G47: =G14+G18+G22+G27+G31+G36+G41 -> 23343.667 | H47: =H14+H18+H22+H27+H31+H36+H41 -> 24316.583 | I47: =I14+I18+I22+I27+I31+I36+I41 -> 25988.25 | ... M47: =M14+M18+M22+M27+M31+M36+M41 -> 31847.478
A48: kWh | B48: =B15+B19+B23+B28+B37+B42+B32 -> 2.4403834e+08 | C48: =C15+C19+C23+C28+C37+C42+C32 -> 2.4319257e+08 | D48: =D15+D19+D23+D28+D37+D42+D32 -> 2.6447127e+08 | E48: =E15+E19+E23+E28+E37+E42+E32 -> 2.7102131e+08 | F48: =F15+F19+F23+F28+F37+F42+F32 -> 2.7683813e+08 | G48: =G15+G19+G23+G28+G37+G42+G32 -> 2.792833e+08 | H48: =H15+H19+H23+H28+H37+H42+H32 -> 2.8446792e+08 | I48: =I15+I19+I23+I28+I37+I42+I32 -> 2.8682714e+08 | ... M48: =M15+M19+M23+M28+M37+M42+M32 -> 3.5018225e+08
A49: kW from applicable classes | B49: =B24+B33+B38+B43 -> 155530.45 | C49: =C24+C33+C38+C43 -> 167563.95 | D49: =D24+D33+D38+D43 -> 173285.1 | E49: =E24+E33+E38+E43 -> 168600.03 | F49: =F24+F33+F38+F43 -> 158339.51 | G49: =G24+G33+G38+G43 -> 162839.46 | H49: =H24+H33+H38+H43 -> 162586.09 | I49: =I24+I33+I38+I43 -> 168009.63 | ... M49: =M24+M33+M38+M43 -> 185560.55
A51: Customer/Connections | B51: ='Rate Class Customer Model'!I11 -> 19399 | C51: ='Rate Class Customer Model'!I12 -> 19958.25 | D51: ='Rate Class Customer Model'!I13 -> 20997.417 | E51: ='Rate Class Customer Model'!I14 -> 22042.667 | F51: ='Rate Class Customer Model'!I15 -> 22460.5 | G51: ='Rate Class Customer Model'!I16 -> 23343.667 | H51: ='Rate Class Customer Model'!I17 -> 24316.583 | I51: ='Rate Class Customer Model'!I18 -> 25988.25 | J51: ='Rate Class Customer Model'!I19 -> 27915.417 | K51: ='Rate Class Customer Model'!I20 -> 29082.5 | L51: ='Rate Class Customer Model'!I21 -> 30432.524 | M51: ='Rate Class Customer Model'!I22 -> 31847.478
A52: kWh | B52: ='Rate Class Energy Model'!G3 -> 2.4403834e+08 | C52: ='Rate Class Energy Model'!G4 -> 2.4319257e+08 | D52: ='Rate Class Energy Model'!G5 -> 2.6447127e+08 | E52: ='Rate Class Energy Model'!G6 -> 2.7102131e+08 | F52: ='Rate Class Energy Model'!G7 -> 2.7683813e+08 | G52: ='Rate Class Energy Model'!G8 -> 2.792833e+08 | H52: ='Rate Class Energy Model'!G9 -> 2.8446792e+08 | I52: ='Rate Class Energy Model'!G10 -> 2.8682714e+08 | J52: ='Rate Class Energy Model'!G11 -> 3.084381e+08 | K52: ='Rate Class Energy Model'!G12 -> 3.3217444e+08 | L52: ='Rate Class Energy Model'!P34 -> 3.3814988e+08 | M52: ='Rate Class Energy Model'!P35 -> 3.5018225e+08
A53: kW from applicable classes | B53: ='Rate Class Load Model'!F2 -> 155530.45 | C53: ='Rate Class Load Model'!F3 -> 167563.95 | D53: ='Rate Class Load Model'!F4 -> 173285.1 | E53: ='Rate Class Load Model'!F5 -> 168600.03 | F53: ='Rate Class Load Model'!F6 -> 158339.51 | G53: ='Rate Class Load Model'!F7 -> 162839.46 | H53: ='Rate Class Load Model'!F8 -> 162586.09 | I53: ='Rate Class Load Model'!F9 -> 168009.63 | J53: ='Rate Class Load Model'!F10 -> 166615.14 | K53: ='Rate Class Load Model'!F11 -> 182772.63 | L53: ='Rate Class Load Model'!F12 -> 182683.47 | M53: ='Rate Class Load Model'!F13 -> 185560.55
A55: Customer/Connections | H55: ='Rate Class Load Model'!F9 -> 168009.63 | I55: =#REF! -> #REF! | L55: =#REF! -> #REF! | M55: =#REF! -> #REF!
A56: kWh | H56: ='Rate Class Load Model'!F10 -> 166615.14 | I56: =#REF! -> #REF! | L56: =#REF! -> #REF! | M56: =#REF! -> #REF!
A57: kW from applicable classes | H57: ='Rate Class Load Model'!F14 -> 0 | I57: =#REF! -> #REF! | L57: =#REF! -> #REF! | M57: =#REF! -> #REF!
H58: ='Rate Class Load Model'!F15 -> 0
A59: Customer/Connections | H59: ='Rate Class Load Model'!#REF! -> #REF! | I59: =#REF!-I55 -> #REF! | L59: =#REF!-L55 -> #REF! | M59: =#REF!-M55 -> #REF!
A60: kWh | H60: ='Rate Class Load Model'!#REF! -> #REF! | I60: =#REF!-I56 -> #REF! | L60: =#REF!-L56 -> #REF! | M60: =#REF!-M56 -> #REF!
A61: kW from applicable classes | H61: ='Rate Class Load Model'!#REF! -> #REF! | I61: =#REF!-I57 -> #REF! | L61: =#REF!-L57 -> #REF! | M61: =#REF!-M57 -> #REF!
H62: ='Rate Class Load Model'!F16 -> 0
A63: Check
A64: Customer/Connections | B64: =B47-B51 -> 0 | C64: =C47-C51 -> 0 | D64: =D47-D51 -> 0 | E64: =E47-E51 -> 0 | F64: =F47-F51 -> 0 | G64: =G47-G51 -> 0 | H64: =H47-H51 -> 0 | I64: =I47-I51 -> 0 | ... M64: =M47-M51 -> 0
A65: kWh | B65: =B48-B52 -> 0 | C65: =C48-C52 -> 0 | D65: =D48-D52 -> 0 | E65: =E48-E52 -> 0 | F65: =F48-F52 -> 0 | G65: =G48-G52 -> 0 | H65: =H48-H52 -> 0 | I65: =I48-I52 -> 0 | ... M65: =M48-M52 -> 0
A66: kW from applicable classes | B66: =B49-B53 -> 0 | C66: =C49-C53 -> 0 | D66: =D49-D53 -> 0 | E66: =E49-E53 -> 0 | F66: =F49-F53 -> 0 | G66: =G49-G53 -> 0 | H66: =H49-H53 -> 0 | I66: =I49-I53 -> 0 | ... M66: =M49-M53 -> 0

Sheet Power Purchased Model
H1: YYZ
B2: Wholesale Purchases | C2: Embedded Generation | D2: Power Purchases | E2: Shut Down Adjustment | F2: Reduced Load Adjustment | G2: Adjusted Power Purchases | H2: Heating Degree Days | I2: Cooling Degree Days | J2: Days in Month | K2: Spring Fall Flag | L2: Number of Customers | M2: Predicted Purchases | N2: Residual (kWh) | O2: % Residual | P2: % Residual (Abs) | Q2: Residual Squared | R2: Difference of Residuals | S2: Difference of Residuals Squared | U2: SUMMARY OUTPUT
A3: 42400 | B3: {=Inputs!D24:D143} -> 25159552 | D3: =B3+C3 -> 25159552 | G3: =D3-E3-F3 -> 25159552 | H3: 670.4 | I3: 0 | J3: 31 | K3: 0 | L3: {=Inputs!C24:C143} -> 16198 | M3: =$V$30+$V$31*H3+$V$32*I3+$V$33*J3+$V$34*K3+$V$35*L3 -> 25030508 | N3: =M3-G3 -> -129044 | O3: =N3/G3 -> -0.0051290262 | P3: =ABS(O3) -> 0.0051290262 | Q3: =N3*N3 -> 1.6652354e+10
A4: 42429 | B4: 23014941 | D4: =B4+C4 -> 23014941 | G4: =D4-E4-F4 -> 23014941 | H4: 588.4 | I4: 0 | J4: 29 | K4: 0 | L4: 16213 | M4: =$V$30+$V$31*H4+$V$32*I4+$V$33*J4+$V$34*K4+$V$35*L4 -> 22794203 | N4: =M4-G4 -> -220737.5 | O4: =N4/G4 -> -0.0095910523 | P4: =ABS(O4) -> 0.0095910523 | Q4: =N4*N4 -> 4.8725045e+10 | R4: =N4-N3 -> -91693.502 | S4: =R4*R4 -> 8.4076982e+09
A5: 42460 | B5: 21970551 | D5: =B5+C5 -> 21970551 | G5: =D5-E5-F5 -> 21970551 | H5: 476.1 | I5: 0 | J5: 31 | K5: 1 | L5: 16244 | M5: =$V$30+$V$31*H5+$V$32*I5+$V$33*J5+$V$34*K5+$V$35*L5 -> 21634498 | N5: =M5-G5 -> -336052.53 | O5: =N5/G5 -> -0.01529559 | P5: =ABS(O5) -> 0.01529559 | Q5: =N5*N5 -> 1.1293131e+11 | R5: =N5-N4 -> -115315.03 | S5: =R5*R5 -> 1.3297556e+10
A6: 42490 | B6: 19763963 | D6: =B6+C6 -> 19763963 | G6: =D6-E6-F6 -> 19763963 | H6: 394.8 | I6: 0 | J6: 30 | K6: 1 | L6: 16250 | M6: =$V$30+$V$31*H6+$V$32*I6+$V$33*J6+$V$34*K6+$V$35*L6 -> 20013679 | N6: =M6-G6 -> 249715.75 | O6: =N6/G6 -> 0.012634903 | P6: =ABS(O6) -> 0.012634903 | Q6: =N6*N6 -> 6.2357954e+10 | R6: =N6-N5 -> 585768.28 | S6: =R6*R6 -> 3.4312448e+11
A7: 42521 | B7: 18836973 | D7: =B7+C7 -> 18836973 | G7: =D7-E7-F7 -> 18836973 | H7: 142.5 | I7: 36.9 | J7: 31 | K7: 1 | L7: 16262 | M7: =$V$30+$V$31*H7+$V$32*I7+$V$33*J7+$V$34*K7+$V$35*L7 -> 19306202 | N7: =M7-G7 -> 469228.87 | O7: =N7/G7 -> 0.024909993 | P7: =ABS(O7) -> 0.024909993 | Q7: =N7*N7 -> 2.2017573e+11 | R7: =N7-N6 -> 219513.12 | S7: =R7*R7 -> 4.818601e+10
A8: 42551 | B8: 19211234 | D8: =B8+C8 -> 19211234 | G8: =D8-E8-F8 -> 19211234 | H8: 24.2 | I8: 83.7 | J8: 30 | K8: 0 | L8: 16270 | M8: =$V$30+$V$31*H8+$V$32*I8+$V$33*J8+$V$34*K8+$V$35*L8 -> 20537996 | N8: =M8-G8 -> 1326761.5 | O8: =N8/G8 -> 0.069061754 | P8: =ABS(O8) -> 0.069061754 | Q8: =N8*N8 -> 1.7602961e+12 | R8: =N8-N7 -> 857532.64 | S8: =R8*R8 -> 7.3536223e+11
A9: 42582 | B9: 23404500 | D9: =B9+C9 -> 23404500 | G9: =D9-E9-F9 -> 23404500 | H9: 0 | I9: 176.9 | J9: 31 | K9: 0 | L9: 16282 | M9: =$V$30+$V$31*H9+$V$32*I9+$V$33*J9+$V$34*K9+$V$35*L9 -> 25419612 | N9: =M9-G9 -> 2015112.4 | O9: =N9/G9 -> 0.086099357 | P9: =ABS(O9) -> 0.086099357 | Q9: =N9*N9 -> 4.060678e+12 | R9: =N9-N8 -> 688350.9 | S9: =R9*R9 -> 4.7382696e+11
A10: 42613 | B10: 24564804 | D10: =B10+C10 -> 24564804 | G10: =D10-E10-F10 -> 24564804 | H10: 0 | I10: 195.4 | J10: 31 | K10: 0 | L10: 16293 | M10: =$V$30+$V$31*H10+$V$32*I10+$V$33*J10+$V$34*K10+$V$35*L10 -> 26334416 | N10: =M10-G10 -> 1769612.4 | O10: =N10/G10 -> 0.072038529 | P10: =ABS(O10) -> 0.072038529 | Q10: =N10*N10 -> 3.1315279e+12 | R10: =N10-N9 -> -245500.05 | S10: =R10*R10 -> 6.0270274e+10
A11: 42643 | B11: 19239594 | D11: =B11+C11 -> 19239594 | G11: =D11-E11-F11 -> 19239594 | H11: 25.9 | I11: 69.4 | J11: 30 | K11: 1 | L11: 16324 | M11: =$V$30+$V$31*H11+$V$32*I11+$V$33*J11+$V$34*K11+$V$35*L11 -> 18888378 | N11: =M11-G11 -> -351215.55 | O11: =N11/G11 -> -0.018254832 | P11: =ABS(O11) -> 0.018254832 | Q11: =N11*N11 -> 1.2335236e+11 | R11: =N11-N10 -> -2120827.9 | S11: =R11*R11 -> 4.497911e+12
A12: 42674 | B12: 19360398 | D12: =B12+C12 -> 19360398 | G12: =D12-E12-F12 -> 19360398 | H12: 194.2 | I12: 4.1 | J12: 31 | K12: 1 | L12: 16371 | M12: =$V$30+$V$31*H12+$V$32*I12+$V$33*J12+$V$34*K12+$V$35*L12 -> 18449790 | N12: =M12-G12 -> -910608.38 | O12: =N12/G12 -> -0.04703459 | P12: =ABS(O12) -> 0.04703459 | Q12: =N12*N12 -> 8.2920762e+11 | R12: =N12-N11 -> -559392.83 | S12: =R12*R12 -> 3.1292034e+11
A13: 42704 | B13: 20317470 | D13: =B13+C13 -> 20317470 | G13: =D13-E13-F13 -> 20317470 | H13: 337.8 | I13: 0 | J13: 30 | K13: 1 | L13: 16400 | M13: =$V$30+$V$31*H13+$V$32*I13+$V$33*J13+$V$34*K13+$V$35*L13 -> 19447706 | N13: =M13-G13 -> -869764.23 | O13: =N13/G13 -> -0.042808688 | P13: =ABS(O13) -> 0.042808688 | Q13: =N13*N13 -> 7.5648982e+11 | R13: =N13-N12 -> 40844.146 | S13: =R13*R13 -> 1.6682443e+09
A14: 42735 | B14: 24538056 | D14: =B14+C14 -> 24538056 | G14: =D14-E14-F14 -> 24538056 | H14: 608 | I14: 0 | J14: 31 | K14: 0 | L14: 16426 | M14: =$V$30+$V$31*H14+$V$32*I14+$V$33*J14+$V$34*K14+$V$35*L14 -> 24471718 | N14: =M14-G14 -> -66338.031 | O14: =N14/G14 -> -0.0027034754 | P14: =ABS(O14) -> 0.0027034754 | Q14: =N14*N14 -> 4.4007343e+09 | R14: =N14-N13 -> 803426.2 | S14: =R14*R14 -> 6.4549366e+11
A15: 42766 | B15: 24383251 | D15: =B15+C15 -> 24383251 | G15: =D15-E15-F15 -> 24383251 | H15: 608.9 | I15: 0 | J15: 31 | K15: 0 | L15: 16479 | M15: =$V$30+$V$31*H15+$V$32*I15+$V$33*J15+$V$34*K15+$V$35*L15 -> 24533429 | N15: =M15-G15 -> 150178.28 | O15: =N15/G15 -> 0.0061590752 | P15: =ABS(O15) -> 0.0061590752 | Q15: =N15*N15 -> 2.2553515e+10 | R15: =N15-N14 -> 216516.31 | S15: =R15*R15 -> 4.6879311e+10
A16: 42794 | B16: 21070773 | D16: =B16+C16 -> 21070773 | G16: =D16-E16-F16 -> 21070773 | H16: 510.4 | I16: 0 | J16: 28 | K16: 0 | L16: 16483 | M16: =$V$30+$V$31*H16+$V$32*I16+$V$33*J16+$V$34*K16+$V$35*L16 -> 21466062 | N16: =M16-G16 -> 395288.52 | O16: =N16/G16 -> 0.018760039 | P16: =ABS(O16) -> 0.018760039 | Q16: =N16*N16 -> 1.5625302e+11 | R16: =N16-N15 -> 245110.25 | S16: =R16*R16 -> 6.0079034e+10 | U16: Regression Statistics
A17: 42825 | B17: 23393184 | D17: =B17+C17 -> 23393184 | G17: =D17-E17-F17 -> 23393184 | H17: 574 | I17: 0 | J17: 31 | K17: 1 | L17: 16497 | M17: =$V$30+$V$31*H17+$V$32*I17+$V$33*J17+$V$34*K17+$V$35*L17 -> 23093294 | N17: =M17-G17 -> -299889.61 | O17: =N17/G17 -> -0.01281953 | P17: =ABS(O17) -> 0.01281953 | Q17: =N17*N17 -> 8.993378e+10 | R17: =N17-N16 -> -695178.14 | S17: =R17*R17 -> 4.8327264e+11 | U17: Multiple R | V17: 0.98053868
A18: 42855 | B18: 18825985 | D18: =B18+C18 -> 18825985 | G18: =D18-E18-F18 -> 18825985 | H18: 257.5 | I18: 0 | J18: 30 | K18: 1 | L18: 16510 | M18: =$V$30+$V$31*H18+$V$32*I18+$V$33*J18+$V$34*K18+$V$35*L18 -> 18553809 | N18: =M18-G18 -> -272176.19 | O18: =N18/G18 -> -0.014457474 | P18: =ABS(O18) -> 0.014457474 | Q18: =N18*N18 -> 7.4079877e+10 | R18: =N18-N17 -> 27713.425 | S18: =R18*R18 -> 7.6803395e+08 | U18: R Square | V18: 0.96145609
A19: 42886 | B19: 18786333 | D19: =B19+C19 -> 18786333 | G19: =D19-E19-F19 -> 18786333 | H19: 177 | I19: 9 | J19: 31 | K19: 1 | L19: 16550 | M19: =$V$30+$V$31*H19+$V$32*I19+$V$33*J19+$V$34*K19+$V$35*L19 -> 18646000 | N19: =M19-G19 -> -140333.57 | O19: =N19/G19 -> -0.0074699822 | P19: =ABS(O19) -> 0.0074699822 | Q19: =N19*N19 -> 1.9693512e+10 | R19: =N19-N18 -> 131842.61 | S19: =R19*R19 -> 1.7382475e+10 | U19: Adjusted R Square | V19: 0.95976557
A20: 42916 | B20: 19567266 | D20: =B20+C20 -> 19567266 | G20: =D20-E20-F20 -> 19567266 | H20: 26.7 | I20: 68.2 | J20: 30 | K20: 0 | L20: 16589 | M20: =$V$30+$V$31*H20+$V$32*I20+$V$33*J20+$V$34*K20+$V$35*L20 -> 20115474 | N20: =M20-G20 -> 548208.03 | O20: =N20/G20 -> 0.028016588 | P20: =ABS(O20) -> 0.028016588 | Q20: =N20*N20 -> 3.0053204e+11 | R20: =N20-N19 -> 688541.6 | S20: =R20*R20 -> 4.7408954e+11 | U20: Standard Error | V20: 685943.84
A21: 42947 | B21: 22381676 | D21: =B21+C21 -> 22381676 | G21: =D21-E21-F21 -> 22381676 | H21: 0 | I21: 116.5 | J21: 31 | K21: 0 | L21: 16719 | M21: =$V$30+$V$31*H21+$V$32*I21+$V$33*J21+$V$34*K21+$V$35*L21 -> 22883662 | N21: =M21-G21 -> 501985.9 | O21: =N21/G21 -> 0.022428432 | P21: =ABS(O21) -> 0.022428432 | Q21: =N21*N21 -> 2.5198984e+11 | R21: =N21-N20 -> -46222.132 | S21: =R21*R21 -> 2.1364855e+09 | U21: Observations | V21: 120
A22: 42978 | B22: 21132316 | D22: =B22+C22 -> 21132316 | G22: =D22-E22-F22 -> 21132316 | H22: 11.6 | I22: 75.2 | J22: 31 | K22: 0 | L22: 16775 | M22: =$V$30+$V$31*H22+$V$32*I22+$V$33*J22+$V$34*K22+$V$35*L22 -> 21062485 | N22: =M22-G22 -> -69831.359 | O22: =N22/G22 -> -0.0033044821 | P22: =ABS(O22) -> 0.0033044821 | Q22: =N22*N22 -> 4.8764188e+09 | R22: =N22-N21 -> -571817.26 | S22: =R22*R22 -> 3.2697498e+11
A23: 43008 | B23: 19954544 | D23: =B23+C23 -> 19954544 | G23: =D23-E23-F23 -> 19954544 | H23: 49.1 | I23: 71.5 | J23: 30 | K23: 1 | L23: 16851 | M23: =$V$30+$V$31*H23+$V$32*I23+$V$33*J23+$V$34*K23+$V$35*L23 -> 19781899 | N23: =M23-G23 -> -172645.17 | O23: =N23/G23 -> -0.0086519226 | P23: =ABS(O23) -> 0.0086519226 | Q23: =N23*N23 -> 2.9806355e+10 | R23: =N23-N22 -> -102813.81 | S23: =R23*R23 -> 1.057068e+10 | U23: ANOVA
A24: 43039 | B24: 19246235 | D24: =B24+C24 -> 19246235 | G24: =D24-E24-F24 -> 19246235 | H24: 154 | I24: 8.1 | J24: 31 | K24: 1 | L24: 17087 | M24: =$V$30+$V$31*H24+$V$32*I24+$V$33*J24+$V$34*K24+$V$35*L24 -> 18827785 | N24: =M24-G24 -> -418449.32 | O24: =N24/G24 -> -0.02174188 | P24: =ABS(O24) -> 0.02174188 | Q24: =N24*N24 -> 1.7509984e+11 | R24: =N24-N23 -> -245804.15 | S24: =R24*R24 -> 6.0419681e+10 | V24: df | W24: SS | X24: MS | Y24: F | Z24: Significance F
A25: 43069 | B25: 21849762 | D25: =B25+C25 -> 21849762 | G25: =D25-E25-F25 -> 21849762 | H25: 414.2 | I25: 0 | J25: 30 | K25: 1 | L25: 17227 | M25: =$V$30+$V$31*H25+$V$32*I25+$V$33*J25+$V$34*K25+$V$35*L25 -> 21186205 | N25: =M25-G25 -> -663556.94 | O25: =N25/G25 -> -0.03036907 | P25: =ABS(O25) -> 0.03036907 | Q25: =N25*N25 -> 4.4030781e+11 | R25: =N25-N24 -> -245107.62 | S25: =R25*R25 -> 6.0077744e+10 | U25: Regression | V25: 5 | W25: 1.3379987e+15 | X25: 2.6759975e+14 | Y25: 568.73319 | Z25: 7.9180597e-79
A26: 43100 | B26: 26178109 | D26: =B26+C26 -> 26178109 | G26: =D26-E26-F26 -> 26178109 | H26: 718.5 | I26: 0 | J26: 31 | K26: 0 | L26: 17229 | M26: =$V$30+$V$31*H26+$V$32*I26+$V$33*J26+$V$34*K26+$V$35*L26 -> 26611465 | N26: =M26-G26 -> 433355.93 | O26: =N26/G26 -> 0.016554134 | P26: =ABS(O26) -> 0.016554134 | Q26: =N26*N26 -> 1.8779736e+11 | R26: =N26-N25 -> 1096912.9 | S26: =R26*R26 -> 1.2032178e+12 | U26: Residual | V26: 114 | W26: 5.3639161e+13 | X26: 4.7051896e+11
A27: 43131 | B27: 27156878 | D27: =B27+C27 -> 27156878 | G27: =D27-E27-F27 -> 27156878 | H27: 732.3 | I27: 0 | J27: 31 | K27: 0 | L27: 17402 | M27: =$V$30+$V$31*H27+$V$32*I27+$V$33*J27+$V$34*K27+$V$35*L27 -> 26948001 | N27: =M27-G27 -> -208876.35 | O27: =N27/G27 -> -0.0076914716 | P27: =ABS(O27) -> 0.0076914716 | Q27: =N27*N27 -> 4.3629331e+10 | R27: =N27-N26 -> -642232.29 | S27: =R27*R27 -> 4.1246231e+11 | U27: Total | V27: 119 | W27: 1.3916379e+15
A28: 43159 | B28: 22662311 | D28: =B28+C28 -> 22662311 | G28: =D28-E28-F28 -> 22662311 | H28: 555 | I28: 0 | J28: 28 | K28: 0 | L28: 17449 | M28: =$V$30+$V$31*H28+$V$32*I28+$V$33*J28+$V$34*K28+$V$35*L28 -> 22941532 | N28: =M28-G28 -> 279221.41 | O28: =N28/G28 -> 0.012320959 | P28: =ABS(O28) -> 0.012320959 | Q28: =N28*N28 -> 7.7964595e+10 | R28: =N28-N27 -> 488097.76 | S28: =R28*R28 -> 2.3823943e+11
A29: 43190 | B29: 23534615 | D29: =B29+C29 -> 23534615 | G29: =D29-E29-F29 -> 23534615 | H29: 554 | I29: 0 | J29: 31 | K29: 1 | L29: 17480 | M29: =$V$30+$V$31*H29+$V$32*I29+$V$33*J29+$V$34*K29+$V$35*L29 -> 23781495 | N29: =M29-G29 -> 246880.07 | O29: =N29/G29 -> 0.010490083 | P29: =ABS(O29) -> 0.010490083 | Q29: =N29*N29 -> 6.0949767e+10 | R29: =N29-N28 -> -32341.344 | S29: =R29*R29 -> 1.0459625e+09 | V29: Coefficients | W29: Standard Error | X29: t Stat | Y29: P-value | Z29: Lower 95% | AA29: Upper 95% | AB29: Lower 95.0% | AC29: Upper 95.0%
A30: 43220 | B30: 21736721 | D30: =B30+C30 -> 21736721 | G30: =D30-E30-F30 -> 21736721 | H30: 418.9 | I30: 0 | J30: 30 | K30: 1 | L30: 17527 | M30: =$V$30+$V$31*H30+$V$32*I30+$V$33*J30+$V$34*K30+$V$35*L30 -> 21530609 | N30: =M30-G30 -> -206112.3 | O30: =N30/G30 -> -0.0094822167 | P30: =ABS(O30) -> 0.0094822167 | Q30: =N30*N30 -> 4.2482282e+10 | R30: =N30-N29 -> -452992.37 | S30: =R30*R30 -> 2.0520209e+11 | U30: Intercept | V30: -17823014 | W30: 2488622.7 | X30: -7.1617982 | Y30: 8.3559271e-11 | Z30: -22752956 | AA30: -12893071 | AB30: -22752956 | AC30: -12893071
A31: 43251 | B31: 19774023 | D31: =B31+C31 -> 19774023 | G31: =D31-E31-F31 -> 19774023 | H31: 75.3 | I31: 43.4 | J31: 31 | K31: 1 | L31: 17556 | M31: =$V$30+$V$31*H31+$V$32*I31+$V$33*J31+$V$34*K31+$V$35*L31 -> 20021511 | N31: =M31-G31 -> 247488.64 | O31: =N31/G31 -> 0.012515847 | P31: =ABS(O31) -> 0.012515847 | Q31: =N31*N31 -> 6.1250625e+10 | R31: =N31-N30 -> 453600.94 | S31: =R31*R31 -> 2.0575381e+11 | U31: Heating Degree Days | V31: 12437.661 | W31: 474.90223 | X31: 26.18994 | Y31: 4.7363443e-50 | Z31: 11496.883 | AA31: 13378.439 | AB31: 11496.883 | AC31: 13378.439
A32: 43281 | B32: 21054154 | D32: =B32+C32 -> 21054154 | G32: =D32-E32-F32 -> 21054154 | H32: 14.8 | I32: 60.5 | J32: 30 | K32: 0 | L32: 17628 | M32: =$V$30+$V$31*H32+$V$32*I32+$V$33*J32+$V$34*K32+$V$35*L32 -> 20581405 | N32: =M32-G32 -> -472748.94 | O32: =N32/G32 -> -0.022453951 | P32: =ABS(O32) -> 0.022453951 | Q32: =N32*N32 -> 2.2349156e+11 | R32: =N32-N31 -> -720237.58 | S32: =R32*R32 -> 5.1874217e+11 | U32: Cooling Degree Days | V32: 48882.12 | W32: 2390.0553 | X32: 20.452296 | Y32: 5.9797059e-40 | Z32: 44147.438 | AA32: 53616.801 | AB32: 44147.438 | AC32: 53616.801
A33: 43312 | B33: 26045489 | D33: =B33+C33 -> 26045489 | G33: =D33-E33-F33 -> 26045489 | H33: 0 | I33: 167.8 | J33: 31 | K33: 0 | L33: 17635 | M33: =$V$30+$V$31*H33+$V$32*I33+$V$33*J33+$V$34*K33+$V$35*L33 -> 26264408 | N33: =M33-G33 -> 218919.1 | O33: =N33/G33 -> 0.0084052598 | P33: =ABS(O33) -> 0.0084052598 | Q33: =N33*N33 -> 4.7925572e+10 | R33: =N33-N32 -> 691668.04 | S33: =R33*R33 -> 4.7840468e+11 | U33: Days in Month | V33: 615356.84 | W33: 81968.296 | X33: 7.5072542 | Y33: 1.4496032e-11 | Z33: 452978.28 | AA33: 777735.4 | AB33: 452978.28 | AC33: 777735.4
A34: 43343 | B34: 25645895 | D34: =B34+C34 -> 25645895 | G34: =D34-E34-F34 -> 25645895 | H34: 1.2 | I34: 162.4 | J34: 31 | K34: 0 | L34: 17692 | M34: =$V$30+$V$31*H34+$V$32*I34+$V$33*J34+$V$34*K34+$V$35*L34 -> 26069700 | N34: =M34-G34 -> 423804.96 | O34: =N34/G34 -> 0.016525255 | P34: =ABS(O34) -> 0.016525255 | Q34: =N34*N34 -> 1.7961064e+11 | R34: =N34-N33 -> 204885.86 | S34: =R34*R34 -> 4.1978215e+10 | U34: Spring Fall Flag | V34: -1023217.3 | W34: 179897.2 | X34: -5.6877888 | Y34: 1.0092334e-07 | Z34: -1379592.3 | AA34: -666842.32 | AB34: -1379592.3 | AC34: -666842.32
A35: 43373 | B35: 21607296 | D35: =B35+C35 -> 21607296 | G35: =D35-E35-F35 -> 21607296 | H35: 41.4 | I35: 76 | J35: 30 | K35: 1 | L35: 17722 | M35: =$V$30+$V$31*H35+$V$32*I35+$V$33*J35+$V$34*K35+$V$35*L35 -> 20736299 | N35: =M35-G35 -> -870997.18 | O35: =N35/G35 -> -0.040310328 | P35: =ABS(O35) -> 0.040310328 | Q35: =N35*N35 -> 7.586361e+11 | R35: =N35-N34 -> -1294802.1 | S35: =R35*R35 -> 1.6765126e+12 | U35: Number of Customers | V35: 953.15793 | W35: 25.591573 | X35: 37.244992 | Y35: 1.191602e-65 | Z35: 902.46122 | AA35: 1003.8546 | AB35: 902.46122 | AC35: 1003.8546
A36: 43404 | B36: 21087346 | D36: =B36+C36 -> 21087346 | G36: =D36-E36-F36 -> 21087346 | H36: 289.4 | I36: 8.2 | J36: 31 | K36: 1 | L36: 17815 | M36: =$V$30+$V$31*H36+$V$32*I36+$V$33*J36+$V$34*K36+$V$35*L36 -> 21210632 | N36: =M36-G36 -> 123285.17 | O36: =N36/G36 -> 0.0058464052 | P36: =ABS(O36) -> 0.0058464052 | Q36: =N36*N36 -> 1.5199234e+10 | R36: =N36-N35 -> 994282.36 | S36: =R36*R36 -> 9.8859741e+11
A37: 43434 | B37: 23149553 | D37: =B37+C37 -> 23149553 | G37: =D37-E37-F37 -> 23149553 | H37: 494.1 | I37: 0 | J37: 30 | K37: 1 | L37: 17906 | M37: =$V$30+$V$31*H37+$V$32*I37+$V$33*J37+$V$34*K37+$V$35*L37 -> 22827168 | N37: =M37-G37 -> -322385.12 | O37: =N37/G37 -> -0.013926192 | P37: =ABS(O37) -> 0.013926192 | Q37: =N37*N37 -> 1.0393216e+11 | R37: =N37-N36 -> -445670.29 | S37: =R37*R37 -> 1.9862201e+11
A38: 43465 | B38: 25358955 | D38: =B38+C38 -> 25358955 | G38: =D38-E38-F38 -> 25358955 | H38: 563.6 | I38: 0 | J38: 31 | K38: 0 | L38: 18164 | M38: =$V$30+$V$31*H38+$V$32*I38+$V$33*J38+$V$34*K38+$V$35*L38 -> 25576074 | N38: =M38-G38 -> 217118.87 | O38: =N38/G38 -> 0.0085618222 | P38: =ABS(O38) -> 0.0085618222 | Q38: =N38*N38 -> 4.7140603e+10 | R38: =N38-N37 -> 539503.99 | S38: =R38*R38 -> 2.9106455e+11
A39: 43496 | B39: 27894969 | D39: =B39+C39 -> 27894969 | G39: =D39-E39-F39 -> 27894969 | H39: 764.5 | I39: 0 | J39: 31 | K39: 0 | L39: 18298 | M39: =$V$30+$V$31*H39+$V$32*I39+$V$33*J39+$V$34*K39+$V$35*L39 -> 28202524 | N39: =M39-G39 -> 307554.17 | O39: =N39/G39 -> 0.011025435 | P39: =ABS(O39) -> 0.011025435 | Q39: =N39*N39 -> 9.4589567e+10 | R39: =N39-N38 -> 90435.301 | S39: =R39*R39 -> 8.1785438e+09 | U39: Mean Absolute Percentage Error (MAPE) | V39: =P123 -> 0.020546447
A40: 43524 | B40: 24435651 | D40: =B40+C40 -> 24435651 | G40: =D40-E40-F40 -> 24435651 | H40: 621.7 | I40: 0 | J40: 28 | K40: 0 | L40: 18380 | M40: =$V$30+$V$31*H40+$V$32*I40+$V$33*J40+$V$34*K40+$V$35*L40 -> 24658514 | N40: =M40-G40 -> 222863.26 | O40: =N40/G40 -> 0.0091204145 | P40: =ABS(O40) -> 0.0091204145 | Q40: =N40*N40 -> 4.9668034e+10 | R40: =N40-N39 -> -84690.907 | S40: =R40*R40 -> 7.1725497e+09
A41: 43555 | B41: 25143357 | D41: =B41+C41 -> 25143357 | G41: =D41-E41-F41 -> 25143357 | H41: 593.9 | I41: 0 | J41: 31 | K41: 1 | L41: 18471 | M41: =$V$30+$V$31*H41+$V$32*I41+$V$33*J41+$V$34*K41+$V$35*L41 -> 25222338 | N41: =M41-G41 -> 78980.608 | O41: =N41/G41 -> 0.0031412117 | P41: =ABS(O41) -> 0.0031412117 | Q41: =N41*N41 -> 6.2379364e+09 | R41: =N41-N40 -> -143882.66 | S41: =R41*R41 -> 2.0702218e+10 | U41: Sum of Squared Difference of Residuals | V41: =S123 -> 4.3849779e+11
A42: 43585 | B42: 21419957 | D42: =B42+C42 -> 21419957 | G42: =D42-E42-F42 -> 21419957 | H42: 346.8 | I42: 0 | J42: 30 | K42: 1 | L42: 18480 | M42: =$V$30+$V$31*H42+$V$32*I42+$V$33*J42+$V$34*K42+$V$35*L42 -> 21542213 | N42: =M42-G42 -> 122255.96 | O42: =N42/G42 -> 0.0057075726 | P42: =ABS(O42) -> 0.0057075726 | Q42: =N42*N42 -> 1.494652e+10 | R42: =N42-N41 -> 43275.354 | S42: =R42*R42 -> 1.8727563e+09 | U42: Sum of Squared Residuals | V42: =Q123 -> 4.0608548e+11
A43: 43616 | B43: 20126480 | D43: =B43+C43 -> 20126480 | G43: =D43-E43-F43 -> 20126480 | H43: 181 | I43: 0 | J43: 31 | K43: 1 | L43: 18492 | M43: =$V$30+$V$31*H43+$V$32*I43+$V$33*J43+$V$34*K43+$V$35*L43 -> 20106844 | N43: =M43-G43 -> -19635.973 | O43: =N43/G43 -> -0.00097562879 | P43: =ABS(O43) -> 0.00097562879 | Q43: =N43*N43 -> 3.8557144e+08 | R43: =N43-N42 -> -141891.94 | S43: =R43*R43 -> 2.0133321e+10
A44: 43646 | B44: 20273580 | D44: =B44+C44 -> 20273580 | G44: =D44-E44-F44 -> 20273580 | H44: 35.5 | I44: 41.3 | J44: 30 | K44: 0 | L44: 18504 | M44: =$V$30+$V$31*H44+$V$32*I44+$V$33*J44+$V$34*K44+$V$35*L44 -> 20735294 | N44: =M44-G44 -> 461713.67 | O44: =N44/G44 -> 0.022774156 | P44: =ABS(O44) -> 0.022774156 | Q44: =N44*N44 -> 2.1317951e+11 | R44: =N44-N43 -> 481349.64 | S44: =R44*R44 -> 2.3169748e+11 | U44: Durbin-Watson Calculation | V44: =V41/V42 -> 1.0798165
A45: 43677 | B45: 26858420 | D45: =B45+C45 -> 26858420 | G45: =D45-E45-F45 -> 26858420 | H45: 0 | I45: 166.9 | J45: 31 | K45: 0 | L45: 18534 | M45: =$V$30+$V$31*H45+$V$32*I45+$V$33*J45+$V$34*K45+$V$35*L45 -> 27077303 | N45: =M45-G45 -> 218882.84 | O45: =N45/G45 -> 0.0081495056 | P45: =ABS(O45) -> 0.0081495056 | Q45: =N45*N45 -> 4.7909699e+10 | R45: =N45-N44 -> -242830.83 | S45: =R45*R45 -> 5.8966811e+10
A46: 43708 | B46: 23828311 | D46: =B46+C46 -> 23828311 | G46: =D46-E46-F46 -> 23828311 | H46: 0.9 | I46: 103.3 | J46: 31 | K46: 0 | L46: 18540 | M46: =$V$30+$V$31*H46+$V$32*I46+$V$33*J46+$V$34*K46+$V$35*L46 -> 23985313 | N46: =M46-G46 -> 157001.45 | O46: =N46/G46 -> 0.0065888619 | P46: =ABS(O46) -> 0.0065888619 | Q46: =N46*N46 -> 2.4649456e+10 | R46: =N46-N45 -> -61881.391 | S46: =R46*R46 -> 3.8293065e+09
A47: 43738 | B47: 19656049 | D47: =B47+C47 -> 19656049 | G47: =D47-E47-F47 -> 19656049 | H47: 38.4 | I47: 25.4 | J47: 30 | K47: 1 | L47: 18551 | M47: =$V$30+$V$31*H47+$V$32*I47+$V$33*J47+$V$34*K47+$V$35*L47 -> 19015719 | N47: =M47-G47 -> -640330.25 | O47: =N47/G47 -> -0.032576753 | P47: =ABS(O47) -> 0.032576753 | Q47: =N47*N47 -> 4.1002282e+11 | R47: =N47-N46 -> -797331.7 | S47: =R47*R47 -> 6.3573784e+11
A48: 43769 | B48: 20804823 | D48: =B48+C48 -> 20804823 | G48: =D48-E48-F48 -> 20804823 | H48: 236.5 | I48: 5.1 | J48: 31 | K48: 1 | L48: 18559 | M48: =$V$30+$V$31*H48+$V$32*I48+$V$33*J48+$V$34*K48+$V$35*L48 -> 21110294 | N48: =M48-G48 -> 305470.97 | O48: =N48/G48 -> 0.014682699 | P48: =ABS(O48) -> 0.014682699 | Q48: =N48*N48 -> 9.3312513e+10 | R48: =N48-N47 -> 945801.22 | S48: =R48*R48 -> 8.9453994e+11
A49: 43799 | B49: 23741040 | D49: =B49+C49 -> 23741040 | G49: =D49-E49-F49 -> 23741040 | H49: 513.3 | I49: 0 | J49: 30 | K49: 1 | L49: 18576 | M49: =$V$30+$V$31*H49+$V$32*I49+$V$33*J49+$V$34*K49+$V$35*L49 -> 23704587 | N49: =M49-G49 -> -36453.198 | O49: =N49/G49 -> -0.0015354508 | P49: =ABS(O49) -> 0.0015354508 | Q49: =N49*N49 -> 1.3288356e+09 | R49: =N49-N48 -> -341924.17 | S49: =R49*R49 -> 1.1691214e+11
A50: 43830 | B50: 26398899 | D50: =B50+C50 -> 26398899 | G50: =D50-E50-F50 -> 26398899 | H50: 582.4 | I50: 0 | J50: 31 | K50: 0 | L50: 18633 | M50: =$V$30+$V$31*H50+$V$32*I50+$V$33*J50+$V$34*K50+$V$35*L50 -> 26256933 | N50: =M50-G50 -> -141965.29 | O50: =N50/G50 -> -0.0053776974 | P50: =ABS(O50) -> 0.0053776974 | Q50: =N50*N50 -> 2.0154143e+10 | R50: =N50-N49 -> -105512.09 | S50: =R50*R50 -> 1.1132801e+10
A51: 43861 | B51: 26523402 | D51: =B51+C51 -> 26523402 | G51: =D51-E51-F51 -> 26523402 | H51: 605 | I51: 0 | J51: 31 | K51: 0 | L51: 18668 | M51: =$V$30+$V$31*H51+$V$32*I51+$V$33*J51+$V$34*K51+$V$35*L51 -> 26571385 | N51: =M51-G51 -> 47983.371 | O51: =N51/G51 -> 0.0018090957 | P51: =ABS(O51) -> 0.0018090957 | Q51: =N51*N51 -> 2.3024039e+09 | R51: =N51-N50 -> 189948.66 | S51: =R51*R51 -> 3.6080493e+10
A52: 43890 | B52: 24898397 | D52: =B52+C52 -> 24898397 | G52: =D52-E52-F52 -> 24898397 | H52: 611.8 | I52: 0 | J52: 29 | K52: 0 | L52: 18678 | M52: =$V$30+$V$31*H52+$V$32*I52+$V$33*J52+$V$34*K52+$V$35*L52 -> 25434779 | N52: =M52-G52 -> 536381.77 | O52: =N52/G52 -> 0.021542823 | P52: =ABS(O52) -> 0.021542823 | Q52: =N52*N52 -> 2.877054e+11 | R52: =N52-N51 -> 488398.4 | S52: =R52*R52 -> 2.3853299e+11
A53: 43921 | B53: 24574269 | D53: =B53+C53 -> 24574269 | G53: =D53-E53-F53 -> 24574269 | H53: 458.7 | I53: 0 | J53: 31 | K53: 1 | L53: 18695 | M53: =$V$30+$V$31*H53+$V$32*I53+$V$33*J53+$V$34*K53+$V$35*L53 -> 23754273 | N53: =M53-G53 -> -819996.14 | O53: =N53/G53 -> -0.033368078 | P53: =ABS(O53) -> 0.033368078 | Q53: =N53*N53 -> 6.7239367e+11 | R53: =N53-N52 -> -1356377.9 | S53: =R53*R53 -> 1.839761e+12
A54: 43951 | B54: 21967926 | D54: =B54+C54 -> 21967926 | G54: =D54-E54-F54 -> 21967926 | H54: 362.3 | I54: 0 | J54: 30 | K54: 1 | L54: 18695 | M54: =$V$30+$V$31*H54+$V$32*I54+$V$33*J54+$V$34*K54+$V$35*L54 -> 21939926 | N54: =M54-G54 -> -27999.809 | O54: =N54/G54 -> -0.0012745768 | P54: =ABS(O54) -> 0.0012745768 | Q54: =N54*N54 -> 7.8398929e+08 | R54: =N54-N53 -> 791996.33 | S54: =R54*R54 -> 6.2725818e+11
A55: 43982 | B55: 21748680 | D55: =B55+C55 -> 21748680 | G55: =D55-E55-F55 -> 21748680 | H55: 208.1 | I55: 24.2 | J55: 31 | K55: 1 | L55: 18714 | M55: =$V$30+$V$31*H55+$V$32*I55+$V$33*J55+$V$34*K55+$V$35*L55 -> 21838453 | N55: =M55-G55 -> 89772.613 | O55: =N55/G55 -> 0.0041277269 | P55: =ABS(O55) -> 0.0041277269 | Q55: =N55*N55 -> 8.059122e+09 | R55: =N55-N54 -> 117772.42 | S55: =R55*R55 -> 1.3870343e+10
A56: 44012 | B56: 23703343 | D56: =B56+C56 -> 23703343 | G56: =D56-E56-F56 -> 23703343 | H56: 23.8 | I56: 97.7 | J56: 30 | K56: 0 | L56: 18752 | M56: =$V$30+$V$31*H56+$V$32*I56+$V$33*J56+$V$34*K56+$V$35*L56 -> 23583108 | N56: =M56-G56 -> -120234.8 | O56: =N56/G56 -> -0.0050724827 | P56: =ABS(O56) -> 0.0050724827 | Q56: =N56*N56 -> 1.4456407e+10 | R56: =N56-N55 -> -210007.41 | S56: =R56*R56 -> 4.4103112e+10
... A110: 45657 | B110: 30765167 | D110: =B110+C110 -> 30765167 | G110: =D110-E110-F110 -> 30765167 | H110: 577 | I110: 0 | J110: 31 | K110: 0 | L110: 23506 | M110: =$V$30+$V$31*H110+$V$32*I110+$V$33*J110+$V$34*K110+$V$35*L110 -> 30834509 | N110: =M110-G110 -> 69341.879 | O110: =N110/G110 -> 0.0022539088 | P110: =ABS(O110) -> 0.0022539088 | Q110: =N110*N110 -> 4.8082961e+09 | R110: =N110-N109 -> -778035.85 | S110: =R110*R110 -> 6.0533978e+11
A111: 45688 | B111: 33201031 | D111: =B111+C111 -> 33201031 | G111: =D111-E111-F111 -> 33201031 | H111: 726.2 | I111: 0 | J111: 31 | K111: 0 | L111: 23630 | M111: =$V$30+$V$31*H111+$V$32*I111+$V$33*J111+$V$34*K111+$V$35*L111 -> 32808399 | N111: =M111-G111 -> -392631.34
A112: 45716 | B112: 29519020 | D112: =B112+C112 -> 29519020 | G112: =D112-E112-F112 -> 29519020 | H112: 643.5 | I112: 0 | J112: 28 | K112: 0 | L112: 23629 | M112: =$V$30+$V$31*H112+$V$32*I112+$V$33*J112+$V$34*K112+$V$35*L112 -> 29932781 | N112: =M112-G112 -> 413761.07
A113: 45747 | B113: 28188056 | D113: =B113+C113 -> 28188056 | G113: =D113-E113-F113 -> 28188056 | H113: 486.7 | I113: 0 | J113: 31 | K113: 1 | L113: 23808 | M113: =$V$30+$V$31*H113+$V$32*I113+$V$33*J113+$V$34*K113+$V$35*L113 -> 28976024 | N113: =M113-G113 -> 787968.01
A114: 45777 | B114: 25907145 | D114: =B114+C114 -> 25907145 | G114: =D114-E114-F114 -> 25907145 | H114: 319.6 | I114: 0 | J114: 30 | K114: 1 | L114: 23843 | M114: =$V$30+$V$31*H114+$V$32*I114+$V$33*J114+$V$34*K114+$V$35*L114 -> 26315695 | N114: =M114-G114 -> 408549.95
A115: 45808 | B115: 24336480 | D115: =B115+C115 -> 24336480 | G115: =D115-E115-F115 -> 24336480 | H115: 154.2 | I115: 5.1 | J115: 31 | K115: 1 | L115: 23871 | M115: =$V$30+$V$31*H115+$V$32*I115+$V$33*J115+$V$34*K115+$V$35*L115 -> 25149850 | N115: =M115-G115 -> 813369.82
A116: 45838 | B116: 28531695 | D116: =B116+C116 -> 28531695 | G116: =D116-E116-F116 -> 28531695 | H116: 12.8 | I116: 98.8 | J116: 30 | K116: 0 | L116: 24073 | M116: =$V$30+$V$31*H116+$V$32*I116+$V$33*J116+$V$34*K116+$V$35*L116 -> 28571817 | N116: =M116-G116 -> 40122.317
A117: 45869 | B117: 35219494 | D117: =B117+C117 -> 35219494 | G117: =D117-E117-F117 -> 35219494 | H117: 0 | I117: 183.6 | J117: 31 | K117: 0 | L117: 24104 | M117: =$V$30+$V$31*H117+$V$32*I117+$V$33*J117+$V$34*K117+$V$35*L117 -> 33202724 | N117: =M117-G117 -> -2016770.4
A118: 45900 | B118: 31952623 | D118: =B118+C118 -> 31952623 | G118: =D118-E118-F118 -> 31952623 | H118: 16.3 | I118: 121 | J118: 31 | K118: 0 | L118: 24158 | M118: =$V$30+$V$31*H118+$V$32*I118+$V$33*J118+$V$34*K118+$V$35*L118 -> 30396908 | N118: =M118-G118 -> -1555715.2
A119: 45930 | B119: 25218658 | D119: =B119+C119 -> 25218658 | G119: =D119-E119-F119 -> 25218658 | H119: 20.2 | I119: 35.3 | J119: 30 | K119: 1 | L119: 24210 | M119: =$V$30+$V$31*H119+$V$32*I119+$V$33*J119+$V$34*K119+$V$35*L119 -> 24667207 | N119: =M119-G119 -> -551450.78
A120: 45961 | B120: 25484180 | D120: =B120+C120 -> 25484180 | G120: =D120-E120-F120 -> 25484180 | H120: 203.7 | I120: 9.9 | J120: 31 | K120: 1 | L120: 24273 | M120: =$V$30+$V$31*H120+$V$32*I120+$V$33*J120+$V$34*K120+$V$35*L120 -> 26383318 | N120: =M120-G120 -> 899138.05
A121: 45991 | B121: 28123203 | D121: =B121+C121 -> 28123203 | G121: =D121-E121-F121 -> 28123203 | H121: 433.8 | I121: 0 | J121: 30 | K121: 1 | L121: 24307 | M121: =$V$30+$V$31*H121+$V$32*I121+$V$33*J121+$V$34*K121+$V$35*L121 -> 28178341 | N121: =M121-G121 -> 55137.539
A122: 46022 | B122: 33367454 | D122: =B122+C122 -> 33367454 | G122: =D122-E122-F122 -> 33367454 | H122: 665.2 | I122: 0 | J122: 31 | K122: 0 | L122: 24347 | M122: =$V$30+$V$31*H122+$V$32*I122+$V$33*J122+$V$34*K122+$V$35*L122 -> 32733116 | N122: =M122-G122 -> -634337.73
A123: 46053 | H123: =AVERAGE(H3,H15,H27,H39,H51,H63,H75,H87,H99,H111) -> 667.41 | I123: =AVERAGE(I3,I15,I27,I39,I51,I63,I75,I87,I99,I111) -> 0 | J123: 31 | K123: 0 | L123: {='Rate Class Customer Model'!P12:P23} -> 24458.193 | M123: =$V$30+$V$31*H123+$V$32*I123+$V$33*J123+$V$34*K123+$V$35*L123 -> 32866588 | N123: =M123-G123 -> 32866588 | P123: =AVERAGE(P3:P110) -> 0.020546447 | Q123: =AVERAGE(Q3:Q110) -> 4.0608548e+11 | S123: =AVERAGE(S3:S110) -> 4.3849779e+11
A124: 46081 | H124: =AVERAGE(H4,H16,H28,H40,H52,H64,H76,H88,H100,H112) -> 577.75 | I124: =AVERAGE(I4,I16,I28,I40,I52,I64,I76,I88,I100,I112) -> 0 | J124: 28 | K124: 0 | L124: 24569.895 | M124: =$V$30+$V$31*H124+$V$32*I124+$V$33*J124+$V$34*K124+$V$35*L124 -> 30011826 | N124: =M124-G124 -> 30011826
A125: 46112 | H125: =AVERAGE(H5,H17,H29,H41,H53,H65,H77,H89,H101,H113) -> 510.25 | I125: =AVERAGE(I5,I17,I29,I41,I53,I65,I77,I89,I101,I113) -> 0 | J125: 31 | K125: 1 | L125: 24682.106 | M125: =$V$30+$V$31*H125+$V$32*I125+$V$33*J125+$V$34*K125+$V$35*L125 -> 30102092 | N125: =M125-G125 -> 30102092
A126: 46142 | H126: =AVERAGE(H6,H18,H30,H42,H54,H66,H78,H90,H102,H114) -> 329.06 | I126: =AVERAGE(I6,I18,I30,I42,I54,I66,I78,I90,I102,I114) -> 0.71 | J126: 30 | K126: 1 | L126: 24794.83 | M126: =$V$30+$V$31*H126+$V$32*I126+$V$33*J126+$V$34*K126+$V$35*L126 -> 27375306 | N126: =M126-G126 -> 27375306
A127: 46173 | H127: =AVERAGE(H7,H19,H31,H43,H55,H67,H79,H91,H103,H115) -> 142.47 | I127: =AVERAGE(I7,I19,I31,I43,I55,I67,I79,I91,I103,I115) -> 21.69 | J127: 31 | K127: 1 | L127: 24908.069 | M127: =$V$30+$V$31*H127+$V$32*I127+$V$33*J127+$V$34*K127+$V$35*L127 -> 26803401 | N127: =M127-G127 -> 26803401
A128: 46203 | H128: =AVERAGE(H8,H20,H32,H44,H56,H68,H80,H92,H104,H116) -> 19.93 | I128: =AVERAGE(I8,I20,I32,I44,I56,I68,I80,I92,I104,I116) -> 77.79 | J128: 30 | K128: 0 | L128: 25021.825 | M128: =$V$30+$V$31*H128+$V$32*I128+$V$33*J128+$V$34*K128+$V$35*L128 -> 28537864 | N128: =M128-G128 -> 28537864
A129: 46234 | H129: =AVERAGE(H9,H21,H33,H45,H57,H69,H81,H93,H105,H117) -> 0.48 | I129: =AVERAGE(I9,I21,I33,I45,I57,I69,I81,I93,I105,I117) -> 154.26 | J129: 31 | K129: 0 | L129: 25136.1 | M129: =$V$30+$V$31*H129+$V$32*I129+$V$33*J129+$V$34*K129+$V$35*L129 -> 32758247 | N129: =M129-G129 -> 32758247
A130: 46265 | H130: =AVERAGE(H10,H22,H34,H46,H58,H70,H82,H94,H106,H118) -> 4.46 | I130: =AVERAGE(I10,I22,I34,I46,I58,I70,I82,I94,I106,I118) -> 127.12 | J130: 31 | K130: 0 | L130: 25250.897 | M130: =$V$30+$V$31*H130+$V$32*I130+$V$33*J130+$V$34*K130+$V$35*L130 -> 31590508 | N130: =M130-G130 -> 31590508
A131: 46295 | H131: =AVERAGE(H11,H23,H35,H47,H59,H71,H83,H95,H107,H119) -> 37.73 | I131: =AVERAGE(I11,I23,I35,I47,I59,I71,I83,I95,I107,I119) -> 47.27 | J131: 30 | K131: 1 | L131: 25366.219 | M131: =$V$30+$V$31*H131+$V$32*I131+$V$33*J131+$V$34*K131+$V$35*L131 -> 26572417 | N131: =M131-G131 -> 26572417
A132: 46326 | H132: =AVERAGE(H12,H24,H36,H48,H60,H72,H84,H96,H108,H120) -> 211.34 | I132: =AVERAGE(I12,I24,I36,I48,I60,I72,I84,I96,I108,I120) -> 6.6 | J132: 31 | K132: 1 | L132: 25482.067 | M132: =$V$30+$V$31*H132+$V$32*I132+$V$33*J132+$V$34*K132+$V$35*L132 -> 27469462 | N132: =M132-G132 -> 27469462
A133: 46356 | H133: =AVERAGE(H13,H25,H37,H49,H61,H73,H85,H97,H109,H121) -> 409.73 | I133: =AVERAGE(I13,I25,I37,I49,I61,I73,I85,I97,I109,I121) -> 0.26 | J133: 30 | K133: 1 | L133: 25598.445 | M133: =$V$30+$V$31*H133+$V$32*I133+$V$33*J133+$V$34*K133+$V$35*L133 -> 29122626 | N133: =M133-G133 -> 29122626
A134: 46387 | H134: =AVERAGE(H14,H26,H38,H50,H62,H74,H86,H98,H110,H122) -> 577.68 | I134: =AVERAGE(I14,I26,I38,I50,I62,I74,I86,I98,I110,I122) -> 0 | J134: 31 | K134: 0 | L134: 25715.353 | M134: =$V$30+$V$31*H134+$V$32*I134+$V$33*J134+$V$34*K134+$V$35*L134 -> 32948829 | N134: =M134-G134 -> 32948829
A135: 46418 | H135: =H123 -> 667.41 | I135: =I123 -> 0 | J135: 31 | K135: 0 | L135: {='Rate Class Customer Model'!Q12:Q23} -> 25787.626 | M135: =$V$30+$V$31*H135+$V$32*I135+$V$33*J135+$V$34*K135+$V$35*L135 -> 34133747 | N135: =M135-G135 -> 34133747
A136: 46446 | H136: =H124 -> 577.75 | I136: =I124 -> 0 | J136: 28 | K136: 0 | L136: 25860.102 | M136: =$V$30+$V$31*H136+$V$32*I136+$V$33*J136+$V$34*K136+$V$35*L136 -> 31241597 | N136: =M136-G136 -> 31241597
A137: 46477 | H137: =H125 -> 510.25 | I137: =I125 -> 0 | J137: 31 | K137: 1 | L137: 25932.781 | M137: =$V$30+$V$31*H137+$V$32*I137+$V$33*J137+$V$34*K137+$V$35*L137 -> 31294183 | N137: =M137-G137 -> 31294183
A138: 46507 | H138: =H126 -> 329.06 | I138: =I126 -> 0.71 | J138: 30 | K138: 1 | L138: 26005.665 | M138: =$V$30+$V$31*H138+$V$32*I138+$V$33*J138+$V$34*K138+$V$35*L138 -> 28529422 | N138: =M138-G138 -> 28529422
A139: 46538 | H139: =H127 -> 142.47 | I139: =I127 -> 21.69 | J139: 31 | K139: 1 | L139: 26078.753 | M139: =$V$30+$V$31*H139+$V$32*I139+$V$33*J139+$V$34*K139+$V$35*L139 -> 27919248 | N139: =M139-G139 -> 27919248
A140: 46568 | H140: =H128 -> 19.93 | I140: =I128 -> 77.79 | J140: 30 | K140: 0 | L140: 26152.047 | M140: =$V$30+$V$31*H140+$V$32*I140+$V$33*J140+$V$34*K140+$V$35*L140 -> 29615145 | N140: =M140-G140 -> 29615145
A141: 46599 | H141: =H129 -> 0.48 | I141: =I129 -> 154.26 | J141: 31 | K141: 0 | L141: 26225.547 | M141: =$V$30+$V$31*H141+$V$32*I141+$V$33*J141+$V$34*K141+$V$35*L141 -> 33796662 | N141: =M141-G141 -> 33796662
A142: 46630 | H142: =H130 -> 4.46 | I142: =I130 -> 127.12 | J142: 31 | K142: 0 | L142: 26299.253 | M142: =$V$30+$V$31*H142+$V$32*I142+$V$33*J142+$V$34*K142+$V$35*L142 -> 32589757 | N142: =M142-G142 -> 32589757
A143: 46660 | H143: =H131 -> 37.73 | I143: =I131 -> 47.27 | J143: 30 | K143: 1 | L143: 26373.167 | M143: =$V$30+$V$31*H143+$V$32*I143+$V$33*J143+$V$34*K143+$V$35*L143 -> 27532197 | N143: =M143-G143 -> 27532197
A144: 46691 | H144: =H132 -> 211.34 | I144: =I132 -> 6.6 | J144: 31 | K144: 1 | L144: 26447.288 | M144: =$V$30+$V$31*H144+$V$32*I144+$V$33*J144+$V$34*K144+$V$35*L144 -> 28389470 | N144: =M144-G144 -> 28389470
A145: 46721 | H145: =H133 -> 409.73 | I145: =I133 -> 0.26 | J145: 30 | K145: 1 | L145: 26521.617 | M145: =$V$30+$V$31*H145+$V$32*I145+$V$33*J145+$V$34*K145+$V$35*L145 -> 30002556 | N145: =M145-G145 -> 30002556
A146: 46752 | H146: =H134 -> 577.68 | I146: =I134 -> 0 | J146: 31 | K146: 0 | L146: 26596.156 | M146: =$V$30+$V$31*H146+$V$32*I146+$V$33*J146+$V$34*K146+$V$35*L146 -> 33788373 | N146: =M146-G146 -> 33788373
S148: Weather Normal Adjustment Factor
H149: 10-year average
H150: Geomean Monthly Escalation | N150: =SUM(M3:M146) -> 3.663965e+09
O151: Shut Downs | P151: Reduced Load | Q151: Weather Actual | R151: Weather Normal
A152: 2016 | B152: =SUM(B3:B14) -> 259382036 | D152: =SUM(D3:D14) -> 259382036 | E152: =SUM(E3:E14) -> 0 | F152: =SUM(F3:F14) -> 0 | G152: =SUM(G3:G14) -> 259382036 | N152: =SUM(M3:M14) -> 2.6232871e+08 | O152: =E152 -> 0 | P152: =F152 -> 0 | Q152: =N152+O152+P152 -> 2.6232871e+08 | R152: {='Power Purchased Model (WN)'!Q152:Q163} -> 2.5626307e+08 | S152: =R152/Q152 -> 0.97687772 | T152: =ROUND(S152,5) -> 0.97688
A153: 2017 | B153: =SUM(B15:B26) -> 2.5676943e+08 | D153: =SUM(D15:D26) -> 2.5676943e+08 | E153: =SUM(E15:E26) -> 0 | F153: =SUM(F15:F26) -> 0 | G153: =SUM(G15:G26) -> 2.5676943e+08 | N153: =SUM(M15:M26) -> 2.5676157e+08 | O153: =E153 -> 0 | P153: =F153 -> 0 | Q153: =N153+O153+P153 -> 2.5676157e+08 | R153: 2.6085481e+08 | S153: =R153/Q153 -> 1.0159418 | T153: =ROUND(S153,5) -> 1.01594
A154: 2018 | B154: =SUM(B27:B38) -> 2.7881324e+08 | D154: =SUM(D27:D38) -> 2.7881324e+08 | E154: =SUM(E27:E38) -> 0 | F154: =SUM(F27:F38) -> 0 | G154: =SUM(G27:G38) -> 2.7881324e+08 | N154: =SUM(M27:M38) -> 2.7848883e+08 | O154: =E154 -> 0 | P154: =F154 -> 0 | Q154: =N154+O154+P154 -> 2.7848883e+08 | R154: 2.7132049e+08 | S154: =R154/Q154 -> 0.97425984 | T154: =ROUND(S154,5) -> 0.97426
...

Sheet Power Purchased Model (WN)
H1: YYZ
B2: Wholesale Purchases | C2: Embedded Generation | D2: Power Purchases | E2: Shut Down Adjustment | F2: Reduced Load Adjustment | G2: Adjusted Power Purchases | H2: Heating Degree Days | I2: Cooling Degree Days | J2: Days in Month | K2: Spring Fall Flag | L2: Number of Customers | M2: Predicted Purchases | N2: Residual (kWh) | O2: % Residual | P2: % Residual (Abs) | Q2: Residual Squared | R2: Difference of Residuals | S2: Difference of Residuals Squared | U2: SUMMARY OUTPUT
A3: 42400 | B3: {=Inputs!D24:D143} -> 25159552 | D3: =B3+C3 -> 25159552 | G3: =D3-E3-F3 -> 25159552 | H3: 667.41 | I3: 0 | J3: 31 | K3: 0 | L3: {=Inputs!C24:C143} -> 16198 | M3: =$V$30+$V$31*H3+$V$32*I3+$V$33*J3+$V$34*K3+$V$35*L3 -> 24993319 | N3: =M3-G3 -> -166232.61 | O3: =N3/G3 -> -0.006607137 | P3: =ABS(O3) -> 0.006607137 | Q3: =N3*N3 -> 2.763328e+10
A4: 42429 | B4: 23014941 | D4: =B4+C4 -> 23014941 | G4: =D4-E4-F4 -> 23014941 | H4: 577.75 | I4: 0 | J4: 29 | K4: 0 | L4: 16213 | M4: =$V$30+$V$31*H4+$V$32*I4+$V$33*J4+$V$34*K4+$V$35*L4 -> 22661742 | N4: =M4-G4 -> -353198.59 | O4: =N4/G4 -> -0.015346491 | P4: =ABS(O4) -> 0.015346491 | Q4: =N4*N4 -> 1.2474924e+11 | R4: =N4-N3 -> -186965.98 | S4: =R4*R4 -> 3.4956279e+10
A5: 42460 | B5: 21970551 | D5: =B5+C5 -> 21970551 | G5: =D5-E5-F5 -> 21970551 | H5: 510.25 | I5: 0 | J5: 31 | K5: 1 | L5: 16244 | M5: =$V$30+$V$31*H5+$V$32*I5+$V$33*J5+$V$34*K5+$V$35*L5 -> 22059245 | N5: =M5-G5 -> 88693.585 | O5: =N5/G5 -> 0.0040369304 | P5: =ABS(O5) -> 0.0040369304 | Q5: =N5*N5 -> 7.866552e+09 | R5: =N5-N4 -> 441892.18 | S5: =R5*R5 -> 1.9526869e+11
A6: 42490 | B6: 19763963 | D6: =B6+C6 -> 19763963 | G6: =D6-E6-F6 -> 19763963 | H6: 329.06 | I6: 0.71 | J6: 30 | K6: 1 | L6: 16250 | M6: =$V$30+$V$31*H6+$V$32*I6+$V$33*J6+$V$34*K6+$V$35*L6 -> 19230733 | N6: =M6-G6 -> -533229.77 | O6: =N6/G6 -> -0.026979901 | P6: =ABS(O6) -> 0.026979901 | Q6: =N6*N6 -> 2.8433399e+11 | R6: =N6-N5 -> -621923.36 | S6: =R6*R6 -> 3.8678866e+11
A7: 42521 | B7: 18836973 | D7: =B7+C7 -> 18836973 | G7: =D7-E7-F7 -> 18836973 | H7: 142.47 | I7: 21.69 | J7: 31 | K7: 1 | L7: 16262 | M7: =$V$30+$V$31*H7+$V$32*I7+$V$33*J7+$V$34*K7+$V$35*L7 -> 18562332 | N7: =M7-G7 -> -274641.3 | O7: =N7/G7 -> -0.014579906 | P7: =ABS(O7) -> 0.014579906 | Q7: =N7*N7 -> 7.5427845e+10 | R7: =N7-N6 -> 258588.47 | S7: =R7*R7 -> 6.6867996e+10
A8: 42551 | B8: 19211234 | D8: =B8+C8 -> 19211234 | G8: =D8-E8-F8 -> 19211234 | H8: 19.93 | I8: 77.79 | J8: 30 | K8: 0 | L8: 16270 | M8: =$V$30+$V$31*H8+$V$32*I8+$V$33*J8+$V$34*K8+$V$35*L8 -> 20195993 | N8: =M8-G8 -> 984759.37 | O8: =N8/G8 -> 0.051259558 | P8: =ABS(O8) -> 0.051259558 | Q8: =N8*N8 -> 9.6975101e+11 | R8: =N8-N7 -> 1259400.7 | S8: =R8*R8 -> 1.5860901e+12
A9: 42582 | B9: 23404500 | D9: =B9+C9 -> 23404500 | G9: =D9-E9-F9 -> 23404500 | H9: 0.48 | I9: 154.26 | J9: 31 | K9: 0 | L9: 16282 | M9: =$V$30+$V$31*H9+$V$32*I9+$V$33*J9+$V$34*K9+$V$35*L9 -> 24318891 | N9: =M9-G9 -> 914391.29 | O9: =N9/G9 -> 0.039069038 | P9: =ABS(O9) -> 0.039069038 | Q9: =N9*N9 -> 8.3611144e+11 | R9: =N9-N8 -> -70368.076 | S9: =R9*R9 -> 4.9516661e+09
A10: 42613 | B10: 24564804 | D10: =B10+C10 -> 24564804 | G10: =D10-E10-F10 -> 24564804 | H10: 4.46 | I10: 127.12 | J10: 31 | K10: 0 | L10: 16293 | M10: =$V$30+$V$31*H10+$V$32*I10+$V$33*J10+$V$34*K10+$V$35*L10 -> 23052217 | N10: =M10-G10 -> -1512586.8 | O10: =N10/G10 -> -0.061575366 | P10: =ABS(O10) -> 0.061575366 | Q10: =N10*N10 -> 2.2879189e+12 | R10: =N10-N9 -> -2426978.1 | S10: =R10*R10 -> 5.8902227e+12
A11: 42643 | B11: 19239594 | D11: =B11+C11 -> 19239594 | G11: =D11-E11-F11 -> 19239594 | H11: 37.73 | I11: 47.27 | J11: 30 | K11: 1 | L11: 16324 | M11: =$V$30+$V$31*H11+$V$32*I11+$V$33*J11+$V$34*K11+$V$35*L11 -> 17953755 | N11: =M11-G11 -> -1285839.3 | O11: =N11/G11 -> -0.066832976 | P11: =ABS(O11) -> 0.066832976 | Q11: =N11*N11 -> 1.6533828e+12 | R11: =N11-N10 -> 226747.48 | S11: =R11*R11 -> 5.141442e+10
A12: 42674 | B12: 19360398 | D12: =B12+C12 -> 19360398 | G12: =D12-E12-F12 -> 19360398 | H12: 211.34 | I12: 6.6 | J12: 31 | K12: 1 | L12: 16371 | M12: =$V$30+$V$31*H12+$V$32*I12+$V$33*J12+$V$34*K12+$V$35*L12 -> 18785176 | N12: =M12-G12 -> -575221.57 | O12: =N12/G12 -> -0.029711247 | P12: =ABS(O12) -> 0.029711247 | Q12: =N12*N12 -> 3.3087986e+11 | R12: =N12-N11 -> 710617.76 | S12: =R12*R12 -> 5.0497759e+11
A13: 42704 | B13: 20317470 | D13: =B13+C13 -> 20317470 | G13: =D13-E13-F13 -> 20317470 | H13: 409.73 | I13: 0.26 | J13: 30 | K13: 1 | L13: 16400 | M13: =$V$30+$V$31*H13+$V$32*I13+$V$33*J13+$V$34*K13+$V$35*L13 -> 20355056 | N13: =M13-G13 -> 37586.063 | O13: =N13/G13 -> 0.0018499382 | P13: =ABS(O13) -> 0.0018499382 | Q13: =N13*N13 -> 1.4127122e+09 | R13: =N13-N12 -> 612807.64 | S13: =R13*R13 -> 3.755332e+11
A14: 42735 | B14: 24538056 | D14: =B14+C14 -> 24538056 | G14: =D14-E14-F14 -> 24538056 | H14: 577.68 | I14: 0 | J14: 31 | K14: 0 | L14: 16426 | M14: =$V$30+$V$31*H14+$V$32*I14+$V$33*J14+$V$34*K14+$V$35*L14 -> 24094608 | N14: =M14-G14 -> -443447.91 | O14: =N14/G14 -> -0.018071843 | P14: =ABS(O14) -> 0.018071843 | Q14: =N14*N14 -> 1.9664605e+11 | R14: =N14-N13 -> -481033.97 | S14: =R14*R14 -> 2.3139368e+11
A15: 42766 | B15: 24383251 | D15: =B15+C15 -> 24383251 | G15: =D15-E15-F15 -> 24383251 | H15: =H3 -> 667.41 | I15: =I3 -> 0 | J15: 31 | K15: 0 | L15: 16479 | M15: =$V$30+$V$31*H15+$V$32*I15+$V$33*J15+$V$34*K15+$V$35*L15 -> 25261157 | N15: =M15-G15 -> 877905.81 | O15: =N15/G15 -> 0.036004461 | P15: =ABS(O15) -> 0.036004461 | Q15: =N15*N15 -> 7.7071862e+11 | R15: =N15-N14 -> 1321353.7 | S15: =R15*R15 -> 1.7459757e+12
A16: 42794 | B16: 21070773 | D16: =B16+C16 -> 21070773 | G16: =D16-E16-F16 -> 21070773 | H16: =H4 -> 577.75 | I16: =I4 -> 0 | J16: 28 | K16: 0 | L16: 16483 | M16: =$V$30+$V$31*H16+$V$32*I16+$V$33*J16+$V$34*K16+$V$35*L16 -> 22303738 | N16: =M16-G16 -> 1232965 | O16: =N16/G16 -> 0.058515412 | P16: =ABS(O16) -> 0.058515412 | Q16: =N16*N16 -> 1.5202026e+12 | R16: =N16-N15 -> 355059.17 | S16: =R16*R16 -> 1.2606701e+11 | U16: Regression Statistics
A17: 42825 | B17: 23393184 | D17: =B17+C17 -> 23393184 | G17: =D17-E17-F17 -> 23393184 | H17: =H5 -> 510.25 | I17: =I5 -> 0 | J17: 31 | K17: 1 | L17: 16497 | M17: =$V$30+$V$31*H17+$V$32*I17+$V$33*J17+$V$34*K17+$V$35*L17 -> 22300394 | N17: =M17-G17 -> -1092790.5 | O17: =N17/G17 -> -0.046714055 | P17: =ABS(O17) -> 0.046714055 | Q17: =N17*N17 -> 1.1941911e+12 | R17: =N17-N16 -> -2325755.5 | S17: =R17*R17 -> 5.4091385e+12 | U17: Multiple R | V17: 0.98053868
A18: 42855 | B18: 18825985 | D18: =B18+C18 -> 18825985 | G18: =D18-E18-F18 -> 18825985 | H18: =H6 -> 329.06 | I18: =I6 -> 0.71 | J18: 30 | K18: 1 | L18: 16510 | M18: =$V$30+$V$31*H18+$V$32*I18+$V$33*J18+$V$34*K18+$V$35*L18 -> 19478554 | N18: =M18-G18 -> 652569.13 | O18: =N18/G18 -> 0.034663213 | P18: =ABS(O18) -> 0.034663213 | Q18: =N18*N18 -> 4.2584647e+11 | R18: =N18-N17 -> 1745359.6 | S18: =R18*R18 -> 3.0462802e+12 | U18: R Square | V18: 0.96145609
A19: 42886 | B19: 18786333 | D19: =B19+C19 -> 18786333 | G19: =D19-E19-F19 -> 18786333 | H19: =H7 -> 142.47 | I19: =I7 -> 21.69 | J19: 31 | K19: 1 | L19: 16550 | M19: =$V$30+$V$31*H19+$V$32*I19+$V$33*J19+$V$34*K19+$V$35*L19 -> 18836841 | N19: =M19-G19 -> 50508.096 | O19: =N19/G19 -> 0.0026885553 | P19: =ABS(O19) -> 0.0026885553 | Q19: =N19*N19 -> 2.5510678e+09 | R19: =N19-N18 -> -602061.03 | S19: =R19*R19 -> 3.6247749e+11 | U19: Adjusted R Square | V19: 0.95976557
A20: 42916 | B20: 19567266 | D20: =B20+C20 -> 19567266 | G20: =D20-E20-F20 -> 19567266 | H20: =H8 -> 19.93 | I20: =I8 -> 77.79 | J20: 30 | K20: 0 | L20: 16589 | M20: =$V$30+$V$31*H20+$V$32*I20+$V$33*J20+$V$34*K20+$V$35*L20 -> 20500051 | N20: =M20-G20 -> 932784.59 | O20: =N20/G20 -> 0.047670665 | P20: =ABS(O20) -> 0.047670665 | Q20: =N20*N20 -> 8.700871e+11 | R20: =N20-N19 -> 882276.5 | S20: =R20*R20 -> 7.7841182e+11 | U20: Standard Error | V20: 685943.84
A21: 42947 | B21: 22381676 | D21: =B21+C21 -> 22381676 | G21: =D21-E21-F21 -> 22381676 | H21: =H9 -> 0.48 | I21: =I9 -> 154.26 | J21: 31 | K21: 0 | L21: 16719 | M21: =$V$30+$V$31*H21+$V$32*I21+$V$33*J21+$V$34*K21+$V$35*L21 -> 24735421 | N21: =M21-G21 -> 2353744.8 | O21: =N21/G21 -> 0.10516392 | P21: =ABS(O21) -> 0.10516392 | Q21: =N21*N21 -> 5.5401147e+12 | R21: =N21-N20 -> 1420960.2 | S21: =R21*R21 -> 2.0191279e+12 | U21: Observations | V21: 120
A22: 42978 | B22: 21132316 | D22: =B22+C22 -> 21132316 | G22: =D22-E22-F22 -> 21132316 | H22: =H10 -> 4.46 | I22: =I10 -> 127.12 | J22: 31 | K22: 0 | L22: 16775 | M22: =$V$30+$V$31*H22+$V$32*I22+$V$33*J22+$V$34*K22+$V$35*L22 -> 23511639 | N22: =M22-G22 -> 2379323.4 | O22: =N22/G22 -> 0.1125917 | P22: =ABS(O22) -> 0.1125917 | Q22: =N22*N22 -> 5.6611798e+12 | R22: =N22-N21 -> 25578.581 | S22: =R22*R22 -> 6.5426382e+08
A23: 43008 | B23: 19954544 | D23: =B23+C23 -> 19954544 | G23: =D23-E23-F23 -> 19954544 | H23: =H11 -> 37.73 | I23: =I11 -> 47.27 | J23: 30 | K23: 1 | L23: 16851 | M23: =$V$30+$V$31*H23+$V$32*I23+$V$33*J23+$V$34*K23+$V$35*L23 -> 18456069 | N23: =M23-G23 -> -1498475.1 | O23: =N23/G23 -> -0.075094431 | P23: =ABS(O23) -> 0.075094431 | Q23: =N23*N23 -> 2.2454277e+12 | R23: =N23-N22 -> -3877798.5 | S23: =R23*R23 -> 1.5037321e+13 | U23: ANOVA
A24: 43039 | B24: 19246235 | D24: =B24+C24 -> 19246235 | G24: =D24-E24-F24 -> 19246235 | H24: =H12 -> 211.34 | I24: =I12 -> 6.6 | J24: 31 | K24: 1 | L24: 17087 | M24: =$V$30+$V$31*H24+$V$32*I24+$V$33*J24+$V$34*K24+$V$35*L24 -> 19467638 | N24: =M24-G24 -> 221402.97 | O24: =N24/G24 -> 0.011503703 | P24: =ABS(O24) -> 0.011503703 | Q24: =N24*N24 -> 4.9019276e+10 | R24: =N24-N23 -> 1719878.1 | S24: =R24*R24 -> 2.9579807e+12 | V24: df | W24: SS | X24: MS | Y24: F | Z24: Significance F
A25: 43069 | B25: 21849762 | D25: =B25+C25 -> 21849762 | G25: =D25-E25-F25 -> 21849762 | H25: =H13 -> 409.73 | I25: =I13 -> 0.26 | J25: 30 | K25: 1 | L25: 17227 | M25: =$V$30+$V$31*H25+$V$32*I25+$V$33*J25+$V$34*K25+$V$35*L25 -> 21143318 | N25: =M25-G25 -> -706443.93 | O25: =N25/G25 -> -0.032331883 | P25: =ABS(O25) -> 0.032331883 | Q25: =N25*N25 -> 4.9906303e+11 | R25: =N25-N24 -> -927846.9 | S25: =R25*R25 -> 8.6089988e+11 | U25: Regression | V25: 5 | W25: 1.3379987e+15 | X25: 2.6759975e+14 | Y25: 568.73319 | Z25: 7.9180597e-79
A26: 43100 | B26: 26178109 | D26: =B26+C26 -> 26178109 | G26: =D26-E26-F26 -> 26178109 | H26: =H14 -> 577.68 | I26: =I14 -> 0 | J26: 31 | K26: 0 | L26: 17229 | M26: =$V$30+$V$31*H26+$V$32*I26+$V$33*J26+$V$34*K26+$V$35*L26 -> 24859994 | N26: =M26-G26 -> -1318115.5 | O26: =N26/G26 -> -0.050351821 | P26: =ABS(O26) -> 0.050351821 | Q26: =N26*N26 -> 1.7374284e+12 | R26: =N26-N25 -> -611671.54 | S26: =R26*R26 -> 3.7414207e+11 | U26: Residual | V26: 114 | W26: 5.3639161e+13 | X26: 4.7051896e+11
A27: 43131 | B27: 27156878 | D27: =B27+C27 -> 27156878 | G27: =D27-E27-F27 -> 27156878 | H27: =H15 -> 667.41 | I27: =I15 -> 0 | J27: 31 | K27: 0 | L27: 17402 | M27: =$V$30+$V$31*H27+$V$32*I27+$V$33*J27+$V$34*K27+$V$35*L27 -> 26140922 | N27: =M27-G27 -> -1015956.2 | O27: =N27/G27 -> -0.03741064 | P27: =ABS(O27) -> 0.03741064 | Q27: =N27*N27 -> 1.0321669e+12 | R27: =N27-N26 -> 302159.3 | S27: =R27*R27 -> 9.1300243e+10 | U27: Total | V27: 119 | W27: 1.3916379e+15
A28: 43159 | B28: 22662311 | D28: =B28+C28 -> 22662311 | G28: =D28-E28-F28 -> 22662311 | H28: =H16 -> 577.75 | I28: =I16 -> 0 | J28: 28 | K28: 0 | L28: 17449 | M28: =$V$30+$V$31*H28+$V$32*I28+$V$33*J28+$V$34*K28+$V$35*L28 -> 23224489 | N28: =M28-G28 -> 562178.19 | O28: =N28/G28 -> 0.024806747 | P28: =ABS(O28) -> 0.024806747 | Q28: =N28*N28 -> 3.1604432e+11 | R28: =N28-N27 -> 1578134.4 | S28: =R28*R28 -> 2.4905081e+12
A29: 43190 | B29: 23534615 | D29: =B29+C29 -> 23534615 | G29: =D29-E29-F29 -> 23534615 | H29: =H17 -> 510.25 | I29: =I17 -> 0 | J29: 31 | K29: 1 | L29: 17480 | M29: =$V$30+$V$31*H29+$V$32*I29+$V$33*J29+$V$34*K29+$V$35*L29 -> 23237348 | N29: =M29-G29 -> -297267.6 | O29: =N29/G29 -> -0.012631079 | P29: =ABS(O29) -> 0.012631079 | Q29: =N29*N29 -> 8.8368024e+10 | R29: =N29-N28 -> -859445.79 | S29: =R29*R29 -> 7.3864707e+11 | V29: Coefficients | W29: Standard Error | X29: t Stat | Y29: P-value | Z29: Lower 95% | AA29: Upper 95% | AB29: Lower 95.0% | AC29: Upper 95.0%
A30: 43220 | B30: 21736721 | D30: =B30+C30 -> 21736721 | G30: =D30-E30-F30 -> 21736721 | H30: =H18 -> 329.06 | I30: =I18 -> 0.71 | J30: 30 | K30: 1 | L30: 17527 | M30: =$V$30+$V$31*H30+$V$32*I30+$V$33*J30+$V$34*K30+$V$35*L30 -> 20447916 | N30: =M30-G30 -> -1288805.4 | O30: =N30/G30 -> -0.059291621 | P30: =ABS(O30) -> 0.059291621 | Q30: =N30*N30 -> 1.6610195e+12 | R30: =N30-N29 -> -991537.85 | S30: =R30*R30 -> 9.8314731e+11 | U30: Intercept | V30: -17823014 | W30: 2488622.7 | X30: -7.1617982 | Y30: 8.3559271e-11 | Z30: -22752956 | AA30: -12893071 | AB30: -22752956 | AC30: -12893071
A31: 43251 | B31: 19774023 | D31: =B31+C31 -> 19774023 | G31: =D31-E31-F31 -> 19774023 | H31: =H19 -> 142.47 | I31: =I19 -> 21.69 | J31: 31 | K31: 1 | L31: 17556 | M31: =$V$30+$V$31*H31+$V$32*I31+$V$33*J31+$V$34*K31+$V$35*L31 -> 19795718 | N31: =M31-G31 -> 21695.498 | O31: =N31/G31 -> 0.0010971717 | P31: =ABS(O31) -> 0.0010971717 | Q31: =N31*N31 -> 4.7069462e+08 | R31: =N31-N30 -> 1310500.9 | S31: =R31*R31 -> 1.7174127e+12 | U31: Heating Degree Days | V31: 12437.661 | W31: 474.90223 | X31: 26.18994 | Y31: 4.7363443e-50 | Z31: 11496.883 | AA31: 13378.439 | AB31: 11496.883 | AC31: 13378.439
A32: 43281 | B32: 21054154 | D32: =B32+C32 -> 21054154 | G32: =D32-E32-F32 -> 21054154 | H32: =H20 -> 19.93 | I32: =I20 -> 77.79 | J32: 30 | K32: 0 | L32: 17628 | M32: =$V$30+$V$31*H32+$V$32*I32+$V$33*J32+$V$34*K32+$V$35*L32 -> 21490382 | N32: =M32-G32 -> 436228.11 | O32: =N32/G32 -> 0.020719337 | P32: =ABS(O32) -> 0.020719337 | Q32: =N32*N32 -> 1.9029496e+11 | R32: =N32-N31 -> 414532.61 | S32: =R32*R32 -> 1.7183729e+11 | U32: Cooling Degree Days | V32: 48882.12 | W32: 2390.0553 | X32: 20.452296 | Y32: 5.9797059e-40 | Z32: 44147.438 | AA32: 53616.801 | AB32: 44147.438 | AC32: 53616.801
A33: 43312 | B33: 26045489 | D33: =B33+C33 -> 26045489 | G33: =D33-E33-F33 -> 26045489 | H33: =H21 -> 0.48 | I33: =I21 -> 154.26 | J33: 31 | K33: 0 | L33: 17635 | M33: =$V$30+$V$31*H33+$V$32*I33+$V$33*J33+$V$34*K33+$V$35*L33 -> 25608514 | N33: =M33-G33 -> -436974.72 | O33: =N33/G33 -> -0.016777367 | P33: =ABS(O33) -> 0.016777367 | Q33: =N33*N33 -> 1.9094691e+11 | R33: =N33-N32 -> -873202.83 | S33: =R33*R33 -> 7.6248319e+11 | U33: Days in Month | V33: 615356.84 | W33: 81968.296 | X33: 7.5072542 | Y33: 1.4496032e-11 | Z33: 452978.28 | AA33: 777735.4 | AB33: 452978.28 | AC33: 777735.4
A34: 43343 | B34: 25645895 | D34: =B34+C34 -> 25645895 | G34: =D34-E34-F34 -> 25645895 | H34: =H22 -> 4.46 | I34: =I22 -> 127.12 | J34: 31 | K34: 0 | L34: 17692 | M34: =$V$30+$V$31*H34+$V$32*I34+$V$33*J34+$V$34*K34+$V$35*L34 -> 24385685 | N34: =M34-G34 -> -1260209.5 | O34: =N34/G34 -> -0.049138838 | P34: =ABS(O34) -> 0.049138838 | Q34: =N34*N34 -> 1.5881279e+12 | R34: =N34-N33 -> -823234.73 | S34: =R34*R34 -> 6.7771541e+11 | U34: Spring Fall Flag | V34: -1023217.3 | W34: 179897.2 | X34: -5.6877888 | Y34: 1.0092334e-07 | Z34: -1379592.3 | AA34: -666842.32 | AB34: -1379592.3 | AC34: -666842.32
A35: 43373 | B35: 21607296 | D35: =B35+C35 -> 21607296 | G35: =D35-E35-F35 -> 21607296 | H35: =H23 -> 37.73 | I35: =I23 -> 47.27 | J35: 30 | K35: 1 | L35: 17722 | M35: =$V$30+$V$31*H35+$V$32*I35+$V$33*J35+$V$34*K35+$V$35*L35 -> 19286269 | N35: =M35-G35 -> -2321026.7 | O35: =N35/G35 -> -0.10741866 | P35: =ABS(O35) -> 0.10741866 | Q35: =N35*N35 -> 5.3871649e+12 | R35: =N35-N34 -> -1060817.2 | S35: =R35*R35 -> 1.1253332e+12 | U35: Number of Customers | V35: 953.15793 | W35: 25.591573 | X35: 37.244992 | Y35: 1.191602e-65 | Z35: 902.46122 | AA35: 1003.8546 | AB35: 902.46122 | AC35: 1003.8546
A36: 43404 | B36: 21087346 | D36: =B36+C36 -> 21087346 | G36: =D36-E36-F36 -> 21087346 | H36: =H24 -> 211.34 | I36: =I24 -> 6.6 | J36: 31 | K36: 1 | L36: 17815 | M36: =$V$30+$V$31*H36+$V$32*I36+$V$33*J36+$V$34*K36+$V$35*L36 -> 20161536 | N36: =M36-G36 -> -925810.02 | O36: =N36/G36 -> -0.043903581 | P36: =ABS(O36) -> 0.043903581 | Q36: =N36*N36 -> 8.571242e+11 | R36: =N36-N35 -> 1395216.7 | S36: =R36*R36 -> 1.9466296e+12
A37: 43434 | B37: 23149553 | D37: =B37+C37 -> 23149553 | G37: =D37-E37-F37 -> 23149553 | H37: =H25 -> 409.73 | I37: =I25 -> 0.26 | J37: 30 | K37: 1 | L37: 17906 | M37: =$V$30+$V$31*H37+$V$32*I37+$V$33*J37+$V$34*K37+$V$35*L37 -> 21790512 | N37: =M37-G37 -> -1359041.2 | O37: =N37/G37 -> -0.058707017 | P37: =ABS(O37) -> 0.058707017 | Q37: =N37*N37 -> 1.846993e+12 | R37: =N37-N36 -> -433231.19 | S37: =R37*R37 -> 1.8768926e+11
A38: 43465 | B38: 25358955 | D38: =B38+C38 -> 25358955 | G38: =D38-E38-F38 -> 25358955 | H38: =H26 -> 577.68 | I38: =I26 -> 0 | J38: 31 | K38: 0 | L38: 18164 | M38: =$V$30+$V$31*H38+$V$32*I38+$V$33*J38+$V$34*K38+$V$35*L38 -> 25751197 | N38: =M38-G38 -> 392241.13 | O38: =N38/G38 -> 0.015467559 | P38: =ABS(O38) -> 0.015467559 | Q38: =N38*N38 -> 1.5385311e+11 | R38: =N38-N37 -> 1751282.3 | S38: =R38*R38 -> 3.0669899e+12
A39: 43496 | B39: 27894969 | D39: =B39+C39 -> 27894969 | G39: =D39-E39-F39 -> 27894969 | H39: =H27 -> 667.41 | I39: =I27 -> 0 | J39: 31 | K39: 0 | L39: 18298 | M39: =$V$30+$V$31*H39+$V$32*I39+$V$33*J39+$V$34*K39+$V$35*L39 -> 26994951 | N39: =M39-G39 -> -900018.32 | O39: =N39/G39 -> -0.032264539 | P39: =ABS(O39) -> 0.032264539 | Q39: =N39*N39 -> 8.1003298e+11 | R39: =N39-N38 -> -1292259.5 | S39: =R39*R39 -> 1.6699345e+12 | U39: Mean Absolute Percentage Error (MAPE) | V39: =P123 -> 0.035468927
A40: 43524 | B40: 24435651 | D40: =B40+C40 -> 24435651 | G40: =D40-E40-F40 -> 24435651 | H40: =H28 -> 577.75 | I40: =I28 -> 0 | J40: 28 | K40: 0 | L40: 18380 | M40: =$V$30+$V$31*H40+$V$32*I40+$V$33*J40+$V$34*K40+$V$35*L40 -> 24111879 | N40: =M40-G40 -> -323771.93 | O40: =N40/G40 -> -0.013249982 | P40: =ABS(O40) -> 0.013249982 | Q40: =N40*N40 -> 1.0482826e+11 | R40: =N40-N39 -> 576246.39 | S40: =R40*R40 -> 3.320599e+11
A41: 43555 | B41: 25143357 | D41: =B41+C41 -> 25143357 | G41: =D41-E41-F41 -> 25143357 | H41: =H29 -> 510.25 | I41: =I29 -> 0 | J41: 31 | K41: 1 | L41: 18471 | M41: =$V$30+$V$31*H41+$V$32*I41+$V$33*J41+$V$34*K41+$V$35*L41 -> 24181927 | N41: =M41-G41 -> -961429.72 | O41: =N41/G41 -> -0.038237922 | P41: =ABS(O41) -> 0.038237922 | Q41: =N41*N41 -> 9.2434711e+11 | R41: =N41-N40 -> -637657.79 | S41: =R41*R41 -> 4.0660746e+11 | U41: Sum of Squared Difference of Residuals | V41: =S123 -> 1.7700483e+12
A42: 43585 | B42: 21419957 | D42: =B42+C42 -> 21419957 | G42: =D42-E42-F42 -> 21419957 | H42: =H30 -> 329.06 | I42: =I30 -> 0.71 | J42: 30 | K42: 1 | L42: 18480 | M42: =$V$30+$V$31*H42+$V$32*I42+$V$33*J42+$V$34*K42+$V$35*L42 -> 21356275 | N42: =M42-G42 -> -63681.836 | O42: =N42/G42 -> -0.0029730142 | P42: =ABS(O42) -> 0.0029730142 | Q42: =N42*N42 -> 4.0553763e+09 | R42: =N42-N41 -> 897747.89 | S42: =R42*R42 -> 8.0595127e+11 | U42: Sum of Squared Residuals | V42: =Q123 -> 1.1889045e+12
A43: 43616 | B43: 20126480 | D43: =B43+C43 -> 20126480 | G43: =D43-E43-F43 -> 20126480 | H43: =H31 -> 142.47 | I43: =I31 -> 21.69 | J43: 31 | K43: 1 | L43: 18492 | M43: =$V$30+$V$31*H43+$V$32*I43+$V$33*J43+$V$34*K43+$V$35*L43 -> 20687874 | N43: =M43-G43 -> 561394.13 | O43: =N43/G43 -> 0.02789331 | P43: =ABS(O43) -> 0.02789331 | Q43: =N43*N43 -> 3.1516337e+11 | R43: =N43-N42 -> 625075.97 | S43: =R43*R43 -> 3.9071996e+11
A44: 43646 | B44: 20273580 | D44: =B44+C44 -> 20273580 | G44: =D44-E44-F44 -> 20273580 | H44: =H32 -> 19.93 | I44: =I32 -> 77.79 | J44: 30 | K44: 0 | L44: 18504 | M44: =$V$30+$V$31*H44+$V$32*I44+$V$33*J44+$V$34*K44+$V$35*L44 -> 22325348 | N44: =M44-G44 -> 2051767.8 | O44: =N44/G44 -> 0.10120402 | P44: =ABS(O44) -> 0.10120402 | Q44: =N44*N44 -> 4.2097513e+12 | R44: =N44-N43 -> 1490373.7 | S44: =R44*R44 -> 2.2212138e+12 | U44: Durbin-Watson Calculation | V44: =V41/V42 -> 1.4888062
A45: 43677 | B45: 26858420 | D45: =B45+C45 -> 26858420 | G45: =D45-E45-F45 -> 26858420 | H45: =H33 -> 0.48 | I45: =I33 -> 154.26 | J45: 31 | K45: 0 | L45: 18534 | M45: =$V$30+$V$31*H45+$V$32*I45+$V$33*J45+$V$34*K45+$V$35*L45 -> 26465403 | N45: =M45-G45 -> -393017.07 | O45: =N45/G45 -> -0.014632919 | P45: =ABS(O45) -> 0.014632919 | Q45: =N45*N45 -> 1.5446242e+11 | R45: =N45-N44 -> -2444784.9 | S45: =R45*R45 -> 5.9769733e+12
A46: 43708 | B46: 23828311 | D46: =B46+C46 -> 23828311 | G46: =D46-E46-F46 -> 23828311 | H46: =H34 -> 4.46 | I46: =I34 -> 127.12 | J46: 31 | K46: 0 | L46: 18540 | M46: =$V$30+$V$31*H46+$V$32*I46+$V$33*J46+$V$34*K46+$V$35*L46 -> 25193963 | N46: =M46-G46 -> 1365651.6 | O46: =N46/G46 -> 0.057312144 | P46: =ABS(O46) -> 0.057312144 | Q46: =N46*N46 -> 1.8650043e+12 | R46: =N46-N45 -> 1758668.7 | S46: =R46*R46 -> 3.0929156e+12
A47: 43738 | B47: 19656049 | D47: =B47+C47 -> 19656049 | G47: =D47-E47-F47 -> 19656049 | H47: =H35 -> 37.73 | I47: =I35 -> 47.27 | J47: 30 | K47: 1 | L47: 18551 | M47: =$V$30+$V$31*H47+$V$32*I47+$V$33*J47+$V$34*K47+$V$35*L47 -> 20076437 | N47: =M47-G47 -> 420388.48 | O47: =N47/G47 -> 0.021387232 | P47: =ABS(O47) -> 0.021387232 | Q47: =N47*N47 -> 1.7672647e+11 | R47: =N47-N46 -> -945263.14 | S47: =R47*R47 -> 8.935224e+11
A48: 43769 | B48: 20804823 | D48: =B48+C48 -> 20804823 | G48: =D48-E48-F48 -> 20804823 | H48: =H36 -> 211.34 | I48: =I36 -> 6.6 | J48: 31 | K48: 1 | L48: 18559 | M48: =$V$30+$V$31*H48+$V$32*I48+$V$33*J48+$V$34*K48+$V$35*L48 -> 20870686 | N48: =M48-G48 -> 65862.602 | O48: =N48/G48 -> 0.0031657371 | P48: =ABS(O48) -> 0.0031657371 | Q48: =N48*N48 -> 4.3378823e+09 | R48: =N48-N47 -> -354525.88 | S48: =R48*R48 -> 1.256886e+11
A49: 43799 | B49: 23741040 | D49: =B49+C49 -> 23741040 | G49: =D49-E49-F49 -> 23741040 | H49: =H37 -> 409.73 | I49: =I37 -> 0.26 | J49: 30 | K49: 1 | L49: 18576 | M49: =$V$30+$V$31*H49+$V$32*I49+$V$33*J49+$V$34*K49+$V$35*L49 -> 22429128 | N49: =M49-G49 -> -1311912.4 | O49: =N49/G49 -> -0.055259263 | P49: =ABS(O49) -> 0.055259263 | Q49: =N49*N49 -> 1.7211141e+12 | R49: =N49-N48 -> -1377775 | S49: =R49*R49 -> 1.8982639e+12
A50: 43830 | B50: 26398899 | D50: =B50+C50 -> 26398899 | G50: =D50-E50-F50 -> 26398899 | H50: =H38 -> 577.68 | I50: =I38 -> 0 | J50: 31 | K50: 0 | L50: 18633 | M50: =$V$30+$V$31*H50+$V$32*I50+$V$33*J50+$V$34*K50+$V$35*L50 -> 26198228 | N50: =M50-G50 -> -200671.05 | O50: =N50/G50 -> -0.0076014931 | P50: =ABS(O50) -> 0.0076014931 | Q50: =N50*N50 -> 4.0268869e+10 | R50: =N50-N49 -> 1111241.3 | S50: =R50*R50 -> 1.2348573e+12
A51: 43861 | B51: 26523402 | D51: =B51+C51 -> 26523402 | G51: =D51-E51-F51 -> 26523402 | H51: =H39 -> 667.41 | I51: =I39 -> 0 | J51: 31 | K51: 0 | L51: 18668 | M51: =$V$30+$V$31*H51+$V$32*I51+$V$33*J51+$V$34*K51+$V$35*L51 -> 27347619 | N51: =M51-G51 -> 824217.78 | O51: =N51/G51 -> 0.031075116 | P51: =ABS(O51) -> 0.031075116 | Q51: =N51*N51 -> 6.7933496e+11 | R51: =N51-N50 -> 1024888.8 | S51: =R51*R51 -> 1.0503971e+12
A52: 43890 | B52: 24898397 | D52: =B52+C52 -> 24898397 | G52: =D52-E52-F52 -> 24898397 | H52: =H40 -> 577.75 | I52: =I40 -> 0 | J52: 29 | K52: 0 | L52: 18678 | M52: =$V$30+$V$31*H52+$V$32*I52+$V$33*J52+$V$34*K52+$V$35*L52 -> 25011277 | N52: =M52-G52 -> 112879.42 | O52: =N52/G52 -> 0.0045336017 | P52: =ABS(O52) -> 0.0045336017 | Q52: =N52*N52 -> 1.2741763e+10 | R52: =N52-N51 -> -711338.37 | S52: =R52*R52 -> 5.0600227e+11
A53: 43921 | B53: 24574269 | D53: =B53+C53 -> 24574269 | G53: =D53-E53-F53 -> 24574269 | H53: =H41 -> 510.25 | I53: =I41 -> 0 | J53: 31 | K53: 1 | L53: 18695 | M53: =$V$30+$V$31*H53+$V$32*I53+$V$33*J53+$V$34*K53+$V$35*L53 -> 24395435 | N53: =M53-G53 -> -178834.72 | O53: =N53/G53 -> -0.0072773159 | P53: =ABS(O53) -> 0.0072773159 | Q53: =N53*N53 -> 3.1981857e+10 | R53: =N53-N52 -> -291714.14 | S53: =R53*R53 -> 8.5097138e+10
A54: 43951 | B54: 21967926 | D54: =B54+C54 -> 21967926 | G54: =D54-E54-F54 -> 21967926 | H54: =H42 -> 329.06 | I54: =I42 -> 0.71 | J54: 30 | K54: 1 | L54: 18695 | M54: =$V$30+$V$31*H54+$V$32*I54+$V$33*J54+$V$34*K54+$V$35*L54 -> 21561204 | N54: =M54-G54 -> -406721.35 | O54: =N54/G54 -> -0.018514327 | P54: =ABS(O54) -> 0.018514327 | Q54: =N54*N54 -> 1.6542226e+11 | R54: =N54-N53 -> -227886.63 | S54: =R54*R54 -> 5.1932316e+10
A55: 43982 | B55: 21748680 | D55: =B55+C55 -> 21748680 | G55: =D55-E55-F55 -> 21748680 | H55: =H43 -> 142.47 | I55: =I43 -> 21.69 | J55: 31 | K55: 1 | L55: 18714 | M55: =$V$30+$V$31*H55+$V$32*I55+$V$33*J55+$V$34*K55+$V$35*L55 -> 20899475 | N55: =M55-G55 -> -849205.19 | O55: =N55/G55 -> -0.039046286 | P55: =ABS(O55) -> 0.039046286 | Q55: =N55*N55 -> 7.2114945e+11 | R55: =N55-N54 -> -442483.84 | S55: =R55*R55 -> 1.9579195e+11
A56: 44012 | B56: 23703343 | D56: =B56+C56 -> 23703343 | G56: =D56-E56-F56 -> 23703343 | H56: =H44 -> 19.93 | I56: =I44 -> 77.79 | J56: 30 | K56: 0 | L56: 18752 | M56: =$V$30+$V$31*H56+$V$32*I56+$V$33*J56+$V$34*K56+$V$35*L56 -> 22561731 | N56: =M56-G56 -> -1141611.5 | O56: =N56/G56 -> -0.04816247 | P56: =ABS(O56) -> 0.04816247 | Q56: =N56*N56 -> 1.3032769e+12 | R56: =N56-N55 -> -292406.36 | S56: =R56*R56 -> 8.5501479e+10
... A110: 45657 | B110: 30765167 | D110: =B110+C110 -> 30765167 | G110: =D110-E110-F110 -> 30765167 | H110: =H98 -> 577.68 | I110: =I98 -> 0 | J110: 31 | K110: 0 | L110: 23506 | M110: =$V$30+$V$31*H110+$V$32*I110+$V$33*J110+$V$34*K110+$V$35*L110 -> 30842966 | N110: =M110-G110 -> 77799.488 | O110: =N110/G110 -> 0.0025288174 | P110: =ABS(O110) -> 0.0025288174 | Q110: =N110*N110 -> 6.0527603e+09 | R110: =N110-N109 -> -1399801.4 | S110: =R110*R110 -> 1.959444e+12
A111: 45688 | B111: 33201031 | D111: =B111+C111 -> 33201031 | G111: =D111-E111-F111 -> 33201031 | H111: =H99 -> 667.41 | I111: =I99 -> 0 | J111: 31 | K111: 0 | L111: 23630 | M111: =$V$30+$V$31*H111+$V$32*I111+$V$33*J111+$V$34*K111+$V$35*L111 -> 32077189 | N111: =M111-G111 -> -1123841.4
A112: 45716 | B112: 29519020 | D112: =B112+C112 -> 29519020 | G112: =D112-E112-F112 -> 29519020 | H112: =H100 -> 577.75 | I112: =I100 -> 0 | J112: 28 | K112: 0 | L112: 23629 | M112: =$V$30+$V$31*H112+$V$32*I112+$V$33*J112+$V$34*K112+$V$35*L112 -> 29115005 | N112: =M112-G112 -> -404015.13
A113: 45747 | B113: 28188056 | D113: =B113+C113 -> 28188056 | G113: =D113-E113-F113 -> 28188056 | H113: =H101 -> 510.25 | I113: =I101 -> 0 | J113: 31 | K113: 1 | L113: 23808 | M113: =$V$30+$V$31*H113+$V$32*I113+$V$33*J113+$V$34*K113+$V$35*L113 -> 29268931 | N113: =M113-G113 -> 1080874.9
A114: 45777 | B114: 25907145 | D114: =B114+C114 -> 25907145 | G114: =D114-E114-F114 -> 25907145 | H114: =H102 -> 329.06 | I114: =I102 -> 0.71 | J114: 30 | K114: 1 | L114: 23843 | M114: =$V$30+$V$31*H114+$V$32*I114+$V$33*J114+$V$34*K114+$V$35*L114 -> 26468061 | N114: =M114-G114 -> 560916.53
A115: 45808 | B115: 24336480 | D115: =B115+C115 -> 24336480 | G115: =D115-E115-F115 -> 24336480 | H115: =H103 -> 142.47 | I115: =I103 -> 21.69 | J115: 31 | K115: 1 | L115: 23871 | M115: =$V$30+$V$31*H115+$V$32*I115+$V$33*J115+$V$34*K115+$V$35*L115 -> 25814910 | N115: =M115-G115 -> 1478430.4
A116: 45838 | B116: 28531695 | D116: =B116+C116 -> 28531695 | G116: =D116-E116-F116 -> 28531695 | H116: =H104 -> 19.93 | I116: =I104 -> 77.79 | J116: 30 | K116: 0 | L116: 24073 | M116: =$V$30+$V$31*H116+$V$32*I116+$V$33*J116+$V$34*K116+$V$35*L116 -> 27633485 | N116: =M116-G116 -> -898210.5
A117: 45869 | B117: 35219494 | D117: =B117+C117 -> 35219494 | G117: =D117-E117-F117 -> 35219494 | H117: =H105 -> 0.48 | I117: =I105 -> 154.26 | J117: 31 | K117: 0 | L117: 24104 | M117: =$V$30+$V$31*H117+$V$32*I117+$V$33*J117+$V$34*K117+$V$35*L117 -> 31774493 | N117: =M117-G117 -> -3445001.7
A118: 45900 | B118: 31952623 | D118: =B118+C118 -> 31952623 | G118: =D118-E118-F118 -> 31952623 | H118: =H106 -> 4.46 | I118: =I106 -> 127.12 | J118: 31 | K118: 0 | L118: 24158 | M118: =$V$30+$V$31*H118+$V$32*I118+$V$33*J118+$V$34*K118+$V$35*L118 -> 30548804 | N118: =M118-G118 -> -1403818.6
A119: 45930 | B119: 25218658 | D119: =B119+C119 -> 25218658 | G119: =D119-E119-F119 -> 25218658 | H119: =H107 -> 37.73 | I119: =I107 -> 47.27 | J119: 30 | K119: 1 | L119: 24210 | M119: =$V$30+$V$31*H119+$V$32*I119+$V$33*J119+$V$34*K119+$V$35*L119 -> 25470358 | N119: =M119-G119 -> 251700.39
A120: 45961 | B120: 25484180 | D120: =B120+C120 -> 25484180 | G120: =D120-E120-F120 -> 25484180 | H120: =H108 -> 211.34 | I120: =I108 -> 6.6 | J120: 31 | K120: 1 | L120: 24273 | M120: =$V$30+$V$31*H120+$V$32*I120+$V$33*J120+$V$34*K120+$V$35*L120 -> 26317030 | N120: =M120-G120 -> 832850.79
A121: 45991 | B121: 28123203 | D121: =B121+C121 -> 28123203 | G121: =D121-E121-F121 -> 28123203 | H121: =H109 -> 409.73 | I121: =I109 -> 0.26 | J121: 30 | K121: 1 | L121: 24307 | M121: =$V$30+$V$31*H121+$V$32*I121+$V$33*J121+$V$34*K121+$V$35*L121 -> 27891676 | N121: =M121-G121 -> -231527.61
A122: 46022 | B122: 33367454 | D122: =B122+C122 -> 33367454 | G122: =D122-E122-F122 -> 33367454 | H122: =H110 -> 577.68 | I122: =I110 -> 0 | J122: 31 | K122: 0 | L122: 24347 | M122: =$V$30+$V$31*H122+$V$32*I122+$V$33*J122+$V$34*K122+$V$35*L122 -> 31644572 | N122: =M122-G122 -> -1722881.8
A123: 46053 | H123: =H111 -> 667.41 | I123: =I111 -> 0 | J123: 31 | K123: 0 | L123: {='Rate Class Customer Model'!P12:P23} -> 24458.193 | M123: =$V$30+$V$31*H123+$V$32*I123+$V$33*J123+$V$34*K123+$V$35*L123 -> 32866588 | N123: =M123-G123 -> 32866588 | P123: =AVERAGE(P3:P110) -> 0.035468927 | Q123: =AVERAGE(Q3:Q110) -> 1.1889045e+12 | S123: =AVERAGE(S3:S110) -> 1.7700483e+12
A124: 46081 | H124: =H112 -> 577.75 | I124: =I112 -> 0 | J124: 28 | K124: 0 | L124: 24569.895 | M124: =$V$30+$V$31*H124+$V$32*I124+$V$33*J124+$V$34*K124+$V$35*L124 -> 30011826 | N124: =M124-G124 -> 30011826
A125: 46112 | H125: =H113 -> 510.25 | I125: =I113 -> 0 | J125: 31 | K125: 1 | L125: 24682.106 | M125: =$V$30+$V$31*H125+$V$32*I125+$V$33*J125+$V$34*K125+$V$35*L125 -> 30102092 | N125: =M125-G125 -> 30102092
A126: 46142 | H126: =H114 -> 329.06 | I126: =I114 -> 0.71 | J126: 30 | K126: 1 | L126: 24794.83 | M126: =$V$30+$V$31*H126+$V$32*I126+$V$33*J126+$V$34*K126+$V$35*L126 -> 27375306 | N126: =M126-G126 -> 27375306
A127: 46173 | H127: =H115 -> 142.47 | I127: =I115 -> 21.69 | J127: 31 | K127: 1 | L127: 24908.069 | M127: =$V$30+$V$31*H127+$V$32*I127+$V$33*J127+$V$34*K127+$V$35*L127 -> 26803401 | N127: =M127-G127 -> 26803401
A128: 46203 | H128: =H116 -> 19.93 | I128: =I116 -> 77.79 | J128: 30 | K128: 0 | L128: 25021.825 | M128: =$V$30+$V$31*H128+$V$32*I128+$V$33*J128+$V$34*K128+$V$35*L128 -> 28537864 | N128: =M128-G128 -> 28537864
A129: 46234 | H129: =H117 -> 0.48 | I129: =I117 -> 154.26 | J129: 31 | K129: 0 | L129: 25136.1 | M129: =$V$30+$V$31*H129+$V$32*I129+$V$33*J129+$V$34*K129+$V$35*L129 -> 32758247 | N129: =M129-G129 -> 32758247
A130: 46265 | H130: =H118 -> 4.46 | I130: =I118 -> 127.12 | J130: 31 | K130: 0 | L130: 25250.897 | M130: =$V$30+$V$31*H130+$V$32*I130+$V$33*J130+$V$34*K130+$V$35*L130 -> 31590508 | N130: =M130-G130 -> 31590508
A131: 46295 | H131: =H119 -> 37.73 | I131: =I119 -> 47.27 | J131: 30 | K131: 1 | L131: 25366.219 | M131: =$V$30+$V$31*H131+$V$32*I131+$V$33*J131+$V$34*K131+$V$35*L131 -> 26572417 | N131: =M131-G131 -> 26572417
A132: 46326 | H132: =H120 -> 211.34 | I132: =I120 -> 6.6 | J132: 31 | K132: 1 | L132: 25482.067 | M132: =$V$30+$V$31*H132+$V$32*I132+$V$33*J132+$V$34*K132+$V$35*L132 -> 27469462 | N132: =M132-G132 -> 27469462
A133: 46356 | H133: =H121 -> 409.73 | I133: =I121 -> 0.26 | J133: 30 | K133: 1 | L133: 25598.445 | M133: =$V$30+$V$31*H133+$V$32*I133+$V$33*J133+$V$34*K133+$V$35*L133 -> 29122626 | N133: =M133-G133 -> 29122626
A134: 46387 | H134: =H122 -> 577.68 | I134: =I122 -> 0 | J134: 31 | K134: 0 | L134: 25715.353 | M134: =$V$30+$V$31*H134+$V$32*I134+$V$33*J134+$V$34*K134+$V$35*L134 -> 32948829 | N134: =M134-G134 -> 32948829
A135: 46418 | H135: =H123 -> 667.41 | I135: =I123 -> 0 | J135: 31 | K135: 0 | L135: {='Rate Class Customer Model'!Q12:Q23} -> 25787.626 | M135: =$V$30+$V$31*H135+$V$32*I135+$V$33*J135+$V$34*K135+$V$35*L135 -> 34133747 | N135: =M135-G135 -> 34133747
A136: 46446 | H136: =H124 -> 577.75 | I136: =I124 -> 0 | J136: 28 | K136: 0 | L136: 25860.102 | M136: =$V$30+$V$31*H136+$V$32*I136+$V$33*J136+$V$34*K136+$V$35*L136 -> 31241597 | N136: =M136-G136 -> 31241597
A137: 46477 | H137: =H125 -> 510.25 | I137: =I125 -> 0 | J137: 31 | K137: 1 | L137: 25932.781 | M137: =$V$30+$V$31*H137+$V$32*I137+$V$33*J137+$V$34*K137+$V$35*L137 -> 31294183 | N137: =M137-G137 -> 31294183
A138: 46507 | H138: =H126 -> 329.06 | I138: =I126 -> 0.71 | J138: 30 | K138: 1 | L138: 26005.665 | M138: =$V$30+$V$31*H138+$V$32*I138+$V$33*J138+$V$34*K138+$V$35*L138 -> 28529422 | N138: =M138-G138 -> 28529422
A139: 46538 | H139: =H127 -> 142.47 | I139: =I127 -> 21.69 | J139: 31 | K139: 1 | L139: 26078.753 | M139: =$V$30+$V$31*H139+$V$32*I139+$V$33*J139+$V$34*K139+$V$35*L139 -> 27919248 | N139: =M139-G139 -> 27919248
A140: 46568 | H140: =H128 -> 19.93 | I140: =I128 -> 77.79 | J140: 30 | K140: 0 | L140: 26152.047 | M140: =$V$30+$V$31*H140+$V$32*I140+$V$33*J140+$V$34*K140+$V$35*L140 -> 29615145 | N140: =M140-G140 -> 29615145
A141: 46599 | H141: =H129 -> 0.48 | I141: =I129 -> 154.26 | J141: 31 | K141: 0 | L141: 26225.547 | M141: =$V$30+$V$31*H141+$V$32*I141+$V$33*J141+$V$34*K141+$V$35*L141 -> 33796662 | N141: =M141-G141 -> 33796662
A142: 46630 | H142: =H130 -> 4.46 | I142: =I130 -> 127.12 | J142: 31 | K142: 0 | L142: 26299.253 | M142: =$V$30+$V$31*H142+$V$32*I142+$V$33*J142+$V$34*K142+$V$35*L142 -> 32589757 | N142: =M142-G142 -> 32589757
A143: 46660 | H143: =H131 -> 37.73 | I143: =I131 -> 47.27 | J143: 30 | K143: 1 | L143: 26373.167 | M143: =$V$30+$V$31*H143+$V$32*I143+$V$33*J143+$V$34*K143+$V$35*L143 -> 27532197 | N143: =M143-G143 -> 27532197
A144: 46691 | H144: =H132 -> 211.34 | I144: =I132 -> 6.6 | J144: 31 | K144: 1 | L144: 26447.288 | M144: =$V$30+$V$31*H144+$V$32*I144+$V$33*J144+$V$34*K144+$V$35*L144 -> 28389470 | N144: =M144-G144 -> 28389470
A145: 46721 | H145: =H133 -> 409.73 | I145: =I133 -> 0.26 | J145: 30 | K145: 1 | L145: 26521.617 | M145: =$V$30+$V$31*H145+$V$32*I145+$V$33*J145+$V$34*K145+$V$35*L145 -> 30002556 | N145: =M145-G145 -> 30002556
A146: 46752 | H146: =H134 -> 577.68 | I146: =I134 -> 0 | J146: 31 | K146: 0 | L146: 26596.156 | M146: =$V$30+$V$31*H146+$V$32*I146+$V$33*J146+$V$34*K146+$V$35*L146 -> 33788373 | N146: =M146-G146 -> 33788373
H149: 10-year average
H150: Geomean Monthly Escalation | N150: =SUM(M3:M146) -> 3.663965e+09
O151: Shut Downs | P151: Reduced Load | Q151: Weather Normal
A152: 2016 | B152: =SUM(B3:B14) -> 259382036 | D152: =SUM(D3:D14) -> 259382036 | E152: =SUM(E3:E14) -> 0 | F152: =SUM(F3:F14) -> 0 | G152: =SUM(G3:G14) -> 259382036 | N152: =SUM(M3:M14) -> 2.5626307e+08 | O152: =E152 -> 0 | P152: =F152 -> 0 | Q152: =N152+O152+P152 -> 2.5626307e+08
A153: 2017 | B153: =SUM(B15:B26) -> 2.5676943e+08 | D153: =SUM(D15:D26) -> 2.5676943e+08 | E153: =SUM(E15:E26) -> 0 | F153: =SUM(F15:F26) -> 0 | G153: =SUM(G15:G26) -> 2.5676943e+08 | N153: =SUM(M15:M26) -> 2.6085481e+08 | O153: =E153 -> 0 | P153: =F153 -> 0 | Q153: =N153+O153+P153 -> 2.6085481e+08
A154: 2018 | B154: =SUM(B27:B38) -> 2.7881324e+08 | D154: =SUM(D27:D38) -> 2.7881324e+08 | E154: =SUM(E27:E38) -> 0 | F154: =SUM(F27:F38) -> 0 | G154: =SUM(G27:G38) -> 2.7881324e+08 | N154: =SUM(M27:M38) -> 2.7132049e+08 | O154: =E154 -> 0 | P154: =F154 -> 0 | Q154: =N154+O154+P154 -> 2.7132049e+08
A155: 2019 | B155: =SUM(B39:B50) -> 2.8058154e+08 | D155: =SUM(D39:D50) -> 2.8058154e+08 | E155: =SUM(E39:E50) -> 0 | F155: =SUM(F39:F50) -> 0 | G155: =SUM(G39:G50) -> 2.8058154e+08 | N155: =SUM(M39:M50) -> 2.808921e+08 | O155: =E155 -> 0 | P155: =F155 -> 0 | Q155: =N155+O155+P155 -> 2.808921e+08
...

Sheet Rate Class Energy Model
B2: Purchases | C2: Modeled Purchases | D2: Difference | E2: % Difference | F2: Loss Factor | G2: Total Billed | H2: =Inputs!B4 -> Residential | I2: =Inputs!C4 -> General Service < 50 kW | J2: =Inputs!D4 -> General Service >= 50 kW | K2: =Inputs!E4 -> Unmetered Scattered Load | L2: =Inputs!F4 -> Sentinel Lighting | M2: =Inputs!G4 -> Street Lighting | N2: =Inputs!H4 -> Embedded Distributor
A3: 2016 | B3: ='Power Purchased Model'!G152 -> 259382036 | C3: ='Power Purchased Model'!Q152 -> 2.6232871e+08 | D3: =C3-B3 -> 2946670.7 | E3: =D3/B3 -> 0.01136035 | F3: =1 +(B3-G3)/G3 -> 1.0628741 | G3: =SUM(H3:N3) -> 2.4403834e+08 | H3: =SUMIF(Inputs!A$24:A$143,'Rate Class Energy Model'!A3,Inputs!F$24:F$143) -> 1.5013592e+08 | I3: =SUMIF(Inputs!$A$24:$A$143,'Rate Class Energy Model'!A3,Inputs!$H$24:$H$143) -> 33558136 | J3: =SUMIF(Inputs!$A$24:$A$143,'Rate Class Energy Model'!A3,Inputs!$J$24:$J$143) -> 58286974 | K3: =SUMIF(Inputs!$A$24:$A$143,'Rate Class Energy Model'!A3,Inputs!$M$24:$M$143) -> 461652 | L3: =SUMIF(Inputs!$A$24:$A$143,'Rate Class Energy Model'!A3,Inputs!$P$24:$P$143) -> 103242.3 | M3: =SUMIF(Inputs!A$24:A$143,'Rate Class Energy Model'!A3,Inputs!S$24:S$143) -> 544041.61 | N3: =SUMIF(Inputs!A$24:A$143,'Rate Class Energy Model'!A3,Inputs!V$24:V$143) -> 948375.6
A4: 2017 | B4: ='Power Purchased Model'!G153 -> 2.5676943e+08 | C4: ='Power Purchased Model'!Q153 -> 2.5676157e+08 | D4: =C4-B4 -> -7865.5033 | E4: =D4/B4 -> -3.0632553e-05 | F4: =1 +(B4-G4)/G4 -> 1.0558276 | G4: =SUM(H4:N4) -> 2.4319257e+08 | H4: =SUMIF(Inputs!A$24:A$143,'Rate Class Energy Model'!A4,Inputs!F$24:F$143) -> 1.4525046e+08 | I4: =SUMIF(Inputs!$A$24:$A$143,'Rate Class Energy Model'!A4,Inputs!$H$24:$H$143) -> 32775442 | J4: =SUMIF(Inputs!$A$24:$A$143,'Rate Class Energy Model'!A4,Inputs!$J$24:$J$143) -> 63107665 | K4: =SUMIF(Inputs!$A$24:$A$143,'Rate Class Energy Model'!A4,Inputs!$M$24:$M$143) -> 460196 | L4: =SUMIF(Inputs!$A$24:$A$143,'Rate Class Energy Model'!A4,Inputs!$P$24:$P$143) -> 103849.14 | M4: =SUMIF(Inputs!A$24:A$143,'Rate Class Energy Model'!A4,Inputs!S$24:S$143) -> 574600.19 | N4: =SUMIF(Inputs!A$24:A$143,'Rate Class Energy Model'!A4,Inputs!V$24:V$143) -> 920352.3
A5: 2018 | B5: ='Power Purchased Model'!G154 -> 2.7881324e+08 | C5: ='Power Purchased Model'!Q154 -> 2.7848883e+08 | D5: =C5-B5 -> -324401.69 | E5: =D5/B5 -> -0.0011635089 | F5: =1 +(B5-G5)/G5 -> 1.0542288 | G5: =SUM(H5:N5) -> 2.6447127e+08 | H5: =SUMIF(Inputs!A$24:A$143,'Rate Class Energy Model'!A5,Inputs!F$24:F$143) -> 1.6085375e+08 | I5: =SUMIF(Inputs!$A$24:$A$143,'Rate Class Energy Model'!A5,Inputs!$H$24:$H$143) -> 36037382 | J5: =SUMIF(Inputs!$A$24:$A$143,'Rate Class Energy Model'!A5,Inputs!$J$24:$J$143) -> 65404829 | K5: =SUMIF(Inputs!$A$24:$A$143,'Rate Class Energy Model'!A5,Inputs!$M$24:$M$143) -> 482914 | L5: =SUMIF(Inputs!$A$24:$A$143,'Rate Class Energy Model'!A5,Inputs!$P$24:$P$143) -> 105459.54 | M5: =SUMIF(Inputs!A$24:A$143,'Rate Class Energy Model'!A5,Inputs!S$24:S$143) -> 615045.71 | N5: =SUMIF(Inputs!A$24:A$143,'Rate Class Energy Model'!A5,Inputs!V$24:V$143) -> 971889.9
A6: 2019 | B6: ='Power Purchased Model'!G155 -> 2.8058154e+08 | C6: ='Power Purchased Model'!Q155 -> 2.8161788e+08 | D6: =C6-B6 -> 1036338.2 | E6: =D6/B6 -> 0.0036935368 | F6: =1 +(B6-G6)/G6 -> 1.0352748 | G6: =SUM(H6:N6) -> 2.7102131e+08 | H6: =SUMIF(Inputs!A$24:A$143,'Rate Class Energy Model'!A6,Inputs!F$24:F$143) -> 1.6128452e+08 | I6: =SUMIF(Inputs!$A$24:$A$143,'Rate Class Energy Model'!A6,Inputs!$H$24:$H$143) -> 42480663 | J6: =SUMIF(Inputs!$A$24:$A$143,'Rate Class Energy Model'!A6,Inputs!$J$24:$J$143) -> 65090125 | K6: =SUMIF(Inputs!$A$24:$A$143,'Rate Class Energy Model'!A6,Inputs!$M$24:$M$143) -> 485587 | L6: =SUMIF(Inputs!$A$24:$A$143,'Rate Class Energy Model'!A6,Inputs!$P$24:$P$143) -> 103804.5 | M6: =SUMIF(Inputs!A$24:A$143,'Rate Class Energy Model'!A6,Inputs!S$24:S$143) -> 653653.25 | N6: =SUMIF(Inputs!A$24:A$143,'Rate Class Energy Model'!A6,Inputs!V$24:V$143) -> 922954.2
A7: 2020 | B7: ='Power Purchased Model'!G156 -> 2.9140425e+08 | C7: ='Power Purchased Model'!Q156 -> 2.8844634e+08 | D7: =C7-B7 -> -2957907.9 | E7: =D7/B7 -> -0.010150531 | F7: =1 +(B7-G7)/G7 -> 1.052616 | G7: =SUM(H7:N7) -> 2.7683813e+08 | H7: =SUMIF(Inputs!A$24:A$143,'Rate Class Energy Model'!A7,Inputs!F$24:F$143) -> 1.749576e+08 | I7: =SUMIF(Inputs!$A$24:$A$143,'Rate Class Energy Model'!A7,Inputs!$H$24:$H$143) -> 39873537 | J7: =SUMIF(Inputs!$A$24:$A$143,'Rate Class Energy Model'!A7,Inputs!$J$24:$J$143) -> 59834547 | K7: =SUMIF(Inputs!$A$24:$A$143,'Rate Class Energy Model'!A7,Inputs!$M$24:$M$143) -> 439968 | L7: =SUMIF(Inputs!$A$24:$A$143,'Rate Class Energy Model'!A7,Inputs!$P$24:$P$143) -> 100969.38 | M7: =SUMIF(Inputs!A$24:A$143,'Rate Class Energy Model'!A7,Inputs!S$24:S$143) -> 686201.6 | N7: =SUMIF(Inputs!A$24:A$143,'Rate Class Energy Model'!A7,Inputs!V$24:V$143) -> 945311.4
A8: 2021 | B8: ='Power Purchased Model'!G157 -> 2.9524025e+08 | C8: ='Power Purchased Model'!Q157 -> 2.9022491e+08 | D8: =C8-B8 -> -5015339.4 | E8: =D8/B8 -> -0.016987316 | F8: =1 +(B8-G8)/G8 -> 1.0571354 | G8: =SUM(H8:N8) -> 2.792833e+08 | H8: =SUMIF(Inputs!A$24:A$143,'Rate Class Energy Model'!A8,Inputs!F$24:F$143) -> 1.7849971e+08 | I8: =SUMIF(Inputs!$A$24:$A$143,'Rate Class Energy Model'!A8,Inputs!$H$24:$H$143) -> 40487961 | J8: =SUMIF(Inputs!$A$24:$A$143,'Rate Class Energy Model'!A8,Inputs!$J$24:$J$143) -> 58095871 | K8: =SUMIF(Inputs!$A$24:$A$143,'Rate Class Energy Model'!A8,Inputs!$M$24:$M$143) -> 439248 | L8: =SUMIF(Inputs!$A$24:$A$143,'Rate Class Energy Model'!A8,Inputs!$P$24:$P$143) -> 99205.68 | M8: =SUMIF(Inputs!A$24:A$143,'Rate Class Energy Model'!A8,Inputs!S$24:S$143) -> 751137.82 | N8: =SUMIF(Inputs!A$24:A$143,'Rate Class Energy Model'!A8,Inputs!V$24:V$143) -> 910170.9
A9: 2022 | B9: ='Power Purchased Model'!G158 -> 2.999345e+08 | C9: ='Power Purchased Model'!Q158 -> 2.9930006e+08 | D9: =C9-B9 -> -634447.22 | E9: =D9/B9 -> -0.0021152859 | F9: =1 +(B9-G9)/G9 -> 1.0543702 | G9: =SUM(H9:N9) -> 2.8446792e+08 | H9: =SUMIF(Inputs!A$24:A$143,'Rate Class Energy Model'!A9,Inputs!F$24:F$143) -> 1.8184366e+08 | I9: =SUMIF(Inputs!$A$24:$A$143,'Rate Class Energy Model'!A9,Inputs!$H$24:$H$143) -> 43953859 | J9: =SUMIF(Inputs!$A$24:$A$143,'Rate Class Energy Model'!A9,Inputs!$J$24:$J$143) -> 56383557 | K9: =SUMIF(Inputs!$A$24:$A$143,'Rate Class Energy Model'!A9,Inputs!$M$24:$M$143) -> 447888 | L9: =SUMIF(Inputs!$A$24:$A$143,'Rate Class Energy Model'!A9,Inputs!$P$24:$P$143) -> 97587.24 | M9: =SUMIF(Inputs!A$24:A$143,'Rate Class Energy Model'!A9,Inputs!S$24:S$143) -> 805781.63 | N9: =SUMIF(Inputs!A$24:A$143,'Rate Class Energy Model'!A9,Inputs!V$24:V$143) -> 935588.9
A10: 2023 | B10: ='Power Purchased Model'!G159 -> 3.0310317e+08 | C10: ='Power Purchased Model'!Q159 -> 3.0722958e+08 | D10: =C10-B10 -> 4126403.3 | E10: =D10/B10 -> 0.013613857 | F10: =1 +(B10-G10)/G10 -> 1.0567451 | G10: =SUM(H10:N10) -> 2.8682714e+08 | H10: =SUMIF(Inputs!A$24:A$143,'Rate Class Energy Model'!A10,Inputs!F$24:F$143) -> 1.8411604e+08 | I10: =SUMIF(Inputs!$A$24:$A$143,'Rate Class Energy Model'!A10,Inputs!$H$24:$H$143) -> 44829085 | J10: =SUMIF(Inputs!$A$24:$A$143,'Rate Class Energy Model'!A10,Inputs!$J$24:$J$143) -> 55566830 | K10: =SUMIF(Inputs!$A$24:$A$143,'Rate Class Energy Model'!A10,Inputs!$M$24:$M$143) -> 447888 | L10: =SUMIF(Inputs!$A$24:$A$143,'Rate Class Energy Model'!A10,Inputs!$P$24:$P$143) -> 97106.34 | M10: =SUMIF(Inputs!A$24:A$143,'Rate Class Energy Model'!A10,Inputs!S$24:S$143) -> 867745.69 | N10: =SUMIF(Inputs!A$24:A$143,'Rate Class Energy Model'!A10,Inputs!V$24:V$143) -> 902443.2
A11: 2024 | B11: ='Power Purchased Model'!G160 -> 3.2469601e+08 | C11: ='Power Purchased Model'!Q160 -> 3.2725942e+08 | D11: =C11-B11 -> 2563408.3 | E11: =D11/B11 -> 0.0078947947 | F11: =1 +(B11-G11)/G11 -> 1.0527104 | G11: =SUM(H11:N11) -> 3.084381e+08 | H11: =SUMIF(Inputs!A$24:A$143,'Rate Class Energy Model'!A11,Inputs!F$24:F$143) -> 1.9821644e+08 | I11: =SUMIF(Inputs!$A$24:$A$143,'Rate Class Energy Model'!A11,Inputs!$H$24:$H$143) -> 51768404 | J11: =SUMIF(Inputs!$A$24:$A$143,'Rate Class Energy Model'!A11,Inputs!$J$24:$J$143) -> 56073429 | K11: =SUMIF(Inputs!$A$24:$A$143,'Rate Class Energy Model'!A11,Inputs!$M$24:$M$143) -> 402486 | L11: =SUMIF(Inputs!$A$24:$A$143,'Rate Class Energy Model'!A11,Inputs!$P$24:$P$143) -> 87522.48 | M11: =SUMIF(Inputs!A$24:A$143,'Rate Class Energy Model'!A11,Inputs!S$24:S$143) -> 940008.81 | N11: =SUMIF(Inputs!A$24:A$143,'Rate Class Energy Model'!A11,Inputs!V$24:V$143) -> 949807.8
A12: 2025 | B12: ='Power Purchased Model'!G161 -> 3.4904904e+08 | C12: ='Power Purchased Model'!Q161 -> 3.4731618e+08 | D12: =C12-B12 -> -1732858.7 | E12: =D12/B12 -> -0.0049645137 | F12: =1 +(B12-G12)/G12 -> 1.0508004 | G12: =SUM(H12:N12) -> 3.3217444e+08 | H12: =SUMIF(Inputs!A$24:A$143,'Rate Class Energy Model'!A12,Inputs!F$24:F$143) -> 2.1626022e+08 | I12: =SUMIF(Inputs!$A$24:$A$143,'Rate Class Energy Model'!A12,Inputs!$H$24:$H$143) -> 47670304 | J12: =SUMIF(Inputs!$A$24:$A$143,'Rate Class Energy Model'!A12,Inputs!$J$24:$J$143) -> 65757609 | K12: =SUMIF(Inputs!$A$24:$A$143,'Rate Class Energy Model'!A12,Inputs!$M$24:$M$143) -> 425256 | L12: =SUMIF(Inputs!$A$24:$A$143,'Rate Class Energy Model'!A12,Inputs!$P$24:$P$143) -> 93986.4 | M12: =SUMIF(Inputs!A$24:A$143,'Rate Class Energy Model'!A12,Inputs!S$24:S$143) -> 990470.21 | N12: =SUMIF(Inputs!A$24:A$143,'Rate Class Energy Model'!A12,Inputs!V$24:V$143) -> 976590.05
A13: 2026 | C13: ='Power Purchased Model'!Q162 -> 3.5615917e+08 | G13: =C13/$F$16 -> 3.3814988e+08
A14: 2027 | C14: ='Power Purchased Model'!Q163 -> 3.6883236e+08 | G14: =C14/$F$16 -> 3.5018225e+08
A16: Average | E16: Last 10 years | F16: =AVERAGE(F3:F12) -> 1.0532583
A19: Usage Per Customer
A20: 2025 | H20: =H12/'Rate Class Customer Model'!B20 -> 9555.2953 | I20: =I12/'Rate Class Customer Model'!C20 -> 36664.764 | J20: =J12/'Rate Class Customer Model'!D20 -> 752231.94 | K20: =K12/'Rate Class Customer Model'!E20 -> 6163.1304 | L20: =L12/'Rate Class Customer Model'!F20 -> 649.67558 | M20: =M12/'Rate Class Customer Model'!G20 -> 204.31545 | N20: =N12/'Rate Class Customer Model'!H20 -> 976590.05
A21: 2026 | H21: =H20 -> 9555.2953 | I21: =I20 -> 36664.764 | J21: =J20 -> 752231.94 | K21: =K20 -> 6163.1304 | L21: =L20 -> 649.67558 | M21: =M20 -> 204.31545 | N21: =N20 -> 976590.05
A22: 2027 | H22: =H21 -> 9555.2953 | I22: =I21 -> 36664.764 | J22: =J21 -> 752231.94 | K22: =K21 -> 6163.1304 | L22: =L21 -> 649.67558 | M22: =M21 -> 204.31545 | N22: =N21 -> 976590.05
A27: Non Weather Corrected Forecast
A28: =A21 -> 2026 | G28: =SUM(H28:N28) -> 3.444007e+08 | H28: =H21*'Rate Class Customer Model'!B21 -> 2.2603802e+08 | I28: =I21*'Rate Class Customer Model'!C21 -> 48993295 | J28: =J21*'Rate Class Customer Model'!D21 -> 66828960 | K28: =K21*'Rate Class Customer Model'!E21 -> 421126.8 | L28: =L21*'Rate Class Customer Model'!F21 -> 92555.677 | M28: =M21*'Rate Class Customer Model'!G21 -> 1050151.2 | N28: =N21*'Rate Class Customer Model'!H21 -> 976590.05
A29: =A22 -> 2027 | G29: =SUM(H29:N29) -> 3.5712688e+08 | H29: =H22*'Rate Class Customer Model'!B22 -> 2.3625791e+08 | I29: =I22*'Rate Class Customer Model'!C22 -> 50353001 | J29: =J22*'Rate Class Customer Model'!D22 -> 67917765 | K29: =K22*'Rate Class Customer Model'!E22 -> 417037.7 | L29: =L22*'Rate Class Customer Model'!F22 -> 91146.733 | M29: =M22*'Rate Class Customer Model'!G22 -> 1113428.2 | N29: =N22*'Rate Class Customer Model'!H22 -> 976590.05
A33: Weather Corrected Forecast
A34: =A28 -> 2026 | G34: =G13 -> 3.3814988e+08 | H34: =H28+H46 -> 2.2172618e+08 | I34: =I28+I46 -> 48058712 | J34: =J28+J46 -> 65824563 | K34: =K28+K46 -> 421126.8 | L34: =L28+L46 -> 92555.677 | M34: =M28+M46 -> 1050151.2 | N34: =N28+N46 -> 976590.05 | P34: =SUM(H34:N34) -> 3.3814988e+08 | Q34: =P34-G34 -> 0
A35: =A29 -> 2027 | G35: =G14 -> 3.5018225e+08 | H35: =H29+H47 -> 2.3143398e+08 | I35: =I29+I47 -> 49324890 | J35: =J29+J47 -> 66825175 | K35: =K29+K47 -> 417037.7 | L35: =L29+L47 -> 91146.733 | M35: =M29+M47 -> 1113428.2 | N35: =N29+N47 -> 976590.05 | P35: =SUM(H35:N35) -> 3.5018225e+08 | Q35: =P35-G35 -> 0
A39: % Weather Sensitive | H39: =(100%+J39)/2 -> 0.825 | I39: =H39 -> 0.825 | J39: 0.65 | K39: 0 | L39: 0 | M39: 0 | N39: 0
A40: =A34 -> 2026 | G40: =G34-G28 -> -6250819.4 | H40: =H28*H$39 -> 1.8648137e+08 | I40: =I28*I$39 -> 40419468 | J40: =J28*J$39 -> 43438824 | K40: =K28*K$39 -> 0 | L40: =L28*L$39 -> 0 | M40: =M28*M$39 -> 0 | N40: =N28*N$39 -> 0 | P40: =SUM(H40:N40) -> 2.7033966e+08
A41: =A35 -> 2027 | G41: =G35-G29 -> -6944632.6 | H41: =H29*H$39 -> 1.9491278e+08 | I41: =I29*I$39 -> 41541226 | J41: =J29*J$39 -> 44146548 | K41: =K29*K$39 -> 0 | L41: =L29*L$39 -> 0 | M41: =M29*M$39 -> 0 | N41: =N29*N$39 -> 0 | P41: =SUM(H41:N41) -> 2.8060055e+08
A45: Allocation of Weather Sensitive Amount
A46: =A40 -> 2026 | G46: =SUM(H46:N46) -> -6250819.4 | H46: =H40/$P$40*$G$40 -> -4311840 | I46: =I40/$P$40*$G$40 -> -934582.79 | J46: =J40/$P$40*$G$40 -> -1004396.6 | K46: =K40/$P$40*$G$40 -> 0 | L46: =L40/$P$40*$G$40 -> 0 | M46: =M40/$P$40*$G$40 -> 0 | N46: =N40/$P$40*$G$40 -> 0
A47: =A41 -> 2027 | G47: =SUM(H47:N47) -> -6944632.6 | H47: =H41/$P$41*$G$41 -> -4823930.7 | I47: =I41/$P$41*$G$41 -> -1028111.2 | J47: =J41/$P$41*$G$41 -> -1092590.7 | K47: =K41/$P$41*$G$41 -> 0 | L47: =L41/$P$41*$G$41 -> 0 | M47: =M41/$P$41*$G$41 -> 0 | N47: =N41/$P$41*$G$41 -> 0
J52: =J36 -> 0 | K52: =K36 -> 0 | L52: =SUM(J52:K52) -> 0
J53: =J42 -> 0 | K53: =K42 -> 0 | L53: =SUM(J53:K53) -> 0
L54: =L53/L52 -> #DIV/0!

Sheet Rate Class Customer Model
B1: Average Number of Customer/Connections
B2: ='Rate Class Energy Model'!H2 -> Residential | C2: ='Rate Class Energy Model'!I2 -> General Service < 50 kW | D2: ='Rate Class Energy Model'!J2 -> General Service >= 50 kW | E2: ='Rate Class Energy Model'!K2 -> Unmetered Scattered Load | F2: ='Rate Class Energy Model'!L2 -> Sentinel Lighting | G2: ='Rate Class Energy Model'!M2 -> Street Lighting | H2: ='Rate Class Energy Model'!N2 -> Embedded Distributor | I2: Total | K2: Total Customers | L2: (embedded included) | N2: 2025 Dec | P2: 2026 | Q2: 2027
A4: 2000
A5: 2001 | B5: =(#REF!+#REF!)/2 -> #REF! | C5: =(#REF!+#REF!)/2 -> #REF! | D5: =(#REF!+#REF!)/2 -> #REF! | G5: =(#REF!+#REF!)/2 -> #REF! | H5: =(#REF!+#REF!)/2 -> #REF!
A6: 2002 | B6: =(#REF!+#REF!)/2 -> #REF! | C6: =(#REF!+#REF!)/2 -> #REF! | D6: =(#REF!+#REF!)/2 -> #REF! | G6: =(#REF!+#REF!)/2 -> #REF! | H6: 0
A7: 2003 | B7: =(#REF!+#REF!)/2 -> #REF! | C7: =(#REF!+#REF!)/2 -> #REF! | D7: =(#REF!+#REF!)/2 -> #REF! | G7: =(#REF!+#REF!)/2 -> #REF! | H7: =(#REF!+#REF!)/2 -> #REF!
A8: 2004 | B8: =(#REF!+#REF!)/2 -> #REF! | C8: =(#REF!+#REF!)/2 -> #REF! | D8: =(#REF!+#REF!)/2 -> #REF! | G8: =(#REF!+#REF!)/2 -> #REF! | H8: =(#REF!+#REF!)/2 -> #REF!
A9: 2005 | B9: =(#REF!+#REF!)/2 -> #REF! | C9: =(#REF!+#REF!)/2 -> #REF! | D9: =(#REF!+#REF!)/2 -> #REF! | G9: =(#REF!+#REF!)/2 -> #REF! | H9: =(#REF!+#REF!)/2 -> #REF!
A10: 2006 | B10: =(#REF!+#REF!)/2 -> #REF! | C10: =(#REF!+#REF!)/2 -> #REF! | D10: =(#REF!+#REF!)/2 -> #REF! | G10: 1 | H10: =(#REF!+#REF!)/2 -> #REF!
A11: 2016 | B11: =Inputs!B5 -> 15201.583 | C11: =Inputs!C5 -> 1016.25 | D11: =Inputs!D5 -> 75.583333 | E11: =Inputs!E5 -> 75.333333 | F11: =Inputs!F5 -> 166.08333 | G11: =Inputs!G5 -> 2863.1667 | H11: =Inputs!H5 -> 1 | I11: =SUM(B11:H11) -> 19399 | K11: =B11+C11+D11+H11 -> 16294.417 | N11: =Inputs!C143 -> 24347 | P11: 0.0045670295 | Q11: 0.0028104808
A12: 2017 | B12: =Inputs!B6 -> 15631.667 | C12: =Inputs!C6 -> 1030.3333 | D12: =Inputs!D6 -> 86.666667 | E12: =Inputs!E6 -> 73.5 | F12: =Inputs!F6 -> 161.83333 | G12: =Inputs!G6 -> 2973.25 | H12: =Inputs!H6 -> 1 | I12: =SUM(B12:H12) -> 19958.25 | K12: =B12+C12+D12+H12 -> 16749.667 | O12: Jan | P12: =N11*(1+$P$11) -> 24458.193 | Q12: =P23*(1+$Q$11) -> 25787.626
A13: 2018 | B13: =Inputs!B7 -> 16490.667 | C13: =Inputs!C7 -> 1082 | D13: =Inputs!D7 -> 91 | E13: =Inputs!E7 -> 74 | F13: =Inputs!F7 -> 161.5 | G13: =Inputs!G7 -> 3097.25 | H13: =Inputs!H7 -> 1 | I13: =SUM(B13:H13) -> 20997.417 | K13: =B13+C13+D13+H13 -> 17664.667 | O13: Feb | P13: =P12*(1+$P$11) -> 24569.895 | Q13: =Q12*(1+$Q$11) -> 25860.102
A14: 2019 | B14: =Inputs!B8 -> 17294.333 | C14: =Inputs!C8 -> 1121.0833 | D14: =Inputs!D8 -> 85.083333 | E14: =Inputs!E8 -> 74.5 | F14: =Inputs!F8 -> 159.91667 | G14: =Inputs!G8 -> 3306.75 | H14: =Inputs!H8 -> 1 | I14: =SUM(B14:H14) -> 22042.667 | K14: =B14+C14+D14+H14 -> 18501.5 | O14: Mar | P14: =P13*(1+$P$11) -> 24682.106 | Q14: =Q13*(1+$Q$11) -> 25932.781
A15: 2020 | B15: =Inputs!B9 -> 17582.833 | C15: =Inputs!C9 -> 1153.9167 | D15: =Inputs!D9 -> 80.083333 | E15: =Inputs!E9 -> 73.166667 | F15: =Inputs!F9 -> 155.08333 | G15: =Inputs!G9 -> 3414.4167 | H15: =Inputs!H9 -> 1 | I15: =SUM(B15:H15) -> 22460.5 | K15: =B15+C15+D15+H15 -> 18817.833 | O15: Apr | P15: =P14*(1+$P$11) -> 24794.83 | Q15: =Q14*(1+$Q$11) -> 26005.665
A16: 2021 | B16: =Inputs!B10 -> 18253.333 | C16: =Inputs!C10 -> 1191.25 | D16: =Inputs!D10 -> 77.75 | E16: =Inputs!E10 -> 71 | F16: =Inputs!F10 -> 152.75 | G16: =Inputs!G10 -> 3596.5833 | H16: =Inputs!H10 -> 1 | I16: =SUM(B16:H16) -> 23343.667 | K16: =B16+C16+D16+H16 -> 19523.333 | O16: May | P16: =P15*(1+$P$11) -> 24908.069 | Q16: =Q15*(1+$Q$11) -> 26078.753
A17: 2022 | B17: =Inputs!B11 -> 18754.667 | C17: =Inputs!C11 -> 1246.1667 | D17: =Inputs!D11 -> 78.25 | E17: =Inputs!E11 -> 71.833333 | F17: =Inputs!F11 -> 150.66667 | G17: =Inputs!G11 -> 4014 | H17: =Inputs!H11 -> 1 | I17: =SUM(B17:H17) -> 24316.583 | K17: =B17+C17+D17+H17 -> 20080.083 | O17: Jun | P17: =P16*(1+$P$11) -> 25021.825 | Q17: =Q16*(1+$Q$11) -> 26152.047
A18: 2023 | B18: =Inputs!B12 -> 20106.333 | C18: =Inputs!C12 -> 1271.5833 | D18: =Inputs!D12 -> 84.25 | E18: =Inputs!E12 -> 74.833333 | F18: =Inputs!F12 -> 151 | G18: =Inputs!G12 -> 4299.25 | H18: =Inputs!H12 -> 1 | I18: =SUM(B18:H18) -> 25988.25 | K18: =B18+C18+D18+H18 -> 21463.167 | O18: Jul | P18: =P17*(1+$P$11) -> 25136.1 | Q18: =Q17*(1+$Q$11) -> 26225.547
A19: 2024 | B19: =Inputs!B13 -> 21734.083 | C19: =Inputs!C13 -> 1289.6667 | D19: =Inputs!D13 -> 83.416667 | E19: =Inputs!E13 -> 70.166667 | F19: =Inputs!F13 -> 148.58333 | G19: =Inputs!G13 -> 4588.5 | H19: =Inputs!H13 -> 1 | I19: =SUM(B19:H19) -> 27915.417 | K19: =B19+C19+D19+H19 -> 23108.167 | O19: Aug | P19: =P18*(1+$P$11) -> 25250.897 | Q19: =Q18*(1+$Q$11) -> 26299.253
A20: 2025 | B20: =Inputs!B14 -> 22632.5 | C20: =Inputs!C14 -> 1300.1667 | D20: =Inputs!D14 -> 87.416667 | E20: =Inputs!E14 -> 69 | F20: =Inputs!F14 -> 144.66667 | G20: =Inputs!G14 -> 4847.75 | H20: =Inputs!H14 -> 1 | I20: =SUM(B20:H20) -> 29082.5 | K20: =B20+C20+D20+H20 -> 24021.083 | O20: Sep | P20: =P19*(1+$P$11) -> 25366.219 | Q20: =Q19*(1+$Q$11) -> 26373.167
A21: 2026 | B21: =B20*$B$38 -> 23655.786 | C21: =C20*$C$38 -> 1336.2501 | D21: =D20*$D$38 -> 88.840896 | E21: =E20*$E$38 -> 68.330016 | F21: =F20*$F$38 -> 142.46446 | G21: =G20*$G$38 -> 5139.852 | H21: =H20*$H$38 -> 1 | I21: =SUM(B21:H21) -> 30432.524 | K21: =B21+C21+D21+H21 -> 25081.877 | O21: Oct | P21: =P20*(1+$P$11) -> 25482.067 | Q21: =Q20*(1+$Q$11) -> 26447.288
A22: 2027 | B22: =B21*$B$38 -> 24725.338 | C22: =C21*$C$38 -> 1373.3349 | D22: =D21*$D$38 -> 90.28833 | E22: =E21*$E$38 -> 67.666538 | F22: =F21*$F$38 -> 140.29577 | G22: =G21*$G$38 -> 5449.5546 | H22: =H21*$H$38 -> 1 | I22: =SUM(B22:H22) -> 31847.478 | K22: =B22+C22+D22+H22 -> 26189.961 | O22: Nov | P22: =P21*(1+$P$11) -> 25598.445 | Q22: =Q21*(1+$Q$11) -> 26521.617
O23: Dec | P23: =P22*(1+$P$11) -> 25715.353 | Q23: =Q22*(1+$Q$11) -> 26596.156
A24: Growth Rate in Customer Numbers | O24: Average | P24: =AVERAGE(P12:P23) -> 25082 | Q24: =AVERAGE(Q12:Q23) -> 26190
P25: =K21 -> 25081.877 | Q25: =K22 -> 26189.961
A26: =+A11 -> 2016 | P26: =P24-P25 -> 0.12288817 | Q26: =Q24-Q25 -> 0.038532581
A27: =+A12 -> 2017 | B27: =B12/B11 -> 1.028292 | C27: =C12/C11 -> 1.0138581 | D27: =D12/D11 -> 1.1466373 | E27: =E12/E11 -> 0.97566372 | F27: =F12/F11 -> 0.97441044 | G27: =G12/G11 -> 1.0384481 | H27: =H12/H11 -> 1 | J27: =(I20-I19)/I19 -> 0.041807842 | K27: 0.036 | L27: =J27+K27 -> 0.077807842
A28: =+A13 -> 2018 | B28: =B13/B12 -> 1.0549526 | C28: =C13/C12 -> 1.0501456 | D28: =D13/D12 -> 1.05 | E28: =E13/E12 -> 1.0068027 | F28: =F13/F12 -> 0.99794027 | G28: =G13/G12 -> 1.0417052 | H28: =H13/H12 -> 1 | J28: =(I21-I20)/I20 -> 0.046420479 | K28: 0.037 | L28: =J28+K28 -> 0.083420479
A29: =+A14 -> 2019 | B29: =B14/B13 -> 1.0487346 | C29: =C14/C13 -> 1.0361214 | D29: =D14/D13 -> 0.93498168 | E29: =E14/E13 -> 1.0067568 | F29: =F14/F13 -> 0.99019608 | G29: =G14/G13 -> 1.0676406 | H29: =H14/H13 -> 1 | J29: =(I22-I21)/I21 -> 0.046494825
A30: =+A15 -> 2020 | B30: =B15/B14 -> 1.0166818 | C30: =C15/C14 -> 1.0292871 | D30: =D15/D14 -> 0.94123408 | E30: =E15/E14 -> 0.98210291 | F30: =F15/F14 -> 0.96977592 | G30: =G15/G14 -> 1.0325597 | H30: =H15/H14 -> 1
A31: =+A16 -> 2021 | B31: =B16/B15 -> 1.0381338 | C31: =C16/C15 -> 1.0323536 | D31: =D16/D15 -> 0.97086368 | E31: =E16/E15 -> 0.97038724 | F31: =F16/F15 -> 0.98495433 | G31: =G16/G15 -> 1.0533522 | H31: =H16/H15 -> 1 | J31: =AVERAGE(J27:J29) -> 0.044907715 | K31: =AVERAGE(K27:K28) -> 0.0365 | L31: =J31+K31 -> 0.081407715
A32: =+A17 -> 2022 | B32: =B17/B16 -> 1.0274653 | C32: =C17/C16 -> 1.0461 | D32: =D17/D16 -> 1.0064309 | E32: =E17/E16 -> 1.0117371 | F32: =F17/F16 -> 0.98636116 | G32: =G17/G16 -> 1.1160592 | H32: =H17/H16 -> 1
A33: =+A18 -> 2023 | B33: =B18/B17 -> 1.072071 | C33: =C18/C17 -> 1.0203959 | D33: =D18/D17 -> 1.0766773 | E33: =E18/E17 -> 1.0417633 | F33: =F18/F17 -> 1.0022124 | G33: =G18/G17 -> 1.0710638 | H33: =H18/H17 -> 1
A34: =+A19 -> 2024 | B34: =B19/B18 -> 1.0809571 | C34: =C19/C18 -> 1.0142211 | D34: =D19/D18 -> 0.9901088 | E34: =E19/E18 -> 0.9376392 | F34: =F19/F18 -> 0.98399558 | G34: =G19/G18 -> 1.0672792 | H34: =H19/H18 -> 1
A35: =+A20 -> 2025 | B35: =B20/B19 -> 1.0413368 | C35: =C20/C19 -> 1.0081416 | D35: =D20/D19 -> 1.047952 | E35: =E20/E19 -> 0.98337292 | F35: =F20/F19 -> 0.97363993 | G35: =G20/G19 -> 1.0564999 | H35: =H20/H19 -> 1
A38: Used | B38: =B40 -> 1.0452131 | C38: =C40 -> 1.0277529 | D38: =D40 -> 1.0162924 | E38: =E40 -> 0.99029009 | F38: =F40 -> 0.98477734 | G38: =G40 -> 1.0602552 | H38: =H40 -> 1 | I38: Input data
A40: Geomean | B40: =IF(B17="",0,GEOMEAN(B27:B35)) -> 1.0452131 | C40: =IF(C17="",0,GEOMEAN(C27:C35)) -> 1.0277529 | D40: =IF(D17="",0,GEOMEAN(D27:D35)) -> 1.0162924 | E40: =IF(E17="",0,GEOMEAN(E27:E35)) -> 0.99029009 | F40: =IF(F17="",0,GEOMEAN(F27:F35)) -> 0.98477734 | G40: =IF(G17="",0,GEOMEAN(G27:G35)) -> 1.0602552 | H40: =IF(H17="",0,GEOMEAN(H27:H35)) -> 1

Sheet Rate Class Load Model
B1: ='Rate Class Customer Model'!D2 -> General Service >= 50 kW | C1: ='Rate Class Customer Model'!F2 -> Sentinel Lighting | D1: ='Rate Class Customer Model'!G2 -> Street Lighting | E1: ='Rate Class Customer Model'!H2 -> Embedded Distributor | F1: Total
A2: =+'Rate Class Customer Model'!A11 -> 2016 | B2: =SUMIF(Inputs!$A$24:$A$143,'Rate Class Load Model'!A2,Inputs!$K$24:$K$143) -> 151192.26 | C2: =SUMIF(Inputs!$A$24:$A$143,'Rate Class Load Model'!$A$2,Inputs!$Q$24:$Q$143) -> 294.9585 | D2: =SUMIF(Inputs!$A$24:$A$143,'Rate Class Load Model'!A2,Inputs!$T$24:$T$143) -> 1645.03 | E2: =SUMIF(Inputs!A$24:A$143,'Rate Class Load Model'!A2,Inputs!W$24:W$143) -> 2398.2 | F2: =SUM(B2:E2) -> 155530.45
A3: =+'Rate Class Customer Model'!A12 -> 2017 | B3: =SUMIF(Inputs!$A$24:$A$143,'Rate Class Load Model'!A3,Inputs!$K$24:$K$143) -> 163230.4 | C3: =SUMIF(Inputs!$A$24:$A$143,'Rate Class Load Model'!$A$2,Inputs!$Q$24:$Q$143) -> 294.9585 | D3: =SUMIF(Inputs!$A$24:$A$143,'Rate Class Load Model'!A3,Inputs!$T$24:$T$143) -> 1754.99 | E3: =SUMIF(Inputs!A$24:A$143,'Rate Class Load Model'!A3,Inputs!W$24:W$143) -> 2283.6 | F3: =SUM(B3:E3) -> 167563.95
A4: =+'Rate Class Customer Model'!A13 -> 2018 | B4: =SUMIF(Inputs!$A$24:$A$143,'Rate Class Load Model'!A4,Inputs!$K$24:$K$143) -> 168618.78 | C4: =SUMIF(Inputs!$A$24:$A$143,'Rate Class Load Model'!$A$2,Inputs!$Q$24:$Q$143) -> 294.9585 | D4: =SUMIF(Inputs!$A$24:$A$143,'Rate Class Load Model'!A4,Inputs!$T$24:$T$143) -> 1867.26 | E4: =SUMIF(Inputs!A$24:A$143,'Rate Class Load Model'!A4,Inputs!W$24:W$143) -> 2504.1 | F4: =SUM(B4:E4) -> 173285.1
A5: =+'Rate Class Customer Model'!A14 -> 2019 | B5: =SUMIF(Inputs!$A$24:$A$143,'Rate Class Load Model'!A5,Inputs!$K$24:$K$143) -> 164137.22 | C5: =SUMIF(Inputs!$A$24:$A$143,'Rate Class Load Model'!$A$2,Inputs!$Q$24:$Q$143) -> 294.9585 | D5: =SUMIF(Inputs!$A$24:$A$143,'Rate Class Load Model'!A5,Inputs!$T$24:$T$143) -> 1982.65 | E5: =SUMIF(Inputs!A$24:A$143,'Rate Class Load Model'!A5,Inputs!W$24:W$143) -> 2185.2 | F5: =SUM(B5:E5) -> 168600.03
A6: =+'Rate Class Customer Model'!A15 -> 2020 | B6: =SUMIF(Inputs!$A$24:$A$143,'Rate Class Load Model'!A6,Inputs!$K$24:$K$143) -> 153608.63 | C6: =SUMIF(Inputs!$A$24:$A$143,'Rate Class Load Model'!$A$2,Inputs!$Q$24:$Q$143) -> 294.9585 | D6: =SUMIF(Inputs!$A$24:$A$143,'Rate Class Load Model'!A6,Inputs!$T$24:$T$143) -> 2074.32 | E6: =SUMIF(Inputs!A$24:A$143,'Rate Class Load Model'!A6,Inputs!W$24:W$143) -> 2361.6 | F6: =SUM(B6:E6) -> 158339.51
A7: =+'Rate Class Customer Model'!A16 -> 2021 | B7: =SUMIF(Inputs!$A$24:$A$143,'Rate Class Load Model'!A7,Inputs!$K$24:$K$143) -> 157905.39 | C7: =SUMIF(Inputs!$A$24:$A$143,'Rate Class Load Model'!$A$2,Inputs!$Q$24:$Q$143) -> 294.9585 | D7: =SUMIF(Inputs!$A$24:$A$143,'Rate Class Load Model'!A7,Inputs!$T$24:$T$143) -> 2279.91 | E7: =SUMIF(Inputs!A$24:A$143,'Rate Class Load Model'!A7,Inputs!W$24:W$143) -> 2359.2 | F7: =SUM(B7:E7) -> 162839.46
A8: =+'Rate Class Customer Model'!A17 -> 2022 | B8: =SUMIF(Inputs!$A$24:$A$143,'Rate Class Load Model'!A8,Inputs!$K$24:$K$143) -> 157377.51 | C8: =SUMIF(Inputs!$A$24:$A$143,'Rate Class Load Model'!$A$2,Inputs!$Q$24:$Q$143) -> 294.9585 | D8: =SUMIF(Inputs!$A$24:$A$143,'Rate Class Load Model'!A8,Inputs!$T$24:$T$143) -> 2453.62 | E8: =SUMIF(Inputs!A$24:A$143,'Rate Class Load Model'!A8,Inputs!W$24:W$143) -> 2460 | F8: =SUM(B8:E8) -> 162586.09
A9: =+'Rate Class Customer Model'!A18 -> 2023 | B9: =SUMIF(Inputs!$A$24:$A$143,'Rate Class Load Model'!A9,Inputs!$K$24:$K$143) -> 162697.74 | C9: =SUMIF(Inputs!$A$24:$A$143,'Rate Class Load Model'!$A$2,Inputs!$Q$24:$Q$143) -> 294.9585 | D9: =SUMIF(Inputs!$A$24:$A$143,'Rate Class Load Model'!A9,Inputs!$T$24:$T$143) -> 2648.2991 | E9: =SUMIF(Inputs!A$24:A$143,'Rate Class Load Model'!A9,Inputs!W$24:W$143) -> 2368.6286 | F9: =SUM(B9:E9) -> 168009.63
A10: =+'Rate Class Customer Model'!A19 -> 2024 | B10: =SUMIF(Inputs!$A$24:$A$143,'Rate Class Load Model'!A10,Inputs!$K$24:$K$143) -> 160506.93 | C10: =SUMIF(Inputs!$A$24:$A$143,'Rate Class Load Model'!$A$2,Inputs!$Q$24:$Q$143) -> 294.9585 | D10: =SUMIF(Inputs!$A$24:$A$143,'Rate Class Load Model'!A10,Inputs!$T$24:$T$143) -> 2849.68 | E10: =SUMIF(Inputs!A$24:A$143,'Rate Class Load Model'!A10,Inputs!W$24:W$143) -> 2963.5714 | F10: =SUM(B10:E10) -> 166615.14
A11: =+'Rate Class Customer Model'!A20 -> 2025 | B11: =SUMIF(Inputs!$A$24:$A$143,'Rate Class Load Model'!A11,Inputs!$K$24:$K$143) -> 176584.32 | C11: =SUMIF(Inputs!$A$24:$A$143,'Rate Class Load Model'!$A$2,Inputs!$Q$24:$Q$143) -> 294.9585 | D11: =SUMIF(Inputs!$A$24:$A$143,'Rate Class Load Model'!A11,Inputs!$T$24:$T$143) -> 3010.8459 | E11: =SUMIF(Inputs!A$24:A$143,'Rate Class Load Model'!A11,Inputs!W$24:W$143) -> 2882.5078 | F11: =SUM(B11:E11) -> 182772.63
A12: =+'Rate Class Customer Model'!A21 -> 2026 | B12: =$B$27*'Rate Class Energy Model'!J34 -> 176623.49 | C12: 295 | D12: =$D$27*'Rate Class Energy Model'!M34 -> 3189.6913 | E12: =$E$27*'Rate Class Energy Model'!N34 -> 2575.2879 | F12: =SUM(B12:E12) -> 182683.47
A13: =+'Rate Class Customer Model'!A22 -> 2027 | B13: =$B$27*'Rate Class Energy Model'!J35 -> 179308.37 | C13: 295 | D13: =$D$27*'Rate Class Energy Model'!M35 -> 3381.8867 | E13: =$E$27*'Rate Class Energy Model'!N35 -> 2575.2879 | F13: =SUM(B13:E13) -> 185560.55
C14: Hardcoded 295 for consistency
A15: kW/kWh
A16: =+A2 -> 2016 | B16: =B2/'Rate Class Energy Model'!J3 -> 0.0025939288 | C16: =C2/'Rate Class Energy Model'!L3 -> 0.002856954 | D16: =D2/'Rate Class Energy Model'!M3 -> 0.0030237209 | E16: =E2/'Rate Class Energy Model'!N3 -> 0.0025287449
A17: =+A3 -> 2017 | B17: =B3/'Rate Class Energy Model'!J4 -> 0.0025865384 | C17: =C3/'Rate Class Energy Model'!L4 -> 0.0028402594 | D17: =D3/'Rate Class Energy Model'!M4 -> 0.0030542802 | E17: =E3/'Rate Class Energy Model'!N4 -> 0.0024812238
A18: =+A4 -> 2018 | B18: =B4/'Rate Class Energy Model'!J5 -> 0.0025780784 | C18: =C4/'Rate Class Energy Model'!L5 -> 0.0027968878 | D18: =D4/'Rate Class Energy Model'!M5 -> 0.0030359695 | E18: =E4/'Rate Class Energy Model'!N5 -> 0.0025765264
A19: =+A5 -> 2019 | B19: =B5/'Rate Class Energy Model'!J6 -> 0.0025216916 | C19: =C5/'Rate Class Energy Model'!L6 -> 0.0028414809 | D19: =D5/'Rate Class Energy Model'!M6 -> 0.0030331831 | E19: =E5/'Rate Class Energy Model'!N6 -> 0.0023676148
A20: =+A6 -> 2020 | B20: =B6/'Rate Class Energy Model'!J7 -> 0.0025672231 | C20: =C6/'Rate Class Energy Model'!L7 -> 0.0029212668 | D20: =D6/'Rate Class Energy Model'!M7 -> 0.0030229017 | E20: =E6/'Rate Class Energy Model'!N7 -> 0.0024982244
A21: =+A7 -> 2021 | B21: =B7/'Rate Class Energy Model'!J8 -> 0.002718014 | C21: =C7/'Rate Class Energy Model'!L8 -> 0.0029732017 | D21: =D7/'Rate Class Energy Model'!M8 -> 0.0030352752 | E21: =E7/'Rate Class Energy Model'!N8 -> 0.0025920407
A22: =+A8 -> 2022 | B22: =B8/'Rate Class Energy Model'!J9 -> 0.0027911951 | C22: =C8/'Rate Class Energy Model'!L9 -> 0.0030225109 | D22: =D8/'Rate Class Energy Model'!M9 -> 0.0030450185 | E22: =E8/'Rate Class Energy Model'!N9 -> 0.00262936
A23: 2023 | B23: =B9/'Rate Class Energy Model'!J10 -> 0.0029279651 | C23: =C9/'Rate Class Energy Model'!L10 -> 0.0030374793 | D23: =D9/'Rate Class Energy Model'!M10 -> 0.00305193 | E23: =E9/'Rate Class Energy Model'!N10 -> 0.0026246844
A24: 2024 | B24: =B10/'Rate Class Energy Model'!J11 -> 0.0028624419 | C24: =C10/'Rate Class Energy Model'!L11 -> 0.0033700885 | D24: =D10/'Rate Class Energy Model'!M11 -> 0.0030315461 | E24: =E10/'Rate Class Energy Model'!N11 -> 0.0031201801
A25: 2025 | B25: =B11/'Rate Class Energy Model'!J12 -> 0.0026853823 | C25: =C11/'Rate Class Energy Model'!L12 -> 0.0031383104 | D25: =D11/'Rate Class Energy Model'!M12 -> 0.0030398146 | E25: =E11/'Rate Class Energy Model'!N12 -> 0.0029516047
A27: Used | B27: =B29 -> 0.0026832459 | C27: =C29 -> 0.002979844 | D27: =D29 -> 0.003037364 | E27: =E29 -> 0.0026370204
A29: Average | B29: =AVERAGE(B16:B25) -> 0.0026832459 | C29: =AVERAGE(C16:C25) -> 0.002979844 | D29: =AVERAGE(D16:D25) -> 0.003037364 | E29: =AVERAGE(E16:E25) -> 0.0026370204

Sheet LV Consumption
B1: Actual | C1: Forecast | D1: Forecast
B2: 2025 | C2: 2026 | D2: 2027
A3: LV Consumption | B3: 63548.44 | C3: =C4*B5 -> 64691.605 | D3: =D4*B5 -> 66993.522
A4: Total Consumption | B4: ='Load Forecast Summary'!K10 -> 3.3217444e+08 | C4: ='Load Forecast Summary'!L10 -> 3.3814988e+08 | D4: ='Load Forecast Summary'!M10 -> 3.5018225e+08
A5: LV kWh / Total kWh | B5: =B3/B4 -> 0.00019131045

Sheet Selected
A1: SUMMARY OUTPUT
A3: Regression Statistics
A4: Multiple R | B4: 0.98053868
A5: R Square | B5: 0.96145609
A6: Adjusted R Square | B6: 0.95976557
A7: Standard Error | B7: 685943.84
A8: Observations | B8: 120
A10: ANOVA
B11: df | C11: SS | D11: MS | E11: F | F11: Significance F
A12: Regression | B12: 5 | C12: 1.3379987e+15 | D12: 2.6759975e+14 | E12: 568.73319 | F12: 7.9180597e-79
A13: Residual | B13: 114 | C13: 5.3639161e+13 | D13: 4.7051896e+11
A14: Total | B14: 119 | C14: 1.3916379e+15
B16: Coefficients | C16: Standard Error | D16: t Stat | E16: P-value | F16: Lower 95% | G16: Upper 95% | H16: Lower 95.0% | I16: Upper 95.0%
A17: Intercept | B17: -17823014 | C17: 2488622.7 | D17: -7.1617982 | E17: 8.3559271e-11 | F17: -22752956 | G17: -12893071 | H17: -22752956 | I17: -12893071
A18: Heating Degree Days | B18: 12437.661 | C18: 474.90223 | D18: 26.18994 | E18: 4.7363443e-50 | F18: 11496.883 | G18: 13378.439 | H18: 11496.883 | I18: 13378.439
A19: Cooling Degree Days | B19: 48882.12 | C19: 2390.0553 | D19: 20.452296 | E19: 5.9797059e-40 | F19: 44147.438 | G19: 53616.801 | H19: 44147.438 | I19: 53616.801
A20: Days in Month | B20: 615356.84 | C20: 81968.296 | D20: 7.5072542 | E20: 1.4496032e-11 | F20: 452978.28 | G20: 777735.4 | H20: 452978.28 | I20: 777735.4
A21: Spring Fall Flag | B21: -1023217.3 | C21: 179897.2 | D21: -5.6877888 | E21: 1.0092334e-07 | F21: -1379592.3 | G21: -666842.32 | H21: -1379592.3 | I21: -666842.32
A22: Number of Customers | B22: 953.15793 | C22: 25.591573 | D22: 37.244992 | E22: 1.191602e-65 | F22: 902.46122 | G22: 1003.8546 | H22: 902.46122 | I22: 1003.8546

Sheet Results
A1: SUMMARY OUTPUT
A3: Regression Statistics
A4: Multiple R | B4: 0.97843096
A5: R Square | B5: 0.95732714
A6: Adjusted R Square | B6: 0.95387883
A7: Standard Error | B7: 645303.36
A8: Observations | B8: 108
A10: ANOVA
B11: df | C11: SS | D11: MS | E11: F | F11: Significance F
A12: Regression | B12: 8 | C12: 9.2485082e+14 | D12: 1.1560635e+14 | E12: 277.62198 | F12: 3.118522e-64
A13: Residual | B13: 99 | C13: 4.1225226e+13 | D13: 4.1641642e+11
A14: Total | B14: 107 | C14: 9.6607605e+14
B16: Coefficients | C16: Standard Error | D16: t Stat | E16: P-value | F16: Lower 95% | G16: Upper 95% | H16: Lower 95.0% | I16: Upper 95.0%
A17: Intercept | B17: -16023959 | C17: 2611630.1 | D17: -6.1356159 | E17: 1.7548085e-08 | F17: -21206000 | G17: -10841918 | H17: -21206000 | I17: -10841918
A18: Heating Degree Days | B18: 11913.136 | C18: 493.37164 | D18: 24.146374 | E18: 2.7956116e-43 | F18: 10934.18 | G18: 12892.092 | H18: 10934.18 | I18: 12892.092
A19: Cooling Degree Days | B19: 43579.865 | C19: 3117.7444 | D19: 13.978011 | E19: 3.6518851e-25 | F19: 37393.584 | G19: 49766.147 | H19: 37393.584 | I19: 49766.147
A20: Days in Month | B20: 590415.07 | C20: 85644.147 | D20: 6.8938169 | E20: 5.1325171e-10 | F20: 420478.5 | G20: 760351.63 | H20: 420478.5 | I20: 760351.63
A21: Spring Fall Flag | B21: -972099.73 | C21: 179375.5 | D21: -5.4193562 | E21: 4.2163428e-07 | F21: -1328019.6 | G21: -616179.82 | H21: -1328019.6 | I21: -616179.82
A22: Number of Customers | B22: 961.11176 | C22: 43.772395 | D22: 21.957029 | E22: 7.8671121e-40 | F22: 874.25783 | G22: 1047.9657 | H22: 874.25783 | I22: 1047.9657
A23: Summer Flag | B23: 399007.22 | C23: 336973.39 | D23: 1.1840912 | E23: 0.23921214 | F23: -269621.1 | G23: 1067635.5 | H23: -269621.1 | I23: 1067635.5
A24: Manufactured Goods Sold (ON) | B24: -0.034656226 | C24: 0.029553973 | D24: -1.1726419 | E24: 0.24375338 | F24: -0.093297721 | G24: 0.023985268 | H24: -0.093297721 | I24: 0.023985268
A25: COVID | B25: -223648.6 | C25: 540507.08 | D25: -0.41377552 | E25: 0.67993352 | F25: -1296131.9 | G25: 848834.71 | H25: -1296131.9 | I25: 848834.71
A29: SUMMARY OUTPUT
A31: Regression Statistics
A32: Multiple R | B32: 0.97812802
A33: R Square | B33: 0.95673443
A34: Adjusted R Square | B34: 0.95370584
A35: Standard Error | B35: 646512.46
A36: Observations | B36: 108
A38: ANOVA
B39: df | C39: SS | D39: MS | E39: F | F39: Significance F
A40: Regression | B40: 7 | C40: 924278214586786 | D40: 1.3203974e+14 | E40: 315.90092 | F40: 3.3356175e-65
A41: Residual | B41: 100 | C41: 4.1797836e+13 | D41: 4.1797836e+11
A42: Total | B42: 107 | C42: 9.6607605e+14
B44: Coefficients | C44: Standard Error | D44: t Stat | E44: P-value | F44: Lower 95% | G44: Upper 95% | H44: Lower 95.0% | I44: Upper 95.0%
A45: Intercept | B45: -15965898 | C45: 2616053.2 | D45: -6.1030479 | E45: 1.9866037e-08 | F45: -21156073 | G45: -10775723 | H45: -21156073 | I45: -10775723
A46: Heating Degree Days | B46: 12039.009 | C46: 482.45529 | D46: 24.953627 | E46: 9.6628667e-45 | F46: 11081.832 | G46: 12996.187 | H46: 11081.832 | I46: 12996.187
A47: Cooling Degree Days | B47: 43647.157 | C47: 3123.057 | D47: 13.97578 | E47: 2.9761256e-25 | F47: 37451.101 | G47: 49843.213 | H47: 37451.101 | I47: 49843.213
A48: Days in Month | B48: 579024.55 | C48: 85250.956 | D48: 6.7920007 | E48: 8.0403851e-10 | F48: 409889.08 | G48: 748160.02 | H48: 409889.08 | I48: 748160.02
A49: Spring Fall Flag | B49: -1005550.3 | C49: 177424.58 | D49: -5.6674802 | E49: 1.4030709e-07 | F49: -1357555.6 | G49: -653544.99 | H49: -1357555.6 | I49: -653544.99
A50: Number of Customers | B50: 924.37119 | C50: 30.62463 | D50: 30.183914 | E50: 4.8302654e-52 | F50: 863.6128 | G50: 985.12959 | H50: 863.6128 | I50: 985.12959
A51: Summer Flag | B51: 446443.48 | C51: 335163.31 | D51: 1.3320177 | E51: 0.18588223 | F51: -218510.98 | G51: 1111397.9 | H51: -218510.98 | I51: 1111397.9
A52: COVID | B52: 175632.98 | C52: 420559.54 | D52: 0.41761741 | E52: 0.67712217 | F52: -658745.15 | G52: 1010011.1 | H52: -658745.15 | I52: 1010011.1
A56: SUMMARY OUTPUT
A58: Regression Statistics
A59: Multiple R | B59: 0.97808945
A60: R Square | B60: 0.95665897
A61: Adjusted R Square | B61: 0.95408425
A62: Standard Error | B62: 643864.67
A63: Observations | B63: 108
A65: ANOVA
B66: df | C66: SS | D66: MS | E66: F | F66: Significance F
A67: Regression | B67: 6 | C67: 9.2420532e+14 | D67: 1.5403422e+14 | E67: 371.55921 | F67: 1.8056219e-66
A68: Residual | B68: 101 | C68: 4.1870733e+13 | D68: 4.1456171e+11
A69: Total | B69: 107 | C69: 9.6607605e+14
B71: Coefficients | C71: Standard Error | D71: t Stat | E71: P-value | F71: Lower 95% | G71: Upper 95% | H71: Lower 95.0% | I71: Upper 95.0%
A72: Intercept | B72: -15981229 | C72: 2605082.6 | D72: -6.1346342 | E72: 1.6789085e-08 | F72: -21149012 | G72: -10813446 | H72: -21149012 | I72: -10813446
A73: Heating Degree Days | B73: 12041.238 | C73: 480.45001 | D73: 25.062415 | E73: 3.7769904e-45 | F73: 11088.154 | G73: 12994.321 | H73: 11088.154 | I73: 12994.321
A74: Cooling Degree Days | B74: 43713.62 | C74: 3106.2255 | D74: 14.072906 | E74: 1.5117316e-25 | F74: 37551.705 | G74: 49875.536 | H74: 37551.705 | I74: 49875.536
A75: Days in Month | B75: 579789.9 | C75: 84882.191 | D75: 6.8305247 | E75: 6.4746288e-10 | F75: 411406.46 | G75: 748173.33 | H75: 411406.46 | I75: 748173.33
A76: Spring Fall Flag | B76: -999365.87 | C76: 176081.38 | D76: -5.6755908 | E76: 1.3284512e-07 | F76: -1348664 | G76: -650067.78 | H76: -1348664 | I76: -650067.78
A77: Number of Customers | B77: 923.9769 | C77: 30.484709 | D77: 30.30952 | E77: 1.6292002e-52 | F77: 863.50344 | G77: 984.45036 | H77: 863.50344 | I77: 984.45036
A78: Summer Flag | B78: 436336.04 | C78: 332919.24 | D78: 1.3106363 | E78: 0.19295314 | F78: -224086.18 | G78: 1096758.3 | H78: -224086.18 | I78: 1096758.3
