Workbook
Name __CAP1000: #REF!
Name __CAP1000: #REF!
Name __CAP1000: #REF!
Name __OP1000: #REF!
Name __OP1000: #REF!
Name __OP1000: #REF!
Name _110: #REF!
Name _110: #REF!
Name _110: #REF!
Name _110INPT: #REF!
Name _110INPT: #REF!
Name _110INPT: #REF!
Name _115: #REF!
Name _115: #REF!
Name _115: #REF!
Name _115INPT: #REF!
Name _115INPT: #REF!
Name _115INPT: #REF!
Name _120: #REF!
Name _120: #REF!
Name _120: #REF!
Name _140: #REF!
Name _140: #REF!
Name _140: #REF!
Name _140INPT: #REF!
Name _140INPT: #REF!
Name _140INPT: #REF!
Name _CAP1000: #REF!
Name _CAP1000: #REF!
Name _CAP1000: #REF!
Name _OP1000: #REF!
Name _OP1000: #REF!
Name _OP1000: #REF!
Name ALL: #REF!
Name ALL: #REF!
Name ALL: #REF!
Name ApprovedYr: #REF!
Name CAfile: #REF!
Name CAPCOSTS: #REF!
Name CAPCOSTS: #REF!
Name CAPCOSTS: #REF!
Name CAPITAL: #REF!
Name CAPITAL: #REF!
Name CAPITAL: #REF!
Name CapitalExpListing: #REF!
Name CapitalExpListing: #REF!
Name CapitalExpListing: #REF!
Name CArevReq: #REF!
Name CASENUMBER: #REF!
Name CASHFLOW: #REF!
Name CASHFLOW: #REF!
Name CASHFLOW: #REF!
Name cc: #REF!
Name cc: #REF!
Name cc: #REF!
Name ClassRange1: #REF!
Name ClassRange2: #REF!
Name contactf: #REF!
Name contactf: #REF!
Name contactf: #REF!

Sheet Exhibit 3
A1: Table 3-1: Summary of Load and Customer Forecast
A2: Year | B2: Billed Actual (GWh) | C2: Growth (GWh) | D2: Billed Weather Normal (GWh) | E2: Growth (GWh) | F2: Customer/ Connection Count | G2: Growth (Customer/ Connection Count)
A3: Billed Energy (GWh) and Customer Count/Connections
A5: 2024 OEB-Approved | B5: =B274/1000000 -> 302.07046 | F5: =B273 -> 26822
A7: 2016 | B7: {=TRANSPOSE('Load Forecast Summary'!B10:M10)/1000000} -> 244.03834 | D7: =B7*F115 -> 238.39617 | F7: {=TRANSPOSE('Load Forecast Summary'!B47:M47)} -> 19399
A8: 2017 | B8: 243.19257 | C8: =B8-B7 -> -0.84577357 | D8: =B8*F116 -> 247.06905 | E8: =D8-D7 -> 8.6728823 | F8: 19958.25 | G8: =F8-F7 -> 559.25
A9: 2018 | B9: 264.47127 | C9: =B9-B8 -> 21.278709 | D9: =B9*F117 -> 257.66378 | E9: =D9-D8 -> 10.594729 | F9: 20997.417 | G9: =F9-F8 -> 1039.1667
A10: 2019 | B10: 271.02131 | C10: =B10-B9 -> 6.5500323 | D10: =B10*F118 -> 270.32207 | E10: =D10-D9 -> 12.658288 | F10: 22042.667 | G10: =F10-F9 -> 1045.25
A11: 2020 | B11: 276.83813 | C11: =B11-B10 -> 5.8168278 | D11: =B11*F119 -> 273.65173 | E11: =D11-D10 -> 3.3296558 | F11: 22460.5 | G11: =F11-F10 -> 417.83333
A12: 2021 | B12: 279.2833 | C12: =B12-B11 -> 2.445169 | D12: =B12*F120 -> 281.54829 | E12: =D12-D11 -> 7.8965635 | F12: 23343.667 | G12: =F12-F11 -> 883.16667
A13: 2022 | B13: 284.46792 | C13: =B13-B12 -> 5.1846217 | D13: =B13*F121 -> 284.13225 | E13: =D13-D12 -> 2.583962 | F13: 24316.583 | G13: =F13-F12 -> 972.91667
A14: 2023 | B14: 286.82714 | C14: =B14-B13 -> 2.3592114 | D14: =B14*F122 -> 293.86301 | E14: =D14-D13 -> 9.7307532 | F14: 25988.25 | G14: =F14-F13 -> 1671.6667
A15: 2024 | B15: 308.4381 | C15: =B15-B14 -> 21.610966 | D15: =B15*F123 -> 314.97699 | E15: =D15-D14 -> 21.113984 | F15: 27915.417 | G15: =F15-F14 -> 1927.1667
A16: 2025 | B16: 332.17444 | C16: =B16-B15 -> 23.736336 | D16: =B16*F124 -> 329.02542 | E16: =D16-D15 -> 14.048434 | F16: 29082.5 | G16: =F16-F15 -> 1167.0833
A17: 2026 Bridge | B17: 338.14988 | C17: =B17-B16 -> 5.9754439 | D17: =B17*F125 -> 338.14988 | E17: =D17-D16 -> 9.1244576 | F17: 30432.524 | G17: =F17-F16 -> 1350.0236
A18: 2027 Test | B18: 350.18225 | C18: =B18-B17 -> 12.032365 | D18: =B18*F126 -> 350.18225 | E18: =D18-D17 -> 12.032365 | F18: 31847.478 | G18: =F18-F17 -> 1414.9549
A20: Table 3-2: Billed Energy by Rate Class
A21: Year | B21: Residential | C21: General Service < 50 kW | D21: General Service > 50 kW | E21: Embedded Distributor | F21: Unmetered Scattered Load | G21: Sentinel Lighting | H21: Street Lighting | I21: Total
A22: Billed Energy (GWh) - Actual
A23: =A7 -> 2016 | B23: {=TRANSPOSE('Load Forecast Summary'!B15:K15)/1000000} -> 150.13592 | C23: {=TRANSPOSE('Load Forecast Summary'!B19:K19)/1000000} -> 33.558137 | D23: {=TRANSPOSE('Load Forecast Summary'!B23:K23)/1000000} -> 58.286974 | E23: {=TRANSPOSE('Load Forecast Summary'!B42:K42)/1000000} -> 0.9483756 | F23: {=TRANSPOSE('Load Forecast Summary'!B28:K28)/1000000} -> 0.461652 | G23: {=TRANSPOSE('Load Forecast Summary'!B32:K32)/1000000} -> 0.1032423 | H23: {=TRANSPOSE('Load Forecast Summary'!B37:K37)/1000000} -> 0.54404161 | I23: =SUM(B23:H23) -> 244.03834
A24: =A8 -> 2017 | B24: 145.25046 | C24: 32.775442 | D24: 63.107665 | E24: 0.9203523 | F24: 0.460196 | G24: 0.10384914 | H24: 0.57460019 | I24: =SUM(B24:H24) -> 243.19257
A25: =A9 -> 2018 | B25: 160.85375 | C25: 36.037382 | D25: 65.404829 | E25: 0.9718899 | F25: 0.482914 | G25: 0.10545954 | H25: 0.61504571 | I25: =SUM(B25:H25) -> 264.47127
A26: =A10 -> 2019 | B26: 161.28452 | C26: 42.480663 | D26: 65.090125 | E26: 0.9229542 | F26: 0.485587 | G26: 0.1038045 | H26: 0.65365325 | I26: =SUM(B26:H26) -> 271.02131
A27: =A11 -> 2020 | B27: 174.9576 | C27: 39.873537 | D27: 59.834547 | E27: 0.9453114 | F27: 0.439968 | G27: 0.10096938 | H27: 0.6862016 | I27: =SUM(B27:H27) -> 276.83813
A28: =A12 -> 2021 | B28: 178.49971 | C28: 40.487961 | D28: 58.095871 | E28: 0.9101709 | F28: 0.439248 | G28: 0.09920568 | H28: 0.75113782 | I28: =SUM(B28:H28) -> 279.2833
A29: =A13 -> 2022 | B29: 181.84366 | C29: 43.953859 | D29: 56.383557 | E29: 0.9355889 | F29: 0.447888 | G29: 0.09758724 | H29: 0.80578163 | I29: =SUM(B29:H29) -> 284.46792
A30: =A14 -> 2023 | B30: 184.11604 | C30: 44.829085 | D30: 55.56683 | E30: 0.9024432 | F30: 0.447888 | G30: 0.09710634 | H30: 0.86774569 | I30: =SUM(B30:H30) -> 286.82714
A31: =A15 -> 2024 | B31: 198.21644 | C31: 51.768404 | D31: 56.073429 | E31: 0.9498078 | F31: 0.402486 | G31: 0.08752248 | H31: 0.94000881 | I31: =SUM(B31:H31) -> 308.4381
A32: =A16 -> 2025 | B32: 216.26022 | C32: 47.670304 | D32: 65.757609 | E32: 0.97659005 | F32: 0.425256 | G32: 0.0939864 | H32: 0.99047021 | I32: =SUM(B32:H32) -> 332.17444
A34: Billed Energy (GWh) - Weather Normal
A35: 2024 OEB-Approved | B35: =B242/1000000 -> 196.51575 | C35: =B246/1000000 -> 43.471713 | D35: =B250/1000000 -> 59.688867 | E35: =B255/1000000 -> 0.9355889 | F35: =B260/1000000 -> 0.46660934 | G35: =B264/1000000 -> 0.09659133 | H35: =B269/1000000 -> 0.89533609 | I35: =SUM(B35:H35) -> 302.07046
A37: =A7 -> 2016 | B37: =B23*$F$115 -> 146.66477 | C37: =C23*$F$115 -> 32.782272 | D37: =D23*$F$115 -> 56.939379 | E37: =E23*$F$115 -> 0.92644916 | F37: =F23*$F$115 -> 0.45097861 | G37: =G23*$F$115 -> 0.10085534 | H37: =H23*$F$115 -> 0.53146337 | I37: =SUM(B37:H37) -> 238.39617
A38: =A8 -> 2017 | B38: =B24*$F$116 -> 147.56575 | C38: =C24*$F$116 -> 33.297883 | D38: =D24*$F$116 -> 64.113601 | E38: =E24*$F$116 -> 0.93502272 | F38: =F24*$F$116 -> 0.46753152 | G38: =G24*$F$116 -> 0.1055045 | H38: =H24*$F$116 -> 0.58375932 | I38: =SUM(B38:H38) -> 247.06905
A39: =A9 -> 2018 | B39: =B25*$F$117 -> 156.71338 | C39: =C25*$F$117 -> 35.10978 | D39: =D25*$F$117 -> 63.721309 | E39: =E25*$F$117 -> 0.94687345 | F39: =F25*$F$117 -> 0.47048379 | G39: =G25*$F$117 -> 0.10274501 | H39: =H25*$F$117 -> 0.59921443 | I39: =SUM(B39:H39) -> 257.66378
A40: =A10 -> 2019 | B40: =B26*$F$118 -> 160.86841 | C40: =C26*$F$118 -> 42.371063 | D40: =D26*$F$118 -> 64.922192 | E40: =E26*$F$118 -> 0.92057298 | F40: =F26*$F$118 -> 0.48433419 | G40: =G26*$F$118 -> 0.10353668 | H40: =H26*$F$118 -> 0.65196682 | I40: =SUM(B40:H40) -> 270.32207
A41: =A11 -> 2020 | B41: =B27*$F$119 -> 172.94384 | C41: =C27*$F$119 -> 39.414593 | D41: =D27*$F$119 -> 59.145851 | E41: =E27*$F$119 -> 0.93443087 | F41: =F27*$F$119 -> 0.43490397 | G41: =G27*$F$119 -> 0.099807222 | H41: =H27*$F$119 -> 0.67830342 | I41: =SUM(B41:H41) -> 273.65173
A42: =A12 -> 2021 | B42: =B28*$F$120 -> 179.94734 | C42: =C28*$F$120 -> 40.816318 | D42: =D28*$F$120 -> 58.567028 | E42: =E28*$F$120 -> 0.91755239 | F42: =F28*$F$120 -> 0.4428103 | G42: =G28*$F$120 -> 0.10001024 | H42: =H28*$F$120 -> 0.75722955 | I42: =SUM(B42:H42) -> 281.54829
A43: =A13 -> 2022 | B43: =B29*$F$121 -> 181.62909 | C43: =C29*$F$121 -> 43.901994 | D43: =D29*$F$121 -> 56.317024 | E43: =E29*$F$121 -> 0.93448491 | F43: =F29*$F$121 -> 0.44735949 | G43: =G29*$F$121 -> 0.097472087 | H43: =H29*$F$121 -> 0.80483081 | I43: =SUM(B43:H43) -> 284.13225
A44: =A14 -> 2023 | B44: =B30*$F$122 -> 188.6324 | C44: =C30*$F$122 -> 45.928743 | D44: =D30*$F$122 -> 56.929885 | E44: =E30*$F$122 -> 0.92458013 | F44: =F30*$F$122 -> 0.45887469 | G44: =G30*$F$122 -> 0.099488359 | H44: =H30*$F$122 -> 0.88903149 | I44: =SUM(B44:H44) -> 293.86301
A45: =A15 -> 2024 | B45: =B31*$F$123 -> 202.41863 | C45: =C31*$F$123 -> 52.865894 | D45: =D31*$F$123 -> 57.262185 | E45: =E31*$F$123 -> 0.96994373 | F45: =F31*$F$123 -> 0.4110187 | G45: =G31*$F$123 -> 0.089377957 | H45: =H31*$F$123 -> 0.959937 | I45: =SUM(B45:H45) -> 314.97699
...

Sheet Inputs
A3: Average Customer / Connection Count
A4: Date | B4: Residential | C4: General Service < 50 kW | D4: General Service >= 50 kW | E4: Unmetered Scattered Load | F4: Sentinel Lighting | G4: Street Lighting | H4: Embedded Distributor
A5: 2016 | B5: =AVERAGE($G$24:$G$35) -> 15201.583 | C5: =AVERAGE($I$24:$I$35) -> 1016.25 | D5: =AVERAGE($L$24:$L$35) -> 75.583333 | E5: =AVERAGE($O$24:$O$35) -> 75.333333 | F5: =AVERAGE($R$24:$R$35) -> 166.08333 | G5: =AVERAGE($U$24:$U$35) -> 2863.1667 | H5: =AVERAGE($X$24:$X$35) -> 1
A6: 2017 | B6: =AVERAGE($G$36:$G$47) -> 15631.667 | C6: =AVERAGE($I$36:$I$47) -> 1030.3333 | D6: =AVERAGE($L$36:$L$47) -> 86.666667 | E6: =AVERAGE($O$36:$O$47) -> 73.5 | F6: =AVERAGE($R$36:$R$47) -> 161.83333 | G6: =AVERAGE($U$36:$U$47) -> 2973.25 | H6: =AVERAGE($X$36:$X$47) -> 1
A7: 2018 | B7: =AVERAGE($G$48:$G$59) -> 16490.667 | C7: =AVERAGE($I$48:$I$59) -> 1082 | D7: =AVERAGE($L$48:$L$59) -> 91 | E7: =AVERAGE($O$48:$O$59) -> 74 | F7: =AVERAGE($R$48:$R$59) -> 161.5 | G7: =AVERAGE($U$48:$U$59) -> 3097.25 | H7: =AVERAGE($X$48:$X$59) -> 1
A8: 2019 | B8: =AVERAGE($G$60:$G$71) -> 17294.333 | C8: =AVERAGE($I$60:$I$71) -> 1121.0833 | D8: =AVERAGE($L$60:$L$71) -> 85.083333 | E8: =AVERAGE($O$60:$O$71) -> 74.5 | F8: =AVERAGE($R$60:$R$71) -> 159.91667 | G8: =AVERAGE($U$60:$U$71) -> 3306.75 | H8: =AVERAGE($X$60:$X$71) -> 1
A9: 2020 | B9: =AVERAGE($G$72:$G$83) -> 17582.833 | C9: =AVERAGE($I$72:$I$83) -> 1153.9167 | D9: =AVERAGE($L$72:$L$83) -> 80.083333 | E9: =AVERAGE($O$72:$O$83) -> 73.166667 | F9: =AVERAGE($R$72:$R$83) -> 155.08333 | G9: =AVERAGE($U$72:$U$83) -> 3414.4167 | H9: =AVERAGE($X$72:$X$83) -> 1
A10: 2021 | B10: =AVERAGE($G$84:$G$95) -> 18253.333 | C10: =AVERAGE($I$84:$I$95) -> 1191.25 | D10: =AVERAGE($L$84:$L$95) -> 77.75 | E10: =AVERAGE($O$84:$O$95) -> 71 | F10: =AVERAGE($R$84:$R$95) -> 152.75 | G10: =AVERAGE($U$84:$U$95) -> 3596.5833 | H10: =AVERAGE($X$84:$X$95) -> 1
A11: 2022 | B11: =AVERAGE($G$96:$G$107) -> 18754.667 | C11: =AVERAGE($I$96:$I$107) -> 1246.1667 | D11: =AVERAGE($L$96:$L$107) -> 78.25 | E11: =AVERAGE($O$96:$O$107) -> 71.833333 | F11: =AVERAGE($R$96:$R$107) -> 150.66667 | G11: =AVERAGE($U$96:$U$107) -> 4014 | H11: =AVERAGE($X$96:$X$107) -> 1
A12: 2023 | B12: =AVERAGE($G$108:$G$119) -> 20106.333 | C12: =AVERAGE($I$108:$I$119) -> 1271.5833 | D12: =AVERAGE($L$108:$L$119) -> 84.25 | E12: =AVERAGE($O$108:$O$119) -> 74.833333 | F12: =AVERAGE($R$108:$R$119) -> 151 | G12: =AVERAGE($U$108:$U$119) -> 4299.25 | H12: =AVERAGE($X$108:$X$119) -> 1
A13: 2024 | B13: =AVERAGE($G$120:$G$131) -> 21734.083 | C13: =AVERAGE($I$120:$I$131) -> 1289.6667 | D13: =AVERAGE($L$120:$L$131) -> 83.416667 | E13: =AVERAGE($O$120:$O$131) -> 70.166667 | F13: =AVERAGE($R$120:$R$131) -> 148.58333 | G13: =AVERAGE($U$120:$U$131) -> 4588.5 | H13: =AVERAGE($X$120:$X$131) -> 1
A14: 2025 | B14: =AVERAGE($G$132:$G$143) -> 22632.5 | C14: =AVERAGE($I$132:$I$143) -> 1300.1667 | D14: =AVERAGE($L$132:$L$143) -> 87.416667 | E14: =AVERAGE($O$132:$O$143) -> 69 | F14: =AVERAGE($R$132:$R$143) -> 144.66667 | G14: =AVERAGE($U$132:$U$143) -> 4847.75 | H14: =AVERAGE($X$132:$X$143) -> 1
A20: Consumption | D20: Wholesale | F20: Retail Consumption
D21: Wholesale Purchases | E21: Embedded Generation | F21: =B4 -> Residential | H21: =C4 -> General Service < 50 kW | J21: =D4 -> General Service >= 50 kW | M21: =E4 -> Unmetered Scattered Load | P21: =F4 -> Sentinel Lighting | S21: =G4 -> Street Lighting | V21: =H4 -> Embedded Distributor
F22: kWh | G22: Number of Customer/ Connection | H22: kWh | I22: Number of Customer/ Connection | J22: kWh | K22: kW | L22: Number of Customer/ Connection | M22: kWh | N22: kW | O22: Number of Customer/ Connection | P22: kWh | Q22: kW | R22: Number of Customer/ Connection | S22: kWh | T22: kW | U22: Customer/ Connection | V22: kWh | W22: kW | X22: Number of Customer/ Connection | Y22: kWh | Z22: kW | AA22: Number of Customer/ Connection
A23: Year | B23: Month
A24: 2016 | B24: January | C24: =SUM(G24,I24,L24,X24) -> 16198 | D24: 25159552 | F24: 15031946 | G24: 15110 | H24: 3038307.5 | I24: 1013 | J24: 5029708.9 | K24: 11858.98 | L24: 74 | M24: 38591 | N24: 0 | O24: 76 | P24: 9060.86 | Q24: 24.539056 | R24: 166 | S24: 58440.27 | T24: 134.66 | U24: 2835 | V24: 92254.5 | W24: 194.4 | X24: 1
A25: 2016 | B25: February | C25: =SUM(G25,I25,L25,X25) -> 16213 | D25: 23014941 | F25: 13742388 | G25: 15125 | H25: 2827715.9 | I25: 1013 | J25: 4750605.5 | K25: 11679.23 | L25: 74 | M25: 38591 | N25: 0 | O25: 76 | P25: 9035.66 | Q25: 24.729056 | R25: 166 | S25: 54906.11 | T25: 135.86 | U25: 2845 | V25: 82077 | W25: 201.3 | X25: 1
A26: 2016 | B26: March | C26: =SUM(G26,I26,L26,X26) -> 16244 | D26: 21970551 | F26: 12724183 | G26: 15151 | H26: 2719965.2 | I26: 1018 | J26: 4947024.8 | K26: 11803.47 | L26: 74 | M26: 38591 | N26: 0 | O26: 76 | P26: 8871.26 | Q26: 24.733167 | R26: 166 | S26: 58975.59 | T26: 135.9 | U26: 2846 | V26: 77005.2 | W26: 171 | X26: 1
A27: 2016 | B27: April | C27: =SUM(G27,I27,L27,X27) -> 16250 | D27: 19763963 | F27: 11375900 | G27: 15161 | H27: 2594881.7 | I27: 1014 | J27: 4677929.5 | K27: 11989.26 | L27: 74 | M27: 38591 | N27: 0 | O27: 76 | P27: 8814.26 | Q27: 24.625444 | R27: 167 | S27: 42839.79 | T27: 136.63 | U27: 2856 | V27: 68808.9 | W27: 166.8 | X27: 1
A28: 2016 | B28: May | C28: =SUM(G28,I28,L28,X28) -> 16262 | D28: 18836973 | F28: 10513778 | G28: 15167 | H28: 2635755 | I28: 1020 | J28: 4551175.3 | K28: 13001.91 | L28: 74 | M28: 38591 | N28: 0 | O28: 75 | P28: 8761.82 | Q28: 24.599 | R28: 167 | S28: 44746.55 | T28: 137.53 | U28: 2872 | V28: 68053.5 | W28: 212.7 | X28: 1
A29: 2016 | B29: June | C29: =SUM(G29,I29,L29,X29) -> 16270 | D29: 19211234 | F29: 11183009 | G29: 15178 | H29: 2755147.7 | I29: 1017 | J29: 4549813.6 | K29: 12884.51 | L29: 74 | M29: 38591 | N29: 0 | O29: 75 | P29: 8742.2 | Q29: 24.724944 | R29: 167 | S29: 43321.32 | T29: 137.53 | U29: 2872 | V29: 79915.2 | W29: 217.2 | X29: 1
A30: 2016 | B30: July | C30: =SUM(G30,I30,L30,X30) -> 16282 | D30: 23404500 | F30: 14200168 | G30: 15191 | H30: 3024140.7 | I30: 1016 | J30: 4781044.4 | K30: 12508 | L30: 74 | M30: 38351 | N30: 0 | O30: 75 | P30: 5753.18 | Q30: 24.754389 | R30: 167 | S30: 31975.26 | T30: 137.53 | U30: 2872 | V30: 92374.8 | W30: 236.7 | X30: 1
A31: 2016 | B31: August | C31: =SUM(G31,I31,L31,X31) -> 16293 | D31: 24564804 | F31: 14840247 | G31: 15202 | H31: 3034570.4 | I31: 1013 | J31: 5041185.6 | K31: 13500.62 | L31: 77 | M31: 38351 | N31: 0 | O31: 75 | P31: 8780.06 | Q31: 24.634056 | R31: 166 | S31: 31975.26 | T31: 137.53 | U31: 2872 | V31: 95967 | W31: 246.6 | X31: 1
A32: 2016 | B32: September | C32: =SUM(G32,I32,L32,X32) -> 16324 | D32: 19239594 | F32: 10645035 | G32: 15234 | H32: 2630169.5 | I32: 1011 | J32: 4755064.6 | K32: 13419.58 | L32: 78 | M32: 38351 | N32: 0 | O32: 75 | P32: 8856.62 | Q32: 24.627889 | R32: 166 | S32: 30943.8 | T32: 137.53 | U32: 2872 | V32: 70155.6 | W32: 222.6 | X32: 1
A33: 2016 | B33: October | C33: =SUM(G33,I33,L33,X33) -> 16371 | D33: 19360398 | F33: 10289584 | G33: 15274 | H33: 2635130.7 | I33: 1018 | J33: 5007649 | K33: 13614.85 | L33: 78 | M33: 38351 | N33: 0 | O33: 75 | P33: 8818.88 | Q33: 24.069389 | R33: 165 | S33: 49028.73 | T33: 137.53 | U33: 2872 | V33: 64336.2 | W33: 147 | X33: 1
A34: 2016 | B34: November | C34: =SUM(G34,I34,L34,X34) -> 16400 | D34: 20317470 | F34: 11036734 | G34: 15300 | H34: 2663742.9 | I34: 1021 | J34: 5099609.5 | K34: 12683.34 | L34: 78 | M34: 38351 | N34: 0 | O34: 75 | P34: 8843.9 | Q34: 24.524056 | R34: 165 | S34: 47547.9 | T34: 138.4 | U34: 2872 | V34: 69149.4 | W34: 183.6 | X34: 1
A35: 2016 | B35: December | C35: =SUM(G35,I35,L35,X35) -> 16426 | D35: 24538056 | F35: 14552945 | G35: 15326 | H35: 2998609.4 | I35: 1021 | J35: 5096163.4 | K35: 12248.51 | L35: 78 | M35: 38351 | N35: 0 | O35: 75 | P35: 8903.6 | Q35: 24.398056 | R35: 165 | S35: 49341.03 | T35: 138.4 | U35: 2872 | V35: 88278.3 | W35: 198.3 | X35: 1
... A113: 2023 | B113: June | C113: =SUM(G113,I113,L113,X113) -> 21388 | D113: 24243663 | F113: 14488840 | G113: 20025 | H113: 3577686.3 | I113: 1276 | J113: 4676161.6 | K113: 14188.282 | L113: 86 | M113: 37417.459 | N113: 0 | O113: 76 | P113: 8104.9324 | Q113: 22.856486 | R113: 151 | S113: 69189.9 | T113: 217.3724 | U113: 4244 | V113: 74751 | W113: 240 | X113: 1
A114: 2023 | B114: July | C114: =SUM(G114,I114,L114,X114) -> 21442 | D114: 28251363 | F114: 17866992 | G114: 20077 | H114: 3910002.2 | I114: 1278 | J114: 4810937.6 | K114: 13007.377 | L114: 86 | M114: 36944.746 | N114: 0 | O114: 76 | P114: 8111.3036 | Q114: 22.187131 | R114: 151 | S114: 51068.78 | T114: 220.73901 | U114: 4244 | V114: 88319.4 | W114: =AVERAGE(W102,W90,W78,W66,W54,W42,W30) -> 244.45714 | X114: 1
A115: 2023 | B115: August | C115: =SUM(G115,I115,L115,X115) -> 21574 | D115: 25466441 | F115: 15595101 | G115: 20207 | H115: 3705982.2 | I115: 1280 | J115: 4622789.7 | K115: 15664.631 | L115: 86 | M115: 36609.513 | N115: 0 | O115: 72 | P115: 8109.0196 | Q115: 22.423374 | R115: 151 | S115: 51068.78 | T115: =AVERAGE(T114,T118) -> 224.33174 | U115: 4360 | V115: 79518 | W115: =AVERAGE(W103,W91,W79,W67,W55,W43,W31) -> 240.64286 | X115: 1
A116: 2023 | B116: September | C116: =SUM(G116,I116,L116,X116) -> 21889 | D116: 23431411 | F116: 13888909 | G116: 20529 | H116: 3485540.5 | I116: 1273 | J116: 4568070.9 | K116: 14457.577 | L116: 86 | M116: 36609.513 | N116: 0 | O116: 72 | P116: 8104.9324 | Q116: 22.561182 | R116: 151 | S116: 49421.4 | T116: =AVERAGE(T115,T118) -> 226.1281 | U116: 4360 | V116: 70107.6 | W116: =AVERAGE(W104,W92,W80,W68,W56,W44,W32) -> 208.62857 | X116: 1
A117: 2023 | B117: October | C117: =SUM(G117,I117,L117,X117) -> 22078 | D117: 23160515 | F117: 13597478 | G117: 20722 | H117: 3511059.2 | I117: 1269 | J117: 4558932 | K117: 15765.366 | L117: 86 | M117: 36609.513 | N117: 0 | O117: 72 | P117: 8109.5005 | Q117: 22.413531 | R117: 151 | S117: 80114.22 | T117: =AVERAGE(T116,T119) -> 227.02628 | U117: 4460 | V117: 66447 | W117: =AVERAGE(W105,W93,W81,W69,W57,W45,W33) -> 148.2 | X117: 1
A118: 2023 | B118: November | C118: =SUM(G118,I118,L118,X118) -> 22191 | D118: 25412592 | F118: 15333234 | G118: 20838 | H118: 3667109.4 | I118: 1266 | J118: 4706498.8 | K118: 14582.134 | L118: 86 | M118: 36609.513 | N118: 0 | O118: 72 | P118: 8036.4118 | Q118: 22.364313 | R118: 151 | S118: 78246 | T118: 227.92446 | U118: 4460 | V118: 71872.2 | W118: =AVERAGE(W106,W94,W82,W70,W58,W46,W34) -> 179.91429 | X118: 1
A119: 2023 | B119: December | C119: =SUM(G119,I119,L119,X119) -> 22337 | D119: 28044242 | F119: 17422587 | G119: 20977 | H119: 3944375.8 | I119: 1273 | J119: 4699271.7 | K119: 12992.161 | L119: 86 | M119: 36609.513 | N119: 0 | O119: 72 | P119: 8003.2934 | Q119: 22.078853 | R119: 151 | S119: 80854.2 | T119: 227.92446 | U119: 4463 | V119: 82785.6 | W119: =AVERAGE(W107,W95,W83,W71,W59,W47,W35) -> 197.18571 | X119: 1
A120: 2024 | B120: January | C120: =SUM(G120,I120,L120,X120) -> 22480 | D120: 30258212 | F120: 19056323 | G120: 21120 | H120: 5119325.5 | I120: 1274 | J120: 4984913 | K120: 12671.873 | L120: 85 | M120: 34034.076 | N120: 0 | O120: 72 | P120: 7398.61 | Q120: 15.10413 | R120: 150 | S120: 98431.2 | T120: 228.00255 | U120: 4463 | V120: 86797.798 | W120: =AVERAGE(W108,W96,W84,W72,W60,W48,W36+W24) -> 224.91429 | X120: 1
A121: 2024 | B121: February | C121: =SUM(G121,I121,L121,X121) -> 22616 | D121: 26987081 | F121: 16746527 | G121: 21254 | H121: 4566987.3 | I121: 1276 | J121: 4593367.8 | K121: 12609.018 | L121: 85 | M121: 33723.795 | N121: 0 | O121: 72 | P121: 7391.9192 | Q121: 20.669784 | R121: 150 | S121: 94508.68 | T121: 228.00255 | U121: 4530 | V121: 76964.404 | W121: =AVERAGE(W109,W97,W85,W73,W61,W49,W37+W25) -> 218.1 | X121: 1
A122: 2024 | B122: March | C122: =SUM(G122,I122,L122,X122) -> 22842 | D122: 26960113 | F122: 16516020 | G122: 21474 | H122: 4553191.2 | I122: 1283 | J122: 4725034.3 | K122: 12361.68 | L122: 84 | M122: 33677.829 | N122: 0 | O122: 71 | P122: 7357.752 | Q122: 21.577328 | R122: 150 | S122: 101437.42 | T122: 234.01426 | U122: 4582 | V122: 74964.596 | W122: =AVERAGE(W110,W98,W86,W74,W62,W50,W38+W26) -> 192.55714 | X122: 1
A123: 2024 | B123: April | C123: =SUM(G123,I123,L123,X123) -> 22955 | D123: 23858192 | F123: 14238695 | G123: 21585 | H123: 4114557.5 | I123: 1286 | J123: 4401429.1 | K123: 12692.768 | L123: 83 | M123: 33677.829 | N123: 0 | O123: 70 | P123: 7332.7436 | Q123: 21.049471 | R123: 149 | S123: 74160.6 | T123: 237.08043 | U123: 4582 | V123: 67067.404 | W123: 575.63508 | X123: 1
A124: 2024 | B124: May | C124: =SUM(G124,I124,L124,X124) -> 23059 | D124: 23467028 | F124: 13563327 | G124: 21682 | H124: 4154211.9 | I124: 1293 | J124: 4509995.8 | K124: 12591.649 | L124: 83 | M124: 33677.829 | N124: 0 | O124: 70 | P124: 7337.9537 | Q124: 20.873518 | R124: 149 | S124: 76632.62 | T124: 209.82668 | U124: 4582 | V124: 67471.202 | W124: 175.7414 | X124: 1
...

Sheet Load Forecast Summary
A1: IPC Weather Normal Load Forecast for 2027 Rate Application
L2: 2026 Bridge | M2: 2027 Test
B3: 2016 Actual | C3: 2017 Actual | D3: 2018 Actual | E3: 2019 Actual | F3: 2020 Actual | G3: 2021 Actual | H3: 2022 Actual | I3: 2023 Actual | J3: 2024 Actual | K3: 2025 Actual | L3: Weather Normal | M3: Weather Normal
A4: Actual kWh Purchases | B4: ='Power Purchased Model'!B152 -> 259382036 | C4: ='Power Purchased Model'!B153 -> 2.5676943e+08 | D4: ='Power Purchased Model'!B154 -> 2.7881324e+08 | E4: ='Power Purchased Model'!B155 -> 2.8058154e+08 | F4: =+'Power Purchased Model'!B156 -> 2.9140425e+08 | G4: =+'Power Purchased Model'!B157 -> 2.9524025e+08 | H4: =+'Power Purchased Model'!B158 -> 2.999345e+08 | I4: =+'Power Purchased Model'!B159 -> 3.0310317e+08 | J4: =+'Power Purchased Model'!B160 -> 3.2469601e+08 | K4: =+'Power Purchased Model'!B161 -> 3.4904904e+08
A5: Predicted kWh Purchases | B5: ='Power Purchased Model'!N152 -> 2.6232871e+08 | C5: ='Power Purchased Model'!N153 -> 2.5676157e+08 | D5: ='Power Purchased Model'!N154 -> 2.7848883e+08 | E5: =+'Power Purchased Model'!N155 -> 2.8161788e+08 | F5: =+'Power Purchased Model'!N156 -> 2.8844634e+08 | G5: =+'Power Purchased Model'!N157 -> 2.9022491e+08 | H5: =+'Power Purchased Model'!N158 -> 2.9930006e+08 | I5: =+'Power Purchased Model'!N159 -> 3.0722958e+08 | J5: =+'Power Purchased Model'!N160 -> 3.2725942e+08 | K5: =+'Power Purchased Model'!N161 -> 3.4731618e+08 | L5: =+'Power Purchased Model'!N162 -> 3.5615917e+08 | M5: =+'Power Purchased Model'!N163 -> 3.6883236e+08
A6: % Difference | B6: =(B5-B4)/B4 -> 0.01136035 | C6: =(C5-C4)/C4 -> -3.0632553e-05 | D6: =(D5-D4)/D4 -> -0.0011635089 | E6: =(E5-E4)/E4 -> 0.0036935368 | F6: =(F5-F4)/F4 -> -0.010150531 | G6: =(G5-G4)/G4 -> -0.016987316 | H6: =(H5-H4)/H4 -> -0.0021152859 | I6: =(I5-I4)/I4 -> 0.013613857 | ... K6: =(K5-K4)/K4 -> -0.0049645137
L7: =(L5-K5)/K5 -> 0.025460917 | M7: =(M5-L5)/L5 -> 0.035582933
A10: Total Billed | B10: ='Rate Class Energy Model'!G3 -> 2.4403834e+08 | C10: ='Rate Class Energy Model'!G4 -> 2.4319257e+08 | D10: ='Rate Class Energy Model'!G5 -> 2.6447127e+08 | E10: ='Rate Class Energy Model'!G6 -> 2.7102131e+08 | F10: ='Rate Class Energy Model'!G7 -> 2.7683813e+08 | G10: ='Rate Class Energy Model'!G8 -> 2.792833e+08 | H10: ='Rate Class Energy Model'!G9 -> 2.8446792e+08 | I10: ='Rate Class Energy Model'!G10 -> 2.8682714e+08 | J10: ='Rate Class Energy Model'!G11 -> 3.084381e+08 | K10: ='Rate Class Energy Model'!G12 -> 3.3217444e+08 | L10: ='Rate Class Energy Model'!G13 -> 3.3814988e+08 | M10: ='Rate Class Energy Model'!G14 -> 3.5018225e+08
L11: =(L10-K10)/K10 -> 0.017988873 | M11: =(M10-L10)/L10 -> 0.035582933
A12: By Class
A13: ='Rate Class Energy Model'!H2 -> Residential
A14: Customers | B14: ='Rate Class Customer Model'!B11 -> 15201.583 | C14: ='Rate Class Customer Model'!B12 -> 15631.667 | D14: ='Rate Class Customer Model'!B13 -> 16490.667 | E14: ='Rate Class Customer Model'!B14 -> 17294.333 | F14: ='Rate Class Customer Model'!B15 -> 17582.833 | G14: ='Rate Class Customer Model'!B16 -> 18253.333 | H14: ='Rate Class Customer Model'!B17 -> 18754.667 | I14: ='Rate Class Customer Model'!B18 -> 20106.333 | J14: ='Rate Class Customer Model'!B19 -> 21734.083 | K14: ='Rate Class Customer Model'!B20 -> 22632.5 | L14: ='Rate Class Customer Model'!B21 -> 23655.786 | M14: ='Rate Class Customer Model'!B22 -> 24725.338
A15: kWh | B15: ='Rate Class Energy Model'!H3 -> 1.5013592e+08 | C15: ='Rate Class Energy Model'!H4 -> 1.4525046e+08 | D15: ='Rate Class Energy Model'!H5 -> 1.6085375e+08 | E15: ='Rate Class Energy Model'!H6 -> 1.6128452e+08 | F15: ='Rate Class Energy Model'!H7 -> 1.749576e+08 | G15: ='Rate Class Energy Model'!H8 -> 1.7849971e+08 | H15: ='Rate Class Energy Model'!H9 -> 1.8184366e+08 | I15: ='Rate Class Energy Model'!H10 -> 1.8411604e+08 | J15: ='Rate Class Energy Model'!H11 -> 1.9821644e+08 | K15: ='Rate Class Energy Model'!H12 -> 2.1626022e+08 | L15: ='Rate Class Energy Model'!H34 -> 2.2172618e+08 | M15: ='Rate Class Energy Model'!H35 -> 2.3143398e+08
A17: ='Rate Class Energy Model'!I2 -> General Service < 50 kW
A18: Customers | B18: ='Rate Class Customer Model'!C11 -> 1016.25 | C18: ='Rate Class Customer Model'!C12 -> 1030.3333 | D18: ='Rate Class Customer Model'!C13 -> 1082 | E18: ='Rate Class Customer Model'!C14 -> 1121.0833 | F18: ='Rate Class Customer Model'!C15 -> 1153.9167 | G18: ='Rate Class Customer Model'!C16 -> 1191.25 | H18: ='Rate Class Customer Model'!C17 -> 1246.1667 | I18: ='Rate Class Customer Model'!C18 -> 1271.5833 | J18: ='Rate Class Customer Model'!C19 -> 1289.6667 | K18: ='Rate Class Customer Model'!C20 -> 1300.1667 | L18: ='Rate Class Customer Model'!C21 -> 1336.2501 | M18: ='Rate Class Customer Model'!C22 -> 1373.3349
A19: kWh | B19: ='Rate Class Energy Model'!I3 -> 33558136 | C19: ='Rate Class Energy Model'!I4 -> 32775442 | D19: ='Rate Class Energy Model'!I5 -> 36037382 | E19: ='Rate Class Energy Model'!I6 -> 42480663 | F19: ='Rate Class Energy Model'!I7 -> 39873537 | G19: ='Rate Class Energy Model'!I8 -> 40487961 | H19: ='Rate Class Energy Model'!I9 -> 43953859 | I19: ='Rate Class Energy Model'!I10 -> 44829085 | J19: ='Rate Class Energy Model'!I11 -> 51768404 | K19: ='Rate Class Energy Model'!I12 -> 47670304 | L19: ='Rate Class Energy Model'!I34 -> 48058712 | M19: ='Rate Class Energy Model'!I35 -> 49324890
A21: ='Rate Class Energy Model'!J2 -> General Service >= 50 kW
A22: Customers | B22: ='Rate Class Customer Model'!D11 -> 75.583333 | C22: ='Rate Class Customer Model'!D12 -> 86.666667 | D22: ='Rate Class Customer Model'!D13 -> 91 | E22: ='Rate Class Customer Model'!D14 -> 85.083333 | F22: ='Rate Class Customer Model'!D15 -> 80.083333 | G22: ='Rate Class Customer Model'!D16 -> 77.75 | H22: ='Rate Class Customer Model'!D17 -> 78.25 | I22: ='Rate Class Customer Model'!D18 -> 84.25 | J22: ='Rate Class Customer Model'!D19 -> 83.416667 | K22: ='Rate Class Customer Model'!D20 -> 87.416667 | L22: ='Rate Class Customer Model'!D21 -> 88.840896 | M22: ='Rate Class Customer Model'!D22 -> 90.28833
A23: kWh | B23: ='Rate Class Energy Model'!J3 -> 58286974 | C23: ='Rate Class Energy Model'!J4 -> 63107665 | D23: ='Rate Class Energy Model'!J5 -> 65404829 | E23: ='Rate Class Energy Model'!J6 -> 65090125 | F23: ='Rate Class Energy Model'!J7 -> 59834547 | G23: ='Rate Class Energy Model'!J8 -> 58095871 | H23: ='Rate Class Energy Model'!J9 -> 56383557 | I23: ='Rate Class Energy Model'!J10 -> 55566830 | J23: ='Rate Class Energy Model'!J11 -> 56073429 | K23: ='Rate Class Energy Model'!J12 -> 65757609 | L23: ='Rate Class Energy Model'!J34 -> 65824563 | M23: ='Rate Class Energy Model'!J35 -> 66825175
A24: kW | B24: ='Rate Class Load Model'!B2 -> 151192.26 | C24: ='Rate Class Load Model'!B3 -> 163230.4 | D24: ='Rate Class Load Model'!B4 -> 168618.78 | E24: ='Rate Class Load Model'!B5 -> 164137.22 | F24: ='Rate Class Load Model'!B6 -> 153608.63 | G24: ='Rate Class Load Model'!B7 -> 157905.39 | H24: ='Rate Class Load Model'!B8 -> 157377.51 | I24: ='Rate Class Load Model'!B9 -> 162697.74 | J24: ='Rate Class Load Model'!B10 -> 160506.93 | K24: ='Rate Class Load Model'!B11 -> 176584.32 | L24: ='Rate Class Load Model'!B12 -> 176623.49 | M24: ='Rate Class Load Model'!B13 -> 179308.37
A26: ='Rate Class Energy Model'!K2 -> Unmetered Scattered Load
A27: Connections | B27: ='Rate Class Customer Model'!E11 -> 75.333333 | C27: ='Rate Class Customer Model'!E12 -> 73.5 | D27: ='Rate Class Customer Model'!E13 -> 74 | E27: ='Rate Class Customer Model'!E14 -> 74.5 | F27: ='Rate Class Customer Model'!E15 -> 73.166667 | G27: ='Rate Class Customer Model'!E16 -> 71 | H27: ='Rate Class Customer Model'!E17 -> 71.833333 | I27: ='Rate Class Customer Model'!E18 -> 74.833333 | J27: ='Rate Class Customer Model'!E19 -> 70.166667 | K27: ='Rate Class Customer Model'!E20 -> 69 | L27: ='Rate Class Customer Model'!E21 -> 68.330016 | M27: ='Rate Class Customer Model'!E22 -> 67.666538
A28: kWh | B28: ='Rate Class Energy Model'!K3 -> 461652 | C28: ='Rate Class Energy Model'!K4 -> 460196 | D28: ='Rate Class Energy Model'!K5 -> 482914 | E28: ='Rate Class Energy Model'!K6 -> 485587 | F28: ='Rate Class Energy Model'!K7 -> 439968 | G28: ='Rate Class Energy Model'!K8 -> 439248 | H28: ='Rate Class Energy Model'!K9 -> 447888 | I28: ='Rate Class Energy Model'!K10 -> 447888 | J28: ='Rate Class Energy Model'!K11 -> 402486 | K28: ='Rate Class Energy Model'!K12 -> 425256 | L28: ='Rate Class Energy Model'!K34 -> 421126.8 | M28: ='Rate Class Energy Model'!K35 -> 417037.7
A30: ='Rate Class Energy Model'!L2 -> Sentinel Lighting
A31: Connections | B31: ='Rate Class Customer Model'!F11 -> 166.08333 | C31: ='Rate Class Customer Model'!F12 -> 161.83333 | D31: ='Rate Class Customer Model'!F13 -> 161.5 | E31: ='Rate Class Customer Model'!F14 -> 159.91667 | F31: ='Rate Class Customer Model'!F15 -> 155.08333 | G31: ='Rate Class Customer Model'!F16 -> 152.75 | H31: ='Rate Class Customer Model'!F17 -> 150.66667 | I31: ='Rate Class Customer Model'!F18 -> 151 | J31: ='Rate Class Customer Model'!F19 -> 148.58333 | K31: ='Rate Class Customer Model'!F20 -> 144.66667 | L31: ='Rate Class Customer Model'!F21 -> 142.46446 | M31: ='Rate Class Customer Model'!F22 -> 140.29577
A32: kWh | B32: ='Rate Class Energy Model'!L3 -> 103242.3 | C32: ='Rate Class Energy Model'!L4 -> 103849.14 | D32: ='Rate Class Energy Model'!L5 -> 105459.54 | E32: ='Rate Class Energy Model'!L6 -> 103804.5 | F32: ='Rate Class Energy Model'!L7 -> 100969.38 | G32: ='Rate Class Energy Model'!L8 -> 99205.68 | H32: ='Rate Class Energy Model'!L9 -> 97587.24 | I32: ='Rate Class Energy Model'!L10 -> 97106.34 | J32: ='Rate Class Energy Model'!L11 -> 87522.48 | K32: ='Rate Class Energy Model'!L12 -> 93986.4 | L32: ='Rate Class Energy Model'!L34 -> 92555.677 | M32: ='Rate Class Energy Model'!L35 -> 91146.733
A33: kW | B33: ='Rate Class Load Model'!C2 -> 294.9585 | C33: ='Rate Class Load Model'!C3 -> 294.9585 | D33: ='Rate Class Load Model'!C4 -> 294.9585 | E33: ='Rate Class Load Model'!C5 -> 294.9585 | F33: ='Rate Class Load Model'!C6 -> 294.9585 | G33: ='Rate Class Load Model'!C7 -> 294.9585 | H33: ='Rate Class Load Model'!C8 -> 294.9585 | I33: ='Rate Class Load Model'!C9 -> 294.9585 | J33: ='Rate Class Load Model'!C10 -> 294.9585 | K33: ='Rate Class Load Model'!C11 -> 294.9585 | L33: ='Rate Class Load Model'!C12 -> 295 | M33: ='Rate Class Load Model'!C13 -> 295
A35: ='Rate Class Energy Model'!M2 -> Street Lighting
A36: Customers | B36: ='Rate Class Customer Model'!G11 -> 2863.1667 | C36: ='Rate Class Customer Model'!G12 -> 2973.25 | D36: ='Rate Class Customer Model'!G13 -> 3097.25 | E36: ='Rate Class Customer Model'!G14 -> 3306.75 | F36: ='Rate Class Customer Model'!G15 -> 3414.4167 | G36: ='Rate Class Customer Model'!G16 -> 3596.5833 | H36: ='Rate Class Customer Model'!G17 -> 4014 | I36: ='Rate Class Customer Model'!G18 -> 4299.25 | J36: ='Rate Class Customer Model'!G19 -> 4588.5 | K36: ='Rate Class Customer Model'!G20 -> 4847.75 | L36: ='Rate Class Customer Model'!G21 -> 5139.852 | M36: ='Rate Class Customer Model'!G22 -> 5449.5546
A37: kWh | B37: ='Rate Class Energy Model'!M3 -> 544041.61 | C37: ='Rate Class Energy Model'!M4 -> 574600.19 | D37: ='Rate Class Energy Model'!M5 -> 615045.71 | E37: ='Rate Class Energy Model'!M6 -> 653653.25 | F37: ='Rate Class Energy Model'!M7 -> 686201.6 | G37: ='Rate Class Energy Model'!M8 -> 751137.82 | H37: ='Rate Class Energy Model'!M9 -> 805781.63 | I37: ='Rate Class Energy Model'!M10 -> 867745.69 | J37: ='Rate Class Energy Model'!M11 -> 940008.81 | K37: ='Rate Class Energy Model'!M12 -> 990470.21 | L37: ='Rate Class Energy Model'!M34 -> 1050151.2 | M37: ='Rate Class Energy Model'!M35 -> 1113428.2
A38: kW | B38: ='Rate Class Load Model'!D2 -> 1645.03 | C38: ='Rate Class Load Model'!D3 -> 1754.99 | D38: ='Rate Class Load Model'!D4 -> 1867.26 | E38: ='Rate Class Load Model'!D5 -> 1982.65 | F38: ='Rate Class Load Model'!D6 -> 2074.32 | G38: ='Rate Class Load Model'!D7 -> 2279.91 | H38: ='Rate Class Load Model'!D8 -> 2453.62 | I38: ='Rate Class Load Model'!D9 -> 2648.2991 | J38: ='Rate Class Load Model'!D10 -> 2849.68 | K38: ='Rate Class Load Model'!D11 -> 3010.8459 | L38: ='Rate Class Load Model'!D12 -> 3189.6913 | M38: ='Rate Class Load Model'!D13 -> 3381.8867
A40: ='Rate Class Energy Model'!N2 -> Embedded Distributor
A41: Customers | B41: ='Rate Class Customer Model'!H11 -> 1 | C41: ='Rate Class Customer Model'!H12 -> 1 | D41: ='Rate Class Customer Model'!H13 -> 1 | E41: ='Rate Class Customer Model'!H14 -> 1 | F41: ='Rate Class Customer Model'!H15 -> 1 | G41: ='Rate Class Customer Model'!H16 -> 1 | H41: ='Rate Class Customer Model'!H17 -> 1 | I41: ='Rate Class Customer Model'!H18 -> 1 | J41: ='Rate Class Customer Model'!H19 -> 1 | K41: ='Rate Class Customer Model'!H20 -> 1 | L41: ='Rate Class Customer Model'!H21 -> 1 | M41: ='Rate Class Customer Model'!H22 -> 1
A42: kWh | B42: ='Rate Class Energy Model'!N3 -> 948375.6 | C42: ='Rate Class Energy Model'!N4 -> 920352.3 | D42: ='Rate Class Energy Model'!N5 -> 971889.9 | E42: ='Rate Class Energy Model'!N6 -> 922954.2 | F42: ='Rate Class Energy Model'!N7 -> 945311.4 | G42: ='Rate Class Energy Model'!N8 -> 910170.9 | H42: ='Rate Class Energy Model'!N9 -> 935588.9 | I42: ='Rate Class Energy Model'!N10 -> 902443.2 | J42: ='Rate Class Energy Model'!N11 -> 949807.8 | K42: ='Rate Class Energy Model'!N12 -> 976590.05 | L42: ='Rate Class Energy Model'!N34 -> 976590.05 | M42: ='Rate Class Energy Model'!N35 -> 976590.05
A43: kW | B43: ='Rate Class Load Model'!E2 -> 2398.2 | C43: ='Rate Class Load Model'!E3 -> 2283.6 | D43: ='Rate Class Load Model'!E4 -> 2504.1 | E43: ='Rate Class Load Model'!E5 -> 2185.2 | F43: ='Rate Class Load Model'!E6 -> 2361.6 | G43: ='Rate Class Load Model'!E7 -> 2359.2 | H43: ='Rate Class Load Model'!E8 -> 2460 | I43: ='Rate Class Load Model'!E9 -> 2368.6286 | J43: ='Rate Class Load Model'!E10 -> 2963.5714 | K43: ='Rate Class Load Model'!E11 -> 2882.5078 | L43: ='Rate Class Load Model'!E12 -> 2575.2879 | M43: ='Rate Class Load Model'!E13 -> 2575.2879
A46: Total
A47: Customer/Connections | B47: =B14+B18+B22+B27+B31+B36+B41 -> 19399 | C47: =C14+C18+C22+C27+C31+C36+C41 -> 19958.25 | D47: =D14+D18+D22+D27+D31+D36+D41 -> 20997.417 | E47: =E14+E18+E22+E27+E31+E36+E41 -> 22042.667 | F47: =F14+F18+F22+F27+F31+F36+F41 -> 22460.5 | G47: =G14+G18+G22+G27+G31+G36+G41 -> 23343.667 | H47: =H14+H18+H22+H27+H31+H36+H41 -> 24316.583 | I47: =I14+I18+I22+I27+I31+I36+I41 -> 25988.25 | ... M47: =M14+M18+M22+M27+M31+M36+M41 -> 31847.478
A48: kWh | B48: =B15+B19+B23+B28+B37+B42+B32 -> 2.4403834e+08 | C48: =C15+C19+C23+C28+C37+C42+C32 -> 2.4319257e+08 | D48: =D15+D19+D23+D28+D37+D42+D32 -> 2.6447127e+08 | E48: =E15+E19+E23+E28+E37+E42+E32 -> 2.7102131e+08 | F48: =F15+F19+F23+F28+F37+F42+F32 -> 2.7683813e+08 | G48: =G15+G19+G23+G28+G37+G42+G32 -> 2.792833e+08 | H48: =H15+H19+H23+H28+H37+H42+H32 -> 2.8446792e+08 | I48: =I15+I19+I23+I28+I37+I42+I32 -> 2.8682714e+08 | ... M48: =M15+M19+M23+M28+M37+M42+M32 -> 3.5018225e+08
A49: kW from applicable classes | B49: =B24+B33+B38+B43 -> 155530.45 | C49: =C24+C33+C38+C43 -> 167563.95 | D49: =D24+D33+D38+D43 -> 173285.1 | E49: =E24+E33+E38+E43 -> 168600.03 | F49: =F24+F33+F38+F43 -> 158339.51 | G49: =G24+G33+G38+G43 -> 162839.46 | H49: =H24+H33+H38+H43 -> 162586.09 | I49: =I24+I33+I38+I43 -> 168009.63 | ... M49: =M24+M33+M38+M43 -> 185560.55
A51: Customer/Connections | B51: ='Rate Class Customer Model'!I11 -> 19399 | C51: ='Rate Class Customer Model'!I12 -> 19958.25 | D51: ='Rate Class Customer Model'!I13 -> 20997.417 | E51: ='Rate Class Customer Model'!I14 -> 22042.667 | F51: ='Rate Class Customer Model'!I15 -> 22460.5 | G51: ='Rate Class Customer Model'!I16 -> 23343.667 | H51: ='Rate Class Customer Model'!I17 -> 24316.583 | I51: ='Rate Class Customer Model'!I18 -> 25988.25 | J51: ='Rate Class Customer Model'!I19 -> 27915.417 | K51: ='Rate Class Customer Model'!I20 -> 29082.5 | L51: ='Rate Class Customer Model'!I21 -> 30432.524 | M51: ='Rate Class Customer Model'!I22 -> 31847.478
...

Sheet Power Purchased Model
H1: YYZ
B2: Wholesale Purchases | C2: Embedded Generation | D2: Power Purchases | E2: Shut Down Adjustment | F2: Reduced Load Adjustment | G2: Adjusted Power Purchases | H2: Heating Degree Days | I2: Cooling Degree Days | J2: Days in Month | K2: Spring Fall Flag | L2: Number of Customers | M2: Predicted Purchases | N2: Residual (kWh) | O2: % Residual | P2: % Residual (Abs) | Q2: Residual Squared | R2: Difference of Residuals | S2: Difference of Residuals Squared | U2: SUMMARY OUTPUT
A3: 42400 | B3: {=Inputs!D24:D143} -> 25159552 | D3: =B3+C3 -> 25159552 | G3: =D3-E3-F3 -> 25159552 | H3: 670.4 | I3: 0 | J3: 31 | K3: 0 | L3: {=Inputs!C24:C143} -> 16198 | M3: =$V$30+$V$31*H3+$V$32*I3+$V$33*J3+$V$34*K3+$V$35*L3 -> 25030508 | N3: =M3-G3 -> -129044 | O3: =N3/G3 -> -0.0051290262 | P3: =ABS(O3) -> 0.0051290262 | Q3: =N3*N3 -> 1.6652354e+10
A4: 42429 | B4: 23014941 | D4: =B4+C4 -> 23014941 | G4: =D4-E4-F4 -> 23014941 | H4: 588.4 | I4: 0 | J4: 29 | K4: 0 | L4: 16213 | M4: =$V$30+$V$31*H4+$V$32*I4+$V$33*J4+$V$34*K4+$V$35*L4 -> 22794203 | N4: =M4-G4 -> -220737.5 | O4: =N4/G4 -> -0.0095910523 | P4: =ABS(O4) -> 0.0095910523 | Q4: =N4*N4 -> 4.8725045e+10 | R4: =N4-N3 -> -91693.502 | S4: =R4*R4 -> 8.4076982e+09
A5: 42460 | B5: 21970551 | D5: =B5+C5 -> 21970551 | G5: =D5-E5-F5 -> 21970551 | H5: 476.1 | I5: 0 | J5: 31 | K5: 1 | L5: 16244 | M5: =$V$30+$V$31*H5+$V$32*I5+$V$33*J5+$V$34*K5+$V$35*L5 -> 21634498 | N5: =M5-G5 -> -336052.53 | O5: =N5/G5 -> -0.01529559 | P5: =ABS(O5) -> 0.01529559 | Q5: =N5*N5 -> 1.1293131e+11 | R5: =N5-N4 -> -115315.03 | S5: =R5*R5 -> 1.3297556e+10
A6: 42490 | B6: 19763963 | D6: =B6+C6 -> 19763963 | G6: =D6-E6-F6 -> 19763963 | H6: 394.8 | I6: 0 | J6: 30 | K6: 1 | L6: 16250 | M6: =$V$30+$V$31*H6+$V$32*I6+$V$33*J6+$V$34*K6+$V$35*L6 -> 20013679 | N6: =M6-G6 -> 249715.75 | O6: =N6/G6 -> 0.012634903 | P6: =ABS(O6) -> 0.012634903 | Q6: =N6*N6 -> 6.2357954e+10 | R6: =N6-N5 -> 585768.28 | S6: =R6*R6 -> 3.4312448e+11
A7: 42521 | B7: 18836973 | D7: =B7+C7 -> 18836973 | G7: =D7-E7-F7 -> 18836973 | H7: 142.5 | I7: 36.9 | J7: 31 | K7: 1 | L7: 16262 | M7: =$V$30+$V$31*H7+$V$32*I7+$V$33*J7+$V$34*K7+$V$35*L7 -> 19306202 | N7: =M7-G7 -> 469228.87 | O7: =N7/G7 -> 0.024909993 | P7: =ABS(O7) -> 0.024909993 | Q7: =N7*N7 -> 2.2017573e+11 | R7: =N7-N6 -> 219513.12 | S7: =R7*R7 -> 4.818601e+10
A8: 42551 | B8: 19211234 | D8: =B8+C8 -> 19211234 | G8: =D8-E8-F8 -> 19211234 | H8: 24.2 | I8: 83.7 | J8: 30 | K8: 0 | L8: 16270 | M8: =$V$30+$V$31*H8+$V$32*I8+$V$33*J8+$V$34*K8+$V$35*L8 -> 20537996 | N8: =M8-G8 -> 1326761.5 | O8: =N8/G8 -> 0.069061754 | P8: =ABS(O8) -> 0.069061754 | Q8: =N8*N8 -> 1.7602961e+12 | R8: =N8-N7 -> 857532.64 | S8: =R8*R8 -> 7.3536223e+11
A9: 42582 | B9: 23404500 | D9: =B9+C9 -> 23404500 | G9: =D9-E9-F9 -> 23404500 | H9: 0 | I9: 176.9 | J9: 31 | K9: 0 | L9: 16282 | M9: =$V$30+$V$31*H9+$V$32*I9+$V$33*J9+$V$34*K9+$V$35*L9 -> 25419612 | N9: =M9-G9 -> 2015112.4 | O9: =N9/G9 -> 0.086099357 | P9: =ABS(O9) -> 0.086099357 | Q9: =N9*N9 -> 4.060678e+12 | R9: =N9-N8 -> 688350.9 | S9: =R9*R9 -> 4.7382696e+11
A10: 42613 | B10: 24564804 | D10: =B10+C10 -> 24564804 | G10: =D10-E10-F10 -> 24564804 | H10: 0 | I10: 195.4 | J10: 31 | K10: 0 | L10: 16293 | M10: =$V$30+$V$31*H10+$V$32*I10+$V$33*J10+$V$34*K10+$V$35*L10 -> 26334416 | N10: =M10-G10 -> 1769612.4 | O10: =N10/G10 -> 0.072038529 | P10: =ABS(O10) -> 0.072038529 | Q10: =N10*N10 -> 3.1315279e+12 | R10: =N10-N9 -> -245500.05 | S10: =R10*R10 -> 6.0270274e+10
A11: 42643 | B11: 19239594 | D11: =B11+C11 -> 19239594 | G11: =D11-E11-F11 -> 19239594 | H11: 25.9 | I11: 69.4 | J11: 30 | K11: 1 | L11: 16324 | M11: =$V$30+$V$31*H11+$V$32*I11+$V$33*J11+$V$34*K11+$V$35*L11 -> 18888378 | N11: =M11-G11 -> -351215.55 | O11: =N11/G11 -> -0.018254832 | P11: =ABS(O11) -> 0.018254832 | Q11: =N11*N11 -> 1.2335236e+11 | R11: =N11-N10 -> -2120827.9 | S11: =R11*R11 -> 4.497911e+12
A12: 42674 | B12: 19360398 | D12: =B12+C12 -> 19360398 | G12: =D12-E12-F12 -> 19360398 | H12: 194.2 | I12: 4.1 | J12: 31 | K12: 1 | L12: 16371 | M12: =$V$30+$V$31*H12+$V$32*I12+$V$33*J12+$V$34*K12+$V$35*L12 -> 18449790 | N12: =M12-G12 -> -910608.38 | O12: =N12/G12 -> -0.04703459 | P12: =ABS(O12) -> 0.04703459 | Q12: =N12*N12 -> 8.2920762e+11 | R12: =N12-N11 -> -559392.83 | S12: =R12*R12 -> 3.1292034e+11
A13: 42704 | B13: 20317470 | D13: =B13+C13 -> 20317470 | G13: =D13-E13-F13 -> 20317470 | H13: 337.8 | I13: 0 | J13: 30 | K13: 1 | L13: 16400 | M13: =$V$30+$V$31*H13+$V$32*I13+$V$33*J13+$V$34*K13+$V$35*L13 -> 19447706 | N13: =M13-G13 -> -869764.23 | O13: =N13/G13 -> -0.042808688 | P13: =ABS(O13) -> 0.042808688 | Q13: =N13*N13 -> 7.5648982e+11 | R13: =N13-N12 -> 40844.146 | S13: =R13*R13 -> 1.6682443e+09
A14: 42735 | B14: 24538056 | D14: =B14+C14 -> 24538056 | G14: =D14-E14-F14 -> 24538056 | H14: 608 | I14: 0 | J14: 31 | K14: 0 | L14: 16426 | M14: =$V$30+$V$31*H14+$V$32*I14+$V$33*J14+$V$34*K14+$V$35*L14 -> 24471718 | N14: =M14-G14 -> -66338.031 | O14: =N14/G14 -> -0.0027034754 | P14: =ABS(O14) -> 0.0027034754 | Q14: =N14*N14 -> 4.4007343e+09 | R14: =N14-N13 -> 803426.2 | S14: =R14*R14 -> 6.4549366e+11
A15: 42766 | B15: 24383251 | D15: =B15+C15 -> 24383251 | G15: =D15-E15-F15 -> 24383251 | H15: 608.9 | I15: 0 | J15: 31 | K15: 0 | L15: 16479 | M15: =$V$30+$V$31*H15+$V$32*I15+$V$33*J15+$V$34*K15+$V$35*L15 -> 24533429 | N15: =M15-G15 -> 150178.28 | O15: =N15/G15 -> 0.0061590752 | P15: =ABS(O15) -> 0.0061590752 | Q15: =N15*N15 -> 2.2553515e+10 | R15: =N15-N14 -> 216516.31 | S15: =R15*R15 -> 4.6879311e+10
A16: 42794 | B16: 21070773 | D16: =B16+C16 -> 21070773 | G16: =D16-E16-F16 -> 21070773 | H16: 510.4 | I16: 0 | J16: 28 | K16: 0 | L16: 16483 | M16: =$V$30+$V$31*H16+$V$32*I16+$V$33*J16+$V$34*K16+$V$35*L16 -> 21466062 | N16: =M16-G16 -> 395288.52 | O16: =N16/G16 -> 0.018760039 | P16: =ABS(O16) -> 0.018760039 | Q16: =N16*N16 -> 1.5625302e+11 | R16: =N16-N15 -> 245110.25 | S16: =R16*R16 -> 6.0079034e+10 | U16: Regression Statistics
A17: 42825 | B17: 23393184 | D17: =B17+C17 -> 23393184 | G17: =D17-E17-F17 -> 23393184 | H17: 574 | I17: 0 | J17: 31 | K17: 1 | L17: 16497 | M17: =$V$30+$V$31*H17+$V$32*I17+$V$33*J17+$V$34*K17+$V$35*L17 -> 23093294 | N17: =M17-G17 -> -299889.61 | O17: =N17/G17 -> -0.01281953 | P17: =ABS(O17) -> 0.01281953 | Q17: =N17*N17 -> 8.993378e+10 | R17: =N17-N16 -> -695178.14 | S17: =R17*R17 -> 4.8327264e+11 | U17: Multiple R | V17: 0.98053868
A18: 42855 | B18: 18825985 | D18: =B18+C18 -> 18825985 | G18: =D18-E18-F18 -> 18825985 | H18: 257.5 | I18: 0 | J18: 30 | K18: 1 | L18: 16510 | M18: =$V$30+$V$31*H18+$V$32*I18+$V$33*J18+$V$34*K18+$V$35*L18 -> 18553809 | N18: =M18-G18 -> -272176.19 | O18: =N18/G18 -> -0.014457474 | P18: =ABS(O18) -> 0.014457474 | Q18: =N18*N18 -> 7.4079877e+10 | R18: =N18-N17 -> 27713.425 | S18: =R18*R18 -> 7.6803395e+08 | U18: R Square | V18: 0.96145609
A19: 42886 | B19: 18786333 | D19: =B19+C19 -> 18786333 | G19: =D19-E19-F19 -> 18786333 | H19: 177 | I19: 9 | J19: 31 | K19: 1 | L19: 16550 | M19: =$V$30+$V$31*H19+$V$32*I19+$V$33*J19+$V$34*K19+$V$35*L19 -> 18646000 | N19: =M19-G19 -> -140333.57 | O19: =N19/G19 -> -0.0074699822 | P19: =ABS(O19) -> 0.0074699822 | Q19: =N19*N19 -> 1.9693512e+10 | R19: =N19-N18 -> 131842.61 | S19: =R19*R19 -> 1.7382475e+10 | U19: Adjusted R Square | V19: 0.95976557
A20: 42916 | B20: 19567266 | D20: =B20+C20 -> 19567266 | G20: =D20-E20-F20 -> 19567266 | H20: 26.7 | I20: 68.2 | J20: 30 | K20: 0 | L20: 16589 | M20: =$V$30+$V$31*H20+$V$32*I20+$V$33*J20+$V$34*K20+$V$35*L20 -> 20115474 | N20: =M20-G20 -> 548208.03 | O20: =N20/G20 -> 0.028016588 | P20: =ABS(O20) -> 0.028016588 | Q20: =N20*N20 -> 3.0053204e+11 | R20: =N20-N19 -> 688541.6 | S20: =R20*R20 -> 4.7408954e+11 | U20: Standard Error | V20: 685943.84
A21: 42947 | B21: 22381676 | D21: =B21+C21 -> 22381676 | G21: =D21-E21-F21 -> 22381676 | H21: 0 | I21: 116.5 | J21: 31 | K21: 0 | L21: 16719 | M21: =$V$30+$V$31*H21+$V$32*I21+$V$33*J21+$V$34*K21+$V$35*L21 -> 22883662 | N21: =M21-G21 -> 501985.9 | O21: =N21/G21 -> 0.022428432 | P21: =ABS(O21) -> 0.022428432 | Q21: =N21*N21 -> 2.5198984e+11 | R21: =N21-N20 -> -46222.132 | S21: =R21*R21 -> 2.1364855e+09 | U21: Observations | V21: 120
A22: 42978 | B22: 21132316 | D22: =B22+C22 -> 21132316 | G22: =D22-E22-F22 -> 21132316 | H22: 11.6 | I22: 75.2 | J22: 31 | K22: 0 | L22: 16775 | M22: =$V$30+$V$31*H22+$V$32*I22+$V$33*J22+$V$34*K22+$V$35*L22 -> 21062485 | N22: =M22-G22 -> -69831.359 | O22: =N22/G22 -> -0.0033044821 | P22: =ABS(O22) -> 0.0033044821 | Q22: =N22*N22 -> 4.8764188e+09 | R22: =N22-N21 -> -571817.26 | S22: =R22*R22 -> 3.2697498e+11
A23: 43008 | B23: 19954544 | D23: =B23+C23 -> 19954544 | G23: =D23-E23-F23 -> 19954544 | H23: 49.1 | I23: 71.5 | J23: 30 | K23: 1 | L23: 16851 | M23: =$V$30+$V$31*H23+$V$32*I23+$V$33*J23+$V$34*K23+$V$35*L23 -> 19781899 | N23: =M23-G23 -> -172645.17 | O23: =N23/G23 -> -0.0086519226 | P23: =ABS(O23) -> 0.0086519226 | Q23: =N23*N23 -> 2.9806355e+10 | R23: =N23-N22 -> -102813.81 | S23: =R23*R23 -> 1.057068e+10 | U23: ANOVA
A24: 43039 | B24: 19246235 | D24: =B24+C24 -> 19246235 | G24: =D24-E24-F24 -> 19246235 | H24: 154 | I24: 8.1 | J24: 31 | K24: 1 | L24: 17087 | M24: =$V$30+$V$31*H24+$V$32*I24+$V$33*J24+$V$34*K24+$V$35*L24 -> 18827785 | N24: =M24-G24 -> -418449.32 | O24: =N24/G24 -> -0.02174188 | P24: =ABS(O24) -> 0.02174188 | Q24: =N24*N24 -> 1.7509984e+11 | R24: =N24-N23 -> -245804.15 | S24: =R24*R24 -> 6.0419681e+10 | V24: df | W24: SS | X24: MS | Y24: F | Z24: Significance F
A25: 43069 | B25: 21849762 | D25: =B25+C25 -> 21849762 | G25: =D25-E25-F25 -> 21849762 | H25: 414.2 | I25: 0 | J25: 30 | K25: 1 | L25: 17227 | M25: =$V$30+$V$31*H25+$V$32*I25+$V$33*J25+$V$34*K25+$V$35*L25 -> 21186205 | N25: =M25-G25 -> -663556.94 | O25: =N25/G25 -> -0.03036907 | P25: =ABS(O25) -> 0.03036907 | Q25: =N25*N25 -> 4.4030781e+11 | R25: =N25-N24 -> -245107.62 | S25: =R25*R25 -> 6.0077744e+10 | U25: Regression | V25: 5 | W25: 1.3379987e+15 | X25: 2.6759975e+14 | Y25: 568.73319 | Z25: 7.9180597e-79
A26: 43100 | B26: 26178109 | D26: =B26+C26 -> 26178109 | G26: =D26-E26-F26 -> 26178109 | H26: 718.5 | I26: 0 | J26: 31 | K26: 0 | L26: 17229 | M26: =$V$30+$V$31*H26+$V$32*I26+$V$33*J26+$V$34*K26+$V$35*L26 -> 26611465 | N26: =M26-G26 -> 433355.93 | O26: =N26/G26 -> 0.016554134 | P26: =ABS(O26) -> 0.016554134 | Q26: =N26*N26 -> 1.8779736e+11 | R26: =N26-N25 -> 1096912.9 | S26: =R26*R26 -> 1.2032178e+12 | U26: Residual | V26: 114 | W26: 5.3639161e+13 | X26: 4.7051896e+11
A27: 43131 | B27: 27156878 | D27: =B27+C27 -> 27156878 | G27: =D27-E27-F27 -> 27156878 | H27: 732.3 | I27: 0 | J27: 31 | K27: 0 | L27: 17402 | M27: =$V$30+$V$31*H27+$V$32*I27+$V$33*J27+$V$34*K27+$V$35*L27 -> 26948001 | N27: =M27-G27 -> -208876.35 | O27: =N27/G27 -> -0.0076914716 | P27: =ABS(O27) -> 0.0076914716 | Q27: =N27*N27 -> 4.3629331e+10 | R27: =N27-N26 -> -642232.29 | S27: =R27*R27 -> 4.1246231e+11 | U27: Total | V27: 119 | W27: 1.3916379e+15
A28: 43159 | B28: 22662311 | D28: =B28+C28 -> 22662311 | G28: =D28-E28-F28 -> 22662311 | H28: 555 | I28: 0 | J28: 28 | K28: 0 | L28: 17449 | M28: =$V$30+$V$31*H28+$V$32*I28+$V$33*J28+$V$34*K28+$V$35*L28 -> 22941532 | N28: =M28-G28 -> 279221.41 | O28: =N28/G28 -> 0.012320959 | P28: =ABS(O28) -> 0.012320959 | Q28: =N28*N28 -> 7.7964595e+10 | R28: =N28-N27 -> 488097.76 | S28: =R28*R28 -> 2.3823943e+11
A29: 43190 | B29: 23534615 | D29: =B29+C29 -> 23534615 | G29: =D29-E29-F29 -> 23534615 | H29: 554 | I29: 0 | J29: 31 | K29: 1 | L29: 17480 | M29: =$V$30+$V$31*H29+$V$32*I29+$V$33*J29+$V$34*K29+$V$35*L29 -> 23781495 | N29: =M29-G29 -> 246880.07 | O29: =N29/G29 -> 0.010490083 | P29: =ABS(O29) -> 0.010490083 | Q29: =N29*N29 -> 6.0949767e+10 | R29: =N29-N28 -> -32341.344 | S29: =R29*R29 -> 1.0459625e+09 | V29: Coefficients | W29: Standard Error | X29: t Stat | Y29: P-value | Z29: Lower 95% | AA29: Upper 95% | AB29: Lower 95.0% | AC29: Upper 95.0%
A30: 43220 | B30: 21736721 | D30: =B30+C30 -> 21736721 | G30: =D30-E30-F30 -> 21736721 | H30: 418.9 | I30: 0 | J30: 30 | K30: 1 | L30: 17527 | M30: =$V$30+$V$31*H30+$V$32*I30+$V$33*J30+$V$34*K30+$V$35*L30 -> 21530609 | N30: =M30-G30 -> -206112.3 | O30: =N30/G30 -> -0.0094822167 | P30: =ABS(O30) -> 0.0094822167 | Q30: =N30*N30 -> 4.2482282e+10 | R30: =N30-N29 -> -452992.37 | S30: =R30*R30 -> 2.0520209e+11 | U30: Intercept | V30: -17823014 | W30: 2488622.7 | X30: -7.1617982 | Y30: 8.3559271e-11 | Z30: -22752956 | AA30: -12893071 | AB30: -22752956 | AC30: -12893071
A31: 43251 | B31: 19774023 | D31: =B31+C31 -> 19774023 | G31: =D31-E31-F31 -> 19774023 | H31: 75.3 | I31: 43.4 | J31: 31 | K31: 1 | L31: 17556 | M31: =$V$30+$V$31*H31+$V$32*I31+$V$33*J31+$V$34*K31+$V$35*L31 -> 20021511 | N31: =M31-G31 -> 247488.64 | O31: =N31/G31 -> 0.012515847 | P31: =ABS(O31) -> 0.012515847 | Q31: =N31*N31 -> 6.1250625e+10 | R31: =N31-N30 -> 453600.94 | S31: =R31*R31 -> 2.0575381e+11 | U31: Heating Degree Days | V31: 12437.661 | W31: 474.90223 | X31: 26.18994 | Y31: 4.7363443e-50 | Z31: 11496.883 | AA31: 13378.439 | AB31: 11496.883 | AC31: 13378.439
A32: 43281 | B32: 21054154 | D32: =B32+C32 -> 21054154 | G32: =D32-E32-F32 -> 21054154 | H32: 14.8 | I32: 60.5 | J32: 30 | K32: 0 | L32: 17628 | M32: =$V$30+$V$31*H32+$V$32*I32+$V$33*J32+$V$34*K32+$V$35*L32 -> 20581405 | N32: =M32-G32 -> -472748.94 | O32: =N32/G32 -> -0.022453951 | P32: =ABS(O32) -> 0.022453951 | Q32: =N32*N32 -> 2.2349156e+11 | R32: =N32-N31 -> -720237.58 | S32: =R32*R32 -> 5.1874217e+11 | U32: Cooling Degree Days | V32: 48882.12 | W32: 2390.0553 | X32: 20.452296 | Y32: 5.9797059e-40 | Z32: 44147.438 | AA32: 53616.801 | AB32: 44147.438 | AC32: 53616.801
A33: 43312 | B33: 26045489 | D33: =B33+C33 -> 26045489 | G33: =D33-E33-F33 -> 26045489 | H33: 0 | I33: 167.8 | J33: 31 | K33: 0 | L33: 17635 | M33: =$V$30+$V$31*H33+$V$32*I33+$V$33*J33+$V$34*K33+$V$35*L33 -> 26264408 | N33: =M33-G33 -> 218919.1 | O33: =N33/G33 -> 0.0084052598 | P33: =ABS(O33) -> 0.0084052598 | Q33: =N33*N33 -> 4.7925572e+10 | R33: =N33-N32 -> 691668.04 | S33: =R33*R33 -> 4.7840468e+11 | U33: Days in Month | V33: 615356.84 | W33: 81968.296 | X33: 7.5072542 | Y33: 1.4496032e-11 | Z33: 452978.28 | AA33: 777735.4 | AB33: 452978.28 | AC33: 777735.4
A34: 43343 | B34: 25645895 | D34: =B34+C34 -> 25645895 | G34: =D34-E34-F34 -> 25645895 | H34: 1.2 | I34: 162.4 | J34: 31 | K34: 0 | L34: 17692 | M34: =$V$30+$V$31*H34+$V$32*I34+$V$33*J34+$V$34*K34+$V$35*L34 -> 26069700 | N34: =M34-G34 -> 423804.96 | O34: =N34/G34 -> 0.016525255 | P34: =ABS(O34) -> 0.016525255 | Q34: =N34*N34 -> 1.7961064e+11 | R34: =N34-N33 -> 204885.86 | S34: =R34*R34 -> 4.1978215e+10 | U34: Spring Fall Flag | V34: -1023217.3 | W34: 179897.2 | X34: -5.6877888 | Y34: 1.0092334e-07 | Z34: -1379592.3 | AA34: -666842.32 | AB34: -1379592.3 | AC34: -666842.32
A35: 43373 | B35: 21607296 | D35: =B35+C35 -> 21607296 | G35: =D35-E35-F35 -> 21607296 | H35: 41.4 | I35: 76 | J35: 30 | K35: 1 | L35: 17722 | M35: =$V$30+$V$31*H35+$V$32*I35+$V$33*J35+$V$34*K35+$V$35*L35 -> 20736299 | N35: =M35-G35 -> -870997.18 | O35: =N35/G35 -> -0.040310328 | P35: =ABS(O35) -> 0.040310328 | Q35: =N35*N35 -> 7.586361e+11 | R35: =N35-N34 -> -1294802.1 | S35: =R35*R35 -> 1.6765126e+12 | U35: Number of Customers | V35: 953.15793 | W35: 25.591573 | X35: 37.244992 | Y35: 1.191602e-65 | Z35: 902.46122 | AA35: 1003.8546 | AB35: 902.46122 | AC35: 1003.8546
A36: 43404 | B36: 21087346 | D36: =B36+C36 -> 21087346 | G36: =D36-E36-F36 -> 21087346 | H36: 289.4 | I36: 8.2 | J36: 31 | K36: 1 | L36: 17815 | M36: =$V$30+$V$31*H36+$V$32*I36+$V$33*J36+$V$34*K36+$V$35*L36 -> 21210632 | N36: =M36-G36 -> 123285.17 | O36: =N36/G36 -> 0.0058464052 | P36: =ABS(O36) -> 0.0058464052 | Q36: =N36*N36 -> 1.5199234e+10 | R36: =N36-N35 -> 994282.36 | S36: =R36*R36 -> 9.8859741e+11
A37: 43434 | B37: 23149553 | D37: =B37+C37 -> 23149553 | G37: =D37-E37-F37 -> 23149553 | H37: 494.1 | I37: 0 | J37: 30 | K37: 1 | L37: 17906 | M37: =$V$30+$V$31*H37+$V$32*I37+$V$33*J37+$V$34*K37+$V$35*L37 -> 22827168 | N37: =M37-G37 -> -322385.12 | O37: =N37/G37 -> -0.013926192 | P37: =ABS(O37) -> 0.013926192 | Q37: =N37*N37 -> 1.0393216e+11 | R37: =N37-N36 -> -445670.29 | S37: =R37*R37 -> 1.9862201e+11
A38: 43465 | B38: 25358955 | D38: =B38+C38 -> 25358955 | G38: =D38-E38-F38 -> 25358955 | H38: 563.6 | I38: 0 | J38: 31 | K38: 0 | L38: 18164 | M38: =$V$30+$V$31*H38+$V$32*I38+$V$33*J38+$V$34*K38+$V$35*L38 -> 25576074 | N38: =M38-G38 -> 217118.87 | O38: =N38/G38 -> 0.0085618222 | P38: =ABS(O38) -> 0.0085618222 | Q38: =N38*N38 -> 4.7140603e+10 | R38: =N38-N37 -> 539503.99 | S38: =R38*R38 -> 2.9106455e+11
A39: 43496 | B39: 27894969 | D39: =B39+C39 -> 27894969 | G39: =D39-E39-F39 -> 27894969 | H39: 764.5 | I39: 0 | J39: 31 | K39: 0 | L39: 18298 | M39: =$V$30+$V$31*H39+$V$32*I39+$V$33*J39+$V$34*K39+$V$35*L39 -> 28202524 | N39: =M39-G39 -> 307554.17 | O39: =N39/G39 -> 0.011025435 | P39: =ABS(O39) -> 0.011025435 | Q39: =N39*N39 -> 9.4589567e+10 | R39: =N39-N38 -> 90435.301 | S39: =R39*R39 -> 8.1785438e+09 | U39: Mean Absolute Percentage Error (MAPE) | V39: =P123 -> 0.020546447
A40: 43524 | B40: 24435651 | D40: =B40+C40 -> 24435651 | G40: =D40-E40-F40 -> 24435651 | H40: 621.7 | I40: 0 | J40: 28 | K40: 0 | L40: 18380 | M40: =$V$30+$V$31*H40+$V$32*I40+$V$33*J40+$V$34*K40+$V$35*L40 -> 24658514 | N40: =M40-G40 -> 222863.26 | O40: =N40/G40 -> 0.0091204145 | P40: =ABS(O40) -> 0.0091204145 | Q40: =N40*N40 -> 4.9668034e+10 | R40: =N40-N39 -> -84690.907 | S40: =R40*R40 -> 7.1725497e+09
...

Sheet Power Purchased Model (WN)
H1: YYZ
B2: Wholesale Purchases | C2: Embedded Generation | D2: Power Purchases | E2: Shut Down Adjustment | F2: Reduced Load Adjustment | G2: Adjusted Power Purchases | H2: Heating Degree Days | I2: Cooling Degree Days | J2: Days in Month | K2: Spring Fall Flag | L2: Number of Customers | M2: Predicted Purchases | N2: Residual (kWh) | O2: % Residual | P2: % Residual (Abs) | Q2: Residual Squared | R2: Difference of Residuals | S2: Difference of Residuals Squared | U2: SUMMARY OUTPUT
A3: 42400 | B3: {=Inputs!D24:D143} -> 25159552 | D3: =B3+C3 -> 25159552 | G3: =D3-E3-F3 -> 25159552 | H3: 667.41 | I3: 0 | J3: 31 | K3: 0 | L3: {=Inputs!C24:C143} -> 16198 | M3: =$V$30+$V$31*H3+$V$32*I3+$V$33*J3+$V$34*K3+$V$35*L3 -> 24993319 | N3: =M3-G3 -> -166232.61 | O3: =N3/G3 -> -0.006607137 | P3: =ABS(O3) -> 0.006607137 | Q3: =N3*N3 -> 2.763328e+10
A4: 42429 | B4: 23014941 | D4: =B4+C4 -> 23014941 | G4: =D4-E4-F4 -> 23014941 | H4: 577.75 | I4: 0 | J4: 29 | K4: 0 | L4: 16213 | M4: =$V$30+$V$31*H4+$V$32*I4+$V$33*J4+$V$34*K4+$V$35*L4 -> 22661742 | N4: =M4-G4 -> -353198.59 | O4: =N4/G4 -> -0.015346491 | P4: =ABS(O4) -> 0.015346491 | Q4: =N4*N4 -> 1.2474924e+11 | R4: =N4-N3 -> -186965.98 | S4: =R4*R4 -> 3.4956279e+10
A5: 42460 | B5: 21970551 | D5: =B5+C5 -> 21970551 | G5: =D5-E5-F5 -> 21970551 | H5: 510.25 | I5: 0 | J5: 31 | K5: 1 | L5: 16244 | M5: =$V$30+$V$31*H5+$V$32*I5+$V$33*J5+$V$34*K5+$V$35*L5 -> 22059245 | N5: =M5-G5 -> 88693.585 | O5: =N5/G5 -> 0.0040369304 | P5: =ABS(O5) -> 0.0040369304 | Q5: =N5*N5 -> 7.866552e+09 | R5: =N5-N4 -> 441892.18 | S5: =R5*R5 -> 1.9526869e+11
A6: 42490 | B6: 19763963 | D6: =B6+C6 -> 19763963 | G6: =D6-E6-F6 -> 19763963 | H6: 329.06 | I6: 0.71 | J6: 30 | K6: 1 | L6: 16250 | M6: =$V$30+$V$31*H6+$V$32*I6+$V$33*J6+$V$34*K6+$V$35*L6 -> 19230733 | N6: =M6-G6 -> -533229.77 | O6: =N6/G6 -> -0.026979901 | P6: =ABS(O6) -> 0.026979901 | Q6: =N6*N6 -> 2.8433399e+11 | R6: =N6-N5 -> -621923.36 | S6: =R6*R6 -> 3.8678866e+11
A7: 42521 | B7: 18836973 | D7: =B7+C7 -> 18836973 | G7: =D7-E7-F7 -> 18836973 | H7: 142.47 | I7: 21.69 | J7: 31 | K7: 1 | L7: 16262 | M7: =$V$30+$V$31*H7+$V$32*I7+$V$33*J7+$V$34*K7+$V$35*L7 -> 18562332 | N7: =M7-G7 -> -274641.3 | O7: =N7/G7 -> -0.014579906 | P7: =ABS(O7) -> 0.014579906 | Q7: =N7*N7 -> 7.5427845e+10 | R7: =N7-N6 -> 258588.47 | S7: =R7*R7 -> 6.6867996e+10
A8: 42551 | B8: 19211234 | D8: =B8+C8 -> 19211234 | G8: =D8-E8-F8 -> 19211234 | H8: 19.93 | I8: 77.79 | J8: 30 | K8: 0 | L8: 16270 | M8: =$V$30+$V$31*H8+$V$32*I8+$V$33*J8+$V$34*K8+$V$35*L8 -> 20195993 | N8: =M8-G8 -> 984759.37 | O8: =N8/G8 -> 0.051259558 | P8: =ABS(O8) -> 0.051259558 | Q8: =N8*N8 -> 9.6975101e+11 | R8: =N8-N7 -> 1259400.7 | S8: =R8*R8 -> 1.5860901e+12
A9: 42582 | B9: 23404500 | D9: =B9+C9 -> 23404500 | G9: =D9-E9-F9 -> 23404500 | H9: 0.48 | I9: 154.26 | J9: 31 | K9: 0 | L9: 16282 | M9: =$V$30+$V$31*H9+$V$32*I9+$V$33*J9+$V$34*K9+$V$35*L9 -> 24318891 | N9: =M9-G9 -> 914391.29 | O9: =N9/G9 -> 0.039069038 | P9: =ABS(O9) -> 0.039069038 | Q9: =N9*N9 -> 8.3611144e+11 | R9: =N9-N8 -> -70368.076 | S9: =R9*R9 -> 4.9516661e+09
A10: 42613 | B10: 24564804 | D10: =B10+C10 -> 24564804 | G10: =D10-E10-F10 -> 24564804 | H10: 4.46 | I10: 127.12 | J10: 31 | K10: 0 | L10: 16293 | M10: =$V$30+$V$31*H10+$V$32*I10+$V$33*J10+$V$34*K10+$V$35*L10 -> 23052217 | N10: =M10-G10 -> -1512586.8 | O10: =N10/G10 -> -0.061575366 | P10: =ABS(O10) -> 0.061575366 | Q10: =N10*N10 -> 2.2879189e+12 | R10: =N10-N9 -> -2426978.1 | S10: =R10*R10 -> 5.8902227e+12
A11: 42643 | B11: 19239594 | D11: =B11+C11 -> 19239594 | G11: =D11-E11-F11 -> 19239594 | H11: 37.73 | I11: 47.27 | J11: 30 | K11: 1 | L11: 16324 | M11: =$V$30+$V$31*H11+$V$32*I11+$V$33*J11+$V$34*K11+$V$35*L11 -> 17953755 | N11: =M11-G11 -> -1285839.3 | O11: =N11/G11 -> -0.066832976 | P11: =ABS(O11) -> 0.066832976 | Q11: =N11*N11 -> 1.6533828e+12 | R11: =N11-N10 -> 226747.48 | S11: =R11*R11 -> 5.141442e+10
A12: 42674 | B12: 19360398 | D12: =B12+C12 -> 19360398 | G12: =D12-E12-F12 -> 19360398 | H12: 211.34 | I12: 6.6 | J12: 31 | K12: 1 | L12: 16371 | M12: =$V$30+$V$31*H12+$V$32*I12+$V$33*J12+$V$34*K12+$V$35*L12 -> 18785176 | N12: =M12-G12 -> -575221.57 | O12: =N12/G12 -> -0.029711247 | P12: =ABS(O12) -> 0.029711247 | Q12: =N12*N12 -> 3.3087986e+11 | R12: =N12-N11 -> 710617.76 | S12: =R12*R12 -> 5.0497759e+11
A13: 42704 | B13: 20317470 | D13: =B13+C13 -> 20317470 | G13: =D13-E13-F13 -> 20317470 | H13: 409.73 | I13: 0.26 | J13: 30 | K13: 1 | L13: 16400 | M13: =$V$30+$V$31*H13+$V$32*I13+$V$33*J13+$V$34*K13+$V$35*L13 -> 20355056 | N13: =M13-G13 -> 37586.063 | O13: =N13/G13 -> 0.0018499382 | P13: =ABS(O13) -> 0.0018499382 | Q13: =N13*N13 -> 1.4127122e+09 | R13: =N13-N12 -> 612807.64 | S13: =R13*R13 -> 3.755332e+11
