Workbook
Name BILLING_DETERMINANTS: #REF!
Name BRR_2016: #REF!
Name BRR_2027: #REF!
Name BRR_2028: #REF!
Name BRR_2029: #REF!
Name BRR_2030: #REF!
Name BRR_2031: #REF!
Name BRRAPP: #REF!
Name BRRIR: #REF!
Name BRRPBD: #REF!
Name BRRSA: #REF!
Name ccar: #REF!
Name COS_RES_CUSTOMERS: #REF!
Name COS_RES_KWH: #REF!
Name Eff_Date: #REF!
Name forecast_wholesale_LNPlus: #REF!
Name forecast_wholesale_TN: #REF!
Name IA: #REF!
Name IR: #REF!
Name IRM_2025: #REF!
Name IRM_2026: #REF!
Name LLF: #REF!
Name MidPeakPer: #REF!
Name OffPeakerPer: #REF!
Name OffPeakPer: #REF!
Name OnPeakPer: #REF!
Name PBD: #REF!
Name PPE: #REF!
Name ratebase: #REF!
Name RATES_New: #REF!
Name RTSR: #REF!
Name RTSR_TY: #REF!
Name SA: #REF!
Name SIP: #REF!
Name Start45: '2-OA'!$A$1
Name Start46: '2-OB'!$A$1
Name Test_Year: #REF!
Name Test_Year_2: #REF!
Name Test_Year_3: #REF!
Name Test_Year_4: #REF!
Name Test_Year_5: #REF!
Name total_wholesale_LinePlus: #REF!
Name total_wholesale_TC: #REF!
Name total_wholesale_TN: #REF!
Name YRS_LEFT: #REF!

Sheet 2-OA
A1: Back to Index | M1: File Number:
M2: Exhibit: | N2: 5
M3: Tab: | N3: 1
M4: Schedule: | N4: 1
M5: Page:
M7: Date:
E10: Appendix 2-OA
E11: Capital Structure and Cost of Capital
C13: This table must be completed for the last OEB-approved year and the test year.
I15: Test Year: | J15: 2027
C17: Line No.
E18: Particulars | G18: Capitalization Ratio | M18: Cost Rate | Q18: Return
G20: (%) | K20: ($) | M20: (%) | Q20: ($)
E21: Debt
C22: 1 | E22: Long-term Debt | G22: 0.56 | K22: =$K$31*G22 -> 2.5371463e+09 | M22: ='2-OB'!K222 -> 0.042465812 | Q22: =M22*K22 -> 1.0774198e+08
C23: 2 | E23: Short-term Debt | G23: 0.04 | K23: =$K$31*G23 -> 1.8122473e+08 | M23: 0.0272 | Q23: =M23*K23 -> 4929312.8
C24: 3 | E24: Total Debt | G24: 0.6 | K24: =SUM(K22:K23) -> 2.718371e+09 | M24: =IF(G24=0,0,SUMPRODUCT(G22:G23,M22:M23)/G24) -> 0.041448091 | Q24: =SUM(Q22:Q23) -> 1.1267129e+08
E26: Equity
C27: 4 | E27: Common Equity | G27: 0.4 | K27: =$K$31*G27 -> 1.8122473e+09 | M27: 0.0911 | Q27: =M27*K27 -> 1.6509573e+08
C28: 5 | E28: Preferred Shares | K28: =$K$31*G28 -> 0 | M28: 0 | Q28: =M28*K28 -> 0
C29: 6 | E29: Total Equity | G29: 0.4 | K29: =SUM(K27:K28) -> 1.8122473e+09 | M29: =SUM(M27:M28) -> 0.0911 | Q29: =SUM(Q27:Q28) -> 1.6509573e+08
C31: 7 | E31: Total | G31: 1 | K31: 4.5306183e+09 | M31: =(M24*G24)+(M29*G29) -> 0.061308855 | Q31: =+Q29+Q24 -> 2.7776702e+08
C34: Notes
C35: (1) | E35: 4.0% unless an applicant has proposed or been approved for a different amount.
I45: Last OEB-approved year: | J45: 2019
C47: Line No.
E48: Particulars | G48: Capitalization Ratio | M48: Cost Rate | Q48: Return
G50: (%) | K50: ($) | M50: (%) | Q50: ($)
E51: Debt
C52: 1 | E52: Long-term Debt | G52: 0.56 | K52: =$K$61*G52 -> 1.5780863e+09 | M52: 0.044906141 | Q52: =M52*K52 -> 70865764
C53: 2 | E53: Short-term Debt | G53: 0.04 | K53: =$K$61*G53 -> 1.1272045e+08 | M53: 0.020913519 | Q53: =M53*K53 -> 2357381.3
C54: 3 | E54: Total Debt | G54: 0.6 | K54: =SUM(K52:K53) -> 1.6908067e+09 | M54: =IF(G54=0,0,SUMPRODUCT(G52:G53,M52:M53)/G54) -> 0.043306633 | Q54: =SUM(Q52:Q53) -> 73223145
E56: Equity
C57: 4 | E57: Common Equity | G57: 0.4 | K57: =$K$61*G57 -> 1.1272045e+09 | M57: 0.089493168 | Q57: =M57*K57 -> 1.008771e+08
C58: 5 | E58: Preferred Shares | K58: =$K$61*G58 -> 0 | Q58: =M58*K58 -> 0
C59: 6 | E59: Total Equity | G59: 0.4 | K59: =SUM(K57:K58) -> 1.1272045e+09 | M59: =SUM(M57:M58) -> 0.089493168 | Q59: =SUM(Q57:Q58) -> 1.008771e+08
C61: 7 | E61: Total | G61: 1 | K61: 2.8180112e+09 | M61: =(M54*G54)+(M59*G59) -> 0.061781247 | Q61: =+Q59+Q54 -> 1.7410024e+08
C64: Notes
C65: (1) | E65: 4.0% unless an applicant has proposed or been approved for a different amount.
I74: Test Year: | J74: 2028
...

Sheet 2-OB
A1: Back to Index | L1: File Number:
L2: Exhibit: | M2: 5
L3: Tab: | M3: 1
L4: Schedule: | M4: 1
L5: Page:
L7: Date:
C10: Appendix 2-OB
C11: Debt Instruments
C13: Notes
C15: 1 | D15: If financing is in place only part of the year, separately calculate the pro-rated interest in the year and input in the cell.
C16: 2 | D16: Input actual or deemed long-term debt rate in accordance with the guidelines in The Report of the Board on the Cost of Capital for Ontario's Regulated Utilities, issued December 11, 2009, or with any subsequent update issued by the OEB.
C17: 3 | D17: Add more lines above row 12 if necessary.
C18: 4 | D18: Effective Interest Rate method relied on for the amortization of issuance costs
F21: Year | G21: 2017
C23: Row | D23: Description | E23: Lender | F23: Affiliated or Third-Party Debt? | G23: Fixed or Variable-Rate? | H23: Start Date | I23: Term (years) | J23: Principal ($) | K23: Rate (%) 2 | L23: Interest ($) 1,4 | M23: Additional Comments, if any
C24: 1 | D24: Prommisory Note Payable | E24: Alectra Inc. | F24: Affiliated | G24: Fixed | H24: 40380 | I24: 10 | J24: 40000000 | K24: 0.0489 | L24: 1789874
C25: 2 | D25: Prommisory Note Payable | E25: Alectra Inc. | F25: Affiliated | G25: Fixed | H25: 41095 | I25: 10 | J25: 150000000 | K25: 0.03033 | L25: 4241538.8
C26: 3 | D26: Prommisory Note Payable | E26: Alectra Inc. | F26: Affiliated | G26: Fixed | H26: 40662 | I26: 10 | J26: 110000000 | K26: 0.04521 | L26: 4626803.9
C27: 4 | D27: Prommisory Note Payable | E27: Alectra Inc. | F27: Affiliated | G27: Fixed | H27: 40662 | I27: 30 | J27: 210000000 | K27: 0.05297 | L27: 10203514
C28: 5 | D28: Prommisory Note Payable | E28: Alectra Inc. | F28: Affiliated | G28: Fixed | H28: 42872 | I28: 10 | J28: 3.7957534e+08 | K28: 0.02488 | L28: 10573347
C29: 6 | D29: Prommisory Note Payable | E29: Alectra Inc. | F29: Affiliated | G29: Fixed | H29: 41964 | I29: 10 | J29: 150000000 | K29: 0.03239 | L29: 4497834.8
C30: 7 | D30: Prommisory Note Payable | E30: Alectra Inc. | F30: Affiliated | G30: Fixed | H30: 41850 | I30: 28 | J30: 200000000 | K30: 0.03958 | L30: 7330524.5
C31: 8 | D31: Prommisory Note Payable | E31: Alectra Inc. | F31: Affiliated | G31: Fixed | H31: 41578 | I31: 10 | J31: 7584243 | K31: 0.0403 | L31: 279686.11
C32: 9 | D32: Prommisory Note Payable | E32: Alectra Inc. | F32: Affiliated | G32: Fixed | H32: 41578 | I32: 10 | J32: 8743130 | K32: 0.0403 | L32: 322422.68
C33: 10 | D33: Prommisory Note Payable | E33: Alectra Inc. | F33: Affiliated | G33: Fixed | H33: 38139 | I33: 20 | J33: 78236285 | K33: 0.0441 | L33: 3157187.8
C34: 11 | D34: Prommisory Note Payable | E34: Alectra Inc. | F34: Affiliated | G34: Fixed | H34: 38139 | I34: 20 | J34: 67866202 | K34: 0.0441 | L34: 2738708
C35: 12 | D35: Prommisory Note Payable | E35: Alectra Inc. | F35: Affiliated | G35: Fixed | H35: 38139 | I35: 20 | J35: 20000000 | K35: 0.0441 | L35: 807090.41
C36: Total | J36: =SUM(J24:J35) -> 1.4220052e+09 | K36: =+L36/J36 -> 0.035561426 | L36: =SUM(L24:L35) -> 50568532
F39: Year | G39: 2018
C41: Row | D41: Description | E41: Lender | F41: Affiliated or Third-Party Debt? | G41: Fixed or Variable-Rate? | H41: Start Date | I41: Term (years) | J41: Principal ($) | K41: Rate (%) 2 | L41: Interest ($) 1,4 | M41: Additional Comments, if any
C42: 1 | D42: Prommisory Note Payable | E42: Alectra Inc. | F42: Affiliated | G42: Fixed | H42: 40380 | I42: 10 | J42: 40000000 | K42: 0.0489 | L42: 1956000
C43: 2 | D43: Prommisory Note Payable | E43: Alectra Inc. | F43: Affiliated | G43: Fixed | H43: 41095 | I43: 10 | J43: 150000000 | K43: 0.03033 | L43: =4549500.00260274+85565 -> 4635065
C44: 3 | D44: Prommisory Note Payable | E44: Alectra Inc. | F44: Affiliated | G44: Fixed | H44: 40662 | I44: 10 | J44: 110000000 | K44: 0.04521 | L44: =4973100.00589041+86570 -> 5059670
C45: 4 | D45: Prommisory Note Payable | E45: Alectra Inc. | F45: Affiliated | G45: Fixed | H45: 40662 | I45: 30 | J45: 210000000 | K45: 0.05297 | L45: =11123699.9934247+28150 -> 11151850
C46: 5 | D46: Prommisory Note Payable | E46: Alectra Inc. | F46: Affiliated | G46: Fixed | H46: 42872 | I46: 10 | J46: 605000000 | K46: 0.028834086 | L46: 16885282
C47: 6 | D47: Prommisory Note Payable | E47: Alectra Inc. | F47: Affiliated | G47: Fixed | H47: 41964 | I47: 10 | J47: 150000000 | K47: 0.03239 | L47: =4858500+93543 -> 4952043
C48: 7 | D48: Prommisory Note Payable | E48: Alectra Inc. | F48: Affiliated | G48: Fixed | H48: 41850 | I48: 28 | J48: 200000000 | K48: 0.03958 | L48: =7916000+40002 -> 7956002
C49: 8 | D49: Prommisory Note Payable | E49: Alectra Inc. | F49: Affiliated | G49: Fixed | H49: 41578 | I49: 10 | J49: 6295960.6 | K49: 0.0403 | L49: 254564.61
C50: 9 | D50: Prommisory Note Payable | E50: Alectra Inc. | F50: Affiliated | G50: Fixed | H50: 41578 | I50: 10 | J50: 7257995.6 | K50: 0.0403 | L50: 293462.56
C51: 10 | D51: Prommisory Note Payable | E51: Alectra Inc. | F51: Affiliated | G51: Fixed | H51: 38139 | I51: 20 | J51: 78236285 | K51: 0.0441 | L51: 3450220
...
