Workbook

Sheet Calculations
B1: 1. EV Stock Forecast (updated to 75% LDV sales target by 2035) | L1: 2. Calculations - 2026 EV Forecast | W1: 3. Calculations Miles Per Vehcile | AP1: 4. Results
P2: Cumulative EV Vehicles by Type | X2: Starting Monthly and Annual Charging kWh per Vehicle | AD2: Vechicle Average Efficiency | AI2: Annual kWh Per Vehicle | AP2: Annual Vehicle MWh Sales | AW2: Pricing Zone Allocation Factors | BE2: Rate Class Allocation
B3: Year | C3: LDV-BEV | D3: LDV-PHEV | E3: MDV-BEV | F3: MDV-PHEV | G3: HDV | H3: Total | I3: Actual Registered EVs | L3: Annual EV Sales | M3: Cumulative EV | N3: 2026 Cum EVs | P3: LDV-BEV | Q3: LDV-PHEV | R3: MDV-BEV | S3: MDV-PHEV | T3: HDV | U3: Total | W3: Month | X3: LDV-BEV | Y3: LDV-PHEV | Z3: MDV-BEV | AA3: MDV-PHEV | AB3: HDV | AE3: miles per kWh | AF3: km per kWh | AG3: Eff_Idx | AI3: LDV-BEV | AJ3: LDV-PHEV | AK3: MDV-BEV | AL3: MDV-PHEV | AM3: HDV | AO3: Year | AP3: LDV-BEV | AQ3: LDV-PHEV | AR3: MDV-BEV | AS3: MDV-PHEV | AT3: HDV | AU3: Total | AX3: BRZ | AY3: ERZ | AZ3: GRZ | BA3: HRZ | BB3: PRZ | BC3: Total | BF3: Res | BG3: GSL50 | BH3: GSP50 | BI3: GSP500/700/1000 | BJ3: LU | BK3: Total
B4: 2020 | C4: 11071 | D4: 7334 | E4: 0 | F4: 0 | G4: 0 | H4: =SUM(C4:G4) -> 18405 | K4: Year | M4: =I8 -> 59308 | W4: Jan | X4: 434 | Y4: =X4*0.5 -> 217 | Z4: 2325 | AA4: =Z4*0.5 -> 1162.5 | AB4: 12400 | AD4: Reference Yr | AE4: 3.1 | AF4: =AE4*1.609 -> 4.9879 | AG4: 1 | AW4: Registered EVs | AX4: 7731 | AY4: 9927 | AZ4: 3083 | BA4: 8493 | BB4: 26415 | BC4: =SUM(AX4:BB4) -> 55649 | BE4: LDV | BF4: 0.8 | BG4: 0.2 | BH4: 0 | BI4: 0 | BJ4: 0 | BK4: =SUM(BF4:BJ4) -> 1
B5: 2021 | C5: 14123.108 | D5: 9438.9819 | E5: 59.431656 | F5: 12.421466 | G5: 7.7248693 | H5: =SUM(C5:G5) -> 23641.668 | I5: 21055 | K5: =B9 -> 2025 | L5: =(H9-I8)*0.5 -> 4131.4424 | M5: =M4+L5 -> 63439.442 | W5: Feb | X5: 392 | Y5: =X5*0.5 -> 196 | Z5: 2072 | AA5: =Z5*0.5 -> 1036 | AB5: 11200 | AD5: 2026 | AE5: 3.3922857 | AF5: =AE5*1.609 -> 5.4581877 | AG5: =AF5/$AF$4 -> 1.0942857 | AI5: =$X$16/AG5 -> 3998.9556 | AJ5: =$Y$16/AG5 -> 1999.4778 | AK5: =$Z$16/AG5 -> 24123.499 | AL5: =$AA$16/AG5 -> 12061.749 | AM5: =$AB$16/AG5 -> 120836.81 | AO5: 2026 | AP5: =P6*AI5/1000 -> 43216.172 | AQ5: =Q6*AJ5/1000 -> 5852.8805 | AR5: =R6*AK5/1000 -> 3685.1721 | AS5: =S6*AL5/1000 -> 204.73178 | AT5: =T6*AM5/1000 -> 3415.5178 | AU5: =SUM(AP5:AT5) -> 56374.474 | AW5: Share | AX5: =AX4/$BC$4 -> 0.13892433 | AY5: =AY4/$BC$4 -> 0.17838595 | AZ5: =AZ4/$BC$4 -> 0.055400816 | BA5: =BA4/$BC$4 -> 0.1526173 | BB5: =BB4/$BC$4 -> 0.4746716 | BE5: MDV | BF5: 0 | BG5: 0.5 | BH5: 0.25 | BI5: 0.25 | BJ5: 0 | BK5: =SUM(BF5:BJ5) -> 1
B6: 2022 | C6: 17612.862 | D6: 11573.882 | E6: 150.78305 | F6: 27.56931 | G6: 31.351902 | H6: =SUM(C6:G6) -> 29396.449 | I6: 28346 | K6: =K5+1 -> 2026 | L6: =(H10-H9)*0.5 -> 13932.071 | M6: =M5+L6 -> 77371.514 | N6: =M6-$M$5 -> 13932.071 | P6: =C36-C$35 -> 10806.865 | Q6: =D36-D$35 -> 2927.2046 | R6: =E36-E$35 -> 152.76275 | S6: =F36-F$35 -> 16.973639 | T6: =G36-G$35 -> 28.26554 | U6: =SUM(P6:T6) -> 13932.071 | W6: Mar | X6: 403 | Y6: =X6*0.5 -> 201.5 | Z6: 2263 | AA6: =Z6*0.5 -> 1131.5 | AB6: 12090 | AD6: =AD5+1 -> 2027 | AE6: 3.4188571 | AF6: =AE6*1.609 -> 5.5009411 | AG6: =AF6/$AF$4 -> 1.1028571 | AI6: =$X$16/AG6 -> 3967.8756 | AJ6: =$Y$16/AG6 -> 1983.9378 | AK6: =$Z$16/AG6 -> 23936.01 | AL6: =$AA$16/AG6 -> 11968.005 | AM6: =$AB$16/AG6 -> 119897.67 | AO6: =AO5+1 -> 2027 | AP6: =P7*AI6/1000 -> 164775.81 | AQ6: =Q7*AJ6/1000 -> 25167.69 | AR6: =R7*AK6/1000 -> 13002.87 | AS6: =S7*AL6/1000 -> 722.38164 | AT6: =T7*AM6/1000 -> 12950.478 | AU6: =SUM(AP6:AT6) -> 216619.23 | BE6: HDV | BF6: 0 | BG6: 0 | BH6: 0 | BI6: 0.7 | BJ6: 0.3 | BK6: =SUM(BF6:BJ6) -> 1
B7: 2023 | C7: 23387.527 | D7: 14974.472 | E7: 426.77029 | F7: 47.418922 | G7: 99.896886 | H7: =SUM(C7:G7) -> 38936.085 | I7: 41992 | K7: =K6+1 -> 2027 | L7: =H11-H10 -> 40992.725 | M7: =M6+L7 -> 118364.24 | N7: =M7-$M$5 -> 54924.796 | P7: =C37-C$35 -> 41527.464 | Q7: =D37-D$35 -> 12685.725 | R7: =E37-E$35 -> 543.23462 | S7: =F37-F$35 -> 60.359403 | T7: =G37-G$35 -> 108.01276 | U7: =SUM(P7:T7) -> 54924.796 | W7: Apr | X7: 360 | Y7: =X7*0.5 -> 180 | Z7: 2160 | AA7: =Z7*0.5 -> 1080 | AB7: 11250 | AD7: =AD6+1 -> 2028 | AE7: 3.4454286 | AF7: =AE7*1.609 -> 5.5436946 | AG7: =AF7/$AF$4 -> 1.1114286 | AI7: =$X$16/AG7 -> 3937.2751 | AJ7: =$Y$16/AG7 -> 1968.6375 | AK7: =$Z$16/AG7 -> 23751.414 | AL7: =$AA$16/AG7 -> 11875.707 | AM7: =$AB$16/AG7 -> 118973.01 | AO7: =AO6+1 -> 2028 | AP7: =P8*AI7/1000 -> 331876.09 | AQ7: =Q8*AJ7/1000 -> 48010.641 | AR7: =R8*AK7/1000 -> 23215.719 | AS7: =S8*AL7/1000 -> 1289.7622 | AT7: =T8*AM7/1000 -> 23848.924 | AU7: =SUM(AP7:AT7) -> 428241.14
B8: 2024 | C8: 31349.417 | D8: 19441.379 | E8: 655.88109 | F8: 72.875677 | G8: 143.0372 | H8: =SUM(C8:G8) -> 51662.59 | I8: 59308 | K8: =K7+1 -> 2028 | L8: =H12-H11 -> 55040.268 | M8: =M7+L8 -> 173404.51 | N8: =M8-$M$5 -> 109965.06 | P8: =C38-C$35 -> 84290.807 | Q8: =D38-D$35 -> 24387.75 | R8: =E38-E$35 -> 977.44576 | S8: =F38-F$35 -> 108.60508 | T8: =G38-G$35 -> 200.45659 | U8: =SUM(P8:T8) -> 109965.06 | W8: May | X8: 341 | Y8: =X8*0.5 -> 170.5 | Z8: 2170 | AA8: =Z8*0.5 -> 1085 | AB8: 10540 | AD8: =AD7+1 -> 2029 | AE8: 3.472 | AF8: =AE8*1.609 -> 5.586448 | AG8: =AF8/$AF$4 -> 1.12 | AI8: =$X$16/AG8 -> 3907.1429 | AJ8: =$Y$16/AG8 -> 1953.5714 | AK8: =$Z$16/AG8 -> 23569.643 | AL8: =$AA$16/AG8 -> 11784.821 | AM8: =$AB$16/AG8 -> 118062.5 | AO8: =AO7+1 -> 2029 | AP8: =P9*AI8/1000 -> 555672.44 | AQ8: =Q9*AJ8/1000 -> 73961.868 | AR8: =R9*AK8/1000 -> 34347.097 | AS8: =S9*AL8/1000 -> 1908.1721 | AT8: =T9*AM8/1000 -> 36452.171 | AU8: =SUM(AP8:AT8) -> 702341.75
B9: 2025 | C9: 41041.988 | D9: 25314.641 | E9: 920.30739 | F9: 102.25638 | G9: 191.69245 | H9: =SUM(C9:G9) -> 67570.885 | K9: =K8+1 -> 2029 | L9: =H13-H12 -> 72042.326 | M9: =M8+L9 -> 245446.83 | N9: =M9-$M$5 -> 182007.39 | P9: =C39-C$35 -> 142219.64 | Q9: =D39-D$35 -> 37859.823 | R9: =E39-E$35 -> 1457.26 | S9: =F39-F$35 -> 161.91777 | T9: =G39-G$35 -> 308.75317 | U9: =SUM(P9:T9) -> 182007.39 | W9: June | X9: 300 | Y9: =X9*0.5 -> 150 | Z9: 2100 | AA9: =Z9*0.5 -> 1050 | AB9: 9750 | AD9: =AD8+1 -> 2030 | AE9: 3.4985714 | AF9: =AE9*1.609 -> 5.6292014 | AG9: =AF9/$AF$4 -> 1.1285714 | AI9: =$X$16/AG9 -> 3877.4684 | AJ9: =$Y$16/AG9 -> 1938.7342 | AK9: =$Z$16/AG9 -> 23390.633 | AL9: =$AA$16/AG9 -> 11695.316 | AM9: =$AB$16/AG9 -> 117165.82 | AO9: =AO8+1 -> 2030 | AP9: =P10*AI9/1000 -> 835985.05 | AQ9: =Q10*AJ9/1000 -> 103331.9 | AR9: =R10*AK9/1000 -> 46564.683 | AS9: =S10*AL9/1000 -> 2586.9268 | AT9: =T10*AM9/1000 -> 51448.269 | AU9: =SUM(AP9:AT9) -> 1039916.8
B10: 2026 | C10: 60858.466 | D10: 32926.166 | E10: 1254.1873 | F10: 139.35415 | G10: 256.85355 | H10: =SUM(C10:G10) -> 95435.027 | K10: =K9+1 -> 2030 | L10: =H14-H13 -> 89543.029 | M10: =M9+L10 -> 334989.86 | N10: =M10-$M$5 -> 271550.42 | P10: =C40-C$35 -> 215600.74 | Q10: =D40-D$35 -> 53298.64 | R10: =E40-E$35 -> 1990.7406 | S10: =F40-F$35 -> 221.1934 | T10: =G40-G$35 -> 439.10645 | U10: =SUM(P10:T10) -> 271550.42 | W10: July | X10: 310 | Y10: =X10*0.5 -> 155 | Z10: 2170 | AA10: =Z10*0.5 -> 1085 | AB10: 10075 | AD10: =AD9+1 -> 2031 | AE10: 3.5251429 | AF10: =AE10*1.609 -> 5.6719549 | AG10: =AF10/$AF$4 -> 1.1371429 | AI10: =$X$16/AG10 -> 3848.2412 | AJ10: =$Y$16/AG10 -> 1924.1206 | AK10: =$Z$16/AG10 -> 23214.322 | AL10: =$AA$16/AG10 -> 11607.161 | AM10: =$AB$16/AG10 -> 116282.66 | AO10: =AO9+1 -> 2031 | AP10: =P11*AI10/1000 -> 1102081.2 | AQ10: =Q11*AJ10/1000 -> 111702.75 | AR10: =R11*AK10/1000 -> 61480.957 | AS10: =S11*AL10/1000 -> 3415.6087 | AT10: =T11*AM10/1000 -> 67912.42 | AU10: =SUM(AP10:AT10) -> 1346592.9
B11: 2027 | C11: 92277.977 | D11: 42015.58 | E11: 1622.0355 | F11: 180.22616 | G11: 331.93389 | H11: =SUM(C11:G11) -> 136427.75 | K11: =K10+1 -> 2031 | L11: =H15-H14 -> 76415.892 | M11: =M10+L11 -> 411405.75 | N11: =M11-$M$5 -> 347966.31 | P11: =C41-C$35 -> 286385.69 | Q11: =D41-D$35 -> 58053.923 | R11: =E41-E$35 -> 2648.4064 | S11: =F41-F$35 -> 294.26738 | T11: =G41-G$35 -> 584.02876 | U11: =SUM(P11:T11) -> 347966.31 | W11: Aug | X11: 310 | Y11: =X11*0.5 -> 155 | Z11: 2170 | AA11: =Z11*0.5 -> 1085 | AB11: 10075
B12: 2028 | C12: 135617.88 | D12: 53170.85 | E12: 2033.3104 | F12: 225.92337 | G12: 420.05768 | H12: =SUM(C12:G12) -> 191468.02 | W12: Sep | X12: 330 | Y12: =X12*0.5 -> 165 | Z12: 2160 | AA12: =Z12*0.5 -> 1080 | AB12: 10200
B13: 2029 | C13: 194054.57 | D13: 66162.045 | E13: 2492.1321 | F13: 276.90357 | G13: 524.69253 | H13: =SUM(C13:G13) -> 263510.35 | L13: Annual EV Sales (col L) = Current Year Stock - Prior Year Stock | P13: 2026 Cumulative Forecast Allocated to Type Base on Allocation Factors | W13: Oct | X13: 372 | Y13: =X13*0.5 -> 186 | Z13: 2263 | AA13: =Z13*0.5 -> 1131.5 | AB13: 10850 | AW13: Allocation to zones based on Number of Registered Evs | BE13: Allocation to Rates
B14: 2030 | C14: 267836.85 | D14: 81221.053 | E14: 3008.7152 | F14: 334.30169 | G14: 652.46067 | H14: =SUM(C14:G14) -> 353053.38 | L14: * Starts with actual 2024 stock, 2025 and 2026 sales reduced by 50% | P14: Derived from system planning vehicle forecast | W14: Nov | X14: 390 | Y14: =X14*0.5 -> 195 | Z14: 2220 | AA14: =Z14*0.5 -> 1110 | AB14: 11400 | AI14: Calculation | AP14: Calculation | AW14: Source: Alectra Planning Group | BE14: Source: Discussions with Planning, Rates, and Itron
B15: 2031 | C15: 339184.39 | D15: 85413.256 | E15: 3666.6642 | F15: 407.40714 | G15: 797.54552 | H15: =SUM(C15:G15) -> 429469.27 | W15: Dec | X15: 434 | Y15: =X15*0.5 -> 217 | Z15: 2325 | AA15: =Z15*0.5 -> 1162.5 | AB15: 12400 | AI15: Starting Vehicle Annual Use Adjusted for Efficiency Improvements | AP15: Number of Vehicles * kWh per Vehicle /1000
G16: 100% sales target by 2035 (EP-11) | H16: 534349.24 | L16: Cumulaltive EVs (col M) = Prior Year Stock Plus Current Y ear Sales | W16: Total | X16: =SUM(X4:X15) -> 4376 | Y16: =X16*0.5 -> 2188 | Z16: =SUM(Z4:Z15) -> 26398 | AA16: =SUM(AA4:AA15) -> 13199 | AB16: =SUM(AB4:AB15) -> 132230
B17: Source: Alectra Utilities System Planning | L17: * Starts with actual 2024 stock
W18: Starting Year Annual Charging kWh Per Vehicle Type
B19: Vehicle Allocation Factors | L19: Cumulative Starting in 2026 (col N), Stock Additions Starting in 2026 | W19: Monthly Charging Pattern Used to Allocate Annual Charging to Billing Months | AD19: Source: Vermont Efficiency Investment Corporation
B20: Based on System Planning Vehicle Forecast | W20: Source: ISO New England 2023 Transportation Study | AD20: 2023 Vermont State Electric Vehicle Forecast
B21: Year
B22: 2024 | C22: =C8/$H8 -> 0.60681079 | D22: =D8/$H8 -> 0.37631445 | E22: =E8/$H8 -> 0.012695474 | F22: =F8/$H8 -> 0.0014106083 | G22: =G8/$H8 -> 0.0027686803 | H22: =SUM(C22:G22) -> 1
B23: 2025 | C23: =C9/$H9 -> 0.6073916 | D23: =D9/$H9 -> 0.37463829 | E23: =E9/$H9 -> 0.013619881 | F23: =F9/$H9 -> 0.0015133201 | G23: =G9/$H9 -> 0.002836909 | H23: =SUM(C23:G23) -> 1
B24: 2026 | C24: =C10/$H10 -> 0.63769528 | D24: =D10/$H10 -> 0.34501133 | E24: =E10/$H10 -> 0.013141793 | F24: =F10/$H10 -> 0.0014601992 | G24: =G10/$H10 -> 0.002691397 | H24: =SUM(C24:G24) -> 1
B25: 2027 | C25: =C11/$H11 -> 0.67638714 | D25: =D11/$H11 -> 0.30796945 | E25: =E11/$H11 -> 0.011889336 | F25: =F11/$H11 -> 0.0013210374 | G25: =G11/$H11 -> 0.0024330379 | H25: =SUM(C25:G25) -> 1
B26: 2028 | C26: =C12/$H12 -> 0.70830564 | D26: =D12/$H12 -> 0.27770094 | E26: =E12/$H12 -> 0.010619582 | F26: =F12/$H12 -> 0.0011799536 | G26: =G12/$H12 -> 0.002193879 | H26: =SUM(C26:G26) -> 1
B27: 2029 | C27: =C13/$H13 -> 0.73642108 | D27: =D13/$H13 -> 0.2510795 | E27: =E13/$H13 -> 0.0094574355 | F27: =F13/$H13 -> 0.0010508262 | G27: =G13/$H13 -> 0.0019911648 | H27: =SUM(C27:G27) -> 1
B28: 2030 | C28: =C14/$H14 -> 0.75862989 | D28: =D14/$H14 -> 0.23005318 | E28: =E14/$H14 -> 0.008521984 | F28: =F14/$H14 -> 0.00094688711 | G28: =G14/$H14 -> 0.0018480511 | H28: =SUM(C28:G28) -> 1
B29: 2031 | C29: =C15/$H15 -> 0.78977571 | D29: =D15/$H15 -> 0.19888095 | E29: =E15/$H15 -> 0.0085376638 | F29: =F15/$H15 -> 0.00094862931 | G29: =G15/$H15 -> 0.0018570491 | H29: =SUM(C29:G29) -> 1
B31: Adjusted Vehicle Numbers
B32: Based on System Planning Vehicle Forecast
B33: Year
B34: 2024 | C34: =$M4*C22 -> 35988.734 | D34: =$M4*D22 -> 22318.457 | E34: =$M4*E22 -> 752.94319 | F34: =$M4*F22 -> 83.660355 | G34: =$M4*G22 -> 164.20489 | H34: =SUM(C34:G34) -> 59308
B35: 2025 | C35: =$M5*C23 -> 38532.584 | D35: =$M5*D23 -> 23766.844 | E35: =$M5*E23 -> 864.03764 | F35: =$M5*F23 -> 96.004182 | G35: =$M5*G23 -> 179.97192 | H35: =SUM(C35:G35) -> 63439.442
B36: 2026 | C36: =$M6*C24 -> 49339.449 | D36: =$M6*D24 -> 26694.049 | E36: =$M6*E24 -> 1016.8004 | F36: =$M6*F24 -> 112.97782 | G36: =$M6*G24 -> 208.23746 | H36: =SUM(C36:G36) -> 77371.514
B37: 2027 | C37: =$M7*C25 -> 80060.049 | D37: =$M7*D25 -> 36452.57 | E37: =$M7*E25 -> 1407.2723 | F37: =$M7*F25 -> 156.36358 | G37: =$M7*G25 -> 287.98468 | H37: =SUM(C37:G37) -> 118364.24
B38: 2028 | C38: =$M8*C26 -> 122823.39 | D38: =$M8*D26 -> 48154.595 | E38: =$M8*E26 -> 1841.4834 | F38: =$M8*F26 -> 204.60927 | G38: =$M8*G26 -> 380.42851 | H38: =SUM(C38:G38) -> 173404.51
B39: 2029 | C39: =$M9*C27 -> 180752.22 | D39: =$M9*D27 -> 61626.667 | E39: =$M9*E27 -> 2321.2976 | F39: =$M9*F27 -> 257.92196 | G39: =$M9*G27 -> 488.7251 | H39: =SUM(C39:G39) -> 245446.83
B40: 2030 | C40: =$M10*C28 -> 254133.32 | D40: =$M10*D28 -> 77065.485 | E40: =$M10*E28 -> 2854.7783 | F40: =$M10*F28 -> 317.19758 | G40: =$M10*G28 -> 619.07838 | H40: =SUM(C40:G40) -> 334989.86
B41: 2031 | C41: =$M11*C29 -> 324918.27 | D41: =$M11*D29 -> 81820.767 | E41: =$M11*E29 -> 3512.444 | F41: =$M11*F29 -> 390.27156 | G41: =$M11*G29 -> 764.00069 | H41: =SUM(C41:G41) -> 411405.75

Sheet Summary
D3: Year | E3: 100% Target (JT3.35) | F3: 75% Target | G3: Impact on EV Sales Forecast (MWh) | H3: Total Alectra Sales Forecast (MWh) | I3: Impact as % of Total Sales
D4: 2026 | E4: ='JT3.35_EV Adjustment Tab'!X18 -> 69978.69 | F4: =Calculations!AU5 -> 56374.474 | G4: =F4-E4 -> -13604.216 | H4: ='JT3.35_ Total Tab'!X18 -> 27592239 | I4: =G4/H4 -> -0.00049304502
D5: 2027 | E5: ='JT3.35_EV Adjustment Tab'!X19 -> 272375.99 | F5: =Calculations!AU6 -> 216619.23 | G5: =F5-E5 -> -55756.759 | H5: ='JT3.35_ Total Tab'!X19 -> 27922546 | I5: =G5/H5 -> -0.0019968365
D6: 2028 | E6: ='JT3.35_EV Adjustment Tab'!X20 -> 541504.54 | F6: =Calculations!AU7 -> 428241.14 | G6: =F6-E6 -> -113263.41 | H6: ='JT3.35_ Total Tab'!X20 -> 28437676 | I6: =G6/H6 -> -0.0039828644
D7: 2029 | E7: ='JT3.35_EV Adjustment Tab'!X21 -> 892292.88 | F7: =Calculations!AU8 -> 702341.75 | G7: =F7-E7 -> -189951.13 | H7: ='JT3.35_ Total Tab'!X21 -> 28950515 | I7: =G7/H7 -> -0.0065612351
D8: 2030 | E8: ='JT3.35_EV Adjustment Tab'!X22 -> 1325719.6 | F8: =Calculations!AU9 -> 1039916.8 | G8: =F8-E8 -> -285802.73 | H8: ='JT3.35_ Total Tab'!X22 -> 29622532 | I8: =G8/H8 -> -0.0096481535
D9: 2031 | E9: ='JT3.35_EV Adjustment Tab'!X23 -> 1724179.7 | F9: =Calculations!AU10 -> 1346592.9 | G9: =F9-E9 -> -377586.73 | H9: ='JT3.35_ Total Tab'!X23 -> 30218171 | I9: =G9/H9 -> -0.012495353

Sheet JT3.35_ Total Tab
D2: BILLING DETERMINANTS
E5: CUSTOMERS | O5: CONSUMPTION (mWh) | Y5: DEMAND (mW)
D7: Alectra
D8: Year | E8: Residential | F8: GS < 50 | G8: GS > 50 (1) | H8: GS > 50 (2) | I8: LU (1) | J8: LU (2) | K8: SL | L8: Sent | M8: USL | O8: Residential | P8: GS < 50 | Q8: GS > 50 (1) | R8: GS > 50 (2) | S8: LU (1) | T8: LU (2) | U8: SL | V8: Sentinel | W8: USL | Y8: GS > 50 (1) | Z8: GS > 50 (2) | AA8: LU (1) | AB8: LU (2) | AC8: SL | AD8: Sentinel
D9: 2017 | E9: 940384 | F9: 83247 | G9: 12980 | H9: 619 | I9: 26 | J9: 7 | K9: 227625 | L9: 557 | M9: 11156 | N9: 1276601 | O9: 7100277.5 | P9: 2647033 | Q9: 9817657.7 | R9: 3385829.4 | S9: 1604810.3 | T9: 1047870.9 | U9: 143163.56 | V9: 755.19 | W9: 44362.64 | X9: 25791760 | Y9: 26709.32 | Z9: 7607.94 | AA9: 3029.02 | AB9: 1882.85 | AC9: 401.89 | AD9: 1.8292 | AE9: 39632.849
D10: 2018 | E10: 948720 | F10: 84093 | G10: 13205 | H10: 626 | I10: 25 | J10: 7 | K10: 229961 | L10: 552 | M10: 11315 | N10: 1288504 | O10: 7702403 | P10: 2803803 | Q10: 10099472 | R10: 3452031.3 | S10: 1621609.1 | T10: 1094743.8 | U10: 127391.76 | V10: 782.92 | W10: 44364.14 | X10: 26946602 | Y10: 26907.5 | Z10: 7640.69 | AA10: 3090.22 | AB10: 1934.25 | AC10: 341.2 | AD10: 2.1792 | AE10: 39916.039
D11: 2019 | E11: 955435 | F11: 84306 | G11: 13270 | H11: 633 | I11: 26 | J11: 7 | K11: 230685 | L11: 505 | M11: 11276 | N11: 1296143 | O11: 7371237.5 | P11: 2711839.2 | Q11: 9946724.8 | R11: 3374225.8 | S11: 1681693.2 | T11: 1091050 | U11: 114454.76 | V11: 688.84 | W11: 44561.12 | X11: 26336475 | Y11: 27022.33 | Z11: 7502.99 | AA11: 3129.88 | AB11: 1934.97 | AC11: 334.96 | AD11: 1.9292 | AE11: 39927.059
D12: 2020 | E12: 962014 | F12: 85094 | G12: 13099 | H12: 655 | I12: 27 | J12: 5 | K12: 231795 | L12: 489 | M12: 11160 | N12: 1304338 | O12: 8340436.7 | P12: 2566343 | Q12: 9425433.5 | R12: 3072345.2 | S12: 1684707 | T12: 989927.43 | U12: 110866.3 | V12: 698.51 | W12: 45198.68 | X12: 26235956 | Y12: 26172.52 | Z12: 7231.75 | AA12: 3089.54 | AB12: 1792.7 | AC12: 301.45 | AD12: 1.7504 | AE12: 38589.71
D13: 2021 | E13: 969260 | F13: 85764 | G13: 13059 | H13: 647 | I13: 24 | J13: 5 | K13: 234891 | L13: 470 | M13: 11251 | N13: 1315371 | O13: 8161387 | P13: 2587014 | Q13: 9538245.1 | R13: 3207504.5 | S13: 1724380.4 | T13: 979943.86 | U13: 96997.12 | V13: 664.29 | W13: 44875.75 | X13: 26341012 | Y13: 25981.72 | Z13: 7203.58 | AA13: 3206.45 | AB13: 1890.3 | AC13: 272.71 | AD13: 1.7856 | AE13: 38556.546
D14: 2022 | E14: 975694 | F14: 87002 | G14: 12376 | H14: 563 | I14: 25 | J14: 5 | K14: 235451 | L14: 462 | M14: 11255 | N14: 1322833 | O14: 8175488.8 | P14: 2774846.2 | Q14: 9869980.1 | R14: 3263164.6 | S14: 1784435.8 | T14: 987578.66 | U14: 96188.53 | V14: 661.37 | W14: 45177.05 | X14: 26997521 | Y14: 26678.68 | Z14: 7403.09 | AA14: 3328.93 | AB14: 1798.13 | AC14: 268.36 | AD14: 1.7088 | AE14: 39478.899
D15: 2023 | E15: 981275 | F15: 87707 | G15: 12086 | H15: 508 | I15: 27 | J15: 5 | K15: 236505 | L15: 442 | M15: 11352 | N15: 1329907 | O15: 8002561.7 | P15: 2744666.7 | Q15: 9944399 | R15: 3137685.6 | S15: 1883046.5 | T15: 905170.53 | U15: 93312.94 | V15: 631.67 | W15: 44925.23 | X15: 26756400 | Y15: 26846.38 | Z15: 7019.02 | AA15: 3492.28 | AB15: 1646.35 | AC15: 262.29 | AD15: 1.7388 | AE15: 39268.059
D16: 2024 | E16: 985462 | F16: 88209 | G16: 11982 | H16: 487 | I16: 30 | J16: 6 | K16: 241236 | L16: 422 | M16: 11265 | N16: 1339099 | O16: 8358536.7 | P16: 2812814.2 | Q16: 10156193 | R16: 3039667.1 | S16: 1941695.6 | T16: 864720.1 | U16: 93691.39 | V16: 587.44 | W16: 47635.88 | X16: 27315542 | Y16: 26735.42 | Z16: 6805 | AA16: 3625.45 | AB16: 1601.55 | AC16: 258.82 | AD16: 1.6987 | AE16: 39027.939
D17: 2025 | E17: 990008 | F17: 88728 | G17: 12112 | H17: 483 | I17: 31 | J17: 6 | K17: 242262 | L17: 424 | M17: 11527 | N17: 1345581 | O17: 8739403.2 | P17: 2870975.1 | Q17: 10326791 | R17: 2955085.8 | S17: 2028497.4 | T17: 842988.7 | U17: 92001.63 | V17: 653.85 | W17: 46674.99 | X17: 27903072 | Y17: 27432.71 | Z17: 6674.28 | AA17: 3806.36 | AB17: 1620.14 | AC17: 259.45 | AD17: 1.6588 | AE17: 39794.599
D18: 2026 | E18: 993468 | F18: 89611 | G18: 11887 | H18: 460 | I18: 31 | J18: 6 | K18: 242780 | L18: 412 | M18: 11600 | N18: 1350255 | O18: 8490540.6 | P18: 2822588.2 | Q18: 10091661 | R18: 3056575 | S18: 2136751 | T18: 852839.57 | U18: 93601.89 | V18: 600.51 | W18: 47081.54 | X18: 27592239 | Y18: 27179.644 | Z18: 6827.9555 | AA18: 3938.8838 | AB18: 1584.26 | AC18: 261.27 | AD18: 1.6289 | AE18: 39793.642
D19: 2027 | E19: 997506 | F19: 90383 | G19: 11698 | H19: 437 | I19: 32 | J19: 6 | K19: 274065 | L19: 400 | M19: 11647 | N19: 1386174 | O19: 8726286.4 | P19: 2875761.3 | Q19: 10130581 | R19: 3051785 | S19: 2142187.8 | T19: 853349.62 | U19: 94572.09 | V19: 585.59 | W19: 47436.52 | X19: 27922546 | Y19: 27663.68 | Z19: 6724.7998 | AA19: 4047.4274 | AB19: 1605.512 | AC19: 264.1 | AD19: 1.6089 | AE19: 40307.128
D20: 2028 | E20: 1001917 | F20: 91095 | G20: 11530 | H20: 417 | I20: 32 | J20: 6 | K20: 274963 | L20: 390 | M20: 11688 | N20: 1392038 | O20: 9039740.6 | P20: 2959530.3 | Q20: 10232471 | R20: 3063205.2 | S20: 2146170.5 | T20: 853349.62 | U20: 94836.75 | V20: 570.69 | W20: 47800.57 | X20: 28437676 | Y20: 27888.45 | Z20: 6674.716 | AA20: 4062.4197 | AB20: 1601.912 | AC20: 264.12 | AD20: 1.5588 | AE20: 40493.177
... D23: 2031 | E23: 1014918 | F23: 93137 | G23: 11142 | H23: 372 | I23: 36 | J23: 6 | K23: 277655 | L23: 358 | M23: 11803 | N23: 1409427 | O23: 10180628 | P23: 3259485.8 | Q23: 10422428 | R23: 3104224.9 | S23: 2253652.1 | T23: 853349.62 | U23: 94979.91 | V23: 525.94 | W23: 48896.95 | X23: 30218171 | Y23: 28431.768 | Z23: 6549.4039 | AA23: 4855.3104 | AB23: 1605.512 | AC23: 265.26 | AD23: 1.4189 | AE23: 41708.673

Sheet JT3.35_EV Adjustment Tab
D2: BILLING DETERMINANTS
E5: CUSTOMERS | O5: CONSUMPTION (mWh) | Y5: DEMAND (mW)
D7: Alectra
D8: Year | E8: Residential | F8: GS < 50 | G8: GS > 50 (1) | H8: GS > 50 (2) | I8: LU (1) | J8: LU (2) | K8: SL | L8: Sent | M8: USL | O8: Residential | P8: GS < 50 | Q8: GS > 50 (1) | R8: GS > 50 (2) | S8: LU (1) | T8: LU (2) | U8: SL | V8: Sentinel | W8: USL | Y8: GS > 50 (1) | Z8: GS > 50 (2) | AA8: LU (1) | AB8: LU (2) | AC8: SL | AD8: Sentinel
D9: 2017
D10: 2018
D11: 2019
D12: 2020
D13: 2021
D14: 2022
D15: 2023
D16: 2024
D17: 2025
D18: 2026 | O18: 50865.703 | P18: 14428.884 | Q18: 2698.1882 | R18: 1094.4218 | S18: 891.49371 | X18: =SUM(O18:W18) -> 69978.69 | Y18: 7.1143807 | Z18: 2.4494943 | AA18: 1.6293149
D19: 2027 | O19: 196740.01 | P19: 55988.507 | Q19: 11175.452 | R19: 4618.8353 | S19: 3853.1924 | X19: =SUM(O19:W19) -> 272375.99 | Y19: 29.454978 | Z19: 10.337627 | AA19: 7.0421854
D20: 2028 | O20: 394365.81 | P20: 110891.92 | Q20: 20523.102 | R20: 8539.8099 | S20: 7183.9056 | X20: =SUM(O20:W20) -> 541504.54 | Y20: 53.936652 | Z20: 19.059274 | AA20: 13.087844
D21: 2029 | O21: 655305.15 | P21: 182068.74 | Q21: 30947.62 | R21: 12968.411 | S21: 11002.964 | X21: =SUM(O21:W21) -> 892292.88 | Y21: 81.544171 | Z21: 29.025032 | AA21: 20.109277
D22: 2030 | O22: 979607.72 | P22: 269632.76 | Q22: 42844.87 | R22: 18109.729 | S22: 15524.475 | X22: =SUM(O22:W22) -> 1325719.6 | Y22: 112.87127 | Z22: 40.53185 | AA22: 28.372896
D23: 2031 | O23: 1272529.1 | P23: 350760.09 | Q23: 56521.72 | R23: 23889.947 | S23: 20478.796 | X23: =SUM(O23:W23) -> 1724179.7 | Y23: 148.90191 | Z23: 53.468705 | AA23: 37.42753
