Workbook
Name _MailEndCompose: UFGVA!#REF!

Sheet Summary
A1: EPCOR Natural Gas Limited Partnership
A2: EB-2026-0149
A3: Deferral Account Summary
B5: 2025 | D5: 2026 Carrying Charges | H5: Total
B6: Principal | C6: Carrying Charges | D6: Q1 | E6: Q2 | F6: Q3 | G6: Q4 | J6: Check
D7: 0.0255 | E7: 0.0255 | F7: 0.0255 | G7: =F7 -> 0.0255
A8: ECVA | B8: =ECVA!C26 -> 14856.708 | C8: =CIACVA!B26 -> 0 | D8: =$B8*D$7/4 -> 94.711516 | E8: =$B8*E$7/4 -> 94.711516 | F8: =$B8*F$7/4 -> 94.711516 | G8: =$B8*G$7/4 -> 94.711516 | H8: =SUM(B8:G8) -> 15235.554 | J8: =H8-ECVA!E28 -> 0
A9: CIACVA | B9: =CIACVA!B25 -> 295068 | C9: =CIACVA!B26 -> 0 | D9: =$B9*D$7/4 -> 1881.0585 | E9: =$B9*E$7/4 -> 1881.0585 | F9: =$B9*F$7/4 -> 1881.0585 | G9: =$B9*G$7/4 -> 1881.0585 | H9: =SUM(B9:G9) -> 302592.23 | J9: =H9-CIACVA!D27 -> 0
A10: MTVA | B10: =MTVA!B29 -> -92462.64 | C10: =MTVA!B30 -> 10266.951 | D10: =$B10*D$7/4 -> -589.44933 | E10: =$B10*E$7/4 -> -589.44933 | F10: =$B10*F$7/4 -> -589.44933 | G10: =$B10*G$7/4 -> -589.44933 | H10: =SUM(B10:G10) -> -84553.486 | J10: =H10-MTVA!D31 -> 0
A11: ORDA | B11: =ORDA!B28 -> -30970.73 | C11: =ORDA!B29 -> -418.26532 | D11: =$B11*D$7/4 -> -197.4384 | E11: =$B11*E$7/4 -> -197.4384 | F11: =$B11*F$7/4 -> -197.4384 | G11: =$B11*G$7/4 -> -197.4384 | H11: =SUM(B11:G11) -> -32178.749 | J11: =H11-ORDA!D30 -> 0
A12: CVVA | B12: =CVVA!B24 -> 511908.11 | C12: =CVVA!B25 -> 9924.0113 | D12: =$B12*D$7/4 -> 3263.4142 | E12: =$B12*E$7/4 -> 3263.4142 | F12: =$B12*F$7/4 -> 3263.4142 | G12: =$B12*G$7/4 -> 3263.4142 | H12: =SUM(B12:G12) -> 534885.78 | J12: =H12-CVVA!D26 -> 0
A13: UFGVA | B13: =UFGVA!B24 -> 157619.28 | C13: =UFGVA!B25 -> 301.57886 | D13: =$B13*D$7/4 -> 1004.8229 | E13: =$B13*E$7/4 -> 1004.8229 | F13: =$B13*F$7/4 -> 1004.8229 | G13: =$B13*G$7/4 -> 1004.8229 | H13: =SUM(B13:G13) -> 161940.15 | J13: =H13-UFGVA!D26 -> 0
A14: ADVADA | B14: =ADVADA!AX26 -> 53757.862 | C14: =ADVADA!AX27 -> 10045.537 | D14: =$B14*D$7/4 -> 342.70637 | E14: =$B14*E$7/4 -> 342.70637 | F14: =$B14*F$7/4 -> 342.70637 | G14: =$B14*G$7/4 -> 342.70637 | H14: =SUM(B14:G14) -> 65174.224 | J14: =H14-ADVADA!AZ28 -> 0
B16: 2025 | D16: 2026 Carrying Charges | H16: Total
B17: Principal | C17: Carrying Charges | D17: Q1 | E17: Q2 | F17: Q3 | G17: Q4
D18: 0.0372 | E18: 0.0372 | F18: 0.0372 | G18: 0.0372
A19: S&TVA | B19: ='S&TVA'!B40 -> 610801.52 | C19: ='S&TVA'!B41 -> 2995.4796 | D19: =$B19*D$18/4 -> 5680.4541 | E19: =$B19*E$18/4 -> 5680.4541 | F19: =$B19*F$18/4 -> 5680.4541 | G19: =$B19*G$18/4 -> 5680.4541 | H19: =SUM(B19:G19) -> 636518.82 | J19: =H19-'S&TVA'!D42 -> 0
A20: TVA | B20: =TVA!D35 -> 63136.233 | C20: =TVA!B34 -> 1028.3461 | D20: =$B20*D$18/4 -> 587.16697 | E20: =$B20*E$18/4 -> 587.16697 | F20: =$B20*F$18/4 -> 587.16697 | G20: =$B20*G$18/4 -> 587.16697 | H20: =SUM(B20:G20) -> 66513.247 | J20: =H19-'S&TVA'!D42 -> 0
A22: Total | B22: =SUM(B8:B14,B19:B20) -> 1583714.3 | C22: =SUM(C8:C14,C19:C20) -> 34143.638 | D22: =SUM(D8:D14,D19:D20) -> 12067.447 | E22: =SUM(E8:E14,E19:E20) -> 12067.447 | F22: =SUM(F8:F14,F19:F20) -> 12067.447 | G22: =SUM(G8:G14,G19:G20) -> 12067.447 | H22: =SUM(H8:H14,H19:H20) -> 1666127.8

Sheet ECVA
A1: EPCOR Natural Gas Limited Partnership
A2: =Summary!A2 -> EB-2026-0149
A3: Energy Content Variance Account
A4: Continuity Schedule
C5: 2025 | D5: 2025 | E5: 2025 | F5: 2025 | G5: 2025 | H5: 2025 | I5: 2025 | J5: 2025 | K5: 2025 | L5: 2025 | M5: 2025 | N5: 2025 | P5: 2026
C6: JAN | D6: FEB | E6: MAR | F6: APR | G6: MAY | H6: JUN | I6: JUL | J6: AUG | K6: SEP | L6: OCT | M6: NOV | N6: DEC | P6: JAN-DEC
A8: Annual CIP Rev R1, 6, 11 | B8: 4459298.2
A9: Actual Energy Content | B9: 39.02
A10: Benchmark Energy Content | B10: 38.89
A11: Difference | N11: =(B9-B10)/B9*B8 -> 14856.708
A13: Opening ECVA Balance | C13: 0 | D13: =C15 -> 0 | E13: =D15 -> 0 | F13: =E15 -> 0 | G13: =F15 -> 0 | H13: =G15 -> 0 | I13: =H15 -> 0 | J13: =I15 -> 0 | K13: =J15 -> 0 | ... N13: =M15 -> 0
A14: Change in ECVA Balance | C14: =C11 -> 0 | D14: =D11 -> 0 | E14: =E11 -> 0 | F14: =F11 -> 0 | G14: =G11 -> 0 | H14: =H11 -> 0 | I14: =I11 -> 0 | J14: =J11 -> 0 | ... O14: =O11 -> 0
A15: Closing ECVA Balance | C15: =SUM(C13:C14) -> 0 | D15: =SUM(D13:D14) -> 0 | E15: =SUM(E13:E14) -> 0 | F15: =SUM(F13:F14) -> 0 | G15: =SUM(G13:G14) -> 0 | H15: =SUM(H13:H14) -> 0 | I15: =SUM(I13:I14) -> 0 | J15: =SUM(J13:J14) -> 0 | ... N15: =SUM(N13:N14) -> 14856.708
A17: Monthly Interest Rate | C17: 0.0364 | D17: 0.0364 | E17: 0.0364 | F17: 0.0316 | G17: 0.0316 | H17: 0.0316 | I17: 0.0291 | J17: 0.0291 | K17: 0.0291 | L17: 0.0291 | M17: 0.0291 | N17: 0.0291 | P17: =(Summary!D7+Summary!E7+Summary!F7+Summary!G7)/4 -> 0.0255
A19: Opening Interest Balance | C19: 0 | D19: =C21 -> 0 | E19: =D21 -> 0 | F19: =E21 -> 0 | G19: =F21 -> 0 | H19: =G21 -> 0 | I19: =H21 -> 0 | J19: =I21 -> 0 | K19: =J21 -> 0 | ... N19: =M21 -> 0 | P19: =N21 -> 0
A20: Monthly Interest Calculation | C20: =C13*C17/12 -> 0 | D20: =D13*D17/12 -> 0 | E20: =E13*E17/12 -> 0 | F20: =F13*F17/12 -> 0 | G20: =G13*G17/12 -> 0 | H20: =H13*H17/12 -> 0 | I20: =I13*I17/12 -> 0 | J20: =J13*J17/12 -> 0 | ... N20: =N13*N17/12 -> 0 | P20: =N15*P17 -> 378.84606
A21: Closing Interest Balance | C21: =SUM(C19:C20) -> 0 | D21: =SUM(D19:D20) -> 0 | E21: =SUM(E19:E20) -> 0 | F21: =SUM(F19:F20) -> 0 | G21: =SUM(G19:G20) -> 0 | H21: =SUM(H19:H20) -> 0 | I21: =SUM(I19:I20) -> 0 | J21: =SUM(J19:J20) -> 0 | ... N21: =SUM(N19:N20) -> 0 | P21: =SUM(P19:P20) -> 378.84606
A24: ECVA Account Balance
C25: 2025 Balance | D25: 2026 Carrying Charges | E25: 2026 Balance
A26: Principal | C26: =N15 -> 14856.708 | E26: =C26+D26 -> 14856.708
A27: Carrying Charges | C27: =N21 -> 0 | D27: =P20 -> 378.84606 | E27: =C27+D27 -> 378.84606
A28: Total | C28: =C27+C26 -> 14856.708 | D28: =D27+D26 -> 378.84606 | E28: =C28+D28 -> 15235.554
A31: ECVA Account Balance Allocation (EB-2018-0264, Exhibit 3, Tab 1, Schedule 2, pg. 2 of 3 - 2025 Volumes)
C32: Unit | D32: Row Sum | E32: Rate 1 | F32: Rate 6 | G32: Rate 11
A33: Volume | C33: 000's m3 | D33: =SUM(E33:G33) -> 16689.51 | E33: 11775.724 | F33: 3560.46 | G33: =1353.326 -> 1353.326
A34: Allocation | C34: % | D34: =SUM(E34:G34) -> 1 | E34: =E33/$D$33 -> 0.70557638 | F34: =F33/$D$33 -> 0.2133352 | G34: =G33/$D$33 -> 0.08108842
A35: Total | C35: $ | D35: =SUM(E35:G35) -> 15235.554 | E35: =E34*($P$21+$N$15) -> 10749.847 | F35: =F34*($P$21+$N$15) -> 3250.2801 | G35: =G34*($P$21+$N$15) -> 1235.427
A38: ECVA Account Balance Recovery (Based on 2025 Normalized Annual Consumption Volumes)
C39: Unit | D39: Row Sum | E39: =E32 -> Rate 1 | F39: =F32 -> Rate 6 | G39: =G32 -> Rate 11
A40: Volume | C40: 000's m3 | D40: =SUM(E40:G40) -> 13257.002 | E40: ='Load Forecast'!A7 -> 8662.8849 | F40: ='Load Forecast'!B7 -> 2918.6106 | G40: ='Load Forecast'!C7 -> 1675.5067
A41: Allocation | C41: % | D41: =SUM(E41:G41) -> 1 | E41: =E34 -> 0.70557638 | F41: =F34 -> 0.2133352 | G41: =G34 -> 0.08108842
A42: Total | C42: $ | D42: =SUM(E42:G42) -> 15235.554 | E42: =E40*E43*10 -> 10749.847 | F42: =F40*F43*10 -> 3250.2801 | G42: =G40*G43*10 -> 1235.427
A43: Rate Rider | C43: ¢/m3 | E43: =E35/E40/10 -> 0.12409085 | F43: =F35/F40/10 -> 0.11136395 | G43: =G35/G40/10 -> 0.073734532

Sheet CIACVA
A1: EPCOR Natural Gas Limited Partnership
A2: =Summary!A2 -> EB-2026-0149
A3: Contribution In Aid of Construction Variance Account (CIACVA)
A4: Continuity Schedule
B5: 2025 | C5: 2025 | D5: 2025 | E5: 2025 | F5: 2025 | G5: 2025 | H5: 2025 | I5: 2025 | J5: 2025 | K5: 2025 | L5: 2025 | M5: 2025 | O5: 2026
B6: JAN | C6: FEB | D6: MAR | E6: APR | F6: MAY | G6: JUN | H6: JUL | I6: AUG | J6: SEP | K6: OCT | L6: NOV | M6: DEC | O6: JAN-DEC
A8: CIAC Revenue Requirement Based on Amount Paid | B8: 0 | C8: 0 | D8: 0 | E8: 0 | F8: 0 | G8: 0 | H8: 0 | I8: 0 | J8: 0 | K8: 0 | L8: 0 | M8: 667551
A9: CIAC Revenue Requirement per Filing | B9: 0 | C9: 0 | D9: 0 | E9: 0 | F9: 0 | G9: 0 | H9: 0 | I9: 0 | J9: 0 | K9: 0 | L9: 0 | M9: 372483
A10: Difference | B10: =B8-B9 -> 0 | C10: =C8-C9 -> 0 | D10: =D8-D9 -> 0 | E10: =E8-E9 -> 0 | F10: =F8-F9 -> 0 | G10: =G8-G9 -> 0 | H10: =H8-H9 -> 0 | I10: =I8-I9 -> 0 | ... M10: =M8-M9 -> 295068
A12: Opening CIACVA Balance | B12: 0 | C12: =B14 -> 0 | D12: =C14 -> 0 | E12: =D14 -> 0 | F12: =E14 -> 0 | G12: =F14 -> 0 | H12: =G14 -> 0 | I12: =H14 -> 0 | J12: =I14 -> 0 | ... M12: =L14 -> 0
A13: Change in CIACVA Balance | B13: =B10 -> 0 | C13: =C10 -> 0 | D13: =D10 -> 0 | E13: =E10 -> 0 | F13: =F10 -> 0 | G13: =G10 -> 0 | H13: =H10 -> 0 | I13: =I10 -> 0 | ... M13: =M10 -> 295068
A14: Closing CIACVA Balance | B14: =SUM(B12:B13) -> 0 | C14: =SUM(C12:C13) -> 0 | D14: =SUM(D12:D13) -> 0 | E14: =SUM(E12:E13) -> 0 | F14: =SUM(F12:F13) -> 0 | G14: =SUM(G12:G13) -> 0 | H14: =SUM(H12:H13) -> 0 | I14: =SUM(I12:I13) -> 0 | ... M14: =SUM(M12:M13) -> 295068
A16: Monthly Interest Rate | B16: 0.0364 | C16: 0.0364 | D16: 0.0364 | E16: 0.0316 | F16: 0.0316 | G16: 0.0316 | H16: 0.0291 | I16: 0.0291 | J16: 0.0291 | K16: 0.0291 | L16: 0.0291 | M16: 0.0291 | O16: =(Summary!D7+Summary!E7+Summary!F7+Summary!G7)/4 -> 0.0255
A18: Opening Interest Balance | B18: 0 | C18: =B20 -> 0 | D18: =C20 -> 0 | E18: =D20 -> 0 | F18: =E20 -> 0 | G18: =F20 -> 0 | H18: =G20 -> 0 | I18: =H20 -> 0 | J18: =I20 -> 0 | ... M18: =L20 -> 0 | O18: =M20 -> 0
A19: Monthly Interest Calculation | B19: =B12*B16/12 -> 0 | C19: =C12*C16/12 -> 0 | D19: =D12*D16/12 -> 0 | E19: =E12*E16/12 -> 0 | F19: =F12*F16/12 -> 0 | G19: =G12*G16/12 -> 0 | H19: =H12*H16/12 -> 0 | I19: =I12*I16/12 -> 0 | ... M19: =M12*M16/12 -> 0 | O19: =M14*O16 -> 7524.234
A20: Closing Interest Balance | B20: =SUM(B18:B19) -> 0 | C20: =SUM(C18:C19) -> 0 | D20: =SUM(D18:D19) -> 0 | E20: =SUM(E18:E19) -> 0 | F20: =SUM(F18:F19) -> 0 | G20: =SUM(G18:G19) -> 0 | H20: =SUM(H18:H19) -> 0 | I20: =SUM(I18:I19) -> 0 | ... M20: =SUM(M18:M19) -> 0 | O20: =SUM(O18:O19) -> 7524.234
A23: CIACVA Account Balance
B24: 2025 Balance | C24: 2026 Carrying Charges | D24: 2026 Balance
A25: Principal | B25: =M14 -> 295068 | D25: =B25+C25 -> 295068
A26: Carrying Charges | B26: =M20 -> 0 | C26: =O19 -> 7524.234 | D26: =B26+C26 -> 7524.234
A27: Total | B27: =B26+B25 -> 295068 | C27: =C26+C25 -> 7524.234 | D27: =B27+C27 -> 302592.23
A30: CIACVA Account Balance Allocation (Source: EB-2018-0624, Exhibit 7, Tab 1, Schedule 2, Table 7-25)
B31: Unit | C31: Row Sum | D31: Rate 1 | E31: Rate 6 | F31: Rate 11 | G31: Rate 16
A32: Rate Base | B32: $000's | C32: =SUM(D32:G32) -> 54946.04 | D32: 32656.93 | E32: 11610.57 | F32: 1417.66 | G32: 9260.88
A33: Allocation | B33: % | C33: =SUM(D33:G33) -> 1 | D33: =D32/$C$32 -> 0.59434547 | E33: =E32/$C$32 -> 0.21130859 | F33: =F32/$C$32 -> 0.025800949 | G33: =G32/$C$32 -> 0.16854499
A34: Total | B34: $ | C34: =SUM(D34:G34) -> 302592.23 | D34: =D33*($O$20+$M$14) -> 179844.32 | E34: =E33*($O$20+$M$14) -> 63940.337 | F34: =F33*($O$20+$M$14) -> 7807.1669 | G34: =G33*($O$20+$M$14) -> 51000.406
A37: CIACVA Account Balance Recovery (Based on 2025 Normalized Annual Consumption Volumes)
B38: Unit | C38: Row Sum | D38: =D31 -> Rate 1 | E38: =E31 -> Rate 6 | F38: =F31 -> Rate 11 | G38: Unit | H38: =G31 -> Rate 16
A39: Volume | B39: 000's m3 | C39: =SUM(D39:F39) -> 13257.002 | D39: ='Load Forecast'!A7 -> 8662.8849 | E39: ='Load Forecast'!B7 -> 2918.6106 | F39: ='Load Forecast'!C7 -> 1675.5067 | G39: CD | H39: ='Load Forecast'!D7 -> 95854.657
A40: Allocation | B40: % | C40: =SUM(D40:H40) -> 1 | D40: =D33 -> 0.59434547 | E40: =E33 -> 0.21130859 | F40: =F33 -> 0.025800949 | G40: % | H40: =G33 -> 0.16854499
A41: Total | B41: $ | C41: =SUM(D41:H41) -> 302591.87 | D41: =D39*D42*10 -> 179844.32 | E41: =E39*E42*10 -> 63940.337 | F41: =F39*F42*10 -> 7807.1669 | G41: $ | H41: =H39*H42/100*12 -> 51000.045
A42: Rate Rider | B42: ¢/m3 | D42: =D34/D39/10 -> 2.0760327 | E42: =E34/E39/10 -> 2.19078 | F42: =F34/F39/10 -> 0.46595856 | G42: ¢/CD/month | H42: =ROUND(G34/H39*100/12,4) -> 4.4338

Sheet MTVA
A1: EPCOR Natural Gas Limited Partnership
A2: =CIACVA!A2 -> EB-2026-0149
A3: Municipal Tax Variance Account (MTVA)
A4: Continuity Schedule
B5: 2025 | C5: 2025 | D5: 2025 | E5: 2025 | F5: 2025 | G5: 2025 | H5: 2025 | I5: 2025 | J5: 2025 | K5: 2025 | L5: 2025 | M5: 2025 | O5: 2026
B6: JAN | C6: FEB | D6: MAR | E6: APR | F6: MAY | G6: JUN | H6: JUL | I6: AUG | J6: SEP | K6: OCT | L6: NOV | M6: DEC | O6: JAN-DEC
A8: Billed Distribution revenue | M8: 7041761.1
A9: Distribution Revenue per CIP | M9: 7454573.8
A10: Municipal taxes per CIP | M10: 623740.95
A11: Ratio | M11: 0.083672249
A12: Property taxes collected through revenues | M12: =M8*M11 -> 589199.99
A13: Property taxes paid | B13: 0 | C13: 315214.25 | D13: 75.44 | H13: 120399.81 | I13: 98271.64 | K13: -37223.79
A14: Difference | B14: =B13-B12 -> 0 | C14: =C13-C12 -> 315214.25 | D14: =D13-D12 -> 75.44 | E14: =E13-E12 -> 0 | F14: =F13-F12 -> 0 | G14: =G13-G12 -> 0 | H14: =H13-H12 -> 120399.81 | I14: =I13-I12 -> 98271.64 | ... M14: =M13-M12 -> -589199.99
A16: Opening MTVA Balance | B16: 0 | C16: =B18 -> 0 | D16: =C18 -> 315214.25 | E16: =D18 -> 315289.69 | F16: =E18 -> 315289.69 | G16: =F18 -> 315289.69 | H16: =G18 -> 315289.69 | I16: =H18 -> 435689.5 | J16: =I18 -> 533961.14 | ... M16: =L18 -> 496737.35
A17: Change in MTVA Balance | B17: =B14 -> 0 | C17: =C14 -> 315214.25 | D17: =D14 -> 75.44 | E17: =E14 -> 0 | F17: =F14 -> 0 | G17: =G14 -> 0 | H17: =H14 -> 120399.81 | I17: =I14 -> 98271.64 | ... M17: =M14 -> -589199.99
A18: Closing MTVA Balance | B18: =SUM(B16:B17) -> 0 | C18: =SUM(C16:C17) -> 315214.25 | D18: =SUM(D16:D17) -> 315289.69 | E18: =SUM(E16:E17) -> 315289.69 | F18: =SUM(F16:F17) -> 315289.69 | G18: =SUM(G16:G17) -> 315289.69 | H18: =SUM(H16:H17) -> 435689.5 | I18: =SUM(I16:I17) -> 533961.14 | ... M18: =SUM(M16:M17) -> -92462.64
A20: Monthly Interest Rate | B20: 0.0364 | C20: 0.0364 | D20: 0.0364 | E20: 0.0316 | F20: 0.0316 | G20: 0.0316 | H20: 0.0291 | I20: 0.0291 | J20: 0.0291 | K20: 0.0291 | L20: 0.0291 | M20: 0.0291 | O20: =(Summary!D7+Summary!E7+Summary!F7+Summary!G7)/4 -> 0.0255
A22: Opening Interest Balance | B22: 0 | C22: =B24 -> 0 | D22: =C24 -> 0 | E22: =D24 -> 956.14989 | F22: =E24 -> 1786.4127 | G22: =F24 -> 2616.6756 | H22: =G24 -> 3446.9384 | I22: =H24 -> 4211.5159 | J22: =I24 -> 5268.063 | ... M22: =L24 -> 9062.3626 | O22: =M24 -> 10266.951
A23: Monthly Interest Calculation | B23: =B16*B20/12 -> 0 | C23: =C16*C20/12 -> 0 | D23: =D16*D20/12 -> 956.14989 | E23: =E16*E20/12 -> 830.26285 | F23: =F16*F20/12 -> 830.26285 | G23: =G16*G20/12 -> 830.26285 | H23: =H16*H20/12 -> 764.5775 | I23: =I16*I20/12 -> 1056.547 | ... M23: =M16*M20/12 -> 1204.5881 | O23: =M18*O20 -> -2357.7973
A24: Closing Interest Balance | B24: =SUM(B22:B23) -> 0 | C24: =SUM(C22:C23) -> 0 | D24: =SUM(D22:D23) -> 956.14989 | E24: =SUM(E22:E23) -> 1786.4127 | F24: =SUM(F22:F23) -> 2616.6756 | G24: =SUM(G22:G23) -> 3446.9384 | H24: =SUM(H22:H23) -> 4211.5159 | I24: =SUM(I22:I23) -> 5268.063 | ... M24: =SUM(M22:M23) -> 10266.951 | O24: =SUM(O22:O23) -> 7909.1533
A27: MTVA Account Balance
B28: 2025 Balance | C28: 2026 Carrying Charges | D28: 2026 Balance
A29: Principal | B29: =M18 -> -92462.64 | D29: =B29+C29 -> -92462.64
A30: Carrying Charges | B30: =M24 -> 10266.951 | C30: =O23 -> -2357.7973 | D30: =B30+C30 -> 7909.1533
A31: Total | B31: =B30+B29 -> -82195.689 | C31: =C30+C29 -> -2357.7973 | D31: =B31+C31 -> -84553.486
A34: MTVA Account Balance Allocation (Source: EB-2018-0624, Exhibit 7, Tab 1, Schedule 2, Table 7-27)
B35: Unit | C35: Row Sum | D35: Rate 1 | E35: Rate 6 | F35: Rate 11 | G35: Rate 16
A36: Property Taxes | B36: $000's | C36: =SUM(D36:G36) -> 630.03 | D36: 338.9 | E36: 156.36 | F36: 19.14 | G36: 115.63
A37: Allocation | B37: % | C37: =SUM(D37:G37) -> 1 | D37: =D36/$C$36 -> 0.53791089 | E37: =E36/$C$36 -> 0.24817866 | F37: =F36/$C$36 -> 0.030379506 | G37: =G36/$C$36 -> 0.18353094
A38: Total | B38: $ | C38: =SUM(D38:G38) -> -84553.486 | D38: =D37*($O$24+$M$18) -> -45482.241 | E38: =E37*($O$24+$M$18) -> -20984.371 | F38: =F37*($O$24+$M$18) -> -2568.6931 | G38: =G37*($O$24+$M$18) -> -15518.181
A41: MTVA Account Balance Recovery (Based on 2025 Normalized Annual Consumption Volumes R1/6/11 and Contract Demand R16)
B42: Unit | C42: Row Sum | D42: =D35 -> Rate 1 | E42: =E35 -> Rate 6 | F42: =F35 -> Rate 11 | G42: Unit | H42: =G35 -> Rate 16
A43: Volume | B43: 000's m3 | C43: =SUM(D43:F43) -> 13257.002 | D43: ='Load Forecast'!A7 -> 8662.8849 | E43: ='Load Forecast'!B7 -> 2918.6106 | F43: ='Load Forecast'!C7 -> 1675.5067 | G43: CD | H43: ='Load Forecast'!D7 -> 95854.657
A44: Allocation | B44: % | C44: =SUM(D44:H44) -> 1 | D44: =D37 -> 0.53791089 | E44: =E37 -> 0.24817866 | F44: =F37 -> 0.030379506 | G44: % | H44: =G37 -> 0.18353094
A45: Total | B45: $ | C45: =SUM(D45:H45) -> -84553.407 | D45: =D43*D46*10 -> -45482.241 | E45: =E43*E46*10 -> -20984.371 | F45: =F43*F46*10 -> -2568.6931 | G45: $ | H45: =H43*H46/100*12 -> -15518.102
A46: Rate Rider | B46: ¢/m3 | D46: =D38/D43/10 -> -0.52502419 | E46: =E38/E43/10 -> -0.71898494 | F46: =F38/F43/10 -> -0.15330843 | G46: ¢/CD/month | H46: =ROUND(G38/H43*100/12,4) -> -1.3491

Sheet ORDA
A1: EPCOR Natural Gas Limited Partnership
A2: =MTVA!A2 -> EB-2026-0149
A3: Other Revenue Deferral Account (ORDA)
A4: Continuity Schedule
B5: 2025 | C5: 2025 | D5: 2025 | E5: 2025 | F5: 2025 | G5: 2025 | H5: 2025 | I5: 2025 | J5: 2025 | K5: 2025 | L5: 2025 | M5: 2025 | O5: 2026
B6: JAN | C6: FEB | D6: MAR | E6: APR | F6: MAY | G6: JUN | H6: JUL | I6: AUG | J6: SEP | K6: OCT | L6: NOV | M6: DEC | O6: JAN-DEC
A8: 4505 - Late Payment Charge | B8: 1 | C8: -2691 | D8: -2554 | E8: 41 | F8: -2884 | G8: -2203 | H8: -2165 | I8: -2025 | J8: -1872 | K8: -1741.19 | L8: -1515.12 | M8: 317.58
A9: 4506 - Penalty Fees | B9: 0 | C9: 0 | D9: 0 | E9: 0 | F9: 0 | G9: 0 | H9: 0 | I9: 0 | J9: 0 | K9: 0 | L9: 0 | M9: 0
A10: 4511 - Collection & NSF Fees | B10: -100 | C10: -120 | D10: -80 | E10: -80 | F10: -80 | G10: -100 | H10: -100 | I10: -60 | J10: -20 | K10: -40 | L10: -40 | M10: 0
A11: 4515 - Connection Fees | B11: -630 | C11: -525 | D11: -315 | E11: -770 | F11: -910 | G11: -420 | H11: -1745 | I11: -1085 | J11: -820 | K11: -1835 | L11: -1170 | M11: -595
A12: 4592 - Miscellaneous Revenue | B12: 0 | C12: 0 | D12: 0 | E12: -40 | F12: 0 | G12: 0 | H12: 0 | I12: 0 | J12: 0 | K12: 0 | L12: 0 | M12: 0
A13: Variance | B13: =SUM(B8:B12) -> -729 | C13: =SUM(C8:C12) -> -3336 | D13: =SUM(D8:D12) -> -2949 | E13: =SUM(E8:E12) -> -849 | F13: =SUM(F8:F12) -> -3874 | G13: =SUM(G8:G12) -> -2723 | H13: =SUM(H8:H12) -> -4010 | I13: =SUM(I8:I12) -> -3170 | ... M13: =SUM(M8:M12) -> -277.42
A15: Opening ORDA Balance | B15: 0 | C15: =B17 -> -729 | D15: =C17 -> -4065 | E15: =D17 -> -7014 | F15: =E17 -> -7863 | G15: =F17 -> -11737 | H15: =G17 -> -14460 | I15: =H17 -> -18470 | J15: =I17 -> -21640 | ... M15: =L17 -> -30693.31
A16: Change in ORDA Balance | B16: =B13 -> -729 | C16: =C13 -> -3336 | D16: =D13 -> -2949 | E16: =E13 -> -849 | F16: =F13 -> -3874 | G16: =G13 -> -2723 | H16: =H13 -> -4010 | I16: =I13 -> -3170 | ... M16: =M13 -> -277.42
A17: Closing ORDA Balance | B17: =SUM(B15:B16) -> -729 | C17: =SUM(C15:C16) -> -4065 | D17: =SUM(D15:D16) -> -7014 | E17: =SUM(E15:E16) -> -7863 | F17: =SUM(F15:F16) -> -11737 | G17: =SUM(G15:G16) -> -14460 | H17: =SUM(H15:H16) -> -18470 | I17: =SUM(I15:I16) -> -21640 | ... M17: =SUM(M15:M16) -> -30970.73
A19: Monthly Interest Rate | B19: 0.0364 | C19: 0.0364 | D19: 0.0364 | E19: 0.0316 | F19: 0.0316 | G19: 0.0316 | H19: 0.0291 | I19: 0.0291 | J19: 0.0291 | K19: 0.0291 | L19: 0.0291 | M19: 0.0291 | O19: =(Summary!D7+Summary!E7+Summary!F7+Summary!G7)/4 -> 0.0255
A21: Opening Interest Balance | B21: 0 | C21: =B23 -> 0 | D21: =C23 -> -2.2113 | E21: =D23 -> -14.5418 | F21: =E23 -> -33.012 | G21: =F23 -> -53.7179 | H21: =G23 -> -84.625333 | I21: =H23 -> -119.69083 | J21: =I23 -> -164.48058 | ... M21: =L23 -> -343.83404 | O21: =M23 -> -418.26532
A22: Monthly Interest Calculation | B22: =B15*B19/12 -> 0 | C22: =C15*C19/12 -> -2.2113 | D22: =D15*D19/12 -> -12.3305 | E22: =E15*E19/12 -> -18.4702 | F22: =F15*F19/12 -> -20.7059 | G22: =G15*G19/12 -> -30.907433 | H22: =H15*H19/12 -> -35.0655 | I22: =I15*I19/12 -> -44.78975 | ... M22: =M15*M19/12 -> -74.431277 | O22: =M17*O19 -> -789.75361
A23: Closing Interest Balance | B23: =SUM(B21:B22) -> 0 | C23: =SUM(C21:C22) -> -2.2113 | D23: =SUM(D21:D22) -> -14.5418 | E23: =SUM(E21:E22) -> -33.012 | F23: =SUM(F21:F22) -> -53.7179 | G23: =SUM(G21:G22) -> -84.625333 | H23: =SUM(H21:H22) -> -119.69083 | I23: =SUM(I21:I22) -> -164.48058 | ... M23: =SUM(M21:M22) -> -418.26532 | O23: =SUM(O21:O22) -> -1208.0189
A26: ORDA Account Balance
B27: 2025 Balance | C27: 2026 Carrying Charges | D27: 2026 Balance
A28: Principal | B28: =M17 -> -30970.73 | D28: =B28+C28 -> -30970.73
A29: Carrying Charges | B29: =M23 -> -418.26532 | C29: =O22 -> -789.75361 | D29: =B29+C29 -> -1208.0189
A30: Total | B30: =B29+B28 -> -31388.995 | C30: =C29+C28 -> -789.75361 | D30: =B30+C30 -> -32178.749
A33: ORDA Account Balance Allocation (Source: EB-2018-0624, Exhibit 7, Tab 1, Schedule 2, Table 7-28)
B34: Unit | C34: Row Sum | D34: Rate 1 | E34: Rate 6 | F34: Rate 11 | G34: Rate 16
A35: OM&A | B35: $000's | C35: =SUM(D35:G35) -> 5653.0058 | D35: 4159.7098 | E35: 937.74459 | F35: 228.82157 | G35: 326.7299
A36: Allocation | B36: % | C36: =SUM(D36:G36) -> 1 | D36: =D35/$C$35 -> 0.73584035 | E36: =E35/$C$35 -> 0.16588424 | F36: =F35/$C$35 -> 0.040477858 | G36: =G35/$C$35 -> 0.057797553
A37: Total | B37: $ | C37: =SUM(D37:G37) -> -32178.749 | D37: =D36*($D$30) -> -23678.422 | E37: =E36*($D$30) -> -5337.9474 | F37: =F36*($D$30) -> -1302.5268 | G37: =G36*($D$30) -> -1859.8529
A40: ORDA Account Balance Recovery (Based on 2025 Normalized Annual Consumption Volumes R1/6/11 and Contract Demand R16)
B41: Unit | C41: Row Sum | D41: =D34 -> Rate 1 | E41: =E34 -> Rate 6 | F41: =F34 -> Rate 11 | G41: Unit | H41: =G34 -> Rate 16
A42: Volume | B42: 000's m3 | C42: =SUM(D42:F42) -> 13257.002 | D42: ='Load Forecast'!A7 -> 8662.8849 | E42: ='Load Forecast'!B7 -> 2918.6106 | F42: ='Load Forecast'!C7 -> 1675.5067 | G42: CD | H42: ='Load Forecast'!D7 -> 95854.657
A43: Allocation | B43: % | C43: =SUM(D43:H43) -> 1 | D43: =D36 -> 0.73584035 | E43: =E36 -> 0.16588424 | F43: =F36 -> 0.040477858 | G43: % | H43: =G36 -> 0.057797553
A44: Total | B44: $ | C44: =SUM(D44:H44) -> -32178.86 | D44: =D42*D45*10 -> -23678.422 | E44: =E42*E45*10 -> -5337.9474 | F44: =F42*F45*10 -> -1302.5268 | G44: $ | H44: =H42*H45/100*12 -> -1859.9638
A45: Rate Rider | B45: ¢/m3 | D45: =D37/D42/10 -> -0.27333183 | E45: =E37/E42/10 -> -0.18289344 | F45: =F37/F42/10 -> -0.077739278 | G45: ¢/CD/month | H45: =ROUND(G37/H42*100/12,4) -> -0.1617

Sheet CVVA
A1: EPCOR Natural Gas Limited Partnership
A2: =CIACVA!A2 -> EB-2026-0149
A3: Customer Volume Variance Account (CVVA)
A4: Continuity Schedule
B5: 2025 | C5: 2025 | D5: 2025 | E5: 2025 | F5: 2025 | G5: 2025 | H5: 2025 | I5: 2025 | J5: 2025 | K5: 2025 | L5: 2025 | M5: 2025 | O5: 2026 | V5: Without CVVA | W5: With CVVA
B6: JAN | C6: FEB | D6: MAR | E6: APR | F6: MAY | G6: JUN | H6: JUL | I6: AUG | J6: SEP | K6: OCT | L6: NOV | M6: DEC | O6: JAN-DEC | U6: Regulatory Net Income | V6: -173507.35 | W6: =V6+C47 -> 338400.76
A8: Monthly NACS/CIP Difference | B8: 93789.931 | C8: 116569.43 | D8: 88350.892 | E8: 40773.038 | F8: 31315.701 | G8: 22722.895 | H8: 19935.02 | I8: 17224.755 | J8: 17689.019 | K8: 18300.273 | L8: -3120.8955 | M8: 48358.057 | U8: Regulated Equity
A9: Variance | B9: =SUM(B8:B8) -> 93789.931 | C9: =SUM(C8:C8) -> 116569.43 | D9: =SUM(D8:D8) -> 88350.892 | E9: =SUM(E8:E8) -> 40773.038 | F9: =SUM(F8:F8) -> 31315.701 | G9: =SUM(G8:G8) -> 22722.895 | H9: =SUM(H8:H8) -> 19935.02 | I9: =SUM(I8:I8) -> 17224.755 | ... M9: =SUM(M8:M8) -> 48358.057 | U9: Opening Ratebase | V9: 94223330 | W9: =V9 -> 94223330
U10: Closing Ratebase | V10: 92779960 | W10: =V10 -> 92779960
A11: Opening CVVA Balance | B11: 0 | C11: =B13 -> 93789.931 | D11: =C13 -> 210359.36 | E11: =D13 -> 298710.25 | F11: =E13 -> 339483.29 | G11: =F13 -> 370798.99 | H11: =G13 -> 393521.89 | I11: =H13 -> 413456.91 | J11: =I13 -> 430681.66 | ... M11: =L13 -> 463550.06 | U11: Mid-Year Ratebase | V11: =(V9+V10)/2 -> 93501645 | W11: =V11 -> 93501645
A12: Change in CVVA Balance | B12: =B9 -> 93789.931 | C12: =C9 -> 116569.43 | D12: =D9 -> 88350.892 | E12: =E9 -> 40773.038 | F12: =F9 -> 31315.701 | G12: =G9 -> 22722.895 | H12: =H9 -> 19935.02 | I12: =I9 -> 17224.755 | ... M12: =M9 -> 48358.057 | U12: Equity Component | V12: 0.36 | W12: 0.36
A13: Closing CVVA Balance | B13: =SUM(B11:B12) -> 93789.931 | C13: =SUM(C11:C12) -> 210359.36 | D13: =SUM(D11:D12) -> 298710.25 | E13: =SUM(E11:E12) -> 339483.29 | F13: =SUM(F11:F12) -> 370798.99 | G13: =SUM(G11:G12) -> 393521.89 | H13: =SUM(H11:H12) -> 413456.91 | I13: =SUM(I11:I12) -> 430681.66 | ... M13: =SUM(M11:M12) -> 511908.11 | V13: =V11*V12 -> 33660592 | W13: =W11*W12 -> 33660592
A15: Monthly Interest Rate | B15: 0.0364 | C15: 0.0364 | D15: 0.0364 | E15: 0.0316 | F15: 0.0316 | G15: 0.0316 | H15: 0.0291 | I15: 0.0291 | J15: 0.0291 | K15: 0.0291 | L15: 0.0291 | M15: 0.0291 | O15: =(Summary!D7+Summary!E7+Summary!F7+Summary!G7)/4 -> 0.0255 | U15: ROE % | V15: =V6/V13 -> -0.0051546137 | W15: =W6/W13 -> 0.010053322
A17: Opening Interest Balance | B17: 0 | C17: =B19 -> 0 | D17: =C19 -> 284.49613 | E17: =D19 -> 922.58619 | F17: =E19 -> 1709.1899 | G17: =F19 -> 2603.1625 | H17: =G19 -> 3579.5999 | I17: =H19 -> 4533.8904 | J17: =I19 -> 5536.5234 | ... M17: =L19 -> 8799.9024 | O17: =M19 -> 9924.0113
A18: Monthly Interest Calculation | B18: =B11*B15/12 -> 0 | C18: =C11*C15/12 -> 284.49613 | D18: =D11*D15/12 -> 638.09006 | E18: =E11*E15/12 -> 786.60367 | F18: =F11*F15/12 -> 893.97267 | G18: =G11*G15/12 -> 976.43734 | H18: =H11*H15/12 -> 954.29058 | I18: =I11*I15/12 -> 1002.633 | ... M18: =M11*M15/12 -> 1124.1089 | O18: =M13*O15 -> 13053.657
A19: Closing Interest Balance | B19: =SUM(B17:B18) -> 0 | C19: =SUM(C17:C18) -> 284.49613 | D19: =SUM(D17:D18) -> 922.58619 | E19: =SUM(E17:E18) -> 1709.1899 | F19: =SUM(F17:F18) -> 2603.1625 | G19: =SUM(G17:G18) -> 3579.5999 | H19: =SUM(H17:H18) -> 4533.8904 | I19: =SUM(I17:I18) -> 5536.5234 | ... M19: =SUM(M17:M18) -> 9924.0113 | O19: =SUM(O17:O18) -> 22977.668
A22: CVVA Account Balance
B23: 2025 Balance | C23: 2026 Carrying Charges | D23: 2026 Balance
A24: Principal | B24: =M13 -> 511908.11 | D24: =B24+C24 -> 511908.11
A25: Carrying Charges | B25: =M19 -> 9924.0113 | C25: =O18 -> 13053.657 | D25: =B25+C25 -> 22977.668
A26: Total | B26: =B25+B24 -> 521832.13 | C26: =C25+C24 -> 13053.657 | D26: =B26+C26 -> 534885.78
A29: CVVA Account Balance Allocation (Based on 2025 CVVA calculation workbook)
B30: Unit | C30: Row Sum | D30: Rate 1 | E30: Rate 6
A31: Volume | B31: 000's m3 | C31: =SUM(D31:E31) -> 511908.11 | D31: =C45 -> 502844.29 | E31: =C46 -> 9063.8226
A32: Allocation | B32: % | C32: =SUM(D32:E32) -> 1 | D32: =D45 -> 0.98229404 | E32: =D46 -> 0.017705956
A33: Total | B33: $ | C33: =SUM(D33:E33) -> 534885.78 | D33: =D32*($O$19+$M$13) -> 525415.12 | E33: =E32*($O$19+$M$13) -> 9470.6642
A36: CVVA Account Balance Recovery (Based on 2025 year end customer count)
B37: Unit | C37: Row Sum | D37: Rate 1 | E37: Rate 6
A38: Customer Count | B38: # | C38: =SUM(D38:E38) -> 5532 | D38: ='Load Forecast'!A12 -> 5454 | E38: ='Load Forecast'!B12 -> 78
A39: Allocation | B39: % | C39: =SUM(D39:E39) -> 1 | D39: =D32 -> 0.98229404 | E39: =E32 -> 0.017705956
A40: Total | B40: $ | C40: =SUM(D40:E40) -> 534885.78 | D40: =D38*D41*12 -> 525415.12 | E40: =E38*E41*12 -> 9470.6642
A41: Rate Rider | B41: $ per month | D41: =D33/D38/12 -> 8.0279782 | E41: =E33/E38/12 -> 10.118231
A44: CVVA Allocation | B44: 2025 Actual | C44: 50% Recovery | D44: Allocation
A45: R1 | B45: 1005688.6 | C45: =B45/2 -> 502844.29 | D45: =C45/$C$47 -> 0.98229404
A46: R6 | B46: 18127.645 | C46: =B46/2 -> 9063.8226 | D46: =C46/$C$47 -> 0.017705956
A47: Total | B47: =SUM(B45:B46) -> 1023816.2 | C47: =SUM(C45:C46) -> 511908.11 | D47: =C47/$C$47 -> 1

Sheet UFGVA
A1: =CIACVA!A1 -> EPCOR Natural Gas Limited Partnership
A2: =CIACVA!A2 -> EB-2026-0149
A3: Unaccounted For Gas Variance Account (UFGVA)
A4: =CIACVA!A4 -> Continuity Schedule
B5: 2025 | C5: 2025 | D5: 2025 | E5: 2025 | F5: 2025 | G5: 2025 | H5: 2025 | I5: 2025 | J5: 2025 | K5: 2025 | L5: 2025 | M5: 2025 | N5: 2026
B6: JAN | C6: FEB | D6: MAR | E6: APR | F6: MAY | G6: JUN | H6: JUL | I6: AUG | J6: SEP | K6: OCT | L6: NOV | M6: DEC | N6: Jan-Dec
A8: Unaccounted for Gas | B8: -397.64303 | C8: -19435.39 | D8: 5054.3433 | E8: 9782.265 | F8: -3033.0154 | G8: 3226.5194 | H8: 8716.299 | I8: 2899.7283 | J8: 2498.3877 | K8: 8612.8972 | L8: 128777.57 | M8: 10917.321
A10: Opening UFG Balance | B10: 0 | C10: =B12 -> -397.64303 | D10: =C12 -> -19833.033 | E10: =D12 -> -14778.69 | F10: =E12 -> -4996.4252 | G10: =F12 -> -8029.4406 | H10: =G12 -> -4802.9211 | I10: =H12 -> 3913.3779 | J10: =I12 -> 6813.1061 | ... M10: =L12 -> 146701.96
A11: Change in UFG Balance (E) | B11: =B8 -> -397.64303 | C11: =C8 -> -19435.39 | D11: =D8 -> 5054.3433 | E11: =E8 -> 9782.265 | F11: =F8 -> -3033.0154 | G11: =G8 -> 3226.5194 | H11: =H8 -> 8716.299 | I11: =I8 -> 2899.7283 | ... M11: =M8 -> 10917.321
A12: Closing UFG Balance | B12: =B10+B11 -> -397.64303 | C12: =C10+C11 -> -19833.033 | D12: =D10+D11 -> -14778.69 | E12: =E10+E11 -> -4996.4252 | F12: =F10+F11 -> -8029.4406 | G12: =G10+G11 -> -4802.9211 | H12: =H10+H11 -> 3913.3779 | I12: =I10+I11 -> 6813.1061 | ... M12: =M10+M11 -> 157619.28
A14: UFG Interest
A15: Monthly Interest Rate | B15: 0.0364 | C15: 0.0364 | D15: 0.0364 | E15: 0.0316 | F15: 0.0316 | G15: 0.0316 | H15: 0.0291 | I15: 0.0291 | J15: 0.0291 | K15: 0.0291 | L15: 0.0291 | M15: 0.0291 | N15: =CIACVA!O16 -> 0.0255
A17: Opening Interest Balance | B17: 0 | C17: =B19 -> 0 | D17: =C19 -> -1.2061838 | E17: =D19 -> -61.366385 | F17: =E19 -> -100.2836 | G17: =F19 -> -113.44086 | H17: =G19 -> -134.58505 | I17: =H19 -> -146.23213 | J17: =I19 -> -136.74219 | ... N17: =M19 -> 301.57886
A18: Monthly Interest Calculation | B18: =B10*B15/12 -> 0 | C18: =C10*C15/12 -> -1.2061838 | D18: =D10*D15/12 -> -60.160202 | E18: =E10*E15/12 -> -38.917218 | F18: =F10*F15/12 -> -13.157253 | G18: =G10*G15/12 -> -21.144194 | H18: =H10*H15/12 -> -11.647084 | I18: =I10*I15/12 -> 9.4899413 | ... M18: =M10*M15/12 -> 355.75225 | N18: =N15*M12 -> 4019.2916
A19: Closing Interest Balance | B19: =B17+B18 -> 0 | C19: =C17+C18 -> -1.2061838 | D19: =D17+D18 -> -61.366385 | E19: =E17+E18 -> -100.2836 | F19: =F17+F18 -> -113.44086 | G19: =G17+G18 -> -134.58505 | H19: =H17+H18 -> -146.23213 | I19: =I17+I18 -> -136.74219 | ... N19: =N17+N18 -> 4320.8705
A22: UFGVA Account Balance
B23: 2025 Balance | C23: 2026 Carrying Charges | D23: 2026 Balance
A24: Principal | B24: =M12 -> 157619.28 | D24: =B24+C24 -> 157619.28
A25: Carrying Charges | B25: =M19 -> 301.57886 | C25: =N18 -> 4019.2916 | D25: =B25+C25 -> 4320.8705
A26: Total | B26: =B25+B24 -> 157920.86 | C26: =C25+C24 -> 4019.2916 | D26: =B26+C26 -> 161940.15
A28: UFGVA Account Balance Allocation (Based on 2025 actual volumes)
B29: Unit | C29: Row Sum | D29: Rate 1 | E29: Rate 6 | F29: Rate 11 | G29: Rate 16
A30: Volume | B30: 000's m3 | C30: =SUM(D30:G30) -> 33080.978 | D30: ='Load Forecast'!A17 -> 8756.8949 | E30: ='Load Forecast'!B17 -> 2969.295 | F30: ='Load Forecast'!C17 -> 1675.5067 | G30: ='Load Forecast'!D17 -> 19679.281
A31: Allocation | B31: % | C31: =SUM(D31:G31) -> 1 | D31: =D30/$C$30 -> 0.26471089 | E31: =E30/$C$30 -> 0.089758381 | F31: =F30/$C$30 -> 0.050648646 | G31: =G30/$C$30 -> 0.59488209
A32: Total | B32: $ | C32: =SUM(D32:G32) -> 161940.15 | D32: =D31*($D$26) -> 42867.321 | E32: =E31*($D$26) -> 14535.486 | F32: =F31*($D$26) -> 8202.0493 | G32: =G31*($D$26) -> 96335.295
A34: UFGVA Account Balance Recovery (Based on 2025 Normalized Annual Consumption Volumes R1/6/11 and Contract Demand R16)
B35: Unit | C35: Row Sum | D35: Rate 1 | E35: Rate 6 | F35: Rate 11 | G35: Unit | H35: Rate 16
A36: Volume | B36: 000's m3 | C36: =SUM(D36:F36) -> 13257.002 | D36: ='Load Forecast'!A7 -> 8662.8849 | E36: ='Load Forecast'!B7 -> 2918.6106 | F36: ='Load Forecast'!C7 -> 1675.5067 | G36: CD | H36: ='Load Forecast'!D7 -> 95854.657
A37: Allocation | B37: % | C37: =SUM(D37:H37) -> 1 | D37: =D31 -> 0.26471089 | E37: =E31 -> 0.089758381 | F37: =F31 -> 0.050648646 | G37: % | H37: =G31 -> 0.59488209
A38: Total | B38: $ | C38: =SUM(D38:H38) -> 161939.94 | D38: =D36*D39*10 -> 42867.321 | E38: =E36*E39*10 -> 14535.486 | F38: =F36*F39*10 -> 8202.0493 | G38: $ | H38: =H36*H39/100*12 -> 96335.081
A39: Rate Rider | B39: ¢/m3 | D39: =D32/D36/10 -> 0.49483886 | E39: =E32/E36/10 -> 0.49802758 | F39: =F32/F36/10 -> 0.4895265 | G39: ¢/CD/month | H39: =ROUND(G32/H36*100/12,4) -> 8.3751

Sheet ADVADA
A1: EPCOR Natural Gas Limited Partnership
A2: EB-2026-0148
A3: Approved Deferral/Variance Disposal Account (ADVADA)
A4: Continuity Schedule | BN4: Hearing | BO4: Amount | BP4: Rate Rider Sunset | BQ4: Two Year Adjustment Window
B5: 2021 | C5: 2021 | D5: 2021 | E5: 2021 | F5: 2021 | G5: 2021 | H5: 2021 | I5: 2021 | J5: 2021 | K5: 2021 | L5: 2021 | M5: 2021 | N5: 2022 | O5: 2022 | P5: 2022 | Q5: 2022 | R5: 2022 | S5: 2022 | T5: 2022 | U5: 2022 | V5: 2022 | W5: 2022 | X5: 2022 | Y5: 2022 | Z5: 2023 | AA5: 2023 | AB5: 2023 | AC5: 2023 | AD5: 2023 | AE5: 2023 | AF5: 2023 | AG5: 2023 | AH5: 2023 | AI5: 2023 | AJ5: 2023 | AK5: 2023 | AL5: 2024 | AM5: 2024 | AN5: 2024 | AO5: 2024 | AP5: 2024 | AQ5: 2024 | AR5: 2024 | AS5: 2024 | AT5: 2024 | AU5: 2024 | AV5: 2024 | AW5: 2024 | AX5: 2025 | AY5: 2025 | AZ5: 2025 | BA5: 2025 | BB5: 2025 | BC5: 2025 | BD5: 2025 | BE5: 2025 | BF5: 2025 | BG5: 2025 | BH5: 2025 | BI5: 2025 | BK5: 2026 | BN5: EB-2021-0216 | BO5: 132700 | BP5: 44926 | BQ5: =BP5+720 -> 45646
B6: JAN | C6: FEB | D6: MAR | E6: APR | F6: MAY | G6: JUN | H6: JUL | I6: AUG | J6: SEP | K6: OCT | L6: NOV | M6: DEC | N6: JAN | O6: FEB | P6: MAR | Q6: APR | R6: MAY | S6: JUN | T6: JUL | U6: AUG | V6: SEP | W6: OCT | X6: NOV | Y6: DEC | Z6: JAN | AA6: FEB | AB6: MAR | AC6: APR | AD6: MAY | AE6: JUN | AF6: JUL | AG6: AUG | AH6: SEP | AI6: OCT | AJ6: NOV | AK6: DEC | AL6: JAN | AM6: FEB | AN6: MAR | AO6: APR | AP6: MAY | AQ6: JUN | AR6: JUL | AS6: AUG | AT6: SEP | AU6: OCT | AV6: NOV | AW6: DEC | AX6: JAN | AY6: FEB | AZ6: MAR | BA6: APR | BB6: MAY | BC6: JUN | BD6: JUL | BE6: AUG | BF6: SEP | BG6: OCT | BH6: NOV | BI6: DEC | BK6: JAN-DEC | BN6: EB-2022-0184 | BO6: 50786 | BP6: 45291 | BQ6: =BP6+720 -> 46011
A8: ADVADA 2022 (Approved in EB-2021-0216) | M8: 131892.12 | N8: -5928.1832 | O8: -9262.362 | P8: -8857.7116 | Q8: -8441.0051 | R8: -6160.8276 | S8: -3988.1116 | T8: -2988.6859 | U8: -2639.7938 | V8: -2706.9523 | W8: -2998.0783 | X8: -5926.3147 | Y8: -8788.7144 | Z8: -14046.973 | AA8: 0 | AB8: 0 | AC8: 0 | AD8: 0 | AE8: 0 | AF8: 0 | AG8: 0 | AH8: 0 | AI8: 0 | AJ8: 0 | AK8: 0 | AL8: -109.71 | AM8: 0 | AN8: -11.95 | AO8: 0 | AP8: 0 | AQ8: 0 | AR8: 0 | AS8: 0 | AT8: 0 | AU8: 0 | AV8: 0 | AW8: 0 | AX8: 0 | AY8: 0 | AZ8: 0 | BA8: 0 | BB8: 0 | BC8: 0 | BD8: 0 | BE8: 0 | BF8: 0 | BG8: 0 | BH8: 0 | BI8: 0
A9: ADVADA 2023 (Approved in EB-2022-0184) | Y9: 50356 | Z9: 0 | AA9: -7350.8199 | AB9: -7675.3685 | AC9: -7725.8871 | AD9: -3684.537 | AE9: -3042.3408 | AF9: -1152.8754 | AG9: -757.75934 | AH9: -1019.2266 | AI9: -987.50748 | AJ9: -3656.3279 | AK9: -8582.2346 | AL9: 0 | AM9: 0 | AN9: 0 | AO9: 0 | AP9: 0 | AQ9: 0 | AR9: 0 | AS9: 0 | AT9: 0 | AU9: 0 | AV9: 0 | AW9: 0 | AX9: 0 | AY9: 0 | AZ9: 0 | BA9: 0 | BB9: 0 | BC9: 0 | BD9: 0 | BE9: 0 | BF9: 0 | BG9: 0 | BH9: 0 | BI9: 0
A10: Total | B10: =SUM(B8:B9) -> 0 | C10: =SUM(C8:C9) -> 0 | D10: =SUM(D8:D9) -> 0 | E10: =SUM(E8:E9) -> 0 | F10: =SUM(F8:F9) -> 0 | G10: =SUM(G8:G9) -> 0 | H10: =SUM(H8:H9) -> 0 | I10: =SUM(I8:I9) -> 0 | ... BI10: =SUM(BI8:BI9) -> 0
A12: Opening ADVADA Balance | B12: 0 | C12: =B14 -> 0 | D12: =C14 -> 0 | E12: =D14 -> 0 | F12: =E14 -> 0 | G12: =F14 -> 0 | H12: =G14 -> 0 | I12: =H14 -> 0 | J12: =I14 -> 0 | ... BI12: =BH14 -> 53757.862
A13: Change in ADVADA Balance | B13: =B12+B10 -> 0 | C13: =C12+C10 -> 0 | D13: =D10 -> 0 | E13: =E10 -> 0 | F13: =F10 -> 0 | G13: =G10 -> 0 | H13: =H10 -> 0 | I13: =I10 -> 0 | J13: =J10 -> 0 | K13: =K10 -> 0 | ... BI13: =BI10 -> 0
A14: Closing ADVADA Balance | B14: =SUM(B12:B13) -> 0 | C14: =SUM(C12:C13) -> 0 | D14: =SUM(D12:D13) -> 0 | E14: =SUM(E12:E13) -> 0 | F14: =SUM(F12:F13) -> 0 | G14: =SUM(G12:G13) -> 0 | H14: =SUM(H12:H13) -> 0 | I14: =SUM(I12:I13) -> 0 | ... BI14: =SUM(BI12:BI13) -> 53757.862
A16: ADVADA Interest
A17: Monthly Interest Rate | B17: 0.0057 | C17: 0.0057 | D17: 0.0057 | E17: 0.0057 | F17: 0.0057 | G17: 0.0057 | H17: 0.0057 | I17: 0.0057 | J17: 0.0057 | K17: 0.0057 | L17: 0.0057 | M17: 0.0057 | N17: 0.0057 | O17: 0.0057 | P17: 0.0057 | Q17: 0.0102 | R17: 0.0102 | S17: 0.0102 | T17: 0.022 | U17: 0.022 | V17: 0.022 | W17: 0.0387 | X17: 0.0387 | Y17: 0.0387 | Z17: 0.0473 | AA17: 0.0473 | AB17: 0.0473 | AC17: 0.0498 | AD17: 0.0498 | AE17: 0.0498 | AF17: 0.0498 | AG17: 0.0498 | AH17: 0.0498 | AI17: 0.0549 | AJ17: 0.0549 | AK17: 0.0549 | AL17: 0.0549 | AM17: 0.0549 | AN17: 0.0549 | AO17: 0.0549 | AP17: 0.0549 | AQ17: 0.0549 | AR17: 0.052 | AS17: 0.052 | AT17: 0.052 | AU17: 0.044 | AV17: 0.044 | AW17: 0.044 | AX17: 0.0364 | AY17: 0.0364 | AZ17: 0.0364 | BA17: 0.0316 | BB17: 0.0316 | BC17: 0.0316 | BD17: 0.0291 | BE17: 0.0291 | BF17: 0.0291 | BG17: 0.0291 | BH17: 0.0291 | BI17: 0.0291 | BK17: 0.0255
A19: Opening Interest Balance | B19: 0 | C19: =B21 -> 0 | D19: =C21 -> 0 | E19: =D21 -> 0 | F19: =E21 -> 0 | G19: =F21 -> 0 | H19: =G21 -> 0 | I19: =H21 -> 0 | J19: =I21 -> 0 | ... BI19: =BH21 -> 9915.174 | BK19: =BI21 -> 10045.537
A20: Monthly Interest Calculation | B20: =B12*B17/12 -> 0 | C20: =C12*C17/12 -> 0 | D20: =D12*D17/12 -> 0 | E20: =E12*E17/12 -> 0 | F20: =F12*F17/12 -> 0 | G20: =G12*G17/12 -> 0 | H20: =H12*H17/12 -> 0 | I20: =I12*I17/12 -> 0 | ... BI20: =BI12*BI17/12 -> 130.36282 | BK20: =BI14*BK17 -> 1370.8255
A21: Closing Interest Balance | B21: =SUM(B19:B20) -> 0 | C21: =SUM(C19:C20) -> 0 | D21: =SUM(D19:D20) -> 0 | E21: =SUM(E19:E20) -> 0 | F21: =SUM(F19:F20) -> 0 | G21: =SUM(G19:G20) -> 0 | H21: =SUM(H19:H20) -> 0 | I21: =SUM(I19:I20) -> 0 | ... BI21: =SUM(BI19:BI20) -> 10045.537 | BK21: =SUM(BK19:BK20) -> 11416.362
A24: ADVADA Account Balance
AX25: 2025 Balance | AY25: 2026 Carrying Charges | AZ25: 2026 Balance
A26: Principal | AX26: =BI14 -> 53757.862 | AZ26: =AX26+AY26 -> 53757.862
A27: Carrying Charges | AX27: =BI21 -> 10045.537 | AY27: =BK20 -> 1370.8255 | AZ27: =AX27+AY27 -> 11416.362
A28: Total | AX28: =AX27+AX26 -> 63803.399 | AY28: =AY27+AY26 -> 1370.8255 | AZ28: =AX28+AY28 -> 65174.224
A31: ADVADA Account Balance Allocation (Based on Approved DVA Allocations)
AX32: Unit | AY32: Row Sum | AZ32: Rate 1 | BA32: Rate 6 | BB32: Rate 11 | BC32: Rate 16
A33: Volume | AX33: $ | AY33: =SUM(AZ33:BE33) -> 468963.37 | AZ33: ='Load Forecast'!B35 -> 284339.66 | BA33: ='Load Forecast'!C35 -> 98538.682 | BB33: ='Load Forecast'!D35 -> 16207.861 | BC33: ='Load Forecast'!E35 -> 69877.172
A34: Allocation | AX34: % | AY34: =SUM(AZ34:BE34) -> 1 | AZ34: =AZ33/$AY$33 -> 0.60631528 | BA34: =BA33/$AY$33 -> 0.21012021 | BB34: =BB33/$AY$33 -> 0.034561039 | BC34: =BC33/$AY$33 -> 0.14900347
A35: Total | AX35: $ | AY35: =SUM(AZ35:BE35) -> 65174.224 | AZ35: =AZ34*($BK$21+$BI$14) -> 39516.128 | BA35: =BA34*($BK$21+$BI$14) -> 13694.422 | BB35: =BB34*($BK$21+$BI$14) -> 2252.4889 | BC35: =BC34*($BK$21+$BI$14) -> 9711.1858
A38: ADVADA Account Balance Recovery (Based on 2025 Normalized Annual Consumption Volumes R1/6/11 and Contract Demand R16)
AX39: Unit | AY39: Row Sum | AZ39: Rate 1 | BA39: Rate 6 | BB39: Rate 11 | BC39: Unit | BD39: Rate 16
A40: Volume | AX40: 000's m3 | AY40: =SUM(AZ40:BB40) -> 13257.002 | AZ40: ='Load Forecast'!A7 -> 8662.8849 | BA40: ='Load Forecast'!B7 -> 2918.6106 | BB40: ='Load Forecast'!C7 -> 1675.5067 | BC40: CD | BD40: ='Load Forecast'!D7 -> 95854.657
A41: Allocation | AX41: % | AY41: =SUM(AZ41:BD41) -> 1 | AZ41: =AZ34 -> 0.60631528 | BA41: =BA34 -> 0.21012021 | BB41: =BB34 -> 0.034561039 | BC41: % | BD41: =BC34 -> 0.14900347
A42: Total | AX42: $ | AY42: =SUM(AZ42:BD42) -> 65174.649 | AZ42: =AZ40*AZ43*10 -> 39516.128 | BA42: =BA40*BA43*10 -> 13694.422 | BB42: =BB40*BB43*10 -> 2252.4889 | BC42: $ | BD42: =BD40*BD43/100*12 -> 9711.6104
A43: Rate Rider | AX43: ¢/m3 | AZ43: =AZ35/AZ40/10 -> 0.45615437 | BA43: =BA35/BA40/10 -> 0.4692103 | BB43: =BB35/BB40/10 -> 0.13443628 | BC43: ¢/CD/month | BD43: =ROUND(BC35/BD40*100/12,4) -> 0.8443

Sheet S&TVA
A1: EPCOR Natural Gas Limited Partnership
A2: =ECVA!A2 -> EB-2026-0149
A3: Storage & Transportation Variance Account - Rates 1/6/11 (S&S&TVA)
A4: Continuity Schedule
B5: 2025 | C5: 2025 | D5: 2025 | E5: 2025 | F5: 2025 | G5: 2025 | H5: 2025 | I5: 2025 | J5: 2025 | K5: 2025 | L5: 2025 | M5: 2025 | O5: 2026
B6: JAN | C6: FEB | D6: MAR | E6: APR | F6: MAY | G6: JUN | H6: JUL | I6: AUG | J6: SEP | K6: OCT | L6: NOV | M6: DEC | O6: JAN-DEC
A8: Storage | B8: 7179.33 | C8: 7262.73 | D8: 7223.71 | E8: 7612.33 | F8: 7222.83 | G8: 7182.51 | H8: 7173.74 | I8: 7166.47 | J8: 7137.68 | K8: 7083.33 | L8: 7083.33 | M8: 7273.92
A9: Transportation | B9: 28329.144 | C9: 28256.52 | D9: 28001.842 | E9: 27828.592 | F9: 27449.236 | G9: 27154.326 | H9: 27160.833 | I9: 27166.415 | J9: 27191.523 | K9: 27591.684 | L9: 28541.876 | M9: 28238.691
A10: Fuel | B10: 2592.1424 | C10: 2247.2203 | D10: 1672.35 | E10: 799.38206 | F10: 420.18801 | G10: 153.72732 | H10: 183.41094 | I10: 169.30241 | J10: 159.89672 | K10: 421.93234 | L10: 4008.3573 | M10: 3118.08
A11: ECNG/Nomination | B11: 6993.598 | C11: 6457.9081 | D11: 5779.1585 | E11: 5099.4611 | F11: 4385.7441 | G11: 3876.6544 | H11: 3975.0764 | I11: 4140.71 | J11: 3954.3108 | K11: 4868.6038 | L11: 7753.9503 | M11: -1917.3193
A12: Gas Supply | B12: 20017.583 | C12: 20017.583 | D12: 20017.583 | E12: 20017.583 | F12: 20017.583 | G12: 20017.583 | H12: 20017.583 | I12: 20017.583 | J12: 20017.583 | K12: -230.75 | L12: -230.75 | M12: -230.75
A13: CNG | B13: 0 | C13: 0 | D13: 0 | E13: 0 | F13: 0 | G13: 0 | H13: 0 | I13: 0 | J13: 0 | K13: 78721.37 | L13: 222070.2 | M13: 70967.46
A14: CIAC Revenue Requirement | B14: 18821.94 | C14: 18821.94 | D14: 18821.94 | E14: 18821.94 | F14: 18821.94 | G14: 18821.94 | H14: 18821.94 | I14: 18821.94 | J14: 18821.94 | K14: 18821.94 | L14: 18821.94 | M14: 18821.94
A15: Total Cost | B15: =SUM(B8:B14) -> 83933.738 | C15: =SUM(C8:C14) -> 83063.901 | D15: =SUM(D8:D14) -> 81516.584 | E15: =SUM(E8:E14) -> 80179.288 | F15: =SUM(F8:F14) -> 78317.522 | G15: =SUM(G8:G14) -> 77206.741 | H15: =SUM(H8:H14) -> 77332.584 | I15: =SUM(I8:I14) -> 77482.421 | ... M15: =SUM(M8:M14) -> 126272.02
A17: Billed R1/R6/R11 Transportation | B17: -81354.01 | C17: -72489.34 | D17: -71105.2 | E17: -49133.79 | F17: -33295.06 | G17: -23226.14 | H17: -7201.44 | I17: -5854.68 | J17: -7028 | K17: -7349.77 | L17: -25202.84 | M17: -62866.32
A18: R1/R6/R11 Upstream Recovery | B18: -30057.9 | C18: -38880.37 | D18: -38030.79 | E18: -26215.12 | F18: -17779.06 | G18: -10271.71 | H18: -3839.47 | I18: -3018.63 | J18: -3727.65 | K18: -3883.22 | L18: -11836.77 | M18: -23465.95
A19: Variance | B19: =B15+B17+B18 -> -27478.172 | C19: =C15+C17+C18 -> -28305.809 | D19: =D15+D17+D18 -> -27619.406 | E19: =E15+E17+E18 -> 4830.3783 | F19: =F15+F17+F18 -> 27243.402 | G19: =G15+G17+G18 -> 43708.891 | H19: =H15+H17+H18 -> 66291.674 | I19: =I15+I17+I18 -> 68609.111 | ... M19: =M15+M17+M18 -> 39939.752
A21: Opening S&TVA Balance | B21: 0 | C21: =B23 -> -27478.172 | D21: =C23 -> -55783.98 | E21: =D23 -> -83403.386 | F21: =E23 -> -78573.008 | G21: =F23 -> -51329.606 | H21: =G23 -> -7620.7153 | I21: =H23 -> 58670.959 | J21: =I23 -> 127280.07 | ... M21: =L23 -> 570861.77
A22: Change in S&TVA Balance | B22: =B19 -> -27478.172 | C22: =C19 -> -28305.809 | D22: =D19 -> -27619.406 | E22: =E19 -> 4830.3783 | F22: =F19 -> 27243.402 | G22: =G19 -> 43708.891 | H22: =H19 -> 66291.674 | I22: =I19 -> 68609.111 | ... M22: =M19 -> 39939.752
A23: Closing S&TVA Balance | B23: =SUM(B21:B22) -> -27478.172 | C23: =SUM(C21:C22) -> -55783.98 | D23: =SUM(D21:D22) -> -83403.386 | E23: =SUM(E21:E22) -> -78573.008 | F23: =SUM(F21:F22) -> -51329.606 | G23: =SUM(G21:G22) -> -7620.7153 | H23: =SUM(H21:H22) -> 58670.959 | I23: =SUM(I21:I22) -> 127280.07 | ... M23: =SUM(M21:M22) -> 610801.52
A25: Monthly Interest Rate | B25: 0.0372 | C25: 0.0372 | D25: 0.0372 | E25: 0.0372 | F25: 0.0372 | G25: 0.0372 | H25: 0.0372 | I25: 0.0372 | J25: 0.0372 | K25: 0.0372 | L25: 0.0372 | M25: 0.0372 | N25: 0.0372 | O25: =M25 -> 0.0372
A27: Opening Interest Balance | B27: 0 | C27: =B29 -> 0 | D27: =C29 -> -85.182333 | E27: =D29 -> -258.11267 | F27: =E29 -> -516.66317 | G27: =F29 -> -760.2395 | H27: =G29 -> -919.36127 | I27: =H29 -> -942.98549 | J27: =I29 -> -761.10552 | ... M27: =L29 -> 1225.8082 | O27: =M29 -> 2995.4796
A28: Monthly Interest Calculation | B28: =B21*B25/12 -> 0 | C28: =C21*C25/12 -> -85.182333 | D28: =D21*D25/12 -> -172.93034 | E28: =E21*E25/12 -> -258.5505 | F28: =F21*F25/12 -> -243.57633 | G28: =G21*G25/12 -> -159.12178 | H28: =H21*H25/12 -> -23.624217 | I28: =I21*I25/12 -> 181.87997 | ... N28: =N21*N25/12 -> 0 | O28: =M23*O25 -> 22721.817
A29: Closing Interest Balance | B29: =SUM(B27:B28) -> 0 | C29: =SUM(C27:C28) -> -85.182333 | D29: =SUM(D27:D28) -> -258.11267 | E29: =SUM(E27:E28) -> -516.66317 | F29: =SUM(F27:F28) -> -760.2395 | G29: =SUM(G27:G28) -> -919.36127 | H29: =SUM(H27:H28) -> -942.98549 | I29: =SUM(I27:I28) -> -761.10552 | ... M29: =SUM(M27:M28) -> 2995.4796 | O29: =SUM(O27:O28) -> 25717.296
A31: Change in Upstream | B31: =B14+B18 -> -11235.96 | C31: =C14+C18 -> -20058.43 | D31: =D14+D18 -> -19208.85 | E31: =E14+E18 -> -7393.1799 | F31: =F14+F18 -> 1042.8801 | G31: =G14+G18 -> 8550.2301 | H31: =H14+H18 -> 14982.47 | I31: =I14+I18 -> 15803.31 | ... N31: =N14+N18 -> 0
A32: Opening Balance Upstream | B32: =0 -> 0 | C32: =B33 -> -11235.96 | D32: =C33 -> -31294.39 | E32: =D33 -> -50503.24 | F32: =E33 -> -57896.419 | G32: =F33 -> -56853.539 | H32: =G33 -> -48303.309 | I32: =H33 -> -33320.839 | J32: =I33 -> -17517.529 | ... N32: =M33 -> 14856.642
A33: Closing Balance Upstream | B33: =B32+B31 -> -11235.96 | C33: =C32+C31 -> -31294.39 | D33: =D32+D31 -> -50503.24 | E33: =E32+E31 -> -57896.419 | F33: =F32+F31 -> -56853.539 | G33: =G32+G31 -> -48303.309 | H33: =H32+H31 -> -33320.839 | I33: =I32+I31 -> -17517.529 | ... N33: =N32+N31 -> 14856.642 | O33: =M33 -> 14856.642
A34: Carrying Charges | B34: =B32*B25/12 -> 0 | C34: =C32*C25/12 -> -34.831476 | D34: =D32*D25/12 -> -97.012608 | E34: =E32*E25/12 -> -156.56004 | F34: =F32*F25/12 -> -179.4789 | G34: =G32*G25/12 -> -176.24597 | H34: =H32*H25/12 -> -149.74026 | I34: =I32*I25/12 -> -103.2946 | ... M34: =M32*M25/12 -> 60.45202 | O34: =SUM(B34:M34) -> -859.73022
A38: S&TVA Account Balance
B39: 2025 Balance | C39: 2026 Carrying Charges | D39: 2026 Balance
A40: Principal | B40: =M23 -> 610801.52 | D40: =B40+C40 -> 610801.52
A41: Carrying Charges | B41: =M29 -> 2995.4796 | C41: =O28 -> 22721.817 | D41: =B41+C41 -> 25717.296
A42: Total | B42: =B41+B40 -> 613797 | C42: =C41+C40 -> 22721.817 | D42: =B42+C42 -> 636518.82
A45: S&TVA Account Balance Allocation - Transportation & Storage Costs (Based on 2025 actual volumes)
B46: Unit | C46: Row Sum | D46: Rate 1 | E46: Rate 6 | F46: Rate 11
A47: Volume | B47: 000's m3 | C47: =SUM(D47:F47) -> 13401.697 | D47: ='Load Forecast'!A17 -> 8756.8949 | E47: ='Load Forecast'!B17 -> 2969.295 | F47: ='Load Forecast'!C17 -> 1675.5067
A48: Allocation | B48: % | C48: =SUM(D48:F48) -> 1 | D48: =D47/$C$47 -> 0.65341689 | E48: =E47/$C$47 -> 0.22156113 | F48: =F47/$C$47 -> 0.12502199
A49: Total | B49: $ | C49: =D42-C56 -> 622521.9 | D49: =D48*$C$49 -> 406766.33 | E49: =E48*$C$49 -> 137926.65 | F49: =F48*$C$49 -> 77828.924
A52: S&TVA Account Balance Allocation - Upstream Recovery Costs ( EB-2018-0624, Exhibit 7, Tab 1, Schedule 2, Table 7-24 - Enbridge CIAC Rate Base)
B53: Unit | C53: Row Sum | D53: Rate 1 | E53: Rate 6 | F53: Rate 11
...

Sheet TVA
A1: EPCOR Natural Gas Limited Partnership
A2: =CIACVA!A2 -> EB-2026-0149
A3: Transportation Variance Account - Rate 16 (TVA)
A4: Continuity Schedule
B5: 2025 | C5: 2025 | D5: 2025 | E5: 2025 | F5: 2025 | G5: 2025 | H5: 2025 | I5: 2025 | J5: 2025 | K5: 2025 | L5: 2025 | M5: 2025 | O5: 2026
B6: JAN | C6: FEB | D6: MAR | E6: APR | F6: MAY | G6: JUN | H6: JUL | I6: AUG | J6: SEP | K6: OCT | L6: NOV | M6: DEC | O6: JAN-DEC
A8: Storage | B8: 0 | C8: 0 | D8: 0 | E8: 0 | F8: 0 | G8: 0 | H8: 0 | I8: 0 | J8: 0 | K8: 0 | L8: 0 | M8: 0
A9: Transportation | B9: 21049.936 | C9: 21039.276 | D9: 21237.984 | E9: 21316.854 | F9: 21603.12 | G9: 21768.374 | H9: 21737.259 | I9: 21737.671 | J9: 21721.116 | K9: 21393.654 | L9: 20705.428 | M9: 20972.496
A10: ECNG | B10: 3223.2601 | C10: 2866.4319 | D10: 3031.1015 | E10: 2695.6389 | F10: 2521.5559 | G10: 1801.9656 | H10: 2010.2236 | I10: 1959.96 | J10: 2218.3992 | K10: 2504.1862 | L10: 2751.7597 | M10: 3604.2393
A11: Gas Supply
A12: CNG
A13: CIAC Revenue Requirement | B13: 12218.337 | C13: 12218.337 | D13: 12218.337 | E13: 12218.337 | F13: 12218.337 | G13: 12218.337 | H13: 12218.337 | I13: 12218.337 | J13: 12218.337 | K13: 12218.337 | L13: 12218.337 | M13: 12218.337
A14: Total Cost | B14: =SUM(B8:B13) -> 36491.533 | C14: =SUM(C8:C13) -> 36124.046 | D14: =SUM(D8:D13) -> 36487.423 | E14: =SUM(E8:E13) -> 36230.831 | F14: =SUM(F8:F13) -> 36343.013 | G14: =SUM(G8:G13) -> 35788.677 | H14: =SUM(H8:H13) -> 35965.82 | I14: =SUM(I8:I13) -> 35915.969 | ... M14: =SUM(M8:M13) -> 36795.073
A16: Billed R16 Transportation | B16: -17535.7 | C16: -17535.7 | D16: -17535.7 | E16: -17535.7 | F16: -17535.7 | G16: -17535.7 | H16: -17535.7 | I16: -17535.7 | J16: -17535.7 | K16: -17535.7 | L16: -17535.7 | M16: -17535.7
A17: R16 Upstream Recovery | B17: -13648.6 | C17: -13648.6 | D17: -13648.6 | E17: -13648.6 | F17: -13648.6 | G17: -13648.6 | H17: -13648.6 | I17: -13648.6 | J17: -13648.6 | K17: -13648.6 | L17: -13648.6 | M17: -13648.6
A18: Variance | B18: =B14+B16+B17 -> 5307.2333 | C18: =C14+C16+C17 -> 4939.7456 | D18: =D14+D16+D17 -> 5303.1228 | E18: =E14+E16+E17 -> 5046.5306 | F18: =F14+F16+F17 -> 5158.7129 | G18: =G14+G16+G17 -> 4604.3773 | H18: =H14+H16+H17 -> 4781.5197 | I18: =I14+I16+I17 -> 4731.6685 | ... M18: =M14+M16+M17 -> 5610.773
A20: Opening TVA Balance | B20: 0 | C20: =B22 -> 5307.2333 | D20: =C22 -> 10246.979 | E20: =D22 -> 15550.102 | F20: =E22 -> 20596.632 | G20: =F22 -> 25755.345 | H20: =G22 -> 30359.723 | I20: =H22 -> 35141.242 | J20: =I22 -> 39872.911 | ... M20: =L22 -> 54269.566
A21: Change in TVA Balance | B21: =B18 -> 5307.2333 | C21: =C18 -> 4939.7456 | D21: =D18 -> 5303.1228 | E21: =E18 -> 5046.5306 | F21: =F18 -> 5158.7129 | G21: =G18 -> 4604.3773 | H21: =H18 -> 4781.5197 | I21: =I18 -> 4731.6685 | ... M21: =M18 -> 5610.773
A22: Closing TVA Balance | B22: =SUM(B20:B21) -> 5307.2333 | C22: =SUM(C20:C21) -> 10246.979 | D22: =SUM(D20:D21) -> 15550.102 | E22: =SUM(E20:E21) -> 20596.632 | F22: =SUM(F20:F21) -> 25755.345 | G22: =SUM(G20:G21) -> 30359.723 | H22: =SUM(H20:H21) -> 35141.242 | I22: =SUM(I20:I21) -> 39872.911 | ... M22: =SUM(M20:M21) -> 59880.339
A24: Monthly Interest Rate | B24: 0.0372 | C24: 0.0372 | D24: 0.0372 | E24: 0.0372 | F24: 0.0372 | G24: 0.0372 | H24: 0.0372 | I24: 0.0372 | J24: 0.0372 | K24: 0.0372 | L24: 0.0372 | M24: 0.0372 | N24: 0.0372 | O24: =M24 -> 0.0372
A26: Opening Interest Balance | B26: 0 | C26: =B28 -> 0 | D26: =C28 -> 16.452423 | E26: =D28 -> 48.218058 | F26: =E28 -> 96.423374 | G26: =F28 -> 160.27293 | H26: =G28 -> 240.1145 | I26: =H28 -> 334.22964 | J26: =I28 -> 443.1675 | ... M26: =L28 -> 860.11041 | O26: =M28 -> 1028.3461
A27: Monthly Interest Calculation | B27: =B20*B24/12 -> 0 | C27: =C20*C24/12 -> 16.452423 | D27: =D20*D24/12 -> 31.765635 | E27: =E20*E24/12 -> 48.205316 | F27: =F20*F24/12 -> 63.849561 | G27: =G20*G24/12 -> 79.84157 | H27: =H20*H24/12 -> 94.11514 | I27: =I20*I24/12 -> 108.93785 | ... M27: =M20*M24/12 -> 168.23565 | N27: =N22*N24/12 -> 0 | O27: =M22*O24 -> 2227.5486
A28: Closing Interest Balance | B28: =SUM(B26:B27) -> 0 | C28: =SUM(C26:C27) -> 16.452423 | D28: =SUM(D26:D27) -> 48.218058 | E28: =SUM(E26:E27) -> 96.423374 | F28: =SUM(F26:F27) -> 160.27293 | G28: =SUM(G26:G27) -> 240.1145 | H28: =SUM(H26:H27) -> 334.22964 | I28: =SUM(I26:I27) -> 443.1675 | ... M28: =SUM(M26:M27) -> 1028.3461 | O28: =SUM(O26:O27) -> 3255.8947
A31: TVA Account Balance
B32: 2025 Balance | C32: 2026 Carrying Charges | D32: 2026 Balance
A33: Principal | B33: =M22 -> 59880.339 | D33: =B33+C33 -> 59880.339
A34: Carrying Charges | B34: =M28 -> 1028.3461 | C34: =O27 -> 2227.5486 | D34: =B34+C34 -> 3255.8947
A35: Total | B35: =B34+B33 -> 60908.685 | C35: =C34+C33 -> 2227.5486 | D35: =B35+C35 -> 63136.233
A38: TVA Account Balance Allocation
B39: Unit | C39: Row Sum | D39: Rate 16
A40: Allocation | B40: % | C40: =SUM(D40:D40) -> 1 | D40: 1
A41: Total | B41: $ | C41: =SUM(D41:D41) -> 63136.233 | D41: =D40*($O$28+$M$22) -> 63136.233
A44: TVA Account Balance - EB-2025-0178 Balance Continued Disposition
A45: EB-2025-0178 | B45: 2026 | C45: 2026 | D45: 2026 | E45: 2026 | F45: 2026 | G45: 2026 | H45: 2026 | I45: 2026 | J45: 2026 | K45: 2026 | L45: 2026 | M45: 2026 | T45: EB-2025-0178 | U45: 2026 Balance | V45: Combined
B46: JAN | C46: FEB | D46: MAR | E46: APR | F46: MAY | G46: JUN | H46: JUL | I46: AUG | J46: SEP | K46: OCT | L46: NOV | M46: DEC | S46: Principal | T46: =B33 -> 59880.339 | U46: =M49*12/107 -> 47428.199 | V46: =T46+U46 -> 107308.54
A47: S&TVA Approved Balance | B47: 470329.64 | S47: Carrying Charges | T47: =D34 -> 3255.8947 | U47: =SUM(B50:M50)*12/107 -> 1764.329 | V47: =T47+U47 -> 5020.2237
A48: Approved Rate Rider | B48: -47428.199 | S48: Total | T48: =T46+T47 -> 63136.233 | U48: =U46+U47 -> 49192.528 | V48: =T48+U48 -> 112328.76
A49: Balance | B49: =B47+B48 -> 422901.44 | C49: =B49 -> 422901.44 | D49: =C49 -> 422901.44 | E49: =D49 -> 422901.44 | F49: =E49 -> 422901.44 | G49: =F49 -> 422901.44 | H49: =G49 -> 422901.44 | I49: =H49 -> 422901.44 | J49: =I49 -> 422901.44 | ... M49: =L49 -> 422901.44
A50: Carrying Charges (3.72%) | B50: =B49*B24/12 -> 1310.9945 | C50: =C49*C24/12 -> 1310.9945 | D50: =D49*D24/12 -> 1310.9945 | E50: =E49*E24/12 -> 1310.9945 | F50: =F49*F24/12 -> 1310.9945 | G50: =G49*G24/12 -> 1310.9945 | H50: =H49*H24/12 -> 1310.9945 | I50: =I49*I24/12 -> 1310.9945 | ... M50: =M49*M24/12 -> 1310.9945
A51: Cumulative Balance | B51: =B49+B50 -> 424212.44 | C51: =C49+SUM($B50:C50) -> 425523.43 | D51: =D49+SUM($B50:D50) -> 426834.43 | E51: =E49+SUM($B50:E50) -> 428145.42 | F51: =F49+SUM($B50:F50) -> 429456.42 | G51: =G49+SUM($B50:G50) -> 430767.41 | H51: =H49+SUM($B50:H50) -> 432078.41 | I51: =I49+SUM($B50:I50) -> 433389.4 | J51: =J49+SUM($B50:J50) -> 434700.39 | ... M51: =M49+SUM($B50:M50) -> 438633.38
...

Sheet COVID
A1: EPCOR Natural Gas Limited Partnership
A2: =CIACVA!A2 -> EB-2026-0149
A3: COVID-19 Deferral Account
A4: Continuity Schedule
B6: 2020 | C6: 2021 | D6: 2022 | E6: 2023 | F6: 2024 | G6: 2025 | H6: 2026 | I6: Total | J6: Notes
A8: Incremental Capital Costs | B8: 2343716 | C8: 2480938.1 | D8: 1376856.7 | E8: 186932.65 | F8: 0 | G8: 0 | H8: 0 | I8: =SUM(B8:H8) -> 6388443.5 | J8: Refer to 'Capital Summary' for additional detail
A9: Lost Revenue | B9: 306358.67 | C9: 1097325.8 | D9: 1674233.4 | E9: 946279.85 | F9: 0 | G9: 0 | H9: 0 | I9: =SUM(B9:F9) -> 4024197.7 | J9: Refer to 'Lost Revenue Summary' for additional detail
A11: Total | B11: =SUM(B8:B10) -> 2650074.7 | C11: =SUM(C8:C10) -> 3578263.9 | D11: =SUM(D8:D10) -> 3051090.2 | E11: =SUM(E8:E10) -> 1133212.5 | F11: =SUM(F8:F10) -> 0 | G11: =SUM(G8:G10) -> 0 | H11: =SUM(H8:H10) -> 0 | I11: =SUM(I8:I10) -> 10412641
A14: Cumulative Balance - Incremental Capital | B14: =SUM($B8:B8) -> 2343716 | C14: =SUM($B8:C8) -> 4824654.1 | D14: =SUM($B8:D8) -> 6201510.8 | E14: =SUM($B8:E8) -> 6388443.5 | F14: =SUM($B8:F8) -> 6388443.5 | G14: =SUM($B8:G8) -> 6388443.5 | H14: =SUM($B8:H8) -> 6388443.5
A15: Cumulative Balance - Lost Revenue | B15: =SUM($B9:B9) -> 306358.67 | C15: =SUM($B9:C9) -> 1403684.4 | D15: =SUM($B9:D9) -> 3077917.9 | E15: =SUM($B9:E9) -> 4024197.7 | F15: =SUM($B9:F9) -> 4024197.7 | G15: =SUM($B9:G9) -> 4024197.7 | H15: =SUM($B9:H9) -> 4024197.7
A17: Interest Rate - Incremental Capital | B17: 0.0372 | C17: 0.0372 | D17: 0.0372 | E17: 0.0372 | F17: 0.0372 | G17: 0.0372 | H17: 0.0372
A18: Interest Rate - Lost Revenue | B18: =(2.18+2.18+0.57+0.57)/4/100 -> 0.01375 | C18: =SUM(ADVADA!B17:M17)/12 -> 0.0057 | D18: =SUM(ADVADA!N17:Y17)/12 -> 0.01915 | E18: =SUM(ADVADA!AA17:AK17)/12 -> 0.046508333 | F18: =SUM(ADVADA!AL17:AW17)/12 -> 0.05145 | G18: =SUM(ADVADA!AX17:BI17)/12 -> 0.03155 | H18: =SUM(ADVADA!BK17) -> 0.0255
A20: Carrying Charges - Incremental Capital | C20: =B14*C17 -> 87186.236 | D20: =C14*D17 -> 179477.13 | E20: =D14*E17 -> 230696.2 | F20: =E14*F17 -> 237650.1 | G20: =F14*G17 -> 237650.1 | H20: =G14*H17 -> 237650.1 | I20: =SUM(C20:H20) -> 1210309.9
A21: Carrying Charges - Lost Revenue | C21: =B15*C18 -> 1746.2444 | D21: =C15*D18 -> 26880.557 | E21: =D15*E18 -> 143148.83 | F21: =E15*F18 -> 207044.97 | G21: =F15*G18 -> 126963.44 | H21: =G15*H18 -> 102617.04 | I21: =SUM(C21:H21) -> 608401.09
A23: Combined Balance - Incremental Capital | C23: =I8+SUM(B20:H20) -> 7598753.4
A24: Combined Balance - Lost Revenue | C24: =I9+SUM(B21:H21) -> 4632598.8
A26: COVID Deferral Account - 2027 Recovery
A27: Capital
A28: 2026 Balance | B28: =C23 -> 7598753.4 | E28: Lost Revenue
A29: WACC | B29: 0.054632 | E29: Rate 1 | F29: 2348328.3 | G29: =F29/$F$33 -> 0.58355192
A30: Depreciation (CIP Average 2021-2028) | B30: 0.024 | E30: Rate 6 | F30: 1547559.7 | G30: =F30/$F$33 -> 0.38456354
E31: Rate 11 | F31: 87538.748 | G31: =F31/$F$33 -> 0.021753093
A32: WACC Allocation | B32: =B28*B29 -> 415135.09 | E32: Rate 16 | F32: 40770.948 | G32: =F32/$F$33 -> 0.010131448
A33: Depreciation | B33: =B28*B30 -> 182370.08 | E33: Total | F33: =SUM(F29:F32) -> 4024197.7
A34: Total | B34: =SUM(B32:B33) -> 597505.17 | E34: Lost Revenue (20 years) | F34: =C24/20 -> 231629.94
A39: COVID 19 Capital Balance Allocation (Source: EB-2018-0624, Exhibit 7, Tab 1, Schedule 2, Table 7-25)
B40: Unit | C40: Row Sum | D40: Rate 1 | E40: Rate 6 | F40: Rate 11 | G40: Rate 16
A41: Rate Base | B41: $000's | C41: =SUM(D41:G41) -> 54946.04 | D41: 32656.93 | E41: 11610.57 | F41: 1417.66 | G41: 9260.88
A42: Allocation | B42: % | C42: =SUM(D42:G42) -> 1 | D42: =D41/$C$41 -> 0.59434547 | E42: =E41/$C$41 -> 0.21130859 | F42: =F41/$C$41 -> 0.025800949 | G42: =G41/$C$41 -> 0.16854499
A43: Total | B43: $ | C43: =SUM(D43:G43) -> 597505.17 | D43: =($B$34)*D42 -> 355124.49 | E43: =($B$34)*E42 -> 126257.97 | F43: =($B$34)*F42 -> 15416.201 | G43: =($B$34)*G42 -> 100706.51
A46: COVID 19 Lost Revenue Allocation (lost revenue calculations)
B47: Unit | C47: Row Sum | D47: Rate 1 | E47: Rate 6 | F47: Rate 11 | G47: Rate 16
A48: Rate Base | B48: $000's | C48: =SUM(D48:G48) -> 4024.1977 | D48: =F29/1000 -> 2348.3283 | E48: =F30/1000 -> 1547.5597 | F48: =F31/1000 -> 87.538748 | G48: =F32/1000 -> 40.770948
A49: Allocation | B49: % | C49: =SUM(D49:G49) -> 1 | D49: =D48/$C$48 -> 0.58355192 | E49: =E48/$C$48 -> 0.38456354 | F49: =F48/$C$48 -> 0.021753093 | G49: =G48/$C$48 -> 0.010131448
A50: Total | B50: $ | C50: =SUM(D50:G50) -> 231629.94 | D50: =D49*F34 -> 135168.1 | E50: =E49*F34 -> 89076.429 | F50: =F49*F34 -> 5038.6677 | G50: =G49*F34 -> 2346.7466
A53: COVID 19 Combined Allocation
B54: Unit | C54: Row Sum | D54: Rate 1 | E54: Rate 6 | F54: Rate 11 | G54: Rate 16
A55: Rate Base | B55: $000's | C55: =SUM(D55:G55) -> 829135.12 | D55: =D42*B34+D49*F34 -> 490292.59 | E55: =E42*B34+F34*E49 -> 215334.4 | F55: =B34*F42+F34*F49 -> 20454.868 | G55: =B34*G42+F34*G49 -> 103053.25
A56: Allocation | B56: % | C56: =SUM(D56:G56) -> 1 | D56: =D55/$C$55 -> 0.59133015 | E56: =E55/$C$55 -> 0.25970966 | F56: =F55/$C$55 -> 0.024670127 | G56: =G55/$C$55 -> 0.12429006
