Workbook

Sheet Summary
A1: Customer Count & Lost Revenue Summary
C3: 44166 | D3: 44531 | E3: 44896 | F3: 45261
A4: TOTAL | B4: 2019 | C4: 2020 | D4: 2021 | E4: 2022 | F4: 2023 | H4: TOTAL | I4: 2019 | J4: 2020 | K4: 2021 | L4: 2022 | M4: 2023 | N4: Grand Total
A5: Connections - Actual | B5: ='Lost Revenue'!O22 -> 0 | C5: ='Lost Revenue'!AB22 -> 155 | D5: ='Lost Revenue'!AO22 -> 1857 | E5: ='Lost Revenue'!BB22 -> 3463 | F5: ='Lost Revenue'!BO22 -> 4874 | H5: Fixed | I5: =I11+I16+I21+I26 -> 0 | J5: =J11+J16+J21+J26 -> 98610.21 | K5: =K11+K16+K21+K26 -> 270068.08 | L5: =L11+L16+L21+L26 -> 447099.99 | M5: =M11+M16+M21+M26 -> 178005.12 | N5: =SUM(I5:M5) -> 993783.4
A6: Connections - Application | B6: 2 | C6: 1292 | D6: 3676 | E6: 4332 | F6: 4887 | H6: Variable | I6: =I12+I17+I22+I27 -> 0 | J6: =J12+J17+J22+J27 -> 207748.46 | K6: =K12+K17+K22+K27 -> 827257.68 | L6: =L12+L17+L22+L27 -> 1227133.5 | M6: =M12+M17+M22+M27 -> 768274.73 | N6: =SUM(I6:M6) -> 3030414.3
A7: Variance | B7: =B5-B6 -> -2 | C7: =C5-C6 -> -1137 | D7: =D5-D6 -> -1819 | E7: =E5-E6 -> -869 | F7: =F5-F6 -> -13 | H7: Total | I7: =I5+I6 -> 0 | J7: =J5+J6 -> 306358.67 | K7: =K5+K6 -> 1097325.8 | L7: =L5+L6 -> 1674233.4 | M7: =M5+M6 -> 946279.85 | N7: =SUM(I7:M7) -> 4024197.7
A10: Rate 1 | B10: 2019 | C10: 2020 | D10: 2021 | E10: 2022 | F10: 2023 | H10: Rate 1 | I10: 2019 | J10: 2020 | K10: 2021 | L10: 2022 | M10: 2023 | N10: Grand Total
A11: Actual - Rate 1 | B11: 0 | C11: =HLOOKUP(C$3,'Customer Count_Actuals'!$A$2:$BN$10,3,FALSE)+HLOOKUP(C$3,'Customer Count_Actuals'!$A$2:$BN$10,4,FALSE)+HLOOKUP(C$3,'Customer Count_Actuals'!$A$2:$BN$10,5,FALSE) -> 152 | D11: =HLOOKUP(D$3,'Customer Count_Actuals'!$A$2:$BN$10,3,FALSE)+HLOOKUP(D$3,'Customer Count_Actuals'!$A$2:$BN$10,4,FALSE)+HLOOKUP(D$3,'Customer Count_Actuals'!$A$2:$BN$10,5,FALSE) -> 1848 | E11: =HLOOKUP(E$3,'Customer Count_Actuals'!$A$2:$BN$10,3,FALSE)+HLOOKUP(E$3,'Customer Count_Actuals'!$A$2:$BN$10,4,FALSE)+HLOOKUP(E$3,'Customer Count_Actuals'!$A$2:$BN$10,5,FALSE) -> 3445 | F11: =HLOOKUP(F$3,'Customer Count_Actuals'!$A$2:$BN$10,3,FALSE)+HLOOKUP(F$3,'Customer Count_Actuals'!$A$2:$BN$10,4,FALSE)+HLOOKUP(F$3,'Customer Count_Actuals'!$A$2:$BN$10,5,FALSE) -> 4833 | H11: Fixed | I11: =SUMIF('Lost Revenue'!$B$39:$B$45,Summary!$H$10,'Lost Revenue'!$P$39:$P$45) -> 0 | J11: =SUMIF('Lost Revenue'!$B$39:$B$45,Summary!$H$10,'Lost Revenue'!$AC$39:$AC$45) -> 79667.82 | K11: =SUMIF('Lost Revenue'!$B$39:$B$45,Summary!$H$10,'Lost Revenue'!$AP$39:$AP$45) -> 237072.88 | L11: =SUMIF('Lost Revenue'!$B$39:$B$45,Summary!$H$10,'Lost Revenue'!$BC$39:$BC$45) -> 376160.13 | M11: =SUMIF('Lost Revenue'!$B$39:$B$45,Summary!$H$10,'Lost Revenue'!$BP$39:$BP$45) -> 100162.16 | N11: =SUM(I11:M11) -> 793062.99
A12: Application - Rate 1 | B12: ='Customer Count_Application'!B10+'Customer Count_Application'!B11+'Customer Count_Application'!B12 -> 0 | C12: ='Customer Count_Application'!C10+'Customer Count_Application'!C11+'Customer Count_Application'!C12 -> 1272 | D12: ='Customer Count_Application'!D10+'Customer Count_Application'!D11+'Customer Count_Application'!D12 -> 3611 | E12: ='Customer Count_Application'!E10+'Customer Count_Application'!E11+'Customer Count_Application'!E12 -> 4246 | F12: ='Customer Count_Application'!F10+'Customer Count_Application'!F11+'Customer Count_Application'!F12 -> 4792 | H12: Variable | I12: =SUMIF('Lost Revenue'!$B$39:$B$45,Summary!$H$10,'Lost Revenue'!$P$39:$P$45) -> 0 | J12: =SUMIF('Lost Revenue'!$B$50:$B$56,Summary!$H$10,'Lost Revenue'!$AC$50:$AC$56) -> 114937.06 | K12: =SUMIF('Lost Revenue'!$B$50:$B$56,Summary!$H$10,'Lost Revenue'!$AP$50:$AP$56) -> 447820.95 | L12: =SUMIF('Lost Revenue'!$B$50:$B$56,Summary!$H$10,'Lost Revenue'!$BC$50:$BC$56) -> 679291.23 | M12: =SUMIF('Lost Revenue'!$B$50:$B$56,Summary!$H$10,'Lost Revenue'!$BP$50:$BP$56) -> 313216.09 | N12: =SUM(I12:M12) -> 1555265.3
A13: Variance | B13: =B11-B12 -> 0 | C13: =C11-C12 -> -1120 | D13: =D11-D12 -> -1763 | E13: =E11-E12 -> -801 | F13: =F11-F12 -> 41 | H13: Total | I13: =I11+I12 -> 0 | J13: =J11+J12 -> 194604.88 | K13: =K11+K12 -> 684893.83 | L13: =L11+L12 -> 1055451.4 | M13: =M11+M12 -> 413378.25 | N13: =SUM(I13:M13) -> 2348328.3
A15: Rate 6 | B15: 2019 | C15: 2020 | D15: 2021 | E15: 2022 | F15: 2023 | H15: Rate 6 | I15: 2019 | J15: 2020 | K15: 2021 | L15: 2022 | M15: 2023 | N15: Grand Total
A16: Actual - Rate 6 | B16: 0 | C16: =HLOOKUP(C$3,'Customer Count_Actuals'!$A$2:$BN$10,6,FALSE) -> 0 | D16: =HLOOKUP(D$3,'Customer Count_Actuals'!$A$2:$BN$10,6,FALSE) -> 5 | E16: =HLOOKUP(E$3,'Customer Count_Actuals'!$A$2:$BN$10,6,FALSE) -> 13 | F16: =HLOOKUP(F$3,'Customer Count_Actuals'!$A$2:$BN$10,6,FALSE) -> 32 | H16: Fixed | I16: =SUMIF('Lost Revenue'!$B$39:$B$45,Summary!$H$15,'Lost Revenue'!$P$39:$P$45) -> 0 | J16: =SUMIF('Lost Revenue'!$B$39:$B$45,Summary!$H$15,'Lost Revenue'!$AC$39:$AC$45) -> 6522.39 | K16: =SUMIF('Lost Revenue'!$B$39:$B$45,Summary!$H$15,'Lost Revenue'!$AP$39:$AP$45) -> 31313.84 | L16: =SUMIF('Lost Revenue'!$B$39:$B$45,Summary!$H$15,'Lost Revenue'!$BC$39:$BC$45) -> 69654 | M16: =SUMIF('Lost Revenue'!$B$39:$B$45,Summary!$H$15,'Lost Revenue'!$BP$39:$BP$45) -> 77842.96 | N16: =SUM(I16:M16) -> 185333.19
A17: Application - Rate 6 | B17: ='Customer Count_Application'!B13+'Customer Count_Application'!B14 -> 0 | C17: ='Customer Count_Application'!C13+'Customer Count_Application'!C14 -> 18 | D17: ='Customer Count_Application'!D13+'Customer Count_Application'!D14 -> 59 | E17: ='Customer Count_Application'!E13+'Customer Count_Application'!E14 -> 79 | F17: ='Customer Count_Application'!F13+'Customer Count_Application'!F14 -> 88 | H17: Variable | I17: =SUMIF('Lost Revenue'!$B$39:$B$45,Summary!$H$15,'Lost Revenue'!$P$39:$P$45) -> 0 | J17: =SUMIF('Lost Revenue'!$B$50:$B$56,Summary!$H$15,'Lost Revenue'!$AC$50:$AC$56) -> 64460.446 | K17: =SUMIF('Lost Revenue'!$B$50:$B$56,Summary!$H$15,'Lost Revenue'!$AP$50:$AP$56) -> 295252.32 | L17: =SUMIF('Lost Revenue'!$B$50:$B$56,Summary!$H$15,'Lost Revenue'!$BC$50:$BC$56) -> 547455.11 | M17: =SUMIF('Lost Revenue'!$B$50:$B$56,Summary!$H$15,'Lost Revenue'!$BP$50:$BP$56) -> 455058.64 | N17: =SUM(I17:M17) -> 1362226.5
A18: Variance | B18: =B16-B17 -> 0 | C18: =C16-C17 -> -18 | D18: =D16-D17 -> -54 | E18: =E16-E17 -> -66 | F18: =F16-F17 -> -56 | H18: Total | I18: =I16+I17 -> 0 | J18: =J16+J17 -> 70982.836 | K18: =K16+K17 -> 326566.16 | L18: =L16+L17 -> 617109.11 | M18: =M16+M17 -> 532901.6 | N18: =SUM(I18:M18) -> 1547559.7
A20: Rate 11 | B20: 2019 | C20: 2020 | D20: 2021 | E20: 2022 | F20: 2023 | H20: Rate 11 | I20: 2019 | J20: 2020 | K20: 2021 | L20: 2022 | M20: 2023 | N20: Grand Total
A21: Actual - Rate 11 | B21: 0 | C21: =HLOOKUP(C$3,'Customer Count_Actuals'!$A$2:$BN$10,7,FALSE) -> 1 | D21: =HLOOKUP(D$3,'Customer Count_Actuals'!$A$2:$BN$10,7,FALSE) -> 1 | E21: =HLOOKUP(E$3,'Customer Count_Actuals'!$A$2:$BN$10,7,FALSE) -> 2 | F21: =HLOOKUP(F$3,'Customer Count_Actuals'!$A$2:$BN$10,7,FALSE) -> 6 | H21: Fixed | I21: =SUMIF('Lost Revenue'!$B$39:$B$45,Summary!$H$20,'Lost Revenue'!$P$39:$P$45) -> 0 | J21: =SUMIF('Lost Revenue'!$B$39:$B$45,Summary!$H$20,'Lost Revenue'!$AC$39:$AC$45) -> 0 | K21: =SUMIF('Lost Revenue'!$B$39:$B$45,Summary!$H$20,'Lost Revenue'!$AP$39:$AP$45) -> 1681.36 | L21: =SUMIF('Lost Revenue'!$B$39:$B$45,Summary!$H$20,'Lost Revenue'!$BC$39:$BC$45) -> 1285.86 | M21: =SUMIF('Lost Revenue'!$B$39:$B$45,Summary!$H$20,'Lost Revenue'!$BP$39:$BP$45) -> 0 | N21: =SUM(I21:M21) -> 2967.22
A22: Application - Rate 11 | B22: ='Customer Count_Application'!B15 -> 0 | C22: ='Customer Count_Application'!C15 -> 1 | D22: ='Customer Count_Application'!D15 -> 4 | E22: ='Customer Count_Application'!E15 -> 5 | F22: ='Customer Count_Application'!F15 -> 5 | H22: Variable | I22: =SUMIF('Lost Revenue'!$B$39:$B$45,Summary!$H$20,'Lost Revenue'!$P$39:$P$45) -> 0 | J22: =SUMIF('Lost Revenue'!$B$50:$B$56,Summary!$H$20,'Lost Revenue'!$AC$50:$AC$56) -> 0 | K22: =SUMIF('Lost Revenue'!$B$50:$B$56,Summary!$H$20,'Lost Revenue'!$AP$50:$AP$56) -> 84184.412 | L22: =SUMIF('Lost Revenue'!$B$50:$B$56,Summary!$H$20,'Lost Revenue'!$BC$50:$BC$56) -> 387.11604 | M22: =SUMIF('Lost Revenue'!$B$50:$B$56,Summary!$H$20,'Lost Revenue'!$BP$50:$BP$56) -> 0 | N22: =SUM(I22:M22) -> 84571.528
A23: Variance | B23: =B21-B22 -> 0 | C23: =C21-C22 -> 0 | D23: =D21-D22 -> -3 | E23: =E21-E22 -> -3 | F23: =F21-F22 -> 1 | H23: Total | I23: =I21+I22 -> 0 | J23: =J21+J22 -> 0 | K23: =K21+K22 -> 85865.772 | L23: =L21+L22 -> 1672.976 | M23: =M21+M22 -> 0 | N23: =SUM(I23:M23) -> 87538.748
A25: Rate 16 | B25: 2019 | C25: 2020 | D25: 2021 | E25: 2022 | F25: 2023 | H25: Rate 16 | I25: 2019 | J25: 2020 | K25: 2021 | L25: 2022 | M25: 2023 | N25: Grand Total
A26: Actual - Rate 16 | B26: 0 | C26: =HLOOKUP(C$3,'Customer Count_Actuals'!$A$2:$BN$10,8,FALSE) -> 2 | D26: =HLOOKUP(D$3,'Customer Count_Actuals'!$A$2:$BN$10,8,FALSE) -> 3 | E26: =HLOOKUP(E$3,'Customer Count_Actuals'!$A$2:$BN$10,8,FALSE) -> 3 | F26: =HLOOKUP(F$3,'Customer Count_Actuals'!$A$2:$BN$10,8,FALSE) -> 3 | H26: Fixed | I26: =SUMIF('Lost Revenue'!$B$39:$B$45,Summary!$H$25,'Lost Revenue'!$P$39:$P$45) -> 0 | J26: =SUMIF('Lost Revenue'!$B$39:$B$45,Summary!$H$25,'Lost Revenue'!$AC$39:$AC$45) -> 12420 | K26: =SUMIF('Lost Revenue'!$B$39:$B$45,Summary!$H$25,'Lost Revenue'!$AP$39:$AP$45) -> 0 | L26: =SUMIF('Lost Revenue'!$B$39:$B$45,Summary!$H$25,'Lost Revenue'!$BC$39:$BC$45) -> 0 | M26: =SUMIF('Lost Revenue'!$B$39:$B$45,Summary!$H$25,'Lost Revenue'!$BP$39:$BP$45) -> 0 | N26: =SUM(I26:M26) -> 12420
A27: Application - Rate 16 | B27: ='Customer Count_Application'!B16 -> 2 | C27: ='Customer Count_Application'!C16 -> 2 | D27: ='Customer Count_Application'!D16 -> 2 | E27: ='Customer Count_Application'!E16 -> 2 | F27: ='Customer Count_Application'!F16 -> 2 | H27: Variable | I27: =SUMIF('Lost Revenue'!$B$39:$B$45,Summary!$H$25,'Lost Revenue'!$P$39:$P$45) -> 0 | J27: =SUMIF('Lost Revenue'!$B$50:$B$56,Summary!$H$25,'Lost Revenue'!$AC$50:$AC$56) -> 28350.948 | K27: =SUMIF('Lost Revenue'!$B$50:$B$56,Summary!$H$25,'Lost Revenue'!$AP$50:$AP$56) -> 0 | L27: =SUMIF('Lost Revenue'!$B$50:$B$56,Summary!$H$25,'Lost Revenue'!$BC$50:$BC$56) -> 0 | M27: =SUMIF('Lost Revenue'!$B$50:$B$56,Summary!$H$25,'Lost Revenue'!$BP$50:$BP$56) -> 0 | N27: =SUM(I27:M27) -> 28350.948
A28: Variance | B28: =B26-B27 -> -2 | C28: =C26-C27 -> 0 | D28: =D26-D27 -> 1 | E28: =E26-E27 -> 1 | F28: =F26-F27 -> 1 | H28: Total | I28: =I26+I27 -> 0 | J28: =J26+J27 -> 40770.948 | K28: =K26+K27 -> 0 | L28: =L26+L27 -> 0 | M28: =M26+M27 -> 0 | N28: =SUM(I28:M28) -> 40770.948
A30: Notes:
A31: Application customer counts are presented consistent with the EB-2018-0264 filing (year-end)
A32: Actual customer counts are based on billing data, taking into account a one month lag from the time gas is consumed to when it is billed.
A33: Lost revenue is calculated capturing the difference between the actual customer counts (as noted above) and application values. The application values have a 2-month lag added to capture the average time between meter installation and meter unlock.
A34: Lost revenue consumption is based on average normalized annual consumption consistent with the Customer Volume Variance Account.

Sheet Lost Revenue
D1: Jan | E1: Feb | F1: Mar | G1: Apr | H1: May | I1: Jun | J1: Jul | K1: Aug | L1: Sep | M1: Oct | N1: Nov | O1: Dec | P1: Total | Q1: Jan | R1: Feb | S1: Mar | T1: Apr | U1: May | V1: Jun | W1: Jul | X1: Aug | Y1: Sep | Z1: Oct | AA1: Nov | AB1: Dec | AC1: Total | AD1: Jan | AE1: Feb | AF1: Mar | AG1: Apr | AH1: May | AI1: Jun | AJ1: Jul | AK1: Aug | AL1: Sep | AM1: Oct | AN1: Nov | AO1: Dec | AP1: Total | AQ1: Jan | AR1: Feb | AS1: Mar | AT1: Apr | AU1: May | AV1: Jun | AW1: Jul | AX1: Aug | AY1: Sep | AZ1: Oct | BA1: Nov | BB1: Dec | BC1: Total | BD1: Jan | BE1: Feb | BF1: Mar | BG1: Apr | BH1: May | BI1: Jun | BJ1: Jul | BK1: Aug | BL1: Sep | BM1: Oct | BN1: Nov | BO1: Dec | BP1: Total
D2: =YEAR(D3) -> 2019 | E2: =YEAR(E3) -> 2019 | F2: =YEAR(F3) -> 2019 | G2: =YEAR(G3) -> 2019 | H2: =YEAR(H3) -> 2019 | I2: =YEAR(I3) -> 2019 | J2: =YEAR(J3) -> 2019 | K2: =YEAR(K3) -> 2019 | ... O2: =YEAR(O3) -> 2019 | P2: =O2 -> 2019 | Q2: =YEAR(Q3) -> 2020 | R2: =YEAR(R3) -> 2020 | S2: =YEAR(S3) -> 2020 | T2: =YEAR(T3) -> 2020 | U2: =YEAR(U3) -> 2020 | V2: =YEAR(V3) -> 2020 | W2: =YEAR(W3) -> 2020 | X2: =YEAR(X3) -> 2020 | ... AB2: =YEAR(AB3) -> 2020 | AC2: =AB2 -> 2020 | AD2: =YEAR(AD3) -> 2021 | AE2: =YEAR(AE3) -> 2021 | AF2: =YEAR(AF3) -> 2021 | AG2: =YEAR(AG3) -> 2021 | AH2: =YEAR(AH3) -> 2021 | AI2: =YEAR(AI3) -> 2021 | AJ2: =YEAR(AJ3) -> 2021 | AK2: =YEAR(AK3) -> 2021 | ... AO2: =YEAR(AO3) -> 2021 | AP2: =AO2 -> 2021 | AQ2: =YEAR(AQ3) -> 2022 | AR2: =YEAR(AR3) -> 2022 | AS2: =YEAR(AS3) -> 2022 | AT2: =YEAR(AT3) -> 2022 | AU2: =YEAR(AU3) -> 2022 | AV2: =YEAR(AV3) -> 2022 | AW2: =YEAR(AW3) -> 2022 | AX2: =YEAR(AX3) -> 2022 | ... BB2: =YEAR(BB3) -> 2022 | BC2: =BB2 -> 2022 | BD2: =YEAR(BD3) -> 2023 | BE2: =YEAR(BE3) -> 2023 | BF2: =YEAR(BF3) -> 2023 | BG2: =YEAR(BG3) -> 2023 | BH2: =YEAR(BH3) -> 2023 | BI2: =YEAR(BI3) -> 2023 | BJ2: =YEAR(BJ3) -> 2023 | BK2: =YEAR(BK3) -> 2023 | ... BO2: =YEAR(BO3) -> 2023 | BP2: =BO2 -> 2023
D3: 43466 | E3: 43497 | F3: 43525 | G3: 43556 | H3: 43586 | I3: 43617 | J3: 43647 | K3: 43678 | L3: 43709 | M3: 43739 | N3: 43770 | O3: 43800 | P3: Total | Q3: 43831 | R3: 43862 | S3: 43891 | T3: 43922 | U3: 43952 | V3: 43983 | W3: 44013 | X3: 44044 | Y3: 44075 | Z3: 44105 | AA3: 44136 | AB3: 44166 | AC3: Total | AD3: 44197 | AE3: 44228 | AF3: 44256 | AG3: 44287 | AH3: 44317 | AI3: 44348 | AJ3: 44378 | AK3: 44409 | AL3: 44440 | AM3: 44470 | AN3: 44501 | AO3: 44531 | AP3: Total | AQ3: 44562 | AR3: 44593 | AS3: 44621 | AT3: 44652 | AU3: 44682 | AV3: 44713 | AW3: 44743 | AX3: 44774 | AY3: 44805 | AZ3: 44835 | BA3: 44866 | BB3: 44896 | BC3: Total | BD3: 44927 | BE3: 44958 | BF3: 44986 | BG3: 45017 | BH3: 45047 | BI3: 45078 | BJ3: 45108 | BK3: 45139 | BL3: 45170 | BM3: 45200 | BN3: 45231 | BO3: 45261 | BP3: Total
C4: Application
C5: Residential Rate 1 | D5: ='Customer Count_Application_Lag'!D21 -> 0 | E5: ='Customer Count_Application_Lag'!E21 -> 0 | F5: ='Customer Count_Application_Lag'!F21 -> 0 | G5: ='Customer Count_Application_Lag'!G21 -> 0 | H5: ='Customer Count_Application_Lag'!H21 -> 0 | I5: ='Customer Count_Application_Lag'!I21 -> 0 | J5: ='Customer Count_Application_Lag'!J21 -> 0 | K5: ='Customer Count_Application_Lag'!K21 -> 0 | ... BP5: ='Customer Count_Application_Lag'!BP21 -> 4323
C6: Commercial Rate 1 | D6: ='Customer Count_Application_Lag'!D22 -> 0 | E6: ='Customer Count_Application_Lag'!E22 -> 0 | F6: ='Customer Count_Application_Lag'!F22 -> 0 | G6: ='Customer Count_Application_Lag'!G22 -> 0 | H6: ='Customer Count_Application_Lag'!H22 -> 0 | I6: ='Customer Count_Application_Lag'!I22 -> 0 | J6: ='Customer Count_Application_Lag'!J22 -> 0 | K6: ='Customer Count_Application_Lag'!K22 -> 0 | ... BP6: ='Customer Count_Application_Lag'!BP22 -> 330
C7: Industrial Rate 1 | D7: ='Customer Count_Application_Lag'!D23 -> 0 | E7: ='Customer Count_Application_Lag'!E23 -> 0 | F7: ='Customer Count_Application_Lag'!F23 -> 0 | G7: ='Customer Count_Application_Lag'!G23 -> 0 | H7: ='Customer Count_Application_Lag'!H23 -> 0 | I7: ='Customer Count_Application_Lag'!I23 -> 0 | J7: ='Customer Count_Application_Lag'!J23 -> 0 | K7: ='Customer Count_Application_Lag'!K23 -> 0 | ... BP7: ='Customer Count_Application_Lag'!BP23 -> 1
C8: Med Commercial - Rate 6 | D8: ='Customer Count_Application_Lag'!D24 -> 0 | E8: ='Customer Count_Application_Lag'!E24 -> 0 | F8: ='Customer Count_Application_Lag'!F24 -> 0 | G8: ='Customer Count_Application_Lag'!G24 -> 0 | H8: ='Customer Count_Application_Lag'!H24 -> 0 | I8: ='Customer Count_Application_Lag'!I24 -> 0 | J8: ='Customer Count_Application_Lag'!J24 -> 0 | K8: ='Customer Count_Application_Lag'!K24 -> 0 | ... BP8: ='Customer Count_Application_Lag'!BP24 -> 66
C9: Large Commercial - Rate 6 | D9: ='Customer Count_Application_Lag'!D25 -> 0 | E9: ='Customer Count_Application_Lag'!E25 -> 0 | F9: ='Customer Count_Application_Lag'!F25 -> 0 | G9: ='Customer Count_Application_Lag'!G25 -> 0 | H9: ='Customer Count_Application_Lag'!H25 -> 0 | I9: ='Customer Count_Application_Lag'!I25 -> 0 | J9: ='Customer Count_Application_Lag'!J25 -> 0 | K9: ='Customer Count_Application_Lag'!K25 -> 0 | ... BP9: ='Customer Count_Application_Lag'!BP25 -> 19
C10: Industrial Rate 11 | D10: ='Customer Count_Application_Lag'!D26 -> 0 | E10: ='Customer Count_Application_Lag'!E26 -> 0 | F10: ='Customer Count_Application_Lag'!F26 -> 0 | G10: ='Customer Count_Application_Lag'!G26 -> 0 | H10: ='Customer Count_Application_Lag'!H26 -> 0 | I10: ='Customer Count_Application_Lag'!I26 -> 0 | J10: ='Customer Count_Application_Lag'!J26 -> 0 | K10: ='Customer Count_Application_Lag'!K26 -> 0 | ... BP10: ='Customer Count_Application_Lag'!BP26 -> 5
C11: Industrial Rate 16 | D11: ='Customer Count_Application_Lag'!D27 -> 0 | E11: ='Customer Count_Application_Lag'!E27 -> 0 | F11: ='Customer Count_Application_Lag'!F27 -> 0 | G11: ='Customer Count_Application_Lag'!G27 -> 0 | H11: ='Customer Count_Application_Lag'!H27 -> 0 | I11: ='Customer Count_Application_Lag'!I27 -> 0 | J11: ='Customer Count_Application_Lag'!J27 -> 0 | K11: ='Customer Count_Application_Lag'!K27 -> 0 | ... BP11: ='Customer Count_Application_Lag'!BP27 -> 2
C12: Total | D12: =SUM(D5:D11) -> 0 | E12: =SUM(E5:E11) -> 0 | F12: =SUM(F5:F11) -> 0 | G12: =SUM(G5:G11) -> 0 | H12: =SUM(H5:H11) -> 0 | I12: =SUM(I5:I11) -> 0 | J12: =SUM(J5:J11) -> 0 | K12: =SUM(K5:K11) -> 0 | ... O12: =SUM(O5:O11) -> 0 | P12: =O12 -> 0 | Q12: =SUM(Q5:Q11) -> 0 | R12: =SUM(R5:R11) -> 2 | S12: =SUM(S5:S11) -> 2 | T12: =SUM(T5:T11) -> 2 | U12: =SUM(U5:U11) -> 2 | V12: =SUM(V5:V11) -> 2 | W12: =SUM(W5:W11) -> 164 | X12: =SUM(X5:X11) -> 326 | ... AB12: =SUM(AB5:AB11) -> 974 | AC12: =AB12 -> 974 | AD12: =SUM(AD5:AD11) -> 1136 | AE12: =SUM(AE5:AE11) -> 1293 | AF12: =SUM(AF5:AF11) -> 1293 | AG12: =SUM(AG5:AG11) -> 1293 | AH12: =SUM(AH5:AH11) -> 1293 | AI12: =SUM(AI5:AI11) -> 1293 | AJ12: =SUM(AJ5:AJ11) -> 1633 | AK12: =SUM(AK5:AK11) -> 1974 | ... AO12: =SUM(AO5:AO11) -> 3335 | AP12: =AO12 -> 3335 | AQ12: =SUM(AQ5:AQ11) -> 3676 | AR12: =SUM(AR5:AR11) -> 3676 | AS12: =SUM(AS5:AS11) -> 3676 | AT12: =SUM(AT5:AT11) -> 3676 | AU12: =SUM(AU5:AU11) -> 3676 | AV12: =SUM(AV5:AV11) -> 3676 | AW12: =SUM(AW5:AW11) -> 3758 | AX12: =SUM(AX5:AX11) -> 3840 | ... BB12: =SUM(BB5:BB11) -> 4168 | BC12: =BB12 -> 4168 | BD12: =SUM(BD5:BD11) -> 4250 | BE12: =SUM(BE5:BE11) -> 4332 | BF12: =SUM(BF5:BF11) -> 4332 | BG12: =SUM(BG5:BG11) -> 4332 | BH12: =SUM(BH5:BH11) -> 4332 | BI12: =SUM(BI5:BI11) -> 4332 | BJ12: =SUM(BJ5:BJ11) -> 4401 | BK12: =SUM(BK5:BK11) -> 4470 | ... BO12: =SUM(BO5:BO11) -> 4746 | BP12: =BO12 -> 4746
C14: Actual
C15: Residential Rate 1 | D15: 0 | E15: 0 | F15: 0 | G15: 0 | H15: 0 | I15: 0 | J15: 0 | K15: 0 | L15: 0 | M15: 0 | N15: 0 | O15: 0 | P15: =O15 -> 0 | Q15: 0 | R15: 0 | S15: 0 | T15: 0 | U15: 0 | V15: 0 | W15: 0 | X15: ='Customer Count_Actuals'!B4 -> 0 | Y15: ='Customer Count_Actuals'!C4 -> 0 | Z15: ='Customer Count_Actuals'!D4 -> 0 | AA15: ='Customer Count_Actuals'!E4 -> 48 | AB15: ='Customer Count_Actuals'!F4 -> 152 | AC15: =AB15 -> 152 | AD15: ='Customer Count_Actuals'!G4 -> 300 | AE15: ='Customer Count_Actuals'!H4 -> 469 | AF15: ='Customer Count_Actuals'!I4 -> 597 | AG15: ='Customer Count_Actuals'!J4 -> 770 | AH15: ='Customer Count_Actuals'!K4 -> 928 | AI15: ='Customer Count_Actuals'!L4 -> 1038 | AJ15: ='Customer Count_Actuals'!M4 -> 1127 | AK15: ='Customer Count_Actuals'!N4 -> 1233 | ... AO15: ='Customer Count_Actuals'!R4 -> 1824 | AP15: =AO15 -> 1824 | AQ15: ='Customer Count_Actuals'!S4 -> 1948 | AR15: ='Customer Count_Actuals'!T4 -> 2076 | AS15: ='Customer Count_Actuals'!U4 -> 2141 | AT15: ='Customer Count_Actuals'!V4 -> 2219 | AU15: ='Customer Count_Actuals'!W4 -> 2262 | AV15: ='Customer Count_Actuals'!X4 -> 2326 | AW15: ='Customer Count_Actuals'!Y4 -> 2422 | AX15: ='Customer Count_Actuals'!Z4 -> 2541 | ... BB15: ='Customer Count_Actuals'!AD4 -> 3358 | BC15: =BB15 -> 3358 | BD15: ='Customer Count_Actuals'!AE4 -> 3474 | BE15: ='Customer Count_Actuals'!AF4 -> 3584 | BF15: ='Customer Count_Actuals'!AG4 -> 3667 | BG15: ='Customer Count_Actuals'!AH4 -> 3702 | BH15: ='Customer Count_Actuals'!AI4 -> 3798 | BI15: ='Customer Count_Actuals'!AJ4 -> 3931 | BJ15: ='Customer Count_Actuals'!AK4 -> 4016 | BK15: ='Customer Count_Actuals'!AL4 -> 4121 | ... BO15: ='Customer Count_Actuals'!AP4 -> 4688 | BP15: =BO15 -> 4688
C16: Commercial Rate 1 | D16: 0 | E16: 0 | F16: 0 | G16: 0 | H16: 0 | I16: 0 | J16: 0 | K16: 0 | L16: 0 | M16: 0 | N16: 0 | O16: 0 | P16: =O16 -> 0 | Q16: 0 | R16: 0 | S16: 0 | T16: 0 | U16: 0 | V16: 0 | W16: 0 | X16: ='Customer Count_Actuals'!B5 -> 0 | Y16: ='Customer Count_Actuals'!C5 -> 0 | Z16: ='Customer Count_Actuals'!D5 -> 0 | AA16: ='Customer Count_Actuals'!E5 -> 0 | AB16: ='Customer Count_Actuals'!F5 -> 0 | AC16: =AB16 -> 0 | AD16: ='Customer Count_Actuals'!G5 -> 3 | AE16: ='Customer Count_Actuals'!H5 -> 6 | AF16: ='Customer Count_Actuals'!I5 -> 8 | AG16: ='Customer Count_Actuals'!J5 -> 11 | AH16: ='Customer Count_Actuals'!K5 -> 15 | AI16: ='Customer Count_Actuals'!L5 -> 13 | AJ16: ='Customer Count_Actuals'!M5 -> 15 | AK16: ='Customer Count_Actuals'!N5 -> 16 | ... AO16: ='Customer Count_Actuals'!R5 -> 24 | AP16: =AO16 -> 24 | AQ16: ='Customer Count_Actuals'!S5 -> 27 | AR16: ='Customer Count_Actuals'!T5 -> 38 | AS16: ='Customer Count_Actuals'!U5 -> 39 | AT16: ='Customer Count_Actuals'!V5 -> 42 | AU16: ='Customer Count_Actuals'!W5 -> 41 | AV16: ='Customer Count_Actuals'!X5 -> 47 | AW16: ='Customer Count_Actuals'!Y5 -> 50 | AX16: ='Customer Count_Actuals'!Z5 -> 55 | ... BB16: ='Customer Count_Actuals'!AD5 -> 83 | BC16: =BB16 -> 83 | BD16: ='Customer Count_Actuals'!AE5 -> 89 | BE16: ='Customer Count_Actuals'!AF5 -> 100 | BF16: ='Customer Count_Actuals'!AG5 -> 105 | BG16: ='Customer Count_Actuals'!AH5 -> 111 | BH16: ='Customer Count_Actuals'!AI5 -> 111 | BI16: ='Customer Count_Actuals'!AJ5 -> 112 | BJ16: ='Customer Count_Actuals'!AK5 -> 108 | BK16: ='Customer Count_Actuals'!AL5 -> 115 | ... BO16: ='Customer Count_Actuals'!AP5 -> 142 | BP16: =BO16 -> 142
C17: Industrial Rate 1 | D17: 0 | E17: 0 | F17: 0 | G17: 0 | H17: 0 | I17: 0 | J17: 0 | K17: 0 | L17: 0 | M17: 0 | N17: 0 | O17: 0 | P17: =O17 -> 0 | Q17: 0 | R17: 0 | S17: 0 | T17: 0 | U17: 0 | V17: 0 | W17: 0 | X17: ='Customer Count_Actuals'!B6 -> 0 | Y17: ='Customer Count_Actuals'!C6 -> 0 | Z17: ='Customer Count_Actuals'!D6 -> 0 | AA17: ='Customer Count_Actuals'!E6 -> 0 | AB17: ='Customer Count_Actuals'!F6 -> 0 | AC17: =AB17 -> 0 | AD17: ='Customer Count_Actuals'!G6 -> 0 | AE17: ='Customer Count_Actuals'!H6 -> 0 | AF17: ='Customer Count_Actuals'!I6 -> 0 | AG17: ='Customer Count_Actuals'!J6 -> 0 | AH17: ='Customer Count_Actuals'!K6 -> 0 | AI17: ='Customer Count_Actuals'!L6 -> 0 | AJ17: ='Customer Count_Actuals'!M6 -> 0 | AK17: ='Customer Count_Actuals'!N6 -> 0 | ... AO17: ='Customer Count_Actuals'!R6 -> 0 | AP17: =AO17 -> 0 | AQ17: ='Customer Count_Actuals'!S6 -> 0 | AR17: ='Customer Count_Actuals'!T6 -> 0 | AS17: ='Customer Count_Actuals'!U6 -> 1 | AT17: ='Customer Count_Actuals'!V6 -> 1 | AU17: ='Customer Count_Actuals'!W6 -> 2 | AV17: ='Customer Count_Actuals'!X6 -> 3 | AW17: ='Customer Count_Actuals'!Y6 -> 1 | AX17: ='Customer Count_Actuals'!Z6 -> 3 | ... BB17: ='Customer Count_Actuals'!AD6 -> 4 | BC17: =BB17 -> 4 | BD17: ='Customer Count_Actuals'!AE6 -> 4 | BE17: ='Customer Count_Actuals'!AF6 -> 4 | BF17: ='Customer Count_Actuals'!AG6 -> 2 | BG17: ='Customer Count_Actuals'!AH6 -> 2 | BH17: ='Customer Count_Actuals'!AI6 -> 2 | BI17: ='Customer Count_Actuals'!AJ6 -> 2 | BJ17: ='Customer Count_Actuals'!AK6 -> 2 | BK17: ='Customer Count_Actuals'!AL6 -> 2 | ... BO17: ='Customer Count_Actuals'!AP6 -> 3 | BP17: =BO17 -> 3
C18: Med Commercial - Rate 6 | D18: 0 | E18: 0 | F18: 0 | G18: 0 | H18: 0 | I18: 0 | J18: 0 | K18: 0 | L18: 0 | M18: 0 | N18: 0 | O18: 0 | P18: =O18 -> 0 | Q18: 0 | R18: 0 | S18: 0 | T18: 0 | U18: 0 | V18: 0 | W18: 0 | X18: ='Customer Count_Actuals'!B7 -> 0 | Y18: ='Customer Count_Actuals'!C7 -> 0 | Z18: ='Customer Count_Actuals'!D7 -> 0 | AA18: ='Customer Count_Actuals'!E7 -> 0 | AB18: ='Customer Count_Actuals'!F7 -> 0 | AC18: =AB18 -> 0 | AD18: ='Customer Count_Actuals'!G7 -> 0 | AE18: =AE35-AE36 -> 0 | AF18: =AF35-AF36 -> 2 | AG18: =AG35-AG36 -> 2 | AH18: =AH35-AH36 -> 4 | AI18: =AI35-AI36 -> 3 | AJ18: =AJ35-AJ36 -> 3 | AK18: =AK35-AK36 -> 3 | AL18: =AL35-AL36 -> 3 | ... AO18: =AO35-AO36 -> 3 | AP18: =AO18 -> 3 | AQ18: =AQ35-AQ36 -> 5 | AR18: =AR35-AR36 -> 3 | AS18: =AS35-AS36 -> 5 | AT18: =AT35-AT36 -> 2 | AU18: =AU35-AU36 -> 2 | AV18: =AV35-AV36 -> 1 | AW18: =AW35-AW36 -> -1 | AX18: =AX35-AX36 -> 1 | ... BB18: =BB35-BB36 -> 1 | BC18: =BB18 -> 1 | BD18: =BD35-BD36 -> 4 | BE18: =BE35-BE36 -> 1 | BF18: =BF35-BF36 -> 3 | BG18: =BG35-BG36 -> 3 | BH18: =BH35-BH36 -> 1 | BI18: =BI35-BI36 -> -4 | BJ18: =BJ35-BJ36 -> 7 | BK18: =BK35-BK36 -> 12 | ... BO18: =BO35-BO36 -> 17 | BP18: =BO18 -> 17
C19: Large Commercial - Rate 6 | D19: 0 | E19: 0 | F19: 0 | G19: 0 | H19: 0 | I19: 0 | J19: 0 | K19: 0 | L19: 0 | M19: 0 | N19: 0 | O19: 0 | P19: =O19 -> 0 | Q19: 0 | R19: 0 | S19: 0 | T19: 0 | U19: 0 | V19: 0 | W19: 0 | AC19: =AB19 -> 0 | AE19: =AE36 -> 1 | AF19: =AF36 -> 1 | AG19: =AG36 -> 1 | AH19: =AH36 -> 1 | AI19: =AI36 -> 2 | AJ19: =AJ36 -> 2 | AK19: =AK36 -> 2 | AL19: =AL36 -> 2 | ... AO19: =AO36 -> 2 | AP19: =AO19 -> 2 | AQ19: =AQ36 -> 3 | AR19: =AR36 -> 5 | AS19: =AS36 -> 4 | AT19: =AT36 -> 6 | AU19: =AU36 -> 8 | AV19: =AV36 -> 8 | AW19: =AW36 -> 11 | AX19: =AX36 -> 10 | ... BB19: =BB36 -> 12 | BC19: =BB19 -> 12 | BD19: =BD36 -> 11 | BE19: =BE36 -> 14 | BF19: =BF36 -> 14 | BG19: =BG36 -> 14 | BH19: =BH36 -> 16 | BI19: =BI36 -> 16 | BJ19: =BJ36 -> 15 | BK19: =BK36 -> 15 | ... BO19: =BO36 -> 15 | BP19: =BO19 -> 15
C20: Industrial Rate 11 | D20: 0 | E20: 0 | F20: 0 | G20: 0 | H20: 0 | I20: 0 | J20: 0 | K20: 0 | L20: 0 | M20: 0 | N20: 0 | O20: 0 | P20: =O20 -> 0 | Q20: 0 | R20: 0 | S20: 0 | T20: 0 | U20: 0 | V20: 0 | W20: 0 | X20: ='Customer Count_Actuals'!B8 -> 1 | Y20: ='Customer Count_Actuals'!C8 -> 1 | Z20: ='Customer Count_Actuals'!D8 -> 1 | AA20: ='Customer Count_Actuals'!E8 -> 1 | AB20: ='Customer Count_Actuals'!F8 -> 1 | AC20: =AB20 -> 1 | AD20: ='Customer Count_Actuals'!G8 -> 1 | AE20: ='Customer Count_Actuals'!H8 -> 1 | AF20: ='Customer Count_Actuals'!I8 -> 1 | AG20: ='Customer Count_Actuals'!J8 -> 1 | AH20: ='Customer Count_Actuals'!K8 -> 1 | AI20: ='Customer Count_Actuals'!L8 -> 1 | AJ20: ='Customer Count_Actuals'!M8 -> 1 | AK20: ='Customer Count_Actuals'!N8 -> 1 | ... AO20: ='Customer Count_Actuals'!R8 -> 1 | AP20: =AO20 -> 1 | AQ20: ='Customer Count_Actuals'!S8 -> 2 | AR20: ='Customer Count_Actuals'!T8 -> 3 | AS20: ='Customer Count_Actuals'!U8 -> 3 | AT20: ='Customer Count_Actuals'!V8 -> 3 | AU20: ='Customer Count_Actuals'!W8 -> 3 | AV20: ='Customer Count_Actuals'!X8 -> 4 | AW20: ='Customer Count_Actuals'!Y8 -> 5 | AX20: ='Customer Count_Actuals'!Z8 -> 6 | ... BB20: ='Customer Count_Actuals'!AD8 -> 2 | BC20: =BB20 -> 2 | BD20: ='Customer Count_Actuals'!AE8 -> 5 | BE20: ='Customer Count_Actuals'!AF8 -> 5 | BF20: ='Customer Count_Actuals'!AG8 -> 5 | BG20: ='Customer Count_Actuals'!AH8 -> 5 | BH20: ='Customer Count_Actuals'!AI8 -> 5 | BI20: ='Customer Count_Actuals'!AJ8 -> 5 | BJ20: ='Customer Count_Actuals'!AK8 -> 5 | BK20: ='Customer Count_Actuals'!AL8 -> 6 | ... BO20: ='Customer Count_Actuals'!AP8 -> 6 | BP20: =BO20 -> 6
C21: Industrial Rate 16 | D21: 0 | E21: 0 | F21: 0 | G21: 0 | H21: 0 | I21: 0 | J21: 0 | K21: 0 | L21: 0 | M21: 0 | N21: 0 | O21: 0 | P21: =O21 -> 0 | Q21: 0 | R21: 0 | S21: 0 | T21: 0 | U21: 0 | V21: 0 | W21: 0 | X21: ='Customer Count_Actuals'!B9 -> 2 | Y21: ='Customer Count_Actuals'!C9 -> 2 | Z21: ='Customer Count_Actuals'!D9 -> 2 | AA21: ='Customer Count_Actuals'!E9 -> 2 | AB21: ='Customer Count_Actuals'!F9 -> 2 | AC21: =AB21 -> 2 | AD21: ='Customer Count_Actuals'!G9 -> 2 | AE21: ='Customer Count_Actuals'!H9 -> 2 | AF21: ='Customer Count_Actuals'!I9 -> 2 | AG21: ='Customer Count_Actuals'!J9 -> 2 | AH21: ='Customer Count_Actuals'!K9 -> 2 | AI21: ='Customer Count_Actuals'!L9 -> 2 | AJ21: ='Customer Count_Actuals'!M9 -> 2 | AK21: ='Customer Count_Actuals'!N9 -> 2 | ... AO21: ='Customer Count_Actuals'!R9 -> 3 | AP21: =AO21 -> 3 | AQ21: ='Customer Count_Actuals'!S9 -> 3 | AR21: ='Customer Count_Actuals'!T9 -> 3 | AS21: ='Customer Count_Actuals'!U9 -> 3 | AT21: ='Customer Count_Actuals'!V9 -> 3 | AU21: ='Customer Count_Actuals'!W9 -> 3 | AV21: ='Customer Count_Actuals'!X9 -> 3 | AW21: ='Customer Count_Actuals'!Y9 -> 3 | AX21: ='Customer Count_Actuals'!Z9 -> 3 | ... BB21: ='Customer Count_Actuals'!AD9 -> 3 | BC21: =BB21 -> 3 | BD21: ='Customer Count_Actuals'!AE9 -> 3 | BE21: ='Customer Count_Actuals'!AF9 -> 3 | BF21: ='Customer Count_Actuals'!AG9 -> 3 | BG21: ='Customer Count_Actuals'!AH9 -> 3 | BH21: ='Customer Count_Actuals'!AI9 -> 3 | BI21: ='Customer Count_Actuals'!AJ9 -> 3 | BJ21: ='Customer Count_Actuals'!AK9 -> 3 | BK21: ='Customer Count_Actuals'!AL9 -> 3 | ... BO21: ='Customer Count_Actuals'!AP9 -> 3 | BP21: =BO21 -> 3
C22: Total | D22: =SUM(D15:D21) -> 0 | E22: =SUM(E15:E21) -> 0 | F22: =SUM(F15:F21) -> 0 | G22: =SUM(G15:G21) -> 0 | H22: =SUM(H15:H21) -> 0 | I22: =SUM(I15:I21) -> 0 | J22: =SUM(J15:J21) -> 0 | K22: =SUM(K15:K21) -> 0 | ... O22: =SUM(O15:O21) -> 0 | P22: =O22 -> 0 | Q22: =SUM(Q15:Q21) -> 0 | R22: =SUM(R15:R21) -> 0 | S22: =SUM(S15:S21) -> 0 | T22: =SUM(T15:T21) -> 0 | U22: =SUM(U15:U21) -> 0 | V22: =SUM(V15:V21) -> 0 | W22: =SUM(W15:W21) -> 0 | X22: =SUM(X15:X21) -> 3 | ... AB22: =SUM(AB15:AB21) -> 155 | AC22: =AB22 -> 155 | AD22: =SUM(AD15:AD21) -> 306 | AE22: =SUM(AE15:AE21) -> 479 | AF22: =SUM(AF15:AF21) -> 611 | AG22: =SUM(AG15:AG21) -> 787 | AH22: =SUM(AH15:AH21) -> 951 | AI22: =SUM(AI15:AI21) -> 1059 | AJ22: =SUM(AJ15:AJ21) -> 1150 | AK22: =SUM(AK15:AK21) -> 1257 | ... AO22: =SUM(AO15:AO21) -> 1857 | AP22: =AO22 -> 1857 | AQ22: =SUM(AQ15:AQ21) -> 1988 | AR22: =SUM(AR15:AR21) -> 2128 | AS22: =SUM(AS15:AS21) -> 2196 | AT22: =SUM(AT15:AT21) -> 2276 | AU22: =SUM(AU15:AU21) -> 2321 | AV22: =SUM(AV15:AV21) -> 2392 | AW22: =SUM(AW15:AW21) -> 2491 | AX22: =SUM(AX15:AX21) -> 2619 | ... BB22: =SUM(BB15:BB21) -> 3463 | BC22: =BB22 -> 3463 | BD22: =SUM(BD15:BD21) -> 3590 | BE22: =SUM(BE15:BE21) -> 3711 | BF22: =SUM(BF15:BF21) -> 3799 | BG22: =SUM(BG15:BG21) -> 3840 | BH22: =SUM(BH15:BH21) -> 3936 | BI22: =SUM(BI15:BI21) -> 4065 | BJ22: =SUM(BJ15:BJ21) -> 4156 | BK22: =SUM(BK15:BK21) -> 4274 | ... BO22: =SUM(BO15:BO21) -> 4874 | BP22: =BO22 -> 4874
C24: Variance
C25: Residential Rate 1 | D25: =D15-D5 -> 0 | E25: =E15-E5 -> 0 | F25: =F15-F5 -> 0 | G25: =G15-G5 -> 0 | H25: =H15-H5 -> 0 | I25: =I15-I5 -> 0 | J25: =J15-J5 -> 0 | K25: =K15-K5 -> 0 | ... O25: =O15-O5 -> 0 | P25: =O25 -> 0 | Q25: =Q15-Q5 -> 0 | R25: =R15-R5 -> 0 | S25: =S15-S5 -> 0 | T25: =T15-T5 -> 0 | U25: =U15-U5 -> 0 | V25: =V15-V5 -> 0 | W25: =W15-W5 -> -150 | X25: =X15-X5 -> -300 | ... AB25: =AB15-AB5 -> -748 | AC25: =AB25 -> -748 | AD25: =AD15-AD5 -> -750 | AE25: =AE15-AE5 -> -731 | AF25: =AF15-AF5 -> -603 | AG25: =AG15-AG5 -> -430 | AH25: =AH15-AH5 -> -272 | AI25: =AI15-AI5 -> -162 | AJ25: =AJ15-AJ5 -> -387 | AK25: =AK15-AK5 -> -595 | ... AO25: =AO15-AO5 -> -1260 | AP25: =AO25 -> -1260 | AQ25: =AQ15-AQ5 -> -1450 | AR25: =AR15-AR5 -> -1320 | AS25: =AS15-AS5 -> -1255 | AT25: =AT15-AT5 -> -1177 | AU25: =AU15-AU5 -> -1134 | AV25: =AV15-AV5 -> -1070 | AW25: =AW15-AW5 -> -1044 | AX25: =AX15-AX5 -> -995 | ... BB25: =BB15-BB5 -> -458 | BC25: =BB25 -> -458 | BD25: =BD15-BD5 -> -412 | BE25: =BE15-BE5 -> -373 | BF25: =BF15-BF5 -> -290 | BG25: =BG15-BG5 -> -255 | BH25: =BH15-BH5 -> -159 | BI25: =BI15-BI5 -> -26 | BJ25: =BJ15-BJ5 -> -2 | BP25: =BO25 -> 0
C26: Commercial Rate 1 | D26: =D16-D6 -> 0 | E26: =E16-E6 -> 0 | F26: =F16-F6 -> 0 | G26: =G16-G6 -> 0 | H26: =H16-H6 -> 0 | I26: =I16-I6 -> 0 | J26: =J16-J6 -> 0 | K26: =K16-K6 -> 0 | ... O26: =O16-O6 -> 0 | P26: =O26 -> 0 | Q26: =Q16-Q6 -> 0 | R26: =R16-R6 -> 0 | S26: =S16-S6 -> 0 | T26: =T16-T6 -> 0 | U26: =U16-U6 -> 0 | V26: =V16-V6 -> 0 | W26: =W16-W6 -> -9 | X26: =X16-X6 -> -18 | ... AB26: =AB16-AB6 -> -54 | AC26: =AB26 -> -54 | AD26: =AD16-AD6 -> -60 | AE26: =AE16-AE6 -> -66 | AF26: =AF16-AF6 -> -64 | AG26: =AG16-AG6 -> -61 | AH26: =AH16-AH6 -> -57 | AI26: =AI16-AI6 -> -59 | AJ26: =AJ16-AJ6 -> -77 | AK26: =AK16-AK6 -> -96 | ... AO26: =AO16-AO6 -> -168 | AP26: =AO26 -> -168 | AQ26: =AQ16-AQ6 -> -185 | AR26: =AR16-AR6 -> -177 | AS26: =AS16-AS6 -> -176 | AT26: =AT16-AT6 -> -173 | AU26: =AU16-AU6 -> -174 | AV26: =AV16-AV6 -> -168 | AW26: =AW16-AW6 -> -174 | AX26: =AX16-AX6 -> -178 | ... BB26: =BB16-BB6 -> -186 | BC26: =BB26 -> -186 | BD26: =BD16-BD6 -> -189 | BE26: =BE16-BE6 -> -188 | BF26: =BF16-BF6 -> -183 | BG26: =BG16-BG6 -> -177 | BH26: =BH16-BH6 -> -177 | BI26: =BI16-BI6 -> -176 | BJ26: =BJ16-BJ6 -> -187 | BK26: =BK16-BK6 -> -187 | ... BO26: =BO16-BO6 -> -188 | BP26: =BO26 -> -188
C27: Industrial Rate 1 | D27: =D17-D7 -> 0 | E27: =E17-E7 -> 0 | F27: =F17-F7 -> 0 | G27: =G17-G7 -> 0 | H27: =H17-H7 -> 0 | I27: =I17-I7 -> 0 | J27: =J17-J7 -> 0 | K27: =K17-K7 -> 0 | ... O27: =O17-O7 -> 0 | P27: =O27 -> 0 | Q27: =Q17-Q7 -> 0 | R27: =R17-R7 -> 0 | S27: =S17-S7 -> 0 | T27: =T17-T7 -> 0 | U27: =U17-U7 -> 0 | V27: =V17-V7 -> 0 | W27: =W17-W7 -> 0 | X27: =X17-X7 -> 0 | ... AB27: =AB17-AB7 -> 0 | AC27: =AB27 -> 0 | AD27: =AD17-AD7 -> 0 | AE27: =AE17-AE7 -> 0 | AF27: =AF17-AF7 -> 0 | AG27: =AG17-AG7 -> 0 | AH27: =AH17-AH7 -> 0 | AI27: =AI17-AI7 -> 0 | AJ27: =AJ17-AJ7 -> 0 | AK27: =AK17-AK7 -> 0 | ... AO27: =AO17-AO7 -> 0 | AP27: =AO27 -> 0 | AQ27: =AQ17-AQ7 -> 0 | AR27: =AR17-AR7 -> 0 | BC27: =BB27 -> 0 | BP27: =BO27 -> 0
C28: Med Commercial - Rate 6 | D28: =D18-D8 -> 0 | E28: =E18-E8 -> 0 | F28: =F18-F8 -> 0 | G28: =G18-G8 -> 0 | H28: =H18-H8 -> 0 | I28: =I18-I8 -> 0 | J28: =J18-J8 -> 0 | K28: =K18-K8 -> 0 | ... O28: =O18-O8 -> 0 | P28: =O28 -> 0 | Q28: =Q18-Q8 -> 0 | R28: =R18-R8 -> 0 | S28: =S18-S8 -> 0 | T28: =T18-T8 -> 0 | U28: =U18-U8 -> 0 | V28: =V18-V8 -> 0 | W28: =W18-W8 -> -2 | X28: =X18-X8 -> -4 | ... AB28: =AB18-AB8 -> -12 | AC28: =AB28 -> -12 | AD28: =AD18-AD8 -> -14 | AE28: =AE18-AE8 -> -14 | AF28: =AF18-AF8 -> -12 | AG28: =AG18-AG8 -> -12 | AH28: =AH18-AH8 -> -10 | AI28: =AI18-AI8 -> -11 | AJ28: =AJ18-AJ8 -> -15 | AK28: =AK18-AK8 -> -19 | ... AO28: =AO18-AO8 -> -35 | AP28: =AO28 -> -35 | AQ28: =AQ18-AQ8 -> -37 | AR28: =AR18-AR8 -> -41 | AS28: =AS18-AS8 -> -39 | AT28: =AT18-AT8 -> -42 | AU28: =AU18-AU8 -> -42 | AV28: =AV18-AV8 -> -43 | AW28: =AW18-AW8 -> -47 | AX28: =AX18-AX8 -> -47 | ... BB28: =BB18-BB8 -> -55 | BC28: =BB28 -> -55 | BD28: =BD18-BD8 -> -54 | BE28: =BE18-BE8 -> -59 | BF28: =BF18-BF8 -> -57 | BG28: =BG18-BG8 -> -57 | BH28: =BH18-BH8 -> -59 | BI28: =BI18-BI8 -> -64 | BJ28: =BJ18-BJ8 -> -54 | BK28: =BK18-BK8 -> -50 | ... BO28: =BO18-BO8 -> -49 | BP28: =BO28 -> -49
C29: Large Commercial - Rate 6 | D29: =D19-D9 -> 0 | E29: =E19-E9 -> 0 | F29: =F19-F9 -> 0 | G29: =G19-G9 -> 0 | H29: =H19-H9 -> 0 | I29: =I19-I9 -> 0 | J29: =J19-J9 -> 0 | K29: =K19-K9 -> 0 | ... O29: =O19-O9 -> 0 | P29: =O29 -> 0 | Q29: =Q19-Q9 -> 0 | R29: =R19-R9 -> 0 | S29: =S19-S9 -> 0 | T29: =T19-T9 -> 0 | U29: =U19-U9 -> 0 | V29: =V19-V9 -> 0 | W29: =W19-W9 -> -1 | X29: =X19-X9 -> -2 | ... AB29: =AB19-AB9 -> -6 | AC29: =AB29 -> -6 | AD29: =AD19-AD9 -> -7 | AE29: =AE19-AE9 -> -3 | AF29: =AF19-AF9 -> -3 | AG29: =AG19-AG9 -> -3 | AH29: =AH19-AH9 -> -3 | AI29: =AI19-AI9 -> -2 | AJ29: =AJ19-AJ9 -> -4 | AK29: =AK19-AK9 -> -6 | ... AO29: =AO19-AO9 -> -14 | AP29: =AO29 -> -14 | AQ29: =AQ19-AQ9 -> -15 | AR29: =AR19-AR9 -> -10 | AS29: =AS19-AS9 -> -11 | AT29: =AT19-AT9 -> -9 | AU29: =AU19-AU9 -> -7 | AV29: =AV19-AV9 -> -7 | AW29: =AW19-AW9 -> -5 | AX29: =AX19-AX9 -> -7 | ... BB29: =BB19-BB9 -> -9 | BC29: =BB29 -> -9 | BD29: =BD19-BD9 -> -11 | BE29: =BE19-BE9 -> -5 | BF29: =BF19-BF9 -> -5 | BG29: =BG19-BG9 -> -5 | BH29: =BH19-BH9 -> -3 | BI29: =BI19-BI9 -> -3 | BJ29: =BJ19-BJ9 -> -4 | BK29: =BK19-BK9 -> -4 | ... BO29: =BO19-BO9 -> -4 | BP29: =BO29 -> -4
C30: Industrial Rate 11 | D30: =D20-D10 -> 0 | E30: =E20-E10 -> 0 | F30: =F20-F10 -> 0 | G30: =G20-G10 -> 0 | H30: =H20-H10 -> 0 | I30: =I20-I10 -> 0 | J30: =J20-J10 -> 0 | K30: =K20-K10 -> 0 | ... O30: =O20-O10 -> 0 | P30: =O30 -> 0 | Q30: =Q20-Q10 -> 0 | R30: =R20-R10 -> 0 | S30: =S20-S10 -> 0 | T30: =T20-T10 -> 0 | U30: =U20-U10 -> 0 | V30: =V20-V10 -> 0 | W30: =W20-W10 -> 0 | AC30: =AB30 -> 0 | AE30: =AE20-AE10 -> 0 | AF30: =AF20-AF10 -> 0 | AG30: =AG20-AG10 -> 0 | AH30: =AH20-AH10 -> 0 | AI30: =AI20-AI10 -> 0 | AJ30: =AJ20-AJ10 -> 0 | AK30: =AK20-AK10 -> -1 | AL30: =AL20-AL10 -> -1 | ... AO30: =AO20-AO10 -> -2 | AP30: =AO30 -> -2 | AQ30: =AQ20-AQ10 -> -2 | AR30: =AR20-AR10 -> -1 | AS30: =AS20-AS10 -> -1 | AT30: =AT20-AT10 -> -1 | AU30: =AU20-AU10 -> -1 | AV30: =AV20-AV10 -> 0 | BC30: =BB30 -> 0 | BP30: =BO30 -> 0
C31: Industrial Rate 16 | D31: =D21-D11 -> 0 | E31: =E21-E11 -> 0 | F31: =F21-F11 -> 0 | G31: =G21-G11 -> 0 | H31: =H21-H11 -> 0 | I31: =I21-I11 -> 0 | J31: =J21-J11 -> 0 | K31: =K21-K11 -> 0 | ... O31: =O21-O11 -> 0 | P31: =O31 -> 0 | Q31: =Q21-Q11 -> 0 | R31: =R21-R11 -> -2 | S31: =S21-S11 -> -2 | T31: =T21-T11 -> -2 | U31: =U21-U11 -> -2 | V31: =V21-V11 -> -2 | W31: =W21-W11 -> -2 | AC31: =AB31 -> 0 | AP31: =AO31 -> 0 | BC31: =BB31 -> 0 | BP31: =BO31 -> 0
C32: Total | D32: =SUM(D25:D31) -> 0 | E32: =SUM(E25:E31) -> 0 | F32: =SUM(F25:F31) -> 0 | G32: =SUM(G25:G31) -> 0 | H32: =SUM(H25:H31) -> 0 | I32: =SUM(I25:I31) -> 0 | J32: =SUM(J25:J31) -> 0 | K32: =SUM(K25:K31) -> 0 | ... O32: =SUM(O25:O31) -> 0 | P32: =O32 -> 0 | Q32: =SUM(Q25:Q31) -> 0 | R32: =SUM(R25:R31) -> -2 | S32: =SUM(S25:S31) -> -2 | T32: =SUM(T25:T31) -> -2 | U32: =SUM(U25:U31) -> -2 | V32: =SUM(V25:V31) -> -2 | W32: =SUM(W25:W31) -> -164 | X32: =SUM(X25:X31) -> -324 | ... AB32: =SUM(AB25:AB31) -> -820 | AC32: =AB32 -> -820 | AD32: =SUM(AD25:AD31) -> -831 | AE32: =SUM(AE25:AE31) -> -814 | AF32: =SUM(AF25:AF31) -> -682 | AG32: =SUM(AG25:AG31) -> -506 | AH32: =SUM(AH25:AH31) -> -342 | AI32: =SUM(AI25:AI31) -> -234 | AJ32: =SUM(AJ25:AJ31) -> -483 | AK32: =SUM(AK25:AK31) -> -717 | ... AO32: =SUM(AO25:AO31) -> -1479 | AP32: =AO32 -> -1479 | AQ32: =SUM(AQ25:AQ31) -> -1689 | AR32: =SUM(AR25:AR31) -> -1549 | AS32: =SUM(AS25:AS31) -> -1482 | AT32: =SUM(AT25:AT31) -> -1402 | AU32: =SUM(AU25:AU31) -> -1358 | AV32: =SUM(AV25:AV31) -> -1288 | AW32: =SUM(AW25:AW31) -> -1270 | AX32: =SUM(AX25:AX31) -> -1227 | ... BB32: =SUM(BB25:BB31) -> -708 | BC32: =BB32 -> -708 | BD32: =SUM(BD25:BD31) -> -666 | BE32: =SUM(BE25:BE31) -> -625 | BF32: =SUM(BF25:BF31) -> -535 | BG32: =SUM(BG25:BG31) -> -494 | BH32: =SUM(BH25:BH31) -> -398 | BI32: =SUM(BI25:BI31) -> -269 | BJ32: =SUM(BJ25:BJ31) -> -247 | BK32: =SUM(BK25:BK31) -> -241 | ... BO32: =SUM(BO25:BO31) -> -241 | BP32: =BO32 -> -241
C34: Date | AA34: 44136 | AB34: 44166 | AD34: 44197 | AE34: 44228 | AF34: 44256 | AG34: 44287 | AH34: 44317 | AI34: 44348 | AJ34: 44378 | AK34: 44409 | AL34: 44440 | AM34: 44470 | AN34: 44501 | AO34: 44531 | AQ34: 44562 | AR34: 44593 | AS34: 44621 | AT34: 44652 | AU34: 44682 | AV34: 44713 | AW34: 44743 | AX34: 44774 | AY34: 44805 | AZ34: 44835 | BA34: 44866 | BB34: 44896 | BD34: 44927 | BE34: 44958 | BF34: 44986 | BG34: 45017 | BH34: 45047 | BI34: 45078 | BJ34: 45108 | BK34: 45139 | BL34: 45170 | BM34: 45200 | BN34: 45231 | BO34: 45261
C35: R6 Medium Commercial Customers | AD35: - | AE35: 1 | AF35: 3 | AG35: 3 | AH35: 5 | AI35: 5 | AJ35: 5 | AK35: 5 | AL35: 5 | AM35: 5 | AN35: 5 | AO35: 5 | AQ35: 8 | AR35: 8 | AS35: 9 | AT35: 8 | AU35: 10 | AV35: 9 | AW35: 10 | AX35: 11 | AY35: 9 | AZ35: 14 | BA35: 13 | BB35: 13 | BD35: 15 | BE35: 15 | BF35: 17 | BG35: 17 | BH35: 17 | BI35: 12 | BJ35: 22 | BK35: 27 | BL35: 26 | BM35: 26 | BN35: 32 | BO35: 32
C36: R6 Large Commercial Customers | AD36: - | AE36: 1 | AF36: 1 | AG36: 1 | AH36: 1 | AI36: 2 | AJ36: 2 | AK36: 2 | AL36: 2 | AM36: 3 | AN36: 3 | AO36: 2 | AQ36: 3 | AR36: 5 | AS36: 4 | AT36: 6 | AU36: 8 | AV36: 8 | AW36: 11 | AX36: 10 | AY36: 11 | AZ36: 9 | BA36: 13 | BB36: 12 | BD36: 11 | BE36: 14 | BF36: 14 | BG36: 14 | BH36: 16 | BI36: 16 | BJ36: 15 | BK36: 15 | BL36: 15 | BM36: 15 | BN36: 15 | BO36: 15
C38: Lost Revenue - Fixed | AA38: =AA18-AA35-AA36 -> 0
A39: Fixed | B39: Rate 1 | C39: Residential Rate 1 | D39: =(SUMIFS('Distribution Rates'!E:E,'Distribution Rates'!$B:$B,'Lost Revenue'!$B39,'Distribution Rates'!$A:$A,'Lost Revenue'!D$2,'Distribution Rates'!$C:$C,'Lost Revenue'!$A39))*-D25 -> 0 | E39: =(SUMIFS('Distribution Rates'!F:F,'Distribution Rates'!$B:$B,'Lost Revenue'!$B39,'Distribution Rates'!$A:$A,'Lost Revenue'!E$2,'Distribution Rates'!$C:$C,'Lost Revenue'!$A39))*-E25 -> 0 | F39: =(SUMIFS('Distribution Rates'!G:G,'Distribution Rates'!$B:$B,'Lost Revenue'!$B39,'Distribution Rates'!$A:$A,'Lost Revenue'!F$2,'Distribution Rates'!$C:$C,'Lost Revenue'!$A39))*-F25 -> 0 | G39: =(SUMIFS('Distribution Rates'!H:H,'Distribution Rates'!$B:$B,'Lost Revenue'!$B39,'Distribution Rates'!$A:$A,'Lost Revenue'!G$2,'Distribution Rates'!$C:$C,'Lost Revenue'!$A39))*-G25 -> 0 | H39: =(SUMIFS('Distribution Rates'!I:I,'Distribution Rates'!$B:$B,'Lost Revenue'!$B39,'Distribution Rates'!$A:$A,'Lost Revenue'!H$2,'Distribution Rates'!$C:$C,'Lost Revenue'!$A39))*-H25 -> 0 | I39: =(SUMIFS('Distribution Rates'!J:J,'Distribution Rates'!$B:$B,'Lost Revenue'!$B39,'Distribution Rates'!$A:$A,'Lost Revenue'!I$2,'Distribution Rates'!$C:$C,'Lost Revenue'!$A39))*-I25 -> 0 | J39: =(SUMIFS('Distribution Rates'!K:K,'Distribution Rates'!$B:$B,'Lost Revenue'!$B39,'Distribution Rates'!$A:$A,'Lost Revenue'!J$2,'Distribution Rates'!$C:$C,'Lost Revenue'!$A39))*-J25 -> 0 | K39: =(SUMIFS('Distribution Rates'!L:L,'Distribution Rates'!$B:$B,'Lost Revenue'!$B39,'Distribution Rates'!$A:$A,'Lost Revenue'!K$2,'Distribution Rates'!$C:$C,'Lost Revenue'!$A39))*-K25 -> 0 | L39: =(SUMIFS('Distribution Rates'!M:M,'Distribution Rates'!$B:$B,'Lost Revenue'!$B39,'Distribution Rates'!$A:$A,'Lost Revenue'!L$2,'Distribution Rates'!$C:$C,'Lost Revenue'!$A39))*-L25 -> 0 | M39: =(SUMIFS('Distribution Rates'!N:N,'Distribution Rates'!$B:$B,'Lost Revenue'!$B39,'Distribution Rates'!$A:$A,'Lost Revenue'!M$2,'Distribution Rates'!$C:$C,'Lost Revenue'!$A39))*-M25 -> 0 | N39: =(SUMIFS('Distribution Rates'!O:O,'Distribution Rates'!$B:$B,'Lost Revenue'!$B39,'Distribution Rates'!$A:$A,'Lost Revenue'!N$2,'Distribution Rates'!$C:$C,'Lost Revenue'!$A39))*-N25 -> 0 | O39: =(SUMIFS('Distribution Rates'!P:P,'Distribution Rates'!$B:$B,'Lost Revenue'!$B39,'Distribution Rates'!$A:$A,'Lost Revenue'!O$2,'Distribution Rates'!$C:$C,'Lost Revenue'!$A39))*-O25 -> 0 | P39: =SUM(D39:O39) -> 0 | Q39: =(SUMIFS('Distribution Rates'!E:E,'Distribution Rates'!$B:$B,'Lost Revenue'!$B39,'Distribution Rates'!$A:$A,'Lost Revenue'!Q$2,'Distribution Rates'!$C:$C,'Lost Revenue'!$A39))*-Q25 -> 0 | R39: =(SUMIFS('Distribution Rates'!F:F,'Distribution Rates'!$B:$B,'Lost Revenue'!$B39,'Distribution Rates'!$A:$A,'Lost Revenue'!R$2,'Distribution Rates'!$C:$C,'Lost Revenue'!$A39))*-R25 -> 0 | S39: =(SUMIFS('Distribution Rates'!G:G,'Distribution Rates'!$B:$B,'Lost Revenue'!$B39,'Distribution Rates'!$A:$A,'Lost Revenue'!S$2,'Distribution Rates'!$C:$C,'Lost Revenue'!$A39))*-S25 -> 0 | T39: =(SUMIFS('Distribution Rates'!H:H,'Distribution Rates'!$B:$B,'Lost Revenue'!$B39,'Distribution Rates'!$A:$A,'Lost Revenue'!T$2,'Distribution Rates'!$C:$C,'Lost Revenue'!$A39))*-T25 -> 0 | U39: =(SUMIFS('Distribution Rates'!I:I,'Distribution Rates'!$B:$B,'Lost Revenue'!$B39,'Distribution Rates'!$A:$A,'Lost Revenue'!U$2,'Distribution Rates'!$C:$C,'Lost Revenue'!$A39))*-U25 -> 0 | V39: =(SUMIFS('Distribution Rates'!J:J,'Distribution Rates'!$B:$B,'Lost Revenue'!$B39,'Distribution Rates'!$A:$A,'Lost Revenue'!V$2,'Distribution Rates'!$C:$C,'Lost Revenue'!$A39))*-V25 -> 0 | W39: =(SUMIFS('Distribution Rates'!K:K,'Distribution Rates'!$B:$B,'Lost Revenue'!$B39,'Distribution Rates'!$A:$A,'Lost Revenue'!W$2,'Distribution Rates'!$C:$C,'Lost Revenue'!$A39))*-W25 -> 3807 | X39: =(SUMIFS('Distribution Rates'!L:L,'Distribution Rates'!$B:$B,'Lost Revenue'!$B39,'Distribution Rates'!$A:$A,'Lost Revenue'!X$2,'Distribution Rates'!$C:$C,'Lost Revenue'!$A39))*-X25 -> 7614 | Y39: =(SUMIFS('Distribution Rates'!M:M,'Distribution Rates'!$B:$B,'Lost Revenue'!$B39,'Distribution Rates'!$A:$A,'Lost Revenue'!Y$2,'Distribution Rates'!$C:$C,'Lost Revenue'!$A39))*-Y25 -> 11421 | Z39: =(SUMIFS('Distribution Rates'!N:N,'Distribution Rates'!$B:$B,'Lost Revenue'!$B39,'Distribution Rates'!$A:$A,'Lost Revenue'!Z$2,'Distribution Rates'!$C:$C,'Lost Revenue'!$A39))*-Z25 -> 15228 | AA39: =(SUMIFS('Distribution Rates'!O:O,'Distribution Rates'!$B:$B,'Lost Revenue'!$B39,'Distribution Rates'!$A:$A,'Lost Revenue'!AA$2,'Distribution Rates'!$C:$C,'Lost Revenue'!$A39))*-AA25 -> 17816.76 | AB39: =(SUMIFS('Distribution Rates'!P:P,'Distribution Rates'!$B:$B,'Lost Revenue'!$B39,'Distribution Rates'!$A:$A,'Lost Revenue'!AB$2,'Distribution Rates'!$C:$C,'Lost Revenue'!$A39))*-AB25 -> 18984.24 | AC39: =SUM(Q39:AB39) -> 74871 | AD39: =(SUMIFS('Distribution Rates'!E:E,'Distribution Rates'!$B:$B,'Lost Revenue'!$B39,'Distribution Rates'!$A:$A,'Lost Revenue'!AD$2,'Distribution Rates'!$C:$C,'Lost Revenue'!$A39))*-AD25 -> 19335 | AE39: =(SUMIFS('Distribution Rates'!F:F,'Distribution Rates'!$B:$B,'Lost Revenue'!$B39,'Distribution Rates'!$A:$A,'Lost Revenue'!AE$2,'Distribution Rates'!$C:$C,'Lost Revenue'!$A39))*-AE25 -> 18845.18 | AF39: =(SUMIFS('Distribution Rates'!G:G,'Distribution Rates'!$B:$B,'Lost Revenue'!$B39,'Distribution Rates'!$A:$A,'Lost Revenue'!AF$2,'Distribution Rates'!$C:$C,'Lost Revenue'!$A39))*-AF25 -> 15545.34 | AG39: =(SUMIFS('Distribution Rates'!H:H,'Distribution Rates'!$B:$B,'Lost Revenue'!$B39,'Distribution Rates'!$A:$A,'Lost Revenue'!AG$2,'Distribution Rates'!$C:$C,'Lost Revenue'!$A39))*-AG25 -> 11085.4 | AH39: =(SUMIFS('Distribution Rates'!I:I,'Distribution Rates'!$B:$B,'Lost Revenue'!$B39,'Distribution Rates'!$A:$A,'Lost Revenue'!AH$2,'Distribution Rates'!$C:$C,'Lost Revenue'!$A39))*-AH25 -> 7012.16 | AI39: =(SUMIFS('Distribution Rates'!J:J,'Distribution Rates'!$B:$B,'Lost Revenue'!$B39,'Distribution Rates'!$A:$A,'Lost Revenue'!AI$2,'Distribution Rates'!$C:$C,'Lost Revenue'!$A39))*-AI25 -> 4176.36 | AJ39: =(SUMIFS('Distribution Rates'!K:K,'Distribution Rates'!$B:$B,'Lost Revenue'!$B39,'Distribution Rates'!$A:$A,'Lost Revenue'!AJ$2,'Distribution Rates'!$C:$C,'Lost Revenue'!$A39))*-AJ25 -> 9976.86 | AK39: =(SUMIFS('Distribution Rates'!L:L,'Distribution Rates'!$B:$B,'Lost Revenue'!$B39,'Distribution Rates'!$A:$A,'Lost Revenue'!AK$2,'Distribution Rates'!$C:$C,'Lost Revenue'!$A39))*-AK25 -> 15339.1 | AL39: =(SUMIFS('Distribution Rates'!M:M,'Distribution Rates'!$B:$B,'Lost Revenue'!$B39,'Distribution Rates'!$A:$A,'Lost Revenue'!AL$2,'Distribution Rates'!$C:$C,'Lost Revenue'!$A39))*-AL25 -> 19695.92 | AM39: =(SUMIFS('Distribution Rates'!N:N,'Distribution Rates'!$B:$B,'Lost Revenue'!$B39,'Distribution Rates'!$A:$A,'Lost Revenue'!AM$2,'Distribution Rates'!$C:$C,'Lost Revenue'!$A39))*-AM25 -> 25109.72 | AN39: =(SUMIFS('Distribution Rates'!O:O,'Distribution Rates'!$B:$B,'Lost Revenue'!$B39,'Distribution Rates'!$A:$A,'Lost Revenue'!AN$2,'Distribution Rates'!$C:$C,'Lost Revenue'!$A39))*-AN25 -> 30136.82 | AO39: =(SUMIFS('Distribution Rates'!P:P,'Distribution Rates'!$B:$B,'Lost Revenue'!$B39,'Distribution Rates'!$A:$A,'Lost Revenue'!AO$2,'Distribution Rates'!$C:$C,'Lost Revenue'!$A39))*-AO25 -> 32482.8 | AP39: =SUM(AD39:AO39) -> 208740.66 | AQ39: =(SUMIFS('Distribution Rates'!E:E,'Distribution Rates'!$B:$B,'Lost Revenue'!$B39,'Distribution Rates'!$A:$A,'Lost Revenue'!AQ$2,'Distribution Rates'!$C:$C,'Lost Revenue'!$A39))*-AQ25 -> 38091.5 | AR39: =(SUMIFS('Distribution Rates'!F:F,'Distribution Rates'!$B:$B,'Lost Revenue'!$B39,'Distribution Rates'!$A:$A,'Lost Revenue'!AR$2,'Distribution Rates'!$C:$C,'Lost Revenue'!$A39))*-AR25 -> 34676.4 | AS39: =(SUMIFS('Distribution Rates'!G:G,'Distribution Rates'!$B:$B,'Lost Revenue'!$B39,'Distribution Rates'!$A:$A,'Lost Revenue'!AS$2,'Distribution Rates'!$C:$C,'Lost Revenue'!$A39))*-AS25 -> 32968.85 | AT39: =(SUMIFS('Distribution Rates'!H:H,'Distribution Rates'!$B:$B,'Lost Revenue'!$B39,'Distribution Rates'!$A:$A,'Lost Revenue'!AT$2,'Distribution Rates'!$C:$C,'Lost Revenue'!$A39))*-AT25 -> 30919.79 | AU39: =(SUMIFS('Distribution Rates'!I:I,'Distribution Rates'!$B:$B,'Lost Revenue'!$B39,'Distribution Rates'!$A:$A,'Lost Revenue'!AU$2,'Distribution Rates'!$C:$C,'Lost Revenue'!$A39))*-AU25 -> 29790.18 | AV39: =(SUMIFS('Distribution Rates'!J:J,'Distribution Rates'!$B:$B,'Lost Revenue'!$B39,'Distribution Rates'!$A:$A,'Lost Revenue'!AV$2,'Distribution Rates'!$C:$C,'Lost Revenue'!$A39))*-AV25 -> 28108.9 | AW39: =(SUMIFS('Distribution Rates'!K:K,'Distribution Rates'!$B:$B,'Lost Revenue'!$B39,'Distribution Rates'!$A:$A,'Lost Revenue'!AW$2,'Distribution Rates'!$C:$C,'Lost Revenue'!$A39))*-AW25 -> 27425.88 | AX39: =(SUMIFS('Distribution Rates'!L:L,'Distribution Rates'!$B:$B,'Lost Revenue'!$B39,'Distribution Rates'!$A:$A,'Lost Revenue'!AX$2,'Distribution Rates'!$C:$C,'Lost Revenue'!$A39))*-AX25 -> 26138.65 | AY39: =(SUMIFS('Distribution Rates'!M:M,'Distribution Rates'!$B:$B,'Lost Revenue'!$B39,'Distribution Rates'!$A:$A,'Lost Revenue'!AY$2,'Distribution Rates'!$C:$C,'Lost Revenue'!$A39))*-AY25 -> 24562.45 | AZ39: =(SUMIFS('Distribution Rates'!N:N,'Distribution Rates'!$B:$B,'Lost Revenue'!$B39,'Distribution Rates'!$A:$A,'Lost Revenue'!AZ$2,'Distribution Rates'!$C:$C,'Lost Revenue'!$A39))*-AZ25 -> 19860.12 | BA39: =(SUMIFS('Distribution Rates'!O:O,'Distribution Rates'!$B:$B,'Lost Revenue'!$B39,'Distribution Rates'!$A:$A,'Lost Revenue'!BA$2,'Distribution Rates'!$C:$C,'Lost Revenue'!$A39))*-BA25 -> 15026.44 | BB39: =(SUMIFS('Distribution Rates'!P:P,'Distribution Rates'!$B:$B,'Lost Revenue'!$B39,'Distribution Rates'!$A:$A,'Lost Revenue'!BB$2,'Distribution Rates'!$C:$C,'Lost Revenue'!$A39))*-BB25 -> 12031.66 | BC39: =SUM(AQ39:BB39) -> 319600.82 | BD39: =(SUMIFS('Distribution Rates'!E:E,'Distribution Rates'!$B:$B,'Lost Revenue'!$B39,'Distribution Rates'!$A:$A,'Lost Revenue'!BD$2,'Distribution Rates'!$C:$C,'Lost Revenue'!$A39))*-BD25 -> 11045.72 | BE39: =(SUMIFS('Distribution Rates'!F:F,'Distribution Rates'!$B:$B,'Lost Revenue'!$B39,'Distribution Rates'!$A:$A,'Lost Revenue'!BE$2,'Distribution Rates'!$C:$C,'Lost Revenue'!$A39))*-BE25 -> 10000.13 | BF39: =(SUMIFS('Distribution Rates'!G:G,'Distribution Rates'!$B:$B,'Lost Revenue'!$B39,'Distribution Rates'!$A:$A,'Lost Revenue'!BF$2,'Distribution Rates'!$C:$C,'Lost Revenue'!$A39))*-BF25 -> 7774.9 | BG39: =(SUMIFS('Distribution Rates'!H:H,'Distribution Rates'!$B:$B,'Lost Revenue'!$B39,'Distribution Rates'!$A:$A,'Lost Revenue'!BG$2,'Distribution Rates'!$C:$C,'Lost Revenue'!$A39))*-BG25 -> 6836.55 | BH39: =(SUMIFS('Distribution Rates'!I:I,'Distribution Rates'!$B:$B,'Lost Revenue'!$B39,'Distribution Rates'!$A:$A,'Lost Revenue'!BH$2,'Distribution Rates'!$C:$C,'Lost Revenue'!$A39))*-BH25 -> 4262.79 | BI39: =(SUMIFS('Distribution Rates'!J:J,'Distribution Rates'!$B:$B,'Lost Revenue'!$B39,'Distribution Rates'!$A:$A,'Lost Revenue'!BI$2,'Distribution Rates'!$C:$C,'Lost Revenue'!$A39))*-BI25 -> 697.06 | BJ39: =(SUMIFS('Distribution Rates'!K:K,'Distribution Rates'!$B:$B,'Lost Revenue'!$B39,'Distribution Rates'!$A:$A,'Lost Revenue'!BJ$2,'Distribution Rates'!$C:$C,'Lost Revenue'!$A39))*-BJ25 -> 53.62 | BK39: =(SUMIFS('Distribution Rates'!L:L,'Distribution Rates'!$B:$B,'Lost Revenue'!$B39,'Distribution Rates'!$A:$A,'Lost Revenue'!BK$2,'Distribution Rates'!$C:$C,'Lost Revenue'!$A39))*-BK25 -> 0 | BL39: =(SUMIFS('Distribution Rates'!M:M,'Distribution Rates'!$B:$B,'Lost Revenue'!$B39,'Distribution Rates'!$A:$A,'Lost Revenue'!BL$2,'Distribution Rates'!$C:$C,'Lost Revenue'!$A39))*-BL25 -> 0 | BM39: =(SUMIFS('Distribution Rates'!N:N,'Distribution Rates'!$B:$B,'Lost Revenue'!$B39,'Distribution Rates'!$A:$A,'Lost Revenue'!BM$2,'Distribution Rates'!$C:$C,'Lost Revenue'!$A39))*-BM25 -> 0 | BN39: =(SUMIFS('Distribution Rates'!O:O,'Distribution Rates'!$B:$B,'Lost Revenue'!$B39,'Distribution Rates'!$A:$A,'Lost Revenue'!BN$2,'Distribution Rates'!$C:$C,'Lost Revenue'!$A39))*-BN25 -> 0 | BO39: =(SUMIFS('Distribution Rates'!P:P,'Distribution Rates'!$B:$B,'Lost Revenue'!$B39,'Distribution Rates'!$A:$A,'Lost Revenue'!BO$2,'Distribution Rates'!$C:$C,'Lost Revenue'!$A39))*-BO25 -> 0 | BP39: =SUM(BD39:BO39) -> 40670.77
