Workbook
Name inflation: #REF!

Sheet TVA - Continuity
A1: TVA - R16 | B1: 2025 | C1: 2025 | D1: 2025 | E1: 2025 | F1: 2025 | G1: 2025 | H1: 2025 | I1: 2025 | J1: 2025 | K1: 2025 | L1: 2025 | M1: 2025 | N1: 2025
B2: January | C2: February | D2: March | E2: April | F2: May | G2: June | H2: July | I2: August | J2: September | K2: October | L2: November | M2: December | N2: Total
A3: TRANSPORTATION
A4: Storage | B4: 0 | C4: 0 | D4: 0 | E4: 0 | F4: 0 | G4: 0 | H4: 0 | I4: 0 | J4: 0 | K4: 0 | L4: 0 | M4: 0 | N4: =SUM(B4:M4) -> 0
A5: Transportation | B5: =Allocation!C4-B4 -> 21049.936 | C5: =Allocation!D4-C4 -> 21039.276 | D5: =Allocation!E4-D4 -> 21237.984 | E5: =Allocation!F4-E4 -> 21316.854 | F5: =Allocation!G4-F4 -> 21603.12 | G5: =Allocation!H4-G4 -> 21768.374 | H5: =Allocation!I4-H4 -> 21737.259 | I5: =Allocation!J4-I4 -> 21737.671 | ... M5: =Allocation!N4-M4 -> 20972.496 | N5: =SUM(B5:M5) -> 256283.17
A6: Nomination | B6: =Allocation!C9 -> 3223.2601 | C6: =Allocation!D9 -> 2866.4319 | D6: =Allocation!E9 -> 3031.1015 | E6: =Allocation!F9 -> 2695.6389 | F6: =Allocation!G9 -> 2521.5559 | G6: =Allocation!H9 -> 1801.9656 | H6: =Allocation!I9 -> 2010.2236 | I6: =Allocation!J9 -> 1959.96 | ... M6: =Allocation!N9 -> 3604.2393 | N6: =SUM(B6:M6) -> 31188.722
A7: Gas Supply | B7: 0 | C7: 0 | D7: 0 | E7: 0 | F7: 0 | G7: 0 | H7: 0 | I7: 0 | J7: 0 | K7: 0 | L7: 0 | M7: 0 | N7: =SUM(B7:M7) -> 0
A8: CNG | B8: 0 | C8: 0 | D8: 0 | E8: 0 | F8: 0 | G8: 0 | H8: 0 | I8: 0 | J8: 0 | K8: 0 | L8: 0 | M8: 0 | N8: =SUM(B8:M8) -> 0
A9: Total Cost | B9: =SUM(B4:B8) -> 24273.196 | C9: =SUM(C4:C8) -> 23905.708 | D9: =SUM(D4:D8) -> 24269.085 | E9: =SUM(E4:E8) -> 24012.493 | F9: =SUM(F4:F8) -> 24124.675 | G9: =SUM(G4:G8) -> 23570.34 | H9: =SUM(H4:H8) -> 23747.482 | I9: =SUM(I4:I8) -> 23697.631 | ... N9: =SUM(N4:N8) -> 287471.89
A11: Revenue | B11: ='S&TVA - Continuity'!B77 -> 17535.7 | C11: ='S&TVA - Continuity'!C77 -> 17535.7 | D11: ='S&TVA - Continuity'!D77 -> 17535.7 | E11: ='S&TVA - Continuity'!E77 -> 17535.7 | F11: ='S&TVA - Continuity'!F77 -> 17535.7 | G11: ='S&TVA - Continuity'!G77 -> 17535.7 | H11: ='S&TVA - Continuity'!H77 -> 17535.7 | I11: ='S&TVA - Continuity'!I77 -> 17535.7 | ... M11: ='S&TVA - Continuity'!M77 -> 17535.7 | N11: =SUM(B11:M11) -> 210428.4
A13: Variance | B13: =B9-B11 -> 6737.496 | C13: =C9-C11 -> 6370.0083 | D13: =D9-D11 -> 6733.3855 | E13: =E9-E11 -> 6476.7932 | F13: =F9-F11 -> 6588.9755 | G13: =G9-G11 -> 6034.6399 | H13: =H9-H11 -> 6211.7823 | I13: =I9-I11 -> 6161.9311 | ... M13: =M9-M11 -> 7041.0357 | N13: =SUM(B13:M13) -> 77043.49
A14: Cumulative Variance | B14: =B13 -> 6737.496 | C14: =C13+B14 -> 13107.504 | D14: =D13+C14 -> 19840.89 | E14: =E13+D14 -> 26317.683 | F14: =F13+E14 -> 32906.658 | G14: =G13+F14 -> 38941.298 | H14: =H13+G14 -> 45153.081 | I14: =I13+H14 -> 51315.012 | J14: =J13+I14 -> 57718.827 | ... M14: =M13+L14 -> 77043.49
A16: Carrying Charges | B16: 0 | C16: =B14*C18/12 -> 20.886237 | D16: =C14*D18/12 -> 40.633263 | E16: =D14*E18/12 -> 61.506758 | F16: =E14*F18/12 -> 81.584817 | G16: =F14*G18/12 -> 102.01064 | H16: =G14*H18/12 -> 120.71802 | I16: =H14*I18/12 -> 139.97455 | J16: =I14*J18/12 -> 159.07654 | ... M16: =L14*M18/12 -> 217.00761 | N16: =SUM(B16:M16) -> 1320.9778
A17: Cumulative Carrying Charges | B17: 0 | C17: =C16+B17 -> 20.886237 | D17: =D16+C17 -> 61.519501 | E17: =E16+D17 -> 123.02626 | F17: =F16+E17 -> 204.61108 | G17: =G16+F17 -> 306.62172 | H17: =H16+G17 -> 427.33974 | I17: =I16+H17 -> 567.31429 | J17: =J16+I17 -> 726.39083 | ... M17: =M16+L17 -> 1320.9778
A18: Rate | B18: 0.0372 | C18: 0.0372 | D18: 0.0372 | E18: 0.0372 | F18: 0.0372 | G18: 0.0372 | H18: 0.0372 | I18: 0.0372 | J18: 0.0372 | K18: 0.0372 | L18: 0.0372 | M18: 0.0372
A20: Total Transportation | B20: =B13+B16 -> 6737.496 | C20: =C13+C16 -> 6390.8945 | D20: =D13+D16 -> 6774.0187 | E20: =E13+E16 -> 6538.3 | F20: =F13+F16 -> 6670.5603 | G20: =G13+G16 -> 6136.6506 | H20: =H13+H16 -> 6332.5003 | I20: =I13+I16 -> 6301.9057 | ... N20: =N13+N16 -> 78364.468
A21: Cumulative Transportation | B21: =B20 -> 6737.496 | C21: =C20+B21 -> 13128.39 | D21: =D20+C21 -> 19902.409 | E21: =E20+D21 -> 26440.709 | F21: =F20+E21 -> 33111.269 | G21: =G20+F21 -> 39247.92 | H21: =H20+G21 -> 45580.42 | I21: =I20+H21 -> 51882.326 | J21: =J20+I21 -> 58445.218 | ... M21: =M20+L21 -> 78364.468
A22: UPSTREAM CHARGES
A23: CIAC Revenue Requirement | B23: ='Upstream Recovery'!K128/12*1000*'Upstream Allocation'!$R$32 -> 12218.337 | C23: =B23 -> 12218.337 | D23: =C23 -> 12218.337 | E23: =D23 -> 12218.337 | F23: =E23 -> 12218.337 | G23: =F23 -> 12218.337 | H23: =G23 -> 12218.337 | I23: =H23 -> 12218.337 | J23: =I23 -> 12218.337 | ... M23: =L23 -> 12218.337 | N23: =SUM(B23:M23) -> 146620.05
A24: Revenue | B24: ='S&TVA - Continuity'!B76 -> 13648.6 | C24: ='S&TVA - Continuity'!C76 -> 13648.6 | D24: ='S&TVA - Continuity'!D76 -> 13648.6 | E24: ='S&TVA - Continuity'!E76 -> 13648.6 | F24: ='S&TVA - Continuity'!F76 -> 13648.6 | G24: ='S&TVA - Continuity'!G76 -> 13648.6 | H24: ='S&TVA - Continuity'!H76 -> 13648.6 | I24: ='S&TVA - Continuity'!I76 -> 13648.6 | ... M24: ='S&TVA - Continuity'!M76 -> 13648.6 | N24: =SUM(B24:M24) -> 163783.2
A26: Variance | B26: =B23-B24 -> -1430.2626 | C26: =C23-C24 -> -1430.2626 | D26: =D23-D24 -> -1430.2626 | E26: =E23-E24 -> -1430.2626 | F26: =F23-F24 -> -1430.2626 | G26: =G23-G24 -> -1430.2626 | H26: =H23-H24 -> -1430.2626 | I26: =I23-I24 -> -1430.2626 | ... M26: =M23-M24 -> -1430.2626 | N26: =SUM(B26:M26) -> -17163.152
A27: Cumulative Variance | B27: =B26 -> -1430.2626 | C27: =C26+B27 -> -2860.5253 | D27: =D26+C27 -> -4290.7879 | E27: =E26+D27 -> -5721.0505 | F27: =F26+E27 -> -7151.3131 | G27: =G26+F27 -> -8581.5758 | H27: =H26+G27 -> -10011.838 | I27: =I26+H27 -> -11442.101 | J27: =J26+I27 -> -12872.364 | ... M27: =M26+L27 -> -17163.152
A29: Carrying Charges | B29: 0 | C29: =B27*C31/12 -> -4.4338142 | D29: =C27*D31/12 -> -8.8676283 | E29: =D27*E31/12 -> -13.301442 | F29: =E27*F31/12 -> -17.735257 | G29: =F27*G31/12 -> -22.169071 | H29: =G27*H31/12 -> -26.602885 | I29: =H27*I31/12 -> -31.036699 | J29: =I27*J31/12 -> -35.470513 | ... M29: =L27*M31/12 -> -48.771956 | N29: =SUM(B29:M29) -> -292.63173
A30: Cumulative Carrying Charges | B30: =B29 -> 0 | C30: =C29+B30 -> -4.4338142 | D30: =D29+C30 -> -13.301442 | E30: =E29+D30 -> -26.602885 | F30: =F29+E30 -> -44.338142 | G30: =G29+F30 -> -66.507212 | H30: =H29+G30 -> -93.110097 | I30: =I29+H30 -> -124.1468 | J30: =J29+I30 -> -159.61731 | ... M30: =M29+L30 -> -292.63173
A31: Rate | B31: 0.0372 | C31: 0.0372 | D31: 0.0372 | E31: 0.0372 | F31: 0.0372 | G31: 0.0372 | H31: 0.0372 | I31: 0.0372 | J31: 0.0372 | K31: 0.0372 | L31: 0.0372 | M31: 0.0372
A33: Total Upstream | B33: =B26+B29 -> -1430.2626 | C33: =C26+C29 -> -1434.6964 | D33: =D26+D29 -> -1439.1303 | E33: =E26+E29 -> -1443.5641 | F33: =F26+F29 -> -1447.9979 | G33: =G26+G29 -> -1452.4317 | H33: =H26+H29 -> -1456.8655 | I33: =I26+I29 -> -1461.2993 | ... N33: =N26+N29 -> -17455.783
A34: Cumulative Upstream | B34: =B33 -> -1430.2626 | C34: =C33+B34 -> -2864.9591 | D34: =D33+C34 -> -4304.0893 | E34: =E33+D34 -> -5747.6534 | F34: =F33+E34 -> -7195.6513 | G34: =G33+F34 -> -8648.083 | H34: =H33+G34 -> -10104.949 | I34: =I33+H34 -> -11566.248 | J34: =J33+I34 -> -13031.981 | ... M34: =M33+L34 -> -17455.783
A35: COMBINED
A36: Cost | B36: =B9+B23 -> 36491.533 | C36: =C9+C23 -> 36124.046 | D36: =D9+D23 -> 36487.423 | E36: =E9+E23 -> 36230.831 | F36: =F9+F23 -> 36343.013 | G36: =G9+G23 -> 35788.677 | H36: =H9+H23 -> 35965.82 | I36: =I9+I23 -> 35915.969 | ... M36: =M9+M23 -> 36795.073 | N36: =SUM(B36:M36) -> 434091.94
A37: Revenue | B37: =B11+B24 -> 31184.3 | C37: =C11+C24 -> 31184.3 | D37: =D11+D24 -> 31184.3 | E37: =E11+E24 -> 31184.3 | F37: =F11+F24 -> 31184.3 | G37: =G11+G24 -> 31184.3 | H37: =H11+H24 -> 31184.3 | I37: =I11+I24 -> 31184.3 | ... M37: =M11+M24 -> 31184.3 | N37: =SUM(B37:M37) -> 374211.6
A38: Variance | B38: =B36-B37 -> 5307.2333 | C38: =C36-C37 -> 4939.7456 | D38: =D36-D37 -> 5303.1228 | E38: =E36-E37 -> 5046.5306 | F38: =F36-F37 -> 5158.7129 | G38: =G36-G37 -> 4604.3773 | H38: =H36-H37 -> 4781.5197 | I38: =I36-I37 -> 4731.6685 | ... M38: =M36-M37 -> 5610.773 | N38: =SUM(B38:M38) -> 59880.339
A40: Carrying Charges | B40: =B16+B29 -> 0 | C40: =C16+C29 -> 16.452423 | D40: =D16+D29 -> 31.765635 | E40: =E16+E29 -> 48.205316 | F40: =F16+F29 -> 63.849561 | G40: =G16+G29 -> 79.84157 | H40: =H16+H29 -> 94.11514 | I40: =I16+I29 -> 108.93785 | ... N40: =N16+N29 -> 1028.3461
A42: Grand Total | B42: =B38+B40 -> 5307.2333 | C42: =C38+C40 -> 4956.1981 | D42: =D38+D40 -> 5334.8885 | E42: =E38+E40 -> 5094.7359 | F42: =F38+F40 -> 5222.5624 | G42: =G38+G40 -> 4684.2189 | H42: =H38+H40 -> 4875.6348 | I42: =I38+I40 -> 4840.6064 | ... N42: =N38+N40 -> 60908.685
A43: Grand Total Cumulative | B43: =B42 -> 5307.2333 | C43: =C42+B43 -> 10263.431 | D43: =D42+C43 -> 15598.32 | E43: =E42+D43 -> 20693.056 | F43: =F42+E43 -> 25915.618 | G43: =G42+F43 -> 30599.837 | H43: =H42+G43 -> 35475.472 | I43: =I42+H43 -> 40316.078 | J43: =J42+I43 -> 45413.237 | ... M43: =M42+L43 -> 60908.685

Sheet S&TVA - Continuity
A1: S&TVA (R1/6/11) | B1: 2025 | C1: 2025 | D1: 2025 | E1: 2025 | F1: 2025 | G1: 2025 | H1: 2025 | I1: 2025 | J1: 2025 | K1: 2025 | L1: 2025 | M1: 2025 | N1: 2025
B2: January | C2: February | D2: March | E2: April | F2: May | G2: June | H2: July | I2: August | J2: September | K2: October | L2: November | M2: December | N2: Total
A3: TRANSPORTATION
A4: Storage | B4: =SUM(B54:B60) -> 7179.33 | C4: =SUM(C54:C60) -> 7262.73 | D4: =SUM(D54:D60) -> 7223.71 | E4: =SUM(E54:E60) -> 7612.33 | F4: =SUM(F54:F60) -> 7222.83 | G4: =SUM(G54:G60) -> 7182.51 | H4: =SUM(H54:H60) -> 7173.74 | I4: =SUM(I54:I60) -> 7166.47 | ... M4: =SUM(M54:M60) -> 7273.92 | N4: =SUM(B4:M4) -> 86601.91
A5: Transportation | B5: =Allocation!C3-B4 -> 28329.144 | C5: =Allocation!D3-C4 -> 28256.52 | D5: =Allocation!E3-D4 -> 28001.842 | E5: =Allocation!F3-E4 -> 27828.592 | F5: =Allocation!G3-F4 -> 27449.236 | G5: =Allocation!H3-G4 -> 27154.326 | H5: =Allocation!I3-H4 -> 27160.833 | I5: =Allocation!J3-I4 -> 27166.415 | ... M5: =Allocation!N3-M4 -> 28238.691 | N5: =SUM(B5:M5) -> 332910.68
A6: Fuel | B6: ='Fuel Costs'!B14 -> 2592.1424 | C6: ='Fuel Costs'!C14 -> 2247.2203 | D6: ='Fuel Costs'!D14 -> 1672.35 | E6: ='Fuel Costs'!E14 -> 799.38206 | F6: ='Fuel Costs'!F14 -> 420.18801 | G6: ='Fuel Costs'!G14 -> 153.72732 | H6: ='Fuel Costs'!H14 -> 183.41094 | I6: ='Fuel Costs'!I14 -> 169.30241 | ... M6: ='Fuel Costs'!M14 -> 3118.08 | N6: =SUM(B6:M6) -> 15945.99
A7: Nomination | B7: =Allocation!C8 -> 6993.598 | C7: =Allocation!D8 -> 6457.9081 | D7: =Allocation!E8 -> 5779.1585 | E7: =Allocation!F8 -> 5099.4611 | F7: =Allocation!G8 -> 4385.7441 | G7: =Allocation!H8 -> 3876.6544 | H7: =Allocation!I8 -> 3975.0764 | I7: =Allocation!J8 -> 4140.71 | ... M7: =Allocation!N8 -> -1917.3193 | N7: =SUM(B7:M7) -> 55367.856
A8: Gas Supply | B8: =240211/12 -> 20017.583 | C8: =B8 -> 20017.583 | D8: =C8 -> 20017.583 | E8: =D8 -> 20017.583 | F8: =E8 -> 20017.583 | G8: =F8 -> 20017.583 | H8: =G8 -> 20017.583 | I8: =H8 -> 20017.583 | J8: =I8 -> 20017.583 | K8: -230.75 | L8: =K8 -> -230.75 | M8: =L8 -> -230.75 | N8: =SUM(B8:M8) -> 179466
A9: CNG | B9: 0 | C9: 0 | D9: 0 | E9: 0 | F9: 0 | G9: 0 | H9: 0 | I9: 0 | J9: 0 | K9: 78721.37 | L9: 222070.2 | M9: 70967.46 | N9: =SUM(B9:M9) -> 371759.03
A10: Total Cost | B10: =SUM(B4:B9) -> 65111.798 | C10: =SUM(C4:C9) -> 64241.961 | D10: =SUM(D4:D9) -> 62694.644 | E10: =SUM(E4:E9) -> 61357.348 | F10: =SUM(F4:F9) -> 59495.582 | G10: =SUM(G4:G9) -> 58384.801 | H10: =SUM(H4:H9) -> 58510.644 | I10: =SUM(I4:I9) -> 58660.481 | ... N10: =SUM(N4:N9) -> 1042051.5
A12: Revenue | B12: =B81 -> 81354.01 | C12: =C81 -> 72489.34 | D12: =D81 -> 71105.2 | E12: =E81 -> 49133.79 | F12: =F81 -> 33295.06 | G12: =G81 -> 23226.14 | H12: =H81 -> 7201.44 | I12: =I81 -> 5854.68 | ... M12: =M81 -> 62866.32 | N12: =SUM(B12:M12) -> 446106.59
A14: Variance | B14: =B10-B12 -> -16242.212 | C14: =C10-C12 -> -8247.3787 | D14: =D10-D12 -> -8410.5562 | E14: =E10-E12 -> 12223.558 | F14: =F10-F12 -> 26200.522 | G14: =G10-G12 -> 35158.661 | H14: =H10-H12 -> 51309.204 | I14: =I10-I12 -> 52805.801 | ... M14: =M10-M12 -> 44583.761 | N14: =SUM(B14:M14) -> 595944.88
A15: Cumulative Variance | B15: =B14 -> -16242.212 | C15: =C14+B15 -> -24489.591 | D15: =D14+C15 -> -32900.147 | E15: =E14+D15 -> -20676.589 | F15: =F14+E15 -> 5523.9331 | G15: =G14+F15 -> 40682.594 | H15: =H14+G15 -> 91991.798 | I15: =I14+H15 -> 144797.6 | J15: =J14+I15 -> 196230.59 | ... M15: =M14+L15 -> 595944.88
A17: Carrying Charges | B17: 0 | C17: =B15*C19/12 -> -50.350857 | D17: =C15*D19/12 -> -75.917731 | E17: =D15*E19/12 -> -101.99046 | F17: =E15*F19/12 -> -64.097425 | G17: =F15*G19/12 -> 17.124193 | H17: =G15*H19/12 -> 126.11604 | I17: =H15*I19/12 -> 285.17457 | J17: =I15*J19/12 -> 448.87256 | ... M17: =L15*M19/12 -> 1709.2195 | N17: =SUM(B17:M17) -> 3855.2099
A18: Cumulative Carrying Charges | B18: 0 | C18: =C17+B18 -> -50.350857 | D18: =D17+C18 -> -126.26859 | E18: =E17+D18 -> -228.25904 | F18: =F17+E18 -> -292.35647 | G18: =G17+F18 -> -275.23228 | H18: =H17+G18 -> -149.11624 | I18: =I17+H18 -> 136.05834 | J18: =J17+I18 -> 584.93089 | ... M18: =M17+L18 -> 3855.2099
A19: Rate | B19: 0.0372 | C19: 0.0372 | D19: 0.0372 | E19: 0.0372 | F19: 0.0372 | G19: 0.0372 | H19: 0.0372 | I19: 0.0372 | J19: 0.0372 | K19: 0.0372 | L19: 0.0372 | M19: 0.0372
A21: Total Transportation | B21: =B14+B17 -> -16242.212 | C21: =C14+C17 -> -8297.7295 | D21: =D14+D17 -> -8486.4739 | E21: =E14+E17 -> 12121.568 | F21: =F14+F17 -> 26136.424 | G21: =G14+G17 -> 35175.785 | H21: =H14+H17 -> 51435.32 | I21: =I14+I17 -> 53090.975 | ... N21: =N14+N17 -> 599800.09
A22: Cumulative Transportation | B22: =B21 -> -16242.212 | C22: =C21+B22 -> -24539.942 | D22: =D21+C22 -> -33026.415 | E22: =E21+D22 -> -20904.848 | F22: =F21+E22 -> 5231.5767 | G22: =G21+F22 -> 40407.362 | H22: =H21+G22 -> 91842.682 | I22: =I21+H22 -> 144933.66 | J22: =J21+I22 -> 196815.52 | ... M22: =M21+L22 -> 599800.09
A23: UPSTREAM CHARGES
A24: CIAC Revenue Requirement | B24: ='Upstream Recovery'!K128/12*1000*'Upstream Allocation'!$Q$32 -> 18821.94 | C24: =B24 -> 18821.94 | D24: =C24 -> 18821.94 | E24: =D24 -> 18821.94 | F24: =E24 -> 18821.94 | G24: =F24 -> 18821.94 | H24: =G24 -> 18821.94 | I24: =H24 -> 18821.94 | J24: =I24 -> 18821.94 | ... M24: =L24 -> 18821.94 | N24: =SUM(B24:M24) -> 225863.28
A25: Revenue | B25: =B80 -> 30057.9 | C25: =C80 -> 38880.37 | D25: =D80 -> 38030.79 | E25: =E80 -> 26215.12 | F25: =F80 -> 17779.06 | G25: =G80 -> 10271.71 | H25: =H80 -> 3839.47 | I25: =I80 -> 3018.63 | ... M25: =M80 -> 23465.95 | N25: =SUM(B25:M25) -> 211006.64
A27: Variance | B27: =B24-B25 -> -11235.96 | C27: =C24-C25 -> -20058.43 | D27: =D24-D25 -> -19208.85 | E27: =E24-E25 -> -7393.1799 | F27: =F24-F25 -> 1042.8801 | G27: =G24-G25 -> 8550.2301 | H27: =H24-H25 -> 14982.47 | I27: =I24-I25 -> 15803.31 | ... M27: =M24-M25 -> -4644.0099 | N27: =SUM(B27:M27) -> 14856.642
A28: Cumulative Variance | B28: =B27 -> -11235.96 | C28: =C27+B28 -> -31294.39 | D28: =D27+C28 -> -50503.24 | E28: =E27+D28 -> -57896.419 | F28: =F27+E28 -> -56853.539 | G28: =G27+F28 -> -48303.309 | H28: =H27+G28 -> -33320.839 | I28: =I27+H28 -> -17517.529 | J28: =J27+I28 -> -2423.2387 | ... M28: =M27+L28 -> 14856.642
A30: Carrying Charges | B30: 0 | C30: =B28*C32/12 -> -34.831476 | D30: =C28*D32/12 -> -97.012608 | E30: =D28*E32/12 -> -156.56004 | F30: =E28*F32/12 -> -179.4789 | G30: =F28*G32/12 -> -176.24597 | H30: =G28*H32/12 -> -149.74026 | I30: =H28*I32/12 -> -103.2946 | J30: =I28*J32/12 -> -54.304339 | ... M30: =L28*M32/12 -> 60.45202 | N30: =SUM(B30:M30) -> -859.73022
A31: Cumulative Carrying Charges | B31: 0 | C31: =C30+B31 -> -34.831476 | D31: =D30+C31 -> -131.84408 | E31: =E30+D31 -> -288.40413 | F31: =F30+E31 -> -467.88303 | G31: =G30+F31 -> -644.129 | H31: =H30+G31 -> -793.86926 | I31: =I30+H31 -> -897.16386 | J31: =J30+I31 -> -951.4682 | ... M31: =M30+L31 -> -859.73022
A32: Rate | B32: 0.0372 | C32: 0.0372 | D32: 0.0372 | E32: 0.0372 | F32: 0.0372 | G32: 0.0372 | H32: 0.0372 | I32: 0.0372 | J32: 0.0372 | K32: 0.0372 | L32: 0.0372 | M32: 0.0372
A34: Total Upstream | B34: =B27+B30 -> -11235.96 | C34: =C27+C30 -> -20093.261 | D34: =D27+D30 -> -19305.862 | E34: =E27+E30 -> -7549.7399 | F34: =F27+F30 -> 863.40125 | G34: =G27+G30 -> 8373.9842 | H34: =H27+H30 -> 14832.73 | I34: =I27+I30 -> 15700.016 | ... N34: =N27+N30 -> 13996.912
A35: Cumulative Upstream | B35: =B34 -> -11235.96 | C35: =C34+B35 -> -31329.221 | D35: =D34+C35 -> -50635.084 | E35: =E34+D35 -> -58184.824 | F35: =F34+E35 -> -57321.422 | G35: =G34+F35 -> -48947.438 | H35: =H34+G35 -> -34114.708 | I35: =I34+H35 -> -18414.693 | J35: =J34+I35 -> -3374.7068 | ... M35: =M34+L35 -> 13996.912
A36: COMBINED
A37: Cost | B37: =B10+B24 -> 83933.738 | C37: =C10+C24 -> 83063.901 | D37: =D10+D24 -> 81516.584 | E37: =E10+E24 -> 80179.288 | F37: =F10+F24 -> 78317.522 | G37: =G10+G24 -> 77206.741 | H37: =H10+H24 -> 77332.584 | I37: =I10+I24 -> 77482.421 | ... M37: =M10+M24 -> 126272.02 | N37: =SUM(B37:M37) -> 1267914.7
A38: Revenue | B38: =B12+B25 -> 111411.91 | C38: =C12+C25 -> 111369.71 | D38: =D12+D25 -> 109135.99 | E38: =E12+E25 -> 75348.91 | F38: =F12+F25 -> 51074.12 | G38: =G12+G25 -> 33497.85 | H38: =H12+H25 -> 11040.91 | I38: =I12+I25 -> 8873.31 | ... M38: =M12+M25 -> 86332.27 | N38: =SUM(B38:M38) -> 657113.23
A39: Variance | B39: =B37-B38 -> -27478.172 | C39: =C37-C38 -> -28305.809 | D39: =D37-D38 -> -27619.406 | E39: =E37-E38 -> 4830.3783 | F39: =F37-F38 -> 27243.402 | G39: =G37-G38 -> 43708.891 | H39: =H37-H38 -> 66291.674 | I39: =I37-I38 -> 68609.111 | ... M39: =M37-M38 -> 39939.752 | N39: =SUM(B39:M39) -> 610801.52
A41: Carrying Charges | B41: =B17+B30 -> 0 | C41: =C17+C30 -> -85.182333 | D41: =D17+D30 -> -172.93034 | E41: =E17+E30 -> -258.5505 | F41: =F17+F30 -> -243.57633 | G41: =G17+G30 -> -159.12178 | H41: =H17+H30 -> -23.624217 | I41: =I17+I30 -> 181.87997 | ... N41: =N17+N30 -> 2995.4796
A43: Grand Total | B43: =B39+B41 -> -27478.172 | C43: =C39+C41 -> -28390.991 | D43: =D39+D41 -> -27792.336 | E43: =E39+E41 -> 4571.8278 | F43: =F39+F41 -> 26999.826 | G43: =G39+G41 -> 43549.769 | H43: =H39+H41 -> 66268.05 | I43: =I39+I41 -> 68790.991 | ... N43: =N39+N41 -> 613797
A44: Grand Total Cumulative | B44: =B43 -> -27478.172 | C44: =C43+B44 -> -55869.163 | D44: =D43+C44 -> -83661.499 | E44: =E43+D44 -> -79089.671 | F44: =F43+E44 -> -52089.846 | G44: =G43+F44 -> -8540.0765 | H44: =H43+G44 -> 57727.973 | I44: =I43+H44 -> 126518.96 | J44: =J43+I44 -> 193440.82 | ... M44: =M43+L44 -> 613797
N47: =N38-#REF! -> #REF!
A53: Source/ inputs
A54: Demand Charge | B54: 7083.33 | C54: 7083.33 | D54: 7083.33 | E54: 7083.33 | F54: 7083.33 | G54: 7083.33 | H54: 7083.33 | I54: 7083.33 | J54: 7083.33 | K54: 7083.33 | L54: 7083.33 | M54: 7083.33
A55: Firm withdrawal commodity charge (Dawn Storage to Dawn Facilities) | B55: 93 | C55: 179.4 | D55: 137.4 | E55: 103.5 | M55: 190.59
A56: Overrun Injection Commodity Charge | E56: 144.65
...

Sheet Invoice Breakdown
A1: https://epcorweb/en-ca/departments/natgas/sites/ON/Gas%20Supply%20Manager/South%20Bruce/SB_Inovices/SB%20Invoice%20Tracking.xlsx?web=1
C2: Storage Rate | G2: Transportation Rate | J2: Nominated Volume (GJ) | O2: Actual Consumption (GJ) | T2: R16 Contract Demand (GJ) | Y2: ENB Rates & Vol | Z2: M17 (Storage) | AU2: M17 (LBA) | AX2: M17 (Transportation) | BG2: ENB: M17 (Storage + Transportation) | BH2: ECNG (Nomination) | BL2: ECNG (System Gas Consulting) | BM2: ECNG PO BALANCE (760947) | BN2: ECNG (Nomination + Consulting) | BO2: M17 Transportation | BS2: ECNG | BW2: Invoice Split for Finance Team
A3: Billing Period | B3: Annual Heat Value | C3: Storage (GJ) | D3: Fuel Ratio (%) | E3: Storage Firm Commodity Charge ($/GJ) | F3: Storage Interruptible Commodity Charge ($/GJ) | G3: Monthly Demand Charge ($/GJ) | H3: Firm Commodity Charge ($/GJ) | I3: Fuel Ratio (%) | J3: M17 Total | K3: System Supply | L3: Tweed | M3: Greenfield | N3: Bruce Power | O3: M17 Total | P3: System Supply | Q3: Tweed | R3: Greenfield | S3: Bruce Power | T3: M17 Total | U3: System Supply | V3: Tweed | W3: Greenfield | X3: Bruce Power | Z3: Inv # | AA3: Contract Storage (GJ) | AB3: Commodity Injection (GJ) | AC3: Overrun Injection (GJ) | AD3: Firm Withdraw (GJ) | AE3: Interruptible Withdraw (GJ) | AF3: Demand Charge ($) | AG3: Firm Injection Commodity Charge ($) | AH3: Overrun Injection Commodity Charge ($) | AI3: Firm Injection Customer Supplied Fuel (GJ) | AJ3: Overrun Injection Customer Supplied Fuel (GJ) | AK3: Overrun Injection Commodity Charge | AL3: Firm Withdraw Commodity Charge ($) | AM3: Interrruptible Withdraw Commodity Charge ($) | AN3: Withdraw Customer Supplied Fuel (GJ) | AO3: Overrun Withdrawal Commodity Charge (Dawn Storage to Dawn Facilities) | AP3: Overrun Withdrawal Customer Supplied Fuel (GJ) | AQ3: Overrun Withdrawal Customer Supplied Fuel Charge (GJ) | AR3: Miscellaneous Charge Monthly Charge | AS3: Miscellaneous Charge Demand Charge | AT3: Total Storage ($) | AU3: 2% << 4% (GJ) | AV3: EASTERN ZONE TOLL ($/GJ) | AW3: 2nd Tier Daily Fee ($) | AX3: Monthly Charge ($) | AY3: Demand (GJ) | AZ3: Total Consumption R16+System (GJ) | BA3: Demand Charge ($) | BB3: Firm Commodity Charge ($) | BC3: Firm Customer Supplied Fuel (GJ) | BD3: Deferral/Earnings Sharing Adjustment Deferral/Earnings Sharing Adjustment | BE3: Deferral/Earnings Sharing Adjustment Federal Carbon Charge | BF3: Total Transporation ($) | BH3: Inv # | BI3: Total Consumption R16+System (GJ) | BJ3: Gas Nomination Rate ($/GJ) | BK3: Gas Nomination ($) | BL3: Monthly Consulting Charge ($) | BM3: PO Balance ($) | BO3: Inv # | BP3: System Gas Cost ($) | BQ3: R16 Gas cost ($) | BR3: Total Cost Before Tax($) | BS3: Inv # | BT3: System Gas Cost ($) | BU3: R16 Gas cost ($) | BV3: Total Cost Before Tax($)
A4: 43861 | B4: 38.98 | C4: 100000 | D4: 0.006 | E4: 0.006 | G4: 4.431 | H4: 0.002 | I4: 0.00764
A5: 43890 | B5: 38.98 | C5: 100000 | D5: 0.006 | E5: 0.006 | G5: 4.431 | H5: 0.002 | I5: 0.00764
A6: 43921 | B6: 38.98 | C6: 100000 | D6: 0.006 | E6: 0.006 | G6: 4.431 | H6: 0.002 | I6: 0.00764
A7: 43951 | B7: 39.28 | C7: 100000 | D7: 0.006 | E7: 0.006 | G7: 4.431 | H7: 0.002 | I7: 0.00319
A8: 43982 | B8: 39.28 | C8: 100000 | D8: 0.006 | E8: 0.006 | G8: 4.431 | H8: 0.002 | I8: 0.00319 | Z8: 838 454 | AA8: 100000 | AB8: 11936 | AF8: 3541.67 | AG8: =AB8*E7 -> 71.616 | AI8: 64 | AT8: =AF8+AG8+AL8 -> 3613.286 | BO8: =Z8 -> 838 454 | BP8: =AT8+BF8 -> 3613.286 | BR8: =BP8+BQ8 -> 3613.286
A9: 44012 | B9: 39.28 | C9: 100000 | D9: 0.006 | E9: 0.006 | G9: 4.431 | H9: 0.002 | I9: 0.00319 | Z9: 842 770 | AA9: 100000 | AB9: 22500 | AF9: 7083.33 | AG9: =AB9*E8 -> 135 | AI9: 120 | AT9: =AF9+AG9+AL9 -> 7218.33 | AX9: 1798.84 | AY9: 2979 | BA9: =AY9*G9 -> 13199.949 | BF9: =AX9+BA9+BB9 -> 14998.789 | BO9: =Z9 -> 842 770 | BP9: =AT9+BF9 -> 22217.119 | BR9: =BP9+BQ9 -> 22217.119
A10: 44043 | B10: 39.28 | C10: 100000 | D10: 0.006 | E10: 0.006 | G10: 4.431 | H10: 0.002 | I10: 0.00319 | Z10: 847 784 | AA10: 100000 | AB10: 23250 | AF10: 7083.33 | AG10: =AB10*E9 -> 139.5 | AI10: 124 | AT10: =AF10+AG10+AL10 -> 7222.83 | AX10: 1998.71 | AY10: 3310 | BA10: =AY10*G10 -> 14666.61 | BF10: =AX10+BA10+BB10 -> 16665.32 | BO10: =Z10 -> 847 784 | BP10: =AT10+BF10 -> 23888.15 | BR10: =BP10+BQ10 -> 23888.15
A11: 44074 | B11: 39.28 | C11: 100000 | D11: 0.006 | E11: 0.006 | G11: 4.431 | H11: 0.002 | I11: 0.00319 | J11: 41957 | K11: =J11-L11-M11-N11 -> 7478 | L11: 5304 | M11: 29175 | O11: 40639 | P11: =O11-Q11-R11-S11 -> 6400.7141 | Q11: 5299.8486 | R11: 28938.437 | T11: 8863 | U11: =T11-V11-W11-X11 -> 5452.4354 | V11: =22800*B11/1000 -> 895.584 | W11: =64027*B11/1000 -> 2514.9806 | Z11: 851 508 | AA11: 100000 | AB11: 17500 | AF11: 7083.33 | AG11: =AB11*E10 -> 105 | AI11: 109 | AK11: =9750*0.041 -> 399.75 | AT11: =AF11+AG11+AK11 -> 7588.08 | AX11: 1998.71 | AY11: 3310 | AZ11: 41957 | BA11: =AY11*G11 -> 14666.61 | BB11: =AZ11*H11 -> 83.914 | BF11: =AX11+BA11+BB11 -> 16749.234 | BH11: E194CC-2008-1 | BI11: =SUM(P11:S11) -> 40639 | BJ11: 0.04 | BK11: =BI11*BJ11 -> 1625.56 | BL11: 3057 | BO11: =Z11 -> 851 508 | BP11: =AT11 +(K11/AZ11*AX11) +((T11-V11-W11-X11)/T11*BA11) +(K11/AZ11*BB11) -> 16982.029 | BQ11: =((L11+M11+N11)/AZ11*AX11) +((V11+W11+X11)/T11*BA11) +((L11+M11+N11)/AZ11*BB11) -> 7355.2852 | BR11: =BP11+BQ11 -> 24337.314 | BS11: =BH11 -> E194CC-2008-1 | BT11: =P11*BJ11+BL11 -> 3313.0286 | BU11: =(Q11+R11+S11)*BJ11 -> 1369.5314 | BV11: =BT11+BU11 -> 4682.56
A12: 44104 | B12: 39.28 | C12: 100000 | D12: 0.006 | E12: 0.006 | G12: 4.431 | H12: 0.002 | I12: 0.00319 | J12: 46856 | K12: =J12-L12-M12-N12 -> 0 | L12: 13001 | M12: 33855 | O12: 46481 | P12: =O12-Q12-R12-S12 -> 80.248272 | Q12: 12810.217 | R12: 33590.535 | T12: 8863 | U12: =T12-V12-W12-X12 -> 5452.4354 | V12: =22800*B12/1000 -> 895.584 | W12: =64027*B12/1000 -> 2514.9806 | Z12: 855 478 | AA12: 100000 | AB12: 15000 | AF12: 7083.33 | AG12: =AB12*E11 -> 90 | AI12: 90 | AT12: =AF12+AG12+AL12 -> 7173.33 | AX12: 1998.71 | AY12: 3310 | AZ12: 46856 | BA12: =AY12*G12 -> 14666.61 | BB12: =AZ12*H12 -> 93.712 | BF12: =AX12+BA12+BB12 -> 16759.032 | BH12: E194CC-2009-1 | BI12: =SUM(P12:S12) -> 46481 | BJ12: 0.04 | BK12: =BI12*BJ12 -> 1859.24 | BL12: 3057 | BO12: =Z12 -> 855 478 | BP12: =AT12 +(K12/AZ12*AX12) +((T12-V12-W12-X12)/T12*BA12) +(K12/AZ12*BB12) -> 16196.093 | BQ12: =((L12+M12+N12)/AZ12*AX12) +((V12+W12+X12)/T12*BA12) +((L12+M12+N12)/AZ12*BB12) -> 7736.2695 | BR12: =BP12+BQ12 -> 23932.362 | BS12: =BH12 -> E194CC-2009-1 | BT12: =P12*BJ12+BL12 -> 3060.2099 | BU12: =(Q12+R12+S12)*BJ12 -> 1856.0301 | BV12: =BT12+BU12 -> 4916.24
A13: 44135 | B13: 39.28 | C13: 100000 | D13: 0.006 | E13: 0.006 | G13: 4.431 | H13: 0.002 | I13: 0.00319 | J13: 67529 | K13: =J13-L13-M13-N13 -> 0 | L13: 12349 | M13: 55180 | O13: 70664 | P13: =O13-Q13-R13-S13 -> 2290.1166 | Q13: 12497.34 | R13: 55876.543 | T13: 8863 | U13: =T13-V13-W13-X13 -> 5452.4354 | V13: =22800*B13/1000 -> 895.584 | W13: =64027*B13/1000 -> 2514.9806 | Z13: 858 032 | AA13: 100000 | AF13: 7083.33 | AG13: =AB13*E12 -> 0 | AT13: =AF13+AG13+AL13 -> 7083.33 | AX13: 1998.71 | AY13: 3310 | AZ13: 67529 | BA13: =AY13*G13 -> 14666.61 | BB13: =AZ13*H13 -> 135.058 | BF13: =AX13+BA13+BB13 -> 16800.378 | BH13: E194CC-2010-1 | BI13: =SUM(P13:S13) -> 70664 | BJ13: 0.04 | BK13: =BI13*BJ13 -> 2826.56 | BL13: 3057 | BO13: =Z13 -> 858 032 | BP13: =AT13 +(K13/AZ13*AX13) +((T13-V13-W13-X13)/T13*BA13) +(K13/AZ13*BB13) -> 16106.093 | BQ13: =((L13+M13+N13)/AZ13*AX13) +((V13+W13+X13)/T13*BA13) +((L13+M13+N13)/AZ13*BB13) -> 7777.6155 | BR13: =BP13+BQ13 -> 23883.708 | BS13: =BH13 -> E194CC-2010-1 | BT13: =P13*BJ13+BL13 -> 3148.6047 | BU13: =(Q13+R13+S13)*BJ13 -> 2734.9553 | BV13: =BT13+BU13 -> 5883.56
A14: 44165 | B14: 39.28 | C14: 100000 | D14: 0.006 | E14: 0.006 | G14: 4.431 | H14: 0.002 | I14: 0.00764 | J14: 72432 | K14: =J14-L14-M14-N14 -> 4450 | L14: 10432 | M14: 57550 | O14: 69958 | P14: =O14-Q14-R14-S14 -> 2146.8722 | Q14: 10197.959 | R14: 57613.169 | T14: 8863 | U14: =T14-V14-W14-X14 -> 5452.4354 | V14: =22800*B14/1000 -> 895.584 | W14: =64027*B14/1000 -> 2514.9806 | Z14: 863 949 | AA14: 100000 | AB14: 1866 | AF14: 7083.33 | AG14: =AB14*E13 -> 11.196 | AI14: 12 | AT14: =AF14+AG14+AL14 -> 7094.526 | AX14: 1998.71 | AY14: 5531 | AZ14: 72432 | BA14: =AY14*G14 -> 24507.861 | BB14: =AZ14*H14 -> 144.864 | BF14: =AX14+BA14+BB14 -> 26651.435 | BH14: E194CC-2011-1 | BI14: =SUM(P14:S14) -> 69958 | BJ14: 0.04 | BK14: =BI14*BJ14 -> 2798.32 | BL14: 3057 | BO14: =Z14 -> 863 949 | BP14: =AT14 +(K14/AZ14*AX14) +((T14-V14-W14-X14)/T14*BA14) +(K14/AZ14*BB14) -> 22303.23 | BQ14: =((L14+M14+N14)/AZ14*AX14) +((V14+W14+X14)/T14*BA14) +((L14+M14+N14)/AZ14*BB14) -> 11442.731 | BR14: =BP14+BQ14 -> 33745.961 | BS14: =BH14 -> E194CC-2011-1 | BT14: =P14*BJ14+BL14 -> 3142.8749 | BU14: =(Q14+R14+S14)*BJ14 -> 2712.4451 | BV14: =BT14+BU14 -> 5855.32
A15: 44196 | B15: 39.28 | C15: 100000 | D15: 0.006 | E15: 0.006 | G15: 4.431 | H15: 0.002 | I15: 0.00764 | J15: 73390 | K15: =J15-L15-M15-N15 -> 0 | L15: 12157 | M15: 61233 | O15: 74104 | P15: =O15-Q15-R15-S15 -> 470.13368 | Q15: 12558.009 | R15: 61075.857 | T15: 8863 | U15: =T15-V15-W15-X15 -> 5452.4354 | V15: =22800*B15/1000 -> 895.584 | W15: =64027*B15/1000 -> 2514.9806 | Z15: 867 741 | AA15: 100000 | AF15: 7083.33 | AG15: =AB15*E14 -> 0 | AT15: =AF15+AG15+AL15 -> 7083.33 | AX15: 1998.71 | AY15: 8863 | AZ15: 73390 | BA15: =AY15*G15 -> 39271.953 | BB15: =AZ15*H15 -> 146.78 | BF15: =AX15+BA15+BB15 -> 41417.443 | BH15: E194CC-2012-1 | BI15: =SUM(P15:S15) -> 74104 | BJ15: 0.04 | BK15: =BI15*BJ15 -> 2964.16 | BL15: 3057 | BO15: =Z15 -> 867 741 | BP15: =AT15 +(K15/AZ15*AX15) +((T15-V15-W15-X15)/T15*BA15) +(K15/AZ15*BB15) -> 31243.071 | BQ15: =((L15+M15+N15)/AZ15*AX15) +((V15+W15+X15)/T15*BA15) +((L15+M15+N15)/AZ15*BB15) -> 17257.702 | BR15: =BP15+BQ15 -> 48500.773 | BS15: =BH15 -> E194CC-2012-1 | BT15: =P15*BJ15+BL15 -> 3075.8053 | BU15: =(Q15+R15+S15)*BJ15 -> 2945.3547 | BV15: =BT15+BU15 -> 6021.16
A16: 44227 | B16: 39.28 | C16: 100000 | D16: 0.006 | E16: 0.006 | G16: 4.506 | H16: 0.002 | I16: 0.00795 | J16: 77773 | K16: =J16-L16-M16-N16 -> 975 | L16: 15274 | M16: 61524 | O16: 78815 | P16: =O16-Q16-R16-S16 -> 1891.594 | Q16: 15424.725 | R16: 61498.681 | T16: 8863 | U16: =T16-V16-W16-X16 -> 5452.4354 | V16: =22800*B16/1000 -> 895.584 | W16: =64027*B16/1000 -> 2514.9806 | Z16: 876 030 | AA16: 100000 | AB16: 981 | AF16: 7083.33 | AG16: =AB16*E15 -> 5.886 | AI16: 6 | AS16: 253302 | AT16: =AF16+AG16+AL16+AS16 -> 260391.22 | AX16: 2032.69 | AY16: 8863 | AZ16: =SUM(K16:N16) -> 77773 | BA16: =AY16*G16 -> 39936.678 | BB16: =AZ16*H16 -> 155.546 | BC16: 615 | BF16: =AX16+BA16+BB16 -> 42124.914 | BH16: E194CC-2101-1 | BI16: =SUM(P16:S16) -> 78815 | BJ16: 0.04 | BK16: =BI16*BJ16 -> 3152.6 | BL16: 3057 | BO16: =Z16 -> 876 030 | BP16: =AT16 +(K16/AZ16*AX16) +((T16-V16-W16-X16)/T16*BA16) +(K16/AZ16*BB16) -> 284987.32 | BQ16: =((L16+M16+N16)/AZ16*AX16) +((V16+W16+X16)/T16*BA16) +((L16+M16+N16)/AZ16*BB16) -> 17528.807 | BR16: =BP16+BQ16 -> 302516.13 | BS16: =BH16 -> E194CC-2101-1 | BT16: =P16*BJ16+BL16 -> 3132.6638 | BU16: =(Q16+R16+S16)*BJ16 -> 3076.9362 | BV16: =BT16+BU16 -> 6209.6
A17: 44255 | B17: 39.28 | C17: 100000 | D17: 0.006 | E17: 0.006 | G17: 4.506 | H17: 0.002 | I17: 0.00795 | J17: 78963 | K17: =J17-L17-M17-N17 -> 4960 | L17: 16749 | M17: 57254 | O17: 78034 | P17: =O17-Q17-R17-S17 -> 4470.4363 | Q17: 16335.671 | R17: 57227.893 | T17: 8863 | U17: =T17-V17-W17-X17 -> 5452.4354 | V17: =22800*B17/1000 -> 895.584 | W17: =64027*B17/1000 -> 2514.9806 | Z17: 877 881 | AA17: 100000 | AB17: 20747 | AF17: 7083.33 | AG17: =AB17*E16 -> 124.482 | AI17: 121 | AS17: 47.25 | AT17: =AF17+AG17+AL17+AS17 -> 7255.062 | AX17: 2032.69 | AY17: 8863 | AZ17: =SUM(K17:N17) -> 78963 | BA17: =AY17*G17 -> 39936.678 | BB17: =AZ17*H17 -> 157.926 | BC17: 628 | BF17: =AX17+BA17+BB17 -> 42127.294 | BH17: E194CC-2102-1 | BI17: =SUM(P17:S17) -> 78034 | BJ17: 0.04 | BK17: =BI17*BJ17 -> 3121.36 | BL17: 3057 | BO17: =Z17 -> 877 881 | BP17: =AT17 +(K17/AZ17*AX17) +((T17-V17-W17-X17)/T17*BA17) +(K17/AZ17*BB17) -> 31961.338 | BQ17: =((L17+M17+N17)/AZ17*AX17) +((V17+W17+X17)/T17*BA17) +((L17+M17+N17)/AZ17*BB17) -> 17421.018 | BR17: =BP17+BQ17 -> 49382.356 | BS17: =BH17 -> E194CC-2102-1 | BT17: =P17*BJ17+BL17 -> 3235.8175 | BU17: =(Q17+R17+S17)*BJ17 -> 2942.5425 | BV17: =BT17+BU17 -> 6178.36
A18: 44256 | B18: 39.28 | C18: 100000 | D18: 0.006 | E18: 0.006 | G18: 4.506 | H18: 0.002 | I18: 0.00795 | J18: 84821 | K18: =J18-L18-M18-N18 -> 6540 | L18: 16278 | M18: 62003 | O18: 81798 | P18: =O18-Q18-R18-S18 -> 3805.451 | Q18: 16250.179 | R18: 61742.37 | T18: 8863 | U18: =T18-V18-W18-X18 -> 5452.4354 | V18: =22800*B18/1000 -> 895.584 | W18: =64027*B18/1000 -> 2514.9806 | Z18: 881 850 | AA18: 100000 | AB18: 6598 | AF18: 7083.33 | AG18: =AB18*E17 -> 39.588 | AI18: 35 | AT18: =AF18+AG18+AL18 -> 7122.918 | AX18: 2032.69 | AY18: 8863 | AZ18: =SUM(K18:N18) -> 84821 | BA18: =AY18*G18 -> 39936.678 | BB18: =AZ18*H18 -> 169.642 | BC18: 674 | BF18: =AX18+BA18+BB18 -> 42139.01 | BH18: E194CC-2103-1 | BI18: =SUM(P18:S18) -> 81798 | BJ18: 0.04 | BK18: =BI18*BJ18 -> 3271.92 | BL18: 3057 | BO18: =Z18 -> 881 850 | BP18: =AT18 +(K18/AZ18*AX18) +((T18-V18-W18-X18)/T18*BA18) +(K18/AZ18*BB18) -> 31861.4 | BQ18: =((L18+M18+N18)/AZ18*AX18) +((V18+W18+X18)/T18*BA18) +((L18+M18+N18)/AZ18*BB18) -> 17400.528 | BR18: =BP18+BQ18 -> 49261.928 | BS18: =BH18 -> E194CC-2103-1 | BT18: =P18*BJ18+BL18 -> 3209.218 | BU18: =(Q18+R18+S18)*BJ18 -> 3119.702 | BV18: =BT18+BU18 -> 6328.92
A19: 44287 | B19: 39.32 | C19: 100000 | D19: 0.006 | E19: 0.006 | G19: 4.506 | H19: 0.003 | I19: 0.00333 | J19: 71004 | K19: =J19-L19-M19-N19 -> 0 | L19: 14404 | M19: 56600 | O19: 73761 | P19: =O19-Q19-R19-S19 -> 2335.9099 | Q19: 14576.265 | R19: 56848.825 | T19: 8863 | U19: =T19-V19-W19-X19 -> 5448.9624 | V19: =22800*B19/1000 -> 896.496 | W19: =64027*B19/1000 -> 2517.5416 | Z19: 887 240 | AA19: 100000 | AF19: 7083.33 | AG19: =AB19*E18 -> 0 | AT19: =AF19+AG19+AL19 -> 7083.33 | AX19: 2032.69 | AY19: 8863 | AZ19: =SUM(K19:N19) -> 71004 | BA19: =AY19*G19 -> 39936.678 | BB19: =AZ19*H19 -> 213.012 | BC19: 241 | BF19: =AX19+BA19+BB19 -> 42182.38 | BH19: E194CC-2104-1 | BI19: =SUM(P19:S19) -> 73761 | BJ19: 0.04 | BK19: =BI19*BJ19 -> 2950.44 | BL19: 3057 | BO19: =Z19 -> 887 240 | BP19: =AT19 +(K19/AZ19*AX19) +((T19-V19-W19-X19)/T19*BA19) +(K19/AZ19*BB19) -> 31636.354 | BQ19: =((L19+M19+N19)/AZ19*AX19) +((V19+W19+X19)/T19*BA19) +((L19+M19+N19)/AZ19*BB19) -> 17629.356 | BR19: =BP19+BQ19 -> 49265.71 | BS19: =BH19 -> E194CC-2104-1 | BT19: =P19*BJ19+BL19 -> 3150.4364 | BU19: =(Q19+R19+S19)*BJ19 -> 2857.0036 | BV19: =BT19+BU19 -> 6007.44
A20: 44317 | B20: 39.32 | C20: 100000 | D20: 0.006 | E20: 0.006 | G20: 4.506 | H20: 0.003 | I20: 0.00333 | J20: 66504 | K20: =J20-L20-M20-N20 -> 0 | L20: 13436 | M20: 53068 | O20: 67094 | P20: =O20-Q20-R20-S20 -> 1492.2389 | Q20: 52613.428 | R20: 12988.333 | T20: 8863 | U20: =T20-V20-W20-X20 -> 5448.9624 | V20: =22800*B20/1000 -> 896.496 | W20: =64027*B20/1000 -> 2517.5416 | Z20: 889 724 | AA20: 100000 | AB20: 13485 | AF20: 7083.33 | AG20: =AB20*E19 -> 80.91 | AT20: =AF20+AG20+AL20 -> 7164.24 | AX20: 2032.69 | AY20: 8863 | AZ20: =SUM(K20:N20) -> 66504 | BA20: =AY20*G20 -> 39936.678 | BB20: =AZ20*H20 -> 199.512 | BC20: 210 | BF20: =AX20+BA20+BB20 -> 42168.88 | BH20: E194CC-2105-1 | BI20: =SUM(P20:S20) -> 67094 | BJ20: 0.04 | BK20: =BI20*BJ20 -> 2683.76 | BL20: 3057 | BO20: =Z20 -> 889 724 | BP20: =AT20 +(K20/AZ20*AX20) +((T20-V20-W20-X20)/T20*BA20) +(K20/AZ20*BB20) -> 31717.264 | BQ20: =((L20+M20+N20)/AZ20*AX20) +((V20+W20+X20)/T20*BA20) +((L20+M20+N20)/AZ20*BB20) -> 17615.856 | BR20: =BP20+BQ20 -> 49333.12 | BS20: =BH20 -> E194CC-2105-1 | BT20: =P20*BJ20+BL20 -> 3116.6896 | BU20: =(Q20+R20+S20)*BJ20 -> 2624.0704 | BV20: =BT20+BU20 -> 5740.76
A21: 44348 | B21: 39.32 | C21: 100000 | D21: 0.006 | E21: 0.006 | G21: 4.506 | H21: 0.003 | I21: 0.00333 | J21: 47183 | K21: =J21-L21-M21-N21 -> 0 | L21: 9700 | M21: 37483 | O21: 48234 | P21: =O21-Q21-R21-S21 -> 11.600029 | Q21: 10280.942 | R21: 37941.458 | T21: 8863 | U21: =T21-V21-W21-X21 -> 5448.9624 | V21: =22800*B21/1000 -> 896.496 | W21: =64027*B21/1000 -> 2517.5416 | Z21: 895 037 | AA21: 100000 | AB21: 14370 | AF21: 7083.33 | AG21: =AB21*E20 -> 86.22 | AI21: 90 | AT21: =AF21+AG21+AL21 -> 7169.55 | AX21: 2032.69 | AY21: 8863 | AZ21: =SUM(K21:N21) -> 47183 | BA21: =AY21*G21 -> 39936.678 | BB21: =AZ21*H21 -> 141.549 | BC21: 150 | BF21: =AX21+BA21+BB21 -> 42110.917 | BH21: E194CC-2106-1 | BI21: =SUM(P21:S21) -> 48234 | BJ21: 0.04 | BK21: =BI21*BJ21 -> 1929.36 | BL21: 3057 | BO21: =Z21 -> 895 037 | BP21: =AT21 +(K21/AZ21*AX21) +((T21-V21-W21-X21)/T21*BA21) +(K21/AZ21*BB21) -> 31722.574 | BQ21: =((L21+M21+N21)/AZ21*AX21) +((V21+W21+X21)/T21*BA21) +((L21+M21+N21)/AZ21*BB21) -> 17557.893 | BR21: =BP21+BQ21 -> 49280.467 | BS21: =BH21 -> E194CC-2106-1 | BT21: =P21*BJ21+BL21 -> 3057.464 | BU21: =(Q21+R21+S21)*BJ21 -> 1928.896 | BV21: =BT21+BU21 -> 4986.36
A22: 44378 | B22: 39.32 | C22: 100000 | D22: 0.006 | E22: 0.006 | G22: 4.506 | H22: 0.003 | I22: 0.00333 | J22: 52414 | K22: =J22-L22-M22-N22 -> 0 | L22: 12487 | M22: 39927 | O22: 52925 | P22: =O22-Q22-R22-S22 -> 503.53758 | Q22: 12462.496 | R22: 39958.966 | T22: 8863 | U22: =T22-V22-W22-X22 -> 5448.9624 | V22: =22800*B22/1000 -> 896.496 | W22: =64027*B22/1000 -> 2517.5416 | Z22: 899 099 | AA22: 100000 | AF22: 7083.33 | AG22: =AB22*E21 -> 0 | AT22: =AF22+AG22+AL22 -> 7083.33 | AX22: 2032.69 | AY22: 8863 | AZ22: =SUM(K22:N22) -> 52414 | BA22: =AY22*G22 -> 39936.678 | BB22: =AZ22*H22 -> 157.242 | BC22: 161 | BF22: =AX22+BA22+BB22 -> 42126.61 | BH22: E194CC-2107-1 | BI22: =SUM(P22:S22) -> 52925 | BJ22: 0.04 | BK22: =BI22*BJ22 -> 2117 | BL22: 3057 | BO22: =Z22 -> 899 099 | BP22: =AT22 +(K22/AZ22*AX22) +((T22-V22-W22-X22)/T22*BA22) +(K22/AZ22*BB22) -> 31636.354 | BQ22: =((L22+M22+N22)/AZ22*AX22) +((V22+W22+X22)/T22*BA22) +((L22+M22+N22)/AZ22*BB22) -> 17573.586 | BR22: =BP22+BQ22 -> 49209.94 | BS22: =BH22 -> E194CC-2107-1 | BT22: =P22*BJ22+BL22 -> 3077.1415 | BU22: =(Q22+R22+S22)*BJ22 -> 2096.8585 | BV22: =BT22+BU22 -> 5174
A23: 44409 | B23: 39.32 | C23: 100000 | D23: 0.006 | E23: 0.006 | G23: 4.506 | H23: 0.003 | I23: 0.00333 | J23: 50715 | K23: =J23-L23-M23-N23 -> 500 | L23: 12905 | M23: 37310 | O23: 50379 | P23: =O23-Q23-R23-S23 -> 448.32774 | Q23: 12694.078 | R23: 37236.594 | T23: 8863 | U23: =T23-V23-W23-X23 -> 5448.9624 | V23: =22800*B23/1000 -> 896.496 | W23: =64027*B23/1000 -> 2517.5416 | Z23: 905 664 | AA23: 100000 | AD23: 502 | AF23: 7083.33 | AG23: =AB23*E22 -> 0 | AL23: =AD23*E23 -> 3.012 | AM23: =AE23*F23 -> 0 | AT23: =AF23+AG23+AL23 -> 7086.342 | AX23: 2032.69 | AY23: 8863 | AZ23: =SUM(K23:N23) -> 50715 | BA23: =AY23*G23 -> 39936.678 | BB23: =AZ23*H23 -> 152.145 | BC23: 156 | BF23: =AX23+BA23+BB23 -> 42121.513 | BH23: E194CC-2108-1 | BI23: =SUM(P23:S23) -> 50379 | BJ23: 0.04 | BK23: =BI23*BJ23 -> 2015.16 | BL23: 3078.4 | BO23: =Z23 -> 905 664 | BP23: =AT23 +(K23/AZ23*AX23) +((T23-V23-W23-X23)/T23*BA23) +(K23/AZ23*BB23) -> 31660.907 | BQ23: =((L23+M23+N23)/AZ23*AX23) +((V23+W23+X23)/T23*BA23) +((L23+M23+N23)/AZ23*BB23) -> 17546.948 | BR23: =BP23+BQ23 -> 49207.855 | BS23: =BH23 -> E194CC-2108-1 | BT23: =P23*BJ23+BL23 -> 3096.3331 | BU23: =(Q23+R23+S23)*BJ23 -> 1997.2269 | BV23: =BT23+BU23 -> 5093.56
A24: 44440 | B24: 39.32 | C24: 100000 | D24: 0.006 | E24: 0.006 | G24: 4.506 | H24: 0.003 | I24: 0.00333 | J24: 45090 | K24: =J24-L24-M24-N24 -> 1395 | L24: 11800 | M24: 31895 | O24: 44774 | P24: =O24-Q24-R24-S24 -> 1374.7005 | Q24: 11794.369 | R24: 31604.931 | T24: 8863 | U24: =T24-V24-W24-X24 -> 5448.9624 | V24: =22800*B24/1000 -> 896.496 | W24: =64027*B24/1000 -> 2517.5416 | Z24: 912 435 | AA24: 100000 | AB24: 3000 | AF24: 7083.33 | AG24: =AB24*E23 -> 18 | AL24: =AD24*E24 -> 0 | AM24: =AE24*F24 -> 0 | AT24: =AF24+AG24+AL24 -> 7101.33 | AX24: 2032.69 | AY24: 8863 | AZ24: =SUM(K24:N24) -> 45090 | BA24: =AY24*G24 -> 39936.678 | BB24: =AZ24*H24 -> 135.27 | BC24: 135 | BF24: =AX24+BA24+BB24 -> 42104.638 | BH24: E194CC-2109-1 | BI24: =SUM(P24:S24) -> 44774 | BJ24: 0.04 | BK24: =BI24*BJ24 -> 1790.96 | BL24: 3078.4 | BO24: =Z24 -> 912 435 | BP24: =AT24 +(K24/AZ24*AX24) +((T24-V24-W24-X24)/T24*BA24) +(K24/AZ24*BB24) -> 31721.427 | BQ24: =((L24+M24+N24)/AZ24*AX24) +((V24+W24+X24)/T24*BA24) +((L24+M24+N24)/AZ24*BB24) -> 17484.541 | BR24: =BP24+BQ24 -> 49205.968 | BS24: =BH24 -> E194CC-2109-1 | BT24: =P24*BJ24+BL24 -> 3133.388 | BU24: =(Q24+R24+S24)*BJ24 -> 1735.972 | BV24: =BT24+BU24 -> 4869.36
A25: 44470 | B25: 39.32 | C25: 100000 | D25: 0.006 | E25: 0.006 | G25: 4.506 | H25: 0.003 | I25: 0.00333 | J25: 73924 | K25: =J25-L25-M25-N25 -> 6455 | L25: 14469 | M25: 53000 | O25: 73026 | P25: =O25-Q25-R25-S25 -> 5756.2252 | Q25: 14490.953 | R25: 52778.822 | T25: 8863 | U25: =T25-V25-W25-X25 -> 5448.9624 | V25: =22800*B25/1000 -> 896.496 | W25: =64027*B25/1000 -> 2517.5416 | Z25: 918 530 | AA25: 100000 | AF25: 7083.33 | AG25: =AB25*E24 -> 0 | AL25: =AD25*E25 -> 0 | AM25: =AE25*F25 -> 0 | AT25: =AF25+AG25+AL25 -> 7083.33 | AX25: 2032.69 | AY25: 8863 | AZ25: =SUM(K25:N25) -> 73924 | BA25: =AY25*G25 -> 39936.678 | BB25: =AZ25*H25 -> 221.772 | BC25: 251 | BF25: =AX25+BA25+BB25 -> 42191.14 | BH25: E194CC-2110-1 | BI25: =SUM(P25:S25) -> 73026 | BJ25: 0.04 | BK25: =BI25*BJ25 -> 2921.04 | BL25: 3078.4 | BO25: =Z25 -> 918 530 | BP25: =AT25 +(K25/AZ25*AX25) +((T25-V25-W25-X25)/T25*BA25) +(K25/AZ25*BB25) -> 31833.213 | BQ25: =((L25+M25+N25)/AZ25*AX25) +((V25+W25+X25)/T25*BA25) +((L25+M25+N25)/AZ25*BB25) -> 17441.257 | BR25: =BP25+BQ25 -> 49274.47 | BS25: =BH25 -> E194CC-2110-1 | BT25: =P25*BJ25+BL25 -> 3308.649 | BU25: =(Q25+R25+S25)*BJ25 -> 2690.791 | BV25: =BT25+BU25 -> 5999.44
A26: 44501 | B26: 39.32 | C26: 100000 | D26: 0.006 | E26: 0.006 | G26: 4.506 | H26: 0.003 | I26: 0.00795 | J26: 91082 | K26: =J26-L26-M26-N26 -> 17204 | L26: 14991 | M26: 58723 | N26: 164 | O26: 90014 | P26: =O26-Q26-R26-S26 -> 16121.505 | Q26: 14932.778 | R26: 58959.717 | T26: 8863 | U26: =T26-V26-W26-X26 -> 5448.9624 | V26: =22800*B26/1000 -> 896.496 | W26: =64027*B26/1000 -> 2517.5416 | Z26: 923 433 | AA26: 100000 | AD26: 8700 | AF26: 7083.33 | AG26: =AB26*E25 -> 0 | AL26: =AD26*E26 -> 52.2 | AM26: =AE26*F26 -> 0 | AT26: =AF26+AG26+AL26 -> 7135.53 | AX26: 2032.69 | AY26: 8863 | AZ26: =SUM(K26:N26) -> 91082 | BA26: =AY26*G26 -> 39936.678 | BB26: =AZ26*H26 -> 273.246 | BC26: 739 | BF26: =AX26+BA26+BB26 -> 42242.614 | BH26: E194CC-2111-1 | BI26: =SUM(P26:S26) -> 90014 | BJ26: 0.04 | BK26: =BI26*BJ26 -> 3600.56 | BL26: 3078.4 | BO26: =Z26 -> 923 433 | BP26: =AT26 +(K26/AZ26*AX26) +((T26-V26-W26-X26)/T26*BA26) +(K26/AZ26*BB26) -> 32124.111 | BQ26: =((L26+M26+N26)/AZ26*AX26) +((V26+W26+X26)/T26*BA26) +((L26+M26+N26)/AZ26*BB26) -> 17254.033 | BR26: =BP26+BQ26 -> 49378.144 | BS26: =BH26 -> E194CC-2111-1 | BT26: =P26*BJ26+BL26 -> 3723.2602 | BU26: =(Q26+R26+S26)*BJ26 -> 2955.6998 | BV26: =BT26+BU26 -> 6678.96
A27: 44531 | B27: 39.32 | C27: 100000 | D27: 0.006 | E27: 0.006 | G27: 4.506 | H27: 0.003 | I27: 0.00795 | J27: 99487 | K27: =J27-L27-M27-N27 -> 18776 | L27: 16049 | M27: 62849 | N27: 1813 | O27: 98534 | P27: =O27-Q27-R27-S27 -> 18052.221 | Q27: 16242.069 | R27: 62482.737 | S27: 1756.9735 | T27: 8863 | U27: =T27-V27-W27-X27 -> 5285.7474 | V27: =22800*B27/1000 -> 896.496 | W27: =64027*B27/1000 -> 2517.5416 | X27: =229.984662576687/31*22 -> 163.21492 | Z27: 929 292 | AA27: 100000 | AD27: 14275 | AF27: 7083.33 | AG27: =AB27*E26 -> 0 | AL27: =AD27*E27 -> 85.65 | AM27: =AE27*F27 -> 0 | AT27: =AF27+AG27+AL27 -> 7168.98 | AX27: 2032.69 | AY27: 8863 | AZ27: =SUM(K27:N27) -> 99487 | BA27: =AY27*G27 -> 39936.678 | BB27: =AZ27*H27 -> 298.461 | BC27: 792 | BF27: =AX27+BA27+BB27 -> 42267.829 | BH27: E194CC-2112-1 | BI27: =SUM(P27:S27) -> 98534 | BJ27: 0.04 | BK27: =BI27*BJ27 -> 3941.36 | BL27: 3078.4 | BO27: =Z27 -> 929 292 | BP27: =AT27 +(K27/AZ27*AX27) +((T27-V27-W27-X27)/T27*BA27) +(K27/AZ27*BB27) -> 31426.512 | BQ27: =((L27+M27+N27)/AZ27*AX27) +((V27+W27+X27)/T27*BA27) +((L27+M27+N27)/AZ27*BB27) -> 18010.297 | BR27: =BP27+BQ27 -> 49436.809 | BS27: =BH27 -> E194CC-2112-1 | BT27: =P27*BJ27+BL27 -> 3800.4888 | BU27: =(Q27+R27+S27)*BJ27 -> 3219.2712 | BV27: =BT27+BU27 -> 7019.76
A28: 44562 | B28: 39.32 | C28: 100000 | D28: 0.006 | E28: 0.006 | G28: 4.569 | H28: 0.003 | I28: 0.00806 | J28: 119112 | K28: =J28-L28-M28-N28 -> 28320 | L28: 19054 | M28: 68483 | N28: 3255 | O28: 119270 | P28: =O28-Q28-R28-S28 -> 28301.555 | Q28: 18980.505 | R28: 68582.559 | S28: 3405.3824 | T28: 8863 | U28: =T28-V28-W28-X28 -> 5095.2003 | V28: =22800*B28/1000 -> 896.496 | W28: =64027*B28/1000 -> 2517.5416 | X28: =8997*B28/1000 -> 353.76204 | Z28: 936 129 | AA28: 100000 | AD28: 23900 | AF28: 7083.33 | AG28: =AB28*E27 -> 0 | AL28: =AD28*E28 -> 143.4 | AM28: =AE28*F28 -> 0 | AT28: =AF28+AG28+AL28 -> 7226.73 | AX28: 2061.15 | AY28: 8863 | AZ28: =SUM(K28:N28) -> 119112 | BA28: =AY28*G28 -> 40495.047 | BB28: =AZ28*H28 -> 357.336 | BC28: 971 | BF28: =AX28+BA28+BB28 -> 42913.533 | BH28: E194CC-2201-1 | BI28: =SUM(P28:S28) -> 119270 | BJ28: 0.04 | BK28: =BI28*BJ28 -> 4770.8 | BL28: 3078.4 | BO28: =Z28 -> 936 129 | BP28: =AT28 +(K28/AZ28*AX28) +((T28-V28-W28-X28)/T28*BA28) +(K28/AZ28*BB28) -> 31081.718 | BQ28: =((L28+M28+N28)/AZ28*AX28) +((V28+W28+X28)/T28*BA28) +((L28+M28+N28)/AZ28*BB28) -> 19058.545 | BR28: =BP28+BQ28 -> 50140.263 | BS28: =BH28 -> E194CC-2201-1 | BT28: =P28*BJ28+BL28 -> 4210.4622 | BU28: =(Q28+R28+S28)*BJ28 -> 3638.7378 | BV28: =BT28+BU28 -> 7849.2
A29: 44593 | B29: 39.32 | C29: 100000 | D29: 0.006 | E29: 0.006 | G29: 4.569 | H29: 0.003 | I29: 0.00806 | J29: 101645 | K29: =J29-L29-M29-N29 -> 23658 | L29: 15894 | M29: 59350 | N29: 2743 | O29: 101440 | P29: =O29-Q29-R29-S29 -> 23689.065 | Q29: 15803.624 | R29: 59342.869 | S29: 2604.4417 | T29: 8863 | U29: =T29-V29-W29-X29 -> 5095.2003 | V29: =22800*B29/1000 -> 896.496 | W29: =64027*B29/1000 -> 2517.5416 | X29: =8997*B29/1000 -> 353.76204 | Z29: 942 995 | AA29: 100000 | AD29: 19650 | AF29: 7083.33 | AG29: =AB29*E28 -> 0 | AL29: =AD29*E29 -> 117.9 | AM29: =AE29*F29 -> 0 | AT29: =AF29+AG29+AL29 -> 7201.23 | AX29: 2061.15 | AY29: 8863 | AZ29: =SUM(K29:N29) -> 101645 | BA29: =AY29*G29 -> 40495.047 | BB29: =AZ29*H29 -> 304.935 | BC29: 833 | BF29: =AX29+BA29+BB29 -> 42861.132 | BH29: E194CC-2202-1 | BI29: =SUM(P29:S29) -> 101440 | BJ29: 0.04 | BK29: =BI29*BJ29 -> 4057.6 | BL29: 3078.4 | BO29: =Z29 -> 942 995 | BP29: =AT29 +(K29/AZ29*AX29) +((T29-V29-W29-X29)/T29*BA29) +(K29/AZ29*BB29) -> 31031.909 | BQ29: =((L29+M29+N29)/AZ29*AX29) +((V29+W29+X29)/T29*BA29) +((L29+M29+N29)/AZ29*BB29) -> 19030.453 | BR29: =BP29+BQ29 -> 50062.362 | BS29: =BH29 -> E194CC-2202-1 | BT29: =P29*BJ29+BL29 -> 4025.9626 | BU29: =(Q29+R29+S29)*BJ29 -> 3110.0374 | BV29: =BT29+BU29 -> 7136
A30: 44621 | B30: 39.32 | C30: 100000 | D30: 0.006 | E30: 0.006 | G30: 4.569 | H30: 0.003 | I30: 0.00806 | J30: 102096 | K30: =J30-L30-M30-N30 -> 20933 | L30: 15295 | M30: 63750 | N30: 2118 | O30: 102676 | P30: =O30-Q30-R30-S30 -> 20982.119 | Q30: 15557.343 | R30: 63871.084 | S30: 2265.4544 | T30: 8863 | U30: =T30-V30-W30-X30 -> 5095.2003 | V30: =22800*B30/1000 -> 896.496 | W30: =64027*B30/1000 -> 2517.5416 | X30: =8997*B30/1000 -> 353.76204 | Z30: 947 909 | AA30: 100000 | AD30: 16450 | AF30: 7083.33 | AG30: =AB30*E29 -> 0 | AL30: =AD30*E30 -> 98.7 | AM30: =AE30*F30 -> 0 | AT30: =AF30+AG30+AL30 -> 7182.03 | AX30: 2061.15 | AY30: 8863 | AZ30: =SUM(K30:N30) -> 102096 | BA30: =AY30*G30 -> 40495.047 | BB30: =AZ30*H30 -> 306.288 | BC30: 818 | BF30: =AX30+BA30+BB30 -> 42862.485 | BH30: E194CC-2203-1 | BI30: =SUM(P30:S30) -> 102676 | BJ30: 0.04 | BK30: =BI30*BJ30 -> 4107.04 | BL30: 3078.4 | BO30: =Z30 -> 947 909 | BP30: =AT30 +(K30/AZ30*AX30) +((T30-V30-W30-X30)/T30*BA30) +(K30/AZ30*BB30) -> 30947.402 | BQ30: =((L30+M30+N30)/AZ30*AX30) +((V30+W30+X30)/T30*BA30) +((L30+M30+N30)/AZ30*BB30) -> 19097.113 | BR30: =BP30+BQ30 -> 50044.515 | BS30: =BH30 -> E194CC-2203-1 | BT30: =P30*BJ30+BL30 -> 3917.6848 | BU30: =(Q30+R30+S30)*BJ30 -> 3267.7552 | BV30: =BT30+BU30 -> 7185.44
A31: 44652 | B31: 39.12 | C31: 100000 | D31: 0.006 | E31: 0.006 | G31: 4.569 | H31: 0.004 | I31: 0.00337 | J31: 85994 | K31: =J31-L31-M31-N31 -> 11163 | L31: 14166 | M31: 59005 | N31: 1660 | O31: 86975 | P31: =O31-Q31-R31-S31 -> 12842.254 | Q31: 13675.888 | R31: 58849.899 | S31: 1606.9593 | T31: 8863 | U31: =T31-V31-W31-X31 -> 5114.3651 | V31: =22800*B31/1000 -> 891.936 | W31: =64027*B31/1000 -> 2504.7362 | X31: =8997*B31/1000 -> 351.96264 | Z31: 958 598 | AA31: 100000 | AB31: 598 | AD31: 2775 | AF31: 7083.33 | AG31: =AB31*E30 -> 3.588 | AI31: 4 | AL31: =AD31*E31 -> 16.65 | AM31: =AE31*F31 -> 0 | AN31: 14 | AT31: =AF31+AL31+AG31+AM31 -> 7103.568 | AX31: 2061.15 | AY31: 8863 | AZ31: =SUM(K31:N31) -> 85994 | BA31: =AY31*G31 -> 40495.047 | BB31: =AZ31*H31 -> 343.976 | BC31: 289 | BF31: =AX31+BA31+BB31 -> 42900.173 | BH31: E194CC-2204-1 | BI31: =SUM(P31:S31) -> 86975 | BJ31: 0.04 | BK31: =BI31*BJ31 -> 3479 | BL31: 3078.4 | BO31: =Z31 -> 958 598 | BP31: =AT31 +(K31/AZ31*AX31) +((T31-V31-W31-X31)/T31*BA31) +(K31/AZ31*BB31) -> 30783.315 | BQ31: =((L31+M31+N31)/AZ31*AX31) +((V31+W31+X31)/T31*BA31) +((L31+M31+N31)/AZ31*BB31) -> 19220.426 | BR31: =BP31+BQ31 -> 50003.741 | BS31: =BH31 -> E194CC-2204-1 | BT31: =P31*BJ31+BL31 -> 3592.0902 | BU31: =(Q31+R31+S31)*BJ31 -> 2965.3098 | BV31: =BT31+BU31 -> 6557.4
A32: 44682 | B32: 39.12 | C32: 100000 | D32: 0.006 | E32: 0.006 | G32: 4.569 | H32: 0.004 | I32: 0.00337 | J32: 76025 | K32: =J32-L32-M32-N32 -> 5476 | L32: 11359 | M32: 58400 | N32: 790 | O32: 74727 | P32: =O32-Q32-R32-S32 -> 4241.2237 | Q32: 11554.015 | R32: 58143.712 | S32: 788.04932 | T32: 8863 | U32: =T32-V32-W32-X32 -> 5114.3651 | V32: =22800*B32/1000 -> 891.936 | W32: =64027*B32/1000 -> 2504.7362 | X32: =8997*B32/1000 -> 351.96264 | Z32: 961 359 | AA32: 100000 | AB32: 23250 | AC32: 2088 | AF32: 7083.33 | AG32: =AB32*E31 -> 139.5 | AH32: =AC32*0.041 -> 85.608 | AI32: 155 | AJ32: 7 | AL32: =AD32*E32 -> 0 | AM32: =AE32*F32 -> 0 | AT32: =AF32+AL32+AG32+AM32 -> 7222.83 | AX32: 2061.15 | AY32: 8863 | AZ32: =SUM(K32:N32) -> 76025 | BA32: =AY32*G32 -> 40495.047 | BB32: =AZ32*H32 -> 304.1 | BC32: 252 | BF32: =AX32+BA32+BB32 -> 42860.297 | BH32: E194CC-2205-1 | BI32: =SUM(P32:S32) -> 74727 | BJ32: 0.04 | BK32: =BI32*BJ32 -> 2989.08 | BL32: 3078.4 | BO32: =Z32 -> 961 359 | BP32: =AT32 +(K32/AZ32*AX32) +((T32-V32-W32-X32)/T32*BA32) +(K32/AZ32*BB32) -> 30760.731 | BQ32: =((L32+M32+N32)/AZ32*AX32) +((V32+W32+X32)/T32*BA32) +((L32+M32+N32)/AZ32*BB32) -> 19322.396 | BR32: =BP32+BQ32 -> 50083.127 | BS32: =BH32 -> E194CC-2205-1 | BT32: =P32*BJ32+BL32 -> 3248.0489 | BU32: =(Q32+R32+S32)*BJ32 -> 2819.4311 | BV32: =BT32+BU32 -> 6067.48
A33: 44713 | B33: 39.12 | C33: 100000 | D33: 0.006 | E33: 0.006 | G33: 4.569 | H33: 0.004 | I33: 0.00337 | J33: 52124 | K33: =J33-L33-M33-N33 -> 1500 | L33: 11314 | M33: 38650 | N33: 660 | O33: 53245 | P33: =O33-Q33-R33-S33 -> 2023.9986 | Q33: 11464.74 | R33: 39067.407 | S33: 688.8543 | T33: 8863 | U33: =T33-V33-W33-X33 -> 5114.3651 | V33: =22800*B33/1000 -> 891.936 | W33: =64027*B33/1000 -> 2504.7362 | X33: =8997*B33/1000 -> 351.96264 | Z33: 964 935 | AA33: 100000 | AB33: 19470 | AF33: 7083.33 | AG33: =AB33*E32 -> 116.82 | AL33: =AD33*E33 -> 0 | AM33: =AE33*F33 -> 0 | AT33: =AF33+AL33+AG33+AM33 -> 7200.15 | AX33: 2061.15 | AY33: 8863 | AZ33: =SUM(K33:N33) -> 52124 | BA33: =AY33*G33 -> 40495.047 | BB33: =AZ33*H33 -> 208.496 | BC33: 163 | BF33: =AX33+BA33+BB33 -> 42764.693 | BH33: E194CC-2206-1 | BI33: =SUM(P33:S33) -> 53245 | BJ33: 0.04 | BK33: =BI33*BJ33 -> 2129.8 | BL33: 3078.4 | BO33: =Z33 -> 964 935 | BP33: =AT33 +(K33/AZ33*AX33) +((T33-V33-W33-X33)/T33*BA33) +(K33/AZ33*BB33) -> 30632.999 | BQ33: =((L33+M33+N33)/AZ33*AX33) +((V33+W33+X33)/T33*BA33) +((L33+M33+N33)/AZ33*BB33) -> 19331.844 | BR33: =BP33+BQ33 -> 49964.843 | BS33: =BH33 -> E194CC-2206-1 | BT33: =P33*BJ33+BL33 -> 3159.3599 | BU33: =(Q33+R33+S33)*BJ33 -> 2048.8401 | BV33: =BT33+BU33 -> 5208.2
A34: 44743 | B34: 39.12 | C34: 100000 | D34: 0.006 | E34: 0.006 | G34: 4.569 | H34: 0.004 | I34: 0.00337 | J34: 52262 | K34: =J34-L34-M34-N34 -> 775 | L34: 11877 | M34: 39020 | N34: 590 | O34: 53859 | P34: =O34-Q34-R34-S34 -> 3078.8653 | Q34: 11686.275 | R34: 38538.367 | S34: 555.49211 | T34: 8863 | U34: =T34-V34-W34-X34 -> 5114.3651 | V34: =22800*B34/1000 -> 891.936 | W34: =64027*B34/1000 -> 2504.7362 | X34: =8997*B34/1000 -> 351.96264 | Z34: 971 955 | AA34: 100000 | AB34: 13919 | AF34: 7083.33 | AG34: =AB34*E33 -> 83.514 | AL34: =AD34*E34 -> 0 | AM34: =AE34*F34 -> 0 | AT34: =AF34+AL34+AG34+AM34 -> 7166.844 | AX34: 2061.15 | AY34: 8863 | AZ34: =SUM(K34:N34) -> 52262 | BA34: =AY34*G34 -> 40495.047 | BB34: =AZ34*H34 -> 209.048 | BC34: 156 | BF34: =AX34+BA34+BB34 -> 42765.245 | BH34: E194CC-2207-1 | BI34: =SUM(P34:S34) -> 53859 | BJ34: 0.04 | BK34: =BI34*BJ34 -> 2154.36 | BL34: 3078.4 | BO34: =Z34 -> 971 955 | BP34: =AT34 +(K34/AZ34*AX34) +((T34-V34-W34-X34)/T34*BA34) +(K34/AZ34*BB34) -> 30568.043 | BQ34: =((L34+M34+N34)/AZ34*AX34) +((V34+W34+X34)/T34*BA34) +((L34+M34+N34)/AZ34*BB34) -> 19364.046 | BR34: =BP34+BQ34 -> 49932.089 | BS34: =BH34 -> E194CC-2207-1 | BT34: =P34*BJ34+BL34 -> 3201.5546 | BU34: =(Q34+R34+S34)*BJ34 -> 2031.2054 | BV34: =BT34+BU34 -> 5232.76
A35: 44774 | B35: 39.12 | C35: 100000 | D35: 0.006 | E35: 0.006 | G35: 4.569 | H35: 0.004 | I35: 0.00337 | J35: 56427 | K35: =J35-L35-M35-N35 -> 4073 | L35: 13384 | M35: 38270 | N35: 700 | O35: 56190 | P35: =O35-Q35-R35-S35 -> 3185.6926 | Q35: 13686.708 | R35: 38581.352 | S35: 736.24748 | T35: 8863 | U35: =T35-V35-W35-X35 -> 5114.3651 | V35: =22800*B35/1000 -> 891.936 | W35: =64027*B35/1000 -> 2504.7362 | X35: =8997*B35/1000 -> 351.96264 | Z35: 977 916 | AA35: =C35 -> 100000 | AB35: 13670 | AF35: 7083.33 | AG35: =AB35*E34 -> 82.02 | AI35: 91 | AL35: =AD35*E35 -> 0 | AM35: =AE35*F35 -> 0 | AT35: =AF35+AL35+AG35+AM35 -> 7165.35 | AX35: 2061.15 | AY35: =T35 -> 8863 | AZ35: =SUM(K35:N35) -> 56427 | BA35: =AY35*G35 -> 40495.047 | BB35: =AZ35*H35 -> 225.708 | BC35: 176 | BF35: =AX35+BA35+BB35 -> 42781.905 | BH35: E194CC-2208-1 | BI35: =SUM(P35:S35) -> 56190 | BJ35: 0.04 | BK35: =BI35*BJ35 -> 2247.6 | BL35: 3183.07 | BO35: =Z35 -> 977 916 | BP35: =AT35 +(K35/AZ35*AX35) +((T35-V35-W35-X35)/T35*BA35) +(K35/AZ35*BB35) -> 30697.954 | BQ35: =((L35+M35+N35)/AZ35*AX35) +((V35+W35+X35)/T35*BA35) +((L35+M35+N35)/AZ35*BB35) -> 19249.301 | BR35: =BP35+BQ35 -> 49947.255 | BS35: =BH35 -> E194CC-2208-1 | BT35: =P35*BJ35+BL35 -> 3310.4977 | BU35: =(Q35+R35+S35)*BJ35 -> 2120.1723 | BV35: =BT35+BU35 -> 5430.67
A36: 44805 | B36: 39.12 | C36: 100000 | D36: 0.006 | E36: 0.006 | G36: 4.569 | H36: 0.004 | I36: 0.00337 | J36: 50955 | K36: =J36-L36-M36-N36 -> 3407 | L36: 15421 | M36: 31497 | N36: 630 | O36: 51426 | P36: =O36-Q36-R36-S36 -> 3827.8211 | Q36: 15332.243 | R36: 31668.561 | S36: 597.37445 | T36: 8863 | U36: =T36-V36-W36-X36 -> 5114.3651 | V36: =22800*B36/1000 -> 891.936 | W36: =64027*B36/1000 -> 2504.7362 | X36: =8997*B36/1000 -> 351.96264 | Z36: 986 545 | AA36: =C36 -> 100000 | AB36: 13343 | AF36: 7083.33 | AG36: =AB36*E35 -> 80.058 | AI36: 90 | AL36: =AD36*E36 -> 0 | AM36: =AE36*F36 -> 0 | AT36: =AF36+AL36+AG36+AM36 -> 7163.388 | AX36: 2061.15 | AY36: =T36 -> 8863 | AZ36: =SUM(K36:N36) -> 50955 | BA36: =AY36*G36 -> 40495.047 | BB36: =AZ36*H36 -> 203.82 | BC36: 160 | BF36: =AX36+BA36+BB36 -> 42760.017 | BH36: E194CC-2209-1 | BI36: =SUM(P36:S36) -> 51426 | BJ36: 0.04 | BK36: =BI36*BJ36 -> 2057.04 | BL36: 3183.07 | BO36: =Z36 -> 986 545 | BP36: =AT36 +(K36/AZ36*AX36) +((T36-V36-W36-X36)/T36*BA36) +(K36/AZ36*BB36) -> 30682.365 | BQ36: =((L36+M36+N36)/AZ36*AX36) +((V36+W36+X36)/T36*BA36) +((L36+M36+N36)/AZ36*BB36) -> 19241.04 | BR36: =BP36+BQ36 -> 49923.405 | BS36: =BH36 -> E194CC-2209-1 | BT36: =P36*BJ36+BL36 -> 3336.1828 | BU36: =(Q36+R36+S36)*BJ36 -> 1903.9272 | BV36: =BT36+BU36 -> 5240.11
A37: =EOMONTH(A36,0)+1 -> 44835 | B37: 39.12 | C37: 100000 | D37: 0.006 | E37: 0.006 | G37: 4.569 | H37: 0.004 | I37: 0.00337 | J37: 89993 | K37: =J37-L37-M37-N37 -> 25894 | L37: 15989 | M37: 47340 | N37: 770 | O37: 91003 | P37: =O37-Q37-R37-S37 -> 26966 | Q37: 15814 | R37: 47448 | S37: 775 | T37: 8863 | U37: =T37-V37-W37-X37 -> 5114.3651 | V37: =22800*B37/1000 -> 891.936 | W37: =64027*B37/1000 -> 2504.7362 | X37: =8997*B37/1000 -> 351.96264 | Z37: 993 085 | AA37: =C37 -> 100000 | AB37: 0 | AD37: 0 | AF37: 7083.33 | AG37: =AB37*E36 -> 0 | AI37: 0 | AL37: =AD37*E37 -> 0 | AM37: =AE37*F37 -> 0 | AN37: 0 | AT37: =AF37+AL37+AG37+AM37 -> 7083.33 | AX37: 2061.15 | AY37: =T37 -> 8863 | AZ37: =SUM(K37:N37) -> 89993 | BA37: =AY37*G37 -> 40495.047 | BB37: =AZ37*H37 -> 359.972 | BC37: 304 | BF37: =AX37+BA37+BB37 -> 42916.169 | BH37: E194CC-2210-1 | BI37: =SUM(P37:S37) -> 91003 | BJ37: 0.04 | BK37: =BI37*BJ37 -> 3640.12 | BL37: 3183.07 | BM37: =2+70000 -> 70002 | BO37: =Z37 -> 993 085 | BP37: =AT37 +(K37/AZ37*AX37) +((T37-V37-W37-X37)/T37*BA37) +(K37/AZ37*BB37) -> 31147.502 | BQ37: =((L37+M37+N37)/AZ37*AX37) +((V37+W37+X37)/T37*BA37) +((L37+M37+N37)/AZ37*BB37) -> 18851.997 | BR37: =BP37+BQ37 -> 49999.499 | BS37: =BH37 -> E194CC-2210-1 | BT37: =P37*BJ37+BL37 -> 4261.71 | BU37: =(Q37+R37+S37)*BJ37 -> 2561.48 | BV37: =BT37+BU37 -> 6823.19
A38: =EOMONTH(A37,0)+1 -> 44866 | B38: 39.12 | C38: 100000 | D38: 0.006 | E38: 0.006 | G38: 4.569 | H38: 0.004 | I38: 0.00806 | J38: 105774 | K38: =J38-L38-M38-N38 -> 36486 | L38: 15301 | M38: 52540 | N38: 1447 | O38: 103758 | P38: =O38-Q38-R38-S38 -> 34443.827 | Q38: 15302.485 | R38: 52498.413 | S38: 1513.2751 | T38: 8863 | U38: =T38-V38-W38-X38 -> 5114.3651 | V38: =22800*B38/1000 -> 891.936 | W38: =64027*B38/1000 -> 2504.7362 | X38: =8997*B38/1000 -> 351.96264 | Z38: 999 184 | AA38: =C38 -> 100000 | AB38: 0 | AD38: 6701 | AF38: 7083.33 | AG38: =AB38*E37 -> 0 | AI38: 0 | AL38: =AD38*E38 -> 40.206 | AM38: =AE38*F38 -> 0 | AN38: 45 | AT38: =AF38+AL38+AG38+AM38 -> 7123.536 | AX38: 2061.15 | AY38: =T38 -> 8863 | AZ38: =SUM(K38:N38) -> 105774 | BA38: =AY38*G38 -> 40495.047 | BB38: =AZ38*H38 -> 423.096 | BC38: 838 | BF38: =AX38+BA38+BB38 -> 42979.293 | BH38: E194CC-2211-1 | BI38: =SUM(P38:S38) -> 103758 | BJ38: 0.04 | BK38: =BI38*BJ38 -> 4150.32 | BL38: 3183.07 | BM38: =BM37-BL38-BK38 -> 62668.61 | BO38: =Z38 -> 999 184 | BP38: =AT38 +(K38/AZ38*AX38) +((T38-V38-W38-X38)/T38*BA38) +(K38/AZ38*BB38) -> 31347.993 | BQ38: =((L38+M38+N38)/AZ38*AX38) +((V38+W38+X38)/T38*BA38) +((L38+M38+N38)/AZ38*BB38) -> 18754.836 | BR38: =BP38+BQ38 -> 50102.829 | BS38: =BH38 -> E194CC-2211-1 | BT38: =P38*BJ38+BL38 -> 4560.8231 | BU38: =(Q38+R38+S38)*BJ38 -> 2772.5669 | BV38: =BT38+BU38 -> 7333.39
A39: =EOMONTH(A38,0)+1 -> 44896 | B39: =B38 -> 39.12 | C39: 100000 | D39: 0.006 | E39: 0.006 | G39: 4.569 | H39: 0.004 | I39: 0.00806 | J39: 113942 | K39: =J39-L39-M39-N39 -> 39430 | L39: 15629 | M39: 56540 | N39: 2343 | O39: 113245 | P39: =O39-Q39-R39-S39 -> 39297.318 | Q39: 15818.299 | R39: 55927.254 | S39: 2202.1294 | T39: 8863 | U39: =T39-V39-W39-X39 -> 5114.3651 | V39: =22800*B39/1000 -> 891.936 | W39: =64027*B39/1000 -> 2504.7362 | X39: =8997*B39/1000 -> 351.96264 | Z39: 1006658 | AA39: =C39 -> 100000 | AB39: 0 | AD39: 19793 | AF39: 7083.33 | AG39: =AB39*E38 -> 0 | AI39: 0 | AL39: =AD39*E39 -> 118.758 | AM39: =AE39*F39 -> 0 | AN39: 123 | AT39: =AF39+AL39+AG39+AM39 -> 7202.088 | AX39: 2061.15 | AY39: =T39 -> 8863 | AZ39: =J39 -> 113942 | BA39: =AY39*G39 -> 40495.047 | BB39: =AZ39*H39 -> 455.768 | BC39: 913 | BF39: =AX39+BA39+BB39 -> 43011.965 | BH39: E194CC-2212-1 | BI39: =O39 -> 113245 | BJ39: 0.04 | BK39: =BI39*BJ39 -> 4529.8 | BL39: 3183.07 | BM39: =BM38-BL39-BK39 -> 54955.74 | BO39: =Z39 -> 1006658 | BP39: =AT39 +(K39/AZ39*AX39) +((T39-V39-W39-X39)/T39*BA39) +(K39/AZ39*BB39) -> 31440.61 | BQ39: =((L39+M39+N39)/AZ39*AX39) +((V39+W39+X39)/T39*BA39) +((L39+M39+N39)/AZ39*BB39) -> 18773.443 | BR39: =BP39+BQ39 -> 50214.053 | BS39: =BH39 -> E194CC-2212-1 | BT39: =P39*BJ39+BL39 -> 4754.9627 | BU39: =(Q39+R39+S39)*BJ39 -> 2957.9073 | BV39: =BT39+BU39 -> 7712.87
