Workbook
Name Table_1_b.__Annual_LRAMVA_Breakdown_by_Year_and_Rate_Class: '1. LRAMVA Summary'!$B$47
Name Table_3.__Inputs_for_Distribution_Rates_and_Adjustments_by_Rate_Class: '3. Distribution Rates'!$B$11
Name Table_3_a.__Distribution_Rates_by_Rate_Class: '3. Distribution Rates'!$B$119
Name Table_4_a.__2011_Lost_Revenues_Work_Form: '4. 2011-2014 LRAM'!$B$18
Name Table_4_b.__2012_Lost_Revenues_Work_Form: '4. 2011-2014 LRAM'!$B$157
Name Table_4_c.__2013_Lost_Revenues_Work_Form: '4. 2011-2014 LRAM'!$B$294
Name Table_4_d.__2014_Lost_Revenues_Work_Form: '4. 2011-2014 LRAM'!$B$431
Name Table_5_a.__2015_Lost_Revenues_Work_Form: '5. 2015-2027 LRAM'!$B$33
Name Table_5_b.__2016_Lost_Revenues_Work_Form: '5. 2015-2027 LRAM'!$B$224
Name Table_5_c.__2017_Lost_Revenues_Work_Form: '5. 2015-2027 LRAM'!$B$415
Name Table_5_d.__2018_Lost_Revenues_Work_Form: '5. 2015-2027 LRAM'!$B$606
Name Table_5_e.__2019_Lost_Revenues_Work_Form: '5. 2015-2027 LRAM'!$B$797
Name Table_5_f.__2020_Lost_Revenues_Work_Form: '5. 2015-2027 LRAM'!$B$992
Name Table_5_g.__2021_Lost_Revenues_Work_Form: '5. 2015-2027 LRAM'!$B$1187
Name Table_5_h.__2022_Lost_Revenues_Work_Form: '5. 2015-2027 LRAM'!$B$1381
Name Table_5_i.__2023_Lost_Revenues_Work_Form: '5. 2015-2027 LRAM'!$B$1578
Name Table_5_j.__2024_Lost_Revenues_Work_Form: '5. 2015-2027 LRAM'!$B$1604
Name Table_5_k.__2025_Lost_Revenues_Work_Form: '5. 2015-2027 LRAM'!$B$1630
Name Table_5_l.__2026_Lost_Revenues_Work_Form: '5. 2015-2027 LRAM'!$B$1657
Name Table_5_m.__2027_Lost_Revenues_Work_Form: '5. 2015-2027 LRAM'!$B$1684
Name Targets: '[1]LDC Targets'!$A$3:$D$83

Sheet Contents
B3: Generic LRAMVA Work Forms
B5: Worksheet Name | C5: Description
B6: 1. LRAMVA Summary | C6: Tables 1-a and 1-b provide a summary of the LRAMVA balances and carrying charges associated with the LRAMVA disposition. Table 1c provides a summary of prospective LRAM-eligible amounts related to persisting CDM savings for all years until the LDC's next rebasing application. The balances are populated from entries into other tabs throughout this work form.
B7: 1-a. Summary of Changes | C7: Tables A-1 and A-2 include a template for LDCs to summarize changes to the LRAMVA work form.
B8: 2. LRAMVA Threshold | C8: Tables 2-a, 2-b and 2-c include the LRAMVA thresholds and allocations by rate class.
B9: 3. Distribution Rates | C9: Tables 3-a and 3-b include the distribution rates that are used to calculate lost revenues.
B10: 4. 2011-2014 LRAM | C10: Tables 4-a, 4-b, 4-c and 4-d include the template 2011-2014 LRAMVA work forms.
B11: 5. 2015-2027 LRAM | C11: Tables 5-a, 5-b, 5-c, 5-d, 5-e, 5-f, 5-g, 5-h, 5-i, 5-j, 5-k, 5-l and 5-m include the template 2015-2027 LRAMVA work forms.
B12: 6. Carrying Charges | C12: Table 6-b includes the variance on carrying charges related to the LRAMVA disposition.
B14: 7. Persistence Report | C14: A blank spreadsheet is provided to allow LDCs to populate with CDM savings persistence data provided by the IESO.
B16: 8. Streetlighting | C16: A blank spreadsheet is provided to allow LDCs to populate data on streetlighting projects whose savings were not provided by the IESO in the CDM Final Results Report (i.e., streetlighting projects).

Sheet Instructions
B16: Tab | C16: Instructions
B18: Updates | C18: Version 1.1 published June 3, 2022
B19: No. | C19: Reference | H19: Description of Version 1.0 | O19: Update in Version 1.1
B20: 1 | C20: Tab 4, Rows 422-424 | H20: Rows labelled as 2013 Savings Persisting in 2024-2027 | O20: Corrected labelling to 2013 Savings Persisting in 2023-2026
B21: 2 | C21: Tab 4, Row 425 | H21: No row for 2013 Savings Persisting in 2027 | O21: Added new row for 2013 Savings Persisting in 2027
B22: 3 | C22: Tab 4, Rows, 555 to 561 (Columns AO:AZ) | H22: Formulae referenced the wrong year for persisting savings | O22: Formulae corrected to retrieve correct persisting savings data
B23: 4 | C23: Tab 5, Rows 591, 596-599 (Columns AG:AS) | H23: Formulae referenced the wrong rate allocation range | O23: Formulae corrected to match other rows in this range
B24: 5 | C24: Tab 5, Rows 781:789 (Column AF) | H24: Formulae referenced savings one year later than intended | O24: Formulae corrected to retrieve data from correct program year
B25: 6 | C25: Tab 5, Row 977 (Columns AI:AR) | H25: Formulae referenced incorrect cell to determine billing unit | O25: Formulae corrected to retrieve correct billing unit information
B26: 7 | C26: Tab 6, C57:C60, H156:H191 | H26: Cells did not include published OEB interest rates from 2021 Q3 to 2022 Q2 | O26: Cells updated to include published OEB interest rates from 2021 Q3 to 2022 Q2
B28: Updates | C28: Version 1.2 published June 9, 2022
B29: No. | C29: Reference | H29: Description of Version 1.1 | O29: Update in Version 1.2
B30: 1 | C30: Tab 5, Rows 596 to 599 (Columns AG:AR) | H30: Formulae referenced incorrect cell to determine billing unit | O30: Formulae corrected to retrieve correct billing unit information
B31: 2 | C31: Tab 5, Rows 1632, 1659, 1686 (Columns AE:AS) | H31: Formulae referenced the wrong year for forecast savings | O31: Formulae corrected to retrieve correct forecast savings data
B32: 3 | C32: Tab 6, I165:V176, I180:V191 | H32: Formulae referenced the wrong year of total LRAMVA balance | O32: Formulae corrected to retrieve correct year of total LRAMVA balance
B33: LRAMVA Checklist/Schematic Tab | C33: The LRAMVA work form was created in a generic manner for use by all LDCs. Distributors should follow the checklist, which is referenced in this tab of the work form and listed below:
C35: o Highlight changes to this work form made by the LDC, if any, and provide rationale for the change in Tab 1-a.
C37: o Include any necessary assumptions the LDC has to make in its LRAMVA work form in the "Notes" section of the work form.
C39: o Provide documentation on the LRAMVA threshold by providing the reference and source material from the LDC’s cost of service proceeding where its most recent load forecast was approved.
C41: o Include a copy of initiative-level persistence savings information that was verified by the IESO. Persistence information is available upon request from the IESO.
C43: o Apply the IESO verified savings adjustments to the year it relates to. For example, savings adjustments to 2015 programs will be provided to LDCs with the 2016 Final Results Report. The 2015 savings adjustments should be included in the 2015 verified savings portion of the work form.
C45: o Provide documentation or data substantiating savings from projects that were not provided in the IESO's verified results reports, inserted in Tab 8 (i.e., streetlighting projects), as applicable.
C47: o Provide documentation or analysis on how rate class allocations were determined by customer class and program each year, inserted in Tab 3-a.
B49: Tab 1. LRAMVA Summary | C49: Distributors are required to report any past approved LRAMVA amounts along with the current LRAMVA amount requested for approval. Distributors are also expected to provide prospective LRAM-eligible amounts related to persisting CDM savings for all years until their next rebasing application.There are separate tables indicating new lost revenues and carrying charges amounts by year and the totals for rate rider calculations.
B51: Tab 1-a. Summary of Changes | C51: Distributors should list all significant changes and changes in assumptions in the generic work form affecting the LRAMVA.
B53: Tab 2. LRAMVA Threshold | C53: Distributors should use the tables to display the LRAMVA threshold amounts as approved at a rate class level. This should be taken from the LDC’s most recently approved cost of service application.
B55: Tab 3. Distribution Rates | C55: Distributors should complete the tables with rate class specific distribution rates and adjustments as applicable.
B58: Tabs 4 and 5 (2011-to Next COS) | C58: Distributors should complete the lost revenue calculation for 2011-2014 program years and 2015-2022 program years and persisting savings until distributors next cost of service application, as applicable, by undertaking the following:
C60: o Input or manually link the savings, adjustments and program savings persistence data from Tab 7 (Persistence Report) to Tabs 4 and 5. As noted earlier, persistence data is available upon request from the IESO.
C62: o Ensure that the IESO verified savings adjustments apply to the program year it relates to. For example, savings adjustments related to 2012 programs that were reported by the IESO in 2013 should be included in the 2012 program savings table.
C64: o Confirm the monthly multipliers applied to demand savings. If a different monthly multiplier is used than what was confirmed in the LRAMVA Report, provide rationale in Tab 1-a and highlight the new monthly multiplier that has been used.
C66: o Input the rate class allocations by program and year to allocate actual savings to customers. If a different allocation is proposed for adjustments, LDCs must provide the supporting rationale in Tab 1-a and highlight the change.
C68: o Provide assumptions about the year(s) in which persistence is captured in the load forecast via the "Notes" section of each table and adjust what is included in the LRAMVA totals, as appropriate.
B70: Tab 6. Carrying Charges | C70: Distributors are requested to calculate carrying charges based on the methodology provided in the work form. This includes updating Table 6 as new prescribed interest rates for deferral and variance accounts become available and entering any collected interest amounts into the "Amounts Cleared" row to calculate outstanding variances on carrying charges. Carrying charges are not to be calculated for prospective LRAM-eligible amounts that relate to the persisting savings from CDM programs until the LDCs next cost-of-service application.
B72: Tab 7. Persistence Report | C72: Persistence savings report(s) provided by the IESO should be included for the relevant years in the LRAMVA work form. Tab 7 has been created consistently with the IESO’s persistence report.
B74: Tab 8. Streetlighting | C74: A tab is provided to ensure LDCs include documentation or data to support projects whose program savings were not provided by the IESO (i.e., streetlighting projects).

Sheet LRAMVA Checklist Schematic
B3: General Note on the LRAMVA Model The LRAMVA work form has been created in a generic manner that should allow for use by all LDCs. This LRAMVA work form consolidates information that LDCs are already required to file with the OEB. The model has been created to provide LDCs with a consistent format to display CDM impacts, the forecast savings component and, ultimately, any variance between actual CDM savings and forecast CDM savings. Additionally, LDCs are also able to calculate prospective LRAM-eligible amounts, consistent with guidance provided in the 2021 CDM Guidelines. The majority of the information required in the LRAMVA work form will be provided to LDCs from the IESO as part of the Final CDM Results and Participation and Cost Report. Please contact the IESO for any reports that may be required to complete this LRAMVA work form. The LRAMVA work form is unlocked to enable LDCs to tailor it to their own unique circumstances.
B8: LRAMVA ($) = (Actual Net CDM Savings - Forecast CDM Savings) x Distribution Volumetric Rate + Carrying Charges from LRAMVA balance
B10: Legend | C10: Drop Down List (Blue)
B12: Important Checklist
C13: o Highlight changes to this work form made by the LDC, if any, and provide rationale for the change in Tab 1-a
C14: o Include any necessary assumptions the LDC has to make in its LRAMVA work form in the "Notes" section of the work form
C15: o Provide documentation on the LRAMVA threshold by providing the reference and source material from the LDC’s cost of service proceeding where its most recent load forecast was approved
C16: o Include a copy of initiative-level persistence savings information that was verified by the IESO in Tab 7. Persistence information is available upon request from the IESO
C17: o Apply the IESO verified savings adjustments to the year it relates to.
C18: o Provide documentation or data substantiating savings from projects that were not provided in the IESO's verified results reports, inserted in Tab 8 (i.e., streetlighting projects), as applicable
B20: Work Form Calculations | C20: Source of Calculation | D20: Inputs (Tables to Complete) | E20: Source of Data Inputs | F20: Outputs of Data (Auto-Populated)
B21: Actual Incremental CDM Savings by Initiative | C21: Tabs "4. 2011-2014 LRAM" and "5. 2015-2027 LRAM" | D21: Tables 4-a to 4-d / 5-a to 5-f (Columns D & O) | E21: IESO Verified Persistence Results Reports included in Tab 7 (Columns L to BT). | F21: Tables 4-a to 4-d / 5-a to 5-f (Columns Y-AL)
B22: +/- IESO Verified Savings Adjustments | C22: Tab "4. 2011-2014 LRAM" and "5. 2015-2027 LRAM" | D22: Tables 4-a to 4-d / 5-a to 5-f (Columns D-M & Columns O-X) | E22: IESO Verified Persistence Results Reports included in Tab 7 (Columns L to BT). | F22: Tables 4-a to 4-d / 5-a to 5-f (Columns Y-AL)
B23: + Initiative Level Savings Persistence | C23: Tab "4. 2011-2014 LRAM" and "5. 2015-2027 LRAM" | D23: Tables 4-a to 4-d / 5-a to 5-f (Columns E-M & Columns P-X) | E23: IESO Verified Persistence Results Reports included in Tab 7 (Columns L to BT). | F23: Tables 4-a to 4-d / 5-a to 5-f (Columns Y-AL)
B24: x Allocation % to Rate Class | C24: Tabs "4. 2011-2014 LRAM" and "5. 2015-2027 LRAM" | D24: Tables 4-a to 4-d / 5-a to 5-f (Columns Y-AJ) | E24: Determined by the LDC
B25: Actual Lost Revenues (kWh and kW) by Rate Class | C25: Tabs "4. 2011-2014 LRAM" and "5. 2015-2027 LRAM"
B26: - Forecast Lost Revenues (kWh and kW) by Rate Class | C26: Tabs "4. 2011-2014 LRAM" and "5. 2015-2027 LRAM" | D26: Tab "2. LRAMVA Threshold" Tables 2-a, 2-b and 2-c
B27: x Distribution Rate by Rate Class | C27: Tab "3. Distribution Rates" | D27: Table 3 | E27: LDC's Approved Tariff Sheets
B28: LRAMVA ($) by Rate Class | C28: Tabs "4. 2011-2014 LRAM" and "5. 2015-2027 LRAM" | F28: Tables 1-a and 1-b
B29: + Carrying Charges ($) by Rate Class | C29: Tabs "1. LRAMVA Summary" and "6. Carrying Charges" | D29: Table 6 | F29: Table 6-a
B30: Total LRAMVA ($) by Rate Class | C30: Tab "1. LRAMVA Summary"

Sheet DropDownList
A1: Service Classifications | B1: Billing Unit | C1: Year | D1: Response | E1: Threshold | F1: Tabs | G1: Source of Persistence Reports | H1: Record
A2: Residential | B2: kWh | C2: 2006 | D2: Yes | E2: ='2. LRAMVA Threshold'!D9 -> 2013 | F2: 1. LRAMVA Summary | G2: 2011 Results Persistence | H2: Current year savings
A3: GS<50 kW | B3: kWh | C3: 2007 | D3: No | E3: ='2. LRAMVA Threshold'!D24 -> 0 | F3: 2. LRAMVA Threshold | G3: 2012 Results Persistence | H3: Adjustment
A4: GS>50 kW | B4: kW | C4: 2008 | D4: Not Applicable | F4: 3. Distribution Rates | G4: 2013 Results Persistence
A5: General Service ≥ 1,000 kW | B5: kW | C5: 2009 | F5: 4. 2011-2014 LRAM | G5: 2014 Results Persistence
A6: General Service ≥ 1,500 kW | B6: kW | C6: 2010 | F6: 5. 2015-2020 LRAM | G6: 2015 Results Persistence
A7: General Service 1,000 kW and Greater | B7: kW | C7: 2011 | F7: 6. Carrying Charges | G7: 2016 Results Persistence
A8: General Service 1,000 to 4,999 kW | B8: kW | C8: 2012 | F8: 7. Persistence Data | G8: 2017 Results Persistence
A9: General Service 1,000 to 4,999 kW (co-generation) | B9: kW | C9: 2013 | G9: 2018 Results Persistence
A10: General Service 1,500 to 4,999 kW | B10: kW | C10: 2014 | G10: 2019 Results Persistence
A11: General Service 3,000 to 4,999 kW | B11: kW | C11: 2015 | G11: 2020 Results Persistence
A12: General Service 50 to 1,499 kW | B12: kW | C12: 2016
A13: General Service 50 to 2,999 kW | B13: kW | C13: 2017
A14: General Service 50 to 4,999 kW | B14: kW | C14: 2018
A15: General Service 50 to 499 kW | B15: kW | C15: 2019
A16: General Service 50 to 699 kW | B16: kW | C16: 2020
A17: General Service 50 to 999 kW | B17: kW
A18: General Service 500 to 1,499 kW | B18: kW
A19: General Service 500 to 4,999 kW | B19: kW
A20: General Service 700 to 4,999 kW | B20: kW
A21: General Service Demand Billed (50 kW and above) - GSd | B21: kW
A22: General Service Intermediate 1,000 to 4,999 kW | B22: kW
A23: Intermediate With Self Generation | B23: kW
A24: Intermediate With Self Generation - excluding MUSH customers | B24: kW
A25: Sub-Transmission (Embedded supply to LDC or loads > 500 kW) - ST | B25: kW
A26: Unmetered Scattered Load | B26: kWh
A27: Urban General Service Demand Billed (50 kW and above) - UGd | B27: kW
A28: Embedded Distributor | B28: kW
... A40: Street Lighting | B40: kW

Sheet 1.  LRAMVA Summary
B4: Legend | C4: User Inputs (Green)
C5: Auto Populated Cells (White)
C6: Instructions (Grey)
B8: LDC Name | C8: Newmarket-Tay Power Distribution Ltd-Midland rate zone
B9: Application Details
B11: Please fill in the requested information: a) the amounts approved in the previous LRAMVA application, b) details on the current application, and c) documentation of changes if applicable.
B13: A. Previous LRAMVA Application | F13: B. Current LRAMVA Application | J13: C. Documentation of Changes
B14: Previous LRAMVA Application (EB#) | D14: EB-2021-0044 | F14: Current LRAMVA Application (EB#) | H14: EB-2022-0036 | J14: Original Amount
B15: Application of Previous LRAMVA Claim | D15: 2022 IRM Application | F15: Application of Current LRAMVA Claim | H15: 2023 IRM Application | J15: Amount for Final Disposition
B16: Period of LRAMVA Claimed in Previous Application | D16: 2020 | F16: Period of New LRAMVA in this Application | H16: 2021
B17: Amount of LRAMVA Claimed in Previous Application | D17: 45968 | F17: Period of Rate Recovery (# years) | H17: 1
F19: Actual Lost Revenues ($) | G19: A | H19: =SUM(R55,R58,R61,R64,R67,R70,R73,R76,R79,R82, R85, R88) -> 186075.71
F20: Forecast Lost Revenues ($) | G20: B | H20: =-SUM(R56,R59,R62,R65,R68,R71,R74,R77,R80,R83,R86,R89) -> 95600.674
F21: Carrying Charges ($) | G21: C | H21: =R91 -> 2374.661
F22: LRAMVA ($) for Account 1568 | G22: A-B+C | H22: =H19-H20+H21 -> 92849.701
F23: Total LRAM-Eligible Amounts for Prospective Disposition | G23: (Annual amounts to be recovered in future rate applications) | H23: =R125 -> 101202.32
B25: Table 1-a. LRAMVA Totals by Rate Class
B27: Please input the customer rate classes applicable to the LDC and associated billing units (kWh or kW) in Table 1-a below. This will update all tables throughout the workform. The LRAMVA total by rate class in Table 1-a should be used to inform the determination of rate riders in the Deferral and Variance Account Work Form or IRM Rate Generator Model. Please also ensure that the principal amounts in column E of Table 1-a capture the appropriate years and amounts for the LRAMVA claim. Column F of Table 1-a should include projected carrying charges amounts as determined on a rate class basis from Table 1-b below. NOTE: If the LDC has more than 14 customer classes in which CDM savings was allocated, LDCs must contact OEB staff to make adjustments to the workform.
B29: Customer Class | D29: Billing Unit | E29: Principal ($) | F29: Carrying Charges ($) | G29: Total LRAMVA ($)
B30: Residential | D30: kWh | E30: =SUM(D55:D90) -> 0 | F30: =D91 -> 0 | G30: =E30+F30 -> 0
B31: GS<50 kW | D31: kWh | E31: =SUM(E55:E90) -> -37876.761 | F31: =E91 -> -957.7806 | G31: =E31+F31 -> -38834.542
B32: GS>50 KW | D32: kW | E32: =SUM(F55:F90) -> 128351.8 | F32: =F91 -> 3332.4416 | G32: =E32+F32 -> 131684.24
B33: Street Lights | D33: kW | E33: =SUM(G55:G90) -> 0 | F33: =G91 -> 0 | G33: =E33+F33 -> 0
E34: =SUM(H55:H90) -> 0 | F34: =H91 -> 0 | G34: =E34+F34 -> 0
E35: =SUM(I55:I90) -> 0 | F35: =I91 -> 0 | G35: =E35+F35 -> 0
E36: =SUM(J55:J90) -> 0 | F36: =J91 -> 0 | G36: =E36+F36 -> 0
E37: =SUM(K55:K90) -> 0 | F37: =K91 -> 0 | G37: =E37+F37 -> 0
E38: =SUM(L55:L90) -> 0 | F38: =L91 -> 0 | G38: =E38+F38 -> 0
E39: =SUM(M55:M90) -> 0 | F39: =M91 -> 0 | G39: =E39+F39 -> 0
E40: =SUM(N55:N90) -> 0 | F40: =N91 -> 0 | G40: =E40+F40 -> 0
E41: =SUM(O55:O90) -> 0 | F41: =O91 -> 0 | G41: =E41+F41 -> 0
E42: =SUM(P55:P90) -> 0 | F42: =P91 -> 0 | G42: =E42+F42 -> 0
E43: =SUM(Q55:Q90) -> 0 | F43: =Q91 -> 0 | G43: =E43+F43 -> 0
B44: Total | E44: =SUM(E30:E43) -> 90475.04 | F44: =SUM(F30:F43) -> 2374.661 | G44: =SUM(G30:G43) -> 92849.701
B47: Table 1-b. Annual LRAMVA Breakdown by Year and Rate Class
B49: In column C of Table 1-b below, please insert a 'check mark' to indicate the years in which LRAMVA has been claimed. If you inserted a check-mark for a particular year, please delete the amounts associated with the actual and forecast lost revenues for all rate classes for that year, up to and including the total. Any LRAMVA from a prior year that has already been claimed cannot be included in the current LRAMVA disposition, with the exception of the case noted below.
B50: If LDCs are seeking to claim true-up amounts that were previously approved by the OEB, please note that the "Amount Cleared" rows are applicable to the LDC and should be filled out. This may relate to claiming the difference in LRAM approved before the May 19, 2016 Peak Demand Consultation, and the lost revenues that would have been incurred after that consultation, as approved by the OEB. If this is the case, reference to the decision must be noted in the rate application. If this is not the case, LDCs are requested to leave those rows blank.
B51: LDCs are expected to include projected carrying charges amounts in row 90 of Table 1-b below. LDCs should also check accuracy of the years included in the LRAMVA balance in row 92.
B53: Description | C53: LRAMVA Previously Claimed | D53: =IF($B$30<>"",$B$30,"") -> Residential | E53: =IF($B$31<>"",$B$31,"") -> GS<50 kW | F53: =IF($B$32<>"",$B$32,"") -> GS>50 KW | G53: =IF($B$33<>"",$B$33,"") -> Street Lights | H53: =IF($B$34<>"",$B$34,"") | I53: =IF($B$35<>"",$B$35,"") | J53: =IF($B$36<>"",$B$36,"") | K53: =IF($B$37<>"",$B$37,"") | L53: =IF($B$38<>"",$B$38,"") | M53: =IF($B$39<>"",$B$39,"") | N53: =IF($B$40<>"",$B$40,"") | O53: =IF($B$41<>"",$B$41,"") | P53: =IF($B$42<>"",$B$42,"") | Q53: =IF($B$43<>"",$B$43,"") | R53: Total
D54: =D30 -> kWh | E54: =D31 -> kWh | F54: =D32 -> kW | G54: =D33 -> kW | H54: =D34 -> 0 | I54: =D35 -> 0 | J54: =D36 -> 0 | K54: =D37 -> 0 | L54: =D38 -> 0 | M54: =D39 -> 0 | N54: =D40 -> 0 | O54: =D41 -> 0 | P54: =D42 -> 0 | Q54: =D43 -> 0
...

Sheet 1-a.  Summary of Changes
B14: Legend | C14: User Inputs (Green)
C15: Drop Down List (Blue)
C16: Instructions (Grey)
B19: Table A-1. Changes to Generic Assumptions in LRAMVA Work Form
B21: Please document any changes in assumptions made to the generic inputs of the LRAMVA work form. This may include, but are not limited to, the use of different monthly multipliers to claim demand savings from energy efficiency programs; use of different rate allocations between current year savings and prior year savings adjustments; inclusion of additional adjustments affecting distribution rates; etc. All changes should be highlighted in the work form as well.
B23: No. | C23: Tab | D23: Cell Reference | E23: Description | G23: Rationale
B24: 1
B25: 2
B26: 3
B27: 4
B28: 5
B29: 6
B30: 7
B31: 8
B32: 9
B33: 10
B34: etc.
B36: Table A-2. Updates to LRAMVA Disposition
B37: Please document any changes related to interrogatories or questions during the application process that affect the LRAMVA amount.
B39: No. | C39: Tab | D39: Cell Reference | E39: Description | G39: Rationale
B40: 1
B41: 2
B42: 3
B43: 4
B44: 5
B45: 6
B46: 7
B47: 8
B48: 9
B49: 10
B50: etc.

Sheet 2. LRAMVA Threshold
B4: Legend | D4: User Inputs (Green)
D5: Drop Down List (Blue)
D6: Auto Populated Cells (White)
D7: Instructions (Grey)
B9: Table 2-a. LRAMVA Threshold | D9: 2013
B11: Please provide the LRAMVA threshold approved in the cost of service (COS) or custom IR (CIR) application, which is used as the comparator against actual savings in the period of the LRAMVA claim. If a manual update is required to reflect a different allocation of forecast savings that was approved by the OEB, please note the changes and provide rationale for the change in Tab 1-a.
C13: ='1. LRAMVA Summary'!R53 -> Total | D13: ='1. LRAMVA Summary'!D53 -> Residential | E13: ='1. LRAMVA Summary'!E53 -> GS<50 kW | F13: ='1. LRAMVA Summary'!F53 -> GS>50 KW | G13: ='1. LRAMVA Summary'!G53 -> Street Lights | H13: ='1. LRAMVA Summary'!H53 | I13: ='1. LRAMVA Summary'!I53 | J13: ='1. LRAMVA Summary'!J53 | K13: ='1. LRAMVA Summary'!K53 | ... Q13: ='1. LRAMVA Summary'!Q53
D14: ='1. LRAMVA Summary'!D54 -> kWh | E14: ='1. LRAMVA Summary'!E54 -> kWh | F14: ='1. LRAMVA Summary'!F54 -> kW | G14: ='1. LRAMVA Summary'!G54 -> kW | H14: ='1. LRAMVA Summary'!H54 -> 0 | I14: ='1. LRAMVA Summary'!I54 -> 0 | J14: ='1. LRAMVA Summary'!J54 -> 0 | K14: ='1. LRAMVA Summary'!K54 -> 0 | ... Q14: ='1. LRAMVA Summary'!Q54 -> 0
B15: kWh | C15: =SUM(D15:Q15) -> 3299236 | D15: 494885 | E15: 2573404 | F15: 230947
B16: kW | C16: =SUM(D16:Q16) -> 576 | F16: 576
B18: Summary | D18: =IF(D14="kw",HLOOKUP(D14,D14:D16,3,FALSE),HLOOKUP(D14,D14:D16,2,FALSE)) -> 494885 | E18: =IF(E14="kw",HLOOKUP(E14,E14:E16,3,FALSE),HLOOKUP(E14,E14:E16,2,FALSE)) -> 2573404 | F18: =IF(F14="kw",HLOOKUP(F14,F14:F16,3,FALSE),HLOOKUP(F14,F14:F16,2,FALSE)) -> 576 | G18: =IF(G14="kw",HLOOKUP(G14,G14:G16,3,FALSE),HLOOKUP(G14,G14:G16,2,FALSE)) -> 0 | H18: =IF(H14="kw",HLOOKUP(H14,H14:H16,3,FALSE),HLOOKUP(H14,H14:H16,2,FALSE)) -> 0 | I18: =IF(I14="kw",HLOOKUP(I14,I14:I16,3,FALSE),HLOOKUP(I14,I14:I16,2,FALSE)) -> 0 | J18: =IF(J14="kw",HLOOKUP(J14,J14:J16,3,FALSE),HLOOKUP(J14,J14:J16,2,FALSE)) -> 0 | K18: =IF(K14="kw",HLOOKUP(K14,K14:K16,3,FALSE),HLOOKUP(K14,K14:K16,2,FALSE)) -> 0 | ... Q18: =IF(Q14="kw",HLOOKUP(Q14,Q14:Q16,3,FALSE),HLOOKUP(Q14,Q14:Q16,2,FALSE)) -> 0
B20: Years Included in Threshold | C20: 2013-2014
B21: Source of Threshold | C21: 2013 Settlement Agreement, p. 20 of 75
B24: Table 2-b. LRAMVA Threshold
B26: Please provide the LRAMVA threshold approved in the cost of service (COS) or custom IR (CIR) application, which is used as the comparator against actual savings in the period of the LRAMVA claim. The LRAMVA threshold should generally be consistent with the annualized savings targets developed from Appendix 2-I. If a manual update is required to reflect a different allocation of forecast savings that was approved by the OEB, please note the changes and provide rationale for the change in Tab 1-a.
C28: ='1. LRAMVA Summary'!R53 -> Total | D28: ='1. LRAMVA Summary'!D53 -> Residential | E28: ='1. LRAMVA Summary'!E53 -> GS<50 kW | F28: ='1. LRAMVA Summary'!F53 -> GS>50 KW | G28: ='1. LRAMVA Summary'!G53 -> Street Lights | H28: ='1. LRAMVA Summary'!H53 | I28: ='1. LRAMVA Summary'!I53 | J28: ='1. LRAMVA Summary'!J53 | K28: ='1. LRAMVA Summary'!K53 | ... Q28: ='1. LRAMVA Summary'!Q53
D29: ='1. LRAMVA Summary'!D54 -> kWh | E29: ='1. LRAMVA Summary'!E54 -> kWh | F29: ='1. LRAMVA Summary'!F54 -> kW | G29: ='1. LRAMVA Summary'!G54 -> kW | H29: ='1. LRAMVA Summary'!H54 -> 0 | I29: ='1. LRAMVA Summary'!I54 -> 0 | J29: ='1. LRAMVA Summary'!J54 -> 0 | K29: ='1. LRAMVA Summary'!K54 -> 0 | ... Q29: ='1. LRAMVA Summary'!Q54 -> 0
B30: kWh | C30: =SUM(D30:Q30) -> 0
B31: kW | C31: =SUM(D31:Q31) -> 0
B33: Summary | D33: =IF(D29="kw",HLOOKUP(D29,D29:D31,3,FALSE),HLOOKUP(D29,D29:D31,2,FALSE)) -> 0 | E33: =IF(E29="kw",HLOOKUP(E29,E29:E31,3,FALSE),HLOOKUP(E29,E29:E31,2,FALSE)) -> 0 | F33: =IF(F29="kw",HLOOKUP(F29,F29:F31,3,FALSE),HLOOKUP(F29,F29:F31,2,FALSE)) -> 0 | G33: =IF(G29="kw",HLOOKUP(G29,G29:G31,3,FALSE),HLOOKUP(G29,G29:G31,2,FALSE)) -> 0 | H33: =IF(H29="kw",HLOOKUP(H29,H29:H31,3,FALSE),HLOOKUP(H29,H29:H31,2,FALSE)) -> 0 | I33: =IF(I29="kw",HLOOKUP(I29,I29:I31,3,FALSE),HLOOKUP(I29,I29:I31,2,FALSE)) -> 0 | J33: =IF(J29="kw",HLOOKUP(J29,J29:J31,3,FALSE),HLOOKUP(J29,J29:J31,2,FALSE)) -> 0 | K33: =IF(K29="kw",HLOOKUP(K29,K29:K31,3,FALSE),HLOOKUP(K29,K29:K31,2,FALSE)) -> 0 | ... Q33: =IF(Q29="kw",HLOOKUP(Q29,Q29:Q31,3,FALSE),HLOOKUP(Q29,Q29:Q31,2,FALSE)) -> 0
B35: Years Included in Threshold
B36: Source of Threshold | C36: 20XX Settlement Agreement, p. X
B39: Table 2-c. Inputs for LRAMVA Thresholds
B40: Please complete Table 2-c below by selecting the appropriate LRAMVA threshold year in column C. The LRAMVA threshold values in Table 2-c will auto-populate from Tables 2-a and 2-b depending on the year selected. If there was no LRAMVA threshold established for a particular year, please select the "blank" option. The LRAMVA threshold values in Table 2-c will be auto-populated in Tabs 4 and 5 of this work form.
B42: Year | C42: LRAMVA Threshold | D42: ='1. LRAMVA Summary'!D53 -> Residential | E42: ='1. LRAMVA Summary'!E53 -> GS<50 kW | F42: ='1. LRAMVA Summary'!F53 -> GS>50 KW | G42: ='1. LRAMVA Summary'!G53 -> Street Lights | H42: ='1. LRAMVA Summary'!H53 | I42: ='1. LRAMVA Summary'!I53 | J42: ='1. LRAMVA Summary'!J53 | K42: ='1. LRAMVA Summary'!K53 | ... Q42: ='1. LRAMVA Summary'!Q53
D43: ='1. LRAMVA Summary'!D54 -> kWh | E43: ='1. LRAMVA Summary'!E54 -> kWh | F43: ='1. LRAMVA Summary'!F54 -> kW | G43: ='1. LRAMVA Summary'!G54 -> kW | H43: ='1. LRAMVA Summary'!H54 -> 0 | I43: ='1. LRAMVA Summary'!I54 -> 0 | J43: ='1. LRAMVA Summary'!J54 -> 0 | K43: ='1. LRAMVA Summary'!K54 -> 0 | ... Q43: ='1. LRAMVA Summary'!Q54 -> 0
B44: 2011 | D44: =IF(ISBLANK($C$44),0,IF($C44=$D$9,HLOOKUP(D43,D14:D18,5,FALSE),HLOOKUP(D43,D29:D33,5,FALSE))) -> 0 | E44: =IF(ISBLANK($C$44),0,IF($C44=$D$9,HLOOKUP(E43,E14:E18,5,FALSE),HLOOKUP(E43,E29:E33,5,FALSE))) -> 0 | F44: =IF(ISBLANK($C$44),0,IF($C44=$D$9,HLOOKUP(F43,F14:F18,5,FALSE),HLOOKUP(F43,F29:F33,5,FALSE))) -> 0 | G44: =IF(ISBLANK($C$44),0,IF($C44=$D$9,HLOOKUP(G43,G14:G18,5,FALSE),HLOOKUP(G43,G29:G33,5,FALSE))) -> 0 | H44: =IF(ISBLANK($C$44),0,IF($C44=$D$9,HLOOKUP(H43,H14:H18,5,FALSE),HLOOKUP(H43,H29:H33,5,FALSE))) -> 0 | I44: =IF(ISBLANK($C$44),0,IF($C44=$D$9,HLOOKUP(I43,I14:I18,5,FALSE),HLOOKUP(I43,I29:I33,5,FALSE))) -> 0 | J44: =IF(ISBLANK($C$44),0,IF($C44=$D$9,HLOOKUP(J43,J14:J18,5,FALSE),HLOOKUP(J43,J29:J33,5,FALSE))) -> 0 | K44: =IF(ISBLANK($C$44),0,IF($C44=$D$9,HLOOKUP(K43,K14:K18,5,FALSE),HLOOKUP(K43,K29:K33,5,FALSE))) -> 0 | ... Q44: =IF(ISBLANK($C$44),0,IF($C44=$D$9,HLOOKUP(Q43,Q14:Q18,5,FALSE),HLOOKUP(Q43,Q29:Q33,5,FALSE))) -> 0
B45: 2012 | D45: =IF(ISBLANK($C$45),0,IF($C$45=$D$9,HLOOKUP(D43,D14:D18,5,FALSE),HLOOKUP(D43,D29:D33,5,FALSE))) -> 0 | E45: =IF(ISBLANK($C$45),0,IF($C$45=$D$9,HLOOKUP(E43,E14:E18,5,FALSE),HLOOKUP(E43,E29:E33,5,FALSE))) -> 0 | F45: =IF(ISBLANK($C$45),0,IF($C$45=$D$9,HLOOKUP(F43,F14:F18,5,FALSE),HLOOKUP(F43,F29:F33,5,FALSE))) -> 0 | G45: =IF(ISBLANK($C$45),0,IF($C$45=$D$9,HLOOKUP(G43,G14:G18,5,FALSE),HLOOKUP(G43,G29:G33,5,FALSE))) -> 0 | H45: =IF(ISBLANK($C$45),0,IF($C$45=$D$9,HLOOKUP(H43,H14:H18,5,FALSE),HLOOKUP(H43,H29:H33,5,FALSE))) -> 0 | I45: =IF(ISBLANK($C$45),0,IF($C$45=$D$9,HLOOKUP(I43,I14:I18,5,FALSE),HLOOKUP(I43,I29:I33,5,FALSE))) -> 0 | J45: =IF(ISBLANK($C$45),0,IF($C$45=$D$9,HLOOKUP(J43,J14:J18,5,FALSE),HLOOKUP(J43,J29:J33,5,FALSE))) -> 0 | K45: =IF(ISBLANK($C$45),0,IF($C$45=$D$9,HLOOKUP(K43,K14:K18,5,FALSE),HLOOKUP(K43,K29:K33,5,FALSE))) -> 0 | ... Q45: =IF(ISBLANK($C$45),0,IF($C$45=$D$9,HLOOKUP(Q43,Q14:Q18,5,FALSE),HLOOKUP(Q43,Q29:Q33,5,FALSE))) -> 0
B46: 2013 | D46: =IF(ISBLANK($C$46),0,IF($C$46=$D$9,HLOOKUP(D43,D14:D18,5,FALSE),HLOOKUP(D43,D29:D33,5,FALSE))) -> 0 | E46: =IF(ISBLANK($C$46),0,IF($C$46=$D$9,HLOOKUP(E43,E14:E18,5,FALSE),HLOOKUP(E43,E29:E33,5,FALSE))) -> 0 | F46: =IF(ISBLANK($C$46),0,IF($C$46=$D$9,HLOOKUP(F43,F14:F18,5,FALSE),HLOOKUP(F43,F29:F33,5,FALSE))) -> 0 | G46: =IF(ISBLANK($C$46),0,IF($C$46=$D$9,HLOOKUP(G43,G14:G18,5,FALSE),HLOOKUP(G43,G29:G33,5,FALSE))) -> 0 | H46: =IF(ISBLANK($C$46),0,IF($C$46=$D$9,HLOOKUP(H43,H14:H18,5,FALSE),HLOOKUP(H43,H29:H33,5,FALSE))) -> 0 | I46: =IF(ISBLANK($C$46),0,IF($C$46=$D$9,HLOOKUP(I43,I14:I18,5,FALSE),HLOOKUP(I43,I29:I33,5,FALSE))) -> 0 | J46: =IF(ISBLANK($C$46),0,IF($C$46=$D$9,HLOOKUP(J43,J14:J18,5,FALSE),HLOOKUP(J43,J29:J33,5,FALSE))) -> 0 | K46: =IF(ISBLANK($C$46),0,IF($C$46=$D$9,HLOOKUP(K43,K14:K18,5,FALSE),HLOOKUP(K43,K29:K33,5,FALSE))) -> 0 | ... Q46: =IF(ISBLANK($C$46),0,IF($C$46=$D$9,HLOOKUP(Q43,Q14:Q18,5,FALSE),HLOOKUP(Q43,Q29:Q33,5,FALSE))) -> 0
B47: 2014 | D47: =IF(ISBLANK($C$47),0,IF($C$47=$D$9,HLOOKUP(D43,D14:D18,5,FALSE),HLOOKUP(D43,D29:D33,5,FALSE))) -> 0 | E47: =IF(ISBLANK($C$47),0,IF($C$47=$D$9,HLOOKUP(E43,E14:E18,5,FALSE),HLOOKUP(E43,E29:E33,5,FALSE))) -> 0 | F47: =IF(ISBLANK($C$47),0,IF($C$47=$D$9,HLOOKUP(F43,F14:F18,5,FALSE),HLOOKUP(F43,F29:F33,5,FALSE))) -> 0 | G47: =IF(ISBLANK($C$47),0,IF($C$47=$D$9,HLOOKUP(G43,G14:G18,5,FALSE),HLOOKUP(G43,G29:G33,5,FALSE))) -> 0 | H47: =IF(ISBLANK($C$47),0,IF($C$47=$D$9,HLOOKUP(H43,H14:H18,5,FALSE),HLOOKUP(H43,H29:H33,5,FALSE))) -> 0 | I47: =IF(ISBLANK($C$47),0,IF($C$47=$D$9,HLOOKUP(I43,I14:I18,5,FALSE),HLOOKUP(I43,I29:I33,5,FALSE))) -> 0 | J47: =IF(ISBLANK($C$47),0,IF($C$47=$D$9,HLOOKUP(J43,J14:J18,5,FALSE),HLOOKUP(J43,J29:J33,5,FALSE))) -> 0 | K47: =IF(ISBLANK($C$47),0,IF($C$47=$D$9,HLOOKUP(K43,K14:K18,5,FALSE),HLOOKUP(K43,K29:K33,5,FALSE))) -> 0 | ... Q47: =IF(ISBLANK($C$47),0,IF($C$47=$D$9,HLOOKUP(Q43,Q14:Q18,5,FALSE),HLOOKUP(Q43,Q29:Q33,5,FALSE))) -> 0
B48: 2015 | D48: =IF(ISBLANK($C$48),0,IF($C$48=$D$9,HLOOKUP(D43,D14:D18,5,FALSE),HLOOKUP(D43,D29:D33,5,FALSE))) -> 0 | E48: =IF(ISBLANK($C$48),0,IF($C$48=$D$9,HLOOKUP(E43,E14:E18,5,FALSE),HLOOKUP(E43,E29:E33,5,FALSE))) -> 0 | F48: =IF(ISBLANK($C$48),0,IF($C$48=$D$9,HLOOKUP(F43,F14:F18,5,FALSE),HLOOKUP(F43,F29:F33,5,FALSE))) -> 0 | G48: =IF(ISBLANK($C$48),0,IF($C$48=$D$9,HLOOKUP(G43,G14:G18,5,FALSE),HLOOKUP(G43,G29:G33,5,FALSE))) -> 0 | H48: =IF(ISBLANK($C$48),0,IF($C$48=$D$9,HLOOKUP(H43,H14:H18,5,FALSE),HLOOKUP(H43,H29:H33,5,FALSE))) -> 0 | I48: =IF(ISBLANK($C$48),0,IF($C$48=$D$9,HLOOKUP(I43,I14:I18,5,FALSE),HLOOKUP(I43,I29:I33,5,FALSE))) -> 0 | J48: =IF(ISBLANK($C$48),0,IF($C$48=$D$9,HLOOKUP(J43,J14:J18,5,FALSE),HLOOKUP(J43,J29:J33,5,FALSE))) -> 0 | K48: =IF(ISBLANK($C$48),0,IF($C$48=$D$9,HLOOKUP(K43,K14:K18,5,FALSE),HLOOKUP(K43,K29:K33,5,FALSE))) -> 0 | ... Q48: =IF(ISBLANK($C$48),0,IF($C$48=$D$9,HLOOKUP(Q43,Q14:Q18,5,FALSE),HLOOKUP(Q43,Q29:Q33,5,FALSE))) -> 0
B49: 2016 | D49: =IF(ISBLANK($C$49),0,IF($C$49=$D$9,HLOOKUP(D43,D14:D18,5,FALSE),HLOOKUP(D43,D29:D33,5,FALSE))) -> 0 | E49: =IF(ISBLANK($C$49),0,IF($C$49=$D$9,HLOOKUP(E43,E14:E18,5,FALSE),HLOOKUP(E43,E29:E33,5,FALSE))) -> 0 | F49: =IF(ISBLANK($C$49),0,IF($C$49=$D$9,HLOOKUP(F43,F14:F18,5,FALSE),HLOOKUP(F43,F29:F33,5,FALSE))) -> 0 | G49: =IF(ISBLANK($C$49),0,IF($C$49=$D$9,HLOOKUP(G43,G14:G18,5,FALSE),HLOOKUP(G43,G29:G33,5,FALSE))) -> 0 | H49: =IF(ISBLANK($C$49),0,IF($C$49=$D$9,HLOOKUP(H43,H14:H18,5,FALSE),HLOOKUP(H43,H29:H33,5,FALSE))) -> 0 | I49: =IF(ISBLANK($C$49),0,IF($C$49=$D$9,HLOOKUP(I43,I14:I18,5,FALSE),HLOOKUP(I43,I29:I33,5,FALSE))) -> 0 | J49: =IF(ISBLANK($C$49),0,IF($C$49=$D$9,HLOOKUP(J43,J14:J18,5,FALSE),HLOOKUP(J43,J29:J33,5,FALSE))) -> 0 | K49: =IF(ISBLANK($C$49),0,IF($C$49=$D$9,HLOOKUP(K43,K14:K18,5,FALSE),HLOOKUP(K43,K29:K33,5,FALSE))) -> 0 | ... Q49: =IF(ISBLANK($C$49),0,IF($C$49=$D$9,HLOOKUP(Q43,Q14:Q18,5,FALSE),HLOOKUP(Q43,Q29:Q33,5,FALSE))) -> 0
B50: 2017 | D50: =IF(ISBLANK($C$50),0,IF($C$50=$D$9,HLOOKUP(D43,D14:D18,5,FALSE),HLOOKUP(D43,D29:D33,5,FALSE))) -> 0 | E50: =IF(ISBLANK($C$50),0,IF($C$50=$D$9,HLOOKUP(E43,E14:E18,5,FALSE),HLOOKUP(E43,E29:E33,5,FALSE))) -> 0 | F50: =IF(ISBLANK($C$50),0,IF($C$50=$D$9,HLOOKUP(F43,F14:F18,5,FALSE),HLOOKUP(F43,F29:F33,5,FALSE))) -> 0 | G50: =IF(ISBLANK($C$50),0,IF($C$50=$D$9,HLOOKUP(G43,G14:G18,5,FALSE),HLOOKUP(G43,G29:G33,5,FALSE))) -> 0 | H50: =IF(ISBLANK($C$50),0,IF($C$50=$D$9,HLOOKUP(H43,H14:H18,5,FALSE),HLOOKUP(H43,H29:H33,5,FALSE))) -> 0 | I50: =IF(ISBLANK($C$50),0,IF($C$50=$D$9,HLOOKUP(I43,I14:I18,5,FALSE),HLOOKUP(I43,I29:I33,5,FALSE))) -> 0 | J50: =IF(ISBLANK($C$50),0,IF($C$50=$D$9,HLOOKUP(J43,J14:J18,5,FALSE),HLOOKUP(J43,J29:J33,5,FALSE))) -> 0 | K50: =IF(ISBLANK($C$50),0,IF($C$50=$D$9,HLOOKUP(K43,K14:K18,5,FALSE),HLOOKUP(K43,K29:K33,5,FALSE))) -> 0 | ... Q50: =IF(ISBLANK($C$50),0,IF($C$50=$D$9,HLOOKUP(Q43,Q14:Q18,5,FALSE),HLOOKUP(Q43,Q29:Q33,5,FALSE))) -> 0
B51: 2018 | D51: =IF(ISBLANK($C$51),0,IF($C$51=$D$9,HLOOKUP(D43,D14:D18,5,FALSE),HLOOKUP(D43,D29:D33,5,FALSE))) -> 0 | E51: =IF(ISBLANK($C$51),0,IF($C$51=$D$9,HLOOKUP(E43,E14:E18,5,FALSE),HLOOKUP(E43,E29:E33,5,FALSE))) -> 0 | F51: =IF(ISBLANK($C$51),0,IF($C$51=$D$9,HLOOKUP(F43,F14:F18,5,FALSE),HLOOKUP(F43,F29:F33,5,FALSE))) -> 0 | G51: =IF(ISBLANK($C$51),0,IF($C$51=$D$9,HLOOKUP(G43,G14:G18,5,FALSE),HLOOKUP(G43,G29:G33,5,FALSE))) -> 0 | H51: =IF(ISBLANK($C$51),0,IF($C$51=$D$9,HLOOKUP(H43,H14:H18,5,FALSE),HLOOKUP(H43,H29:H33,5,FALSE))) -> 0 | I51: =IF(ISBLANK($C$51),0,IF($C$51=$D$9,HLOOKUP(I43,I14:I18,5,FALSE),HLOOKUP(I43,I29:I33,5,FALSE))) -> 0 | J51: =IF(ISBLANK($C$51),0,IF($C$51=$D$9,HLOOKUP(J43,J14:J18,5,FALSE),HLOOKUP(J43,J29:J33,5,FALSE))) -> 0 | K51: =IF(ISBLANK($C$51),0,IF($C$51=$D$9,HLOOKUP(K43,K14:K18,5,FALSE),HLOOKUP(K43,K29:K33,5,FALSE))) -> 0 | ... Q51: =IF(ISBLANK($C$51),0,IF($C$51=$D$9,HLOOKUP(Q43,Q14:Q18,5,FALSE),HLOOKUP(Q43,Q29:Q33,5,FALSE))) -> 0
B52: 2019 | D52: =IF(ISBLANK($C$52),0,IF($C$52=$D$9,HLOOKUP(D43,D14:D18,5,FALSE),HLOOKUP(D43,D29:D33,5,FALSE))) -> 0 | E52: =IF(ISBLANK($C$52),0,IF($C$52=$D$9,HLOOKUP(E43,E14:E18,5,FALSE),HLOOKUP(E43,E29:E33,5,FALSE))) -> 0 | F52: =IF(ISBLANK($C$52),0,IF($C$52=$D$9,HLOOKUP(F43,F14:F18,5,FALSE),HLOOKUP(F43,F29:F33,5,FALSE))) -> 0 | G52: =IF(ISBLANK($C$52),0,IF($C$52=$D$9,HLOOKUP(G43,G14:G18,5,FALSE),HLOOKUP(G43,G29:G33,5,FALSE))) -> 0 | H52: =IF(ISBLANK($C$52),0,IF($C$52=$D$9,HLOOKUP(H43,H14:H18,5,FALSE),HLOOKUP(H43,H29:H33,5,FALSE))) -> 0 | I52: =IF(ISBLANK($C$52),0,IF($C$52=$D$9,HLOOKUP(I43,I14:I18,5,FALSE),HLOOKUP(I43,I29:I33,5,FALSE))) -> 0 | J52: =IF(ISBLANK($C$52),0,IF($C$52=$D$9,HLOOKUP(J43,J14:J18,5,FALSE),HLOOKUP(J43,J29:J33,5,FALSE))) -> 0 | K52: =IF(ISBLANK($C$52),0,IF($C$52=$D$9,HLOOKUP(K43,K14:K18,5,FALSE),HLOOKUP(K43,K29:K33,5,FALSE))) -> 0 | ... Q52: =IF(ISBLANK($C$52),0,IF($C$52=$D$9,HLOOKUP(Q43,Q14:Q18,5,FALSE),HLOOKUP(Q43,Q29:Q33,5,FALSE))) -> 0
B53: 2020 | D53: =IF(ISBLANK($C$53),0,IF($C$53=$D$9,HLOOKUP(D43,D14:D18,5,FALSE),HLOOKUP(D43,D29:D33,5,FALSE))) -> 0 | E53: =IF(ISBLANK($C$53),0,IF($C$53=$D$9,HLOOKUP(E43,E14:E18,5,FALSE),HLOOKUP(E43,E29:E33,5,FALSE))) -> 0 | F53: =IF(ISBLANK($C$53),0,IF($C$53=$D$9,HLOOKUP(F43,F14:F18,5,FALSE),HLOOKUP(F43,F29:F33,5,FALSE))) -> 0 | G53: =IF(ISBLANK($C$53),0,IF($C$53=$D$9,HLOOKUP(G43,G14:G18,5,FALSE),HLOOKUP(G43,G29:G33,5,FALSE))) -> 0 | H53: =IF(ISBLANK($C$53),0,IF($C$53=$D$9,HLOOKUP(H43,H14:H18,5,FALSE),HLOOKUP(H43,H29:H33,5,FALSE))) -> 0 | I53: =IF(ISBLANK($C$53),0,IF($C$53=$D$9,HLOOKUP(I43,I14:I18,5,FALSE),HLOOKUP(I43,I29:I33,5,FALSE))) -> 0 | J53: =IF(ISBLANK($C$53),0,IF($C$53=$D$9,HLOOKUP(J43,J14:J18,5,FALSE),HLOOKUP(J43,J29:J33,5,FALSE))) -> 0 | K53: =IF(ISBLANK($C$53),0,IF($C$53=$D$9,HLOOKUP(K43,K14:K18,5,FALSE),HLOOKUP(K43,K29:K33,5,FALSE))) -> 0 | ... Q53: =IF(ISBLANK($C$53),0,IF($C$53=$D$9,HLOOKUP(Q43,Q14:Q18,5,FALSE),HLOOKUP(Q43,Q29:Q33,5,FALSE))) -> 0
B54: 2021 | C54: 2013 | D54: =IF(ISBLANK($C$54),0,IF($C$54=$D$9,HLOOKUP(D43,D14:D18,5,FALSE),HLOOKUP(D43,D29:D33,5,FALSE))) -> 494885 | E54: =IF(ISBLANK($C$54),0,IF($C$54=$D$9,HLOOKUP(E43,E14:E18,5,FALSE),HLOOKUP(E43,E29:E33,5,FALSE))) -> 2573404 | F54: =IF(ISBLANK($C$54),0,IF($C$54=$D$9,HLOOKUP(F43,F14:F18,5,FALSE),HLOOKUP(F43,F29:F33,5,FALSE))) -> 576 | G54: =IF(ISBLANK($C$54),0,IF($C$54=$D$9,HLOOKUP(G43,G14:G18,5,FALSE),HLOOKUP(G43,G29:G33,5,FALSE))) -> 0 | H54: =IF(ISBLANK($C$54),0,IF($C$54=$D$9,HLOOKUP(H43,H14:H18,5,FALSE),HLOOKUP(H43,H29:H33,5,FALSE))) -> 0 | I54: =IF(ISBLANK($C$54),0,IF($C$54=$D$9,HLOOKUP(I43,I14:I18,5,FALSE),HLOOKUP(I43,I29:I33,5,FALSE))) -> 0 | J54: =IF(ISBLANK($C$54),0,IF($C$54=$D$9,HLOOKUP(J43,J14:J18,5,FALSE),HLOOKUP(J43,J29:J33,5,FALSE))) -> 0 | K54: =IF(ISBLANK($C$54),0,IF($C$54=$D$9,HLOOKUP(K43,K14:K18,5,FALSE),HLOOKUP(K43,K29:K33,5,FALSE))) -> 0 | ... Q54: =IF(ISBLANK($C$54),0,IF($C$54=$D$9,HLOOKUP(Q43,Q14:Q18,5,FALSE),HLOOKUP(Q43,Q29:Q33,5,FALSE))) -> 0
B55: 2022 | C55: 2013 | D55: =IF(ISBLANK($C$55),0,IF($C$55=$D$9,HLOOKUP(D43,D14:D18,5,FALSE),HLOOKUP(D43,D29:D33,5,FALSE))) -> 494885 | E55: =IF(ISBLANK($C$55),0,IF($C$55=$D$9,HLOOKUP(E43,E14:E18,5,FALSE),HLOOKUP(E43,E29:E33,5,FALSE))) -> 2573404 | F55: =IF(ISBLANK($C$55),0,IF($C$55=$D$9,HLOOKUP(F43,F14:F18,5,FALSE),HLOOKUP(F43,F29:F33,5,FALSE))) -> 576 | G55: =IF(ISBLANK($C$55),0,IF($C$55=$D$9,HLOOKUP(G43,G14:G18,5,FALSE),HLOOKUP(G43,G29:G33,5,FALSE))) -> 0 | H55: =IF(ISBLANK($C$55),0,IF($C$55=$D$9,HLOOKUP(H43,H14:H18,5,FALSE),HLOOKUP(H43,H29:H33,5,FALSE))) -> 0 | I55: =IF(ISBLANK($C$55),0,IF($C$55=$D$9,HLOOKUP(I43,I14:I18,5,FALSE),HLOOKUP(I43,I29:I33,5,FALSE))) -> 0 | J55: =IF(ISBLANK($C$55),0,IF($C$55=$D$9,HLOOKUP(J43,J14:J18,5,FALSE),HLOOKUP(J43,J29:J33,5,FALSE))) -> 0 | K55: =IF(ISBLANK($C$55),0,IF($C$55=$D$9,HLOOKUP(K43,K14:K18,5,FALSE),HLOOKUP(K43,K29:K33,5,FALSE))) -> 0 | ... Q55: =IF(ISBLANK($C$55),0,IF($C$55=$D$9,HLOOKUP(Q43,Q14:Q18,5,FALSE),HLOOKUP(Q43,Q29:Q33,5,FALSE))) -> 0
B56: 2023 | C56: 2013 | D56: =IF(ISBLANK($C$56),0,IF($C$56=$D$9,HLOOKUP(D43,D14:D18,5,FALSE),HLOOKUP(D43,D29:D33,5,FALSE))) -> 494885 | E56: =IF(ISBLANK($C$56),0,IF($C$56=$D$9,HLOOKUP(E43,E14:E18,5,FALSE),HLOOKUP(E43,E29:E33,5,FALSE))) -> 2573404 | F56: =IF(ISBLANK($C$56),0,IF($C$56=$D$9,HLOOKUP(F43,F14:F18,5,FALSE),HLOOKUP(F43,F29:F33,5,FALSE))) -> 576 | G56: =IF(ISBLANK($C$56),0,IF($C$56=$D$9,HLOOKUP(G43,G14:G18,5,FALSE),HLOOKUP(G43,G29:G33,5,FALSE))) -> 0 | H56: =IF(ISBLANK($C$56),0,IF($C$56=$D$9,HLOOKUP(H43,H14:H18,5,FALSE),HLOOKUP(H43,H29:H33,5,FALSE))) -> 0 | I56: =IF(ISBLANK($C$56),0,IF($C$56=$D$9,HLOOKUP(I43,I14:I18,5,FALSE),HLOOKUP(I43,I29:I33,5,FALSE))) -> 0 | J56: =IF(ISBLANK($C$56),0,IF($C$56=$D$9,HLOOKUP(J43,J14:J18,5,FALSE),HLOOKUP(J43,J29:J33,5,FALSE))) -> 0 | K56: =IF(ISBLANK($C$56),0,IF($C$56=$D$9,HLOOKUP(K43,K14:K18,5,FALSE),HLOOKUP(K43,K29:K33,5,FALSE))) -> 0 | ... Q56: =IF(ISBLANK($C$56),0,IF($C$56=$D$9,HLOOKUP(Q43,Q14:Q18,5,FALSE),HLOOKUP(Q43,Q29:Q33,5,FALSE))) -> 0
B57: 2024 | C57: 2013 | D57: =IF(ISBLANK($C$57),0,IF($C$57=$D$9,HLOOKUP(D43,D14:D18,5,FALSE),HLOOKUP(D43,D29:D33,5,FALSE))) -> 494885 | E57: =IF(ISBLANK($C$57),0,IF($C$57=$D$9,HLOOKUP(E43,E14:E18,5,FALSE),HLOOKUP(E43,E29:E33,5,FALSE))) -> 2573404 | F57: =IF(ISBLANK($C$57),0,IF($C$57=$D$9,HLOOKUP(F43,F14:F18,5,FALSE),HLOOKUP(F43,F29:F33,5,FALSE))) -> 576 | G57: =IF(ISBLANK($C$57),0,IF($C$57=$D$9,HLOOKUP(G43,G14:G18,5,FALSE),HLOOKUP(G43,G29:G33,5,FALSE))) -> 0 | H57: =IF(ISBLANK($C$57),0,IF($C$57=$D$9,HLOOKUP(H43,H14:H18,5,FALSE),HLOOKUP(H43,H29:H33,5,FALSE))) -> 0 | I57: =IF(ISBLANK($C$57),0,IF($C$57=$D$9,HLOOKUP(I43,I14:I18,5,FALSE),HLOOKUP(I43,I29:I33,5,FALSE))) -> 0 | J57: =IF(ISBLANK($C$57),0,IF($C$57=$D$9,HLOOKUP(J43,J14:J18,5,FALSE),HLOOKUP(J43,J29:J33,5,FALSE))) -> 0 | K57: =IF(ISBLANK($C$57),0,IF($C$57=$D$9,HLOOKUP(K43,K14:K18,5,FALSE),HLOOKUP(K43,K29:K33,5,FALSE))) -> 0 | ... Q57: =IF(ISBLANK($C$57),0,IF($C$57=$D$9,HLOOKUP(Q43,Q14:Q18,5,FALSE),HLOOKUP(Q43,Q29:Q33,5,FALSE))) -> 0
...

Sheet 3.  Distribution Rates
B4: Legend | C4: User Inputs (Green)
C5: Auto Populated Cells (White)
C6: Instructions (Grey)
B8: Tables | C8: Table 3
C9: Table 3-a.
B11: Table 3. Inputs for Distribution Rates and Adjustments by Rate Class
B12: Please complete Table 3 with the rate class specific distribution rates that pertain to the years of the LRAMVA disposition. Any adjustments that affect distribution rates can be incorporated in the calculation by expanding the "plus" button at the left hand bar. Table 3 will convert the distribution rates to a calendar year rate (January to December) based on the number of months entered in row 16 of each rate year starting from January to the start of the LDC's rate year. Please enter 0 in row 16, if the rate year begins on January 1. If there are additional adjustments (i.e., rows) added to Table 3, please adjust the formulas in Table 3-a accordingly.
C14: Billing Unit | D14: EB-2009-0236 | E14: EB-2010-0099 | F14: EB-2011-0434 | G14: EB-2012-0147 | H14: EB-2013-0151 | I14: EB-2014-0093 | J14: EB-2015-0088 | K14: EB-2016-0092 | L14: EB-2017-0060 | M14: EB-2018-0055 | N14: EB-2019-0055 | O14: EB-2020-0041 | P14: EB-2021-0044
B15: Rate Year | D15: 2010 | E15: 2011 | F15: 2012 | G15: 2013 | H15: 2014 | I15: 2015 | J15: 2016 | K15: 2017 | L15: 2018 | M15: 2019 | N15: 2020 | O15: 2021 | P15: 2022
B16: Period 1 (# months) | D16: 4 | E16: 4 | F16: 4 | G16: 4 | H16: 4 | I16: 4 | J16: 4 | K16: 4 | L16: 4 | M16: 4 | N16: 4 | O16: 4 | P16: 4
B17: Period 2 (# months) | D17: =12-D16 -> 8 | E17: =12-E16 -> 8 | F17: =12-F16 -> 8 | G17: =12-G16 -> 8 | H17: =12-H16 -> 8 | I17: =12-I16 -> 8 | J17: =12-J16 -> 8 | K17: =12-K16 -> 8 | ... P17: =12-P16 -> 8
B18: ='1. LRAMVA Summary'!B30 -> Residential | C18: ='2. LRAMVA Threshold'!D43 -> kWh | D18: 0.0194 | E18: 0.0194 | F18: 0.0196 | G18: 0.02 | H18: 0.0203 | I18: 0.0205 | J18: 0.0157 | K18: 0.0107 | L18: 0.0054
B19: Rate rider for tax sharing
B20: Rate rider for foregone revenue
B21: Other
B22: Adjusted rate | D22: =SUM(D18:D21) -> 0.0194 | E22: =SUM(E18:E21) -> 0.0194 | F22: =SUM(F18:F21) -> 0.0196 | G22: =SUM(G18:G21) -> 0.02 | H22: =SUM(H18:H21) -> 0.0203 | I22: =SUM(I18:I21) -> 0.0205 | J22: =SUM(J18:J21) -> 0.0157 | K22: =SUM(K18:K21) -> 0.0107 | ... P22: =SUM(P18:P21) -> 0
B23: Calendar year equivalent | E23: =ROUND(SUM(D22*E16+E22*E17)/12,4) -> 0.0194 | F23: =ROUND(SUM(E22*F16+F22*F17)/12,4) -> 0.0195 | G23: =ROUND(SUM(F22*G16+G22*G17)/12,4) -> 0.0199 | H23: =ROUND(SUM(G22*H16+H22*H17)/12,4) -> 0.0202 | I23: =ROUND(SUM(H22*I16+I22*I17)/12,4) -> 0.0204 | J23: =ROUND(SUM(I22*J16+J22*J17)/12,4) -> 0.0173 | K23: =ROUND(SUM(J22*K16+K22*K17)/12,4) -> 0.0124 | L23: =ROUND(SUM(K22*L16+L22*L17)/12,4) -> 0.0072 | ... P23: =ROUND(SUM(O22*P16+P22*P17)/12,4) -> 0
B25: ='1. LRAMVA Summary'!B31 -> GS<50 kW | C25: ='2. LRAMVA Threshold'!E43 -> kWh | D25: 0.0154 | E25: 0.0154 | F25: 0.0155 | G25: 0.0158 | H25: 0.016 | I25: 0.0162 | J25: 0.0165 | K25: 0.0167 | L25: 0.0168 | M25: 0.017 | N25: 0.0173 | O25: 0.0176 | P25: 0.0182
B26: Rate rider for tax sharing
B27: Rate rider for foregone revenue
B28: Other
B29: Adjusted rate | D29: =SUM(D25:D28) -> 0.0154 | E29: =SUM(E25:E28) -> 0.0154 | F29: =SUM(F25:F28) -> 0.0155 | G29: =SUM(G25:G28) -> 0.0158 | H29: =SUM(H25:H28) -> 0.016 | I29: =SUM(I25:I28) -> 0.0162 | J29: =SUM(J25:J28) -> 0.0165 | K29: =SUM(K25:K28) -> 0.0167 | ... P29: =SUM(P25:P28) -> 0.0182
B30: Calendar year equivalent | E30: =ROUND(SUM(D29*E16+E29*E17)/12,4) -> 0.0154 | F30: =ROUND(SUM(E29*F16+F29*F17)/12,4) -> 0.0155 | G30: =ROUND(SUM(F29*G16+G29*G17)/12,4) -> 0.0157 | H30: =ROUND(SUM(G29*H16+H29*H17)/12,4) -> 0.0159 | I30: =ROUND(SUM(H29*I16+I29*I17)/12,4) -> 0.0161 | J30: =ROUND(SUM(I29*J16+J29*J17)/12,4) -> 0.0164 | K30: =ROUND(SUM(J29*K16+K29*K17)/12,4) -> 0.0166 | L30: =ROUND(SUM(K29*L16+L29*L17)/12,4) -> 0.0168 | ... P30: =ROUND(SUM(O29*P16+P29*P17)/12,4) -> 0.018
B32: ='1. LRAMVA Summary'!B32 -> GS>50 KW | C32: ='2. LRAMVA Threshold'!F43 -> kW | D32: 2.964 | E32: 2.9693 | F32: 2.9954 | G32: 3.0849 | H32: 3.1235 | I32: 3.1594 | J32: 3.2115 | K32: 3.2581 | L32: 3.2825 | M32: 3.317 | N32: 3.5895 | O32: 3.6577 | P32: 3.7729
B33: Rate rider for tax sharing
B34: Rate rider for foregone revenue
B35: Other
B36: Adjusted rate | D36: =SUM(D32:D35) -> 2.964 | E36: =SUM(E32:E35) -> 2.9693 | F36: =SUM(F32:F35) -> 2.9954 | G36: =SUM(G32:G35) -> 3.0849 | H36: =SUM(H32:H35) -> 3.1235 | I36: =SUM(I32:I35) -> 3.1594 | J36: =SUM(J32:J35) -> 3.2115 | K36: =SUM(K32:K35) -> 3.2581 | ... P36: =SUM(P32:P35) -> 3.7729
B37: Calendar year equivalent | E37: =ROUND(SUM(D36*E16+E36*E17)/12,4) -> 2.9675 | F37: =ROUND(SUM(E36*F16+F36*F17)/12,4) -> 2.9867 | G37: =ROUND(SUM(F36*G16+G36*G17)/12,4) -> 3.0551 | H37: =ROUND(SUM(G36*H16+H36*H17)/12,4) -> 3.1106 | I37: =ROUND(SUM(H36*I16+I36*I17)/12,4) -> 3.1474 | J37: =ROUND(SUM(I36*J16+J36*J17)/12,4) -> 3.1941 | K37: =ROUND(SUM(J36*K16+K36*K17)/12,4) -> 3.2426 | L37: =ROUND(SUM(K36*L16+L36*L17)/12,4) -> 3.2744 | ... P37: =ROUND(SUM(O36*P16+P36*P17)/12,4) -> 3.7345
B39: ='1. LRAMVA Summary'!B33 -> Street Lights | C39: ='2. LRAMVA Threshold'!G43 -> kW | D39: 8.5358 | E39: 8.5512 | F39: 8.6265 | G39: 8.4572 | H39: 8.5629 | I39: 8.6614 | J39: 8.8043 | K39: 8.932 | L39: 8.999 | M39: 9.0935 | N39: 3.8429 | O39: 3.9159 | P39: 4.0393
B40: Rate rider for tax sharing
B41: Rate rider for foregone revenue
B42: Other
B43: Adjusted rate | D43: =SUM(D39:D42) -> 8.5358 | E43: =SUM(E39:E42) -> 8.5512 | F43: =SUM(F39:F42) -> 8.6265 | G43: =SUM(G39:G42) -> 8.4572 | H43: =SUM(H39:H42) -> 8.5629 | I43: =SUM(I39:I42) -> 8.6614 | J43: =SUM(J39:J42) -> 8.8043 | K43: =SUM(K39:K42) -> 8.932 | ... P43: =SUM(P39:P42) -> 4.0393
B44: Calendar year equivalent | E44: =ROUND(SUM(D43*E16+E43*E17)/12,4) -> 8.5461 | F44: =ROUND(SUM(E43*F16+F43*F17)/12,4) -> 8.6014 | G44: =ROUND(SUM(F43*G16+G43*G17)/12,4) -> 8.5136 | H44: =ROUND(SUM(G43*H16+H43*H17)/12,4) -> 8.5277 | I44: =ROUND(SUM(H43*I16+I43*I17)/12,4) -> 8.6286 | J44: =ROUND(SUM(I43*J16+J43*J17)/12,4) -> 8.7567 | K44: =ROUND(SUM(J43*K16+K43*K17)/12,4) -> 8.8894 | L44: =ROUND(SUM(K43*L16+L43*L17)/12,4) -> 8.9767 | ... P44: =ROUND(SUM(O43*P16+P43*P17)/12,4) -> 3.9982
B46: ='1. LRAMVA Summary'!B34 -> 0 | C46: ='2. LRAMVA Threshold'!H43 -> 0
B47: Rate rider for tax sharing
B48: Rate rider for foregone revenue
B49: Other
B50: Adjusted rate | D50: =SUM(D46:D49) -> 0 | E50: =SUM(E46:E49) -> 0 | F50: =SUM(F46:F49) -> 0 | G50: =SUM(G46:G49) -> 0 | H50: =SUM(H46:H49) -> 0 | I50: =SUM(I46:I49) -> 0 | J50: =SUM(J46:J49) -> 0 | K50: =SUM(K46:K49) -> 0 | ... P50: =SUM(P46:P49) -> 0
...

Sheet 4.  2011-2014 LRAM
B3: Legend | C3: User Inputs (Green)
C4: Auto Populated Cells (White)
C5: Instructions (Grey)
B7: Instructions | C7: 1. The following LRAMVA work forms apply to LDCs that need to recover lost revenues arising from CDM activity from the 2011-2014 period. Please input or manually link the savings, adjustments and program savings persistence data in these tables from the LDC's Persistence Reports provided by the IESO (in Tab 7). As noted earlier, persistence data is available upon request from the IESO. Please also be advised that the same rate classes (of up to 14) are carried over from the Summary Tab 1.
C8: 2. Please ensure that the IESO verified savings adjustments apply back to the program year it relates to. For example, savings adjustments related to 2012 programs that were reported by the IESO in 2013 should be included in the 2012 program savings table. In order for persisting savings to be claimed in future years, past year's initiative level savings results need to be filled out in the tables below. If the IESO adjustments were made available to the LDC after the LRAMVA was approved, the persistence of those savings adjustments in the future can be claimed as approved LRAMVA amounts are considered to be final.
C9: 3. The work forms below include the monthly multipliers for most programs in order to claim demand savings from energy efficiency programs, consistent with the monthly multipliers indicated in the OEB's updated LRAM policy related to peak demand savings in EB-2016-0182. Demand Response (DR3) savings should generally not be included with the LRAMVA calculation, unless suported by empirical evidence. LDCs are requested to confirm the monthly multipliers for all programs each year as placeholder values are provided. If a different monthly multiplier is used, please include rationale in Tab 1-a and highlight the new multiplier that has been used.
C10: 4. LDC are requested to input the applicable rate class allocation percentages to allocate actual savings to the rate classes. The generic template currently includes the same allocation percentage for program savings and its savings adjustments. If a different allocation is proposed for savings adjustments, LDCs must provide supporting rationale in Tab 1-a and highlight the change.
C11: 5. The persistence of future savings is expected to be included in the distributor's load forecast after re-basing. LDCs are requested to delete the applicable savings persistence rows (auto-calculated after the LRAMVA totals for the year) if future year's persistence of savings is already captured in the updated load forecast. Please also provide assumptions about the years in which persistence is captured in the load forecast calculation in the "Notes" section below each table.
B13: Tables | C13: Table 4-a. 2011 Lost Revenues
C14: Table 4-b. 2012 Lost Revenues
C15: Table 4-c. 2013 Lost Revenues
C16: Table 4-d. 2014 Lost Revenues
B18: Table 4-a. 2011 Lost Revenues Work Form
B19: Program | C19: Results Status | D19: Net Energy Savings (kWh) | E19: Net Energy Savings Persistence (kWh) | U19: Monthly Multiplier | V19: Net Demand Savings (kW) | W19: Net Peak Demand Savings Persistence (kW) | AM19: Rate Allocations for LRAMVA
D20: 2011 | E20: 2012 | F20: 2013 | G20: 2014 | H20: 2015 | I20: 2016 | J20: 2017 | K20: 2018 | L20: 2019 | M20: 2020 | N20: 2021 | O20: 2022 | P20: 2023 | Q20: 2024 | R20: 2025 | S20: 2026 | T20: 2027 | V20: 2011 | W20: 2012 | X20: 2013 | Y20: 2014 | Z20: 2015 | AA20: 2016 | AB20: 2017 | AC20: 2018 | AD20: 2019 | AE20: 2020 | AF20: 2021 | AG20: 2022 | AH20: 2023 | AI20: 2024 | AJ20: 2025 | AK20: 2026 | AL20: 2027 | AM20: ='1. LRAMVA Summary'!D53 -> Residential | AN20: ='1. LRAMVA Summary'!E53 -> GS<50 kW | AO20: ='1. LRAMVA Summary'!F53 -> GS>50 KW | AP20: ='1. LRAMVA Summary'!G53 -> Street Lights | AQ20: ='1. LRAMVA Summary'!H53 | AR20: ='1. LRAMVA Summary'!I53 | AS20: ='1. LRAMVA Summary'!J53 | AT20: ='1. LRAMVA Summary'!K53 | ... BA20: ='1. LRAMVA Summary'!R53 -> Total
B21: Consumer Program | AM21: ='1. LRAMVA Summary'!D54 -> kWh | AN21: ='1. LRAMVA Summary'!E54 -> kWh | AO21: ='1. LRAMVA Summary'!F54 -> kW | AP21: ='1. LRAMVA Summary'!G54 -> kW | AQ21: ='1. LRAMVA Summary'!H54 -> 0 | AR21: ='1. LRAMVA Summary'!I54 -> 0 | AS21: ='1. LRAMVA Summary'!J54 -> 0 | AT21: ='1. LRAMVA Summary'!K54 -> 0 | ... AZ21: ='1. LRAMVA Summary'!Q54 -> 0
A22: 1 | B22: Appliance Retirement | C22: Verified | BA22: =SUM(AM22:AZ22) -> 0
B23: Adjustment to 2011 savings | C23: True-up | AM23: =AM22 -> 0 | AN23: =AN22 -> 0 | AO23: =AO22 -> 0 | AP23: =AP22 -> 0 | AQ23: =AQ22 -> 0 | AR23: =AR22 -> 0 | AS23: =AS22 -> 0 | AT23: =AT22 -> 0 | ... AZ23: =AZ22 -> 0
A25: 2 | B25: Appliance Exchange | C25: Verified | BA25: =SUM(AM25:AZ25) -> 0
B26: Adjustment to 2011 savings | C26: True-up | AM26: =AM25 -> 0 | AN26: =AN25 -> 0 | AO26: =AO25 -> 0 | AP26: =AP25 -> 0 | AQ26: =AQ25 -> 0 | AR26: =AR25 -> 0 | AS26: =AS25 -> 0 | AT26: =AT25 -> 0 | ... AZ26: =AZ25 -> 0
A28: 3 | B28: HVAC Incentives | C28: Verified | BA28: =SUM(AM28:AZ28) -> 0
B29: Adjustment to 2011 savings | C29: True-up | AM29: =AM28 -> 0 | AN29: =AN28 -> 0 | AO29: =AO28 -> 0 | AP29: =AP28 -> 0 | AQ29: =AQ28 -> 0 | AR29: =AR28 -> 0 | AS29: =AS28 -> 0 | AT29: =AT28 -> 0 | ... AZ29: =AZ28 -> 0
A31: 4 | B31: Conservation Instant Coupon Booklet | C31: Verified | BA31: =SUM(AM31:AZ31) -> 0
B32: Adjustment to 2011 savings | C32: True-up | AM32: =AM31 -> 0 | AN32: =AN31 -> 0 | AO32: =AO31 -> 0 | AP32: =AP31 -> 0 | AQ32: =AQ31 -> 0 | AR32: =AR31 -> 0 | AS32: =AS31 -> 0 | AT32: =AT31 -> 0 | ... AZ32: =AZ31 -> 0
A34: 5 | B34: Bi-Annual Retailer Event | C34: Verified | BA34: =SUM(AM34:AZ34) -> 0
B35: Adjustment to 2011 savings | C35: True-up | AM35: =AM34 -> 0 | AN35: =AN34 -> 0 | AO35: =AO34 -> 0 | AP35: =AP34 -> 0 | AQ35: =AQ34 -> 0 | AR35: =AR34 -> 0 | AS35: =AS34 -> 0 | AT35: =AT34 -> 0 | ... AZ35: =AZ34 -> 0
A37: 6 | B37: Retailer Co-op | C37: Verified | BA37: =SUM(AM37:AZ37) -> 0
B38: Adjustment to 2011 savings | C38: True-up | AM38: =AM37 -> 0 | AN38: =AN37 -> 0 | AO38: =AO37 -> 0 | AP38: =AP37 -> 0 | AQ38: =AQ37 -> 0 | AR38: =AR37 -> 0 | AS38: =AS37 -> 0 | AT38: =AT37 -> 0 | ... AZ38: =AZ37 -> 0
A40: 7 | B40: Residential Demand Response | C40: Verified | BA40: =SUM(AM40:AZ40) -> 0
B41: Adjustment to 2011 savings | C41: True-up | AM41: =AM40 -> 0 | AN41: =AN40 -> 0 | AO41: =AO40 -> 0 | AP41: =AP40 -> 0 | AQ41: =AQ40 -> 0 | AR41: =AR40 -> 0 | AS41: =AS40 -> 0 | AT41: =AT40 -> 0 | ... AZ41: =AZ40 -> 0
A43: 8 | B43: Residential Demand Response (IHD) | C43: Verified | BA43: =SUM(AM43:AZ43) -> 0
B44: Adjustment to 2011 savings | C44: True-up | AM44: =AM43 -> 0 | AN44: =AN43 -> 0 | AO44: =AO43 -> 0 | AP44: =AP43 -> 0 | AQ44: =AQ43 -> 0 | AR44: =AR43 -> 0 | AS44: =AS43 -> 0 | AT44: =AT43 -> 0 | ... AZ44: =AZ43 -> 0
A46: 9 | B46: Residential New Construction | C46: Verified | BA46: =SUM(AM46:AZ46) -> 0
B47: Adjustment to 2011 savings | C47: True-up | AM47: =AM46 -> 0 | AN47: =AN46 -> 0 | AO47: =AO46 -> 0 | AP47: =AP46 -> 0 | AQ47: =AQ46 -> 0 | AR47: =AR46 -> 0 | AS47: =AS46 -> 0 | AT47: =AT46 -> 0 | ... AZ47: =AZ46 -> 0
B49: Business Program
A50: 10 | B50: Retrofit | C50: Verified | U50: 12 | BA50: =SUM(AM50:AZ50) -> 0
B51: Adjustment to 2011 savings | C51: True-up | U51: =U50 -> 12 | AM51: =AM50 -> 0 | AN51: =AN50 -> 0 | AO51: =AO50 -> 0 | AP51: =AP50 -> 0 | AQ51: =AQ50 -> 0 | AR51: =AR50 -> 0 | AS51: =AS50 -> 0 | AT51: =AT50 -> 0 | ... AZ51: =AZ50 -> 0
A53: 11 | B53: Direct Install Lighting | C53: Verified | U53: 12 | BA53: =SUM(AM53:AZ53) -> 0
B54: Adjustment to 2011 savings | C54: True-up | U54: =U53 -> 12 | AM54: =AM53 -> 0 | AN54: =AN53 -> 0 | AO54: =AO53 -> 0 | AP54: =AP53 -> 0 | AQ54: =AQ53 -> 0 | AR54: =AR53 -> 0 | AS54: =AS53 -> 0 | AT54: =AT53 -> 0 | ... AZ54: =AZ53 -> 0
A56: 12 | B56: Building Commissioning | C56: Verified | U56: 3 | BA56: =SUM(AM56:AZ56) -> 0
...

Sheet 5.  2015-2027 LRAM
B14: Legend | C14: User Inputs (Green)
C15: Auto Populated Cells (White)
C16: Instructions (Grey)
B18: Instructions | C18: 1. LDCs are expected to apply for disposition of all LRAMVA balances, incluidng persisting amounts that extend to the LDCs next COS, as part of 2023 rate applications. The following LRAMVA work forms apply to all LDCs that need to recover lost revenues for the 2015-2027 period, resulting from CDM activity in the 2015-2022 period. This includes the ability to recover lost revenues that persist until the LDCs next COS application. The 2021 CDM Guidelines indicate that distributors filing an application for 2023 rates should seek disposition of all outstanding LRAMVA balances related to previously established thresholds. Distributors not rebasing for 2023 rates who have complete information on eligible savings (i.e., needing only to account for persistence of savings in future years) may seek a rate adjustment on a prospective basis to address amounts that would otherwise be recorded in the LRAMVA for all years until their next rebasing application. Prospective treatment will not be necessary for cost-of-service applications. More detailed instructions related to prospective LRAM-eligible amounts are included above Table 5-i (2023 Lost Revenue Work Form). Please input or manually link the savings, adjustments and program savings persistence data in these tables from the LDC's Persistence Reports provided by the IESO (in Tab 7). As noted earlier, persistence data is available upon request from the IESO. Please also be advised that the same rate classes (of up to 14) are carried over from the Summary Tab 1.
C19: 2. Please ensure that the IESO verified savings adjustments apply back to the program year it relates to. For example, savings adjustments related to 2016 programs that were reported by the IESO in 2017 should be included in the 2016 program savings table. In order for persisting savings to be claimed in future years, past year's initiative level savings results need to be filled out in the tables below. If the IESO adjustments were made available to the LDC after the LRAMVA was approved, the persistence of those savings adjustments in the future cannot be claimed as approved LRAMVA amounts are considered to be final.
