Workbook
Name __________cow97: #REF!
Name __________crp03: #REF!
Name __________CRP0398: #REF!
Name __________KWH97: #REF!
Name _________cow97: #REF!
Name _________crp03: #REF!
Name _________CRP0398: #REF!
Name _________KWH97: #REF!
Name ________cow97: #REF!
Name ________crp03: #REF!
Name ________CRP0398: #REF!
Name ________KWH97: #REF!
Name _______cow97: #REF!
Name _______crp03: #REF!
Name _______CRP0398: #REF!
Name _______KWH97: #REF!
Name ______cow97: #REF!
Name ______crp03: #REF!
Name ______CRP0398: #REF!
Name ______KWH97: #REF!
Name _____cow97: #REF!
Name _____crp03: #REF!
Name _____CRP0398: #REF!
Name _____KWH97: #REF!
Name ____cow97: #REF!
Name ____crp03: #REF!
Name ____CRP0398: #REF!
Name ____KWH97: #REF!
Name ____xlnm.Print_Area: #REF!
Name ____xlnm.Print_Area_1: #REF!
Name ___cow97: #REF!
Name ___crp03: #REF!
Name ___CRP0398: #REF!
Name ___INDEX_SHEET___ASAP_Utilities: #REF!
Name ___KWH97: #REF!
Name ___xlnm.Print_Area: #REF!
Name ___xlnm.Print_Area_1: #REF!
Name ___xlnm.Print_Area_10: #REF!
Name ___xlnm.Print_Area_11: #REF!
Name ___xlnm.Print_Area_12: #REF!
Name ___xlnm.Print_Area_13: #REF!
Name ___xlnm.Print_Area_14: #REF!
Name ___xlnm.Print_Area_15: #REF!
Name ___xlnm.Print_Area_16: #REF!
Name ___xlnm.Print_Area_17: #REF!
Name ___xlnm.Print_Area_18: #REF!
Name ___xlnm.Print_Area_19: #REF!
Name ___xlnm.Print_Area_2: #REF!
Name ___xlnm.Print_Area_20: #REF!
Name ___xlnm.Print_Area_21: #REF!
Name ___xlnm.Print_Area_22: #REF!
Name ___xlnm.Print_Area_23: #REF!
Name ___xlnm.Print_Area_24: #REF!
Name ___xlnm.Print_Area_25: #REF!
Name ___xlnm.Print_Area_26: #REF!
Name ___xlnm.Print_Area_27: #REF!
Name ___xlnm.Print_Area_28: #REF!
Name ___xlnm.Print_Area_29: #REF!
Name ___xlnm.Print_Area_3: #REF!
Name ___xlnm.Print_Area_30: #REF!

Sheet A. TestYr Rev at BrdgYr Rates
B2: CNPI Rate Design Model - Sheet A - Test Year Revenue at Bridge Year Rates
B5: Existing Distribution Rates and 2027 Test Year Load Forecast
C7: 2021 Bridge Year Rates | F7: 2027 Test Year Forecast
B8: Customer Class | C8: Fixed Charge | D8: Volumetric Charge | E8: Unit | F8: Customer /Device Count | G8: Forecast kWh | H8: Forecast kW
B9: Residential | C9: 46.08 | D9: 0 | E9: kWh | F9: 28818.139 | G9: 2.3740347e+08
B10: GS < 50 | C10: 38.83 | D10: 0.0315 | E10: kWh | F10: 2555.7914 | G10: 67709853
B11: ='B. Test Year Rate Design'!B112 -> General Service >50kW (incl. SBY) | C11: 194.73 | D11: 9.1941 | E11: kW | F11: 200.84233 | G11: 1.7925189e+08 | H11: 561367.95
B12: Embedded Distributor | C12: 700.69 | D12: 10.5874 | E12: kW | F12: 1 | G12: 5636846.6 | H12: 15117.837
B13: Street Light | C13: 4.69 | D13: 9.3574 | E13: kW | F13: 6256.5597 | G13: 1461699.7 | H13: 4448.1566
B14: Sentinel Light | C14: 7.01 | D14: 8.1011 | E14: kW | F14: 592.50562 | G14: 409776.21 | H14: 1338.9083
B15: USL | C15: 61.23 | D15: 0.0332 | E15: kWh | F15: 44.73103 | G15: 1347133.9
B16: Transformer Allowance | D16: -0.6 | E16: kW | H16: 323517.52
B17: Standby | D17: 1.5104 | E17: RC kW | H17: 78287.842
B19: 2027 Revenue from Existing Rates at Forecasted Loads
B21: Customer Class | C21: Fixed | D21: Variable | E21: Total Distribution | F21: Transformer Allowance | G21: Net Distribution Revenue | H21: Class % of Total
B22: =B9 -> Residential | C22: =C9*F9*12 -> 15935278 | D22: =IF(E9="kWh",D9*G9,D9*H9) -> 0 | E22: =C22+D22 -> 15935278 | G22: =E22+F22 -> 15935278 | H22: =G22/$G$30 -> 0.62456378
B23: =B10 -> GS < 50 | C23: =C10*F10*12 -> 1190896.5 | D23: =IF(E10="kWh",D10*G10,D10*H10) -> 2132860.4 | E23: =C23+D23 -> 3323756.9 | G23: =E23+F23 -> 3323756.9 | H23: =G23/$G$30 -> 0.13027059
B24: =B11 -> General Service >50kW (incl. SBY) | C24: =C11*F11*12 -> 469320.32 | D24: =IF(E11="kWh",D11*G11,D11*H11) -> 5161273.1 | E24: =C24+D24 -> 5630593.4 | F24: =D16*H16 -> -194110.51 | G24: =E24+F24 -> 5436482.9 | H24: =G24/$G$30 -> 0.21307631
B25: =B12 -> Embedded Distributor | C25: =C12*F12*12 -> 8408.28 | D25: =IF(E12="kWh",D12*G12,D12*H12) -> 160058.59 | E25: =C25+D25 -> 168466.87 | G25: =E25+F25 -> 168466.87 | H25: =G25/$G$30 -> 0.0066028534
B26: =B13 -> Street Light | C26: =C13*F13*12 -> 352119.18 | D26: =IF(E13="kWh",D13*G13,D13*H13) -> 41623.181 | E26: =C26+D26 -> 393742.36 | G26: =E26+F26 -> 393742.36 | H26: =G26/$G$30 -> 0.015432251
B27: =B14 -> Sentinel Light | C27: =C14*F14*12 -> 49841.573 | D27: =IF(E14="kWh",D14*G14,D14*H14) -> 10846.63 | E27: =C27+D27 -> 60688.203 | G27: =E27+F27 -> 60688.203 | H27: =G27/$G$30 -> 0.0023786
B28: =B15 -> USL | C28: =C15*F15*12 -> 32866.571 | D28: =IF(E15="kWh",D15*G15,D15*H15) -> 44724.845 | E28: =C28+D28 -> 77591.416 | G28: =E28+F28 -> 77591.416 | H28: =G28/$G$30 -> 0.0030411009
B29: Standby | C29: 0 | D29: =D17*H17 -> 118245.96 | E29: =C29+D29 -> 118245.96 | G29: =E29+F29 -> 118245.96 | H29: =G29/$G$30 -> 0.0046345059
B30: Total | C30: =SUM(C22:C28) -> 18038731 | D30: =SUM(D22:D29) -> 7669632.7 | E30: =SUM(E22:E29) -> 25708363 | F30: =SUM(F22:F28) -> -194110.51 | G30: =SUM(G22:G29) -> 25514253 | H30: =SUM(H22:H29) -> 1
B32: General Service >50kW (incl. SBY) | C32: =C24+C29 -> 469320.32 | D32: =D24+D29 -> 5279519.1 | E32: =E24+E29 -> 5748839.4 | F32: =F24+F29 -> -194110.51 | G32: =G24+G29 -> 5554728.9 | H32: =G32/$G$30 -> 0.21771082
B36: 2027 Fixed and Variable Proportions at Existing Rates
B38: Customer Class | C38: Fixed % | D38: Variable %
B39: =B22 -> Residential | C39: =C22/G22 -> 1 | D39: =(D22+F22)/G22 -> 0
B40: =B23 -> GS < 50 | C40: =C23/G23 -> 0.35829833 | D40: =(D23+F23)/G23 -> 0.64170167
B41: =B24 -> General Service >50kW (incl. SBY) | C41: =C24/G24 -> 0.08632793 | D41: =(D24+F24)/G24 -> 0.91367207
B42: =B25 -> Embedded Distributor | C42: =C25/G25 -> 0.049910585 | D42: =(D25+F25)/G25 -> 0.95008942
B43: =B26 -> Street Light | C43: =C26/G26 -> 0.89428828 | D43: =(D26+F26)/G26 -> 0.10571172
B44: =B27 -> Sentinel Light | C44: =C27/G27 -> 0.82127284 | D44: =(D27+F27)/G27 -> 0.17872716
B45: =B28 -> USL | C45: =C28/G28 -> 0.42358515 | D45: =(D28+F28)/G28 -> 0.57641485
B46: Standby | C46: =C29/G29 -> 0 | D46: =(D29+F29)/G29 -> 1
B47: Total | C47: =C30/G30 -> 0.70700603 | D47: =(D30+F30)/G30 -> 0.29299397
B49: General Service >50kW (incl. SBY) | C49: =C32/G32 -> 0.084490229 | D49: =(D32+F32)/G32 -> 0.91550977

Sheet B. Test Year Rate Design
B2: CNPI Rate Design Model - Sheet B - Test Year Rate Design
B5: Results from CA Model (Note: Street/Sentinal Light and USL values are multiplied by the connection/device ratios or device/account to align with billing basis)
C7: Residential | D7: GS < 50 | E7: GS 50 to 4,999 kW | F7: Embedded Distributor | G7: Street Light | H7: Sentinel Light | I7: USL
B8: Customer Unit Cost per month - Avoided Cost | C8: 5.9914462 | D8: 8.924315 | E8: 11.407989 | F8: 325.14997 | G8: -0.0046176908 | H8: 0.1423751 | I8: 1.1069229
B9: Customer Unit Cost per month - Directly Related | C9: 10.063285 | D9: 14.472868 | E9: 21.986726 | F9: 508.37927 | G9: -0.0043866073 | H9: 0.27258446 | I9: 2.0463593
B10: Customer Unit Cost per month - Minimum System with PLCC Adjustment | C10: 34.082743 | D10: 40.236635 | E10: 62.206543 | F10: 539.24486 | G10: 6.5417344 | H10: -88.05154 | I10: 22.796091
B11: Existing Approved Fixed Charge | C11: 46.08 | D11: 38.83 | E11: 194.73 | F11: 700.69 | G11: 4.69 | H11: 7.01 | I11: 61.23
B13: Minimum Fixed Charge | C13: =ROUND(MIN(C8:C11),2) -> 5.99 | D13: =ROUND(MIN(D8:D11),2) -> 8.92 | E13: =ROUND(MIN(E8:E11),2) -> 11.41 | F13: =ROUND(MIN(F8:F11),2) -> 325.15 | G13: =ROUND(MIN(G8:G11),2) -> 0 | H13: =ROUND(MIN(H8:H11),2) -> -88.05 | I13: =ROUND(MIN(I8:I11),2) -> 1.11
B14: Maximum Fixed Charge | C14: =ROUND(MAX(C8:C11),2) -> 46.08 | D14: =ROUND(MAX(D8:D11),2) -> 40.24 | E14: =ROUND(MAX(E8:E11),2) -> 194.73 | F14: =ROUND(MAX(F8:F11),2) -> 700.69 | G14: =ROUND(MAX(G8:G11),2) -> 6.54 | H14: =ROUND(MAX(H8:H11),2) -> 7.01 | I14: =ROUND(MAX(I8:I11),2) -> 61.23
B17: Test Year Monthly Service Charges at Status-Quo Fixed/Variable Proportions
B19: Customer Class | C19: Existing Rates | E19: Status Quo F/V Split for Test Year
C20: Fixed Charge | D20: Fixed Revenue Ratio | E20: Allocated Revenue | F20: Fixed Revenue | G20: # of Customers/ Devices | H20: Resulting Fixed Charge
B21: =B34 -> Residential | C21: =C34 -> 46.08 | D21: ='A. TestYr Rev at BrdgYr Rates'!C39 -> 1 | E21: ='Cost Allocation Study'!Y7 -> 18139209 | F21: =D21*E21 -> 18139209 | G21: 28818.139 | H21: =ROUND(F21/G21/12,2) -> 52.45
B22: =B35 -> GS < 50 | C22: =C35 -> 38.83 | D22: ='A. TestYr Rev at BrdgYr Rates'!C40 -> 0.35829833 | E22: ='Cost Allocation Study'!Y8 -> 3779651.8 | F22: =D22*E22 -> 1354242.9 | G22: 2555.7914 | H22: =ROUND(F22/G22/12,2) -> 44.16
B23: =B36 -> General Service >50kW (incl. SBY) | C23: =C36 -> 194.73 | D23: ='A. TestYr Rev at BrdgYr Rates'!C49 -> 0.084490229 | E23: ='Cost Allocation Study'!Y9 -> 6316629.5 | F23: =D23*E23 -> 533693.48 | G23: 200.84233 | H23: =ROUND(F23/G23/12,2) -> 221.44
B24: =B37 -> Embedded Distributor | C24: =C37 -> 700.69 | D24: ='A. TestYr Rev at BrdgYr Rates'!C42 -> 0.049910585 | E24: ='Cost Allocation Study'!Y10 -> 190571.95 | F24: =D24*E24 -> 9511.5575 | G24: 1 | H24: =ROUND(F24/G24/12,2) -> 792.63
B25: =B38 -> Street Light | C25: =C38 -> 4.69 | D25: ='A. TestYr Rev at BrdgYr Rates'!C43 -> 0.89428828 | E25: ='Cost Allocation Study'!Y11 -> 430543.98 | F25: =D25*E25 -> 385030.44 | G25: 6256.5597 | H25: =ROUND(F25/G25/12,5) -> 5.12836
B26: =B39 -> Sentinel Light | C26: =C39 -> 7.01 | D26: ='A. TestYr Rev at BrdgYr Rates'!C44 -> 0.82127284 | E26: ='Cost Allocation Study'!Y12 -> 69012.35 | F26: =D26*E26 -> 56677.969 | G26: 592.50562 | H26: =ROUND(F26/G26/12,2) -> 7.97
B27: =B40 -> USL | C27: =C40 -> 61.23 | D27: ='A. TestYr Rev at BrdgYr Rates'!C45 -> 0.42358515 | E27: ='Cost Allocation Study'!Y13 -> 88234.051 | F27: =D27*E27 -> 37374.634 | G27: 44.73103 | H27: =ROUND(F27/G27/12,2) -> 69.63
B28: Standby | C28: 0 | D28: 0 | E28: ='Cost Allocation Study'!Y14 -> 0 | F28: =D28*E28 -> 0 | G28: 0 | H28: 0
E29: =SUM(E21:E28) -> 29013852
B30: Monthly Service Charges Compared to Cost Allocation Study
B32: Customer Class | C32: Fixed Charge
C33: Bridge Year Approved | D33: Test Year Status Quo | E33: Minimum | F33: Maximum
B34: Residential | C34: ='A. TestYr Rev at BrdgYr Rates'!C9 -> 46.08 | D34: =H21 -> 52.45 | E34: =C13 -> 5.99 | F34: =C14 -> 46.08
B35: GS < 50 | C35: ='A. TestYr Rev at BrdgYr Rates'!C10 -> 38.83 | D35: =H22 -> 44.16 | E35: =D13 -> 8.92 | F35: =D14 -> 40.24
B36: General Service >50kW (incl. SBY) | C36: ='A. TestYr Rev at BrdgYr Rates'!C11 -> 194.73 | D36: =H23 -> 221.44 | E36: =E13 -> 11.41 | F36: =E14 -> 194.73
B37: Embedded Distributor | C37: ='A. TestYr Rev at BrdgYr Rates'!C12 -> 700.69 | D37: =H24 -> 792.63 | E37: =F13 -> 325.15 | F37: =F14 -> 700.69
B38: Street Light | C38: ='A. TestYr Rev at BrdgYr Rates'!C13 -> 4.69 | D38: =H25 -> 5.12836 | E38: =G13 -> 0 | F38: =G14 -> 6.54
B39: Sentinel Light | C39: ='A. TestYr Rev at BrdgYr Rates'!C14 -> 7.01 | D39: =H26 -> 7.97 | E39: =H13 -> -88.05 | F39: =H14 -> 7.01
B40: USL | C40: ='A. TestYr Rev at BrdgYr Rates'!C15 -> 61.23 | D40: =H27 -> 69.63 | E40: =I13 -> 1.11 | F40: =I14 -> 61.23
B43: Proposed 2027 Fixed Charges and Class Revenues
B45: Customer Class | C45: Fixed Rate Setting | D45: Fixed Charge | E45: =G20 -> # of Customers/ Devices | F45: Fixed Revenue
B46: =B21 -> Residential | C46: 100% Fixed | D46: =H21 -> 52.45 | E46: =G21 -> 28818.139 | F46: =D46*E46*12 -> 18138137
B47: =B22 -> GS < 50 | C47: =IF(H22<E35,"Increase to Min",IF(H22>F35,"Maintain Rate","Maintain Ratio")) -> Maintain Rate | D47: =F35 -> 40.24 | E47: =G22 -> 2555.7914 | F47: =D47*E47*12 -> 1234140.5
B48: =B23 -> General Service >50kW (incl. SBY) | C48: =IF(H23<E36,"Increase to Min",IF(H23>F36,"Maintain Rate","Maintain Ratio")) -> Maintain Rate | D48: =IF(H23<E36,E36,IF(H23>F36,C36,H23)) -> 194.73 | E48: =G23 -> 200.84233 | F48: =D48*E48*12 -> 469320.32
B49: =B24 -> Embedded Distributor | C49: =IF(H24<E37,"Increase to Min",IF(H24>F37,"Maintain Rate","Maintain Ratio")) -> Maintain Rate | D49: =IF(H24<E37,E37,IF(H24>F37,C37,H24)) -> 700.69 | E49: =G24 -> 1 | F49: =D49*E49*12 -> 8408.28
B50: =B25 -> Street Light | C50: =IF(H25<E38,"Increase to Min",IF(H25>F38,"Maintain Rate","Maintain Ratio")) -> Maintain Ratio | D50: =IF(H25<E38,E38,IF(H25>F38,C38,H25)) -> 5.12836 | E50: =G25 -> 6256.5597 | F50: =D50*E50*12 -> 385030.68
B51: =B26 -> Sentinel Light | C51: =IF(H26<E39,"Increase to Min",IF(H26>F39,"Maintain Rate","Maintain Ratio")) -> Maintain Rate | D51: =IF(H26<E39,E39,IF(H26>F39,C39,H26)) -> 7.01 | E51: =G26 -> 592.50562 | F51: =D51*E51*12 -> 49841.573
B52: =B27 -> USL | C52: =IF(H27<E40,"Increase to Min",IF(H27>F40,"Maintain Rate","Maintain Ratio")) -> Maintain Rate | D52: =IF(H27<E40,E40,IF(H27>F40,C40,H27)) -> 61.23 | E52: =G27 -> 44.73103 | F52: =D52*E52*12 -> 32866.571
B55: Fixed/Variable Proportion Comparison
B57: Customer Class | C57: From Table 8-5 | E57: Test Year Proposed
C58: Fixed % | D58: Variable % | E58: Fixed % | F58: Variable %
B59: =B83 -> Residential | C59: ='A. TestYr Rev at BrdgYr Rates'!C39 -> 1 | D59: ='A. TestYr Rev at BrdgYr Rates'!D39 -> 0 | E59: 1 | F59: =1-E59 -> 0
B60: =B84 -> GS < 50 | C60: ='A. TestYr Rev at BrdgYr Rates'!C40 -> 0.35829833 | D60: ='A. TestYr Rev at BrdgYr Rates'!D40 -> 0.64170167 | E60: =F47/E22 -> 0.32652228 | F60: =1-E60 -> 0.67347772
B61: =B85 -> General Service >50kW (incl. SBY) | C61: ='A. TestYr Rev at BrdgYr Rates'!C41 -> 0.08632793 | D61: ='A. TestYr Rev at BrdgYr Rates'!D41 -> 0.91367207 | E61: =F48/E23 -> 0.074299168 | F61: =1-E61 -> 0.92570083
B62: =B86 -> Embedded Distributor | C62: ='A. TestYr Rev at BrdgYr Rates'!C42 -> 0.049910585 | D62: ='A. TestYr Rev at BrdgYr Rates'!D42 -> 0.95008942 | E62: =F49/E24 -> 0.044121288 | F62: =1-E62 -> 0.95587871
B63: =B87 -> Street Light | C63: ='A. TestYr Rev at BrdgYr Rates'!C43 -> 0.89428828 | D63: ='A. TestYr Rev at BrdgYr Rates'!D43 -> 0.10571172 | E63: =F50/E25 -> 0.89428886 | F63: =1-E63 -> 0.10571114
B64: =B88 -> Sentinel Light | C64: ='A. TestYr Rev at BrdgYr Rates'!C44 -> 0.82127284 | D64: ='A. TestYr Rev at BrdgYr Rates'!D44 -> 0.17872716 | E64: =F51/E26 -> 0.72221237 | F64: =1-E64 -> 0.27778763
B65: =B89 -> USL | C65: ='A. TestYr Rev at BrdgYr Rates'!C45 -> 0.42358515 | D65: ='A. TestYr Rev at BrdgYr Rates'!D45 -> 0.57641485 | E65: =F52/E27 -> 0.37249306 | F65: =1-E65 -> 0.62750694
B66: Standby
B68: Proposed 2027 Variable Distribution Rates and Class Revenues
B70: Customer Class | C70: Variable Revenue | D70: Transformer Allowance | E70: kWh/kW | F70: Variable Rate | G70: Determinant
B71: =B46 -> Residential | C71: 0 | E71: =IF(G71="kWh",'A. TestYr Rev at BrdgYr Rates'!G9,'A. TestYr Rev at BrdgYr Rates'!H9) -> 2.3740347e+08 | F71: =ROUND((C71+D71)/E71,4) -> 0 | G71: kWh
B72: =B47 -> GS < 50 | C72: =E22-F47 -> 2545511.3 | E72: =IF(G72="kWh",'A. TestYr Rev at BrdgYr Rates'!G10,'A. TestYr Rev at BrdgYr Rates'!H10) -> 67709853 | F72: =ROUND((C72+D72)/E72,4) -> 0.0376 | G72: kWh
B73: =B48 -> General Service >50kW (incl. SBY) | C73: =E23-F48 -> 5847309.2 | D73: =-'A. TestYr Rev at BrdgYr Rates'!F24 -> 194110.51 | E73: =IF(G73="kWh",'A. TestYr Rev at BrdgYr Rates'!G11,'A. TestYr Rev at BrdgYr Rates'!H11)+IF(G78="kWh",'A. TestYr Rev at BrdgYr Rates'!G17,'A. TestYr Rev at BrdgYr Rates'!H17) -> 639655.8 | F73: =ROUND((C73+D73)/E73,4) -> 9.4448 | G73: kW
B74: =B49 -> Embedded Distributor | C74: =E24-F49 -> 182163.67 | E74: =IF(G74="kWh",'A. TestYr Rev at BrdgYr Rates'!G12,'A. TestYr Rev at BrdgYr Rates'!H12) -> 15117.837 | F74: =ROUND((C74+D74)/E74,4) -> 12.0496 | G74: kW
B75: =B50 -> Street Light | C75: =E25-F50 -> 45513.296 | E75: =IF(G75="kWh",'A. TestYr Rev at BrdgYr Rates'!G13,'A. TestYr Rev at BrdgYr Rates'!H13) -> 4448.1566 | F75: =ROUND((C75+D75)/E75,4) -> 10.2319 | G75: kW
B76: =B51 -> Sentinel Light | C76: =E26-F51 -> 19170.777 | E76: =IF(G76="kWh",'A. TestYr Rev at BrdgYr Rates'!G14,'A. TestYr Rev at BrdgYr Rates'!H14) -> 1338.9083 | F76: =ROUND((C76+D76)/E76,4) -> 14.3182 | G76: kW
B77: =B52 -> USL | C77: =E27-F52 -> 55367.48 | E77: =IF(G77="kWh",'A. TestYr Rev at BrdgYr Rates'!G15,'A. TestYr Rev at BrdgYr Rates'!H15) -> 1347133.9 | F77: =ROUND((C77+D77)/E77,4) -> 0.0411 | G77: kWh
B78: Standby | C78: =E28-F53 -> 0 | E78: =IF(G78="kWh",'A. TestYr Rev at BrdgYr Rates'!G17,'A. TestYr Rev at BrdgYr Rates'!H17) -> 78287.842 | F78: =ROUND((C78+D78)/E78,4) -> 0 | G78: kW
B80: Revenue Reconciliation Summary
B82: Customer Class | C82: Fixed Revenue | D82: Variable Revenue | E82: Revenue Less Transformer Allowance | F82: Allocated Base Revenue Requirement | G82: Difference (Due to Rounding)
B83: =B71 -> Residential | C83: =F46 -> 18138137 | D83: 0 | E83: =C83+D83-D71 -> 18138137 | F83: =E21 -> 18139209 | G83: =E83-F83 -> -1071.8291
B84: =B72 -> GS < 50 | C84: =F47 -> 1234140.5 | D84: =E72*F72 -> 2545890.5 | E84: =C84+D84-D72 -> 3780031 | F84: =E22 -> 3779651.8 | G84: =E84-F84 -> 379.19163
B85: =B73 -> General Service >50kW (incl. SBY) | C85: =F48 -> 469320.32 | D85: =E73*F73 -> 6041421.1 | E85: =C85+D85-D73 -> 6316630.9 | F85: =E23 -> 6316629.5 | G85: =E85-F85 -> 1.3411838
B86: =B74 -> Embedded Distributor | C86: =F49 -> 8408.28 | D86: =E74*F74 -> 182163.89 | E86: =C86+D86-D74 -> 190572.17 | F86: =E24 -> 190571.95 | G86: =E86-F86 -> 0.22100814
B87: =B75 -> Street Light | C87: =F50 -> 385030.68 | D87: =E75*F75 -> 45513.094 | E87: =C87+D87-D75 -> 430543.78 | F87: =E25 -> 430543.98 | G87: =E87-F87 -> -0.2018897
B88: =B76 -> Sentinel Light | C88: =F51 -> 49841.573 | D88: =E76*F76 -> 19170.756 | E88: =C88+D88-D76 -> 69012.329 | F88: =E26 -> 69012.35 | G88: =E88-F88 -> -0.020671188
B89: =B77 -> USL | C89: =F52 -> 32866.571 | D89: =E77*F77 -> 55367.202 | E89: =C89+D89-D77 -> 88233.774 | F89: =E27 -> 88234.051 | G89: =E89-F89 -> -0.27717951
B90: Standby | C90: =F53 -> 0 | D90: =E78*F78 -> 0 | E90: =C90+D90-D78 -> 0 | F90: =E28 -> 0 | G90: =E90-F90 -> 0
B91: Total | C91: =SUM(C83:C90) -> 20317745 | D91: =SUM(D83:D90) -> 8889526.5 | E91: =SUM(E83:E90) -> 29013161 | F91: =SUM(F83:F90) -> 29013852 | G91: =SUM(G83:G90) -> -691.57505
B93: Comparison of Current and Proposed Rates
B95: Customer Class | C95: Determinant | D95: Bridge Year Approved | F95: Test Year Proposed
D96: Fixed Charge | E96: Variable Rate | F96: Fixed Charge | G96: Variable Rate
B97: =B83 -> Residential | C97: =G71 -> kWh | D97: ='A. TestYr Rev at BrdgYr Rates'!C9 -> 46.08 | E97: ='A. TestYr Rev at BrdgYr Rates'!D9 -> 0 | F97: =ROUND(D46,2) -> 52.45 | G97: =F71 -> 0
B98: =B84 -> GS < 50 | C98: =G72 -> kWh | D98: ='A. TestYr Rev at BrdgYr Rates'!C10 -> 38.83 | E98: ='A. TestYr Rev at BrdgYr Rates'!D10 -> 0.0315 | F98: =ROUND(D47,2) -> 40.24 | G98: =F72 -> 0.0376
B99: =B85 -> General Service >50kW (incl. SBY) | C99: =G73 -> kW | D99: ='A. TestYr Rev at BrdgYr Rates'!C11 -> 194.73 | E99: ='A. TestYr Rev at BrdgYr Rates'!D11 -> 9.1941 | F99: =ROUND(D48,2) -> 194.73 | G99: =F73 -> 9.4448
B100: =B86 -> Embedded Distributor | C100: =G74 -> kW | D100: ='A. TestYr Rev at BrdgYr Rates'!C12 -> 700.69 | E100: ='A. TestYr Rev at BrdgYr Rates'!D12 -> 10.5874 | F100: =ROUND(D49,2) -> 700.69 | G100: =F74 -> 12.0496
B101: =B87 -> Street Light | C101: =G75 -> kW | D101: ='A. TestYr Rev at BrdgYr Rates'!C13 -> 4.69 | E101: ='A. TestYr Rev at BrdgYr Rates'!D13 -> 9.3574 | F101: =ROUND(D50,2) -> 5.13 | G101: =F75 -> 10.2319
B102: =B88 -> Sentinel Light | C102: =G76 -> kW | D102: ='A. TestYr Rev at BrdgYr Rates'!C14 -> 7.01 | E102: ='A. TestYr Rev at BrdgYr Rates'!D14 -> 8.1011 | F102: =ROUND(D51,2) -> 7.01 | G102: =F76 -> 14.3182
B103: =B89 -> USL | C103: =G77 -> kWh | D103: ='A. TestYr Rev at BrdgYr Rates'!C15 -> 61.23 | E103: ='A. TestYr Rev at BrdgYr Rates'!D15 -> 0.0332 | F103: =ROUND(D52,2) -> 61.23 | G103: =F77 -> 0.0411
B104: Standby | C104: =G78 -> kW | D104: ='A. TestYr Rev at BrdgYr Rates'!C17 -> 0 | E104: ='A. TestYr Rev at BrdgYr Rates'!D17 -> 1.5104 | F104: =ROUND(D53,2) -> 0 | G104: =F78 -> 0
B106: Reconciliation of Distribution Rate Revenue to Base Revenue Requirement
B108: Customer Class | C108: Determinant | D108: Test Year Load Forecast | F108: Proposed Rates | H108: Test Year Revenue
D109: Customers/ Devices | E109: Volume | F109: Fixed | G109: Variable | H109: Fixed | I109: Variable | J109: Total
B110: =B97 -> Residential | C110: =C97 -> kWh | D110: =E46 -> 28818.139 | E110: =E71 -> 2.3740347e+08 | F110: =F97 -> 52.45 | G110: =G97 -> 0 | H110: =D110*F110*12 -> 18138137 | I110: =E110*G110 -> 0 | J110: =H110+I110 -> 18138137
B111: =B98 -> GS < 50 | C111: =C98 -> kWh | D111: =E47 -> 2555.7914 | E111: =E72 -> 67709853 | F111: =F98 -> 40.24 | G111: =G98 -> 0.0376 | H111: =D111*F111*12 -> 1234140.5 | I111: =E111*G111 -> 2545890.5 | J111: =H111+I111 -> 3780031
B112: =B99 -> General Service >50kW (incl. SBY) | C112: =C99 -> kW | D112: =E48 -> 200.84233 | E112: =E73 -> 639655.8 | F112: =F99 -> 194.73 | G112: =G99 -> 9.4448 | H112: =D112*F112*12 -> 469320.32 | I112: =E112*G112 -> 6041421.1 | J112: =H112+I112 -> 6510741.4
B113: =B100 -> Embedded Distributor | C113: =C100 -> kW | D113: =E49 -> 1 | E113: =E74 -> 15117.837 | F113: =F100 -> 700.69 | G113: =G100 -> 12.0496 | H113: =D113*F113*12 -> 8408.28 | I113: =E113*G113 -> 182163.89 | J113: =H113+I113 -> 190572.17
B114: =B101 -> Street Light | C114: =C101 -> kW | D114: =E50 -> 6256.5597 | E114: =E75 -> 4448.1566 | F114: =F101 -> 5.13 | G114: =G101 -> 10.2319 | H114: =D114*F114*12 -> 385153.81 | I114: =E114*G114 -> 45513.094 | J114: =H114+I114 -> 430666.91
B115: =B102 -> Sentinel Light | C115: =C102 -> kW | D115: =E51 -> 592.50562 | E115: =E76 -> 1338.9083 | F115: =F102 -> 7.01 | G115: =G102 -> 14.3182 | H115: =D115*F115*12 -> 49841.573 | I115: =E115*G115 -> 19170.756 | J115: =H115+I115 -> 69012.329
B116: =B103 -> USL | C116: =C103 -> kWh | D116: =E52 -> 44.73103 | E116: =E77 -> 1347133.9 | F116: =F103 -> 61.23 | G116: =G103 -> 0.0411 | H116: =D116*F116*12 -> 32866.571 | I116: =E116*G116 -> 55367.202 | J116: =H116+I116 -> 88233.774
B117: Standby | C117: =C104 -> kW | D117: =E53 -> 0 | E117: =E78 -> 78287.842 | F117: =F104 -> 0 | G117: =G104 -> 0 | H117: =D117*F117*12 -> 0 | I117: =E117*G117 -> 0 | J117: =H117+I117 -> 0
B119: Total: | H119: =SUM(H110:H117) -> 20317868 | I119: =SUM(I110:I117) -> 8889526.5 | J119: =H119+I119 -> 29207394
B120: Less Transformer Allowance: | I120: =-D73 -> -194110.51 | J120: =H120+I120 -> -194110.51
H121: =H119+H120 -> 20317868 | I121: =I119+I120 -> 8695415.9 | J121: =J119+J120 -> 29013284
B123: Base Revenue Requirement: | J123: =F91 -> 29013852
B125: Difference ($): | J125: =J121-J123 -> -568.44595
B126: Difference (%): | J126: =J125/J123 -> -1.9592226e-05

Sheet Cost Allocation Study
C3: 2027 REVENUE TO COST RATIO DETERMINATION
B4: Customer Class | C4: COSS | I4: Rate Design Revenue Requirement
P5: Outside Range | R5: Bill Impact Mitigations * | V5: Include Standy to SB | W5: Proposed Revenue before Miscl Revenue | X5: Miscellaneous Revenue | Y5: Proposed Base Revenue
C6: Miscellaneous Revenue (mi) | D6: Net Distribution Revenue | E6: Total | F6: Revenue Requirement | G6: Net Distribution Revenue | H6: Revenue Deficiency From Distribution Revenue | I6: Across the Board Increases Factor | J6: Distribution Revenue | K6: Miscellaneous Revenue (mi) | L6: Revenue Requirement | M6: Status Quo (uncolored cells designate ratios outside of 80/120) | N6: Outside the Range | O6: Within the Policy Revenue | P6: Variance | Q6: Net Revenue | T6: R/C | AA6: Final R/C ratio
B7: Residential | C7: 941646.97 | D7: ='A. TestYr Rev at BrdgYr Rates'!G22 -> 15935278 | E7: =D7+C7 -> 16876925 | F7: 20261806 | G7: =F7-C7 -> 19320159 | H7: =G7-D7 -> 3384880.3 | I7: =1+($H$15/$D$15) -> 1.1371625 | J7: =D7*I7 -> 18121001 | K7: =C7 -> 941646.97 | L7: =J7+K7 -> 19062648 | M7: =L7/F7 -> 0.94081686 | N7: =M7-IF(M7>1.2,1.2,IF(M7<0.85,0.85,M7)) -> 0 | O7: =IF(N7>0,(1.2*F7),L7) -> 19062648 | P7: =L7-O7 -> 0 | Q7: =O7+P15 -> 19063651 | S7: =Q7+R7+R15 -> 19080856 | T7: =S7/F7 -> 0.94171547 | U7: =F7*T7 -> 19080856 | W7: =U7+V7 -> 19080856 | X7: =K7 -> 941646.97 | Y7: =W7-X7 -> 18139209 | AA7: =W7/F7 -> 0.94171547
B8: GS < 50 | C8: 141843.63 | D8: ='A. TestYr Rev at BrdgYr Rates'!G23 -> 3323756.9 | E8: =D8+C8 -> 3465600.5 | F8: 3421483.9 | G8: =F8-C8 -> 3279640.3 | H8: =G8-D8 -> -44116.585 | I8: =1+($H$15/$D$15) -> 1.1371625 | J8: =D8*I8 -> 3779651.8 | K8: =C8 -> 141843.63 | L8: =J8+K8 -> 3921495.4 | M8: =L8/F8 -> 1.1461388 | N8: =M8-IF(M8>1.2,1.2,IF(M8<0.85,0.85,M8)) -> 0 | O8: =IF(N8>0,(1.2*F8),L8) -> 3921495.4 | P8: =L8-O8 -> 0 | Q8: =L8-P8 -> 3921495.4 | S8: =Q8-R8 -> 3921495.4 | T8: =S8/F8 -> 1.1461388 | U8: =F8*T8 -> 3921495.4 | W8: =U8+V8 -> 3921495.4 | X8: =K8 -> 141843.63 | Y8: =W8-X8 -> 3779651.8 | AA8: =W8/F8 -> 1.1461388
B9: General Service >50kW (incl. SBY) | C9: 229877.41 | D9: ='A. TestYr Rev at BrdgYr Rates'!G24 -> 5436482.9 | E9: =D9+C9 -> 5666360.3 | F9: 5925853.1 | G9: =F9-C9 -> 5695975.7 | H9: =G9-D9 -> 259492.78 | I9: =1+($H$15/$D$15) -> 1.1371625 | J9: =D9*I9 -> 6182164.7 | K9: =C9 -> 229877.41 | L9: =J9+K9 -> 6412042.1 | M9: =L9/F9 -> 1.0820454 | N9: =M9-IF(M9>1.2,1.2,IF(M9<0.85,0.85,M9)) -> 0 | O9: =IF(N9>0,(1.2*F9),L9) -> 6412042.1 | P9: =L9-O9 -> 0 | Q9: =L9-P9 -> 6412042.1 | S9: =Q9-R9 -> 6412042.1 | T9: =S9/F9 -> 1.0820454 | U9: =F9*T9 -> 6412042.1 | V9: =S14 -> 134464.87 | W9: =U9+V9 -> 6546506.9 | X9: =K9 -> 229877.41 | Y9: =W9-X9 -> 6316629.5 | AA9: =W9/F9 -> 1.1047366
B10: Embedded Distributor | C10: 7463.2472 | D10: ='A. TestYr Rev at BrdgYr Rates'!G25 -> 168466.87 | E10: =D10+C10 -> 175930.12 | F10: 165029.33 | G10: =F10-C10 -> 157566.08 | H10: =G10-D10 -> -10900.786 | I10: =1+($H$15/$D$15) -> 1.1371625 | J10: =D10*I10 -> 191574.21 | K10: =C10 -> 7463.2472 | L10: =J10+K10 -> 199037.46 | M10: =L10/F10 -> 1.2060732 | N10: =M10-IF(M10>1.2,1.2,IF(M10<0.85,0.85,M10)) -> 0.0060732306 | O10: =IF(N10>0,(1.2*F10),L10) -> 198035.2 | P10: =L10-O10 -> 1002.2612 | Q10: =L10-P10 -> 198035.2 | S10: =Q10-R10 -> 198035.2 | T10: =S10/F10 -> 1.2 | U10: =F10*T10 -> 198035.2 | V10: 0 | W10: =U10+V10 -> 198035.2 | X10: =K10 -> 7463.2472 | Y10: =W10-X10 -> 190571.95 | AA10: =W10/F10 -> 1.2
B11: Street Light | C11: 21600.36 | D11: ='A. TestYr Rev at BrdgYr Rates'!G26 -> 393742.36 | E11: =D11+C11 -> 415342.72 | F11: 436432.76 | G11: =F11-C11 -> 414832.4 | H11: =G11-D11 -> 21090.041 | I11: =1+($H$15/$D$15) -> 1.1371625 | J11: =D11*I11 -> 447749.06 | K11: =C11 -> 21600.36 | L11: =J11+K11 -> 469349.42 | M11: =L11/F11 -> 1.0754221 | N11: =M11-IF(M11>1.2,1.2,IF(M11<0.85,0.85,M11)) -> 0 | O11: =IF(N11>0,(1.2*F11),L11) -> 469349.42 | P11: =L11-O11 -> 0 | Q11: =L11-P11 -> 469349.42 | R11: 17205.077 | S11: =Q11-R11 -> 452144.34 | T11: =S11/F11 -> 1.036 | U11: =F11*T11 -> 452144.34 | W11: =U11+V11 -> 452144.34 | X11: =K11 -> 21600.36 | Y11: =W11-X11 -> 430543.98 | AA11: =W11/F11 -> 1.036
B12: Sentinel Light | C12: 3590.4802 | D12: ='A. TestYr Rev at BrdgYr Rates'!G27 -> 60688.203 | E12: =D12+C12 -> 64278.683 | F12: 73243.552 | G12: =F12-C12 -> 69653.072 | H12: =G12-D12 -> 8964.8693 | I12: =1+($H$15/$D$15) -> 1.1371625 | J12: =D12*I12 -> 69012.35 | K12: =C12 -> 3590.4802 | L12: =J12+K12 -> 72602.83 | M12: =L12/F12 -> 0.99125217 | N12: =M12-IF(M12>1.2,1.2,IF(M12<0.85,0.85,M12)) -> 0 | O12: =IF(N12>0,(1.2*F12),L12) -> 72602.83 | P12: =L12-O12 -> 0 | Q12: =L12-P12 -> 72602.83 | S12: =Q12-R12 -> 72602.83 | T12: =S12/F12 -> 0.99125217 | U12: =F12*T12 -> 72602.83 | W12: =U12+V12 -> 72602.83 | X12: =K12 -> 3590.4802 | Y12: =W12-X12 -> 69012.35 | AA12: =W12/F12 -> 0.99125217
B13: USL | C13: 3576.57 | D13: ='A. TestYr Rev at BrdgYr Rates'!G28 -> 77591.416 | E13: =D13+C13 -> 81167.986 | F13: 79602.765 | G13: =F13-C13 -> 76026.195 | H13: =G13-D13 -> -1565.2214 | I13: =1+($H$15/$D$15) -> 1.1371625 | J13: =D13*I13 -> 88234.051 | K13: =C13 -> 3576.57 | L13: =J13+K13 -> 91810.621 | M13: =L13/F13 -> 1.1533597 | N13: =M13-IF(M13>1.2,1.2,IF(M13<0.85,0.85,M13)) -> 0 | O13: =IF(N13>0,(1.2*F13),L13) -> 91810.621 | P13: =L13-O13 -> 0 | Q13: =L13-P13 -> 91810.621 | S13: =Q13-R13 -> 91810.621 | T13: =S13/F13 -> 1.1533597 | U13: =F13*T13 -> 91810.621 | W13: =U13+V13 -> 91810.621 | X13: =K13 -> 3576.57 | Y13: =W13-X13 -> 88234.051 | AA13: =W13/F13 -> 1.1533597
B14: Standby | C14: 0 | D14: ='A. TestYr Rev at BrdgYr Rates'!G29 -> 118245.96 | E14: =D14+C14 -> 118245.96 | F14: 0 | G14: =F14-C14 -> 0 | H14: =G14-D14 -> -118245.96 | I14: =1+($H$15/$D$15) -> 1.1371625 | J14: =D14*I14 -> 134464.87 | K14: =C14 -> 0 | L14: =J14+K14 -> 134464.87 | M14: 1 | O14: =IF(N14>0,(1.2*F14),L14) -> 134464.87 | P14: =L14-O14 -> 0 | Q14: =L14-P14 -> 134464.87 | S14: =Q14-R14 -> 134464.87 | T14: =IFERROR(S14/F14,0) -> 0 | U14: =F14*T14 -> 0 | W14: =U14+V14 -> 0 | X14: =K14 -> 0 | Y14: =W14-X14 -> 0
C15: =SUM(C7:C14) -> 1349598.7 | D15: =SUM(D7:D14) -> 25514253 | E15: =SUM(E7:E14) -> 26863852 | F15: =SUM(F7:F14) -> 30363451 | G15: =SUM(G7:G14) -> 29013852 | H15: =SUM(H7:H14) -> 3499599.4 | J15: =SUM(J7:J14) -> 29013852 | K15: =SUM(K7:K14) -> 1349598.7 | L15: =SUM(L7:L14) -> 30363451 | P15: =SUM(P7:P14) -> 1002.2612 | Q15: =SUM(Q7:Q14) -> 30363451 | R15: =SUM(R7:R14) -> 17205.077 | S15: =SUM(S7:S14) -> 30363451 | T15: =S15/F15 -> 1 | U15: =SUM(U7:U14) -> 30228986 | V15: =SUM(V7:V14) -> 134464.87 | W15: =SUM(W7:W14) -> 30363451 | X15: =K15 -> 1349598.7 | Y15: =W15-X15 -> 29013852 | AA15: =W15/F15 -> 1
Q16: =L15-Q15 -> 0
C20: 1 | D20: Reduce Embedded amount to align to R/C range Policy | L20: =P10 -> 1002.2612
C21: 2 | D21: The Street Lighting was 12.7 %, before adjustments to the revenue to cost ratios to reduce | L21: =R11 -> 17205.077
C22: 3 | D22: Keep Standby rate at existing rate | L22: =V14 -> 0
D23: Incremental to Residential Class with Lower RC | L23: =SUM(L20:L22) -> 18207.338
C25: 4 | D25: Include Standby Revenue to General Service >50 | L25: =V9 -> 134464.87
