Workbook

Sheet Weighting Factor Calcs
B1: Table 7-4 Billing and Collecting – Allocation Factors by Cost Drive
C2: Cost Acounts | D2: Residential | E2: General Service <50 | F2: General Service >50 | G2: Street Light | H2: Sentinel Light | I2: Unmetered Scattered Load | J2: Embedded Distributor | K2: Total | L2: Cost Drivers
B3: Cost
C4: ='Billing Account 5313'!$B$2 -> Billing Account 5313 | D4: ='Billing Account 5313'!J13 -> 44452.321 | E4: ='Billing Account 5313'!J14 -> 3981.1789 | F4: ='Billing Account 5313'!J15 -> 22658.947 | G4: ='Billing Account 5313'!J16 -> 1472.8316 | H4: ='Billing Account 5313'!J17 -> 3058.9579 | I4: ='Billing Account 5313'!J18 -> 4984.9684 | J4: ='Billing Account 5313'!J19 -> 113.29474 | K4: =SUM(D4:J4) -> 80722.5 | L4: Number of Meters
C5: ='Postage Print Account 5315'!$B$2 -> Postage Print Account 5315 | D5: ='Postage Print Account 5315'!$E$11 -> 249387.89 | E5: ='Postage Print Account 5315'!$E$12 -> 17892.813 | F5: ='Postage Print Account 5315'!$E$13 -> 481.13834 | G5: ='Postage Print Account 5315'!$E$14 -> 193.47218 | H5: ='Postage Print Account 5315'!$E$15 -> 3095.5549 | I5: ='Postage Print Account 5315'!$E$16 -> 2076.1558 | J5: ='Postage Print Account 5315'!$E$17 -> 0 | K5: =SUM(D5:J5) -> 273127.02 | L5: ='Postage Print Account 5315'!$C10 -> Number of paper-billed accounts
C6: ='Collections Labour Account 5320'!$B$2 -> Collections Labour Account 5320 | D6: ='Collections Labour Account 5320'!$G$11 -> 401249.87 | E6: ='Collections Labour Account 5320'!$G$12 -> 28748.96 | F6: ='Collections Labour Account 5320'!$G$13 -> 1413.6979 | G6: ='Collections Labour Account 5320'!$G$14 -> 0 | H6: ='Collections Labour Account 5320'!$G$15 -> 0 | I6: ='Collections Labour Account 5320'!$G$16 -> 0 | J6: ='Collections Labour Account 5320'!$G$17 -> 0 | K6: =SUM(D6:J6) -> 431412.53 | L6: ='Collections Labour Account 5320'!C$10& " and "&'Collections Labour Account 5320'!D$10 -> Numbe of Meters and Relative difficulty /length of conversation
C7: ='Misc. Labour account 5340'!$B$2 -> Misc. Labour account 5340 | D7: ='Misc. Labour account 5340'!$G$11 -> 323656.89 | E7: ='Misc. Labour account 5340'!$G$12 -> 28704.126 | F7: ='Misc. Labour account 5340'!$G$13 -> 2255.6628 | G7: ='Misc. Labour account 5340'!$G$14 -> 70267.503 | H7: ='Misc. Labour account 5340'!$G$15 -> 6654.4383 | I7: ='Misc. Labour account 5340'!$G$16 -> 502.37478 | J7: ='Misc. Labour account 5340'!G17 -> 11.231013 | K7: =SUM(D7:J7) -> 432052.23 | L7: ='Misc. Labour account 5340'!C$10&" and "&'Misc. Labour account 5340'!D$10 -> Number of Customers and Relative difficulty /length of conversation
C8: Total Allocated Cost | D8: =SUM(D4:D7) -> 1018747 | E8: =SUM(E4:E7) -> 79327.078 | F8: =SUM(F4:F7) -> 26809.446 | G8: =SUM(G4:G7) -> 71933.806 | H8: =SUM(H4:H7) -> 12808.951 | I8: =SUM(I4:I7) -> 7563.4989 | J8: =SUM(J4:J7) -> 124.52575 | K8: =SUM(K4:K7) -> 1217314.3
B10: Number of Customers/Connections | D10: ='Misc. Labour account 5340'!$C$11 -> 28818.139 | E10: ='Misc. Labour account 5340'!$C$12 -> 2555.7914 | F10: ='Misc. Labour account 5340'!$C$13 -> 200.84233 | G10: ='Misc. Labour account 5340'!$C$14 -> 6256.5597 | H10: ='Misc. Labour account 5340'!$C$15 -> 592.50562 | I10: ='Misc. Labour account 5340'!$C$16 -> 44.73103 | J10: ='Misc. Labour account 5340'!$C$17 -> 1 | K10: =SUM(D10:J10) -> 38469.569
B11: Cost Per Customer/ Connectiosn'
C12: ='Billing Account 5313'!$B$2 -> Billing Account 5313 | D12: =D4/D$10 -> 1.5425118 | E12: =E4/E$10 -> 1.5577089 | F12: =F4/F$10 -> 112.81958 | G12: =G4/G$10 -> 0.23540598 | H12: =H4/H$10 -> 5.1627492 | I12: =I4/I$10 -> 111.44318 | J12: =J4/J$10 -> 113.29474 | K12: =K4/K$10 -> 2.0983469
C13: ='Postage Print Account 5315'!$B$2 -> Postage Print Account 5315 | D13: =D5/D$10 -> 8.6538511 | E13: =E5/E$10 -> 7.0008895 | F13: =F5/F$10 -> 2.3956023 | G13: =G5/G$10 -> 0.030923094 | H13: =H5/H$10 -> 5.2245157 | I13: =I5/I$10 -> 46.414218 | J13: =J5/J$10 -> 0 | K13: =K5/K$10 -> 7.0998201
C14: ='Collections Labour Account 5320'!$B$2 -> Collections Labour Account 5320 | D14: =D6/D$10 -> 13.923518 | E14: =E6/E$10 -> 11.248555 | F14: =F6/F$10 -> 7.0388444 | G14: =G6/G$10 -> 0 | H14: =H6/H$10 -> 0 | I14: =I6/I$10 -> 0 | J14: =J6/J$10 -> 0 | K14: =K6/K$10 -> 11.214384
C15: ='Misc. Labour account 5340'!$B$2 -> Misc. Labour account 5340 | D15: =D7/D$10 -> 11.231013 | E15: =E7/E$10 -> 11.231013 | F15: =F7/F$10 -> 11.231013 | G15: =G7/G$10 -> 11.231013 | H15: =H7/H$10 -> 11.231013 | I15: =I7/I$10 -> 11.231013 | J15: =J7/J$10 -> 11.231013 | K15: =K7/K$10 -> 11.231013
C16: Total Allocated Cost | D16: =D8/D$10 -> 35.350894 | E16: =E8/E$10 -> 31.038167 | F16: =F8/F$10 -> 133.48504 | G16: =G8/G$10 -> 11.497342 | H16: =H8/H$10 -> 21.618278 | I16: =I8/I$10 -> 169.08842 | J16: =J8/J$10 -> 124.52575 | K16: =K8/K$10 -> 31.643564
B17: Weights
C18: Weights
C19: Weighting Factor for Billing and Collecting | D19: =D16/$D16 -> 1 | E19: =E16/$D16 -> 0.87800232 | F19: =F16/$D16 -> 3.7760019 | G19: =G16/$D16 -> 0.32523483 | H19: =H16/$D16 -> 0.61153412 | I19: =I16/$D16 -> 4.783144 | J19: =J16/$D16 -> 3.522563

Sheet Billing Account 5313
B2: Billing Account 5313 | F2: 80722.5
E4: Relative Share | F4: Allocated Cost
B5: Smart Metered | E5: 0.6 | F5: =E5*F2 -> 48433.5
B6: Interval Metered | E6: 0.4 | F6: =E6*F2 -> 32289
B7: Total | E7: 1 | F7: =SUM(F5:F6) -> 80722.5
C9: Meters | F9: Relative Share | H9: Allocated Cost by Meter and Class
C10: Smart Metered | D10: Interval Metered | E10: Total | F10: Smart Metered | G10: =D10 -> Interval Metered | H10: Smart Metered | I10: Interval Metered | J10: Total
B11: Amount ( Smart Vs Interval Cost | H11: =F5 -> 48433.5 | I11: =F6 -> 32289 | J11: =H11+I11 -> 80722.5
B13: Residential | C13: 28383 | D13: 0 | E13: =C13+D13 -> 28383 | F13: =C13/$C$20 -> 0.91780113 | G13: =D13/$D$20 -> 0 | H13: =$H$11*F13 -> 44452.321 | I13: =$I$11*G13 -> 0 | J13: =H13+I13 -> 44452.321
B14: General Service <50 | C14: 2542 | D14: 0 | E14: =C14+D14 -> 2542 | F14: =C14/$C$20 -> 0.082198868 | G14: =D14/$D$20 -> 0 | H14: =$H$11*F14 -> 3981.1789 | I14: =$I$11*G14 -> 0 | J14: =H14+I14 -> 3981.1789
B15: General Service >50 | C15: 0 | D15: 200 | E15: =C15+D15 -> 200 | F15: =C15/$C$20 -> 0 | G15: =D15/$D$20 -> 0.70175439 | H15: =$H$11*F15 -> 0 | I15: =$I$11*G15 -> 22658.947 | J15: =H15+I15 -> 22658.947
B16: Street Light | C16: 0 | D16: 13 | E16: =C16+D16 -> 13 | F16: =C16/$C$20 -> 0 | G16: =D16/$D$20 -> 0.045614035 | H16: =$H$11*F16 -> 0 | I16: =$I$11*G16 -> 1472.8316 | J16: =H16+I16 -> 1472.8316
B17: Sentinel Light | C17: 0 | D17: 27 | E17: =C17+D17 -> 27 | F17: =C17/$C$20 -> 0 | G17: =D17/$D$20 -> 0.094736842 | H17: =$H$11*F17 -> 0 | I17: =$I$11*G17 -> 3058.9579 | J17: =H17+I17 -> 3058.9579
B18: Unmetered Scattered Load | C18: 0 | D18: 44 | E18: =C18+D18 -> 44 | F18: =C18/$C$20 -> 0 | G18: =D18/$D$20 -> 0.15438596 | H18: =$H$11*F18 -> 0 | I18: =$I$11*G18 -> 4984.9684 | J18: =H18+I18 -> 4984.9684
B19: Embedded Distributor | C19: 0 | D19: 1 | E19: =C19+D19 -> 1 | F19: =C19/$C$20 -> 0 | G19: =D19/$D$20 -> 0.0035087719 | H19: =$H$11*F19 -> 0 | I19: =$I$11*G19 -> 113.29474 | J19: =H19+I19 -> 113.29474
B20: Total | C20: =SUM(C13:C19) -> 30925 | D20: =SUM(D14:D19) -> 285 | E20: =C20+D20 -> 31210 | F20: =C20/$C$20 -> 1 | G20: =D20/$D$20 -> 1 | J20: =H20+I20 -> 0

Sheet Postage Print  Account 5315
B2: Postage Print Account 5315 | D2: 273127.02
B10: Class | C10: Number of paper-billed accounts | D10: Relative Share | E10: Allocated Cost
B11: Residential | C11: 15468.139 | D11: =C11/$C$18 -> 0.91308391 | E11: =D11*D$2 -> 249387.89
B12: General Service <50 | C12: 1109.7914 | D12: =C12/$C$18 -> 0.065510958 | E12: =D12*D$2 -> 17892.813
B13: General Service >50 | C13: 29.842327 | D13: =C13/$C$18 -> 0.0017615919 | E13: =D13*D$2 -> 481.13834
B14: Street Light | C14: 12 | D14: =C14/$C$18 -> 0.00070835973 | E14: =D14*D$2 -> 193.47218
B15: Sentinel Light | C15: 192 | D15: =C15/$C$18 -> 0.011333756 | E15: =D15*D$2 -> 3095.5549
B16: Unmetered Scattered Load | C16: 128.77236 | D16: =C16/$C$18 -> 0.0076014294 | E16: =D16*D$2 -> 2076.1558
B17: Embedded Distributor | C17: 0 | D17: =C17/$C$18 -> 0 | E17: =D17*D$2 -> 0
C18: =SUM(C11:C17) -> 16940.545 | D18: =C18/$C$18 -> 1 | E18: =SUM(E11:E17) -> 273127.02

Sheet Collections Labour Account 5320
B2: Collections Labour Account 5320 | F2: 431412.53
C10: Numbe of Meters | D10: Relative difficulty /length of conversation | E10: Weighted Customer x difficulty | F10: % Share | G10: Cost
B11: Residential | C11: ='Billing Account 5313'!E13 -> 28383 | D11: 1 | E11: =C11*D11 -> 28383 | F11: =E11/$E$18 -> 0.93008395 | G11: =F11*F$2 -> 401249.87
B12: General Service <50 | C12: ='Billing Account 5313'!E14 -> 2542 | D12: 0.8 | E12: =C12*D12 -> 2033.6 | F12: =E12/$E$18 -> 0.066639141 | G12: =F12*F$2 -> 28748.96
B13: General Service >50 | C13: ='Billing Account 5313'!E15 -> 200 | D13: 0.5 | E13: =C13*D13 -> 100 | F13: =E13/$E$18 -> 0.003276905 | G13: =F13*F$2 -> 1413.6979
B14: Street Light | C14: ='Billing Account 5313'!E16 -> 13 | D14: 0 | E14: =C14*D14 -> 0 | F14: =E14/$E$18 -> 0 | G14: =F14*F$2 -> 0
B15: Sentinel Light | C15: ='Billing Account 5313'!E17 -> 27 | D15: 0 | E15: =C15*D15 -> 0 | F15: =E15/$E$18 -> 0 | G15: =F15*F$2 -> 0
B16: Unmetered Scattered Load | C16: ='Billing Account 5313'!E18 -> 44 | D16: 0 | E16: =C16*D16 -> 0 | F16: =E16/$E$18 -> 0 | G16: =F16*F$2 -> 0
B17: Embedded Distributor | C17: ='Billing Account 5313'!E19 -> 1 | D17: 0 | E17: =C17*D17 -> 0 | F17: =E17/$E$18 -> 0 | G17: =F17*F$2 -> 0
C18: =SUM(C11:C17) -> 31210 | E18: =SUM(E11:E17) -> 30516.6 | F18: =SUM(F11:F17) -> 1 | G18: =SUM(G11:G17) -> 431412.53

Sheet Misc. Labour  account  5340
B2: Misc. Labour account 5340 | E2: 432052.23
B10: Rate Class | C10: Number of Customers | D10: Relative difficulty /length of conversation | E10: Weighted Customer x difficulty | F10: Relative Share | G10: Cost
B11: Residential | C11: 28818.139 | D11: 1 | E11: =C11*D11 -> 28818.139 | F11: =E11/$E$18 -> 0.7491152 | G11: =F11*E$2 -> 323656.89
B12: General Service <50 | C12: 2555.7914 | D12: 1 | E12: =C12*D12 -> 2555.7914 | F12: =E12/$E$18 -> 0.066436703 | G12: =F12*E$2 -> 28704.126
B13: General Service >50 | C13: 200.84233 | D13: 1 | E13: =C13*D13 -> 200.84233 | F13: =E13/$E$18 -> 0.0052208104 | G13: =F13*E$2 -> 2255.6628
B14: Street Light | C14: 6256.5597 | D14: 1 | E14: =C14*D14 -> 6256.5597 | F14: =E14/$E$18 -> 0.16263659 | G14: =F14*E$2 -> 70267.503
B15: Sentinel Light | C15: 592.50562 | D15: 1 | E15: =C15*D15 -> 592.50562 | F15: =E15/$E$18 -> 0.01540193 | G15: =F15*E$2 -> 6654.4383
B16: Unmetered Scattered Load | C16: 44.73103 | D16: 1 | E16: =C16*D16 -> 44.73103 | F16: =E16/$E$18 -> 0.001162764 | G16: =F16*E$2 -> 502.37478
B17: Embedded Distributor | C17: 1 | D17: 1 | E17: =C17*D17 -> 1 | F17: =E17/$E$18 -> 2.5994572e-05 | G17: =F17*E$2 -> 11.231013
B18: Total | C18: =SUM(C11:C17) -> 38469.569 | E18: =SUM(E11:E17) -> 38469.569 | F18: =SUM(F11:F17) -> 1 | G18: =SUM(G11:G17) -> 432052.23
