Workbook
Name __CAP1000: #REF!
Name __CAP1000: #REF!
Name __CAP1000: #REF!
Name __OP1000: #REF!
Name __OP1000: #REF!
Name __OP1000: #REF!
Name _110: #REF!
Name _110: #REF!
Name _110: #REF!
Name _110INPT: #REF!
Name _110INPT: #REF!
Name _110INPT: #REF!
Name _115: #REF!
Name _115: #REF!
Name _115: #REF!
Name _115INPT: #REF!
Name _115INPT: #REF!
Name _115INPT: #REF!
Name _120: #REF!
Name _120: #REF!
Name _120: #REF!
Name _140: #REF!
Name _140: #REF!
Name _140: #REF!
Name _140INPT: #REF!
Name _140INPT: #REF!
Name _140INPT: #REF!
Name _CAP1000: #REF!
Name _CAP1000: #REF!
Name _CAP1000: #REF!
Name _OP1000: #REF!
Name _OP1000: #REF!
Name _OP1000: #REF!
Name ALL: #REF!
Name ALL: #REF!
Name ALL: #REF!
Name ApprovedYr: #REF!
Name CAfile: #REF!
Name CAPCOSTS: #REF!
Name CAPCOSTS: #REF!
Name CAPCOSTS: #REF!
Name CAPITAL: #REF!
Name CAPITAL: #REF!
Name CAPITAL: #REF!
Name CapitalExpListing: #REF!
Name CapitalExpListing: #REF!
Name CapitalExpListing: #REF!
Name CArevReq: #REF!
Name CASENUMBER: #REF!
Name CASHFLOW: #REF!
Name CASHFLOW: #REF!
Name CASHFLOW: #REF!
Name cc: #REF!
Name cc: #REF!
Name cc: #REF!
Name ClassRange1: #REF!
Name ClassRange2: #REF!
Name contactf: #REF!
Name contactf: #REF!
Name contactf: #REF!

Sheet Exhibit 3
A1: Table 3-1: Summary of Load and Customer Forecast
A2: Year | B2: Billed Actual (GWh) | C2: Growth (GWh) | D2: Billed Weather Normal (GWh) | E2: Growth (GWh) | F2: Customer/ Connection Count | G2: Growth (Customer/ Connection Count)
A3: Billed Energy (GWh) and Customer Count/Connections
A5: 2022 OEB-Approved | B5: =B274/1000000 -> 244.79724 | F5: =B273 -> 15591.328
A7: 2016 | B7: {=TRANSPOSE('Load Forecast Summary'!B10:M10)/1000000} -> 238.66722 | D7: =B7*F115 -> 233.72994 | F7: {=TRANSPOSE('Load Forecast Summary'!B46:M46)} -> 14740
A8: 2017 | B8: 219.82087 | C8: =B8-B7 -> -18.846351 | D8: =B8*F116 -> 223.1646 | E8: =D8-D7 -> -10.565335 | F8: 14754 | G8: =F8-F7 -> 14
A9: 2018 | B9: 246.4266 | C9: =B9-B8 -> 26.605731 | D9: =B9*F117 -> 242.55136 | E9: =D9-D8 -> 19.386756 | F9: 15072.5 | G9: =F9-F8 -> 318.5
A10: 2019 | B10: 242.87672 | C10: =B10-B9 -> -3.549879 | D10: =B10*F118 -> 242.35937 | E10: =D10-D9 -> -0.19198561 | F10: 15358.5 | G10: =F10-F9 -> 286
A11: 2020 | B11: 239.10278 | C11: =B11-B10 -> -3.773946 | D11: =B11*F119 -> 237.71689 | E11: =D11-D10 -> -4.6424879 | F11: 15523.5 | G11: =F11-F10 -> 165
A12: 2021 | B12: 242.79219 | C12: =B12-B11 -> 3.689415 | D12: =B12*F120 -> 240.46773 | E12: =D12-D11 -> 2.7508404 | F12: 15635.25 | G12: =F12-F11 -> 111.75
A13: 2022 | B13: 237.86065 | C13: =B13-B12 -> -4.9315364 | D13: =B13*F121 -> 235.77145 | E13: =D13-D12 -> -4.6962757 | F13: 15676.125 | G13: =F13-F12 -> 40.875
A14: 2023 | B14: 234.10454 | C14: =B14-B13 -> -3.7561151 | D14: =B14*F122 -> 242.71719 | E14: =D14-D13 -> 6.9457377 | F14: 15750.375 | G14: =F14-F13 -> 74.25
A15: 2024 | B15: 239.60581 | C15: =B15-B14 -> 5.5012702 | D15: =B15*F123 -> 243.58344 | E15: =D15-D14 -> 0.86625607 | F15: 15824.5 | G15: =F15-F14 -> 74.125
A16: 2025 | B16: 237.58816 | C16: =B16-B15 -> -2.017648 | D16: =B16*F124 -> 236.63492 | E16: =D16-D15 -> -6.9485274 | F16: 15889 | G16: =F16-F15 -> 64.5
A17: 2026 Bridge | B17: 240.42596 | C17: =B17-B16 -> 2.8377995 | D17: =B17*F125 -> 240.42596 | E17: =D17-D16 -> 3.7910446 | F17: 15989.337 | G17: =F17-F16 -> 100.33703
A18: 2027 Test | B18: 241.41709 | C18: =B18-B17 -> 0.99113054 | D18: =B18*F126 -> 241.41709 | E18: =D18-D17 -> 0.99113054 | F18: 16090.341 | G18: =F18-F17 -> 101.00425
A20: Table 3-2: Billed Energy by Rate Class
A21: Year | B21: Residential | C21: General Service < 50 kW | D21: General Service > 50 kW | E21: Embedded Distributor | F21: Unmetered Scattered Load | G21: Sentinel Lighting | H21: Street Lighting | I21: Total
A22: Billed Energy (GWh) - Actual
A23: =A7 -> 2016 | B23: {=TRANSPOSE('Load Forecast Summary'!B15:K15)/1000000} -> 91.479319 | C23: {=TRANSPOSE('Load Forecast Summary'!B19:K19)/1000000} -> 28.315731 | D23: {=TRANSPOSE('Load Forecast Summary'!B23:K23)/1000000} -> 59.051959 | E23: {=TRANSPOSE('Load Forecast Summary'!B28:K28)/1000000} -> 57.823879 | F23: {=TRANSPOSE('Load Forecast Summary'!B33:K33)/1000000} -> 0.257059 | G23: {=TRANSPOSE('Load Forecast Summary'!B37:K37)/1000000} -> 0.15369 | H23: {=TRANSPOSE('Load Forecast Summary'!B42:K42)/1000000} -> 1.585584 | I23: =SUM(B23:H23) -> 238.66722
A24: =A8 -> 2017 | B24: 86.529651 | C24: 27.228067 | D24: 47.44987 | E24: 56.843411 | F24: 0.255469 | G24: 0.152795 | H24: 1.361607 | I24: =SUM(B24:H24) -> 219.82087
A25: =A9 -> 2018 | B25: 94.517191 | C25: 28.692745 | D25: 59.787962 | E25: 61.680653 | F25: 0.249143 | G25: 0.149558 | H25: 1.349349 | I25: =SUM(B25:H25) -> 246.4266
A26: =A10 -> 2019 | B26: 92.484569 | C26: 28.348056 | D26: 59.632442 | E26: 60.666329 | F26: 0.246885 | G26: 0.144657 | H26: 1.353784 | I26: =SUM(B26:H26) -> 242.87672
A27: =A11 -> 2020 | B27: 98.305959 | C27: 26.410288 | D27: 52.047649 | E27: 60.666329 | F27: 0.246885 | G27: 0.141998 | H27: 1.283668 | I27: =SUM(B27:H27) -> 239.10278
A28: =A12 -> 2021 | B28: 106.35984 | C28: 27.377213 | D28: 56.544701 | E28: 50.859469 | F28: 0.248173 | G28: 0.137713 | H28: 1.265084 | I28: =SUM(B28:H28) -> 242.79219
A29: =A13 -> 2022 | B29: 105.83946 | C29: 29.6638 | D29: 55.678002 | E29: 45.020625 | F29: 0.248448 | G29: 0.138479 | H29: 1.271846 | I29: =SUM(B29:H29) -> 237.86065
A30: =A14 -> 2023 | B30: 96.458582 | C30: 28.82861 | D30: 59.808298 | E30: 47.435811 | F30: 0.248859 | G30: 0.13672145 | H30: 1.187658 | I30: =SUM(B30:H30) -> 234.10454
A31: =A15 -> 2024 | B31: 101.36398 | C31: 30.766203 | D31: 59.377099 | E31: 46.518194 | F31: 0.25086324 | G31: 0.13721959 | H31: 1.1922525 | I31: =SUM(B31:H31) -> 239.60581
A32: =A16 -> 2025 | B32: 104.66154 | C32: 31.964519 | D32: 57.467168 | E32: 41.943488 | F32: 0.23501272 | G32: 0.11725278 | H32: 1.1991779 | I32: =SUM(B32:H32) -> 237.58816
A34: Billed Energy (GWh) - Weather Normal
A35: 2022 OEB-Approved | B35: =B242/1000000 -> 104.79436 | C35: =B246/1000000 -> 27.600721 | D35: =B250/1000000 -> 59.877627 | E35: =B255/1000000 -> 50.859469 | F35: =B260/1000000 -> 0.248173 | G35: =B264/1000000 -> 0.137713 | H35: =B269/1000000 -> 1.2791832 | I35: =B274/1000000 -> 244.79724
A37: =A7 -> 2016 | B37: =B23*$F$115 -> 89.586896 | C37: =C23*$F$115 -> 27.729967 | D37: =D23*$F$115 -> 57.830358 | E37: =E23*$F$115 -> 56.627683 | F37: =F23*$F$115 -> 0.25174125 | G37: =G23*$F$115 -> 0.15051063 | H37: =H23*$F$115 -> 1.5527832 | I37: =SUM(B37:H37) -> 233.72994
A38: =A8 -> 2017 | B38: =B24*$F$116 -> 87.845869 | C38: =C24*$F$116 -> 27.642238 | D38: =D24*$F$116 -> 48.171638 | E38: =E24*$F$116 -> 57.708066 | F38: =F24*$F$116 -> 0.25935498 | G38: =G24*$F$116 -> 0.15511919 | H38: =H24*$F$116 -> 1.3823186 | I38: =SUM(B38:H38) -> 223.1646
A39: =A9 -> 2018 | B39: =B25*$F$117 -> 93.030838 | C39: =C25*$F$117 -> 28.24153 | D39: =D25*$F$117 -> 58.847752 | E39: =E25*$F$117 -> 60.710679 | F39: =F25*$F$117 -> 0.24522504 | G39: =G25*$F$117 -> 0.14720609 | H39: =H25*$F$117 -> 1.3281295 | I39: =SUM(B39:H39) -> 242.55136
A40: =A10 -> 2019 | B40: =B26*$F$118 -> 92.287569 | C40: =C26*$F$118 -> 28.287672 | D40: =D26*$F$118 -> 59.50542 | E40: =E26*$F$118 -> 60.537104 | F40: =F26*$F$118 -> 0.24635911 | G40: =G26*$F$118 -> 0.14434887 | H40: =H26*$F$118 -> 1.3509003 | I40: =SUM(B40:H40) -> 242.35937
A41: =A11 -> 2020 | B41: =B27*$F$119 -> 97.736157 | C41: =C27*$F$119 -> 26.257208 | D41: =D27*$F$119 -> 51.74597 | E41: =E27*$F$119 -> 60.314694 | F41: =F27*$F$119 -> 0.245454 | G41: =G27*$F$119 -> 0.14117495 | H41: =H27*$F$119 -> 1.2762276 | I41: =SUM(B41:H41) -> 237.71689
A42: =A12 -> 2021 | B42: =B28*$F$120 -> 105.34156 | C42: =C28*$F$120 -> 27.115107 | D42: =D28*$F$120 -> 56.003348 | E42: =E28*$F$120 -> 50.372546 | F42: =F28*$F$120 -> 0.24579702 | G42: =G28*$F$120 -> 0.13639455 | H42: =H28*$F$120 -> 1.2529722 | I42: =SUM(B42:H42) -> 240.46773
A43: =A13 -> 2022 | B43: =B29*$F$121 -> 104.90983 | C43: =C29*$F$121 -> 29.403254 | D43: =D29*$F$121 -> 55.188964 | E43: =E29*$F$121 -> 44.625195 | F43: =F29*$F$121 -> 0.2462658 | G43: =G29*$F$121 -> 0.1372627 | H43: =H29*$F$121 -> 1.260675 | I43: =SUM(B43:H43) -> 235.77145
A44: =A14 -> 2023 | B44: =B30*$F$122 -> 100.00727 | C44: =C30*$F$122 -> 29.889208 | D44: =D30*$F$122 -> 62.00863 | E44: =E30*$F$122 -> 49.180963 | F44: =F30*$F$122 -> 0.25801446 | G44: =G30*$F$122 -> 0.1417514 | H44: =H30*$F$122 -> 1.2313517 | I44: =SUM(B44:H44) -> 242.71719
A45: =A15 -> 2024 | B45: =B31*$F$123 -> 103.0467 | C45: =C31*$F$123 -> 31.276945 | D45: =D31*$F$123 -> 60.362803 | E45: =E31*$F$123 -> 47.29043 | F45: =F31*$F$123 -> 0.25502776 | G45: =G31*$F$123 -> 0.13949754 | H45: =H31*$F$123 -> 1.2120447 | I45: =SUM(B45:H45) -> 243.58344
A46: =A16 -> 2025 | B46: =B32*$F$124 -> 104.24162 | C46: =C32*$F$124 -> 31.836272 | D46: =D32*$F$124 -> 57.2366 | E46: =E32*$F$124 -> 41.775203 | F46: =F32*$F$124 -> 0.23406981 | G46: =G32*$F$124 -> 0.11678234 | H46: =H32*$F$124 -> 1.1943666 | I46: =SUM(B46:H46) -> 236.63492
A47: =A17 -> 2026 Bridge | B47: ='Rate Class Energy Model'!H33/1000000 -> 106.44081 | C47: ='Rate Class Energy Model'!I33/1000000 -> 32.562365 | D47: ='Rate Class Energy Model'!J33/1000000 -> 57.923466 | E47: ='Rate Class Energy Model'!K33/1000000 -> 41.943488 | F47: ='Rate Class Energy Model'!L33/1000000 -> 0.23043104 | G47: ='Rate Class Energy Model'!M33/1000000 -> 0.11725278 | H47: ='Rate Class Energy Model'!N33/1000000 -> 1.208146 | I47: =SUM(B47:H47) -> 240.42596
A48: =A18 -> 2027 Test | B48: ='Rate Class Energy Model'!H34/1000000 -> 107.1371 | C48: ='Rate Class Energy Model'!I34/1000000 -> 32.830262 | D48: ='Rate Class Energy Model'!J34/1000000 -> 57.945873 | E48: ='Rate Class Energy Model'!K34/1000000 -> 41.943488 | F48: ='Rate Class Energy Model'!L34/1000000 -> 0.22593867 | G48: ='Rate Class Energy Model'!M34/1000000 -> 0.11725278 | H48: ='Rate Class Energy Model'!N34/1000000 -> 1.2171811 | I48: =SUM(B48:H48) -> 241.41709
A50: Table 3-3: Number of Customers/Connections and Annual Normalized Usage By Rate Class
A51: Year | B51: Residential | C51: General Service < 50 kW | D51: General Service > 50 kW | E51: =E21 -> Embedded Distributor | F51: Unmetered Scattered Load | G51: Sentinel Lighting | H51: Street Lighting | I51: Total
A52: Number of Customers/Connections
A54: 2022 OEB-Approved | B54: =B241 -> 11107.255 | C54: =B245 -> 1201.1211 | D54: =B249 -> 102.11147 | E54: =B254 -> 6 | F54: =B259 -> 30.916667 | G54: =B263 -> 17 | H54: =B268 -> 3126.9233 | I54: =B273 -> 15591.328
A56: =A37 -> 2016 | B56: {=TRANSPOSE('Load Forecast Summary'!B14:M14)} -> 10277 | C56: {=TRANSPOSE('Load Forecast Summary'!B18:M18)} -> 1283 | D56: {=TRANSPOSE('Load Forecast Summary'!B22:M22)} -> 101.5 | E56: {=TRANSPOSE('Load Forecast Summary'!B27:M27)} -> 6 | F56: {=TRANSPOSE('Load Forecast Summary'!B32:M32)} -> 30 | G56: {=TRANSPOSE('Load Forecast Summary'!B36:M36)} -> 73 | H56: {=TRANSPOSE('Load Forecast Summary'!B41:M41)} -> 2969.5 | I56: =SUM(B56:H56) -> 14740
A57: =A38 -> 2017 | B57: 10374.5 | C57: 1224.5 | D57: 113.5 | E57: 6 | F57: 30.5 | G57: 73 | H57: 2932 | I57: =SUM(B57:H57) -> 14754
A58: =A39 -> 2018 | B58: 10659.5 | C58: 1237 | D58: 110.5 | E58: 6 | F58: 31.5 | G58: 73 | H58: 2955 | I58: =SUM(B58:H58) -> 15072.5
A59: =A40 -> 2019 | B59: 10922.5 | C59: 1237 | D59: 96 | E59: 6 | F59: 32 | G59: 73 | H59: 2992 | I59: =SUM(B59:H59) -> 15358.5
A60: =A41 -> 2020 | B60: 11019.5 | C60: 1252 | D60: 98 | E60: 6 | F60: 32 | G60: 73 | H60: 3043 | I60: =SUM(B60:H60) -> 15523.5
A61: =A42 -> 2021 | B61: 11096 | C61: 1236.25 | D61: 101 | E61: 6 | F61: 31.5 | G61: 73 | H61: 3091.5 | I61: =SUM(B61:H61) -> 15635.25
A62: =A43 -> 2022 | B62: 11136 | C62: 1199.125 | D62: 98 | E62: 6 | F62: 31 | G62: 73 | H62: 3133 | I62: =SUM(B62:H62) -> 15676.125
A63: =A44 -> 2023 | B63: 11213.5 | C63: 1174.375 | D63: 91.5 | E63: 6 | F63: 30 | G63: 73 | H63: 3162 | I63: =SUM(B63:H63) -> 15750.375
A64: =A45 -> 2024 | B64: 11298.5 | C64: 1170 | D64: 90 | E64: 6 | F64: 29 | G64: 73 | H64: 3158 | I64: =SUM(B64:H64) -> 15824.5
A65: =A46 -> 2025 | B65: 11354.5 | C65: 1179 | D65: 89 | E65: 6 | F65: 29 | G65: 73 | H65: 3158.5 | I65: =SUM(B65:H65) -> 15889
A66: =A47 -> 2026 Bridge | B66: 11422.712 | C66: 1188.0692 | D66: 89 | E66: 6 | F66: 28.434631 | G66: 73 | H66: 3182.1208 | I66: =SUM(B66:H66) -> 15989.337
A67: =A48 -> 2027 Test | B67: 11491.334 | C67: 1197.2082 | D67: 89 | E67: 6 | F67: 27.880285 | G67: 73 | H67: 3205.9183 | I67: =SUM(B67:H67) -> 16090.341
A69: Actual Annual Energy Usage per Customer/Connection (kWh per Customer/Connection)
A70: =A56 -> 2016 | B70: =B23*1000000/B56 -> 8901.3641 | C70: =C23*1000000/C56 -> 22069.938 | D70: =D23*1000000/D56 -> 581792.7 | E70: =E23*1000000/E56 -> 9637313.2 | F70: =F23*1000000/F56 -> 8568.6333 | G70: =G23*1000000/G56 -> 2105.3425 | H70: =H23*1000000/H56 -> 533.95656
A71: =A57 -> 2017 | B71: =B24*1000000/B57 -> 8340.6093 | C71: =C24*1000000/C57 -> 22236.069 | D71: =D24*1000000/D57 -> 418060.53 | E71: =E24*1000000/E57 -> 9473901.8 | F71: =F24*1000000/F57 -> 8376.0328 | G71: =G24*1000000/G57 -> 2093.0822 | H71: =H24*1000000/H57 -> 464.39529
A72: =A58 -> 2018 | B72: =B25*1000000/B58 -> 8866.9441 | C72: =C25*1000000/C58 -> 23195.428 | D72: =D25*1000000/D58 -> 541067.53 | E72: =E25*1000000/E58 -> 10280109 | F72: =F25*1000000/F58 -> 7909.3016 | G72: =G25*1000000/G58 -> 2048.7397 | H72: =H25*1000000/H58 -> 456.63249
A73: =A59 -> 2019 | B73: =B26*1000000/B59 -> 8467.3444 | C73: =C26*1000000/C59 -> 22916.779 | D73: =D26*1000000/D59 -> 621171.27 | E73: =E26*1000000/E59 -> 10111055 | F73: =F26*1000000/F59 -> 7715.1562 | G73: =G26*1000000/G59 -> 1981.6027 | H73: =H26*1000000/H59 -> 452.46791
A74: =A60 -> 2020 | B74: =B27*1000000/B60 -> 8921.0907 | C74: =C27*1000000/C60 -> 21094.479 | D74: =D27*1000000/D60 -> 531098.46 | E74: =E27*1000000/E60 -> 10111055 | F74: =F27*1000000/F60 -> 7715.1562 | G74: =G27*1000000/G60 -> 1945.1781 | H74: =H27*1000000/H60 -> 421.84292
A75: =A61 -> 2021 | B75: =B28*1000000/B61 -> 9585.4216 | C75: =C28*1000000/C61 -> 22145.369 | D75: =D28*1000000/D61 -> 559848.52 | E75: =E28*1000000/E61 -> 8476578.2 | F75: =F28*1000000/F61 -> 7878.5079 | G75: =G28*1000000/G61 -> 1886.4795 | H75: =H28*1000000/H61 -> 409.21365
A76: =A62 -> 2022 | B76: =B29*1000000/B62 -> 9504.2614 | C76: =C29*1000000/C62 -> 24737.871 | D76: =D29*1000000/D62 -> 568142.87 | E76: =E29*1000000/E62 -> 7503437.5 | F76: =F29*1000000/F62 -> 8014.4516 | G76: =G29*1000000/G62 -> 1896.9726 | H76: =H29*1000000/H62 -> 405.95148
A77: =A63 -> 2023 | B77: =B30*1000000/B63 -> 8602.0049 | C77: =C30*1000000/C63 -> 24548.045 | D77: =D30*1000000/D63 -> 653642.6 | E77: =E30*1000000/E63 -> 7905968.5 | F77: =F30*1000000/F63 -> 8295.3 | G77: =G30*1000000/G63 -> 1872.8966 | H77: =H30*1000000/H63 -> 375.60342
A78: =A64 -> 2024 | B78: =B31*1000000/B64 -> 8971.4545 | C78: =C31*1000000/C64 -> 26295.9 | D78: =D31*1000000/D64 -> 659745.54 | E78: =E31*1000000/E64 -> 7753032.3 | F78: =F31*1000000/F64 -> 8650.4566 | G78: =G31*1000000/G64 -> 1879.7204 | H78: =H31*1000000/H64 -> 377.53403
A79: =A65 -> 2025 | B79: =B32*1000000/B65 -> 9217.6268 | C79: =C32*1000000/C65 -> 27111.551 | D79: =D32*1000000/D65 -> 645698.52 | E79: =E32*1000000/E65 -> 6990581.3 | F79: =F32*1000000/F65 -> 8103.8869 | G79: =G32*1000000/G65 -> 1606.2025 | H79: =H32*1000000/H65 -> 379.66691
A81: Normalized Annual Energy Usage per Customer/Connection (kWh per Customer/Connection)
A83: =A35 -> 2022 OEB-Approved | B83: =(B35*1000000)/B54 -> 9434.7661 | C83: =(C35*1000000)/C54 -> 22979.132 | D83: =(D35*1000000)/D54 -> 586394.7 | E83: =(E35*1000000)/E54 -> 8476578.2 | F83: =(F35*1000000)/F54 -> 8027.159 | G83: =(G35*1000000)/G54 -> 8100.7647 | H83: =(H35*1000000)/H54 -> 409.08684
A85: =A37 -> 2016 | B85: =B37*1000000/B56 -> 8717.2226 | C85: =C37*1000000/C56 -> 21613.38 | D85: =D37*1000000/D56 -> 569757.22 | E85: =E37*1000000/E56 -> 9437947.1 | F85: =F37*1000000/F56 -> 8391.3749 | G85: =G37*1000000/G56 -> 2061.7895 | H85: =H37*1000000/H56 -> 522.91066
A86: =A38 -> 2017 | B86: =B38*1000000/B57 -> 8467.4797 | C86: =C38*1000000/C57 -> 22574.306 | D86: =D38*1000000/D57 -> 424419.72 | E86: =E38*1000000/E57 -> 9618011 | F86: =F38*1000000/F57 -> 8503.4421 | G86: =G38*1000000/G57 -> 2124.9204 | H86: =H38*1000000/H57 -> 471.45929
A87: =A39 -> 2018 | B87: =B39*1000000/B58 -> 8727.5048 | C87: =C39*1000000/C58 -> 22830.663 | D87: =D39*1000000/D58 -> 532558.84 | E87: =E39*1000000/E58 -> 10118446 | F87: =F39*1000000/F58 -> 7784.9219 | G87: =G39*1000000/G58 -> 2016.5218 | H87: =H39*1000000/H58 -> 449.4516
A88: =A40 -> 2019 | B88: =B40*1000000/B59 -> 8449.3082 | C88: =C40*1000000/C59 -> 22867.965 | D88: =D40*1000000/D59 -> 619848.12 | E88: =E40*1000000/E59 -> 10089517 | F88: =F40*1000000/F59 -> 7698.7223 | G88: =G40*1000000/G59 -> 1977.3818 | H88: =H40*1000000/H59 -> 451.50412
A89: =A41 -> 2020 | B89: =B41*1000000/B60 -> 8869.3822 | C89: =C41*1000000/C60 -> 20972.211 | D89: =D41*1000000/D60 -> 528020.1 | E89: =E41*1000000/E60 -> 10052449 | F89: =F41*1000000/F60 -> 7670.4376 | G89: =G41*1000000/G60 -> 1933.9034 | H89: =H41*1000000/H60 -> 419.39783
A90: =A42 -> 2021 | B90: =B42*1000000/B61 -> 9493.6518 | C90: =C42*1000000/C61 -> 21933.352 | D90: =D42*1000000/D61 -> 554488.6 | E90: =E42*1000000/E61 -> 8395424.4 | F90: =F42*1000000/F61 -> 7803.08 | G90: =G42*1000000/G61 -> 1868.4185 | H90: =H42*1000000/H61 -> 405.29588
A91: =A43 -> 2022 | B91: =B43*1000000/B62 -> 9420.7825 | C91: =C43*1000000/C62 -> 24520.591 | D91: =D43*1000000/D62 -> 563152.7 | E91: =E43*1000000/E62 -> 7437532.5 | F91: =F43*1000000/F62 -> 7944.0582 | G91: =G43*1000000/G62 -> 1880.3109 | H91: =H43*1000000/H62 -> 402.38589
A92: =A44 -> 2023 | B92: =B44*1000000/B63 -> 8918.4706 | C92: =C44*1000000/C63 -> 25451.161 | D92: =D44*1000000/D63 -> 677689.95 | E92: =E44*1000000/E63 -> 8196827.1 | F92: =F44*1000000/F63 -> 8600.482 | G92: =G44*1000000/G63 -> 1941.8 | H92: =H44*1000000/H63 -> 389.42178
A93: =A45 -> 2024 | B93: =B45*1000000/B64 -> 9120.3873 | C93: =C45*1000000/C64 -> 26732.432 | D93: =D45*1000000/D64 -> 670697.81 | E93: =E45*1000000/E64 -> 7881738.4 | F93: =F45*1000000/F64 -> 8794.0605 | G93: =G45*1000000/G64 -> 1910.9252 | H93: =H45*1000000/H64 -> 383.80138
A94: =A46 -> 2025 | B94: =B46*1000000/B65 -> 9180.6441 | C94: =C46*1000000/C65 -> 27002.775 | D94: =D46*1000000/D65 -> 643107.86 | E94: =E46*1000000/E65 -> 6962533.9 | F94: =F46*1000000/F65 -> 8071.3727 | G94: =G46*1000000/G65 -> 1599.7581 | H94: =H46*1000000/H65 -> 378.14362
A95: =A47 -> 2026 Bridge | B95: =B47*1000000/B66 -> 9318.3484 | C95: =C47*1000000/C66 -> 27407.801 | D95: =D47*1000000/D66 -> 650825.46 | E95: =E47*1000000/E66 -> 6990581.3 | F95: =F47*1000000/F66 -> 8103.8869 | G95: =G47*1000000/G66 -> 1606.2025 | H95: =H47*1000000/H66 -> 379.66691
A96: =A48 -> 2027 Test | B96: =B48*1000000/B67 -> 9323.2946 | C96: =C48*1000000/C67 -> 27422.349 | D96: =D48*1000000/D67 -> 651077.23 | E96: =E48*1000000/E67 -> 6990581.3 | F96: =F48*1000000/F67 -> 8103.8869 | G96: =G48*1000000/G67 -> 1606.2025 | H96: =H48*1000000/H67 -> 379.66691
A98: Table 3-4: Statistical Results
A99: Multiple R | B99: ='Power Purchased Model'!T5 -> 0.95699588
A100: R Square | B100: ='Power Purchased Model'!T6 -> 0.91584112
A101: Adjusted R Square | B101: ='Power Purchased Model'!T7 -> 0.91214994
A102: F Test | B102: ='Power Purchased Model'!W13 -> 248.11615
A103: Durbin-Watson | B103: ='Power Purchased Model'!T30 -> 0.89345695
A104: MAPE | B104: ='Power Purchased Model'!T26 -> 0.041456477
A105: T-Stats by Coefficient
A106: {='Power Purchased Model'!S19:S23} -> Customers | B106: {='Power Purchased Model'!V19:V23} -> 4.6446531
A107: Days in Month | B107: 7.3101064
A108: Spring/Fall Flag | B108: -7.2267815
A109: HDD | B109: 11.142738
A110: CDD | B110: 18.813416
A111: Constant | B111: ='Power Purchased Model'!V18 -> -4.5558866
A113: Table 3-5: Total System Purchases
A114: Year | B114: Actual | C114: Predicted | D114: % Difference | E114: Predicted Weather Normal | F114: Weather Normal Conversion Factor | G114: Actual Weather Normal
...

Sheet Inputs
A3: Average Customer / Connection Count
A4: Date | B4: Residential | C4: General Service < 50 kW | D4: General Service > 50 kW | E4: =M21 -> Embedded Distributor | F4: =P21 -> Unmetered Scatter Load | G4: Sentinel Lighting | H4: Street Lighting
A5: 2016 | B5: =AVERAGEIF($A$24:$A$143,$A5,G$24:G$143) -> 10277 | C5: =AVERAGEIF($A$24:$A$143,$A5,I$24:I$143) -> 1283 | D5: =AVERAGEIF($A$24:$A$143,$A5,L$24:L$143) -> 101.5 | E5: =AVERAGEIF($A$24:$A$143,$A5,O$24:O$143) -> 6 | F5: =AVERAGEIF($A$24:$A$143,$A5,Q$24:Q$143) -> 30 | G5: =AVERAGEIF($A$24:$A$143,$A5,T$24:T$143) -> 73 | H5: =AVERAGEIF($A$24:$A$143,$A5,W$24:W$143) -> 2969.5 | J5: Corrected values
A6: 2017 | B6: =AVERAGEIF($A$24:$A$143,$A6,G$24:G$143) -> 10374.5 | C6: =AVERAGEIF($A$24:$A$143,$A6,I$24:I$143) -> 1224.5 | D6: =AVERAGEIF($A$24:$A$143,$A6,L$24:L$143) -> 113.5 | E6: =AVERAGEIF($A$24:$A$143,$A6,O$24:O$143) -> 6 | F6: =AVERAGEIF($A$24:$A$143,$A6,Q$24:Q$143) -> 30.5 | G6: =AVERAGEIF($A$24:$A$143,$A6,T$24:T$143) -> 73 | H6: =AVERAGEIF($A$24:$A$143,$A6,W$24:W$143) -> 2932
A7: 2018 | B7: =AVERAGEIF($A$24:$A$143,$A7,G$24:G$143) -> 10659.5 | C7: =AVERAGEIF($A$24:$A$143,$A7,I$24:I$143) -> 1237 | D7: =AVERAGEIF($A$24:$A$143,$A7,L$24:L$143) -> 110.5 | E7: =AVERAGEIF($A$24:$A$143,$A7,O$24:O$143) -> 6 | F7: =AVERAGEIF($A$24:$A$143,$A7,Q$24:Q$143) -> 31.5 | G7: =AVERAGEIF($A$24:$A$143,$A7,T$24:T$143) -> 73 | H7: =AVERAGEIF($A$24:$A$143,$A7,W$24:W$143) -> 2955
A8: 2019 | B8: =AVERAGEIF($A$24:$A$143,$A8,G$24:G$143) -> 10922.5 | C8: =AVERAGEIF($A$24:$A$143,$A8,I$24:I$143) -> 1237 | D8: =AVERAGEIF($A$24:$A$143,$A8,L$24:L$143) -> 96 | E8: =AVERAGEIF($A$24:$A$143,$A8,O$24:O$143) -> 6 | F8: =AVERAGEIF($A$24:$A$143,$A8,Q$24:Q$143) -> 32 | G8: =AVERAGEIF($A$24:$A$143,$A8,T$24:T$143) -> 73 | H8: =AVERAGEIF($A$24:$A$143,$A8,W$24:W$143) -> 2992
A9: 2020 | B9: =AVERAGEIF($A$24:$A$143,$A9,G$24:G$143) -> 11019.5 | C9: =AVERAGEIF($A$24:$A$143,$A9,I$24:I$143) -> 1252 | D9: =AVERAGEIF($A$24:$A$143,$A9,L$24:L$143) -> 98 | E9: =AVERAGEIF($A$24:$A$143,$A9,O$24:O$143) -> 6 | F9: =AVERAGEIF($A$24:$A$143,$A9,Q$24:Q$143) -> 32 | G9: =AVERAGEIF($A$24:$A$143,$A9,T$24:T$143) -> 73 | H9: =AVERAGEIF($A$24:$A$143,$A9,W$24:W$143) -> 3043
A10: 2021 | B10: =AVERAGEIF($A$24:$A$143,$A10,G$24:G$143) -> 11096 | C10: =AVERAGEIF($A$24:$A$143,$A10,I$24:I$143) -> 1236.25 | D10: =AVERAGEIF($A$24:$A$143,$A10,L$24:L$143) -> 101 | E10: =AVERAGEIF($A$24:$A$143,$A10,O$24:O$143) -> 6 | F10: =AVERAGEIF($A$24:$A$143,$A10,Q$24:Q$143) -> 31.5 | G10: =AVERAGEIF($A$24:$A$143,$A10,T$24:T$143) -> 73 | H10: =AVERAGEIF($A$24:$A$143,$A10,W$24:W$143) -> 3091.5
A11: 2022 | B11: =AVERAGEIF($A$24:$A$143,$A11,G$24:G$143) -> 11136 | C11: =AVERAGEIF($A$24:$A$143,$A11,I$24:I$143) -> 1199.125 | D11: =AVERAGEIF($A$24:$A$143,$A11,L$24:L$143) -> 98 | E11: =AVERAGEIF($A$24:$A$143,$A11,O$24:O$143) -> 6 | F11: =AVERAGEIF($A$24:$A$143,$A11,Q$24:Q$143) -> 31 | G11: =AVERAGEIF($A$24:$A$143,$A11,T$24:T$143) -> 73 | H11: =AVERAGEIF($A$24:$A$143,$A11,W$24:W$143) -> 3133
A12: 2023 | B12: =AVERAGEIF($A$24:$A$143,$A12,G$24:G$143) -> 11213.5 | C12: =AVERAGEIF($A$24:$A$143,$A12,I$24:I$143) -> 1174.375 | D12: =AVERAGEIF($A$24:$A$143,$A12,L$24:L$143) -> 91.5 | E12: =AVERAGEIF($A$24:$A$143,$A12,O$24:O$143) -> 6 | F12: =AVERAGEIF($A$24:$A$143,$A12,Q$24:Q$143) -> 30 | G12: =AVERAGEIF($A$24:$A$143,$A12,T$24:T$143) -> 73 | H12: =AVERAGEIF($A$24:$A$143,$A12,W$24:W$143) -> 3162
A13: 2024 | B13: =AVERAGEIF($A$24:$A$143,$A13,G$24:G$143) -> 11298.5 | C13: =AVERAGEIF($A$24:$A$143,$A13,I$24:I$143) -> 1170 | D13: =AVERAGEIF($A$24:$A$143,$A13,L$24:L$143) -> 90 | E13: =AVERAGEIF($A$24:$A$143,$A13,O$24:O$143) -> 6 | F13: =AVERAGEIF($A$24:$A$143,$A13,Q$24:Q$143) -> 29 | G13: =AVERAGEIF($A$24:$A$143,$A13,T$24:T$143) -> 73 | H13: =AVERAGEIF($A$24:$A$143,$A13,W$24:W$143) -> 3158
A14: 2025 | B14: =AVERAGEIF($A$24:$A$143,$A14,G$24:G$143) -> 11354.5 | C14: =AVERAGEIF($A$24:$A$143,$A14,I$24:I$143) -> 1179 | D14: =AVERAGEIF($A$24:$A$143,$A14,L$24:L$143) -> 89 | E14: =AVERAGEIF($A$24:$A$143,$A14,O$24:O$143) -> 6 | F14: =AVERAGEIF($A$24:$A$143,$A14,Q$24:Q$143) -> 29 | G14: =AVERAGEIF($A$24:$A$143,$A14,T$24:T$143) -> 73 | H14: =AVERAGEIF($A$24:$A$143,$A14,W$24:W$143) -> 3158.5
A20: Consumption | D20: Wholesale | F20: Retail Consumption
D21: Wholesale Purchases | F21: =B4 -> Residential | H21: =C4 -> General Service < 50 kW | J21: =D4 -> General Service > 50 kW | M21: Embedded Distributor | P21: Unmetered Scatter Load | R21: =G4 -> Sentinel Lighting | U21: =H4 -> Street Lighting
D22: kWh | E22: Generation | F22: kWh | G22: Number of Customer/ Connection | H22: kWh | I22: Number of Customer/ Connection | J22: kWh | K22: kW | L22: Number of Customer/ Connection | M22: kWh | N22: kW | O22: Number of Customer/ Connection | P22: kWh | Q22: Customer/ Connection | R22: kWh | S22: kW | T22: Number of Customer/ Connection | U22: kWh | V22: kW | W22: Number of Customer/ Connection
A23: Year | B23: Month
A24: 2016 | B24: January | C24: =SUM(G24,I24,L24,O24) -> 11667.5 | D24: 22228059 | E24: 234806 | F24: =F25 -> 0 | G24: ='Customer Determination'!C4 -> 10277 | H24: =H25 -> 0 | I24: ='Customer Determination'!E4 -> 1283 | J24: =J25 -> 0 | K24: =K25 -> 0 | L24: ='Customer Determination'!G4 -> 101.5 | M24: =M25 -> 0 | N24: =N25 -> 0 | O24: 6 | P24: =P25 -> 0 | Q24: ='Customer Determination'!K4 -> 30 | R24: =R25 -> 0 | S24: =S25 -> 0 | T24: 73 | U24: =U25 -> 0 | V24: =V25 -> 0 | W24: ='Customer Determination'!O4 -> 2969.5
A25: 2016 | B25: February | C25: =SUM(G25,I25,L25,O25) -> 11667.5 | D25: 19954897 | E25: 297475 | G25: =G24 -> 10277 | I25: =I24 -> 1283 | L25: =L24 -> 101.5 | O25: 6 | Q25: =Q24 -> 30 | T25: 73 | W25: =W24 -> 2969.5
A26: 2016 | B26: March | C26: =SUM(G26,I26,L26,O26) -> 11667.5 | D26: 19222038 | E26: 355013 | G26: =G25 -> 10277 | I26: =I25 -> 1283 | L26: =L25 -> 101.5 | O26: 6 | Q26: =Q25 -> 30 | T26: 73 | W26: =W25 -> 2969.5
A27: 2016 | B27: April | C27: =SUM(G27,I27,L27,O27) -> 11667.5 | D27: 17539923 | E27: 494348 | G27: =G26 -> 10277 | I27: =I26 -> 1283 | L27: =L26 -> 101.5 | O27: 6 | Q27: =Q26 -> 30 | T27: 73 | W27: =W26 -> 2969.5
A28: 2016 | B28: May | C28: =SUM(G28,I28,L28,O28) -> 11667.5 | D28: 17888192 | E28: 630932 | G28: =G27 -> 10277 | I28: =I27 -> 1283 | L28: =L27 -> 101.5 | O28: 6 | Q28: =Q27 -> 30 | T28: 73 | W28: =W27 -> 2969.5
A29: 2016 | B29: June | C29: =SUM(G29,I29,L29,O29) -> 11667.5 | D29: 21176371 | E29: 685810 | G29: =G28 -> 10277 | I29: =I28 -> 1283 | L29: =L28 -> 101.5 | O29: 6 | Q29: =Q28 -> 30 | T29: 73 | W29: =W28 -> 2969.5
A30: 2016 | B30: July | C30: =SUM(G30,I30,L30,O30) -> 11667.5 | D30: 25410950 | E30: 653742 | G30: =G29 -> 10277 | I30: =I29 -> 1283 | L30: =L29 -> 101.5 | O30: 6 | Q30: =Q29 -> 30 | T30: 73 | W30: =W29 -> 2969.5
A31: 2016 | B31: August | C31: =SUM(G31,I31,L31,O31) -> 11667.5 | D31: 26478809 | E31: 604454 | G31: =G30 -> 10277 | I31: =I30 -> 1283 | L31: =L30 -> 101.5 | O31: 6 | Q31: =Q30 -> 30 | T31: 73 | W31: =W30 -> 2969.5
A32: 2016 | B32: September | C32: =SUM(G32,I32,L32,O32) -> 11667.5 | D32: 19964495 | E32: 499609 | G32: =G31 -> 10277 | I32: =I31 -> 1283 | L32: =L31 -> 101.5 | O32: 6 | Q32: =Q31 -> 30 | T32: 73 | W32: =W31 -> 2969.5
A33: 2016 | B33: October | C33: =SUM(G33,I33,L33,O33) -> 11667.5 | D33: 16743812 | E33: 419947 | G33: =G32 -> 10277 | I33: =I32 -> 1283 | L33: =L32 -> 101.5 | O33: 6 | Q33: =Q32 -> 30 | T33: 73 | W33: =W32 -> 2969.5
A34: 2016 | B34: November | C34: =SUM(G34,I34,L34,O34) -> 11667.5 | D34: 17780991 | E34: 308938 | G34: =G33 -> 10277 | I34: =I33 -> 1283 | L34: =L33 -> 101.5 | O34: 6 | Q34: =Q33 -> 30 | T34: 73 | W34: =W33 -> 2969.5
A35: 2016 | B35: December | C35: =SUM(G35,I35,L35,O35) -> 11667.5 | D35: 21570625 | E35: 133539 | F35: 91479319 | G35: =G34 -> 10277 | H35: 28315731 | I35: =I34 -> 1283 | J35: 59051959 | K35: 188539.6 | L35: =L34 -> 101.5 | M35: 57823879 | N35: 117955 | O35: 6 | P35: 257059 | Q35: =Q34 -> 30 | R35: 153690 | S35: 411 | T35: 73 | U35: 1585584 | V35: 4764 | W35: =W34 -> 2969.5
A36: 2017 | B36: January | C36: =SUM(G36,I36,L36,O36) -> 11718.5 | D36: 21358693 | E36: 142223 | F36: =F37 -> 0 | G36: ='Customer Determination'!C5 -> 10374.5 | H36: =H37 -> 0 | I36: ='Customer Determination'!E5 -> 1224.5 | J36: =J37 -> 0 | K36: =K37 -> 0 | L36: ='Customer Determination'!G5 -> 113.5 | M36: =M37 -> 0 | N36: =N37 -> 0 | O36: =O37 -> 6 | P36: =P37 -> 0 | Q36: ='Customer Determination'!K5 -> 30.5 | R36: =R37 -> 0 | S36: =S37 -> 0 | T36: 73 | U36: =U37 -> 0 | V36: =V37 -> 0 | W36: ='Customer Determination'!O5 -> 2932
A37: 2017 | B37: February | C37: =SUM(G37,I37,L37,O37) -> 11718.5 | D37: 17924355 | E37: 311443 | G37: =G36 -> 10374.5 | I37: =I36 -> 1224.5 | L37: =L36 -> 113.5 | O37: 6 | Q37: =Q36 -> 30.5 | T37: 73 | W37: =W36 -> 2932
A38: 2017 | B38: March | C38: =SUM(G38,I38,L38,O38) -> 11718.5 | D38: 19428993 | E38: 418801 | G38: =G37 -> 10374.5 | I38: =I37 -> 1224.5 | L38: =L37 -> 113.5 | O38: 6 | Q38: =Q37 -> 30.5 | T38: 73 | W38: =W37 -> 2932
A39: 2017 | B39: April | C39: =SUM(G39,I39,L39,O39) -> 11718.5 | D39: 15946372 | E39: 473713 | G39: =G38 -> 10374.5 | I39: =I38 -> 1224.5 | L39: =L38 -> 113.5 | O39: 6 | Q39: =Q38 -> 30.5 | T39: 73 | W39: =W38 -> 2932
A40: 2017 | B40: May | C40: =SUM(G40,I40,L40,O40) -> 11718.5 | D40: 16906557 | E40: 826417 | G40: =G39 -> 10374.5 | I40: =I39 -> 1224.5 | L40: =L39 -> 113.5 | O40: 6 | Q40: =Q39 -> 30.5 | T40: 73 | W40: =W39 -> 2932
A41: 2017 | B41: June | C41: =SUM(G41,I41,L41,O41) -> 11718.5 | D41: 20456313 | E41: 745371 | G41: =G40 -> 10374.5 | I41: =I40 -> 1224.5 | L41: =L40 -> 113.5 | O41: 6 | Q41: =Q40 -> 30.5 | T41: 73 | W41: =W40 -> 2932
A42: 2017 | B42: July | C42: =SUM(G42,I42,L42,O42) -> 11718.5 | D42: 24127924 | E42: 738146 | G42: =G41 -> 10374.5 | I42: =I41 -> 1224.5 | L42: =L41 -> 113.5 | O42: 6 | Q42: =Q41 -> 30.5 | T42: 73 | W42: =W41 -> 2932
A43: 2017 | B43: August | C43: =SUM(G43,I43,L43,O43) -> 11718.5 | D43: 20981874 | E43: 688252 | G43: =G42 -> 10374.5 | I43: =I42 -> 1224.5 | L43: =L42 -> 113.5 | O43: 6 | Q43: =Q42 -> 30.5 | T43: 73 | W43: =W42 -> 2932
A44: 2017 | B44: September | C44: =SUM(G44,I44,L44,O44) -> 11718.5 | D44: 17752579 | E44: 621289 | G44: =G43 -> 10374.5 | I44: =I43 -> 1224.5 | L44: =L43 -> 113.5 | O44: 6 | Q44: =Q43 -> 30.5 | T44: 73 | W44: =W43 -> 2932
A45: 2017 | B45: October | C45: =SUM(G45,I45,L45,O45) -> 11718.5 | D45: 16267870 | E45: 422987 | G45: =G44 -> 10374.5 | I45: =I44 -> 1224.5 | L45: =L44 -> 113.5 | O45: 6 | Q45: =Q44 -> 30.5 | T45: 73 | W45: =W44 -> 2932
A46: 2017 | B46: November | C46: =SUM(G46,I46,L46,O46) -> 11718.5 | D46: 17286540 | E46: 285862 | G46: =G45 -> 10374.5 | I46: =I45 -> 1224.5 | L46: =L45 -> 113.5 | O46: 6 | Q46: =Q45 -> 30.5 | T46: 73 | W46: =W45 -> 2932
A47: 2017 | B47: December | C47: =SUM(G47,I47,L47,O47) -> 11718.5 | D47: 20215408 | E47: 172953 | F47: 86529651 | G47: =G46 -> 10374.5 | H47: 27228067 | I47: =I46 -> 1224.5 | J47: 47449870 | K47: 188530 | L47: =L46 -> 113.5 | M47: 56843411 | N47: 143958 | O47: 6 | P47: 255469 | Q47: =Q46 -> 30.5 | R47: 152795 | S47: 406 | T47: 73 | U47: 1361607 | V47: 3705 | W47: =W46 -> 2932
A48: 2018 | B48: January | C48: =SUM(G48,I48,L48,O48) -> 12013 | D48: 21585922 | E48: 251852 | F48: =F49 -> 0 | G48: ='Customer Determination'!C6 -> 10659.5 | H48: =H49 -> 0 | I48: ='Customer Determination'!E6 -> 1237 | J48: =J49 -> 0 | K48: =K49 -> 0 | L48: ='Customer Determination'!G6 -> 110.5 | M48: =M49 -> 0 | N48: =N49 -> 0 | O48: =O49 -> 6 | P48: =P49 -> 0 | Q48: ='Customer Determination'!K6 -> 31.5 | R48: =R49 -> 0 | S48: =S49 -> 0 | T48: 73 | U48: =U49 -> 0 | V48: =V49 -> 0 | W48: ='Customer Determination'!O6 -> 2955
A49: 2018 | B49: February | C49: =SUM(G49,I49,L49,O49) -> 12013 | D49: 17656173 | E49: 234936 | G49: =G48 -> 10659.5 | I49: =I48 -> 1237 | L49: =L48 -> 110.5 | O49: 6 | Q49: =Q48 -> 31.5 | T49: 73 | W49: =W48 -> 2955
A50: 2018 | B50: March | C50: =SUM(G50,I50,L50,O50) -> 12013 | D50: 18248163 | E50: 574730 | G50: =G49 -> 10659.5 | I50: =I49 -> 1237 | L50: =L49 -> 110.5 | O50: 6 | Q50: =Q49 -> 31.5 | T50: 73 | W50: =W49 -> 2955
A51: 2018 | B51: April | C51: =SUM(G51,I51,L51,O51) -> 12013 | D51: 16369500 | E51: 586292 | G51: =G50 -> 10659.5 | I51: =I50 -> 1237 | L51: =L50 -> 110.5 | O51: 6 | Q51: =Q50 -> 31.5 | T51: 73 | W51: =W50 -> 2955
A52: 2018 | B52: May | C52: =SUM(G52,I52,L52,O52) -> 12013 | D52: 17055235 | E52: 731668 | G52: =G51 -> 10659.5 | I52: =I51 -> 1237 | L52: =L51 -> 110.5 | O52: 6 | Q52: =Q51 -> 31.5 | T52: 73 | W52: =W51 -> 2955
A53: 2018 | B53: June | C53: =SUM(G53,I53,L53,O53) -> 12013 | D53: 19672643 | E53: 710269 | G53: =G52 -> 10659.5 | I53: =I52 -> 1237 | L53: =L52 -> 110.5 | O53: 6 | Q53: =Q52 -> 31.5 | T53: 73 | W53: =W52 -> 2955
A54: 2018 | B54: July | C54: =SUM(G54,I54,L54,O54) -> 12013 | D54: 24519316 | E54: 778930 | G54: =G53 -> 10659.5 | I54: =I53 -> 1237 | L54: =L53 -> 110.5 | O54: 6 | Q54: =Q53 -> 31.5 | T54: 73 | W54: =W53 -> 2955
A55: 2018 | B55: August | C55: =SUM(G55,I55,L55,O55) -> 12013 | D55: 26369599 | E55: 636511 | G55: =G54 -> 10659.5 | I55: =I54 -> 1237 | L55: =L54 -> 110.5 | O55: 6 | Q55: =Q54 -> 31.5 | T55: 73 | W55: =W54 -> 2955
A56: 2018 | B56: September | C56: =SUM(G56,I56,L56,O56) -> 12013 | D56: 21334917 | E56: 500836 | G56: =G55 -> 10659.5 | I56: =I55 -> 1237 | L56: =L55 -> 110.5 | O56: 6 | Q56: =Q55 -> 31.5 | T56: 73 | W56: =W55 -> 2955
A57: 2018 | B57: October | C57: =SUM(G57,I57,L57,O57) -> 12013 | D57: 18577884 | E57: 376066 | G57: =G56 -> 10659.5 | I57: =I56 -> 1237 | L57: =L56 -> 110.5 | O57: 6 | Q57: =Q56 -> 31.5 | T57: 73 | W57: =W56 -> 2955
A58: 2018 | B58: November | C58: =SUM(G58,I58,L58,O58) -> 12013 | D58: 18327765 | E58: 181639 | G58: =G57 -> 10659.5 | I58: =I57 -> 1237 | L58: =L57 -> 110.5 | O58: 6 | Q58: =Q57 -> 31.5 | T58: 73 | W58: =W57 -> 2955
A59: 2018 | B59: December | C59: =SUM(G59,I59,L59,O59) -> 12013 | D59: 19674280 | E59: 208740 | F59: 94517191 | G59: =G58 -> 10659.5 | H59: 28692745 | I59: =I58 -> 1237 | J59: 59787962 | K59: 173784 | L59: =L58 -> 110.5 | M59: 61680653 | N59: 145229 | O59: 6 | P59: 249143 | Q59: =Q58 -> 31.5 | R59: 149558 | S59: 388 | T59: 73 | U59: 1349349 | V59: 3920 | W59: =W58 -> 2955
A60: 2019 | B60: January | C60: =SUM(G60,I60,L60,O60) -> 12261.5 | D60: 21603461 | E60: 249895 | F60: =F61 -> 0 | G60: ='Customer Determination'!C7 -> 10922.5 | H60: =H61 -> 0 | I60: ='Customer Determination'!E7 -> 1237 | J60: =J61 -> 0 | K60: =K61 -> 0 | L60: ='Customer Determination'!G7 -> 96 | M60: =M61 -> 0 | N60: =N61 -> 0 | O60: =O61 -> 6 | P60: =P61 -> 0 | Q60: ='Customer Determination'!K7 -> 32 | R60: =R61 -> 0 | S60: =S61 -> 0 | T60: 73 | U60: =U61 -> 0 | V60: =V61 -> 0 | W60: ='Customer Determination'!O7 -> 2992
A61: 2019 | B61: February | C61: =SUM(G61,I61,L61,O61) -> 12261.5 | D61: 18823325 | E61: 285592 | G61: =G60 -> 10922.5 | I61: =I60 -> 1237 | L61: =L60 -> 96 | O61: 6 | Q61: =Q60 -> 32 | T61: 73 | W61: =W60 -> 2992
A62: 2019 | B62: March | C62: =SUM(G62,I62,L62,O62) -> 12261.5 | D62: 20551304 | E62: 502731 | G62: =G61 -> 10922.5 | I62: =I61 -> 1237 | L62: =L61 -> 96 | O62: 6 | Q62: =Q61 -> 32 | T62: 73 | W62: =W61 -> 2992
A63: 2019 | B63: April | C63: =SUM(G63,I63,L63,O63) -> 12261.5 | D63: 17411654 | E63: 554704 | G63: =G62 -> 10922.5 | I63: =I62 -> 1237 | L63: =L62 -> 96 | O63: 6 | Q63: =Q62 -> 32 | T63: 73 | W63: =W62 -> 2992
A64: 2019 | B64: May | C64: =SUM(G64,I64,L64,O64) -> 12261.5 | D64: 17354971 | E64: 579434 | G64: =G63 -> 10922.5 | I64: =I63 -> 1237 | L64: =L63 -> 96 | O64: 6 | Q64: =Q63 -> 32 | T64: 73 | W64: =W63 -> 2992
A65: 2019 | B65: June | C65: =SUM(G65,I65,L65,O65) -> 12261.5 | D65: 19464198 | E65: 714216 | G65: =G64 -> 10922.5 | I65: =I64 -> 1237 | L65: =L64 -> 96 | O65: 6 | Q65: =Q64 -> 32 | T65: 73 | W65: =W64 -> 2992
A66: 2019 | B66: July | C66: =SUM(G66,I66,L66,O66) -> 12261.5 | D66: 27748688 | E66: 807602 | G66: =G65 -> 10922.5 | I66: =I65 -> 1237 | L66: =L65 -> 96 | O66: 6 | Q66: =Q65 -> 32 | T66: 73 | W66: =W65 -> 2992
A67: 2019 | B67: August | C67: =SUM(G67,I67,L67,O67) -> 12261.5 | D67: 24726191 | E67: 740518 | G67: =G66 -> 10922.5 | I67: =I66 -> 1237 | L67: =L66 -> 96 | O67: 6 | Q67: =Q66 -> 32 | T67: 73 | W67: =W66 -> 2992
A68: 2019 | B68: September | C68: =SUM(G68,I68,L68,O68) -> 12261.5 | D68: 20533053 | E68: 524876 | G68: =G67 -> 10922.5 | I68: =I67 -> 1237 | L68: =L67 -> 96 | O68: 6 | Q68: =Q67 -> 32 | T68: 73 | W68: =W67 -> 2992
A69: 2019 | B69: October | C69: =SUM(G69,I69,L69,O69) -> 12261.5 | D69: 17673930 | E69: 431057 | G69: =G68 -> 10922.5 | I69: =I68 -> 1237 | L69: =L68 -> 96 | O69: 6 | Q69: =Q68 -> 32 | T69: 73 | W69: =W68 -> 2992
A70: 2019 | B70: November | C70: =SUM(G70,I70,L70,O70) -> 12261.5 | D70: 19817492 | E70: 211157 | G70: =G69 -> 10922.5 | I70: =I69 -> 1237 | L70: =L69 -> 96 | O70: 6 | Q70: =Q69 -> 32 | T70: 73 | W70: =W69 -> 2992
A71: 2019 | B71: December | C71: =SUM(G71,I71,L71,O71) -> 12261.5 | D71: 21339149 | E71: 219317 | F71: 92484569 | G71: =G70 -> 10922.5 | H71: 28348056 | I71: =I70 -> 1237 | J71: 59632442 | K71: 201036 | L71: =L70 -> 96 | M71: 60666329 | N71: 139224 | O71: 6 | P71: 246885 | Q71: =Q70 -> 32 | R71: 144657 | S71: 364 | T71: 73 | U71: 1353784 | V71: 3756 | W71: =W70 -> 2992
A72: 2020 | B72: January | C72: =SUM(G72,I72,L72,O72) -> 12375.5 | D72: 21900523 | E72: 185268 | F72: =F73 -> 0 | G72: ='Customer Determination'!C8 -> 11019.5 | H72: =H73 -> 0 | I72: ='Customer Determination'!E8 -> 1252 | J72: =J73 -> 0 | K72: =K73 -> 0 | L72: ='Customer Determination'!G8 -> 98 | M72: =M73 -> 0 | N72: =N73 -> 0 | O72: =O73 -> 6 | P72: =P73 -> 0 | Q72: ='Customer Determination'!K8 -> 32 | R72: =R73 -> 0 | S72: =S73 -> 0 | T72: 73 | U72: =U73 -> 0 | V72: =V73 -> 0 | W72: ='Customer Determination'!O8 -> 3043
A73: 2020 | B73: February | C73: =SUM(G73,I73,L73,O73) -> 12375.5 | D73: 20284919 | E73: 327088 | G73: =G72 -> 11019.5 | I73: =I72 -> 1252 | L73: =L72 -> 98 | O73: 6 | Q73: =Q72 -> 32 | T73: 73 | W73: =W72 -> 3043
A74: 2020 | B74: March | C74: =SUM(G74,I74,L74,O74) -> 12375.5 | D74: 19635490 | E74: 440591 | G74: =G73 -> 11019.5 | I74: =I73 -> 1252 | L74: =L73 -> 98 | O74: 6 | Q74: =Q73 -> 32 | T74: 73 | W74: =W73 -> 3043
A75: 2020 | B75: April | C75: =SUM(G75,I75,L75,O75) -> 12375.5 | D75: 17063912 | E75: 618495 | G75: =G74 -> 11019.5 | I75: =I74 -> 1252 | L75: =L74 -> 98 | O75: 6 | Q75: =Q74 -> 32 | T75: 73 | W75: =W74 -> 3043
A76: 2020 | B76: May | C76: =SUM(G76,I76,L76,O76) -> 12375.5 | D76: 17813698 | E76: 716891 | G76: =G75 -> 11019.5 | I76: =I75 -> 1252 | L76: =L75 -> 98 | O76: 6 | Q76: =Q75 -> 32 | T76: 73 | W76: =W75 -> 3043
A77: 2020 | B77: June | C77: =SUM(G77,I77,L77,O77) -> 12375.5 | D77: 22200152 | E77: 865508 | G77: =G76 -> 11019.5 | I77: =I76 -> 1252 | L77: =L76 -> 98 | O77: 6 | Q77: =Q76 -> 32 | T77: 73 | W77: =W76 -> 3043
A78: 2020 | B78: July | C78: =SUM(G78,I78,L78,O78) -> 12375.5 | D78: 28312518 | E78: 822094 | G78: =G77 -> 11019.5 | I78: =I77 -> 1252 | L78: =L77 -> 98 | O78: 6 | Q78: =Q77 -> 32 | T78: 73 | W78: =W77 -> 3043
A79: 2020 | B79: August | C79: =SUM(G79,I79,L79,O79) -> 12375.5 | D79: 25759720 | E79: 742007 | G79: =G78 -> 11019.5 | I79: =I78 -> 1252 | L79: =L78 -> 98 | O79: 6 | Q79: =Q78 -> 32 | T79: 73 | W79: =W78 -> 3043
A80: 2020 | B80: September | C80: =SUM(G80,I80,L80,O80) -> 12375.5 | D80: 18691560 | E80: 584979 | G80: =G79 -> 11019.5 | I80: =I79 -> 1252 | L80: =L79 -> 98 | O80: 6 | Q80: =Q79 -> 32 | T80: 73 | W80: =W79 -> 3043
A81: 2020 | B81: October | C81: =SUM(G81,I81,L81,O81) -> 12375.5 | D81: 17010848 | E81: 426912 | G81: =G80 -> 11019.5 | I81: =I80 -> 1252 | L81: =L80 -> 98 | O81: 6 | Q81: =Q80 -> 32 | T81: 73 | W81: =W80 -> 3043
A82: 2020 | B82: November | C82: =SUM(G82,I82,L82,O82) -> 12375.5 | D82: 18253421 | E82: 357184 | G82: =G81 -> 11019.5 | I82: =I81 -> 1252 | L82: =L81 -> 98 | O82: 6 | Q82: =Q81 -> 32 | T82: 73 | W82: =W81 -> 3043
A83: 2020 | B83: December | C83: =SUM(G83,I83,L83,O83) -> 12375.5 | D83: 20812449 | E83: 170241 | F83: 98305959 | G83: =G82 -> 11019.5 | H83: 26410288 | I83: =I82 -> 1252 | J83: 52047649 | K83: 126949 | L83: =L82 -> 98 | M83: 60666329 | N83: 139224 | O83: 6 | P83: 246885 | Q83: =Q82 -> 32 | R83: 141998 | S83: 385 | T83: 73 | U83: 1283668 | V83: 3927 | W83: =W82 -> 3043
A84: 2021 | B84: January | C84: =SUM(G84,I84,L84,O84) -> 12439.25 | D84: 20791461 | E84: 203656 | F84: =F85 -> 0 | G84: ='Customer Determination'!C9 -> 11096 | H84: =H85 -> 0 | I84: ='Customer Determination'!E9 -> 1236.25 | J84: =J85 -> 0 | K84: =K85 -> 0 | L84: ='Customer Determination'!G9 -> 101 | M84: =M85 -> 0 | N84: =N85 -> 0 | O84: =O85 -> 6 | P84: =P85 -> 0 | Q84: ='Customer Determination'!K9 -> 31.5 | R84: =R85 -> 0 | S84: =S85 -> 0 | T84: 73 | U84: =U85 -> 0 | V84: =V85 -> 0 | W84: ='Customer Determination'!O9 -> 3091.5
A85: 2021 | B85: February | C85: =SUM(G85,I85,L85,O85) -> 12439.25 | D85: 19464197 | E85: 359185 | G85: =G84 -> 11096 | I85: =I84 -> 1236.25 | L85: =L84 -> 101 | O85: 6 | Q85: =Q84 -> 31.5 | T85: 73 | W85: =W84 -> 3091.5
A86: 2021 | B86: March | C86: =SUM(G86,I86,L86,O86) -> 12439.25 | D86: 18626681 | E86: 694681 | G86: =G85 -> 11096 | I86: =I85 -> 1236.25 | L86: =L85 -> 101 | O86: 6 | Q86: =Q85 -> 31.5 | T86: 73 | W86: =W85 -> 3091.5
A87: 2021 | B87: April | C87: =SUM(G87,I87,L87,O87) -> 12439.25 | D87: 16318058 | E87: 585708 | G87: =G86 -> 11096 | I87: =I86 -> 1236.25 | L87: =L86 -> 101 | O87: 6 | Q87: =Q86 -> 31.5 | T87: 73 | W87: =W86 -> 3091.5
A88: 2021 | B88: May | C88: =SUM(G88,I88,L88,O88) -> 12439.25 | D88: 17668257 | E88: 728119 | G88: =G87 -> 11096 | I88: =I87 -> 1236.25 | L88: =L87 -> 101 | O88: 6 | Q88: =Q87 -> 31.5 | T88: 73 | W88: =W87 -> 3091.5
A89: 2021 | B89: June | C89: =SUM(G89,I89,L89,O89) -> 12439.25 | D89: 23582804 | E89: 715667 | G89: =G88 -> 11096 | I89: =I88 -> 1236.25 | L89: =L88 -> 101 | O89: 6 | Q89: =Q88 -> 31.5 | T89: 73 | W89: =W88 -> 3091.5
A90: 2021 | B90: July | C90: =SUM(G90,I90,L90,O90) -> 12439.25 | D90: 24086129 | E90: 705394 | G90: =G89 -> 11096 | I90: =I89 -> 1236.25 | L90: =L89 -> 101 | O90: 6 | Q90: =Q89 -> 31.5 | T90: 73 | W90: =W89 -> 3091.5
A91: 2021 | B91: August | C91: =SUM(G91,I91,L91,O91) -> 12439.25 | D91: 26473437 | E91: 724341 | G91: =G90 -> 11096 | I91: =I90 -> 1236.25 | L91: =L90 -> 101 | O91: 6 | Q91: =Q90 -> 31.5 | T91: 73 | W91: =W90 -> 3091.5
A92: 2021 | B92: September | C92: =SUM(G92,I92,L92,O92) -> 12439.25 | D92: 19829635 | E92: 598439 | G92: =G91 -> 11096 | I92: =I91 -> 1236.25 | L92: =L91 -> 101 | O92: 6 | Q92: =Q91 -> 31.5 | T92: 73 | W92: =W91 -> 3091.5
A93: 2021 | B93: October | C93: =SUM(G93,I93,L93,O93) -> 12439.25 | D93: 18061642 | E93: 366649 | G93: =G92 -> 11096 | I93: =I92 -> 1236.25 | L93: =L92 -> 101 | O93: 6 | Q93: =Q92 -> 31.5 | T93: 73 | W93: =W92 -> 3091.5
A94: 2021 | B94: November | C94: =SUM(G94,I94,L94,O94) -> 12439.25 | D94: 18852663 | E94: 320744 | G94: =G93 -> 11096 | I94: =I93 -> 1236.25 | L94: =L93 -> 101 | O94: 6 | Q94: =Q93 -> 31.5 | T94: 73 | W94: =W93 -> 3091.5
A95: 2021 | B95: December | C95: =SUM(G95,I95,L95,O95) -> 12439.25 | D95: 19904378 | E95: 215572 | F95: 106359838 | G95: =G94 -> 11096 | H95: 27377213 | I95: =I94 -> 1236.25 | J95: 56544701 | K95: 231007 | L95: =L94 -> 101 | M95: 50859469 | N95: 115598 | O95: 6 | P95: 248173 | Q95: =Q94 -> 31.5 | R95: 137713 | S95: 357 | T95: 73 | U95: 1265084 | V95: 3399 | W95: =W94 -> 3091.5
A96: 2022 | B96: January | C96: =SUM(G96,I96,L96,O96) -> 12439.125 | D96: 21934558 | E96: 261205 | F96: =F97 -> 0 | G96: ='Customer Determination'!C10 -> 11136 | H96: =H97 -> 0 | I96: ='Customer Determination'!E10 -> 1199.125 | J96: =J97 -> 0 | K96: =K97 -> 0 | L96: ='Customer Determination'!G10 -> 98 | M96: =M97 -> 0 | N96: =N97 -> 0 | O96: =O97 -> 6 | P96: =P97 -> 0 | Q96: ='Customer Determination'!K10 -> 31 | R96: =R97 -> 0 | S96: =S97 -> 0 | T96: 73 | U96: =U97 -> 0 | V96: =V97 -> 0 | W96: ='Customer Determination'!O10 -> 3133
A97: 2022 | B97: February | C97: =SUM(G97,I97,L97,O97) -> 12439.125 | D97: 19400473 | E97: 314288 | G97: =G96 -> 11136 | I97: =I96 -> 1199.125 | L97: =L96 -> 98 | O97: 6 | Q97: =Q96 -> 31 | T97: 73 | W97: =W96 -> 3133
A98: 2022 | B98: March | C98: =SUM(G98,I98,L98,O98) -> 12439.125 | D98: 19279914 | E98: 497672 | G98: =G97 -> 11136 | I98: =I97 -> 1199.125 | L98: =L97 -> 98 | O98: 6 | Q98: =Q97 -> 31 | T98: 73 | W98: =W97 -> 3133
A99: 2022 | B99: April | C99: =SUM(G99,I99,L99,O99) -> 12439.125 | D99: 16999155 | E99: 529271 | G99: =G98 -> 11136 | I99: =I98 -> 1199.125 | L99: =L98 -> 98 | O99: 6 | Q99: =Q98 -> 31 | T99: 73 | W99: =W98 -> 3133
A100: 2022 | B100: May | C100: =SUM(G100,I100,L100,O100) -> 12439.125 | D100: 17255064 | E100: 675247 | G100: =G99 -> 11136 | I100: =I99 -> 1199.125 | L100: =L99 -> 98 | O100: 6 | Q100: =Q99 -> 31 | T100: 73 | W100: =W99 -> 3133
A101: 2022 | B101: June | C101: =SUM(G101,I101,L101,O101) -> 12439.125 | D101: 20945314 | E101: 754041 | G101: =G100 -> 11136 | I101: =I100 -> 1199.125 | L101: =L100 -> 98 | O101: 6 | Q101: =Q100 -> 31 | T101: 73 | W101: =W100 -> 3133
A102: 2022 | B102: July | C102: =SUM(G102,I102,L102,O102) -> 12439.125 | D102: 24398422 | E102: 726187 | G102: =G101 -> 11136 | I102: =I101 -> 1199.125 | L102: =L101 -> 98 | O102: 6 | Q102: =Q101 -> 31 | T102: 73 | W102: =W101 -> 3133
A103: 2022 | B103: August | C103: =SUM(G103,I103,L103,O103) -> 12439.125 | D103: 24085258 | E103: 684052 | G103: =G102 -> 11136 | I103: =I102 -> 1199.125 | L103: =L102 -> 98 | O103: 6 | Q103: =Q102 -> 31 | T103: 73 | W103: =W102 -> 3133
A104: 2022 | B104: September | C104: =SUM(G104,I104,L104,O104) -> 12439.125 | D104: 19367767 | E104: 566803 | G104: =G103 -> 11136 | I104: =I103 -> 1199.125 | L104: =L103 -> 98 | O104: 6 | Q104: =Q103 -> 31 | T104: 73 | W104: =W103 -> 3133
A105: 2022 | B105: October | C105: =SUM(G105,I105,L105,O105) -> 12439.125 | D105: 16627475 | E105: 486880 | G105: =G104 -> 11136 | I105: =I104 -> 1199.125 | L105: =L104 -> 98 | O105: 6 | Q105: =Q104 -> 31 | T105: 73 | W105: =W104 -> 3133
A106: 2022 | B106: November | C106: =SUM(G106,I106,L106,O106) -> 12439.125 | D106: 18072263 | E106: 324583 | G106: =G105 -> 11136 | I106: =I105 -> 1199.125 | L106: =L105 -> 98 | O106: 6 | Q106: =Q105 -> 31 | T106: 73 | W106: =W105 -> 3133
A107: 2022 | B107: December | C107: =SUM(G107,I107,L107,O107) -> 12439.125 | D107: 21044909 | E107: 147675 | F107: 105839455 | G107: =G106 -> 11136 | H107: 29663800 | I107: =I106 -> 1199.125 | J107: 55678002 | K107: 151124.07 | L107: =L106 -> 98 | M107: 45020625 | N107: 129568 | O107: 6 | P107: 248448 | Q107: =Q106 -> 31 | R107: 138479 | S107: 360 | T107: 73 | U107: 1271846 | V107: 3342 | W107: =W106 -> 3133
...

Sheet Load Forecast Summary
A1: ELK Energy Weather Normal Load Forecast for 2027 Rate Application
L2: 2026 Bridge | M2: 2027 Test
B3: 2016 Actual | C3: 2017 Actual | D3: 2018 Actual | E3: 2019 Actual | F3: 2020 Actual | G3: 2021 Actual | H3: 2022 Actual | I3: 2023 Actual | J3: 2024 Actual | K3: 2025 Actual | L3: Weather Normal | M3: Weather Normal
A4: Actual kWh Purchases | B4: =+'Power Purchased Model'!D152 -> 2.5127777e+08 | C4: =+'Power Purchased Model'!D153 -> 2.3450093e+08 | D4: =+'Power Purchased Model'!D154 -> 2.4516386e+08 | E4: =+'Power Purchased Model'!D155 -> 2.5286852e+08 | F4: =+'Power Purchased Model'!D156 -> 2.5399647e+08 | G4: =+'Power Purchased Model'!D157 -> 2.498775e+08 | H4: =+'Power Purchased Model'!D158 -> 2.4537848e+08 | I4: =+'Power Purchased Model'!D159 -> 2.4073625e+08 | J4: =+'Power Purchased Model'!D160 -> 2.5542823e+08 | K4: =+'Power Purchased Model'!D161 -> 2.5603297e+08
A5: Predicted kWh Purchases | B5: =+'Power Purchased Model'!K152 -> 2.4620614e+08 | C5: =+'Power Purchased Model'!K153 -> 2.3741519e+08 | D5: =+'Power Purchased Model'!K154 -> 2.4889875e+08 | E5: =+'Power Purchased Model'!K155 -> 2.4885455e+08 | F5: =+'Power Purchased Model'!K156 -> 2.5208957e+08 | G5: =+'Power Purchased Model'!K157 -> 2.5313693e+08 | H5: =+'Power Purchased Model'!K158 -> 2.5293334e+08 | I5: =+'Power Purchased Model'!K159 -> 2.4241496e+08 | J5: =+'Power Purchased Model'!K160 -> 2.4903441e+08 | K5: =+'Power Purchased Model'!K161 -> 2.5427714e+08 | L5: =+'Power Purchased Model'!K162 -> 2.5429854e+08 | M5: =+'Power Purchased Model'!K163 -> 2.5534686e+08
A6: % Difference | B6: =(B5-B4)/B4 -> -0.020183371 | C6: =(C5-C4)/C4 -> 0.0124275 | D6: =(D5-D4)/D4 -> 0.015234244 | E6: =(E5-E4)/E4 -> -0.015873729 | F6: =(F5-F4)/F4 -> -0.0075075639 | G6: =(G5-G4)/G4 -> 0.013044116 | H6: =(H5-H4)/H4 -> 0.030788608 | I6: =(I5-I4)/I4 -> 0.0069732245 | ... K6: =(K5-K4)/K4 -> -0.0068578223
A10: Total Billed | B10: ='Rate Class Energy Model'!G3 -> 238667221 | C10: ='Rate Class Energy Model'!G4 -> 219820870 | D10: ='Rate Class Energy Model'!G5 -> 246426601 | E10: ='Rate Class Energy Model'!G6 -> 242876722 | F10: ='Rate Class Energy Model'!G7 -> 239102776 | G10: ='Rate Class Energy Model'!G8 -> 242792191 | H10: ='Rate Class Energy Model'!G9 -> 2.3786065e+08 | I10: ='Rate Class Energy Model'!G10 -> 2.3410454e+08 | J10: ='Rate Class Energy Model'!G11 -> 2.3960581e+08 | K10: ='Rate Class Energy Model'!G12 -> 2.3758816e+08 | L10: ='Rate Class Energy Model'!G33 -> 2.4042596e+08 | M10: ='Rate Class Energy Model'!G34 -> 2.4141709e+08
A12: By Class
A13: ='Rate Class Energy Model'!H2 -> Residential
A14: Customers | B14: ='Rate Class Customer Model'!B3 -> 10277 | C14: ='Rate Class Customer Model'!B4 -> 10374.5 | D14: ='Rate Class Customer Model'!B5 -> 10659.5 | E14: ='Rate Class Customer Model'!B6 -> 10922.5 | F14: ='Rate Class Customer Model'!B7 -> 11019.5 | G14: ='Rate Class Customer Model'!B8 -> 11096 | H14: ='Rate Class Customer Model'!B9 -> 11136 | I14: ='Rate Class Customer Model'!B10 -> 11213.5 | J14: ='Rate Class Customer Model'!B11 -> 11298.5 | K14: ='Rate Class Customer Model'!B12 -> 11354.5 | L14: ='Rate Class Customer Model'!B13 -> 11422.712 | M14: ='Rate Class Customer Model'!B14 -> 11491.334
A15: kWh | B15: ='Rate Class Energy Model'!H3 -> 91479319 | C15: ='Rate Class Energy Model'!H4 -> 86529651 | D15: ='Rate Class Energy Model'!H5 -> 94517191 | E15: ='Rate Class Energy Model'!H6 -> 92484569 | F15: ='Rate Class Energy Model'!H7 -> 98305959 | G15: ='Rate Class Energy Model'!H8 -> 106359838 | H15: ='Rate Class Energy Model'!H9 -> 105839455 | I15: ='Rate Class Energy Model'!H10 -> 96458582 | J15: ='Rate Class Energy Model'!H11 -> 1.0136398e+08 | K15: ='Rate Class Energy Model'!H12 -> 1.0466154e+08 | L15: ='Rate Class Energy Model'!H33 -> 1.0644081e+08 | M15: ='Rate Class Energy Model'!H34 -> 1.071371e+08
A17: ='Rate Class Energy Model'!I2 -> General Service < 50 kW
A18: Customers | B18: ='Rate Class Customer Model'!C3 -> 1283 | C18: ='Rate Class Customer Model'!C4 -> 1224.5 | D18: ='Rate Class Customer Model'!C5 -> 1237 | E18: ='Rate Class Customer Model'!C6 -> 1237 | F18: ='Rate Class Customer Model'!C7 -> 1252 | G18: ='Rate Class Customer Model'!C8 -> 1236.25 | H18: ='Rate Class Customer Model'!C9 -> 1199.125 | I18: ='Rate Class Customer Model'!C10 -> 1174.375 | J18: ='Rate Class Customer Model'!C11 -> 1170 | K18: ='Rate Class Customer Model'!C12 -> 1179 | L18: ='Rate Class Customer Model'!C13 -> 1188.0692 | M18: ='Rate Class Customer Model'!C14 -> 1197.2082
A19: kWh | B19: ='Rate Class Energy Model'!I3 -> 28315731 | C19: ='Rate Class Energy Model'!I4 -> 27228067 | D19: ='Rate Class Energy Model'!I5 -> 28692745 | E19: ='Rate Class Energy Model'!I6 -> 28348056 | F19: ='Rate Class Energy Model'!I7 -> 26410288 | G19: ='Rate Class Energy Model'!I8 -> 27377213 | H19: ='Rate Class Energy Model'!I9 -> 29663800 | I19: ='Rate Class Energy Model'!I10 -> 28828610 | J19: ='Rate Class Energy Model'!I11 -> 30766203 | K19: ='Rate Class Energy Model'!I12 -> 31964519 | L19: ='Rate Class Energy Model'!I33 -> 32562365 | M19: ='Rate Class Energy Model'!I34 -> 32830262
A21: ='Rate Class Energy Model'!J2 -> General Service > 50 kW
A22: Customers | B22: ='Rate Class Customer Model'!D3 -> 101.5 | C22: ='Rate Class Customer Model'!D4 -> 113.5 | D22: ='Rate Class Customer Model'!D5 -> 110.5 | E22: ='Rate Class Customer Model'!D6 -> 96 | F22: ='Rate Class Customer Model'!D7 -> 98 | G22: ='Rate Class Customer Model'!D8 -> 101 | H22: ='Rate Class Customer Model'!D9 -> 98 | I22: ='Rate Class Customer Model'!D10 -> 91.5 | J22: ='Rate Class Customer Model'!D11 -> 90 | K22: ='Rate Class Customer Model'!D12 -> 89 | L22: ='Rate Class Customer Model'!D13 -> 89 | M22: ='Rate Class Customer Model'!D14 -> 89
A23: kWh | B23: ='Rate Class Energy Model'!J3 -> 59051959 | C23: ='Rate Class Energy Model'!J4 -> 47449870 | D23: ='Rate Class Energy Model'!J5 -> 59787962 | E23: ='Rate Class Energy Model'!J6 -> 59632442 | F23: ='Rate Class Energy Model'!J7 -> 52047649 | G23: ='Rate Class Energy Model'!J8 -> 56544701 | H23: ='Rate Class Energy Model'!J9 -> 55678002 | I23: ='Rate Class Energy Model'!J10 -> 59808298 | J23: ='Rate Class Energy Model'!J11 -> 59377099 | K23: ='Rate Class Energy Model'!J12 -> 57467168 | L23: ='Rate Class Energy Model'!J33 -> 57923466 | M23: ='Rate Class Energy Model'!J34 -> 57945873
A24: kW | B24: ='Rate Class Load Model'!B2 -> 188539.6 | C24: ='Rate Class Load Model'!B3 -> 188530 | D24: ='Rate Class Load Model'!B4 -> 173784 | E24: ='Rate Class Load Model'!B5 -> 201036 | F24: ='Rate Class Load Model'!B6 -> 126949 | G24: ='Rate Class Load Model'!B7 -> 231007 | H24: ='Rate Class Load Model'!B8 -> 151124.07 | I24: ='Rate Class Load Model'!B9 -> 215106.83 | J24: ='Rate Class Load Model'!B10 -> 203008.1 | K24: ='Rate Class Load Model'!B11 -> 203060.9 | L24: ='Rate Class Load Model'!B12 -> 204673.23 | M24: ='Rate Class Load Model'!B13 -> 204752.41
A26: =Inputs!M21 -> Embedded Distributor
A27: Customers | B27: ='Rate Class Customer Model'!E3 -> 6 | C27: ='Rate Class Customer Model'!E4 -> 6 | D27: ='Rate Class Customer Model'!E5 -> 6 | E27: ='Rate Class Customer Model'!E6 -> 6 | F27: ='Rate Class Customer Model'!E7 -> 6 | G27: ='Rate Class Customer Model'!E8 -> 6 | H27: ='Rate Class Customer Model'!E9 -> 6 | I27: ='Rate Class Customer Model'!E10 -> 6 | J27: ='Rate Class Customer Model'!E11 -> 6 | K27: ='Rate Class Customer Model'!E12 -> 6 | L27: ='Rate Class Customer Model'!E13 -> 6 | M27: ='Rate Class Customer Model'!E14 -> 6
A28: kWh | B28: ='Rate Class Energy Model'!K3 -> 57823879 | C28: ='Rate Class Energy Model'!K4 -> 56843411 | D28: ='Rate Class Energy Model'!K5 -> 61680653 | E28: ='Rate Class Energy Model'!K6 -> 60666329 | F28: ='Rate Class Energy Model'!K7 -> 60666329 | G28: ='Rate Class Energy Model'!K8 -> 50859469 | H28: ='Rate Class Energy Model'!K9 -> 45020625 | I28: ='Rate Class Energy Model'!K10 -> 47435811 | J28: ='Rate Class Energy Model'!K11 -> 46518194 | K28: ='Rate Class Energy Model'!K12 -> 41943488 | L28: ='Rate Class Energy Model'!K33 -> 41943488 | M28: ='Rate Class Energy Model'!K34 -> 41943488
A29: kW | B29: ='Rate Class Load Model'!C2 -> 117955 | C29: ='Rate Class Load Model'!C3 -> 143958 | D29: ='Rate Class Load Model'!C4 -> 145229 | E29: ='Rate Class Load Model'!C5 -> 139224 | F29: ='Rate Class Load Model'!C6 -> 139224 | G29: ='Rate Class Load Model'!C7 -> 115598 | H29: ='Rate Class Load Model'!C8 -> 129568 | I29: ='Rate Class Load Model'!C9 -> 127663.3 | J29: ='Rate Class Load Model'!C10 -> 121969.7 | K29: ='Rate Class Load Model'!C11 -> 116093.29 | L29: ='Rate Class Load Model'!C12 -> 116093.29 | M29: ='Rate Class Load Model'!C13 -> 116093.29
A31: ='Rate Class Energy Model'!L2 -> Unmetered Scatter Load
A32: Connections | B32: ='Rate Class Customer Model'!F3 -> 30 | C32: ='Rate Class Customer Model'!F4 -> 30.5 | D32: ='Rate Class Customer Model'!F5 -> 31.5 | E32: ='Rate Class Customer Model'!F6 -> 32 | F32: ='Rate Class Customer Model'!F7 -> 32 | G32: ='Rate Class Customer Model'!F8 -> 31.5 | H32: ='Rate Class Customer Model'!F9 -> 31 | I32: ='Rate Class Customer Model'!F10 -> 30 | J32: ='Rate Class Customer Model'!F11 -> 29 | K32: ='Rate Class Customer Model'!F12 -> 29 | L32: ='Rate Class Customer Model'!F13 -> 28.434631 | M32: ='Rate Class Customer Model'!F14 -> 27.880285
A33: kWh | B33: ='Rate Class Energy Model'!L3 -> 257059 | C33: ='Rate Class Energy Model'!L4 -> 255469 | D33: ='Rate Class Energy Model'!L5 -> 249143 | E33: ='Rate Class Energy Model'!L6 -> 246885 | F33: ='Rate Class Energy Model'!L7 -> 246885 | G33: ='Rate Class Energy Model'!L8 -> 248173 | H33: ='Rate Class Energy Model'!L9 -> 248448 | I33: ='Rate Class Energy Model'!L10 -> 248859 | J33: ='Rate Class Energy Model'!L11 -> 250863.24 | K33: ='Rate Class Energy Model'!L12 -> 235012.72 | L33: ='Rate Class Energy Model'!L33 -> 230431.04 | M33: ='Rate Class Energy Model'!L34 -> 225938.67
A35: ='Rate Class Energy Model'!M2 -> Sentinel Lighting
A36: Connections | B36: ='Rate Class Customer Model'!G3 -> 73 | C36: ='Rate Class Customer Model'!G4 -> 73 | D36: ='Rate Class Customer Model'!G5 -> 73 | E36: ='Rate Class Customer Model'!G6 -> 73 | F36: ='Rate Class Customer Model'!G7 -> 73 | G36: ='Rate Class Customer Model'!G8 -> 73 | H36: ='Rate Class Customer Model'!G9 -> 73 | I36: ='Rate Class Customer Model'!G10 -> 73 | J36: ='Rate Class Customer Model'!G11 -> 73 | K36: ='Rate Class Customer Model'!G12 -> 73 | L36: ='Rate Class Customer Model'!G13 -> 73 | M36: ='Rate Class Customer Model'!G14 -> 73
A37: kWh | B37: ='Rate Class Energy Model'!M3 -> 153690 | C37: ='Rate Class Energy Model'!M4 -> 152795 | D37: ='Rate Class Energy Model'!M5 -> 149558 | E37: ='Rate Class Energy Model'!M6 -> 144657 | F37: ='Rate Class Energy Model'!M7 -> 141998 | G37: ='Rate Class Energy Model'!M8 -> 137713 | H37: ='Rate Class Energy Model'!M9 -> 138479 | I37: ='Rate Class Energy Model'!M10 -> 136721.45 | J37: ='Rate Class Energy Model'!M11 -> 137219.59 | K37: ='Rate Class Energy Model'!M12 -> 117252.78 | L37: ='Rate Class Energy Model'!M33 -> 117252.78 | M37: ='Rate Class Energy Model'!M34 -> 117252.78
A38: kW | B38: ='Rate Class Load Model'!D2 -> 411 | C38: ='Rate Class Load Model'!D3 -> 406 | D38: ='Rate Class Load Model'!D4 -> 388 | E38: ='Rate Class Load Model'!D5 -> 364 | F38: ='Rate Class Load Model'!D6 -> 385 | G38: ='Rate Class Load Model'!D7 -> 357 | H38: ='Rate Class Load Model'!D8 -> 360 | I38: ='Rate Class Load Model'!D9 -> 357.1 | J38: ='Rate Class Load Model'!D10 -> 352 | K38: ='Rate Class Load Model'!D11 -> 375.7 | L38: ='Rate Class Load Model'!D12 -> 375.7 | M38: ='Rate Class Load Model'!D13 -> 375.7
A40: ='Rate Class Energy Model'!N2 -> Street Lighting
A41: Connections | B41: ='Rate Class Customer Model'!H3 -> 2969.5 | C41: ='Rate Class Customer Model'!H4 -> 2932 | D41: ='Rate Class Customer Model'!H5 -> 2955 | E41: ='Rate Class Customer Model'!H6 -> 2992 | F41: ='Rate Class Customer Model'!H7 -> 3043 | G41: ='Rate Class Customer Model'!H8 -> 3091.5 | H41: ='Rate Class Customer Model'!H9 -> 3133 | I41: ='Rate Class Customer Model'!H10 -> 3162 | J41: ='Rate Class Customer Model'!H11 -> 3158 | K41: ='Rate Class Customer Model'!H12 -> 3158.5 | L41: ='Rate Class Customer Model'!H13 -> 3182.1208 | M41: ='Rate Class Customer Model'!H14 -> 3205.9183
A42: kWh | B42: ='Rate Class Energy Model'!N3 -> 1585584 | C42: ='Rate Class Energy Model'!N4 -> 1361607 | D42: ='Rate Class Energy Model'!N5 -> 1349349 | E42: ='Rate Class Energy Model'!N6 -> 1353784 | F42: ='Rate Class Energy Model'!N7 -> 1283668 | G42: ='Rate Class Energy Model'!N8 -> 1265084 | H42: ='Rate Class Energy Model'!N9 -> 1271846 | I42: ='Rate Class Energy Model'!N10 -> 1187658 | J42: ='Rate Class Energy Model'!N11 -> 1192252.5 | K42: ='Rate Class Energy Model'!N12 -> 1199177.9 | L42: ='Rate Class Energy Model'!N33 -> 1208146 | M42: ='Rate Class Energy Model'!N34 -> 1217181.1
A43: kW | B43: ='Rate Class Load Model'!E2 -> 4764 | C43: ='Rate Class Load Model'!E3 -> 3705 | D43: ='Rate Class Load Model'!E4 -> 3920 | E43: ='Rate Class Load Model'!E5 -> 3756 | F43: ='Rate Class Load Model'!E6 -> 3927 | G43: ='Rate Class Load Model'!E7 -> 3399 | H43: ='Rate Class Load Model'!E8 -> 3342 | I43: ='Rate Class Load Model'!E9 -> 3319.34 | J43: ='Rate Class Load Model'!E10 -> 3338.8 | K43: ='Rate Class Load Model'!E11 -> 3367.1 | L43: ='Rate Class Load Model'!E12 -> 3392.2808 | M43: ='Rate Class Load Model'!E13 -> 3417.65
A45: Total
A46: Customer/Connections | B46: =+B14+B18+B22+B27+B32+B36+B41 -> 14740 | C46: =+C14+C18+C22+C27+C32+C36+C41 -> 14754 | D46: =+D14+D18+D22+D27+D32+D36+D41 -> 15072.5 | E46: =+E14+E18+E22+E27+E32+E36+E41 -> 15358.5 | F46: =+F14+F18+F22+F27+F32+F36+F41 -> 15523.5 | G46: =+G14+G18+G22+G27+G32+G36+G41 -> 15635.25 | H46: =+H14+H18+H22+H27+H32+H36+H41 -> 15676.125 | I46: =+I14+I18+I22+I27+I32+I36+I41 -> 15750.375 | ... M46: =+M14+M18+M22+M27+M32+M36+M41 -> 16090.341
A47: kWh | B47: =+B15+B19+B23+B28+B33+B37+B42 -> 238667221 | C47: =+C15+C19+C23+C28+C33+C37+C42 -> 219820870 | D47: =+D15+D19+D23+D28+D33+D37+D42 -> 246426601 | E47: =+E15+E19+E23+E28+E33+E37+E42 -> 242876722 | F47: =+F15+F19+F23+F28+F33+F37+F42 -> 239102776 | G47: =+G15+G19+G23+G28+G33+G37+G42 -> 242792191 | H47: =+H15+H19+H23+H28+H33+H37+H42 -> 2.3786065e+08 | I47: =+I15+I19+I23+I28+I33+I37+I42 -> 2.3410454e+08 | ... M47: =+M15+M19+M23+M28+M33+M37+M42 -> 2.4141709e+08
A48: kW from applicable classes | B48: =B24+B29+B38+B43 -> 311669.6 | C48: =C24+C29+C38+C43 -> 336599 | D48: =D24+D29+D38+D43 -> 323321 | E48: =E24+E29+E38+E43 -> 344380 | F48: =F24+F29+F38+F43 -> 270485 | G48: =G24+G29+G38+G43 -> 350361 | H48: =H24+H29+H38+H43 -> 284394.07 | I48: =I24+I29+I38+I43 -> 346446.57 | ... M48: =M24+M29+M38+M43 -> 324639.05
A50: Customer/Connections | B50: ='Rate Class Customer Model'!I3 -> 14740 | C50: ='Rate Class Customer Model'!I4 -> 14754 | D50: ='Rate Class Customer Model'!I5 -> 15072.5 | E50: ='Rate Class Customer Model'!I6 -> 15358.5 | F50: ='Rate Class Customer Model'!I7 -> 15523.5 | G50: ='Rate Class Customer Model'!I8 -> 15635.25 | H50: ='Rate Class Customer Model'!I9 -> 15676.125 | I50: ='Rate Class Customer Model'!I10 -> 15750.375 | J50: ='Rate Class Customer Model'!I11 -> 15824.5 | K50: ='Rate Class Customer Model'!I12 -> 15889 | L50: ='Rate Class Customer Model'!I13 -> 15989.337 | M50: ='Rate Class Customer Model'!I14 -> 16090.341
A51: kWh | B51: =B10 -> 238667221 | C51: =C10 -> 219820870 | D51: =D10 -> 246426601 | E51: =E10 -> 242876722 | F51: =F10 -> 239102776 | G51: =G10 -> 242792191 | H51: =H10 -> 2.3786065e+08 | I51: =I10 -> 2.3410454e+08 | ... M51: =M10 -> 2.4141709e+08
A52: kW from applicable classes | B52: ='Rate Class Load Model'!F2 -> 311669.6 | C52: ='Rate Class Load Model'!F3 -> 336599 | D52: ='Rate Class Load Model'!F4 -> 323321 | E52: ='Rate Class Load Model'!F5 -> 344380 | F52: ='Rate Class Load Model'!F6 -> 270485 | G52: ='Rate Class Load Model'!F7 -> 350361 | H52: ='Rate Class Load Model'!F8 -> 284394.07 | I52: ='Rate Class Load Model'!F9 -> 346446.57 | J52: ='Rate Class Load Model'!F10 -> 328668.6 | K52: ='Rate Class Load Model'!F11 -> 322896.99 | L52: ='Rate Class Load Model'!F12 -> 324534.5 | M52: ='Rate Class Load Model'!F13 -> 324639.05
A54: Customer/Connections | H54: ='Rate Class Load Model'!F12 -> 324534.5 | I54: =#REF! -> #REF! | L54: =#REF! -> #REF! | M54: =#REF! -> #REF!
A55: kWh | H55: ='Rate Class Load Model'!F13 -> 324639.05 | I55: =#REF! -> #REF! | L55: =#REF! -> #REF! | M55: =#REF! -> #REF!
A56: kW from applicable classes | H56: ='Rate Class Load Model'!F14 -> 0 | I56: =#REF! -> #REF! | L56: =#REF! -> #REF! | M56: =#REF! -> #REF!
H57: ='Rate Class Load Model'!F15 -> 0
A58: Customer/Connections | H58: ='Rate Class Load Model'!F16 -> 0 | I58: =#REF!-I54 -> #REF! | L58: =#REF!-L54 -> #REF! | M58: =#REF!-M54 -> #REF!
A59: kWh | H59: ='Rate Class Load Model'!F17 -> 0 | I59: =#REF!-I55 -> #REF! | L59: =#REF!-L55 -> #REF! | M59: =#REF!-M55 -> #REF!
A60: kW from applicable classes | H60: ='Rate Class Load Model'!F18 -> 0 | I60: =#REF!-I56 -> #REF! | L60: =#REF!-L56 -> #REF! | M60: =#REF!-M56 -> #REF!
H61: ='Rate Class Load Model'!F19 -> 0
A62: Check
A63: Customer/Connections | B63: =B46-B50 -> 0 | C63: =C46-C50 -> 0 | D63: =D46-D50 -> 0 | E63: =E46-E50 -> 0 | F63: =F46-F50 -> 0 | G63: =G46-G50 -> 0 | H63: =H46-H50 -> 0 | I63: =I46-I50 -> 0 | ... M63: =M46-M50 -> 0
A64: kWh | B64: =B47-B51 -> 0 | C64: =C47-C51 -> 0 | D64: =D47-D51 -> 0 | E64: =E47-E51 -> 0 | F64: =F47-F51 -> 0 | G64: =G47-G51 -> 0 | H64: =H47-H51 -> 0 | I64: =I47-I51 -> 0 | ... M64: =M47-M51 -> 0
A65: kW from applicable classes | B65: =B48-B52 -> 0 | C65: =C48-C52 -> 0 | D65: =D48-D52 -> 0 | E65: =E48-E52 -> 0 | F65: =F48-F52 -> 0 | G65: =G48-G52 -> 0 | H65: =H48-H52 -> 0 | I65: =I48-I52 -> 0 | ... M65: =M48-M52 -> 0
H67: =H15+H19+H23 -> 1.9118126e+08 | I67: =I15+I19+I23 -> 1.8509549e+08 | J67: =J15+J19+J23 -> 1.9150728e+08 | K67: =K15+K19+K23 -> 1.9409323e+08 | L67: =L15+L19+L23 -> 1.9692664e+08 | M67: =M15+M19+M23 -> 1.9791323e+08
C69: =(C47-B47)/B47 -> -0.078964974 | D69: =(D47-C47)/C47 -> 0.12103369 | E69: =(E47-D47)/D47 -> -0.014405421 | F69: =(F47-E47)/E47 -> -0.015538525 | G69: =(G47-F47)/F47 -> 0.015430247 | H69: =(H47-G47)/G47 -> -0.020311759 | I69: =(I47-H47)/H47 -> -0.015791242 | J69: =(J47-I47)/I47 -> 0.023499204 | ... M69: =(M47-L47)/L47 -> 0.004122394
C70: =(C48-B48)/B48 -> 0.079986627 | D70: =(D48-C48)/C48 -> -0.039447533 | E70: =(E48-D48)/D48 -> 0.065133412 | F70: =(F48-E48)/E48 -> -0.21457402 | G70: =(G48-F48)/F48 -> 0.29530658 | H70: =(H48-G48)/G48 -> -0.18828274 | I70: =(I48-H48)/H48 -> 0.21819196 | J70: =(J48-I48)/I48 -> -0.051315185 | ... M70: =(M48-L48)/L48 -> 0.00032214453

Sheet Power Purchased Model
A2: Date | B2: Power Purchased | C2: Additions | D2: Total Power Purchased | E2: Customers | F2: Days in Month | G2: Spring/Fall Flag | H2: HDD | I2: CDD | J2: COVID | K2: Predicted Purchases | L2: Residual (kWh) | M2: % Residual | N2: % Residual (Abs) | O2: Residual Squared | P2: Difference of Residuals | Q2: Difference of Residuals Squared | S2: SUMMARY OUTPUT
A3: 42400 | B3: =Inputs!D24 -> 22228059 | C3: =Inputs!E24 -> 234806 | D3: =B3+C3 -> 22462865 | E3: =Inputs!C24 -> 11667.5 | F3: 31 | G3: 0 | H3: 627.8 | I3: 0 | J3: 0 | K3: =$T$18+$T$19*E3+$T$20*F3+$T$21*G3+$T$22*H3+$T$23*I3 -> 21349647 | L3: =K3-B3 -> -878411.76 | M3: =L3/B3 -> -0.03951815 | N3: =ABS(M3) -> 0.03951815 | O3: =L3*L3 -> 7.7160723e+11
A4: 42429 | B4: =Inputs!D25 -> 19954897 | C4: =Inputs!E25 -> 297475 | D4: =B4+C4 -> 20252372 | E4: =Inputs!C25 -> 11667.5 | F4: 29 | G4: 0 | H4: 550.2 | I4: 0 | J4: 0 | K4: =$T$18+$T$19*E4+$T$20*F4+$T$21*G4+$T$22*H4+$T$23*I4 -> 19316660 | L4: =K4-B4 -> -638236.7 | M4: =L4/B4 -> -0.031983964 | N4: =ABS(M4) -> 0.031983964 | O4: =L4*L4 -> 4.0734609e+11 | P4: =L4-L3 -> 240175.06 | Q4: =P4*P4 -> 5.768406e+10 | S4: Regression Statistics
A5: 42460 | B5: =Inputs!D26 -> 19222038 | C5: =Inputs!E26 -> 355013 | D5: =B5+C5 -> 19577051 | E5: =Inputs!C26 -> 11667.5 | F5: 31 | G5: 1 | H5: 404.4 | I5: 0 | J5: 0 | K5: =$T$18+$T$19*E5+$T$20*F5+$T$21*G5+$T$22*H5+$T$23*I5 -> 18387013 | L5: =K5-B5 -> -835024.81 | M5: =L5/B5 -> -0.043441014 | N5: =ABS(M5) -> 0.043441014 | O5: =L5*L5 -> 6.9726643e+11 | P5: =L5-L4 -> -196788.11 | Q5: =P5*P5 -> 3.8725559e+10 | S5: Multiple R | T5: 0.95699588
A6: 42490 | B6: =Inputs!D27 -> 17539923 | C6: =Inputs!E27 -> 494348 | D6: =B6+C6 -> 18034271 | E6: =Inputs!C27 -> 11667.5 | F6: 30 | G6: 1 | H6: 332.1 | I6: 0 | J6: 0 | K6: =$T$18+$T$19*E6+$T$20*F6+$T$21*G6+$T$22*H6+$T$23*I6 -> 17159236 | L6: =K6-B6 -> -380687.3 | M6: =L6/B6 -> -0.021704046 | N6: =ABS(M6) -> 0.021704046 | O6: =L6*L6 -> 1.4492282e+11 | P6: =L6-L5 -> 454337.52 | Q6: =P6*P6 -> 2.0642258e+11 | S6: R Square | T6: 0.91584112
A7: 42521 | B7: =Inputs!D28 -> 17888192 | C7: =Inputs!E28 -> 630932 | D7: =B7+C7 -> 18519124 | E7: =Inputs!C28 -> 11667.5 | F7: 31 | G7: 1 | H7: 126.6 | I7: 37.4 | J7: 0 | K7: =$T$18+$T$19*E7+$T$20*F7+$T$21*G7+$T$22*H7+$T$23*I7 -> 18639378 | L7: =K7-B7 -> 751185.77 | M7: =L7/B7 -> 0.041993387 | N7: =ABS(M7) -> 0.041993387 | O7: =L7*L7 -> 5.6428006e+11 | P7: =L7-L6 -> 1131873.1 | Q7: =P7*P7 -> 1.2811366e+12 | S7: Adjusted R Square | T7: 0.91214994
A8: 42551 | B8: =Inputs!D29 -> 21176371 | C8: =Inputs!E29 -> 685810 | D8: =B8+C8 -> 21862181 | E8: =Inputs!C29 -> 11667.5 | F8: 30 | G8: 0 | H8: 6.8 | I8: 101.3 | J8: 0 | K8: =$T$18+$T$19*E8+$T$20*F8+$T$21*G8+$T$22*H8+$T$23*I8 -> 22090379 | L8: =K8-B8 -> 914008.63 | M8: =L8/B8 -> 0.043161722 | N8: =ABS(M8) -> 0.043161722 | O8: =L8*L8 -> 8.3541177e+11 | P8: =L8-L7 -> 162822.86 | Q8: =P8*P8 -> 2.6511283e+10 | S8: Standard Error | T8: 858649.39
A9: 42582 | B9: =Inputs!D30 -> 25410950 | C9: =Inputs!E30 -> 653742 | D9: =B9+C9 -> 26064692 | E9: =Inputs!C30 -> 11667.5 | F9: 31 | G9: 0 | H9: 0 | I9: 178.3 | J9: 0 | K9: =$T$18+$T$19*E9+$T$20*F9+$T$21*G9+$T$22*H9+$T$23*I9 -> 26946072 | L9: =K9-B9 -> 1535122.3 | M9: =L9/B9 -> 0.060411843 | N9: =ABS(M9) -> 0.060411843 | O9: =L9*L9 -> 2.3566006e+12 | P9: =L9-L8 -> 621113.7 | Q9: =P9*P9 -> 3.8578223e+11 | S9: Observations | T9: 120
A10: 42613 | B10: =Inputs!D31 -> 26478809 | C10: =Inputs!E31 -> 604454 | D10: =B10+C10 -> 27083263 | E10: =Inputs!C31 -> 11667.5 | F10: 31 | G10: 0 | H10: 0 | I10: 165.6 | J10: 0 | K10: =$T$18+$T$19*E10+$T$20*F10+$T$21*G10+$T$22*H10+$T$23*I10 -> 26265419 | L10: =K10-B10 -> -213390.77 | M10: =L10/B10 -> -0.008058926 | N10: =ABS(M10) -> 0.008058926 | O10: =L10*L10 -> 4.5535619e+10 | P10: =L10-L9 -> -1748513.1 | Q10: =P10*P10 -> 3.057298e+12
A11: 42643 | B11: =Inputs!D32 -> 19964495 | C11: =Inputs!E32 -> 499609 | D11: =B11+C11 -> 20464104 | E11: =Inputs!C32 -> 11667.5 | F11: 30 | G11: 0 | H11: 19.4 | I11: 60.7 | J11: 0 | K11: =$T$18+$T$19*E11+$T$20*F11+$T$21*G11+$T$22*H11+$T$23*I11 -> 19993899 | L11: =K11-B11 -> 29404.355 | M11: =L11/B11 -> 0.0014728324 | N11: =ABS(M11) -> 0.0014728324 | O11: =L11*L11 -> 8.646161e+08 | P11: =L11-L10 -> 242795.12 | Q11: =P11*P11 -> 5.8949471e+10 | S11: ANOVA
A12: 42674 | B12: =Inputs!D33 -> 16743812 | C12: =Inputs!E33 -> 419947 | D12: =B12+C12 -> 17163759 | E12: =Inputs!C33 -> 11667.5 | F12: 31 | G12: 1 | H12: 173.2 | I12: 14.1 | J12: 0 | K12: =$T$18+$T$19*E12+$T$20*F12+$T$21*G12+$T$22*H12+$T$23*I12 -> 17684525 | L12: =K12-B12 -> 940713.29 | M12: =L12/B12 -> 0.056182745 | N12: =ABS(M12) -> 0.056182745 | O12: =L12*L12 -> 8.849415e+11 | P12: =L12-L11 -> 911308.94 | Q12: =P12*P12 -> 8.3048398e+11 | T12: df | U12: SS | V12: MS | W12: F | X12: Significance F
A13: 42704 | B13: =Inputs!D34 -> 17780991 | C13: =Inputs!E34 -> 308938 | D13: =B13+C13 -> 18089929 | E13: =Inputs!C34 -> 11667.5 | F13: 30 | G13: 1 | H13: 315.3 | I13: 0 | J13: 0 | K13: =$T$18+$T$19*E13+$T$20*F13+$T$21*G13+$T$22*H13+$T$23*I13 -> 17053278 | L13: =K13-B13 -> -727712.38 | M13: =L13/B13 -> -0.040926425 | N13: =ABS(M13) -> 0.040926425 | O13: =L13*L13 -> 5.2956531e+11 | P13: =L13-L12 -> -1668425.7 | Q13: =P13*P13 -> 2.7836442e+12 | S13: Regression | T13: 5 | U13: 9.1465386e+14 | V13: 1.8293077e+14 | W13: 248.11615 | X13: 1.5803627e-59
A14: 42735 | B14: =Inputs!D35 -> 21570625 | C14: =Inputs!E35 -> 133539 | D14: =B14+C14 -> 21704164 | E14: =Inputs!C35 -> 11667.5 | F14: 31 | G14: 0 | H14: 623.2 | I14: 0 | J14: 0 | K14: =$T$18+$T$19*E14+$T$20*F14+$T$21*G14+$T$22*H14+$T$23*I14 -> 21320635 | L14: =K14-B14 -> -249990.28 | M14: =L14/B14 -> -0.011589385 | N14: =ABS(M14) -> 0.011589385 | O14: =L14*L14 -> 6.2495141e+10 | P14: =L14-L13 -> 477722.1 | Q14: =P14*P14 -> 2.282184e+11 | S14: Residual | T14: 114 | U14: 8.404978e+13 | V14: 7.3727878e+11
A15: 42766 | B15: =Inputs!D36 -> 21358693 | C15: =Inputs!E36 -> 142223 | D15: =B15+C15 -> 21500916 | E15: =Inputs!C36 -> 11718.5 | F15: 31 | G15: =G3 -> 0 | H15: 567.7 | I15: 0 | J15: 0 | K15: =$T$18+$T$19*E15+$T$20*F15+$T$21*G15+$T$22*H15+$T$23*I15 -> 21027717 | L15: =K15-B15 -> -330975.74 | M15: =L15/B15 -> -0.015496067 | N15: =ABS(M15) -> 0.015496067 | O15: =L15*L15 -> 1.0954494e+11 | P15: =L15-L14 -> -80985.455 | Q15: =P15*P15 -> 6.558644e+09 | S15: Total | T15: 119 | U15: 9.9870364e+14
A16: 42794 | B16: =Inputs!D37 -> 17924355 | C16: =Inputs!E37 -> 311443 | D16: =B16+C16 -> 18235798 | E16: =Inputs!C37 -> 11718.5 | F16: 28 | G16: =G4 -> 0 | H16: 440.7 | I16: 0 | J16: 0 | K16: =$T$18+$T$19*E16+$T$20*F16+$T$21*G16+$T$22*H16+$T$23*I16 -> 17911383 | L16: =K16-B16 -> -12972.125 | M16: =L16/B16 -> -0.00072371503 | N16: =ABS(M16) -> 0.00072371503 | O16: =L16*L16 -> 1.6827604e+08 | P16: =L16-L15 -> 318003.61 | Q16: =P16*P16 -> 1.011263e+11
A17: 42825 | B17: =Inputs!D38 -> 19428993 | C17: =Inputs!E38 -> 418801 | D17: =B17+C17 -> 19847794 | E17: =Inputs!C38 -> 11718.5 | F17: 31 | G17: =G5 -> 1 | H17: 507.3 | I17: 0 | J17: 0 | K17: =$T$18+$T$19*E17+$T$20*F17+$T$21*G17+$T$22*H17+$T$23*I17 -> 19093121 | L17: =K17-B17 -> -335871.28 | M17: =L17/B17 -> -0.017287118 | N17: =ABS(M17) -> 0.017287118 | O17: =L17*L17 -> 1.1280952e+11 | P17: =L17-L16 -> -322899.16 | Q17: =P17*P17 -> 1.0426387e+11 | T17: Coefficients | U17: Standard Error | V17: t Stat | W17: P-value | X17: Lower 95% | Y17: Upper 95% | Z17: Lower 95.0% | AA17: Upper 95.0%
A18: 42855 | B18: =Inputs!D39 -> 15946372 | C18: =Inputs!E39 -> 473713 | D18: =B18+C18 -> 16420085 | E18: =Inputs!C39 -> 11718.5 | F18: 30 | G18: =G6 -> 1 | H18: 200.5 | I18: 1 | J18: 0 | K18: =$T$18+$T$19*E18+$T$20*F18+$T$21*G18+$T$22*H18+$T$23*I18 -> 16439951 | L18: =K18-B18 -> 493579.74 | M18: =L18/B18 -> 0.030952479 | N18: =ABS(M18) -> 0.030952479 | O18: =L18*L18 -> 2.4362096e+11 | P18: =L18-L17 -> 829451.02 | Q18: =P18*P18 -> 6.87989e+11 | S18: Intercept | T18: -19602713 | U18: 4302721.9 | V18: -4.5558866 | W18: 1.3166225e-05 | X18: -28126372 | Y18: -11079054 | Z18: -28126372 | AA18: -11079054
A19: 42886 | B19: =Inputs!D40 -> 16906557 | C19: =Inputs!E40 -> 826417 | D19: =B19+C19 -> 17732974 | E19: =Inputs!C40 -> 11718.5 | F19: 31 | G19: =G7 -> 1 | H19: 132.3 | I19: 17.9 | J19: 0 | K19: =$T$18+$T$19*E19+$T$20*F19+$T$21*G19+$T$22*H19+$T$23*I19 -> 17687349 | L19: =K19-B19 -> 780792.25 | M19: =L19/B19 -> 0.046182806 | N19: =ABS(M19) -> 0.046182806 | O19: =L19*L19 -> 6.0963654e+11 | P19: =L19-L18 -> 287212.51 | Q19: =P19*P19 -> 8.2491027e+10 | S19: Customers | T19: 1119.9984 | U19: 241.13715 | V19: 4.6446531 | W19: 9.1930752e-06 | X19: 642.30756 | Y19: 1597.6892 | Z19: 642.30756 | AA19: 1597.6892
A20: 42916 | B20: =Inputs!D41 -> 20456313 | C20: =Inputs!E41 -> 745371 | D20: =B20+C20 -> 21201684 | E20: =Inputs!C41 -> 11718.5 | F20: 30 | G20: =G8 -> 0 | H20: 9.2 | I20: 102.5 | J20: 0 | K20: =$T$18+$T$19*E20+$T$20*F20+$T$21*G20+$T$22*H20+$T$23*I20 -> 22226950 | L20: =K20-B20 -> 1770636.9 | M20: =L20/B20 -> 0.086556993 | N20: =ABS(M20) -> 0.086556993 | O20: =L20*L20 -> 3.1351552e+12 | P20: =L20-L19 -> 989844.69 | Q20: =P20*P20 -> 9.7979251e+11 | S20: Days in Month | T20: 771782.43 | U20: 105577.45 | V20: 7.3101064 | W20: 3.9521247e-11 | X20: 562634.3 | Y20: 980930.55 | Z20: 562634.3 | AA20: 980930.55
A21: 42947 | B21: =Inputs!D42 -> 24127924 | C21: =Inputs!E42 -> 738146 | D21: =B21+C21 -> 24866070 | E21: =Inputs!C42 -> 11718.5 | F21: 31 | G21: =G9 -> 0 | H21: 0 | I21: 137 | J21: 0 | K21: =$T$18+$T$19*E21+$T$20*F21+$T$21*G21+$T$22*H21+$T$23*I21 -> 24789728 | L21: =K21-B21 -> 661803.76 | M21: =L21/B21 -> 0.027428956 | N21: =ABS(M21) -> 0.027428956 | O21: =L21*L21 -> 4.3798422e+11 | P21: =L21-L20 -> -1108833.2 | Q21: =P21*P21 -> 1.229511e+12 | S21: Spring/Fall Flag | T21: -1553654.2 | U21: 214985.64 | V21: -7.2267815 | W21: 6.0227611e-11 | X21: -1979539.1 | Y21: -1127769.3 | Z21: -1979539.1 | AA21: -1127769.3
A22: 42978 | B22: =Inputs!D43 -> 20981874 | C22: =Inputs!E43 -> 688252 | D22: =B22+C22 -> 21670126 | E22: =Inputs!C43 -> 11718.5 | F22: 31 | G22: =G10 -> 0 | H22: 6.7 | I22: 80.6 | J22: 0 | K22: =$T$18+$T$19*E22+$T$20*F22+$T$21*G22+$T$22*H22+$T$23*I22 -> 21809239 | L22: =K22-B22 -> 827365.02 | M22: =L22/B22 -> 0.03943237 | N22: =ABS(M22) -> 0.03943237 | O22: =L22*L22 -> 6.8453288e+11 | P22: =L22-L21 -> 165561.26 | Q22: =P22*P22 -> 2.7410532e+10 | S22: HDD | T22: 6306.9824 | U22: 566.01727 | V22: 11.142738 | W22: 5.9237194e-20 | X22: 5185.7065 | Y22: 7428.2583 | Z22: 5185.7065 | AA22: 7428.2583
A23: 43008 | B23: =Inputs!D44 -> 17752579 | C23: =Inputs!E44 -> 621289 | D23: =B23+C23 -> 18373868 | E23: =Inputs!C44 -> 11718.5 | F23: 30 | G23: =G11 -> 0 | H23: 47.5 | I23: 56.4 | J23: 0 | K23: =$T$18+$T$19*E23+$T$20*F23+$T$21*G23+$T$22*H23+$T$23*I23 -> 19997788 | L23: =K23-B23 -> 2245209.2 | M23: =L23/B23 -> 0.12647228 | N23: =ABS(M23) -> 0.12647228 | O23: =L23*L23 -> 5.0409643e+12 | P23: =L23-L22 -> 1417844.2 | Q23: =P23*P23 -> 2.0102821e+12 | S23: CDD | T23: 53594.778 | U23: 2848.7532 | V23: 18.813416 | W23: 9.4288621e-37 | X23: 47951.42 | Y23: 59238.136 | Z23: 47951.42 | AA23: 59238.136
A24: 43039 | B24: =Inputs!D45 -> 16267870 | C24: =Inputs!E45 -> 422987 | D24: =B24+C24 -> 16690857 | E24: =Inputs!C45 -> 11718.5 | F24: 31 | G24: =G12 -> 1 | H24: 151.6 | I24: 12 | J24: 0 | K24: =$T$18+$T$19*E24+$T$20*F24+$T$21*G24+$T$22*H24+$T$23*I24 -> 17492865 | L24: =K24-B24 -> 1224995.3 | M24: =L24/B24 -> 0.07530152 | N24: =ABS(M24) -> 0.07530152 | O24: =L24*L24 -> 1.5006135e+12 | P24: =L24-L23 -> -1020213.9 | Q24: =P24*P24 -> 1.0408363e+12
A25: 43069 | B25: =Inputs!D46 -> 17286540 | C25: =Inputs!E46 -> 285862 | D25: =B25+C25 -> 17572402 | E25: =Inputs!C46 -> 11718.5 | F25: 30 | G25: =G13 -> 1 | H25: 368.1 | I25: 0 | J25: 0 | K25: =$T$18+$T$19*E25+$T$20*F25+$T$21*G25+$T$22*H25+$T$23*I25 -> 17443407 | L25: =K25-B25 -> 156866.84 | M25: =L25/B25 -> 0.0090745076 | N25: =ABS(M25) -> 0.0090745076 | O25: =L25*L25 -> 2.4607205e+10 | P25: =L25-L24 -> -1068128.5 | Q25: =P25*P25 -> 1.1408984e+12
A26: 43100 | B26: =Inputs!D47 -> 20215408 | C26: =Inputs!E47 -> 172953 | D26: =B26+C26 -> 20388361 | E26: =Inputs!C47 -> 11718.5 | F26: 31 | G26: =G14 -> 0 | H26: 641.9 | I26: 0 | J26: 0 | K26: =$T$18+$T$19*E26+$T$20*F26+$T$21*G26+$T$22*H26+$T$23*I26 -> 21495695 | L26: =K26-B26 -> 1280287.6 | M26: =L26/B26 -> 0.063332265 | N26: =ABS(M26) -> 0.063332265 | O26: =L26*L26 -> 1.6391362e+12 | P26: =L26-L25 -> 1123420.7 | Q26: =P26*P26 -> 1.2620741e+12 | S26: Mean Absolute Percentage Error (MAPE) | T26: =N123 -> 0.041456477
A27: 43131 | B27: =Inputs!D48 -> 21585922 | C27: =Inputs!E48 -> 251852 | D27: =B27+C27 -> 21837774 | E27: =Inputs!C48 -> 12013 | F27: 31 | G27: =G15 -> 0 | H27: 705.6 | I27: 0 | J27: 0 | K27: =$T$18+$T$19*E27+$T$20*F27+$T$21*G27+$T$22*H27+$T$23*I27 -> 22227290 | L27: =K27-B27 -> 641367.56 | M27: =L27/B27 -> 0.029712308 | N27: =ABS(M27) -> 0.029712308 | O27: =L27*L27 -> 4.1135235e+11 | P27: =L27-L26 -> -638920 | Q27: =P27*P27 -> 4.0821876e+11 | S27: Sum of Squared Difference of Residuals | T27: =Q123 -> 1.0926497e+14
A28: 43159 | B28: =Inputs!D49 -> 17656173 | C28: =Inputs!E49 -> 234936 | D28: =B28+C28 -> 17891109 | E28: =Inputs!C49 -> 12013 | F28: 28 | G28: =G16 -> 0 | H28: 544.5 | I28: 0 | J28: 0 | K28: =$T$18+$T$19*E28+$T$20*F28+$T$21*G28+$T$22*H28+$T$23*I28 -> 18895887 | L28: =K28-B28 -> 1239714.5 | M28: =L28/B28 -> 0.070214223 | N28: =ABS(M28) -> 0.070214223 | O28: =L28*L28 -> 1.5368919e+12 | P28: =L28-L27 -> 598346.9 | Q28: =P28*P28 -> 3.5801902e+11 | S28: Sum of Squared Residuals | T28: =O123 -> 1.2229461e+14
A29: 43190 | B29: =Inputs!D50 -> 18248163 | C29: =Inputs!E50 -> 574730 | D29: =B29+C29 -> 18822893 | E29: =Inputs!C50 -> 12013 | F29: 31 | G29: =G17 -> 1 | H29: 519.9 | I29: 0 | J29: 0 | K29: =$T$18+$T$19*E29+$T$20*F29+$T$21*G29+$T$22*H29+$T$23*I29 -> 19502429 | L29: =K29-B29 -> 1254266.1 | M29: =L29/B29 -> 0.068733832 | N29: =ABS(M29) -> 0.068733832 | O29: =L29*L29 -> 1.5731835e+12 | P29: =L29-L28 -> 14551.677 | Q29: =P29*P29 -> 2.1175129e+08
A30: 43220 | B30: =Inputs!D51 -> 16369500 | C30: =Inputs!E51 -> 586292 | D30: =B30+C30 -> 16955792 | E30: =Inputs!C51 -> 12013 | F30: 30 | G30: =G18 -> 1 | H30: 395.6 | I30: 0 | J30: 0 | K30: =$T$18+$T$19*E30+$T$20*F30+$T$21*G30+$T$22*H30+$T$23*I30 -> 17946688 | L30: =K30-B30 -> 1577188.2 | M30: =L30/B30 -> 0.096349196 | N30: =ABS(M30) -> 0.096349196 | O30: =L30*L30 -> 2.4875226e+12 | P30: =L30-L29 -> 322922.04 | Q30: =P30*P30 -> 1.0427864e+11 | S30: Durbin-Watson Calculation | T30: =T27/T28 -> 0.89345695
A31: 43251 | B31: =Inputs!D52 -> 17055235 | C31: =Inputs!E52 -> 731668 | D31: =B31+C31 -> 17786903 | E31: =Inputs!C52 -> 12013 | F31: 31 | G31: =G19 -> 1 | H31: 62.9 | I31: 49.9 | J31: 0 | K31: =$T$18+$T$19*E31+$T$20*F31+$T$21*G31+$T$22*H31+$T$23*I31 -> 19294517 | L31: =K31-B31 -> 2239282.3 | M31: =L31/B31 -> 0.1312959 | N31: =ABS(M31) -> 0.1312959 | O31: =L31*L31 -> 5.0143854e+12 | P31: =L31-L30 -> 662094.15 | Q31: =P31*P31 -> 4.3836867e+11
A32: 43281 | B32: =Inputs!D53 -> 19672643 | C32: =Inputs!E53 -> 710269 | D32: =B32+C32 -> 20382912 | E32: =Inputs!C53 -> 12013 | F32: 30 | G32: =G20 -> 0 | H32: 7.6 | I32: 93.9 | J32: 0 | K32: =$T$18+$T$19*E32+$T$20*F32+$T$21*G32+$T$22*H32+$T$23*I32 -> 22085783 | L32: =K32-B32 -> 2413140.6 | M32: =L32/B32 -> 0.12266479 | N32: =ABS(M32) -> 0.12266479 | O32: =L32*L32 -> 5.8232477e+12 | P32: =L32-L31 -> 173858.29 | Q32: =P32*P32 -> 3.0226706e+10
A33: 43312 | B33: =Inputs!D54 -> 24519316 | C33: =Inputs!E54 -> 778930 | D33: =B33+C33 -> 25298246 | E33: =Inputs!C54 -> 12013 | F33: 31 | G33: =G21 -> 0 | H33: 0.2 | I33: 163.3 | J33: 0 | K33: =$T$18+$T$19*E33+$T$20*F33+$T$21*G33+$T$22*H33+$T$23*I33 -> 26530372 | L33: =K33-B33 -> 2011055.3 | M33: =L33/B33 -> 0.082019225 | N33: =ABS(M33) -> 0.082019225 | O33: =L33*L33 -> 4.0443435e+12 | P33: =L33-L32 -> -402085.3 | Q33: =P33*P33 -> 1.6167259e+11
A34: 43343 | B34: =Inputs!D55 -> 26369599 | C34: =Inputs!E55 -> 636511 | D34: =B34+C34 -> 27006110 | E34: =Inputs!C55 -> 12013 | F34: 31 | G34: =G22 -> 0 | H34: 0 | I34: 135.5 | J34: 0 | K34: =$T$18+$T$19*E34+$T$20*F34+$T$21*G34+$T$22*H34+$T$23*I34 -> 25039175 | L34: =K34-B34 -> -1330424.1 | M34: =L34/B34 -> -0.050452949 | N34: =ABS(M34) -> 0.050452949 | O34: =L34*L34 -> 1.7700282e+12 | P34: =L34-L33 -> -3341479.4 | Q34: =P34*P34 -> 1.1165484e+13
A35: 43373 | B35: =Inputs!D56 -> 21334917 | C35: =Inputs!E56 -> 500836 | D35: =B35+C35 -> 21835753 | E35: =Inputs!C56 -> 12013 | F35: 30 | G35: =G23 -> 0 | H35: 39.2 | I35: 32.4 | J35: 0 | K35: =$T$18+$T$19*E35+$T$20*F35+$T$21*G35+$T$22*H35+$T$23*I35 -> 18989005 | L35: =K35-B35 -> -2345911.7 | M35: =L35/B35 -> -0.10995645 | N35: =ABS(M35) -> 0.10995645 | O35: =L35*L35 -> 5.5033016e+12 | P35: =L35-L34 -> -1015487.6 | Q35: =P35*P35 -> 1.0312151e+12
A36: 43404 | B36: =Inputs!D57 -> 18577884 | C36: =Inputs!E57 -> 376066 | D36: =B36+C36 -> 18953950 | E36: =Inputs!C57 -> 12013 | F36: 31 | G36: =G24 -> 1 | H36: 242.3 | I36: 19.6 | J36: 0 | K36: =$T$18+$T$19*E36+$T$20*F36+$T$21*G36+$T$22*H36+$T$23*I36 -> 18802068 | L36: =K36-B36 -> 224184.21 | M36: =L36/B36 -> 0.012067263 | N36: =ABS(M36) -> 0.012067263 | O36: =L36*L36 -> 5.0258561e+10 | P36: =L36-L35 -> 2570095.9 | Q36: =P36*P36 -> 6.6053928e+12
A37: 43434 | B37: =Inputs!D58 -> 18327765 | C37: =Inputs!E58 -> 181639 | D37: =B37+C37 -> 18509404 | E37: =Inputs!C58 -> 12013 | F37: 30 | G37: =G25 -> 1 | H37: =10.7+463.4 -> 474.1 | I37: 0 | J37: 0 | K37: =$T$18+$T$19*E37+$T$20*F37+$T$21*G37+$T$22*H37+$T$23*I37 -> 18441787 | L37: =K37-B37 -> 114021.57 | M37: =L37/B37 -> 0.0062212478 | N37: =ABS(M37) -> 0.0062212478 | O37: =L37*L37 -> 1.3000918e+10 | P37: =L37-L36 -> -110162.64 | Q37: =P37*P37 -> 1.2135808e+10
A38: 43465 | B38: =Inputs!D59 -> 19674280 | C38: =Inputs!E59 -> 208740 | D38: =B38+C38 -> 19883020 | E38: =Inputs!C59 -> 12013 | F38: 31 | G38: =G26 -> 0 | H38: 533.8 | I38: 0 | J38: 0 | K38: =$T$18+$T$19*E38+$T$20*F38+$T$21*G38+$T$22*H38+$T$23*I38 -> 21143750 | L38: =K38-B38 -> 1469470.4 | M38: =L38/B38 -> 0.074689924 | N38: =ABS(M38) -> 0.074689924 | O38: =L38*L38 -> 2.1593434e+12 | P38: =L38-L37 -> 1355448.9 | Q38: =P38*P38 -> 1.8372417e+12
A39: 43496 | B39: =Inputs!D60 -> 21603461 | C39: =Inputs!E60 -> 249895 | D39: =B39+C39 -> 21853356 | E39: =Inputs!C60 -> 12261.5 | F39: 31 | G39: =G27 -> 0 | H39: 711.8 | I39: 0 | J39: 0 | K39: =$T$18+$T$19*E39+$T$20*F39+$T$21*G39+$T$22*H39+$T$23*I39 -> 22544712 | L39: =K39-B39 -> 941251.27 | M39: =L39/B39 -> 0.043569466 | N39: =ABS(M39) -> 0.043569466 | O39: =L39*L39 -> 8.8595395e+11 | P39: =L39-L38 -> -528219.17 | Q39: =P39*P39 -> 2.790155e+11
A40: 43524 | B40: =Inputs!D61 -> 18823325 | C40: =Inputs!E61 -> 285592 | D40: =B40+C40 -> 19108917 | E40: =Inputs!C61 -> 12261.5 | F40: 28 | G40: =G28 -> 0 | H40: 580.9 | I40: 0 | J40: 0 | K40: =$T$18+$T$19*E40+$T$20*F40+$T$21*G40+$T$22*H40+$T$23*I40 -> 19403781 | L40: =K40-B40 -> 580456.48 | M40: =L40/B40 -> 0.030837086 | N40: =ABS(M40) -> 0.030837086 | O40: =L40*L40 -> 3.3692972e+11 | P40: =L40-L39 -> -360794.79 | Q40: =P40*P40 -> 1.3017288e+11
A41: 43555 | B41: =Inputs!D62 -> 20551304 | C41: =Inputs!E62 -> 502731 | D41: =B41+C41 -> 21054035 | E41: =Inputs!C62 -> 12261.5 | F41: 31 | G41: =G29 -> 1 | H41: 549.4 | I41: 0 | J41: 0 | K41: =$T$18+$T$19*E41+$T$20*F41+$T$21*G41+$T$22*H41+$T$23*I41 -> 19966804 | L41: =K41-B41 -> -584499.77 | M41: =L41/B41 -> -0.028441006 | N41: =ABS(M41) -> 0.028441006 | O41: =L41*L41 -> 3.4163998e+11 | P41: =L41-L40 -> -1164956.3 | Q41: =P41*P41 -> 1.3571231e+12
A42: 43585 | B42: =Inputs!D63 -> 17411654 | C42: =Inputs!E63 -> 554704 | D42: =B42+C42 -> 17966358 | E42: =Inputs!C63 -> 12261.5 | F42: 30 | G42: =G30 -> 1 | H42: 278.4 | I42: 0 | J42: 0 | K42: =$T$18+$T$19*E42+$T$20*F42+$T$21*G42+$T$22*H42+$T$23*I42 -> 17485830 | L42: =K42-B42 -> 74175.191 | M42: =L42/B42 -> 0.0042600886 | N42: =ABS(M42) -> 0.0042600886 | O42: =L42*L42 -> 5.501959e+09 | P42: =L42-L41 -> 658674.96 | Q42: =P42*P42 -> 4.3385271e+11
A43: 43616 | B43: =Inputs!D64 -> 17354971 | C43: =Inputs!E64 -> 579434 | D43: =B43+C43 -> 17934405 | E43: =Inputs!C64 -> 12261.5 | F43: 31 | G43: =G31 -> 1 | H43: 139.5 | I43: 10.4 | J43: 0 | K43: =$T$18+$T$19*E43+$T$20*F43+$T$21*G43+$T$22*H43+$T$23*I43 -> 17938958 | L43: =K43-B43 -> 583986.62 | M43: =L43/B43 -> 0.033649529 | N43: =ABS(M43) -> 0.033649529 | O43: =L43*L43 -> 3.4104037e+11 | P43: =L43-L42 -> 509811.43 | Q43: =P43*P43 -> 2.5990769e+11
A44: 43646 | B44: =Inputs!D65 -> 19464198 | C44: =Inputs!E65 -> 714216 | D44: =B44+C44 -> 20178414 | E44: =Inputs!C65 -> 12261.5 | F44: 30 | G44: =G32 -> 0 | H44: 23.9 | I44: 59.9 | J44: 0 | K44: =$T$18+$T$19*E44+$T$20*F44+$T$21*G44+$T$22*H44+$T$23*I44 -> 20644684 | L44: =K44-B44 -> 1180485.9 | M44: =L44/B44 -> 0.060649089 | N44: =ABS(M44) -> 0.060649089 | O44: =L44*L44 -> 1.3935469e+12 | P44: =L44-L43 -> 596499.28 | Q44: =P44*P44 -> 3.5581139e+11
A45: 43677 | B45: =Inputs!D66 -> 27748688 | C45: =Inputs!E66 -> 807602 | D45: =B45+C45 -> 28556290 | E45: =Inputs!C66 -> 12261.5 | F45: 31 | G45: =G33 -> 0 | H45: 0 | I45: 180.8 | J45: 0 | K45: =$T$18+$T$19*E45+$T$20*F45+$T$21*G45+$T$22*H45+$T$23*I45 -> 27745338 | L45: =K45-B45 -> -3349.6346 | M45: =L45/B45 -> -0.00012071326 | N45: =ABS(M45) -> 0.00012071326 | O45: =L45*L45 -> 11220052 | P45: =L45-L44 -> -1183835.5 | Q45: =P45*P45 -> 1.4014666e+12
A46: 43708 | B46: =Inputs!D67 -> 24726191 | C46: =Inputs!E67 -> 740518 | D46: =B46+C46 -> 25466709 | E46: =Inputs!C67 -> 12261.5 | F46: 31 | G46: =G34 -> 0 | H46: 0.4 | I46: 121.7 | J46: 0 | K46: =$T$18+$T$19*E46+$T$20*F46+$T$21*G46+$T$22*H46+$T$23*I46 -> 24580410 | L46: =K46-B46 -> -145781.24 | M46: =L46/B46 -> -0.0058958229 | N46: =ABS(M46) -> 0.0058958229 | O46: =L46*L46 -> 2.1252171e+10 | P46: =L46-L45 -> -142431.61 | Q46: =P46*P46 -> 2.0286763e+10
A47: 43738 | B47: =Inputs!D68 -> 20533053 | C47: =Inputs!E68 -> 524876 | D47: =B47+C47 -> 21057929 | E47: =Inputs!C68 -> 12261.5 | F47: 30 | G47: =G35 -> 0 | H47: 14.7 | I47: 50.9 | J47: 0 | K47: =$T$18+$T$19*E47+$T$20*F47+$T$21*G47+$T$22*H47+$T$23*I47 -> 20104307 | L47: =K47-B47 -> -428745.82 | M47: =L47/B47 -> -0.020880764 | N47: =ABS(M47) -> 0.020880764 | O47: =L47*L47 -> 1.8382298e+11 | P47: =L47-L46 -> -282964.58 | Q47: =P47*P47 -> 8.0068952e+10
A48: 43769 | B48: =Inputs!D69 -> 17673930 | C48: =Inputs!E69 -> 431057 | D48: =B48+C48 -> 18104987 | E48: =Inputs!C69 -> 12261.5 | F48: 31 | G48: =G36 -> 1 | H48: 204.1 | I48: 7.7 | J48: 0 | K48: =$T$18+$T$19*E48+$T$20*F48+$T$21*G48+$T$22*H48+$T$23*I48 -> 18201683 | L48: =K48-B48 -> 527752.68 | M48: =L48/B48 -> 0.029860516 | N48: =ABS(M48) -> 0.029860516 | O48: =L48*L48 -> 2.7852289e+11 | P48: =L48-L47 -> 956498.5 | Q48: =P48*P48 -> 9.1488938e+11
A49: 43799 | B49: =Inputs!D70 -> 19817492 | C49: =Inputs!E70 -> 211157 | D49: =B49+C49 -> 20028649 | E49: =Inputs!C70 -> 12261.5 | F49: 30 | G49: =G37 -> 1 | H49: 495.2 | I49: 0 | J49: 0 | K49: =$T$18+$T$19*E49+$T$20*F49+$T$21*G49+$T$22*H49+$T$23*I49 -> 18853183 | L49: =K49-B49 -> -964308.6 | M49: =L49/B49 -> -0.048659467 | N49: =ABS(M49) -> 0.048659467 | O49: =L49*L49 -> 9.2989107e+11 | P49: =L49-L48 -> -1492061.3 | Q49: =P49*P49 -> 2.2262469e+12
... A120: 45961 | B120: =Inputs!D141 -> 18368645 | C120: =Inputs!E141 -> 0 | D120: =B120+C120 -> 18368645 | E120: =Inputs!C141 -> 12628.5 | F120: 31 | G120: =G108 -> 1 | H120: 167.8 | I120: 16.1 | J120: 0 | K120: =$T$18+$T$19*E120+$T$20*F120+$T$21*G120+$T$22*H120+$T$23*I120 -> 18833975 | L120: =K120-B120 -> 465330.15 | M120: =L120/B120 -> 0.025332851 | N120: =ABS(M120) -> 0.025332851 | O120: =L120*L120 -> 2.1653215e+11 | P120: =L120-L119 -> 1012055.9 | Q120: =P120*P120 -> 1.0242571e+12
A121: 45991 | B121: =Inputs!D142 -> 19256682 | C121: =Inputs!E142 -> 0 | D121: =B121+C121 -> 19256682 | E121: =Inputs!C142 -> 12628.5 | F121: 30 | G121: =G109 -> 1 | H121: 413.6 | I121: =AVERAGE(I13,I25,I37,I49,I61,I73,I85,I97,I109) -> 0.36666667 | J121: 0 | K121: =$T$18+$T$19*E121+$T$20*F121+$T$21*G121+$T$22*H121+$T$23*I121 -> 18769225 | L121: =K121-B121 -> -487457.64 | M121: =L121/B121 -> -0.025313688 | N121: =ABS(M121) -> 0.025313688 | O121: =L121*L121 -> 2.3761495e+11 | P121: =L121-L120 -> -952787.79 | Q121: =P121*P121 -> 9.0780457e+11
A122: 46022 | B122: =Inputs!D143 -> 22775841 | C122: =Inputs!E143 -> 0 | D122: =B122+C122 -> 22775841 | E122: =Inputs!C143 -> 12628.5 | F122: 31 | G122: =G110 -> 0 | H122: 645 | I122: =AVERAGE(I14,I26,I38,I50,I62,I74,I86,I98,I110) -> 0 | J122: 0 | K122: =$T$18+$T$19*E122+$T$20*F122+$T$21*G122+$T$22*H122+$T$23*I122 -> 22534445 | L122: =K122-B122 -> -241395.52 | M122: =L122/B122 -> -0.010598754 | N122: =ABS(M122) -> 0.010598754 | O122: =L122*L122 -> 5.8271799e+10 | P122: =L122-L121 -> 246062.11 | Q122: =P122*P122 -> 6.0546563e+10
A123: 46053 | E123: {='Rate Class Customer Model'!Q4:Q15} -> 12640.382 | F123: 31 | G123: =G111 -> 0 | H123: =AVERAGE(H3,H15,H27,H39,H51,H63,H75,H87,H99,H111) -> 637.04 | I123: =AVERAGE(I3,I15,I27,I39,I51,I63,I75,I87,I99,I111) -> 0 | J123: 0 | K123: =$T$18+$T$19*E123+$T$20*F123+$T$21*G123+$T$22*H123+$T$23*I123 -> 22497550 | M123: MAPE | N123: =AVERAGE(N3:N122) -> 0.041456477 | O123: =SUM(O3:O122) -> 1.2229461e+14 | Q123: =SUM(Q4:Q122) -> 1.0926497e+14
A124: 46081 | E124: 12652.275 | F124: 28 | G124: =G112 -> 0 | H124: =AVERAGE(H4,H16,H28,H40,H52,H64,H76,H88,H100,H112) -> 540.82 | I124: =AVERAGE(I4,I16,I28,I40,I52,I64,I76,I88,I100,I112) -> 0 | J124: 0 | K124: =$T$18+$T$19*E124+$T$20*F124+$T$21*G124+$T$22*H124+$T$23*I124 -> 19588665
A125: 46112 | E125: 12664.18 | F125: 31 | G125: =G113 -> 1 | H125: =AVERAGE(H5,H17,H29,H41,H53,H65,H77,H89,H101,H113) -> 454.27 | I125: =AVERAGE(I5,I17,I29,I41,I53,I65,I77,I89,I101,I113) -> 0 | J125: 0 | K125: =$T$18+$T$19*E125+$T$20*F125+$T$21*G125+$T$22*H125+$T$23*I125 -> 19817822
A126: 46142 | E126: 12676.095 | F126: 30 | G126: =G114 -> 1 | H126: =AVERAGE(H6,H18,H30,H42,H54,H66,H78,H90,H102,H114) -> 287.61 | I126: =AVERAGE(I6,I18,I30,I42,I54,I66,I78,I90,I102,I114) -> 1.08 | J126: 0 | K126: =$T$18+$T$19*E126+$T$20*F126+$T$21*G126+$T$22*H126+$T$23*I126 -> 18066145
A127: 46173 | E127: 12688.022 | F127: 31 | G127: =G115 -> 1 | H127: =AVERAGE(H7,H19,H31,H43,H55,H67,H79,H91,H103,H115) -> 116.81 | I127: =AVERAGE(I7,I19,I31,I43,I55,I67,I79,I91,I103,I115) -> 27.34 | J127: 0 | K127: =$T$18+$T$19*E127+$T$20*F127+$T$21*G127+$T$22*H127+$T$23*I127 -> 19181452
A128: 46203 | E128: 12699.96 | F128: 30 | G128: =G116 -> 0 | H128: =AVERAGE(H8,H20,H32,H44,H56,H68,H80,H92,H104,H116) -> 10.02 | I128: =AVERAGE(I8,I20,I32,I44,I56,I68,I80,I92,I104,I116) -> 99.09 | J128: 0 | K128: =$T$18+$T$19*E128+$T$20*F128+$T$21*G128+$T$22*H128+$T$23*I128 -> 23148597
A129: 46234 | E129: 12711.909 | F129: 31 | G129: =G117 -> 0 | H129: =AVERAGE(H9,H21,H33,H45,H57,H69,H81,H93,H105,H117) -> 0.07 | I129: =AVERAGE(I9,I21,I33,I45,I57,I69,I81,I93,I105,I117) -> 158.74 | J129: 0 | K129: =$T$18+$T$19*E129+$T$20*F129+$T$21*G129+$T$22*H129+$T$23*I129 -> 27067936
A130: 46265 | E130: 12723.87 | F130: 31 | G130: =G118 -> 0 | H130: =AVERAGE(H10,H22,H34,H46,H58,H70,H82,H94,H106,H118) -> 3.19 | I130: =AVERAGE(I10,I22,I34,I46,I58,I70,I82,I94,I106,I118) -> 115.76 | J130: 0 | K130: =$T$18+$T$19*E130+$T$20*F130+$T$21*G130+$T$22*H130+$T$23*I130 -> 24797506
A131: 46295 | E131: 12735.841 | F131: 30 | G131: =G119 -> 0 | H131: =AVERAGE(H11,H23,H35,H47,H59,H71,H83,H95,H107,H119) -> 32.59 | I131: =AVERAGE(I11,I23,I35,I47,I59,I71,I83,I95,I107,I119) -> 44.9 | J131: 0 | K131: =$T$18+$T$19*E131+$T$20*F131+$T$21*G131+$T$22*H131+$T$23*I131 -> 20426832
A132: 46326 | E132: 12747.824 | F132: 31 | G132: =G120 -> 1 | H132: =AVERAGE(H12,H24,H36,H48,H60,H72,H84,H96,H108,H120) -> 183.85 | I132: =AVERAGE(I12,I24,I36,I48,I60,I72,I84,I96,I108,I120) -> 11.61 | J132: 0 | K132: =$T$18+$T$19*E132+$T$20*F132+$T$21*G132+$T$22*H132+$T$23*I132 -> 18828205
A133: 46356 | E133: 12759.818 | F133: 30 | G133: =G121 -> 1 | H133: =AVERAGE(H13,H25,H37,H49,H61,H73,H85,H97,H109,H121) -> 388.63 | I133: =AVERAGE(I13,I25,I37,I49,I61,I73,I85,I97,I109,I121) -> 0.36666667 | J133: 0 | K133: =$T$18+$T$19*E133+$T$20*F133+$T$21*G133+$T$22*H133+$T$23*I133 -> 18758816
A134: 46387 | E134: 12771.824 | F134: 31 | G134: =G122 -> 0 | H134: =AVERAGE(H14,H26,H38,H50,H62,H74,H86,H98,H110,H122) -> 553.68 | I134: =AVERAGE(I14,I26,I38,I50,I62,I74,I86,I98,I110,I122) -> 0 | J134: 0 | K134: =$T$18+$T$19*E134+$T$20*F134+$T$21*G134+$T$22*H134+$T$23*I134 -> 22119015
A135: 46418 | E135: {='Rate Class Customer Model'!R4:R15} -> 12773.696 | F135: 31 | G135: =G123 -> 0 | H135: =AVERAGE(H3,H15,H27,H39,H51,H63,H75,H87,H99,H111) -> 637.04 | I135: =AVERAGE(I3,I15,I27,I39,I51,I63,I75,I87,I99,I111) -> 0 | J135: 0 | K135: =$T$18+$T$19*E135+$T$20*F135+$T$21*G135+$T$22*H135+$T$23*I135 -> 22646861
A136: 46446 | E136: 12775.569 | F136: 28 | G136: =G124 -> 0 | H136: =AVERAGE(H4,H16,H28,H40,H52,H64,H76,H88,H100,H112) -> 540.82 | I136: =AVERAGE(I4,I16,I28,I40,I52,I64,I76,I88,I100,I112) -> 0 | J136: 0 | K136: =$T$18+$T$19*E136+$T$20*F136+$T$21*G136+$T$22*H136+$T$23*I136 -> 19726754
A137: 46477 | E137: 12777.442 | F137: 31 | G137: =G125 -> 1 | H137: =AVERAGE(H5,H17,H29,H41,H53,H65,H77,H89,H101,H113) -> 454.27 | I137: =AVERAGE(I5,I17,I29,I41,I53,I65,I77,I89,I101,I113) -> 0 | J137: 0 | K137: =$T$18+$T$19*E137+$T$20*F137+$T$21*G137+$T$22*H137+$T$23*I137 -> 19944675
A138: 46507 | E138: 12779.315 | F138: 30 | G138: =G126 -> 1 | H138: =AVERAGE(H6,H18,H30,H42,H54,H66,H78,H90,H102,H114) -> 287.61 | I138: =AVERAGE(I6,I18,I30,I42,I54,I66,I78,I90,I102,I114) -> 1.08 | J138: 0 | K138: =$T$18+$T$19*E138+$T$20*F138+$T$21*G138+$T$22*H138+$T$23*I138 -> 18181751
A139: 46538 | E139: 12781.188 | F139: 31 | G139: =G127 -> 1 | H139: =AVERAGE(H7,H19,H31,H43,H55,H67,H79,H91,H103,H115) -> 116.81 | I139: =AVERAGE(I7,I19,I31,I43,I55,I67,I79,I91,I103,I115) -> 27.34 | J139: 0 | K139: =$T$18+$T$19*E139+$T$20*F139+$T$21*G139+$T$22*H139+$T$23*I139 -> 19285798
A140: 46568 | E140: 12783.061 | F140: 30 | G140: =G128 -> 0 | H140: =AVERAGE(H8,H20,H32,H44,H56,H68,H80,H92,H104,H116) -> 10.02 | I140: =AVERAGE(I8,I20,I32,I44,I56,I68,I80,I92,I104,I116) -> 99.09 | J140: 0 | K140: =$T$18+$T$19*E140+$T$20*F140+$T$21*G140+$T$22*H140+$T$23*I140 -> 23241671
A141: 46599 | E141: 12784.935 | F141: 31 | G141: =G129 -> 0 | H141: =AVERAGE(H9,H21,H33,H45,H57,H69,H81,H93,H105,H117) -> 0.07 | I141: =AVERAGE(I9,I21,I33,I45,I57,I69,I81,I93,I105,I117) -> 158.74 | J141: 0 | K141: =$T$18+$T$19*E141+$T$20*F141+$T$21*G141+$T$22*H141+$T$23*I141 -> 27149726
A142: 46630 | E142: 12786.809 | F142: 31 | G142: =G130 -> 0 | H142: =AVERAGE(H10,H22,H34,H46,H58,H70,H82,H94,H106,H118) -> 3.19 | I142: =AVERAGE(I10,I22,I34,I46,I58,I70,I82,I94,I106,I118) -> 115.76 | J142: 0 | K142: =$T$18+$T$19*E142+$T$20*F142+$T$21*G142+$T$22*H142+$T$23*I142 -> 24867999
A143: 46660 | E143: 12788.684 | F143: 30 | G143: =G131 -> 0 | H143: =AVERAGE(H11,H23,H35,H47,H59,H71,H83,H95,H107,H119) -> 32.59 | I143: =AVERAGE(I11,I23,I35,I47,I59,I71,I83,I95,I107,I119) -> 44.9 | J143: 0 | K143: =$T$18+$T$19*E143+$T$20*F143+$T$21*G143+$T$22*H143+$T$23*I143 -> 20486015
A144: 46691 | E144: 12790.559 | F144: 31 | G144: =G132 -> 1 | H144: =AVERAGE(H12,H24,H36,H48,H60,H72,H84,H96,H108,H120) -> 183.85 | I144: =AVERAGE(I12,I24,I36,I48,I60,I72,I84,I96,I108,I120) -> 11.61 | J144: 0 | K144: =$T$18+$T$19*E144+$T$20*F144+$T$21*G144+$T$22*H144+$T$23*I144 -> 18876067
A145: 46721 | E145: 12792.434 | F145: 30 | G145: =G133 -> 1 | H145: =AVERAGE(H13,H25,H37,H49,H61,H73,H85,H97,H109,H121) -> 388.63 | I145: =AVERAGE(I13,I25,I37,I49,I61,I73,I85,I97,I109,I121) -> 0.36666667 | J145: 0 | K145: =$T$18+$T$19*E145+$T$20*F145+$T$21*G145+$T$22*H145+$T$23*I145 -> 18795345
A146: 46752 | E146: 12794.309 | F146: 31 | G146: =G134 -> 0 | H146: =AVERAGE(H14,H26,H38,H50,H62,H74,H86,H98,H110,H122) -> 553.68 | I146: =AVERAGE(I14,I26,I38,I50,I62,I74,I86,I98,I110,I122) -> 0 | J146: 0 | K146: =$T$18+$T$19*E146+$T$20*F146+$T$21*G146+$T$22*H146+$T$23*I146 -> 22144197
F149: 10-year average
K150: =SUM(K3:K146) -> 2.9949064e+09
A152: 2016 | B152: =SUM(B3:B14) -> 2.4595916e+08 | D152: =SUM(D3:D14) -> 2.5127777e+08 | K152: =SUM(K3:K14) -> 2.4620614e+08
A153: 2017 | B153: =SUM(B15:B26) -> 2.2865348e+08 | D153: =SUM(D15:D26) -> 2.3450093e+08 | F153: =(D153-D152)/D152 -> -0.066766112 | G153: =(F153-F152)/F152 -> #DIV/0! | K153: =SUM(K15:K26) -> 2.3741519e+08
A154: 2018 | B154: =SUM(B27:B38) -> 2.393914e+08 | D154: =SUM(D27:D38) -> 2.4516386e+08 | F154: =(D154-D153)/D153 -> 0.045470739 | G154: =(F154-F153)/F153 -> -1.6810452 | K154: =SUM(K27:K38) -> 2.4889875e+08
A155: 2019 | B155: =SUM(B39:B50) -> 2.4704742e+08 | D155: =SUM(D39:D50) -> 2.5286852e+08 | F155: =(D155-D154)/D154 -> 0.031426536 | G155: =(F155-F154)/F154 -> -0.30886242 | K155: =SUM(K39:K50) -> 2.4885455e+08
A156: 2020 | B156: =SUM(B51:B62) -> 2.4773921e+08 | D156: =SUM(D51:D62) -> 2.5399647e+08 | F156: =(D156-D155)/D155 -> 0.0044606246 | G156: =(F156-F155)/F155 -> -0.85806184 | K156: =SUM(K51:K62) -> 2.5208957e+08
A157: 2021 | B157: =SUM(B63:B74) -> 2.4365934e+08 | D157: =SUM(D63:D74) -> 2.498775e+08 | F157: =(D157-D156)/D156 -> -0.016216642 | G157: =(F157-F156)/F156 -> -4.6355092 | K157: =SUM(K63:K74) -> 2.5313693e+08
A158: 2022 | B158: =SUM(B75:B86) -> 2.3941057e+08 | D158: =SUM(D75:D86) -> 2.4537848e+08 | F158: =(D158-D157)/D157 -> -0.018004913 | G158: =(F158-F157)/F157 -> 0.11027382 | K158: =SUM(K75:K86) -> 2.5293334e+08
A159: 2023 | B159: =SUM(B87:B98) -> 2.3440581e+08 | D159: =SUM(D87:D98) -> 2.4073625e+08 | F159: =(D159-D158)/D158 -> -0.018918637 | G159: =(F159-F158)/F158 -> 0.050748581 | K159: =SUM(K87:K98) -> 2.4241496e+08
A160: 2024 | B160: =SUM(B99:B110) -> 2.5542823e+08 | D160: =SUM(D99:D110) -> 2.5542823e+08 | F160: =(D160-D159)/D159 -> 0.061029382 | G160: =(F160-F159)/F159 -> -4.2258869 | K160: =SUM(K99:K110) -> 2.4903441e+08
A161: 2025 | B161: =SUM(B111:B122) -> 2.5603297e+08 | D161: =SUM(D111:D122) -> 2.5603297e+08 | F161: =(D161-D160)/D160 -> 0.0023675542 | G161: =(F161-F160)/F160 -> -0.96120632 | J161: =SUM(J111:J122) -> 0 | K161: =SUM(K111:K122) -> 2.5427714e+08
A162: 2026 | J162: =SUM(J123:J134) -> 0 | K162: =SUM(K123:K134) -> 2.5429854e+08
A163: 2027 | J163: =SUM(J135:J146) -> 0 | K163: =SUM(K135:K146) -> 2.5534686e+08
A165: Total | B165: =SUM(B152:B161) -> 2.4377276e+09 | D165: =SUM(D152:D161) -> 2.485261e+09 | K165: =SUM(K152:K161) -> 2.485261e+09 | L165: =K165-D165 -> 0 | M165: Check - must be zero
K167: =SUM(K152:K163) -> 2.9949064e+09 | L167: =K150-K167 -> 0

Sheet Power Purchased Model (WN)
A2: Date | B2: Power Purchased | C2: Additions | D2: Total Power Purchased | E2: Customers | F2: Days in Month | G2: Spring/Fall Flag | H2: HDD | I2: CDD | J2: Predicted Purchases | K2: Residual (kWh) | L2: % Residual | M2: % Residual (Abs) | N2: Residual Squared | O2: Difference of Residuals | P2: Difference of Residuals Squared | R2: SUMMARY OUTPUT
A3: 42400 | B3: =Inputs!D24 -> 22228059 | C3: =Inputs!E24 -> 234806 | D3: =B3+C3 -> 22462865 | E3: =Inputs!C24 -> 11667.5 | F3: 31 | G3: 0 | H3: 637.04 | I3: 0 | J3: =$S$18+$S$19*E3+$S$20*F3+$S$21*G3+$S$22*H3+$S$23*I3 -> 21407923 | K3: =J3-B3 -> -820135.25 | L3: =K3/B3 -> -0.036896396 | M3: =ABS(L3) -> 0.036896396 | N3: =K3*K3 -> 6.7262182e+11
A4: 42429 | B4: =Inputs!D25 -> 19954897 | C4: =Inputs!E25 -> 297475 | D4: =B4+C4 -> 20252372 | E4: =Inputs!C25 -> 11667.5 | F4: 29 | G4: 0 | H4: 540.82 | I4: 0 | J4: =$S$18+$S$19*E4+$S$20*F4+$S$21*G4+$S$22*H4+$S$23*I4 -> 19257501 | K4: =J4-B4 -> -697396.2 | L4: =K4/B4 -> -0.034948624 | M4: =ABS(L4) -> 0.034948624 | N4: =K4*K4 -> 4.8636146e+11 | O4: =K4-K3 -> 122739.05 | P4: =O4*O4 -> 1.5064874e+10 | R4: Regression Statistics
A5: 42460 | B5: =Inputs!D26 -> 19222038 | C5: =Inputs!E26 -> 355013 | D5: =B5+C5 -> 19577051 | E5: =Inputs!C26 -> 11667.5 | F5: 31 | G5: 1 | H5: 454.27 | I5: 0 | J5: =$S$18+$S$19*E5+$S$20*F5+$S$21*G5+$S$22*H5+$S$23*I5 -> 18701542 | K5: =J5-B5 -> -520495.6 | L5: =K5/B5 -> -0.027078066 | M5: =ABS(L5) -> 0.027078066 | N5: =K5*K5 -> 2.7091567e+11 | O5: =K5-K4 -> 176900.6 | P5: =O5*O5 -> 3.1293822e+10 | R5: Multiple R | S5: 0.95699588
A6: 42490 | B6: =Inputs!D27 -> 17539923 | C6: =Inputs!E27 -> 494348 | D6: =B6+C6 -> 18034271 | E6: =Inputs!C27 -> 11667.5 | F6: 30 | G6: 1 | H6: 287.61 | I6: 1.08 | J6: =$S$18+$S$19*E6+$S$20*F6+$S$21*G6+$S$22*H6+$S$23*I6 -> 16936520 | K6: =J6-B6 -> -603402.58 | L6: =K6/B6 -> -0.034401667 | M6: =ABS(L6) -> 0.034401667 | N6: =K6*K6 -> 3.6409468e+11 | O6: =K6-K5 -> -82906.983 | P6: =O6*O6 -> 6.8735679e+09 | R6: R Square | S6: 0.91584112
A7: 42521 | B7: =Inputs!D28 -> 17888192 | C7: =Inputs!E28 -> 630932 | D7: =B7+C7 -> 18519124 | E7: =Inputs!C28 -> 11667.5 | F7: 31 | G7: 1 | H7: 116.81 | I7: 27.34 | J7: =$S$18+$S$19*E7+$S$20*F7+$S$21*G7+$S$22*H7+$S$23*I7 -> 18038469 | K7: =J7-B7 -> 150276.94 | L7: =K7/B7 -> 0.0084009017 | M7: =ABS(L7) -> 0.0084009017 | N7: =K7*K7 -> 2.2583159e+10 | O7: =K7-K6 -> 753679.52 | P7: =O7*O7 -> 5.6803282e+11 | R7: Adjusted R Square | S7: 0.91214994
A8: 42551 | B8: =Inputs!D29 -> 21176371 | C8: =Inputs!E29 -> 685810 | D8: =B8+C8 -> 21862181 | E8: =Inputs!C29 -> 11667.5 | F8: 30 | G8: 0 | H8: 10.02 | I8: 99.09 | J8: =$S$18+$S$19*E8+$S$20*F8+$S$21*G8+$S$22*H8+$S$23*I8 -> 21992244 | K8: =J8-B8 -> 815872.65 | L8: =K8/B8 -> 0.038527501 | M8: =ABS(L8) -> 0.038527501 | N8: =K8*K8 -> 6.6564818e+11 | O8: =K8-K7 -> 665595.71 | P8: =O8*O8 -> 4.4301765e+11 | R8: Standard Error | S8: 858649.39
A9: 42582 | B9: =Inputs!D30 -> 25410950 | C9: =Inputs!E30 -> 653742 | D9: =B9+C9 -> 26064692 | E9: =Inputs!C30 -> 11667.5 | F9: 31 | G9: 0 | H9: 0.07 | I9: 158.74 | J9: =$S$18+$S$19*E9+$S$20*F9+$S$21*G9+$S$22*H9+$S$23*I9 -> 25898200 | K9: =J9-B9 -> 487249.95 | L9: =K9/B9 -> 0.019174803 | M9: =ABS(L9) -> 0.019174803 | N9: =K9*K9 -> 2.3741252e+11 | O9: =K9-K8 -> -328622.7 | P9: =O9*O9 -> 1.0799288e+11 | R9: Observations | S9: 120
A10: 42613 | B10: =Inputs!D31 -> 26478809 | C10: =Inputs!E31 -> 604454 | D10: =B10+C10 -> 27083263 | E10: =Inputs!C31 -> 11667.5 | F10: 31 | G10: 0 | H10: 3.19 | I10: 115.76 | J10: =$S$18+$S$19*E10+$S$20*F10+$S$21*G10+$S$22*H10+$S$23*I10 -> 23614374 | K10: =J10-B10 -> -2864435.2 | L10: =K10/B10 -> -0.1081784 | M10: =ABS(L10) -> 0.1081784 | N10: =K10*K10 -> 8.2049893e+12 | O10: =K10-K9 -> -3351685.2 | P10: =O10*O10 -> 1.1233794e+13
A11: 42643 | B11: =Inputs!D32 -> 19964495 | C11: =Inputs!E32 -> 499609 | D11: =B11+C11 -> 20464104 | E11: =Inputs!C32 -> 11667.5 | F11: 30 | G11: 0 | H11: 32.59 | I11: 44.9 | J11: =$S$18+$S$19*E11+$S$20*F11+$S$21*G11+$S$22*H11+$S$23*I11 -> 19230291 | K11: =J11-B11 -> -734204.05 | L11: =K11/B11 -> -0.036775488 | M11: =ABS(L11) -> 0.036775488 | N11: =K11*K11 -> 5.3905558e+11 | O11: =K11-K10 -> 2130231.2 | P11: =O11*O11 -> 4.537885e+12 | R11: ANOVA
A12: 42674 | B12: =Inputs!D33 -> 16743812 | C12: =Inputs!E33 -> 419947 | D12: =B12+C12 -> 17163759 | E12: =Inputs!C33 -> 11667.5 | F12: 31 | G12: 1 | H12: 183.85 | I12: 11.61 | J12: =$S$18+$S$19*E12+$S$20*F12+$S$21*G12+$S$22*H12+$S$23*I12 -> 17618243 | K12: =J12-B12 -> 874431.66 | L12: =K12/B12 -> 0.05222417 | M12: =ABS(L12) -> 0.05222417 | N12: =K12*K12 -> 7.6463073e+11 | O12: =K12-K11 -> 1608635.7 | P12: =O12*O12 -> 2.5877088e+12 | S12: df | T12: SS | U12: MS | V12: F | W12: Significance F
A13: 42704 | B13: =Inputs!D34 -> 17780991 | C13: =Inputs!E34 -> 308938 | D13: =B13+C13 -> 18089929 | E13: =Inputs!C34 -> 11667.5 | F13: 30 | G13: 1 | H13: 388.63 | I13: 0.36666667 | J13: =$S$18+$S$19*E13+$S$20*F13+$S$21*G13+$S$22*H13+$S$23*I13 -> 17535421 | K13: =J13-B13 -> -245569.94 | L13: =K13/B13 -> -0.013810813 | M13: =ABS(L13) -> 0.013810813 | N13: =K13*K13 -> 6.0304596e+10 | O13: =K13-K12 -> -1120001.6 | P13: =O13*O13 -> 1.2544036e+12 | R13: Regression | S13: 5 | T13: 9.1465386e+14 | U13: 1.8293077e+14 | V13: 248.11615 | W13: 1.5803627e-59
A14: 42735 | B14: =Inputs!D35 -> 21570625 | C14: =Inputs!E35 -> 133539 | D14: =B14+C14 -> 21704164 | E14: =Inputs!C35 -> 11667.5 | F14: 31 | G14: 0 | H14: 553.68 | I14: 0 | J14: =$S$18+$S$19*E14+$S$20*F14+$S$21*G14+$S$22*H14+$S$23*I14 -> 20882173 | K14: =J14-B14 -> -688451.7 | L14: =K14/B14 -> -0.031916168 | M14: =ABS(L14) -> 0.031916168 | N14: =K14*K14 -> 4.7396574e+11 | O14: =K14-K13 -> -442881.76 | P14: =O14*O14 -> 1.9614425e+11 | R14: Residual | S14: 114 | T14: 8.404978e+13 | U14: 7.3727878e+11
A15: 42766 | B15: =Inputs!D36 -> 21358693 | C15: =Inputs!E36 -> 142223 | D15: =B15+C15 -> 21500916 | E15: =Inputs!C36 -> 11718.5 | F15: 31 | G15: =G3 -> 0 | H15: =H3 -> 637.04 | I15: =I3 -> 0 | J15: =$S$18+$S$19*E15+$S$20*F15+$S$21*G15+$S$22*H15+$S$23*I15 -> 21465043 | K15: =J15-B15 -> 106350.42 | L15: =K15/B15 -> 0.004979257 | M15: =ABS(L15) -> 0.004979257 | N15: =K15*K15 -> 1.1310412e+10 | O15: =K15-K14 -> 794802.12 | P15: =O15*O15 -> 6.3171041e+11 | R15: Total | S15: 119 | T15: 9.9870364e+14
A16: 42794 | B16: =Inputs!D37 -> 17924355 | C16: =Inputs!E37 -> 311443 | D16: =B16+C16 -> 18235798 | E16: =Inputs!C37 -> 11718.5 | F16: 28 | G16: =G4 -> 0 | H16: =H4 -> 540.82 | I16: =I4 -> 0 | J16: =$S$18+$S$19*E16+$S$20*F16+$S$21*G16+$S$22*H16+$S$23*I16 -> 18542838 | K16: =J16-B16 -> 618482.95 | L16: =K16/B16 -> 0.034505171 | M16: =ABS(L16) -> 0.034505171 | N16: =K16*K16 -> 3.8252116e+11 | O16: =K16-K15 -> 512132.53 | P16: =O16*O16 -> 2.6227973e+11
A17: 42825 | B17: =Inputs!D38 -> 19428993 | C17: =Inputs!E38 -> 418801 | D17: =B17+C17 -> 19847794 | E17: =Inputs!C38 -> 11718.5 | F17: 31 | G17: =G5 -> 1 | H17: =H5 -> 454.27 | I17: =I5 -> 0 | J17: =$S$18+$S$19*E17+$S$20*F17+$S$21*G17+$S$22*H17+$S$23*I17 -> 18758662 | K17: =J17-B17 -> -670330.56 | L17: =K17/B17 -> -0.03450156 | M17: =ABS(L17) -> 0.03450156 | N17: =K17*K17 -> 4.4934306e+11 | O17: =K17-K16 -> -1288813.5 | P17: =O17*O17 -> 1.6610403e+12 | S17: Coefficients | T17: Standard Error | U17: t Stat | V17: P-value | W17: Lower 95% | X17: Upper 95% | Y17: Lower 95.0% | Z17: Upper 95.0%
A18: 42855 | B18: =Inputs!D39 -> 15946372 | C18: =Inputs!E39 -> 473713 | D18: =B18+C18 -> 16420085 | E18: =Inputs!C39 -> 11718.5 | F18: 30 | G18: =G6 -> 1 | H18: =H6 -> 287.61 | I18: =I6 -> 1.08 | J18: =$S$18+$S$19*E18+$S$20*F18+$S$21*G18+$S$22*H18+$S$23*I18 -> 16993640 | K18: =J18-B18 -> 1047268.6 | L18: =K18/B18 -> 0.06567441 | M18: =ABS(L18) -> 0.06567441 | N18: =K18*K18 -> 1.0967714e+12 | O18: =K18-K17 -> 1717599.1 | P18: =O18*O18 -> 2.9501467e+12 | R18: Intercept | S18: -19602713 | T18: 4302721.9 | U18: -4.5558866 | V18: 1.3166225e-05 | W18: -28126372 | X18: -11079054 | Y18: -28126372 | Z18: -11079054
A19: 42886 | B19: =Inputs!D40 -> 16906557 | C19: =Inputs!E40 -> 826417 | D19: =B19+C19 -> 17732974 | E19: =Inputs!C40 -> 11718.5 | F19: 31 | G19: =G7 -> 1 | H19: =H7 -> 116.81 | I19: =I7 -> 27.34 | J19: =$S$18+$S$19*E19+$S$20*F19+$S$21*G19+$S$22*H19+$S$23*I19 -> 18095589 | K19: =J19-B19 -> 1189031.8 | L19: =K19/B19 -> 0.070329624 | M19: =ABS(L19) -> 0.070329624 | N19: =K19*K19 -> 1.4137966e+12 | O19: =K19-K18 -> 141763.24 | P19: =O19*O19 -> 2.0096817e+10 | R19: Customers | S19: 1119.9984 | T19: 241.13715 | U19: 4.6446531 | V19: 9.1930752e-06 | W19: 642.30756 | X19: 1597.6892 | Y19: 642.30756 | Z19: 1597.6892
A20: 42916 | B20: =Inputs!D41 -> 20456313 | C20: =Inputs!E41 -> 745371 | D20: =B20+C20 -> 21201684 | E20: =Inputs!C41 -> 11718.5 | F20: 30 | G20: =G8 -> 0 | H20: =H8 -> 10.02 | I20: =I8 -> 99.09 | J20: =$S$18+$S$19*E20+$S$20*F20+$S$21*G20+$S$22*H20+$S$23*I20 -> 22049363 | K20: =J20-B20 -> 1593050.5 | L20: =K20/B20 -> 0.077875738 | M20: =ABS(L20) -> 0.077875738 | N20: =K20*K20 -> 2.5378098e+12 | O20: =K20-K19 -> 404018.67 | P20: =O20*O20 -> 1.6323108e+11 | R20: Days in Month | S20: 771782.43 | T20: 105577.45 | U20: 7.3101064 | V20: 3.9521247e-11 | W20: 562634.3 | X20: 980930.55 | Y20: 562634.3 | Z20: 980930.55
A21: 42947 | B21: =Inputs!D42 -> 24127924 | C21: =Inputs!E42 -> 738146 | D21: =B21+C21 -> 24866070 | E21: =Inputs!C42 -> 11718.5 | F21: 31 | G21: =G9 -> 0 | H21: =H9 -> 0.07 | I21: =I9 -> 158.74 | J21: =$S$18+$S$19*E21+$S$20*F21+$S$21*G21+$S$22*H21+$S$23*I21 -> 25955320 | K21: =J21-B21 -> 1827395.7 | L21: =K21/B21 -> 0.075737793 | M21: =ABS(L21) -> 0.075737793 | N21: =K21*K21 -> 3.3393752e+12 | O21: =K21-K20 -> 234345.26 | P21: =O21*O21 -> 5.4917702e+10 | R21: Spring/Fall Flag | S21: -1553654.2 | T21: 214985.64 | U21: -7.2267815 | V21: 6.0227611e-11 | W21: -1979539.1 | X21: -1127769.3 | Y21: -1979539.1 | Z21: -1127769.3
A22: 42978 | B22: =Inputs!D43 -> 20981874 | C22: =Inputs!E43 -> 688252 | D22: =B22+C22 -> 21670126 | E22: =Inputs!C43 -> 11718.5 | F22: 31 | G22: =G10 -> 0 | H22: =H10 -> 3.19 | I22: =I10 -> 115.76 | J22: =$S$18+$S$19*E22+$S$20*F22+$S$21*G22+$S$22*H22+$S$23*I22 -> 23671494 | K22: =J22-B22 -> 2689619.9 | L22: =K22/B22 -> 0.12818778 | M22: =ABS(L22) -> 0.12818778 | N22: =K22*K22 -> 7.2340553e+12 | O22: =K22-K21 -> 862224.19 | P22: =O22*O22 -> 7.4343056e+11 | R22: HDD | S22: 6306.9824 | T22: 566.01727 | U22: 11.142738 | V22: 5.9237194e-20 | W22: 5185.7065 | X22: 7428.2583 | Y22: 5185.7065 | Z22: 7428.2583
A23: 43008 | B23: =Inputs!D44 -> 17752579 | C23: =Inputs!E44 -> 621289 | D23: =B23+C23 -> 18373868 | E23: =Inputs!C44 -> 11718.5 | F23: 30 | G23: =G11 -> 0 | H23: =H11 -> 32.59 | I23: =I11 -> 44.9 | J23: =$S$18+$S$19*E23+$S$20*F23+$S$21*G23+$S$22*H23+$S$23*I23 -> 19287411 | K23: =J23-B23 -> 1534832.1 | L23: =K23/B23 -> 0.086456854 | M23: =ABS(L23) -> 0.086456854 | N23: =K23*K23 -> 2.3557096e+12 | O23: =K23-K22 -> -1154787.8 | P23: =O23*O23 -> 1.3335349e+12 | R23: CDD | S23: 53594.778 | T23: 2848.7532 | U23: 18.813416 | V23: 9.4288621e-37 | W23: 47951.42 | X23: 59238.136 | Y23: 47951.42 | Z23: 59238.136
A24: 43039 | B24: =Inputs!D45 -> 16267870 | C24: =Inputs!E45 -> 422987 | D24: =B24+C24 -> 16690857 | E24: =Inputs!C45 -> 11718.5 | F24: 31 | G24: =G12 -> 1 | H24: =H12 -> 183.85 | I24: =I12 -> 11.61 | J24: =$S$18+$S$19*E24+$S$20*F24+$S$21*G24+$S$22*H24+$S$23*I24 -> 17675363 | K24: =J24-B24 -> 1407493.5 | L24: =K24/B24 -> 0.086519843 | M24: =ABS(L24) -> 0.086519843 | N24: =K24*K24 -> 1.981038e+12 | O24: =K24-K23 -> -127338.6 | P24: =O24*O24 -> 1.6215118e+10
A25: 43069 | B25: =Inputs!D46 -> 17286540 | C25: =Inputs!E46 -> 285862 | D25: =B25+C25 -> 17572402 | E25: =Inputs!C46 -> 11718.5 | F25: 30 | G25: =G13 -> 1 | H25: =H13 -> 388.63 | I25: =I13 -> 0.36666667 | J25: =$S$18+$S$19*E25+$S$20*F25+$S$21*G25+$S$22*H25+$S$23*I25 -> 17592541 | K25: =J25-B25 -> 306000.61 | L25: =K25/B25 -> 0.017701669 | M25: =ABS(L25) -> 0.017701669 | N25: =K25*K25 -> 9.3636371e+10 | O25: =K25-K24 -> -1101492.9 | P25: =O25*O25 -> 1.2132867e+12
A26: 43100 | B26: =Inputs!D47 -> 20215408 | C26: =Inputs!E47 -> 172953 | D26: =B26+C26 -> 20388361 | E26: =Inputs!C47 -> 11718.5 | F26: 31 | G26: =G14 -> 0 | H26: =H14 -> 553.68 | I26: =I14 -> 0 | J26: =$S$18+$S$19*E26+$S$20*F26+$S$21*G26+$S$22*H26+$S$23*I26 -> 20939293 | K26: =J26-B26 -> 723885.57 | L26: =K26/B26 -> 0.035808606 | M26: =ABS(L26) -> 0.035808606 | N26: =K26*K26 -> 5.2401032e+11 | O26: =K26-K25 -> 417884.96 | P26: =O26*O26 -> 1.7462784e+11 | R26: Mean Absolute Percentage Error (MAPE) | S26: =M123 -> 0.047695412
A27: 43131 | B27: =Inputs!D48 -> 21585922 | C27: =Inputs!E48 -> 251852 | D27: =B27+C27 -> 21837774 | E27: =Inputs!C48 -> 12013 | F27: 31 | G27: =G15 -> 0 | H27: =H15 -> 637.04 | I27: =I15 -> 0 | J27: =$S$18+$S$19*E27+$S$20*F27+$S$21*G27+$S$22*H27+$S$23*I27 -> 21794883 | K27: =J27-B27 -> 208960.85 | L27: =K27/B27 -> 0.0096804225 | M27: =ABS(L27) -> 0.0096804225 | N27: =K27*K27 -> 4.3664635e+10 | O27: =K27-K26 -> -514924.72 | P27: =O27*O27 -> 2.6514747e+11 | R27: Sum of Squared Difference of Residuals | S27: =P123 -> 2.1626307e+14
A28: 43159 | B28: =Inputs!D49 -> 17656173 | C28: =Inputs!E49 -> 234936 | D28: =B28+C28 -> 17891109 | E28: =Inputs!C49 -> 12013 | F28: 28 | G28: =G16 -> 0 | H28: =H16 -> 540.82 | I28: =I16 -> 0 | J28: =$S$18+$S$19*E28+$S$20*F28+$S$21*G28+$S$22*H28+$S$23*I28 -> 18872678 | K28: =J28-B28 -> 1216504.8 | L28: =K28/B28 -> 0.068899686 | M28: =ABS(L28) -> 0.068899686 | N28: =K28*K28 -> 1.4798838e+12 | O28: =K28-K27 -> 1007543.9 | P28: =O28*O28 -> 1.0151448e+12 | R28: Sum of Squared Residuals | S28: =N123 -> 1.8167881e+14
A29: 43190 | B29: =Inputs!D50 -> 18248163 | C29: =Inputs!E50 -> 574730 | D29: =B29+C29 -> 18822893 | E29: =Inputs!C50 -> 12013 | F29: 31 | G29: =G17 -> 1 | H29: =H17 -> 454.27 | I29: =I17 -> 0 | J29: =$S$18+$S$19*E29+$S$20*F29+$S$21*G29+$S$22*H29+$S$23*I29 -> 19088502 | K29: =J29-B29 -> 840338.88 | L29: =K29/B29 -> 0.046050603 | M29: =ABS(L29) -> 0.046050603 | N29: =K29*K29 -> 7.0616944e+11 | O29: =K29-K28 -> -376165.88 | P29: =O29*O29 -> 1.4150077e+11
A30: 43220 | B30: =Inputs!D51 -> 16369500 | C30: =Inputs!E51 -> 586292 | D30: =B30+C30 -> 16955792 | E30: =Inputs!C51 -> 12013 | F30: 30 | G30: =G18 -> 1 | H30: =H18 -> 287.61 | I30: =I18 -> 1.08 | J30: =$S$18+$S$19*E30+$S$20*F30+$S$21*G30+$S$22*H30+$S$23*I30 -> 17323480 | K30: =J30-B30 -> 953979.51 | L30: =K30/B30 -> 0.058277864 | M30: =ABS(L30) -> 0.058277864 | N30: =K30*K30 -> 9.1007691e+11 | O30: =K30-K29 -> 113640.63 | P30: =O30*O30 -> 1.2914192e+10 | R30: Durbin-Watson Calculation | S30: =S27/S28 -> 1.1903594
A31: 43251 | B31: =Inputs!D52 -> 17055235 | C31: =Inputs!E52 -> 731668 | D31: =B31+C31 -> 17786903 | E31: =Inputs!C52 -> 12013 | F31: 31 | G31: =G19 -> 1 | H31: =H19 -> 116.81 | I31: =I19 -> 27.34 | J31: =$S$18+$S$19*E31+$S$20*F31+$S$21*G31+$S$22*H31+$S$23*I31 -> 18425428 | K31: =J31-B31 -> 1370193.6 | L31: =K31/B31 -> 0.080338592 | M31: =ABS(L31) -> 0.080338592 | N31: =K31*K31 -> 1.8774304e+12 | O31: =K31-K30 -> 416214.04 | P31: =O31*O31 -> 1.7323413e+11
A32: 43281 | B32: =Inputs!D53 -> 19672643 | C32: =Inputs!E53 -> 710269 | D32: =B32+C32 -> 20382912 | E32: =Inputs!C53 -> 12013 | F32: 30 | G32: =G20 -> 0 | H32: =H20 -> 10.02 | I32: =I20 -> 99.09 | J32: =$S$18+$S$19*E32+$S$20*F32+$S$21*G32+$S$22*H32+$S$23*I32 -> 22379203 | K32: =J32-B32 -> 2706560.4 | L32: =K32/B32 -> 0.13757991 | M32: =ABS(L32) -> 0.13757991 | N32: =K32*K32 -> 7.3254693e+12 | O32: =K32-K31 -> 1336366.9 | P32: =O32*O32 -> 1.7858764e+12
A33: 43312 | B33: =Inputs!D54 -> 24519316 | C33: =Inputs!E54 -> 778930 | D33: =B33+C33 -> 25298246 | E33: =Inputs!C54 -> 12013 | F33: 31 | G33: =G21 -> 0 | H33: =H21 -> 0.07 | I33: =I21 -> 158.74 | J33: =$S$18+$S$19*E33+$S$20*F33+$S$21*G33+$S$22*H33+$S$23*I33 -> 26285159 | K33: =J33-B33 -> 1765843.2 | L33: =K33/B33 -> 0.072018453 | M33: =ABS(L33) -> 0.072018453 | N33: =K33*K33 -> 3.1182023e+12 | O33: =K33-K32 -> -940717.2 | P33: =O33*O33 -> 8.8494885e+11
A34: 43343 | B34: =Inputs!D55 -> 26369599 | C34: =Inputs!E55 -> 636511 | D34: =B34+C34 -> 27006110 | E34: =Inputs!C55 -> 12013 | F34: 31 | G34: =G22 -> 0 | H34: =H22 -> 3.19 | I34: =I22 -> 115.76 | J34: =$S$18+$S$19*E34+$S$20*F34+$S$21*G34+$S$22*H34+$S$23*I34 -> 24001334 | K34: =J34-B34 -> -2368265.7 | L34: =K34/B34 -> -0.089810455 | M34: =ABS(L34) -> 0.089810455 | N34: =K34*K34 -> 5.6086824e+12 | O34: =K34-K33 -> -4134108.9 | P34: =O34*O34 -> 1.7090857e+13
A35: 43373 | B35: =Inputs!D56 -> 21334917 | C35: =Inputs!E56 -> 500836 | D35: =B35+C35 -> 21835753 | E35: =Inputs!C56 -> 12013 | F35: 30 | G35: =G23 -> 0 | H35: =H23 -> 32.59 | I35: =I23 -> 44.9 | J35: =$S$18+$S$19*E35+$S$20*F35+$S$21*G35+$S$22*H35+$S$23*I35 -> 19617250 | K35: =J35-B35 -> -1717666.1 | L35: =K35/B35 -> -0.080509623 | M35: =ABS(L35) -> 0.080509623 | N35: =K35*K35 -> 2.9503768e+12 | O35: =K35-K34 -> 650599.61 | P35: =O35*O35 -> 4.2327985e+11
A36: 43404 | B36: =Inputs!D57 -> 18577884 | C36: =Inputs!E57 -> 376066 | D36: =B36+C36 -> 18953950 | E36: =Inputs!C57 -> 12013 | F36: 31 | G36: =G24 -> 1 | H36: =H24 -> 183.85 | I36: =I24 -> 11.61 | J36: =$S$18+$S$19*E36+$S$20*F36+$S$21*G36+$S$22*H36+$S$23*I36 -> 18005203 | K36: =J36-B36 -> -572681.19 | L36: =K36/B36 -> -0.030825964 | M36: =ABS(L36) -> 0.030825964 | N36: =K36*K36 -> 3.2796374e+11 | O36: =K36-K35 -> 1144984.9 | P36: =O36*O36 -> 1.3109904e+12
A37: 43434 | B37: =Inputs!D58 -> 18327765 | C37: =Inputs!E58 -> 181639 | D37: =B37+C37 -> 18509404 | E37: =Inputs!C58 -> 12013 | F37: 30 | G37: =G25 -> 1 | H37: =H25 -> 388.63 | I37: =I25 -> 0.36666667 | J37: =$S$18+$S$19*E37+$S$20*F37+$S$21*G37+$S$22*H37+$S$23*I37 -> 17922380 | K37: =J37-B37 -> -405384.8 | L37: =K37/B37 -> -0.022118616 | M37: =ABS(L37) -> 0.022118616 | N37: =K37*K37 -> 1.6433684e+11 | O37: =K37-K36 -> 167296.39 | P37: =O37*O37 -> 2.7988082e+10
A38: 43465 | B38: =Inputs!D59 -> 19674280 | C38: =Inputs!E59 -> 208740 | D38: =B38+C38 -> 19883020 | E38: =Inputs!C59 -> 12013 | F38: 31 | G38: =G26 -> 0 | H38: =H26 -> 553.68 | I38: =I26 -> 0 | J38: =$S$18+$S$19*E38+$S$20*F38+$S$21*G38+$S$22*H38+$S$23*I38 -> 21269133 | K38: =J38-B38 -> 1594853.3 | L38: =K38/B38 -> 0.081062854 | M38: =ABS(L38) -> 0.081062854 | N38: =K38*K38 -> 2.5435569e+12 | O38: =K38-K37 -> 2000238.1 | P38: =O38*O38 -> 4.0009523e+12
A39: 43496 | B39: =Inputs!D60 -> 21603461 | C39: =Inputs!E60 -> 249895 | D39: =B39+C39 -> 21853356 | E39: =Inputs!C60 -> 12261.5 | F39: 31 | G39: =G27 -> 0 | H39: =H27 -> 637.04 | I39: =I27 -> 0 | J39: =$S$18+$S$19*E39+$S$20*F39+$S$21*G39+$S$22*H39+$S$23*I39 -> 22073202 | K39: =J39-B39 -> 469741.26 | L39: =K39/B39 -> 0.021743797 | M39: =ABS(L39) -> 0.021743797 | N39: =K39*K39 -> 2.2065686e+11 | O39: =K39-K38 -> -1125112 | P39: =O39*O39 -> 1.265877e+12
A40: 43524 | B40: =Inputs!D61 -> 18823325 | C40: =Inputs!E61 -> 285592 | D40: =B40+C40 -> 19108917 | E40: =Inputs!C61 -> 12261.5 | F40: 28 | G40: =G28 -> 0 | H40: =H28 -> 540.82 | I40: =I28 -> 0 | J40: =$S$18+$S$19*E40+$S$20*F40+$S$21*G40+$S$22*H40+$S$23*I40 -> 19150997 | K40: =J40-B40 -> 327672.63 | L40: =K40/B40 -> 0.017407798 | M40: =ABS(L40) -> 0.017407798 | N40: =K40*K40 -> 1.0736935e+11 | O40: =K40-K39 -> -142068.64 | P40: =O40*O40 -> 2.0183498e+10
A41: 43555 | B41: =Inputs!D62 -> 20551304 | C41: =Inputs!E62 -> 502731 | D41: =B41+C41 -> 21054035 | E41: =Inputs!C62 -> 12261.5 | F41: 31 | G41: =G29 -> 1 | H41: =H29 -> 454.27 | I41: =I29 -> 0 | J41: =$S$18+$S$19*E41+$S$20*F41+$S$21*G41+$S$22*H41+$S$23*I41 -> 19366821 | K41: =J41-B41 -> -1184483 | L41: =K41/B41 -> -0.057635418 | M41: =ABS(L41) -> 0.057635418 | N41: =K41*K41 -> 1.403e+12 | O41: =K41-K40 -> -1512155.6 | P41: =O41*O41 -> 2.2866147e+12
A42: 43585 | B42: =Inputs!D63 -> 17411654 | C42: =Inputs!E63 -> 554704 | D42: =B42+C42 -> 17966358 | E42: =Inputs!C63 -> 12261.5 | F42: 30 | G42: =G30 -> 1 | H42: =H30 -> 287.61 | I42: =I30 -> 1.08 | J42: =$S$18+$S$19*E42+$S$20*F42+$S$21*G42+$S$22*H42+$S$23*I42 -> 17601799 | K42: =J42-B42 -> 190144.86 | L42: =K42/B42 -> 0.010920551 | M42: =ABS(L42) -> 0.010920551 | N42: =K42*K42 -> 3.6155068e+10 | O42: =K42-K41 -> 1374627.9 | P42: =O42*O42 -> 1.8896018e+12
... A122: 46022 | B122: =Inputs!D143 -> 22775841 | C122: =Inputs!E143 -> 0 | D122: =B122+C122 -> 22775841 | E122: =Inputs!C143 -> 12628.5 | F122: 31 | G122: =G110 -> 0 | H122: =H110 -> 553.68 | I122: =I110 -> 0 | J122: =$S$18+$S$19*E122+$S$20*F122+$S$21*G122+$S$22*H122+$S$23*I122 -> 21958492 | K122: =J122-B122 -> -817349.16 | L122: =K122/B122 -> -0.035886673 | M122: =ABS(L122) -> 0.035886673 | N122: =K122*K122 -> 6.6805964e+11 | O122: =K122-K121 -> -172406.17 | P122: =O122*O122 -> 2.9723888e+10
A123: 46053 | E123: {='Rate Class Customer Model'!Q4:Q15} -> 12640.382 | F123: 31 | G123: =G111 -> 0 | H123: =H111 -> 637.04 | I123: =I111 -> 0 | J123: =$S$18+$S$19*E123+$S$20*F123+$S$21*G123+$S$22*H123+$S$23*I123 -> 22497550 | L123: MAPE | M123: =AVERAGE(M3:M122) -> 0.047695412 | N123: =SUM(N3:N122) -> 1.8167881e+14 | P123: =SUM(P4:P122) -> 2.1626307e+14
A124: 46081 | E124: 12652.275 | F124: 28 | G124: =G112 -> 0 | H124: =H112 -> 540.82 | I124: =I112 -> 0 | J124: =$S$18+$S$19*E124+$S$20*F124+$S$21*G124+$S$22*H124+$S$23*I124 -> 19588665
A125: 46112 | E125: 12664.18 | F125: 31 | G125: =G113 -> 1 | H125: =H113 -> 454.27 | I125: =I113 -> 0 | J125: =$S$18+$S$19*E125+$S$20*F125+$S$21*G125+$S$22*H125+$S$23*I125 -> 19817822
A126: 46142 | E126: 12676.095 | F126: 30 | G126: =G114 -> 1 | H126: =H114 -> 287.61 | I126: =I114 -> 1.08 | J126: =$S$18+$S$19*E126+$S$20*F126+$S$21*G126+$S$22*H126+$S$23*I126 -> 18066145
A127: 46173 | E127: 12688.022 | F127: 31 | G127: =G115 -> 1 | H127: =H115 -> 116.81 | I127: =I115 -> 27.34 | J127: =$S$18+$S$19*E127+$S$20*F127+$S$21*G127+$S$22*H127+$S$23*I127 -> 19181452
A128: 46203 | E128: 12699.96 | F128: 30 | G128: =G116 -> 0 | H128: =H116 -> 10.02 | I128: =I116 -> 99.09 | J128: =$S$18+$S$19*E128+$S$20*F128+$S$21*G128+$S$22*H128+$S$23*I128 -> 23148597
A129: 46234 | E129: 12711.909 | F129: 31 | G129: =G117 -> 0 | H129: =H117 -> 0.07 | I129: =I117 -> 158.74 | J129: =$S$18+$S$19*E129+$S$20*F129+$S$21*G129+$S$22*H129+$S$23*I129 -> 27067936
A130: 46265 | E130: 12723.87 | F130: 31 | G130: =G118 -> 0 | H130: =H118 -> 3.19 | I130: =I118 -> 115.76 | J130: =$S$18+$S$19*E130+$S$20*F130+$S$21*G130+$S$22*H130+$S$23*I130 -> 24797506
A131: 46295 | E131: 12735.841 | F131: 30 | G131: =G119 -> 0 | H131: =H119 -> 32.59 | I131: =I119 -> 44.9 | J131: =$S$18+$S$19*E131+$S$20*F131+$S$21*G131+$S$22*H131+$S$23*I131 -> 20426832
A132: 46326 | E132: 12747.824 | F132: 31 | G132: =G120 -> 1 | H132: =H120 -> 183.85 | I132: =I120 -> 11.61 | J132: =$S$18+$S$19*E132+$S$20*F132+$S$21*G132+$S$22*H132+$S$23*I132 -> 18828205
A133: 46356 | E133: 12759.818 | F133: 30 | G133: =G121 -> 1 | H133: =H121 -> 388.63 | I133: =I121 -> 0.36666667 | J133: =$S$18+$S$19*E133+$S$20*F133+$S$21*G133+$S$22*H133+$S$23*I133 -> 18758816
A134: 46387 | E134: 12771.824 | F134: 31 | G134: =G122 -> 0 | H134: =H122 -> 553.68 | I134: =I122 -> 0 | J134: =$S$18+$S$19*E134+$S$20*F134+$S$21*G134+$S$22*H134+$S$23*I134 -> 22119015
A135: 46418 | E135: {='Rate Class Customer Model'!R4:R15} -> 12773.696 | F135: 31 | G135: =G123 -> 0 | H135: =H123 -> 637.04 | I135: =I123 -> 0 | J135: =$S$18+$S$19*E135+$S$20*F135+$S$21*G135+$S$22*H135+$S$23*I135 -> 22646861
A136: 46446 | E136: 12775.569 | F136: 28 | G136: =G124 -> 0 | H136: =H124 -> 540.82 | I136: =I124 -> 0 | J136: =$S$18+$S$19*E136+$S$20*F136+$S$21*G136+$S$22*H136+$S$23*I136 -> 19726754
A137: 46477 | E137: 12777.442 | F137: 31 | G137: =G125 -> 1 | H137: =H125 -> 454.27 | I137: =I125 -> 0 | J137: =$S$18+$S$19*E137+$S$20*F137+$S$21*G137+$S$22*H137+$S$23*I137 -> 19944675
A138: 46507 | E138: 12779.315 | F138: 30 | G138: =G126 -> 1 | H138: =H126 -> 287.61 | I138: =I126 -> 1.08 | J138: =$S$18+$S$19*E138+$S$20*F138+$S$21*G138+$S$22*H138+$S$23*I138 -> 18181751
A139: 46538 | E139: 12781.188 | F139: 31 | G139: =G127 -> 1 | H139: =H127 -> 116.81 | I139: =I127 -> 27.34 | J139: =$S$18+$S$19*E139+$S$20*F139+$S$21*G139+$S$22*H139+$S$23*I139 -> 19285798
A140: 46568 | E140: 12783.061 | F140: 30 | G140: =G128 -> 0 | H140: =H128 -> 10.02 | I140: =I128 -> 99.09 | J140: =$S$18+$S$19*E140+$S$20*F140+$S$21*G140+$S$22*H140+$S$23*I140 -> 23241671
A141: 46599 | E141: 12784.935 | F141: 31 | G141: =G129 -> 0 | H141: =H129 -> 0.07 | I141: =I129 -> 158.74 | J141: =$S$18+$S$19*E141+$S$20*F141+$S$21*G141+$S$22*H141+$S$23*I141 -> 27149726
A142: 46630 | E142: 12786.809 | F142: 31 | G142: =G130 -> 0 | H142: =H130 -> 3.19 | I142: =I130 -> 115.76 | J142: =$S$18+$S$19*E142+$S$20*F142+$S$21*G142+$S$22*H142+$S$23*I142 -> 24867999
A143: 46660 | E143: 12788.684 | F143: 30 | G143: =G131 -> 0 | H143: =H131 -> 32.59 | I143: =I131 -> 44.9 | J143: =$S$18+$S$19*E143+$S$20*F143+$S$21*G143+$S$22*H143+$S$23*I143 -> 20486015
A144: 46691 | E144: 12790.559 | F144: 31 | G144: =G132 -> 1 | H144: =H132 -> 183.85 | I144: =I132 -> 11.61 | J144: =$S$18+$S$19*E144+$S$20*F144+$S$21*G144+$S$22*H144+$S$23*I144 -> 18876067
A145: 46721 | E145: 12792.434 | F145: 30 | G145: =G133 -> 1 | H145: =H133 -> 388.63 | I145: =I133 -> 0.36666667 | J145: =$S$18+$S$19*E145+$S$20*F145+$S$21*G145+$S$22*H145+$S$23*I145 -> 18795345
A146: 46752 | E146: 12794.309 | F146: 31 | G146: =G134 -> 0 | H146: =H134 -> 553.68 | I146: =I134 -> 0 | J146: =$S$18+$S$19*E146+$S$20*F146+$S$21*G146+$S$22*H146+$S$23*I146 -> 22144197
F149: 10-year average
J150: =SUM(J3:J146) -> 2.9949064e+09
M151: Non-Weather Normalized | N151: Weather Normalization Factor
A152: 2016 | B152: =SUM(B3:B14) -> 2.4595916e+08 | D152: =SUM(D3:D14) -> 2.5127777e+08 | J152: =SUM(J3:J14) -> 2.411129e+08 | M152: ='Power Purchased Model'!K152 -> 2.4620614e+08 | N152: =J152/M152 -> 0.97931311
A153: 2017 | B153: =SUM(B15:B26) -> 2.2865348e+08 | D153: =SUM(D15:D26) -> 2.3450093e+08 | F153: =(D153-D152)/D152 -> -0.066766112 | G153: =(F153-F152)/F152 -> #DIV/0! | J153: =SUM(J15:J26) -> 2.4102656e+08 | M153: ='Power Purchased Model'!K153 -> 2.3741519e+08 | N153: =J153/M153 -> 1.0152112
A154: 2018 | B154: =SUM(B27:B38) -> 2.393914e+08 | D154: =SUM(D27:D38) -> 2.4516386e+08 | F154: =(D154-D153)/D153 -> 0.045470739 | G154: =(F154-F153)/F153 -> -1.6810452 | J154: =SUM(J27:J38) -> 2.4498463e+08 | M154: ='Power Purchased Model'!K154 -> 2.4889875e+08 | N154: =J154/M154 -> 0.98427425
A155: 2019 | B155: =SUM(B39:B50) -> 2.4704742e+08 | D155: =SUM(D39:D50) -> 2.5286852e+08 | F155: =(D155-D154)/D154 -> 0.031426536 | G155: =(F155-F154)/F154 -> -0.30886242 | J155: =SUM(J39:J50) -> 2.4832447e+08 | M155: ='Power Purchased Model'!K155 -> 2.4885455e+08 | N155: =J155/M155 -> 0.99786991
A156: 2020 | B156: =SUM(B51:B62) -> 2.4773921e+08 | D156: =SUM(D51:D62) -> 2.5399647e+08 | F156: =(D156-D155)/D155 -> 0.0044606246 | G156: =(F156-F155)/F155 -> -0.85806184 | J156: =SUM(J51:J62) -> 2.5062841e+08 | M156: ='Power Purchased Model'!K156 -> 2.5208957e+08 | N156: =J156/M156 -> 0.99420379
A157: 2021 | B157: =SUM(B63:B74) -> 2.4365934e+08 | D157: =SUM(D63:D74) -> 2.498775e+08 | F157: =(D157-D156)/D156 -> -0.016216642 | G157: =(F157-F156)/F156 -> -4.6355092 | J157: =SUM(J63:J74) -> 2.5071342e+08 | M157: ='Power Purchased Model'!K157 -> 2.5313693e+08 | N157: =J157/M157 -> 0.99042611
A158: 2022 | B158: =SUM(B75:B86) -> 2.3941057e+08 | D158: =SUM(D75:D86) -> 2.4537848e+08 | F158: =(D158-D157)/D157 -> -0.018004913 | G158: =(F158-F157)/F157 -> 0.11027382 | J158: =SUM(J75:J86) -> 2.5071174e+08 | M158: ='Power Purchased Model'!K158 -> 2.5293334e+08 | N158: =J158/M158 -> 0.99121669 | O158: =ROUND(N158,5) -> 0.99122
A159: 2023 | B159: =SUM(B87:B98) -> 2.3440581e+08 | D159: =SUM(D87:D98) -> 2.4073625e+08 | F159: =(D159-D158)/D158 -> -0.018918637 | G159: =(F159-F158)/F158 -> 0.050748581 | J159: =SUM(J87:J98) -> 2.5133334e+08 | M159: ='Power Purchased Model'!K159 -> 2.4241496e+08 | N159: =J159/M159 -> 1.0367898 | O159: =ROUND(N159,5) -> 1.03679
A160: 2024 | B160: =SUM(B99:B110) -> 2.5542823e+08 | D160: =SUM(D99:D110) -> 2.5542823e+08 | F160: =(D160-D159)/D159 -> 0.061029382 | G160: =(F160-F159)/F159 -> -4.2258869 | J160: =SUM(J99:J110) -> 2.5316856e+08 | M160: ='Power Purchased Model'!K160 -> 2.4903441e+08 | N160: =J160/M160 -> 1.0166007 | O160: =ROUND(N160,5) -> 1.0166
A161: 2025 | B161: =SUM(B111:B122) -> 2.5603297e+08 | D161: =SUM(D111:D122) -> 2.5603297e+08 | J161: =SUM(J111:J122) -> 2.5325694e+08 | M161: ='Power Purchased Model'!K161 -> 2.5427714e+08 | N161: =J161/M161 -> 0.99598783 | O161: =ROUND(N161,5) -> 0.99599
A162: 2026 | J162: =SUM(J123:J134) -> 2.5429854e+08 | M162: ='Power Purchased Model'!K162 -> 2.5429854e+08 | N162: =J162/M162 -> 1 | O162: =ROUND(N162,5) -> 1
A163: 2027 | J163: =SUM(J135:J146) -> 2.5534686e+08 | M163: ='Power Purchased Model'!K163 -> 2.5534686e+08 | N163: =J163/M163 -> 1 | O163: =ROUND(N163,5) -> 1
A165: Total | B165: =SUM(B152:B161) -> 2.4377276e+09 | D165: =SUM(D152:D161) -> 2.485261e+09 | J165: =SUM(J152:J161) -> 2.485261e+09 | K165: =J165-D165 -> 0 | L165: Check - must be zero
J167: =SUM(J152:J163) -> 2.9949064e+09 | K167: =J150-J167 -> 0

Sheet Rate Class Energy Model
B2: Purchases | C2: Modeled Purchases | D2: Difference | E2: % Difference | F2: Loss Factor | G2: Total Billed | H2: =Inputs!B4 -> Residential | I2: =Inputs!C4 -> General Service < 50 kW | J2: =Inputs!D4 -> General Service > 50 kW | K2: =Inputs!E4 -> Embedded Distributor | L2: =Inputs!F4 -> Unmetered Scatter Load | M2: =Inputs!G4 -> Sentinel Lighting | N2: =Inputs!H4 -> Street Lighting
A3: 2016 | B3: =+'Power Purchased Model'!D152 -> 2.5127777e+08 | C3: =+'Power Purchased Model'!K152 -> 2.4620614e+08 | D3: =C3-B3 -> -5071632.6 | E3: =D3/B3 -> -0.020183371 | F3: =1 +(B3-G3)/G3 -> 1.0528374 | G3: =SUM(H3:N3) -> 238667221 | H3: =SUMIF(Inputs!A$24:A$143,'Rate Class Energy Model'!A3,Inputs!F$24:F$143) -> 91479319 | I3: =SUMIF(Inputs!A$24:A$143,'Rate Class Energy Model'!A3,Inputs!H$24:H$143) -> 28315731 | J3: =SUMIF(Inputs!A$24:A$143,'Rate Class Energy Model'!A3,Inputs!J$24:J$143) -> 59051959 | K3: =SUMIF(Inputs!A$24:A$143,'Rate Class Energy Model'!A3,Inputs!M$24:M$143) -> 57823879 | L3: =SUMIF(Inputs!A$24:A$143,'Rate Class Energy Model'!A3,Inputs!P$24:P$143) -> 257059 | M3: =SUMIF(Inputs!A$24:A$143,'Rate Class Energy Model'!A3,Inputs!R$24:R$143) -> 153690 | N3: =SUMIF(Inputs!A$24:A$143,'Rate Class Energy Model'!A3,Inputs!U$24:U$143) -> 1585584
A4: 2017 | B4: =+'Power Purchased Model'!D153 -> 2.3450093e+08 | C4: =+'Power Purchased Model'!K153 -> 2.3741519e+08 | D4: =C4-B4 -> 2914260.4 | E4: =D4/B4 -> 0.0124275 | F4: =1 +(B4-G4)/G4 -> 1.0667819 | G4: =SUM(H4:N4) -> 219820870 | H4: =SUMIF(Inputs!A$24:A$143,'Rate Class Energy Model'!A4,Inputs!F$24:F$143) -> 86529651 | I4: =SUMIF(Inputs!A$24:A$143,'Rate Class Energy Model'!A4,Inputs!H$24:H$143) -> 27228067 | J4: =SUMIF(Inputs!A$24:A$143,'Rate Class Energy Model'!A4,Inputs!J$24:J$143) -> 47449870 | K4: =SUMIF(Inputs!A$24:A$143,'Rate Class Energy Model'!A4,Inputs!M$24:M$143) -> 56843411 | L4: =SUMIF(Inputs!A$24:A$143,'Rate Class Energy Model'!A4,Inputs!P$24:P$143) -> 255469 | M4: =SUMIF(Inputs!A$24:A$143,'Rate Class Energy Model'!A4,Inputs!R$24:R$143) -> 152795 | N4: =SUMIF(Inputs!A$24:A$143,'Rate Class Energy Model'!A4,Inputs!U$24:U$143) -> 1361607
A5: 2018 | B5: =+'Power Purchased Model'!D154 -> 2.4516386e+08 | C5: =+'Power Purchased Model'!K154 -> 2.4889875e+08 | D5: =C5-B5 -> 3734886.1 | E5: =D5/B5 -> 0.015234244 | F5: =1 +(B5-G5)/G5 -> 0.99487581 | G5: =SUM(H5:N5) -> 246426601 | H5: =SUMIF(Inputs!A$24:A$143,'Rate Class Energy Model'!A5,Inputs!F$24:F$143) -> 94517191 | I5: =SUMIF(Inputs!A$24:A$143,'Rate Class Energy Model'!A5,Inputs!H$24:H$143) -> 28692745 | J5: =SUMIF(Inputs!A$24:A$143,'Rate Class Energy Model'!A5,Inputs!J$24:J$143) -> 59787962 | K5: =SUMIF(Inputs!A$24:A$143,'Rate Class Energy Model'!A5,Inputs!M$24:M$143) -> 61680653 | L5: =SUMIF(Inputs!A$24:A$143,'Rate Class Energy Model'!A5,Inputs!P$24:P$143) -> 249143 | M5: =SUMIF(Inputs!A$24:A$143,'Rate Class Energy Model'!A5,Inputs!R$24:R$143) -> 149558 | N5: =SUMIF(Inputs!A$24:A$143,'Rate Class Energy Model'!A5,Inputs!U$24:U$143) -> 1349349
A6: 2019 | B6: =+'Power Purchased Model'!D155 -> 2.5286852e+08 | C6: =+'Power Purchased Model'!K155 -> 2.4885455e+08 | D6: =C6-B6 -> -4013966.3 | E6: =D6/B6 -> -0.015873729 | F6: =1 +(B6-G6)/G6 -> 1.0411394 | G6: =SUM(H6:N6) -> 242876722 | H6: =SUMIF(Inputs!A$24:A$143,'Rate Class Energy Model'!A6,Inputs!F$24:F$143) -> 92484569 | I6: =SUMIF(Inputs!A$24:A$143,'Rate Class Energy Model'!A6,Inputs!H$24:H$143) -> 28348056 | J6: =SUMIF(Inputs!A$24:A$143,'Rate Class Energy Model'!A6,Inputs!J$24:J$143) -> 59632442 | K6: =SUMIF(Inputs!A$24:A$143,'Rate Class Energy Model'!A6,Inputs!M$24:M$143) -> 60666329 | L6: =SUMIF(Inputs!A$24:A$143,'Rate Class Energy Model'!A6,Inputs!P$24:P$143) -> 246885 | M6: =SUMIF(Inputs!A$24:A$143,'Rate Class Energy Model'!A6,Inputs!R$24:R$143) -> 144657 | N6: =SUMIF(Inputs!A$24:A$143,'Rate Class Energy Model'!A6,Inputs!U$24:U$143) -> 1353784
A7: 2020 | B7: =+'Power Purchased Model'!D156 -> 2.5399647e+08 | C7: =+'Power Purchased Model'!K156 -> 2.5208957e+08 | D7: =C7-B7 -> -1906894.7 | E7: =D7/B7 -> -0.0075075639 | F7: =1 +(B7-G7)/G7 -> 1.0622899 | G7: =SUM(H7:N7) -> 239102776 | H7: =SUMIF(Inputs!A$24:A$143,'Rate Class Energy Model'!A7,Inputs!F$24:F$143) -> 98305959 | I7: =SUMIF(Inputs!A$24:A$143,'Rate Class Energy Model'!A7,Inputs!H$24:H$143) -> 26410288 | J7: =SUMIF(Inputs!A$24:A$143,'Rate Class Energy Model'!A7,Inputs!J$24:J$143) -> 52047649 | K7: =SUMIF(Inputs!A$24:A$143,'Rate Class Energy Model'!A7,Inputs!M$24:M$143) -> 60666329 | L7: =SUMIF(Inputs!A$24:A$143,'Rate Class Energy Model'!A7,Inputs!P$24:P$143) -> 246885 | M7: =SUMIF(Inputs!A$24:A$143,'Rate Class Energy Model'!A7,Inputs!R$24:R$143) -> 141998 | N7: =SUMIF(Inputs!A$24:A$143,'Rate Class Energy Model'!A7,Inputs!U$24:U$143) -> 1283668
A8: 2021 | B8: =+'Power Purchased Model'!D157 -> 2.498775e+08 | C8: =+'Power Purchased Model'!K157 -> 2.5313693e+08 | D8: =C8-B8 -> 3259431.1 | E8: =D8/B8 -> 0.013044116 | F8: =1 +(B8-G8)/G8 -> 1.0291826 | G8: =SUM(H8:N8) -> 242792191 | H8: =SUMIF(Inputs!A$24:A$143,'Rate Class Energy Model'!A8,Inputs!F$24:F$143) -> 106359838 | I8: =SUMIF(Inputs!A$24:A$143,'Rate Class Energy Model'!A8,Inputs!H$24:H$143) -> 27377213 | J8: =SUMIF(Inputs!A$24:A$143,'Rate Class Energy Model'!A8,Inputs!J$24:J$143) -> 56544701 | K8: =SUMIF(Inputs!A$24:A$143,'Rate Class Energy Model'!A8,Inputs!M$24:M$143) -> 50859469 | L8: =SUMIF(Inputs!A$24:A$143,'Rate Class Energy Model'!A8,Inputs!P$24:P$143) -> 248173 | M8: =SUMIF(Inputs!A$24:A$143,'Rate Class Energy Model'!A8,Inputs!R$24:R$143) -> 137713 | N8: =SUMIF(Inputs!A$24:A$143,'Rate Class Energy Model'!A8,Inputs!U$24:U$143) -> 1265084
A9: 2022 | B9: =+'Power Purchased Model'!D158 -> 2.4537848e+08 | C9: =+'Power Purchased Model'!K158 -> 2.5293334e+08 | D9: =C9-B9 -> 7554861.6 | E9: =D9/B9 -> 0.030788608 | F9: =1 +(B9-G9)/G9 -> 1.031606 | G9: =SUM(H9:N9) -> 2.3786065e+08 | H9: =SUMIF(Inputs!A$24:A$143,'Rate Class Energy Model'!A9,Inputs!F$24:F$143) -> 105839455 | I9: =SUMIF(Inputs!A$24:A$143,'Rate Class Energy Model'!A9,Inputs!H$24:H$143) -> 29663800 | J9: =SUMIF(Inputs!A$24:A$143,'Rate Class Energy Model'!A9,Inputs!J$24:J$143) -> 55678002 | K9: =SUMIF(Inputs!A$24:A$143,'Rate Class Energy Model'!A9,Inputs!M$24:M$143) -> 45020625 | L9: =SUMIF(Inputs!A$24:A$143,'Rate Class Energy Model'!A9,Inputs!P$24:P$143) -> 248448 | M9: =SUMIF(Inputs!A$24:A$143,'Rate Class Energy Model'!A9,Inputs!R$24:R$143) -> 138479 | N9: =SUMIF(Inputs!A$24:A$143,'Rate Class Energy Model'!A9,Inputs!U$24:U$143) -> 1271846
A10: 2023 | B10: =+'Power Purchased Model'!D159 -> 2.4073625e+08 | C10: =+'Power Purchased Model'!K159 -> 2.4241496e+08 | D10: =C10-B10 -> 1678707.9 | E10: =D10/B10 -> 0.0069732245 | F10: =1 +(B10-G10)/G10 -> 1.028328 | G10: =SUM(H10:N10) -> 2.3410454e+08 | H10: =SUMIF(Inputs!A$24:A$143,'Rate Class Energy Model'!A10,Inputs!F$24:F$143) -> 96458582 | I10: =SUMIF(Inputs!A$24:A$143,'Rate Class Energy Model'!A10,Inputs!H$24:H$143) -> 28828610 | J10: =SUMIF(Inputs!A$24:A$143,'Rate Class Energy Model'!A10,Inputs!J$24:J$143) -> 59808298 | K10: =SUMIF(Inputs!A$24:A$143,'Rate Class Energy Model'!A10,Inputs!M$24:M$143) -> 47435811 | L10: =SUMIF(Inputs!A$24:A$143,'Rate Class Energy Model'!A10,Inputs!P$24:P$143) -> 248859 | M10: =SUMIF(Inputs!A$24:A$143,'Rate Class Energy Model'!A10,Inputs!R$24:R$143) -> 136721.45 | N10: =SUMIF(Inputs!A$24:A$143,'Rate Class Energy Model'!A10,Inputs!U$24:U$143) -> 1187658
A11: 2024 | B11: =+'Power Purchased Model'!D160 -> 2.5542823e+08 | C11: =+'Power Purchased Model'!K160 -> 2.4903441e+08 | D11: =C11-B11 -> -6393825 | E11: =D11/B11 -> -0.025031786 | F11: =1 +(B11-G11)/G11 -> 1.0660352 | G11: =SUM(H11:N11) -> 2.3960581e+08 | H11: =SUMIF(Inputs!A$24:A$143,'Rate Class Energy Model'!A11,Inputs!F$24:F$143) -> 1.0136398e+08 | I11: =SUMIF(Inputs!A$24:A$143,'Rate Class Energy Model'!A11,Inputs!H$24:H$143) -> 30766203 | J11: =SUMIF(Inputs!A$24:A$143,'Rate Class Energy Model'!A11,Inputs!J$24:J$143) -> 59377099 | K11: =SUMIF(Inputs!A$24:A$143,'Rate Class Energy Model'!A11,Inputs!M$24:M$143) -> 46518194 | L11: =SUMIF(Inputs!A$24:A$143,'Rate Class Energy Model'!A11,Inputs!P$24:P$143) -> 250863.24 | M11: =SUMIF(Inputs!A$24:A$143,'Rate Class Energy Model'!A11,Inputs!R$24:R$143) -> 137219.59 | N11: =SUMIF(Inputs!A$24:A$143,'Rate Class Energy Model'!A11,Inputs!U$24:U$143) -> 1192252.5
A12: 2025 | B12: =+'Power Purchased Model'!D161 -> 2.5603297e+08 | C12: =+'Power Purchased Model'!K161 -> 2.5427714e+08 | D12: =C12-B12 -> -1755828.6 | E12: =D12/B12 -> -0.0068578223 | F12: =1 +(B12-G12)/G12 -> 1.0776335 | G12: =SUM(H12:N12) -> 2.3758816e+08 | H12: =SUMIF(Inputs!A$24:A$143,'Rate Class Energy Model'!A12,Inputs!F$24:F$143) -> 1.0466154e+08 | I12: =SUMIF(Inputs!A$24:A$143,'Rate Class Energy Model'!A12,Inputs!H$24:H$143) -> 31964519 | J12: =SUMIF(Inputs!A$24:A$143,'Rate Class Energy Model'!A12,Inputs!J$24:J$143) -> 57467168 | K12: =SUMIF(Inputs!A$24:A$143,'Rate Class Energy Model'!A12,Inputs!M$24:M$143) -> 41943488 | L12: =SUMIF(Inputs!A$24:A$143,'Rate Class Energy Model'!A12,Inputs!P$24:P$143) -> 235012.72 | M12: =SUMIF(Inputs!A$24:A$143,'Rate Class Energy Model'!A12,Inputs!R$24:R$143) -> 117252.78 | N12: =SUMIF(Inputs!A$24:A$143,'Rate Class Energy Model'!A12,Inputs!U$24:U$143) -> 1199177.9
A13: 2026 | C13: =+'Power Purchased Model'!K162 -> 2.5429854e+08 | G13: =C13/$F$16 -> 2.4042596e+08
A14: 2027 | C14: =+'Power Purchased Model'!K163 -> 2.5534686e+08 | G14: =C14/$F$16 -> 2.4141709e+08
A16: Average | F16: 1.0577 | G16: 2-R Loss Factor
A19: Usage Per Customer
A21: 2025 | H21: =H12/'Rate Class Customer Model'!B12 -> 9217.6268 | I21: =I12/'Rate Class Customer Model'!C12 -> 27111.551 | J21: =J12/'Rate Class Customer Model'!D12 -> 645698.52 | K21: =K12/'Rate Class Customer Model'!E12 -> 6990581.3 | L21: =L12/'Rate Class Customer Model'!F12 -> 8103.8869 | M21: =M12/'Rate Class Customer Model'!G12 -> 1606.2025 | N21: =N12/'Rate Class Customer Model'!H12 -> 379.66691
A22: 2026 | H22: =H21 -> 9217.6268 | I22: =I21 -> 27111.551 | J22: =J21 -> 645698.52 | K22: =K21 -> 6990581.3 | L22: =L21 -> 8103.8869 | M22: =M21 -> 1606.2025 | N22: =N21 -> 379.66691
A23: 2027 | H23: =H22 -> 9217.6268 | I23: =I22 -> 27111.551 | J23: =J22 -> 645698.52 | K23: =K22 -> 6990581.3 | L23: =L22 -> 8103.8869 | M23: =M22 -> 1606.2025 | N23: =N22 -> 379.66691
A27: Non Weather Corrected Forecast
A28: =A22 -> 2026 | G28: =SUM(H28:N28) -> 2.3846718e+08 | H28: =H22*'Rate Class Customer Model'!B13 -> 1.052903e+08 | I28: =I22*'Rate Class Customer Model'!C13 -> 32210400 | J28: =J22*'Rate Class Customer Model'!D13 -> 57467168 | K28: =K22*'Rate Class Customer Model'!E13 -> 41943488 | L28: =L22*'Rate Class Customer Model'!F13 -> 230431.04 | M28: =M22*'Rate Class Customer Model'!G13 -> 117252.78 | N28: =N22*'Rate Class Customer Model'!H13 -> 1208146
A29: =A23 -> 2027 | G29: =SUM(H29:N29) -> 2.3935203e+08 | H29: =H23*'Rate Class Customer Model'!B14 -> 1.0592283e+08 | I29: =I23*'Rate Class Customer Model'!C14 -> 32458172 | J29: =J23*'Rate Class Customer Model'!D14 -> 57467168 | K29: =K23*'Rate Class Customer Model'!E14 -> 41943488 | L29: =L23*'Rate Class Customer Model'!F14 -> 225938.67 | M29: =M23*'Rate Class Customer Model'!G14 -> 117252.78 | N29: =N23*'Rate Class Customer Model'!H14 -> 1217181.1
A32: Weather Corrected & Adjusted Forecast
A33: =A28 -> 2026 | G33: =SUM(H33:N33) -> 2.4042596e+08 | H33: =H28+H43 -> 1.0644081e+08 | I33: =I28+I43 -> 32562365 | J33: =J28+J43 -> 57923466 | K33: =K28+K43 -> 41943488 | L33: =L28+L43 -> 230431.04 | M33: =M28+M43 -> 117252.78 | N33: =N28+N43 -> 1208146 | O33: =SUM(H33:N33) -> 2.4042596e+08 | P33: =O33-G33 -> 0
A34: =A29 -> 2027 | G34: =SUM(H34:N34) -> 2.4141709e+08 | H34: =H29+H44 -> 1.071371e+08 | I34: =I29+I44 -> 32830262 | J34: =J29+J44 -> 57945873 | K34: =K29+K44 -> 41943488 | L34: =L29+L44 -> 225938.67 | M34: =M29+M44 -> 117252.78 | N34: =N29+N44 -> 1217181.1 | O34: =SUM(H34:N34) -> 2.4141709e+08 | P34: =O34-G34 -> 0
A37: % Weather Sensitive | H37: =(100%+J37)/2 -> 0.78532972 | I37: =H37 -> 0.78532972 | J37: 0.57065944 | K37: 0 | L37: 0 | M37: 0 | N37: 0
A38: =+A33 -> 2026 | G38: =G13-G28 -> 1958776.4 | H38: =H28*H$37 -> 82687602 | I38: =I28*I$37 -> 25295784 | J38: =J28*J$37 -> 32794182 | K38: =K28*K$37 -> 0 | L38: =L28*L$37 -> 0 | M38: =M28*M$37 -> 0 | N38: =N28*N$37 -> 0 | O38: =SUM(H38:N38) -> 1.4077757e+08
A39: =+A34 -> 2027 | G39: =G14-G29 -> 2065058.8 | H39: =H29*H$37 -> 83184349 | I39: =I29*I$37 -> 25490367 | J39: =J29*J$37 -> 32794182 | K39: =K29*K$37 -> 0 | L39: =L29*L$37 -> 0 | M39: =M29*M$37 -> 0 | N39: =N29*N$37 -> 0 | O39: =SUM(H39:N39) -> 1.414689e+08
A42: Allocation of Weather Sensitive Amount
A43: =+A38 -> 2026 | G43: =SUM(H43:N43) -> 1958776.4 | H43: =H38/$O38*$G38 -> 1150513.7 | I43: =I38/$O38*$G38 -> 351965.06 | J43: =J38/$O38*$G38 -> 456297.62 | K43: =K38/$O38*$G38 -> 0 | L43: =L38/$O38*$G38 -> 0 | M43: =M38/$O38*$G38 -> 0 | N43: =N38/$O38*$G38 -> 0
A44: =+A39 -> 2027 | G44: =SUM(H44:N44) -> 2065058.8 | H44: =H39/$O39*$G39 -> 1214263.9 | I44: =I39/$O39*$G39 -> 372089.61 | J44: =J39/$O39*$G39 -> 478705.31 | K44: =K39/$O39*$G39 -> 0 | L44: =L39/$O39*$G39 -> 0 | M44: =M39/$O39*$G39 -> 0 | N44: =N39/$O39*$G39 -> 0

Sheet Rate Class Customer Model
B1: Average Number of Customer/Connections | L1: excluded USL, SL and ST
B2: =Inputs!B4 -> Residential | C2: =Inputs!C4 -> General Service < 50 kW | D2: =Inputs!D4 -> General Service > 50 kW | E2: =Inputs!E4 -> Embedded Distributor | F2: =Inputs!F4 -> Unmetered Scatter Load | G2: =Inputs!G4 -> Sentinel Lighting | H2: =Inputs!H4 -> Street Lighting | I2: Total | L2: Total Customers | O2: 2025 Dec | Q2: 2025 | R2: 2026
A3: 2016 | B3: =Inputs!B5 -> 10277 | C3: =Inputs!C5 -> 1283 | D3: =Inputs!D5 -> 101.5 | E3: =Inputs!E5 -> 6 | F3: =Inputs!F5 -> 30 | G3: =Inputs!G5 -> 73 | H3: =Inputs!H5 -> 2969.5 | I3: =SUM(B3:H3) -> 14740 | L3: =B3+C3+D3+E3 -> 11667.5 | O3: =L12 -> 12628.5 | Q3: 0.00094088675 | R3: 0.00014659004
A4: 2017 | B4: =Inputs!B6 -> 10374.5 | C4: =Inputs!C6 -> 1224.5 | D4: =Inputs!D6 -> 113.5 | E4: =Inputs!E6 -> 6 | F4: =Inputs!F6 -> 30.5 | G4: =Inputs!G6 -> 73 | H4: =Inputs!H6 -> 2932 | I4: =SUM(B4:H4) -> 14754 | L4: =B4+C4+D4+E4 -> 11718.5 | P4: Jan | Q4: =O3*(1+$Q$3) -> 12640.382 | R4: =Q15*(1+$R$3) -> 12773.696
A5: 2018 | B5: =Inputs!B7 -> 10659.5 | C5: =Inputs!C7 -> 1237 | D5: =Inputs!D7 -> 110.5 | E5: =Inputs!E7 -> 6 | F5: =Inputs!F7 -> 31.5 | G5: =Inputs!G7 -> 73 | H5: =Inputs!H7 -> 2955 | I5: =SUM(B5:H5) -> 15072.5 | L5: =B5+C5+D5+E5 -> 12013 | P5: Feb | Q5: =Q4*(1+$Q$3) -> 12652.275 | R5: =R4*(1+$R$3) -> 12775.569
A6: 2019 | B6: =Inputs!B8 -> 10922.5 | C6: =Inputs!C8 -> 1237 | D6: =Inputs!D8 -> 96 | E6: =Inputs!E8 -> 6 | F6: =Inputs!F8 -> 32 | G6: =Inputs!G8 -> 73 | H6: =Inputs!H8 -> 2992 | I6: =SUM(B6:H6) -> 15358.5 | L6: =B6+C6+D6+E6 -> 12261.5 | P6: Mar | Q6: =Q5*(1+$Q$3) -> 12664.18 | R6: =R5*(1+$R$3) -> 12777.442
A7: 2020 | B7: =Inputs!B9 -> 11019.5 | C7: =Inputs!C9 -> 1252 | D7: =Inputs!D9 -> 98 | E7: =Inputs!E9 -> 6 | F7: =Inputs!F9 -> 32 | G7: =Inputs!G9 -> 73 | H7: =Inputs!H9 -> 3043 | I7: =SUM(B7:H7) -> 15523.5 | L7: =B7+C7+D7+E7 -> 12375.5 | P7: Apr | Q7: =Q6*(1+$Q$3) -> 12676.095 | R7: =R6*(1+$R$3) -> 12779.315
A8: 2021 | B8: =Inputs!B10 -> 11096 | C8: =Inputs!C10 -> 1236.25 | D8: =Inputs!D10 -> 101 | E8: =Inputs!E10 -> 6 | F8: =Inputs!F10 -> 31.5 | G8: =Inputs!G10 -> 73 | H8: =Inputs!H10 -> 3091.5 | I8: =SUM(B8:H8) -> 15635.25 | L8: =B8+C8+D8+E8 -> 12439.25 | P8: May | Q8: =Q7*(1+$Q$3) -> 12688.022 | R8: =R7*(1+$R$3) -> 12781.188
A9: 2022 | B9: =Inputs!B11 -> 11136 | C9: =Inputs!C11 -> 1199.125 | D9: =Inputs!D11 -> 98 | E9: =Inputs!E11 -> 6 | F9: =Inputs!F11 -> 31 | G9: =Inputs!G11 -> 73 | H9: =Inputs!H11 -> 3133 | I9: =SUM(B9:H9) -> 15676.125 | L9: =B9+C9+D9+E9 -> 12439.125 | P9: Jun | Q9: =Q8*(1+$Q$3) -> 12699.96 | R9: =R8*(1+$R$3) -> 12783.061
A10: 2023 | B10: =Inputs!B12 -> 11213.5 | C10: =Inputs!C12 -> 1174.375 | D10: =Inputs!D12 -> 91.5 | E10: =Inputs!E12 -> 6 | F10: =Inputs!F12 -> 30 | G10: =Inputs!G12 -> 73 | H10: =Inputs!H12 -> 3162 | I10: =SUM(B10:H10) -> 15750.375 | L10: =B10+C10+D10+E10 -> 12485.375 | P10: Jul | Q10: =Q9*(1+$Q$3) -> 12711.909 | R10: =R9*(1+$R$3) -> 12784.935
A11: 2024 | B11: =Inputs!B13 -> 11298.5 | C11: =Inputs!C13 -> 1170 | D11: =Inputs!D13 -> 90 | E11: =Inputs!E13 -> 6 | F11: =Inputs!F13 -> 29 | G11: =Inputs!G13 -> 73 | H11: =Inputs!H13 -> 3158 | I11: =SUM(B11:H11) -> 15824.5 | L11: =B11+C11+D11+E11 -> 12564.5 | P11: Aug | Q11: =Q10*(1+$Q$3) -> 12723.87 | R11: =R10*(1+$R$3) -> 12786.809
A12: 2025 | B12: =Inputs!B14 -> 11354.5 | C12: =Inputs!C14 -> 1179 | D12: =Inputs!D14 -> 89 | E12: =Inputs!E14 -> 6 | F12: =Inputs!F14 -> 29 | G12: =Inputs!G14 -> 73 | H12: =Inputs!H14 -> 3158.5 | I12: =SUM(B12:H12) -> 15889 | L12: =B12+C12+D12+E12 -> 12628.5 | P12: Sep | Q12: =Q11*(1+$Q$3) -> 12735.841 | R12: =R11*(1+$R$3) -> 12788.684
A13: 2026 | B13: =B12*B31 -> 11422.712 | C13: =C12*C31 -> 1188.0692 | D13: =D12*D31 -> 89 | E13: =E12*E31 -> 6 | F13: =F12*F31 -> 28.434631 | G13: =G12*G31 -> 73 | H13: =H12*H31 -> 3182.1208 | I13: =SUM(B13:H13) -> 15989.337 | L13: =B13+C13+D13+E13 -> 12705.782 | P13: Oct | Q13: =Q12*(1+$Q$3) -> 12747.824 | R13: =R12*(1+$R$3) -> 12790.559
A14: 2027 | B14: =B13*B31 -> 11491.334 | C14: =C13*C31 -> 1197.2082 | D14: =D13*D31 -> 89 | E14: =E13*E31 -> 6 | F14: =F13*F31 -> 27.880285 | G14: =G13*G31 -> 73 | H14: =H13*H31 -> 3205.9183 | I14: =SUM(B14:H14) -> 16090.341 | L14: =B14+C14+D14+E14 -> 12783.543 | P14: Nov | Q14: =Q13*(1+$Q$3) -> 12759.818 | R14: =R13*(1+$R$3) -> 12792.434
P15: Dec | Q15: =Q14*(1+$Q$3) -> 12771.824 | R15: =R14*(1+$R$3) -> 12794.309
A16: Growth Rate in Customer Numbers | P16: Average | Q16: =AVERAGE(Q4:Q15) -> 12706 | R16: =AVERAGE(R4:R15) -> 12784
Q17: =L13 -> 12705.782 | R17: =L14 -> 12783.543
A18: =+A4 -> 2017 | B18: =B4/B3 -> 1.0094872 | C18: =C4/C3 -> 0.95440374 | D18: =D4/D3 -> 1.1182266 | E18: =E4/E3 -> 1 | F18: =F4/F3 -> 1.0166667 | G18: =G4/G3 -> 1 | H18: =H4/H3 -> 0.98737161 | Q18: =Q16-Q17 -> 0.218436 | R18: =R16-R17 -> 0.45734434
A19: =+A5 -> 2018 | B19: =B5/B4 -> 1.0274712 | C19: =C5/C4 -> 1.0102082 | D19: =D5/D4 -> 0.97356828 | E19: =E5/E4 -> 1 | F19: =F5/F4 -> 1.0327869 | G19: =G5/G4 -> 1 | H19: =H5/H4 -> 1.0078445
A20: =+A6 -> 2019 | B20: =B6/B5 -> 1.0246728 | C20: =C6/C5 -> 1 | D20: =D6/D5 -> 0.86877828 | E20: =E6/E5 -> 1 | F20: =F6/F5 -> 1.015873 | G20: =G6/G5 -> 1 | H20: =H6/H5 -> 1.0125212
A21: =+A7 -> 2020 | B21: =B7/B6 -> 1.0088808 | C21: =C7/C6 -> 1.0121261 | D21: =D7/D6 -> 1.0208333 | E21: =E7/E6 -> 1 | F21: =F7/F6 -> 1 | G21: =G7/G6 -> 1 | H21: =H7/H6 -> 1.0170455
A22: =+A8 -> 2021 | B22: =B8/B7 -> 1.0069422 | C22: =C8/C7 -> 0.98742013 | D22: =D8/D7 -> 1.0306122 | E22: =E8/E7 -> 1 | F22: =F8/F7 -> 0.984375 | G22: =G8/G7 -> 1 | H22: =H8/H7 -> 1.0159382
A23: =+A9 -> 2022 | B23: =B9/B8 -> 1.0036049 | C23: =C9/C8 -> 0.96996967 | D23: =D9/D8 -> 0.97029703 | E23: =E9/E8 -> 1 | F23: =F9/F8 -> 0.98412698 | G23: =G9/G8 -> 1 | H23: =H9/H8 -> 1.0134239
A24: =+A10 -> 2023 | B24: =B10/B9 -> 1.0069594 | C24: =C10/C9 -> 0.97935995 | D24: =D10/D9 -> 0.93367347 | E24: =E10/E9 -> 1 | F24: =F10/F9 -> 0.96774194 | G24: =G10/G9 -> 1 | H24: =H10/H9 -> 1.0092563
A25: =+A11 -> 2024 | B25: =B11/B10 -> 1.0075801 | C25: =C11/C10 -> 0.99627461 | D25: =D11/D10 -> 0.98360656 | E25: =E11/E10 -> 1 | F25: =F11/F10 -> 0.96666667 | G25: =G11/G10 -> 1 | H25: =H11/H10 -> 0.99873498
A26: =+A12 -> 2025 | B26: =B12/B11 -> 1.0049564 | C26: =C12/C11 -> 1.0076923 | D26: =D12/D11 -> 0.98888889 | E26: =E12/E11 -> 1 | F26: =F12/F11 -> 1 | G26: =G12/G11 -> 1 | H26: =H12/H11 -> 1.0001583
A31: Used | B31: =B33 -> 1.0060075 | C31: =C33 -> 1.0076923 | D31: =D33 -> 1 | E31: =E33 -> 1 | F31: =F33 -> 0.98050453 | G31: =G33 -> 1 | H31: =H33 -> 1.0074785 | I31: Input data
A33: Geomean | B33: =IF(B12="",0,GEOMEAN(B22:B26)) -> 1.0060075 | C33: =IF(C12="",0,GEOMEAN(C26)) -> 1.0076923 | D33: 1 | E33: =IF(E12="",0,GEOMEAN(E22:E26)) -> 1 | F33: =IF(F12="",0,GEOMEAN(F22:F26)) -> 0.98050453 | G33: =IF(G12="",0,GEOMEAN(G22:G26)) -> 1 | H33: =IF(H12="",0,GEOMEAN(H22:H26)) -> 1.0074785

Sheet Rate Class Load Model
B1: ='Rate Class Customer Model'!D2 -> General Service > 50 kW | C1: ='Rate Class Customer Model'!E2 -> Embedded Distributor | D1: ='Rate Class Customer Model'!G2 -> Sentinel Lighting | E1: ='Rate Class Customer Model'!H2 -> Street Lighting | F1: Total
A2: 2016 | B2: =SUMIF(Inputs!$A$24:$A$143,'Rate Class Load Model'!$A2,Inputs!$K$24:$K$143) -> 188539.6 | C2: =SUMIF(Inputs!$A$24:$A$143,'Rate Class Load Model'!$A2,Inputs!$N$24:$N$143) -> 117955 | D2: =SUMIF(Inputs!$A$24:$A$143,'Rate Class Load Model'!$A2,Inputs!$S$24:$S$143) -> 411 | E2: =SUMIF(Inputs!$A$24:$A$143,'Rate Class Load Model'!$A2,Inputs!$V$24:$V$143) -> 4764 | F2: =SUM(B2:E2) -> 311669.6
A3: 2017 | B3: =SUMIF(Inputs!$A$24:$A$143,'Rate Class Load Model'!$A3,Inputs!$K$24:$K$143) -> 188530 | C3: =SUMIF(Inputs!$A$24:$A$143,'Rate Class Load Model'!$A3,Inputs!$N$24:$N$143) -> 143958 | D3: =SUMIF(Inputs!$A$24:$A$143,'Rate Class Load Model'!$A3,Inputs!$S$24:$S$143) -> 406 | E3: =SUMIF(Inputs!$A$24:$A$143,'Rate Class Load Model'!$A3,Inputs!$V$24:$V$143) -> 3705 | F3: =SUM(B3:E3) -> 336599
A4: 2018 | B4: =SUMIF(Inputs!$A$24:$A$143,'Rate Class Load Model'!$A4,Inputs!$K$24:$K$143) -> 173784 | C4: =SUMIF(Inputs!$A$24:$A$143,'Rate Class Load Model'!$A4,Inputs!$N$24:$N$143) -> 145229 | D4: =SUMIF(Inputs!$A$24:$A$143,'Rate Class Load Model'!$A4,Inputs!$S$24:$S$143) -> 388 | E4: =SUMIF(Inputs!$A$24:$A$143,'Rate Class Load Model'!$A4,Inputs!$V$24:$V$143) -> 3920 | F4: =SUM(B4:E4) -> 323321
A5: 2019 | B5: =SUMIF(Inputs!$A$24:$A$143,'Rate Class Load Model'!$A5,Inputs!$K$24:$K$143) -> 201036 | C5: =SUMIF(Inputs!$A$24:$A$143,'Rate Class Load Model'!$A5,Inputs!$N$24:$N$143) -> 139224 | D5: =SUMIF(Inputs!$A$24:$A$143,'Rate Class Load Model'!$A5,Inputs!$S$24:$S$143) -> 364 | E5: =SUMIF(Inputs!$A$24:$A$143,'Rate Class Load Model'!$A5,Inputs!$V$24:$V$143) -> 3756 | F5: =SUM(B5:E5) -> 344380
A6: 2020 | B6: =SUMIF(Inputs!$A$24:$A$143,'Rate Class Load Model'!$A6,Inputs!$K$24:$K$143) -> 126949 | C6: =SUMIF(Inputs!$A$24:$A$143,'Rate Class Load Model'!$A6,Inputs!$N$24:$N$143) -> 139224 | D6: =SUMIF(Inputs!$A$24:$A$143,'Rate Class Load Model'!$A6,Inputs!$S$24:$S$143) -> 385 | E6: =SUMIF(Inputs!$A$24:$A$143,'Rate Class Load Model'!$A6,Inputs!$V$24:$V$143) -> 3927 | F6: =SUM(B6:E6) -> 270485
A7: 2021 | B7: =SUMIF(Inputs!$A$24:$A$143,'Rate Class Load Model'!$A7,Inputs!$K$24:$K$143) -> 231007 | C7: =SUMIF(Inputs!$A$24:$A$143,'Rate Class Load Model'!$A7,Inputs!$N$24:$N$143) -> 115598 | D7: =SUMIF(Inputs!$A$24:$A$143,'Rate Class Load Model'!$A7,Inputs!$S$24:$S$143) -> 357 | E7: =SUMIF(Inputs!$A$24:$A$143,'Rate Class Load Model'!$A7,Inputs!$V$24:$V$143) -> 3399 | F7: =SUM(B7:E7) -> 350361
A8: 2022 | B8: =SUMIF(Inputs!$A$24:$A$143,'Rate Class Load Model'!$A8,Inputs!$K$24:$K$143) -> 151124.07 | C8: =SUMIF(Inputs!$A$24:$A$143,'Rate Class Load Model'!$A8,Inputs!$N$24:$N$143) -> 129568 | D8: =SUMIF(Inputs!$A$24:$A$143,'Rate Class Load Model'!$A8,Inputs!$S$24:$S$143) -> 360 | E8: =SUMIF(Inputs!$A$24:$A$143,'Rate Class Load Model'!$A8,Inputs!$V$24:$V$143) -> 3342 | F8: =SUM(B8:E8) -> 284394.07
A9: 2023 | B9: =SUMIF(Inputs!$A$24:$A$143,'Rate Class Load Model'!$A9,Inputs!$K$24:$K$143) -> 215106.83 | C9: =SUMIF(Inputs!$A$24:$A$143,'Rate Class Load Model'!$A9,Inputs!$N$24:$N$143) -> 127663.3 | D9: =SUMIF(Inputs!$A$24:$A$143,'Rate Class Load Model'!$A9,Inputs!$S$24:$S$143) -> 357.1 | E9: =SUMIF(Inputs!$A$24:$A$143,'Rate Class Load Model'!$A9,Inputs!$V$24:$V$143) -> 3319.34 | F9: =SUM(B9:E9) -> 346446.57
A10: 2024 | B10: =SUMIF(Inputs!$A$24:$A$143,'Rate Class Load Model'!$A10,Inputs!$K$24:$K$143) -> 203008.1 | C10: =SUMIF(Inputs!$A$24:$A$143,'Rate Class Load Model'!$A10,Inputs!$N$24:$N$143) -> 121969.7 | D10: =SUMIF(Inputs!$A$24:$A$143,'Rate Class Load Model'!$A10,Inputs!$S$24:$S$143) -> 352 | E10: =SUMIF(Inputs!$A$24:$A$143,'Rate Class Load Model'!$A10,Inputs!$V$24:$V$143) -> 3338.8 | F10: =SUM(B10:E10) -> 328668.6
A11: 2025 | B11: =SUMIF(Inputs!$A$24:$A$143,'Rate Class Load Model'!$A11,Inputs!$K$24:$K$143) -> 203060.9 | C11: =SUMIF(Inputs!$A$24:$A$143,'Rate Class Load Model'!$A11,Inputs!$N$24:$N$143) -> 116093.29 | D11: =SUMIF(Inputs!$A$24:$A$143,'Rate Class Load Model'!$A11,Inputs!$S$24:$S$143) -> 375.7 | E11: =SUMIF(Inputs!$A$24:$A$143,'Rate Class Load Model'!$A11,Inputs!$V$24:$V$143) -> 3367.1 | F11: =SUM(B11:E11) -> 322896.99
A12: 2026 | B12: =B$27*'Rate Class Energy Model'!J33 -> 204673.23 | C12: =C$27*'Rate Class Energy Model'!K33 -> 116093.29 | D12: =D$27*'Rate Class Energy Model'!M33 -> 375.7 | E12: =E$27*'Rate Class Energy Model'!N33 -> 3392.2808 | F12: =SUM(B12:E12) -> 324534.5
A13: 2027 | B13: =B$27*'Rate Class Energy Model'!J34 -> 204752.41 | C13: =C$27*'Rate Class Energy Model'!K34 -> 116093.29 | D13: =D$27*'Rate Class Energy Model'!M34 -> 375.7 | E13: =E$27*'Rate Class Energy Model'!N34 -> 3417.65 | F13: =SUM(B13:E13) -> 324639.05
A15: kW/kWh
A16: =+A2 -> 2016 | B16: =B2/'Rate Class Energy Model'!J3 -> 0.0031927747 | C16: =C2/'Rate Class Energy Model'!K3 -> 0.0020399012 | D16: =D2/'Rate Class Energy Model'!M3 -> 0.0026742143 | E16: =E2/'Rate Class Energy Model'!N3 -> 0.0030045712
A17: =+A3 -> 2017 | B17: =B3/'Rate Class Energy Model'!J4 -> 0.0039732459 | C17: =C3/'Rate Class Energy Model'!K4 -> 0.0025325363 | D17: =D3/'Rate Class Energy Model'!M4 -> 0.002657155 | E17: =E3/'Rate Class Energy Model'!N4 -> 0.0027210495
A18: =+A4 -> 2018 | B18: =B4/'Rate Class Energy Model'!J5 -> 0.0029066721 | C18: =C4/'Rate Class Energy Model'!K5 -> 0.0023545308 | D18: =D4/'Rate Class Energy Model'!M5 -> 0.0025943112 | E18: =E4/'Rate Class Energy Model'!N5 -> 0.0029051046
A19: =+A5 -> 2019 | B19: =B5/'Rate Class Energy Model'!J6 -> 0.0033712522 | C19: =C5/'Rate Class Energy Model'!K6 -> 0.0022949139 | D19: =D5/'Rate Class Energy Model'!M6 -> 0.0025162972 | E19: =E5/'Rate Class Energy Model'!N6 -> 0.0027744456
A20: =+A6 -> 2020 | B20: =B6/'Rate Class Energy Model'!J7 -> 0.0024390919 | C20: =C6/'Rate Class Energy Model'!K7 -> 0.0022949139 | D20: =D6/'Rate Class Energy Model'!M7 -> 0.0027113058 | E20: =E6/'Rate Class Energy Model'!N7 -> 0.0030592022
A21: =+A7 -> 2021 | B21: =B7/'Rate Class Energy Model'!J8 -> 0.0040853872 | C21: =C7/'Rate Class Energy Model'!K8 -> 0.0022728904 | D21: =D7/'Rate Class Energy Model'!M8 -> 0.0025923479 | E21: =E7/'Rate Class Energy Model'!N8 -> 0.0026867781
A22: =+A8 -> 2022 | B22: =B8/'Rate Class Energy Model'!J9 -> 0.002714251 | C22: =C8/'Rate Class Energy Model'!K9 -> 0.0028779698 | D22: =D8/'Rate Class Energy Model'!M9 -> 0.0025996722 | E22: =E8/'Rate Class Energy Model'!N9 -> 0.0026276766
A23: =+A9 -> 2023 | B23: =B9/'Rate Class Energy Model'!J10 -> 0.0035966051 | C23: =C9/'Rate Class Energy Model'!K10 -> 0.0026912853 | D23: =D9/'Rate Class Energy Model'!M10 -> 0.0026118798 | E23: =E9/'Rate Class Energy Model'!N10 -> 0.0027948618
A24: =+A10 -> 2024 | B24: =B10/'Rate Class Energy Model'!J11 -> 0.0034189629 | C24: =C10/'Rate Class Energy Model'!K11 -> 0.0026219784 | D24: =D10/'Rate Class Energy Model'!M11 -> 0.0025652314 | E24: =E10/'Rate Class Energy Model'!N11 -> 0.0028004136
A25: =+A11 -> 2025 | B25: =B11/'Rate Class Energy Model'!J12 -> 0.0035335115 | C25: =C11/'Rate Class Energy Model'!K12 -> 0.0027678502 | D25: =D11/'Rate Class Energy Model'!M12 -> 0.0032041884 | E25: =E11/'Rate Class Energy Model'!N12 -> 0.0028078402
A27: Used | B27: =B29 -> 0.0035335115 | C27: =C29 -> 0.0027678502 | D27: =D29 -> 0.0032041884 | E27: =E29 -> 0.0028078402
A29: Average | B29: =AVERAGE(B25) -> 0.0035335115 | C29: =AVERAGE(C25) -> 0.0027678502 | D29: =AVERAGE(D25) -> 0.0032041884 | E29: =AVERAGE(E25) -> 0.0028078402
B30: 2025 customer numbers are held constant which means the kW/kWh ratio should also be held constant at the 2025 ratio. | C30: Customer numbers are held constant which means the kW/kWh ratio should also be held constant. | D30: Customer numbers are held constant which means the kW/kWh ratio should also be held constant. | E30: Customer numbers are held constant which means the kW/kWh ratio should also be held constant.

Sheet Selected
A1: SUMMARY OUTPUT
A3: Regression Statistics
A4: Multiple R | B4: 0.95699588
A5: R Square | B5: 0.91584112
A6: Adjusted R Square | B6: 0.91214994
A7: Standard Error | B7: 858649.39
A8: Observations | B8: 120
A10: ANOVA
B11: df | C11: SS | D11: MS | E11: F | F11: Significance F
A12: Regression | B12: 5 | C12: 9.1465386e+14 | D12: 1.8293077e+14 | E12: 248.11615 | F12: 1.5803627e-59
A13: Residual | B13: 114 | C13: 8.404978e+13 | D13: 7.3727878e+11
A14: Total | B14: 119 | C14: 9.9870364e+14
B16: Coefficients | C16: Standard Error | D16: t Stat | E16: P-value | F16: Lower 95% | G16: Upper 95% | H16: Lower 95.0% | I16: Upper 95.0%
A17: Intercept | B17: -19602713 | C17: 4302721.9 | D17: -4.5558866 | E17: 1.3166225e-05 | F17: -28126372 | G17: -11079054 | H17: -28126372 | I17: -11079054
A18: Customers | B18: 1119.9984 | C18: 241.13715 | D18: 4.6446531 | E18: 9.1930752e-06 | F18: 642.30756 | G18: 1597.6892 | H18: 642.30756 | I18: 1597.6892
A19: Days in Month | B19: 771782.43 | C19: 105577.45 | D19: 7.3101064 | E19: 3.9521247e-11 | F19: 562634.3 | G19: 980930.55 | H19: 562634.3 | I19: 980930.55
A20: Spring/Fall Flag | B20: -1553654.2 | C20: 214985.64 | D20: -7.2267815 | E20: 6.0227611e-11 | F20: -1979539.1 | G20: -1127769.3 | H20: -1979539.1 | I20: -1127769.3
A21: HDD | B21: 6306.9824 | C21: 566.01727 | D21: 11.142738 | E21: 5.9237194e-20 | F21: 5185.7065 | G21: 7428.2583 | H21: 5185.7065 | I21: 7428.2583
A22: CDD | B22: 53594.778 | C22: 2848.7532 | D22: 18.813416 | E22: 9.4288621e-37 | F22: 47951.42 | G22: 59238.136 | H22: 47951.42 | I22: 59238.136

Sheet 2022 Settled LF
A1: E.L.K. Energy Weather Normal Load Forecast for 2022 Rate Application | N1: Original | O1: IRR
N2: 20220204 | O2: 20220502
B3: 2011 Actual | C3: 2012 Actual | D3: 2013 Actual | E3: 2014 Actual | F3: 2015 Actual | G3: 2016 Actual | H3: 2017 Actual | I3: 2018 Actual | J3: 2019 Actual | K3: 2020 Actual | L3: 2021 Actual | M3: 2022 Weather Normal | N3: 2022 Weather Normal | O3: 2022 Weather Normal
A4: Actual kWh Purchases | B4: 255035715 | C4: 246901827 | D4: 247681431 | E4: 250866345 | F4: 250602566 | G4: 248287156 | H4: 239884645 | I4: 256362564 | J4: 252895498 | K4: 249992361 | L4: 252792163
A5: Predicted kWh Purchases | B5: 252795145 | C5: 250592318 | D5: 249326383 | E5: 247489599 | F5: 247375710 | G5: 252384170 | H5: 243112739 | I5: 256243745 | J5: 249472196 | K5: 247952731 | L5: 253706374 | M5: 255005287 | N5: 250543051 | O5: 256788647
A6: % Difference | B6: -0.009 | C6: 0.015 | D6: 0.007 | E6: -0.013 | F6: -0.013 | G6: 0.017 | H6: 0.013 | I6: 0 | J6: -0.014 | K6: -0.008 | L6: 0.004
A8: Billed kWh | B8: 242102870 | C8: 233519429 | D8: 229905667 | E8: 239175688 | F8: 246710164 | G8: 238443209 | H8: 230348443 | I8: 246426600 | J8: 242876721 | K8: 229297247 | L8: 242792191 | M8: 244797242 | N8: 240081043 | O8: 244304678
A10: By Class
A11: Residential
A12: Customers | B12: 9934 | C12: 10011 | D12: 10085 | E12: 10157 | F12: 10220 | G12: 10280 | H12: 10380 | I12: 10510 | J12: 10635 | K12: 10783 | L12: 10917 | M12: 11107 | N12: 10981 | O12: 11022
A13: kWh | B13: 91775630 | C13: 90281488 | D13: 88791227 | E13: 89130958 | F13: 90749018 | G13: 90966168 | H13: 86529650 | I13: 94517190 | J13: 92484568 | K13: 98305958 | L13: 106359838 | M13: 104794356 | N13: 93507179 | O13: 104175818
A15: GS<50
A16: Customers | B16: 1195 | C16: 1205 | D16: 1207 | E16: 1215 | F16: 1221 | G16: 1228 | H16: 1237 | I16: 1238 | J16: 1237 | K16: 1246 | L16: 1202 | M16: 1201 | N16: 1257 | O16: 1201
A17: kWh | B17: 30635475 | C17: 29408826 | D17: 28921439 | E17: 29746584 | F17: 28622003 | G17: 28273982 | H17: 27228067 | I17: 28692745 | J17: 28348056 | K17: 26410288 | L17: 27377213 | M17: 27600721 | N17: 27656663 | O17: 27649402
A19: GS>50
A20: Customers | B20: 95 | C20: 89 | D20: 89 | E20: 90 | F20: 93 | G20: 94 | H20: 95 | I20: 95 | J20: 95 | K20: 97 | L20: 101 | M20: 102 | N20: 98 | O20: 102
A21: kWh | B21: 64324224 | C21: 60934472 | D21: 59427522 | E21: 57346380 | F21: 62304427 | G21: 59051959 | H21: 57977444 | I21: 59787962 | J21: 59632442 | K21: 52047649 | L21: 56544701 | M21: 59877627 | N21: 59482525 | O21: 59954921
A22: kW | B22: 195461 | C22: 186874 | D22: 181893 | E22: 186326 | F22: 195328 | G22: 199545 | H22: 194896 | I22: 240290 | J22: 270945 | K22: 198260 | L22: 231007 | M22: 220809 | N22: 199000 | O22: 221094
A24: Streetlights
A25: Customers | B25: 2790 | C25: 2799 | D25: 2808 | E25: 2817 | F25: 2826 | G25: 2885 | H25: 2932 | I25: 2957 | J25: 2993 | K25: 3046 | L25: 3092 | M25: 3127 | N25: 3106 | O25: 3127
A26: kWh | B26: 2245234 | C26: 2346377 | D26: 2512898 | E26: 2302093 | F26: 2368289 | G26: 1585584 | H26: 1361607 | I26: 1349349 | J26: 1353784 | K26: 1283668 | L26: 1265084 | M26: 1279183 | N26: 1308977 | O26: 1279183
A27: kW | B27: 5760 | C27: 6354 | D27: 6799 | E27: 6450 | F27: 6398 | G27: 4764 | H27: 3706 | I27: 3920 | J27: 3756 | K27: 3928 | L27: 3399 | M27: 3620 | N27: 3787 | O27: 3620
A29: Unmetered Scattered Load
A30: Connections | B30: 32 | C30: 31 | D30: 31 | E30: 31 | F30: 31 | G30: 30 | H30: 31 | I30: 32 | J30: 32 | K30: 32 | L30: 31 | M30: 31 | N30: 32 | O30: 31
A31: kWh | B31: 201696 | C31: 262229 | D31: 260597 | E31: 259677 | F31: 259607 | G31: 257059 | H31: 255469 | I31: 249143 | J31: 246885 | K31: 248217 | L31: 248173 | M31: 248173 | N31: 248217 | O31: 248173
A33: Sentinel Lights
A34: Connections | B34: 7 | C34: 7 | D34: 7 | E34: 7 | F34: 7 | G34: 11 | H34: 16 | I34: 17 | J34: 17 | K34: 17 | L34: 17 | M34: 17 | N34: 17 | O34: 17
A35: kWh | B35: 180196 | C35: 174345 | D35: 180742 | E35: 178799 | F35: 162569 | G35: 153690 | H35: 152795 | I35: 149558 | J35: 144657 | K35: 141998 | L35: 137713 | M35: 137713 | N35: 141998 | O35: 137713
A36: kW | B36: 12 | C36: 293 | D36: 465 | E36: 471 | F36: 437 | G36: 411 | H36: 405 | I36: 387 | J36: 365 | K36: 385 | L36: 357 | M36: 360 | N36: 373 | O36: 360
A38: Embedded Distributor
A39: Connections | B39: 4 | C39: 4 | D39: 4 | E39: 5 | F39: 5 | G39: 6 | H39: 6 | I39: 6 | J39: 6 | K39: 6 | L39: 6 | M39: 6 | N39: 6 | O39: 6
A40: kWh | B40: 52740415 | C40: 50111691 | D40: 49811242 | E40: 60211197 | F40: 62244251 | G40: 58154767 | H40: 56843411 | I40: 61680653 | J40: 60666329 | K40: 50859469 | L40: 50859469 | M40: 50859469 | N40: 57735484 | O40: 50859469
A41: kW | B41: 113911 | C41: 111194 | D41: 110635 | E41: 134313 | F41: 135969 | G41: 132942 | H41: 130522 | I41: 145229 | J41: 139224 | K41: 142149 | L41: 115598 | M41: 122199 | N41: 138872 | O41: 122199
A43: Total of Above
A44: Customer/Connections | B44: 14057 | C44: 14147 | D44: 14231 | E44: 14321 | F44: 14402 | G44: 14535 | H44: 14697 | I44: 14855 | J44: 15016 | K44: 15227 | L44: 15365 | M44: 15591 | N44: 15497 | O44: 15506
A45: kWh | B45: 242102870 | C45: 233519429 | D45: 229905667 | E45: 239175688 | F45: 246710164 | G45: 238443209 | H45: 230348443 | I45: 246426600 | J45: 242876721 | K45: 229297247 | L45: 242792191 | M45: 244797242 | N45: 240081043 | O45: 244304678
A46: kW from applicable classes | B46: 315143 | C46: 304715 | D46: 299791 | E46: 327560 | F46: 338132 | G46: 337662 | H46: 329528 | I46: 389826 | J46: 414290 | K46: 344722 | L46: 350361 | M46: 346988 | N46: 342032 | O46: 347273
A48: Total from Model
A49: Customer/Connections | B49: 14057 | C49: 14147 | D49: 14231 | E49: 14321 | F49: 14402 | G49: 14535 | H49: 14697 | I49: 14855 | J49: 15016 | K49: 15227 | L49: 15365 | M49: 15591 | N49: 15497 | O49: 15506
A50: kWh | B50: 242102870 | C50: 233519429 | D50: 229905667 | E50: 239175688 | F50: 246710164 | G50: 238443209 | H50: 230348443 | I50: 246426600 | J50: 242876721 | K50: 229297247 | L50: 242792191 | M50: 244797242 | N50: 240081043 | O50: 244304678
A51: kW from applicable classes | B51: 315143 | C51: 304715 | D51: 299791 | E51: 327560 | F51: 338132 | G51: 337662 | H51: 329528 | I51: 389826 | J51: 414290 | K51: 344722 | L51: 350361 | M51: 346988 | N51: 342032 | O51: 347273
A53: Check should all be zero
A54: Customer/Connections | B54: 0 | C54: 0 | D54: 0 | E54: 0 | F54: 0 | G54: 0 | H54: 0 | I54: 0 | J54: 0 | K54: 0 | L54: 0 | M54: 0 | N54: 0 | O54: 0
A55: kWh | B55: 0 | C55: 0 | D55: 0 | E55: 0 | F55: 0 | G55: 0 | H55: 0 | I55: 0 | J55: 0 | K55: 0 | L55: 0 | M55: 0 | N55: 0 | O55: 0
A56: kW from applicable classes | B56: 0 | C56: 0 | D56: 0 | E56: 0 | F56: 0 | G56: 0 | H56: 0 | I56: 0 | J56: 0 | K56: 0 | L56: 0 | M56: 0 | N56: 0 | O56: 0
B58: 11271 | C58: 11352 | D58: 11428 | E58: 11508 | F58: 11579 | G58: 11652 | H58: 11767 | I58: 11900 | J58: 12025 | K58: 12182 | L58: 12275 | M58: 12466 | N58: 12393 | O58: 12381

Sheet LF Comparison
A1: E.L.K. Energy 2022 vs 2026 Load Forecast Comparison | N1: Original | O1: IRR
N2: 20220204 | O2: 20220502
A3: 2022 | B3: 2011 Actual | C3: 2012 Actual | D3: 2013 Actual | E3: 2014 Actual | F3: 2015 Actual | G3: 2016 Actual | H3: 2017 Actual | I3: 2018 Actual | J3: 2019 Actual | K3: 2020 Actual | L3: 2021 Actual | M3: 2022 Weather Normal | N3: 2022 Weather Normal | O3: 2022 Weather Normal
A4: Actual kWh Purchases | B4: 255035715 | C4: 246901827 | D4: 247681431 | E4: 250866345 | F4: 250602566 | G4: 248287156 | H4: 239884645 | I4: 256362564 | J4: 252895498 | K4: 249992361 | L4: 252792163
A5: Predicted kWh Purchases | B5: 252795145 | C5: 250592318 | D5: 249326383 | E5: 247489599 | F5: 247375710 | G5: 252384170 | H5: 243112739 | I5: 256243745 | J5: 249472196 | K5: 247952731 | L5: 253706374 | M5: 255005287 | N5: 250543051 | O5: 256788647
A6: % Difference (Predicted vs Actual) | B6: =(B5-B4)/B5 -> -0.0088631845 | C6: =(C5-C4)/C5 -> 0.014727072 | D6: =(D5-D4)/D5 -> 0.006597585 | E6: =(E5-E4)/E5 -> -0.013643992 | F6: =(F5-F4)/F5 -> -0.013044353 | G6: =(G5-G4)/G5 -> 0.016233245 | H6: =(H5-H4)/H5 -> 0.013278177 | I6: =(I5-I4)/I5 -> -0.00046369522 | ... L6: =(L5-L4)/L5 -> 0.0036034215
A7: YOY Comparison | C7: =(C5-B5)/B5 -> -0.0087138817 | D7: =(D5-C5)/C5 -> -0.005051771 | E7: =(E5-D5)/D5 -> -0.0073669861 | F7: =(F5-E5)/E5 -> -0.00046017691 | G7: =(G5-F5)/F5 -> 0.020246369 | H7: =(H5-G5)/G5 -> -0.03673539 | I7: =(I5-H5)/H5 -> 0.054012003 | J7: =(J5-I5)/I5 -> -0.026426202 | ... L7: =(L5-K5)/K5 -> 0.023204596 | M7: =(L5-M5)/L5 -> -0.0051197492
A9: Billed kWh | B9: 242102870 | C9: 233519429 | D9: 229905667 | E9: 239175688 | F9: 246710164 | G9: 238443209 | H9: 230348443 | I9: 246426600 | J9: 242876721 | K9: 229297247 | L9: 242792191 | M9: 244797242 | N9: 240081043 | O9: 244304678
A10: YOY Comparison | C10: =(C9-B9)/B9 -> -0.035453694 | D10: =(D9-C9)/C9 -> -0.015475209 | E10: =(E9-D9)/D9 -> 0.040320977 | F10: =(F9-E9)/E9 -> 0.031501847 | G10: =(G9-F9)/F9 -> -0.033508773 | H10: =(H9-G9)/G9 -> -0.033948402 | I10: =(I9-H9)/H9 -> 0.069799287 | J10: =(J9-I9)/I9 -> -0.014405421 | ... M10: =(M9-L9)/L9 -> 0.008258301
A12: 2026 | B12: {='Load Forecast Summary'!B3:K3} -> 2016 Actual | C12: 2017 Actual | D12: 2018 Actual | E12: 2019 Actual | F12: 2020 Actual | G12: 2021 Actual | H12: 2022 Actual | I12: 2023 Actual | J12: 2024 Actual | K12: 2025 Actual | L12: {='Load Forecast Summary'!L2:M2} -> 2026 Bridge | M12: 2027 Test
A13: =A4 -> Actual kWh Purchases | B13: {='Load Forecast Summary'!B4:M6} -> 2.5127777e+08 | C13: 2.3450093e+08 | D13: 2.4516386e+08 | E13: 2.5286852e+08 | F13: 2.5399647e+08 | G13: 2.498775e+08 | H13: 2.4537848e+08 | I13: 2.4073625e+08 | J13: 2.5542823e+08 | K13: 2.5603297e+08 | L13: 0 | M13: 0
A14: =A5 -> Predicted kWh Purchases | B14: 2.4620614e+08 | C14: 2.3741519e+08 | D14: 2.4889875e+08 | E14: 2.4885455e+08 | F14: 2.5208957e+08 | G14: 2.5313693e+08 | H14: 2.5293334e+08 | I14: 2.4241496e+08 | J14: 2.4903441e+08 | K14: 2.5427714e+08 | L14: 2.5429854e+08 | M14: 2.5534686e+08
A15: =A6 -> % Difference (Predicted vs Actual) | B15: -0.020183371 | C15: 0.0124275 | D15: 0.015234244 | E15: -0.015873729 | F15: -0.0075075639 | G15: 0.013044116 | H15: 0.030788608 | I15: 0.0069732245 | J15: -0.025031786 | K15: -0.0068578223 | L15: 0 | M15: 0
A16: =A7 -> YOY Comparison | C16: =(C14-B14)/B14 -> -0.035705636 | D16: =(D14-C14)/C14 -> 0.048369088 | E16: =(E14-D14)/D14 -> -0.00017758753 | F16: =(F14-E14)/E14 -> 0.012999654 | G16: =(G14-F14)/F14 -> 0.0041546981 | H16: =(H14-G14)/G14 -> -0.00080427638 | I16: =(I14-H14)/H14 -> -0.041585582 | J16: =(J14-I14)/I14 -> 0.027306283 | ... M16: =(M14-L14)/L14 -> 0.004122394
A18: =A9 -> Billed kWh | B18: {='Load Forecast Summary'!B10:M10} -> 238667221 | C18: 219820870 | D18: 246426601 | E18: 242876722 | F18: 239102776 | G18: 242792191 | H18: 2.3786065e+08 | I18: 2.3410454e+08 | J18: 2.3960581e+08 | K18: 2.3758816e+08 | L18: 2.4042596e+08 | M18: 2.4141709e+08
A19: =A10 -> YOY Comparison | C19: =(C18-B18)/B18 -> -0.078964974 | D19: =(D18-C18)/C18 -> 0.12103369 | E19: =(E18-D18)/D18 -> -0.014405421 | F19: =(F18-E18)/E18 -> -0.015538525 | G19: =(G18-F18)/F18 -> 0.015430247 | H19: =(H18-G18)/G18 -> -0.020311759 | I19: =(I18-H18)/H18 -> -0.015791242 | J19: =(J18-I18)/I18 -> 0.023499204 | ... M19: =(M18-L18)/L18 -> 0.004122394
A23: By Class
A25: Residential
A26: 2022 | B26: 2011 Actual | C26: 2012 Actual | D26: 2013 Actual | E26: 2014 Actual | F26: 2015 Actual | G26: 2016 Actual | H26: 2017 Actual | I26: 2018 Actual | J26: 2019 Actual | K26: 2020 Actual | L26: 2021 Actual | M26: 2022 Weather Normal | N26: 2022 Weather Normal | O26: 2022 Weather Normal
A27: Customers | B27: 9934 | C27: 10011 | D27: 10085 | E27: 10157 | F27: 10220 | G27: 10280 | H27: 10380 | I27: 10510 | J27: 10635 | K27: 10783 | L27: 10917 | M27: 11107 | N27: 10981 | O27: 11022
A28: YOY Comparison | C28: =(C27-B27)/B27 -> 0.0077511576 | D28: =(D27-C27)/C27 -> 0.0073918689 | E28: =(E27-D27)/D27 -> 0.0071393158 | F28: =(F27-E27)/E27 -> 0.0062026189 | G28: =(G27-F27)/F27 -> 0.0058708415 | H28: =(H27-G27)/G27 -> 0.0097276265 | I28: =(I27-H27)/H27 -> 0.012524085 | J28: =(J27-I27)/I27 -> 0.011893435 | ... M28: =(M27-L27)/L27 -> 0.017404049
A29: kWh | B29: 91775630 | C29: 90281488 | D29: 88791227 | E29: 89130958 | F29: 90749018 | G29: 90966168 | H29: 86529650 | I29: 94517190 | J29: 92484568 | K29: 98305958 | L29: 106359838 | M29: 104794356 | N29: 93507179 | O29: 104175818
A30: YOY Comparison | C30: =(C29-B29)/B29 -> -0.016280379 | D30: =(D29-C29)/C29 -> -0.016506828 | E30: =(E29-D29)/D29 -> 0.0038261776 | F30: =(F29-E29)/E29 -> 0.018153737 | G30: =(G29-F29)/F29 -> 0.0023928634 | H30: =(H29-G29)/G29 -> -0.048771077 | I30: =(I29-H29)/H29 -> 0.092309861 | J30: =(J29-I29)/I29 -> -0.021505316 | ... M30: =(M29-L29)/L29 -> -0.014718732
A31: 2026 | B31: {=B12:M12} -> 2016 Actual | C31: 2017 Actual | D31: 2018 Actual | E31: 2019 Actual | F31: 2020 Actual | G31: 2021 Actual | H31: 2022 Actual | I31: 2023 Actual | J31: 2024 Actual | K31: 2025 Actual | L31: 2026 Bridge | M31: 2027 Test
A32: {=A27:A30} -> Customers | B32: {='Load Forecast Summary'!B14:M14} -> 10277 | C32: 10374.5 | D32: 10659.5 | E32: 10922.5 | F32: 11019.5 | G32: 11096 | H32: 11136 | I32: 11213.5 | J32: 11298.5 | K32: 11354.5 | L32: 11422.712 | M32: 11491.334
A33: YOY Comparison | C33: =(C32-B32)/B32 -> 0.0094872044 | D33: =(D32-C32)/C32 -> 0.027471203 | E33: =(E32-D32)/D32 -> 0.024672827 | F33: =(F32-E32)/E32 -> 0.0088807507 | G33: =(G32-F32)/F32 -> 0.0069422388 | H33: =(H32-G32)/G32 -> 0.0036049027 | I33: =(I32-H32)/H32 -> 0.0069594109 | J33: =(J32-I32)/I32 -> 0.0075801489 | ... M33: =(M32-L32)/L32 -> 0.0060075153
A34: kWh | B34: {='Load Forecast Summary'!B15:M15} -> 91479319 | C34: 86529651 | D34: 94517191 | E34: 92484569 | F34: 98305959 | G34: 106359838 | H34: 105839455 | I34: 96458582 | J34: 1.0136398e+08 | K34: 1.0466154e+08 | L34: 1.0644081e+08 | M34: 1.071371e+08
A35: YOY Comparison | C35: =(C34-B34)/B34 -> -0.054106962 | D35: =(D34-C34)/C34 -> 0.09230986 | E35: =(E34-D34)/D34 -> -0.021505315 | F35: =(F34-E34)/E34 -> 0.062944446 | G35: =(G34-F34)/F34 -> 0.081926661 | H35: =(H34-G34)/G34 -> -0.0048926645 | I35: =(I34-H34)/H34 -> -0.088633043 | J35: =(J34-I34)/I34 -> 0.050854955 | ... M35: =(M34-L34)/L34 -> 0.0065415061
A38: GS<50
A39: 2022 | B39: 2011 Actual | C39: 2012 Actual | D39: 2013 Actual | E39: 2014 Actual | F39: 2015 Actual | G39: 2016 Actual | H39: 2017 Actual | I39: 2018 Actual | J39: 2019 Actual | K39: 2020 Actual | L39: 2021 Actual | M39: 2022 Weather Normal | N39: 2022 Weather Normal | O39: 2022 Weather Normal
A40: Customers | B40: 1195 | C40: 1205 | D40: 1207 | E40: 1215 | F40: 1221 | G40: 1228 | H40: 1237 | I40: 1238 | J40: 1237 | K40: 1246 | L40: 1202 | M40: 1201 | N40: 1257 | O40: 1201
A41: YOY Comparison | C41: =(C40-B40)/B40 -> 0.0083682008 | D41: =(D40-C40)/C40 -> 0.001659751 | E41: =(E40-D40)/D40 -> 0.0066280033 | F41: =(F40-E40)/E40 -> 0.0049382716 | G41: =(G40-F40)/F40 -> 0.0057330057 | H41: =(H40-G40)/G40 -> 0.0073289902 | I41: =(I40-H40)/H40 -> 0.00080840744 | J41: =(J40-I40)/I40 -> -0.00080775444 | ... M41: =(M40-L40)/L40 -> -0.00083194676
A42: kWh | B42: 30635475 | C42: 29408826 | D42: 28921439 | E42: 29746584 | F42: 28622003 | G42: 28273982 | H42: 27228067 | I42: 28692745 | J42: 28348056 | K42: 26410288 | L42: 27377213 | M42: 27600721 | N42: 27656663 | O42: 27649402
A43: YOY Comparison | C43: =(C42-B42)/B42 -> -0.04004015 | D43: =(D42-C42)/C42 -> -0.016572814 | E43: =(E42-D42)/D42 -> 0.028530565 | F43: =(F42-E42)/E42 -> -0.037805383 | G43: =(G42-F42)/F42 -> -0.012159212 | H43: =(H42-G42)/G42 -> -0.036992136 | I43: =(I42-H42)/H42 -> 0.053792948 | J43: =(J42-I42)/I42 -> -0.012013106 | ... M43: =(M42-L42)/L42 -> 0.0081640158
A44: 2026 | B44: {=_xlfn.ANCHORARRAY(B31)} -> 2016 Actual | C44: 2017 Actual | D44: 2018 Actual | E44: 2019 Actual | F44: 2020 Actual | G44: 2021 Actual | H44: 2022 Actual | I44: 2023 Actual | J44: 2024 Actual | K44: 2025 Actual | L44: 2026 Bridge | M44: 2027 Test
A45: {=A40:A43} -> Customers | B45: {='Load Forecast Summary'!B18:M18} -> 1283 | C45: 1224.5 | D45: 1237 | E45: 1237 | F45: 1252 | G45: 1236.25 | H45: 1199.125 | I45: 1174.375 | J45: 1170 | K45: 1179 | L45: 1188.0692 | M45: 1197.2082
A46: YOY Comparison | C46: =(C45-B45)/B45 -> -0.045596259 | D46: =(D45-C45)/C45 -> 0.010208248 | E46: =(E45-D45)/D45 -> 0 | F46: =(F45-E45)/E45 -> 0.012126112 | G46: =(G45-F45)/F45 -> -0.012579872 | H46: =(H45-G45)/G45 -> -0.030030334 | I46: =(I45-H45)/H45 -> -0.02064005 | J46: =(J45-I45)/I45 -> -0.0037253858 | ... M46: =(M45-L45)/L45 -> 0.0076923077
A47: kWh | B47: {='Load Forecast Summary'!B19:M19} -> 28315731 | C47: 27228067 | D47: 28692745 | E47: 28348056 | F47: 26410288 | G47: 27377213 | H47: 29663800 | I47: 28828610 | J47: 30766203 | K47: 31964519 | L47: 32562365 | M47: 32830262
A48: YOY Comparison | C48: =(C47-B47)/B47 -> -0.038412005 | D48: =(D47-C47)/C47 -> 0.053792948 | E48: =(E47-D47)/D47 -> -0.012013106 | F48: =(F47-E47)/E47 -> -0.068356292 | G48: =(G47-F47)/F47 -> 0.03661168 | H48: =(H47-G47)/G47 -> 0.08352154 | I48: =(I47-H47)/H47 -> -0.028155182 | J48: =(J47-I47)/I47 -> 0.067210759 | ... M48: =(M47-L47)/L47 -> 0.0082271929
A51: GS>50
A52: 2022 | B52: 2011 Actual | C52: 2012 Actual | D52: 2013 Actual | E52: 2014 Actual | F52: 2015 Actual | G52: 2016 Actual | H52: 2017 Actual | I52: 2018 Actual | J52: 2019 Actual | K52: 2020 Actual | L52: 2021 Actual | M52: 2022 Weather Normal | N52: 2022 Weather Normal | O52: 2022 Weather Normal
A53: Customers | B53: 95 | C53: 89 | D53: 89 | E53: 90 | F53: 93 | G53: 94 | H53: 95 | I53: 95 | J53: 95 | K53: 97 | L53: 101 | M53: 102 | N53: 98 | O53: 102
A54: YOY Comparison | C54: =(C53-B53)/B53 -> -0.063157895 | D54: =(D53-C53)/C53 -> 0 | E54: =(E53-D53)/D53 -> 0.011235955 | F54: =(F53-E53)/E53 -> 0.033333333 | G54: =(G53-F53)/F53 -> 0.010752688 | H54: =(H53-G53)/G53 -> 0.010638298 | I54: =(I53-H53)/H53 -> 0 | J54: =(J53-I53)/I53 -> 0 | ... M54: =(M53-L53)/L53 -> 0.0099009901
A55: kWh | B55: 64324224 | C55: 60934472 | D55: 59427522 | E55: 57346380 | F55: 62304427 | G55: 59051959 | H55: 57977444 | I55: 59787962 | J55: 59632442 | K55: 52047649 | L55: 56544701 | M55: 59877627 | N55: 59482525 | O55: 59954921
A56: YOY Comparison | C56: =(C55-B55)/B55 -> -0.052697907 | D56: =(D55-C55)/C55 -> -0.024730665 | E56: =(E55-D55)/D55 -> -0.035019835 | F56: =(F55-E55)/E55 -> 0.08645789 | G56: =(G55-F55)/F55 -> -0.052202839 | H56: =(H55-G55)/G55 -> -0.018196094 | I56: =(I55-H55)/H55 -> 0.031227972 | J56: =(J55-I55)/I55 -> -0.0026011925 | ... M56: =(M55-L55)/L55 -> 0.058943207
A57: kW | B57: 195461 | C57: 186874 | D57: 181893 | E57: 186326 | F57: 195328 | G57: 199545 | H57: 194896 | I57: 240290 | J57: 270945 | K57: 198260 | L57: 231007 | M57: 220809 | N57: 199000 | O57: 221094
A58: YOY Comparison | C58: =(C57-B57)/B57 -> -0.043932038 | D58: =(D57-C57)/C57 -> -0.026654323 | E58: =(E57-D57)/D57 -> 0.024371471 | F58: =(F57-E57)/E57 -> 0.048313172 | G58: =(G57-F57)/F57 -> 0.021589327 | H58: =(H57-G57)/G57 -> -0.023298003 | I58: =(I57-H57)/H57 -> 0.23291396 | J58: =(J57-I57)/I57 -> 0.12757501 | ... M58: =(M57-L57)/L57 -> -0.044145848
A59: 2026 | B59: {=_xlfn.ANCHORARRAY(B44)} -> 2016 Actual | C59: 2017 Actual | D59: 2018 Actual | E59: 2019 Actual | F59: 2020 Actual | G59: 2021 Actual | H59: 2022 Actual | I59: 2023 Actual | J59: 2024 Actual | K59: 2025 Actual | L59: 2026 Bridge | M59: 2027 Test
A60: {=A53:A58} -> Customers | B60: {='Load Forecast Summary'!B22:M22} -> 101.5 | C60: 113.5 | D60: 110.5 | E60: 96 | F60: 98 | G60: 101 | H60: 98 | I60: 91.5 | J60: 90 | K60: 89 | L60: 89 | M60: 89
A61: YOY Comparison | C61: =(C60-B60)/B60 -> 0.1182266 | D61: =(D60-C60)/C60 -> -0.026431718 | E61: =(E60-D60)/D60 -> -0.13122172 | F61: =(F60-E60)/E60 -> 0.020833333 | G61: =(G60-F60)/F60 -> 0.030612245 | H61: =(H60-G60)/G60 -> -0.02970297 | I61: =(I60-H60)/H60 -> -0.066326531 | J61: =(J60-I60)/I60 -> -0.016393443 | ... M61: =(M60-L60)/L60 -> 0
A62: kWh | B62: {='Load Forecast Summary'!B23:M23} -> 59051959 | C62: 47449870 | D62: 59787962 | E62: 59632442 | F62: 52047649 | G62: 56544701 | H62: 55678002 | I62: 59808298 | J62: 59377099 | K62: 57467168 | L62: 57923466 | M62: 57945873
A63: YOY Comparison | C63: =(C62-B62)/B62 -> -0.19647255 | D63: =(D62-C62)/C62 -> 0.26002373 | E63: =(E62-D62)/D62 -> -0.0026011925 | F63: =(F62-E62)/E62 -> -0.12719239 | G63: =(G62-F62)/F62 -> 0.086402596 | H63: =(H62-G62)/G62 -> -0.015327686 | I63: =(I62-H62)/H62 -> 0.074181835 | J63: =(J62-I62)/I62 -> -0.0072096885 | ... M63: =(M62-L62)/L62 -> 0.00038685006
A64: kW | B64: {='Load Forecast Summary'!B24:M24} -> 188539.6 | C64: 188530 | D64: 173784 | E64: 201036 | F64: 126949 | G64: 231007 | H64: 151124.07 | I64: 215106.83 | J64: 203008.1 | K64: 203060.9 | L64: 204673.23 | M64: 204752.41
A65: YOY Comparison | C65: =(C64-B64)/B64 -> -5.0917685e-05 | D65: =(D64-C64)/C64 -> -0.078215669 | E65: =(E64-D64)/D64 -> 0.15681536 | F65: =(F64-E64)/E64 -> -0.36852604 | G65: =(G64-F64)/F64 -> 0.81968349 | H65: =(H64-G64)/G64 -> -0.34580307 | I65: =(I64-H64)/H64 -> 0.42337902 | J65: =(J64-I64)/I64 -> -0.056245215 | ... M65: =(M64-L64)/L64 -> 0.00038685006
A68: ='Load Forecast Summary'!A40 -> Street Lighting
A69: 2022 | B69: 2011 Actual | C69: 2012 Actual | D69: 2013 Actual | E69: 2014 Actual | F69: 2015 Actual | G69: 2016 Actual | H69: 2017 Actual | I69: 2018 Actual | J69: 2019 Actual | K69: 2020 Actual | L69: 2021 Actual | M69: 2022 Weather Normal | N69: 2022 Weather Normal | O69: 2022 Weather Normal
A70: Customers | B70: 2790 | C70: 2799 | D70: 2808 | E70: 2817 | F70: 2826 | G70: 2885 | H70: 2932 | I70: 2957 | J70: 2993 | K70: 3046 | L70: 3092 | M70: 3127 | N70: 3106 | O70: 3127
A71: YOY Comparison | C71: =(C70-B70)/B70 -> 0.0032258065 | D71: =(D70-C70)/C70 -> 0.0032154341 | E71: =(E70-D70)/D70 -> 0.0032051282 | F71: =(F70-E70)/E70 -> 0.0031948882 | G71: =(G70-F70)/F70 -> 0.020877565 | H71: =(H70-G70)/G70 -> 0.016291161 | I71: =(I70-H70)/H70 -> 0.008526603 | J71: =(J70-I70)/I70 -> 0.012174501 | ... M71: =(M70-L70)/L70 -> 0.011319534
A72: kWh | B72: 2245234 | C72: 2346377 | D72: 2512898 | E72: 2302093 | F72: 2368289 | G72: 1585584 | H72: 1361607 | I72: 1349349 | J72: 1353784 | K72: 1283668 | L72: 1265084 | M72: 1279183 | N72: 1308977 | O72: 1279183
A73: YOY Comparison | C73: =(C72-B72)/B72 -> 0.045047866 | D73: =(D72-C72)/C72 -> 0.070969414 | E73: =(E72-D72)/D72 -> -0.083889199 | F73: =(F72-E72)/E72 -> 0.028754703 | G73: =(G72-F72)/F72 -> -0.33049387 | H73: =(H72-G72)/G72 -> -0.14125836 | I73: =(I72-H72)/H72 -> -0.0090025977 | J73: =(J72-I72)/I72 -> 0.0032867701 | ... M73: =(M72-L72)/L72 -> 0.011144715
A74: kW | B74: 5760 | C74: 6354 | D74: 6799 | E74: 6450 | F74: 6398 | G74: 4764 | H74: 3706 | I74: 3920 | J74: 3756 | K74: 3928 | L74: 3399 | M74: 3620 | N74: 3787 | O74: 3620
A75: YOY Comparison | C75: =(C74-B74)/B74 -> 0.103125 | D75: =(D74-C74)/C74 -> 0.070034624 | E75: =(E74-D74)/D74 -> -0.051331078 | F75: =(F74-E74)/E74 -> -0.0080620155 | G75: =(G74-F74)/F74 -> -0.25539231 | H75: =(H74-G74)/G74 -> -0.22208228 | I75: =(I74-H74)/H74 -> 0.057744199 | J75: =(J74-I74)/I74 -> -0.041836735 | ... M75: =(M74-L74)/L74 -> 0.065019123
A76: 2026 | B76: {=_xlfn.ANCHORARRAY(B59)} -> 2016 Actual | C76: 2017 Actual | D76: 2018 Actual | E76: 2019 Actual | F76: 2020 Actual | G76: 2021 Actual | H76: 2022 Actual | I76: 2023 Actual | J76: 2024 Actual | K76: 2025 Actual | L76: 2026 Bridge | M76: 2027 Test
A77: {=A70:A75} -> Customers | B77: {='Load Forecast Summary'!B41:M41} -> 2969.5 | C77: 2932 | D77: 2955 | E77: 2992 | F77: 3043 | G77: 3091.5 | H77: 3133 | I77: 3162 | J77: 3158 | K77: 3158.5 | L77: 3182.1208 | M77: 3205.9183
A78: YOY Comparison | C78: =(C77-B77)/B77 -> -0.012628389 | D78: =(D77-C77)/C77 -> 0.0078444748 | E78: =(E77-D77)/D77 -> 0.012521151 | F78: =(F77-E77)/E77 -> 0.017045455 | G78: =(G77-F77)/F77 -> 0.015938219 | H78: =(H77-G77)/G77 -> 0.013423904 | I78: =(I77-H77)/H77 -> 0.0092563039 | J78: =(J77-I77)/I77 -> -0.0012650221 | ... M78: =(M77-L77)/L77 -> 0.0074784974
A79: kWh | B79: {='Load Forecast Summary'!B42:M42} -> 1585584 | C79: 1361607 | D79: 1349349 | E79: 1353784 | F79: 1283668 | G79: 1265084 | H79: 1271846 | I79: 1187658 | J79: 1192252.5 | K79: 1199177.9 | L79: 1208146 | M79: 1217181.1
A80: YOY Comparison | C80: =(C79-B79)/B79 -> -0.14125836 | D80: =(D79-C79)/C79 -> -0.0090025977 | E80: =(E79-D79)/D79 -> 0.0032867701 | F80: =(F79-E79)/E79 -> -0.051792605 | G80: =(G79-F79)/F79 -> -0.014477264 | H80: =(H79-G79)/G79 -> 0.0053450996 | I80: =(I79-H79)/H79 -> -0.066193533 | J80: =(J79-I79)/I79 -> 0.0038684957 | ... M80: =(M79-L79)/L79 -> 0.0074784974
A81: kW | B81: {='Load Forecast Summary'!B43:M43} -> 4764 | C81: 3705 | D81: 3920 | E81: 3756 | F81: 3927 | G81: 3399 | H81: 3342 | I81: 3319.34 | J81: 3338.8 | K81: 3367.1 | L81: 3392.2808 | M81: 3417.65
A82: YOY Comparison | C82: =(C81-B81)/B81 -> -0.22229219 | D82: =(D81-C81)/C81 -> 0.05802969 | E82: =(E81-D81)/D81 -> -0.041836735 | F82: =(F81-E81)/E81 -> 0.045527157 | G82: =(G81-F81)/F81 -> -0.13445378 | H82: =(H81-G81)/G81 -> -0.016769638 | I82: =(I81-H81)/H81 -> -0.006780371 | J82: =(J81-I81)/I81 -> 0.0058626112 | ... M82: =(M81-L81)/L81 -> 0.0074784974
A85: Unmetered Scattered Load
A86: 2022 | B86: 2011 Actual | C86: 2012 Actual | D86: 2013 Actual | E86: 2014 Actual | F86: 2015 Actual | G86: 2016 Actual | H86: 2017 Actual | I86: 2018 Actual | J86: 2019 Actual | K86: 2020 Actual | L86: 2021 Actual | M86: 2022 Weather Normal | N86: 2022 Weather Normal | O86: 2022 Weather Normal
A87: Connections | B87: 32 | C87: 31 | D87: 31 | E87: 31 | F87: 31 | G87: 30 | H87: 31 | I87: 32 | J87: 32 | K87: 32 | L87: 31 | M87: 31 | N87: 32 | O87: 31
A88: YOY Comparison | C88: =(C87-B87)/B87 -> -0.03125 | D88: =(D87-C87)/C87 -> 0 | E88: =(E87-D87)/D87 -> 0 | F88: =(F87-E87)/E87 -> 0 | G88: =(G87-F87)/F87 -> -0.032258065 | H88: =(H87-G87)/G87 -> 0.033333333 | I88: =(I87-H87)/H87 -> 0.032258065 | J88: =(J87-I87)/I87 -> 0 | ... M88: =(M87-L87)/L87 -> 0
A89: kWh | B89: 201696 | C89: 262229 | D89: 260597 | E89: 259677 | F89: 259607 | G89: 257059 | H89: 255469 | I89: 249143 | J89: 246885 | K89: 248217 | L89: 248173 | M89: 248173 | N89: 248217 | O89: 248173
A90: YOY Comparison | C90: =(C89-B89)/B89 -> 0.30011998 | D90: =(D89-C89)/C89 -> -0.006223568 | E90: =(E89-D89)/D89 -> -0.0035303553 | F90: =(F89-E89)/E89 -> -0.00026956565 | G90: =(G89-F89)/F89 -> -0.0098148355 | H90: =(H89-G89)/G89 -> -0.0061853504 | I90: =(I89-H89)/H89 -> -0.0247623 | J90: =(J89-I89)/I89 -> -0.0090630682 | ... M90: =(M89-L89)/L89 -> 0
A91: 2026 | B91: {=_xlfn.ANCHORARRAY(B76)} -> 2016 Actual | C91: 2017 Actual | D91: 2018 Actual | E91: 2019 Actual | F91: 2020 Actual | G91: 2021 Actual | H91: 2022 Actual | I91: 2023 Actual | J91: 2024 Actual | K91: 2025 Actual | L91: 2026 Bridge | M91: 2027 Test
A92: {=A87:A90} -> Connections | B92: {='Load Forecast Summary'!B32:M32} -> 30 | C92: 30.5 | D92: 31.5 | E92: 32 | F92: 32 | G92: 31.5 | H92: 31 | I92: 30 | J92: 29 | K92: 29 | L92: 28.434631 | M92: 27.880285
A93: YOY Comparison | C93: =(C92-B92)/B92 -> 0.016666667 | D93: =(D92-C92)/C92 -> 0.032786885 | E93: =(E92-D92)/D92 -> 0.015873016 | F93: =(F92-E92)/E92 -> 0 | G93: =(G92-F92)/F92 -> -0.015625 | H93: =(H92-G92)/G92 -> -0.015873016 | I93: =(I92-H92)/H92 -> -0.032258065 | J93: =(J92-I92)/I92 -> -0.033333333 | ... M93: =(M92-L92)/L92 -> -0.019495471
A94: kWh | B94: {='Load Forecast Summary'!B33:M33} -> 257059 | C94: 255469 | D94: 249143 | E94: 246885 | F94: 246885 | G94: 248173 | H94: 248448 | I94: 248859 | J94: 250863.24 | K94: 235012.72 | L94: 230431.04 | M94: 225938.67
A95: YOY Comparison | C95: =(C94-B94)/B94 -> -0.0061853504 | D95: =(D94-C94)/C94 -> -0.0247623 | E95: =(E94-D94)/D94 -> -0.0090630682 | F95: =(F94-E94)/E94 -> 0 | G95: =(G94-F94)/F94 -> 0.0052170039 | H95: =(H94-G94)/G94 -> 0.001108098 | I95: =(I94-H94)/H94 -> 0.0016542697 | J95: =(J94-I94)/I94 -> 0.0080537172 | ... M95: =(M94-L94)/L94 -> -0.019495471
A98: Sentinel Lights
A99: 2022 | B99: 2011 Actual | C99: 2012 Actual | D99: 2013 Actual | E99: 2014 Actual | F99: 2015 Actual | G99: 2016 Actual | H99: 2017 Actual | I99: 2018 Actual | J99: 2019 Actual | K99: 2020 Actual | L99: 2021 Actual | M99: 2022 Weather Normal | N99: 2022 Weather Normal | O99: 2022 Weather Normal
A100: Connections | B100: 7 | C100: 7 | D100: 7 | E100: 7 | F100: 7 | G100: 11 | H100: 16 | I100: 17 | J100: 17 | K100: 17 | L100: 17 | M100: 17 | N100: 17 | O100: 17
A101: YOY Comparison | C101: =(C100-B100)/B100 -> 0 | D101: =(D100-C100)/C100 -> 0 | E101: =(E100-D100)/D100 -> 0 | F101: =(F100-E100)/E100 -> 0 | G101: =(G100-F100)/F100 -> 0.57142857 | H101: =(H100-G100)/G100 -> 0.45454545 | I101: =(I100-H100)/H100 -> 0.0625 | J101: =(J100-I100)/I100 -> 0 | ... M101: =(M100-L100)/L100 -> 0
A102: kWh | B102: 180196 | C102: 174345 | D102: 180742 | E102: 178799 | F102: 162569 | G102: 153690 | H102: 152795 | I102: 149558 | J102: 144657 | K102: 141998 | L102: 137713 | M102: 137713 | N102: 141998 | O102: 137713
A103: YOY Comparison | C103: =(C102-B102)/B102 -> -0.032470199 | D103: =(D102-C102)/C102 -> 0.036691617 | E103: =(E102-D102)/D102 -> -0.01075013 | F103: =(F102-E102)/E102 -> -0.09077232 | G103: =(G102-F102)/F102 -> -0.054616809 | H103: =(H102-G102)/G102 -> -0.0058234108 | I103: =(I102-H102)/H102 -> -0.021185248 | J103: =(J102-I102)/I102 -> -0.032769895 | ... M103: =(M102-L102)/L102 -> 0
A104: kW | B104: 12 | C104: 293 | D104: 465 | E104: 471 | F104: 437 | G104: 411 | H104: 405 | I104: 387 | J104: 365 | K104: 385 | L104: 357 | M104: 360 | N104: 373 | O104: 360
A105: YOY Comparison | C105: =(C104-B104)/B104 -> 23.416667 | D105: =(D104-C104)/C104 -> 0.58703072 | E105: =(E104-D104)/D104 -> 0.012903226 | F105: =(F104-E104)/E104 -> -0.072186837 | G105: =(G104-F104)/F104 -> -0.059496568 | H105: =(H104-G104)/G104 -> -0.01459854 | I105: =(I104-H104)/H104 -> -0.044444444 | J105: =(J104-I104)/I104 -> -0.056847545 | ... M105: =(M104-L104)/L104 -> 0.0084033613
A106: 2026 | B106: {=_xlfn.ANCHORARRAY(B91)} -> 2016 Actual | C106: 2017 Actual | D106: 2018 Actual | E106: 2019 Actual | F106: 2020 Actual | G106: 2021 Actual | H106: 2022 Actual | I106: 2023 Actual | J106: 2024 Actual | K106: 2025 Actual | L106: 2026 Bridge | M106: 2027 Test
A107: {=A100:A105} -> Connections | B107: {='Load Forecast Summary'!B36:M36} -> 73 | C107: 73 | D107: 73 | E107: 73 | F107: 73 | G107: 73 | H107: 73 | I107: 73 | J107: 73 | K107: 73 | L107: 73 | M107: 73
A108: YOY Comparison | C108: =(C107-B107)/B107 -> 0 | D108: =(D107-C107)/C107 -> 0 | E108: =(E107-D107)/D107 -> 0 | F108: =(F107-E107)/E107 -> 0 | G108: =(G107-F107)/F107 -> 0 | H108: =(H107-G107)/G107 -> 0 | I108: =(I107-H107)/H107 -> 0 | J108: =(J107-I107)/I107 -> 0 | ... M108: =(M107-L107)/L107 -> 0
A109: kWh | B109: {='Load Forecast Summary'!B37:M37} -> 153690 | C109: 152795 | D109: 149558 | E109: 144657 | F109: 141998 | G109: 137713 | H109: 138479 | I109: 136721.45 | J109: 137219.59 | K109: 117252.78 | L109: 117252.78 | M109: 117252.78
A110: YOY Comparison | C110: =(C109-B109)/B109 -> -0.0058234108 | D110: =(D109-C109)/C109 -> -0.021185248 | E110: =(E109-D109)/D109 -> -0.032769895 | F110: =(F109-E109)/E109 -> -0.018381413 | G110: =(G109-F109)/F109 -> -0.030176481 | H110: =(H109-G109)/G109 -> 0.0055622926 | I110: =(I109-H109)/H109 -> -0.012691816 | J110: =(J109-I109)/I109 -> 0.0036434663 | ... M110: =(M109-L109)/L109 -> 0
A111: kW | B111: {='Load Forecast Summary'!B38:M38} -> 411 | C111: 406 | D111: 388 | E111: 364 | F111: 385 | G111: 357 | H111: 360 | I111: 357.1 | J111: 352 | K111: 375.7 | L111: 375.7 | M111: 375.7
A112: YOY Comparison | C112: =(C111-B111)/B111 -> -0.01216545 | D112: =(D111-C111)/C111 -> -0.044334975 | E112: =(E111-D111)/D111 -> -0.06185567 | F112: =(F111-E111)/E111 -> 0.057692308 | G112: =(G111-F111)/F111 -> -0.072727273 | H112: =(H111-G111)/G111 -> 0.0084033613 | I112: =(I111-H111)/H111 -> -0.0080555556 | J112: =(J111-I111)/I111 -> -0.014281714 | ... M112: =(M111-L111)/L111 -> 0
A115: Embedded Distributor
A116: 2022 | B116: 2011 Actual | C116: 2012 Actual | D116: 2013 Actual | E116: 2014 Actual | F116: 2015 Actual | G116: 2016 Actual | H116: 2017 Actual | I116: 2018 Actual | J116: 2019 Actual | K116: 2020 Actual | L116: 2021 Actual | M116: 2022 Weather Normal | N116: 2022 Weather Normal | O116: 2022 Weather Normal
A117: Connections | B117: 4 | C117: 4 | D117: 4 | E117: 5 | F117: 5 | G117: 6 | H117: 6 | I117: 6 | J117: 6 | K117: 6 | L117: 6 | M117: 6 | N117: 6 | O117: 6
A118: YOY Comparison | C118: =(C117-B117)/B117 -> 0 | D118: =(D117-C117)/C117 -> 0 | E118: =(E117-D117)/D117 -> 0.25 | F118: =(F117-E117)/E117 -> 0 | G118: =(G117-F117)/F117 -> 0.2 | H118: =(H117-G117)/G117 -> 0 | I118: =(I117-H117)/H117 -> 0 | J118: =(J117-I117)/I117 -> 0 | ... M118: =(M117-L117)/L117 -> 0
A119: kWh | B119: 52740415 | C119: 50111691 | D119: 49811242 | E119: 60211197 | F119: 62244251 | G119: 58154767 | H119: 56843411 | I119: 61680653 | J119: 60666329 | K119: 50859469 | L119: 50859469 | M119: 50859469 | N119: 57735484 | O119: 50859469
...

Sheet Customer Determination
A1: Average Customer / Connection Count
A2: Date | B2: Residential | D2: General Service < 50 kW | F2: General Service > 50 kW | H2: Embedded Distributor | J2: Unmetered Scatter Load | L2: Sentinel Lighting | N2: Street Lighting
A3: 2015 | B3: 10242 | D3: 1360 | F3: 102 | H3: 6 | J3: 30 | L3: 73 | N3: 3007
A4: 2016 | B4: 10312 | C4: =(B4+B3)/2 -> 10277 | D4: 1206 | E4: =(D4+D3)/2 -> 1283 | F4: 101 | G4: =(F4+F3)/2 -> 101.5 | H4: 6 | I4: =(H4+H3)/2 -> 6 | J4: 30 | K4: =(J4+J3)/2 -> 30 | L4: 73 | M4: =(L4+L3)/2 -> 73 | N4: 2932 | O4: =(N4+N3)/2 -> 2969.5
A5: 2017 | B5: 10437 | C5: =(B5+B4)/2 -> 10374.5 | D5: 1243 | E5: =(D5+D4)/2 -> 1224.5 | F5: 126 | G5: =(F5+F4)/2 -> 113.5 | H5: 6 | I5: =(H5+H4)/2 -> 6 | J5: 31 | K5: =(J5+J4)/2 -> 30.5 | L5: 73 | M5: =(L5+L4)/2 -> 73 | N5: 2932 | O5: =(N5+N4)/2 -> 2932
A6: 2018 | B6: 10882 | C6: =(B6+B5)/2 -> 10659.5 | D6: 1231 | E6: =(D6+D5)/2 -> 1237 | F6: 95 | G6: =(F6+F5)/2 -> 110.5 | H6: 6 | I6: =(H6+H5)/2 -> 6 | J6: 32 | K6: =(J6+J5)/2 -> 31.5 | L6: 73 | M6: =(L6+L5)/2 -> 73 | N6: 2978 | O6: =(N6+N5)/2 -> 2955
A7: 2019 | B7: 10963 | C7: =(B7+B6)/2 -> 10922.5 | D7: 1243 | E7: =(D7+D6)/2 -> 1237 | F7: 97 | G7: =(F7+F6)/2 -> 96 | H7: 6 | I7: =(H7+H6)/2 -> 6 | J7: 32 | K7: =(J7+J6)/2 -> 32 | L7: 73 | M7: =(L7+L6)/2 -> 73 | N7: 3006 | O7: =(N7+N6)/2 -> 2992
A8: 2020 | B8: 11076 | C8: =(B8+B7)/2 -> 11019.5 | D8: 1261 | E8: =(D8+D7)/2 -> 1252 | F8: 99 | G8: =(F8+F7)/2 -> 98 | H8: 6 | I8: =(H8+H7)/2 -> 6 | J8: 32 | K8: =(J8+J7)/2 -> 32 | L8: 73 | M8: =(L8+L7)/2 -> 73 | N8: 3080 | O8: =(N8+N7)/2 -> 3043
A9: 2021 | B9: =(B8+B10)/2 -> 11116 | C9: =(B9+B8)/2 -> 11096 | D9: =(D8+D11)/2 -> 1211.5 | E9: =(D9+D8)/2 -> 1236.25 | F9: 103 | G9: =(F9+F8)/2 -> 101 | H9: 6 | I9: =(H9+H8)/2 -> 6 | J9: 31 | K9: =(J9+J8)/2 -> 31.5 | L9: 73 | M9: =(L9+L8)/2 -> 73 | N9: 3103 | O9: =(N9+N8)/2 -> 3091.5
A10: 2022 | B10: 11156 | C10: =(B10+B9)/2 -> 11136 | D10: =(D9+D11)/2 -> 1186.75 | E10: =(D10+D9)/2 -> 1199.125 | F10: 93 | G10: =(F10+F9)/2 -> 98 | H10: 6 | I10: =(H10+H9)/2 -> 6 | J10: 31 | K10: =(J10+J9)/2 -> 31 | L10: 73 | M10: =(L10+L9)/2 -> 73 | N10: 3163 | O10: =(N10+N9)/2 -> 3133
A11: 2023 | B11: 11271 | C11: =(B11+B10)/2 -> 11213.5 | D11: 1162 | E11: =(D11+D10)/2 -> 1174.375 | F11: 90 | G11: =(F11+F10)/2 -> 91.5 | H11: 6 | I11: =(H11+H10)/2 -> 6 | J11: 29 | K11: =(J11+J10)/2 -> 30 | L11: 73 | M11: =(L11+L10)/2 -> 73 | N11: 3161 | O11: =(N11+N10)/2 -> 3162
A12: 2024 | B12: 11326 | C12: =(B12+B11)/2 -> 11298.5 | D12: 1178 | E12: =(D12+D11)/2 -> 1170 | F12: 90 | G12: =(F12+F11)/2 -> 90 | H12: 6 | I12: =(H12+H11)/2 -> 6 | J12: 29 | K12: =(J12+J11)/2 -> 29 | L12: 73 | M12: =(L12+L11)/2 -> 73 | N12: 3155 | O12: =(N12+N11)/2 -> 3158
A13: 2025 | B13: 11383 | C13: =(B13+B12)/2 -> 11354.5 | D13: 1180 | E13: =(D13+D12)/2 -> 1179 | F13: 88 | G13: =(F13+F12)/2 -> 89 | H13: 6 | I13: =(H13+H12)/2 -> 6 | J13: 29 | K13: =(J13+J12)/2 -> 29 | L13: 73 | M13: =(L13+L12)/2 -> 73 | N13: 3162 | O13: =(N13+N12)/2 -> 3158.5
C15: 10312 | E15: 1206 | G15: 101 | I15: 6 | K15: 30 | M15: 73 | O15: 2932
C16: 10374.5 | E16: 1224.5 | G16: 113.5 | I16: 6 | K16: 30.5 | M16: 73 | O16: 2932
C17: 10659.5 | E17: 1237 | G17: 110.5 | I17: 6 | K17: 31.5 | M17: 73 | O17: 2955
C18: 10922.5 | E18: 1237 | G18: 96 | I18: 6 | K18: 32 | M18: 73 | O18: 2992
C19: 11019.5 | E19: 1252 | G19: 98 | I19: 6 | K19: 32 | M19: 73 | O19: 3043
C20: 11096 | E20: 1236.25 | G20: 101 | I20: 6 | K20: 31.5 | M20: 73 | O20: 3091.5
C21: 11136 | E21: 1199.125 | G21: 98 | I21: 6 | K21: 31 | M21: 73 | O21: 3133
C22: 11213.5 | E22: 1174.375 | G22: 91.5 | I22: 6 | K22: 30 | M22: 73 | O22: 3162
C23: 11298.5 | E23: 1170 | G23: 90 | I23: 6 | K23: 29 | M23: 73 | O23: 3158
C24: 11354.5 | E24: 1179 | G24: 89 | I24: 6 | K24: 29 | M24: 73 | O24: 3158.5
C26: =C4-C15 -> -35 | E26: =E4-E15 -> 77 | G26: =G4-G15 -> 0.5 | I26: =I4-I15 -> 0 | K26: =K4-K15 -> 0 | M26: =M4-M15 -> 0 | O26: =O4-O15 -> 37.5
C27: =C5-C16 -> 0 | E27: =E5-E16 -> 0 | G27: =G5-G16 -> 0 | I27: =I5-I16 -> 0 | K27: =K5-K16 -> 0 | M27: =M5-M16 -> 0 | O27: =O5-O16 -> 0
C28: =C6-C17 -> 0 | E28: =E6-E17 -> 0 | G28: =G6-G17 -> 0 | I28: =I6-I17 -> 0 | K28: =K6-K17 -> 0 | M28: =M6-M17 -> 0 | O28: =O6-O17 -> 0
C29: =C7-C18 -> 0 | E29: =E7-E18 -> 0 | G29: =G7-G18 -> 0 | I29: =I7-I18 -> 0 | K29: =K7-K18 -> 0 | M29: =M7-M18 -> 0 | O29: =O7-O18 -> 0
C30: =C8-C19 -> 0 | E30: =E8-E19 -> 0 | G30: =G8-G19 -> 0 | I30: =I8-I19 -> 0 | K30: =K8-K19 -> 0 | M30: =M8-M19 -> 0 | O30: =O8-O19 -> 0
C31: =C9-C20 -> 0 | E31: =E9-E20 -> 0 | G31: =G9-G20 -> 0 | I31: =I9-I20 -> 0 | K31: =K9-K20 -> 0 | M31: =M9-M20 -> 0 | O31: =O9-O20 -> 0
C32: =C10-C21 -> 0 | E32: =E10-E21 -> 0 | G32: =G10-G21 -> 0 | I32: =I10-I21 -> 0 | K32: =K10-K21 -> 0 | M32: =M10-M21 -> 0 | O32: =O10-O21 -> 0
C33: =C11-C22 -> 0 | E33: =E11-E22 -> 0 | G33: =G11-G22 -> 0 | I33: =I11-I22 -> 0 | K33: =K11-K22 -> 0 | M33: =M11-M22 -> 0 | O33: =O11-O22 -> 0
C34: =C12-C23 -> 0 | E34: =E12-E23 -> 0 | G34: =G12-G23 -> 0 | I34: =I12-I23 -> 0 | K34: =K12-K23 -> 0 | M34: =M12-M23 -> 0 | O34: =O12-O23 -> 0
C35: =C13-C24 -> 0 | E35: =E13-E24 -> 0 | G35: =G13-G24 -> 0 | I35: =I13-I24 -> 0 | K35: =K13-K24 -> 0 | M35: =M13-M24 -> 0 | O35: =O13-O24 -> 0

Sheet Sheet1
A1: Current_Company_Name | B1: Year | C1: Customer_or_Connections | D1: Rate_Class_-_Generic | E1: Annual_Billings_-_USoA_4080_-_Dollars | F1: Metered_Consumption_in_kWh | G1: Demand_in_kW
A2: E.L.K. Energy Inc. | B2: 2016 | C2: Connections | D2: Embedded Distributor(s) | E2: 141641 | F2: 57823879 | G2: 117955
A3: E.L.K. Energy Inc. | B3: 2016 | C3: Connections | D3: Sentinel Lighting Connections | E3: 265 | F3: 153690 | G3: 411
A4: E.L.K. Energy Inc. | B4: 2016 | C4: Connections | D4: Street Lighting Connections | E4: 94970 | F4: 1585584 | G4: 4764
A5: E.L.K. Energy Inc. | B5: 2016 | C5: Connections | D5: Unmetered Scattered Load Connections | E5: 2810 | F5: 257059 | G5: 0
A6: E.L.K. Energy Inc. | B6: 2016 | C6: Customers | D6: General Service < 50 kW | E6: 392925 | F6: 28315731 | G6: 0
A7: E.L.K. Energy Inc. | B7: 2016 | C7: Customers | D7: General Service >= 50 kW | E7: 464986 | F7: 59051959 | G7: 188539.6
A8: E.L.K. Energy Inc. | B8: 2016 | C8: Customers | D8: Large User | E8: 0 | F8: 0 | G8: 0
A9: E.L.K. Energy Inc. | B9: 2016 | C9: Customers | D9: Residential | E9: 2173572 | F9: 91479319 | G9: 0
A10: E.L.K. Energy Inc. | B10: 2016 | C10: Customers | D10: Sub Transmission Customers | E10: 0 | F10: 0 | G10: 0
A11: E.L.K. Energy Inc. | B11: 2017 | C11: Connections | D11: Embedded Distributor(s) | E11: 181773.78 | F11: 56843411 | G11: 143958
A12: E.L.K. Energy Inc. | B12: 2017 | C12: Connections | D12: Sentinel Lighting Connections | E12: 211.2 | F12: 152795 | G12: 406
A13: E.L.K. Energy Inc. | B13: 2017 | C13: Connections | D13: Street Lighting Connections | E13: 83334.07 | F13: 1361607 | G13: 3705
... A82: E.L.K. Energy Inc. | B82: 2024 | C82: Customers | D82: Sub Transmission Customers | E82: 0 | F82: 0 | G82: 0
