Workbook
Name __CAP1000: #REF!
Name __CAP1000: #REF!
Name __CAP1000: #REF!
Name __OP1000: #REF!
Name __OP1000: #REF!
Name __OP1000: #REF!
Name _110: #REF!
Name _110: #REF!
Name _110: #REF!
Name _110INPT: #REF!
Name _110INPT: #REF!
Name _110INPT: #REF!
Name _115: #REF!
Name _115: #REF!
Name _115: #REF!
Name _115INPT: #REF!
Name _115INPT: #REF!
Name _115INPT: #REF!
Name _120: #REF!
Name _120: #REF!
Name _120: #REF!
Name _140: #REF!
Name _140: #REF!
Name _140: #REF!
Name _140INPT: #REF!
Name _140INPT: #REF!
Name _140INPT: #REF!
Name _CAP1000: #REF!
Name _CAP1000: #REF!
Name _CAP1000: #REF!
Name _OP1000: #REF!
Name _OP1000: #REF!
Name _OP1000: #REF!
Name ALL: #REF!
Name ALL: #REF!
Name ALL: #REF!
Name ApprovedYr: #REF!
Name CAfile: #REF!
Name CAPCOSTS: #REF!
Name CAPCOSTS: #REF!
Name CAPCOSTS: #REF!
Name CAPITAL: #REF!
Name CAPITAL: #REF!
Name CAPITAL: #REF!
Name CapitalExpListing: #REF!
Name CapitalExpListing: #REF!
Name CapitalExpListing: #REF!
Name CArevReq: #REF!
Name CASENUMBER: #REF!
Name CASHFLOW: #REF!
Name CASHFLOW: #REF!
Name CASHFLOW: #REF!
Name cc: #REF!
Name cc: #REF!
Name cc: #REF!
Name ClassRange1: #REF!
Name ClassRange2: #REF!
Name contactf: #REF!
Name contactf: #REF!
Name contactf: #REF!

Sheet Exhibit 3
A1: Table 3-1: Summary of Load and Customer Forecast
A2: Year | B2: Billed Actual (GWh) | C2: Growth (GWh) | D2: Billed Weather Normal (GWh) | E2: Growth (GWh) | F2: Customer/ Connection Count | G2: Growth (Customer/ Connection Count)
A3: Billed Energy (GWh) and Customer Count/Connections
A5: 2022 OEB-Approved | B5: =B274/1000000 -> 244.79724 | F5: =B273 -> 15591.328
A7: 2016 | B7: {=TRANSPOSE('Load Forecast Summary'!B10:M10)/1000000} -> 238.66722 | D7: =B7*F115 -> 233.72994 | F7: {=TRANSPOSE('Load Forecast Summary'!B46:M46)} -> 14740
A8: 2017 | B8: 219.82087 | C8: =B8-B7 -> -18.846351 | D8: =B8*F116 -> 223.1646 | E8: =D8-D7 -> -10.565335 | F8: 14754 | G8: =F8-F7 -> 14
A9: 2018 | B9: 246.4266 | C9: =B9-B8 -> 26.605731 | D9: =B9*F117 -> 242.55136 | E9: =D9-D8 -> 19.386756 | F9: 15072.5 | G9: =F9-F8 -> 318.5
A10: 2019 | B10: 242.87672 | C10: =B10-B9 -> -3.549879 | D10: =B10*F118 -> 242.35937 | E10: =D10-D9 -> -0.19198561 | F10: 15358.5 | G10: =F10-F9 -> 286
A11: 2020 | B11: 239.10278 | C11: =B11-B10 -> -3.773946 | D11: =B11*F119 -> 237.71689 | E11: =D11-D10 -> -4.6424879 | F11: 15523.5 | G11: =F11-F10 -> 165
A12: 2021 | B12: 242.79219 | C12: =B12-B11 -> 3.689415 | D12: =B12*F120 -> 240.46773 | E12: =D12-D11 -> 2.7508404 | F12: 15635.25 | G12: =F12-F11 -> 111.75
A13: 2022 | B13: 237.86065 | C13: =B13-B12 -> -4.9315364 | D13: =B13*F121 -> 235.77145 | E13: =D13-D12 -> -4.6962757 | F13: 15676.125 | G13: =F13-F12 -> 40.875
A14: 2023 | B14: 234.10454 | C14: =B14-B13 -> -3.7561151 | D14: =B14*F122 -> 242.71719 | E14: =D14-D13 -> 6.9457377 | F14: 15750.375 | G14: =F14-F13 -> 74.25
A15: 2024 | B15: 239.60581 | C15: =B15-B14 -> 5.5012702 | D15: =B15*F123 -> 243.58344 | E15: =D15-D14 -> 0.86625607 | F15: 15824.5 | G15: =F15-F14 -> 74.125
A16: 2025 | B16: 237.58816 | C16: =B16-B15 -> -2.017648 | D16: =B16*F124 -> 236.63492 | E16: =D16-D15 -> -6.9485274 | F16: 15889 | G16: =F16-F15 -> 64.5
A17: 2026 Bridge | B17: 240.42596 | C17: =B17-B16 -> 2.8377995 | D17: =B17*F125 -> 240.42596 | E17: =D17-D16 -> 3.7910446 | F17: 15989.337 | G17: =F17-F16 -> 100.33703
A18: 2027 Test | B18: 241.41709 | C18: =B18-B17 -> 0.99113054 | D18: =B18*F126 -> 241.41709 | E18: =D18-D17 -> 0.99113054 | F18: 16090.341 | G18: =F18-F17 -> 101.00425
A20: Table 3-2: Billed Energy by Rate Class
A21: Year | B21: Residential | C21: General Service < 50 kW | D21: General Service > 50 kW | E21: Embedded Distributor | F21: Unmetered Scattered Load | G21: Sentinel Lighting | H21: Street Lighting | I21: Total
A22: Billed Energy (GWh) - Actual
A23: =A7 -> 2016 | B23: {=TRANSPOSE('Load Forecast Summary'!B15:K15)/1000000} -> 91.479319 | C23: {=TRANSPOSE('Load Forecast Summary'!B19:K19)/1000000} -> 28.315731 | D23: {=TRANSPOSE('Load Forecast Summary'!B23:K23)/1000000} -> 59.051959 | E23: {=TRANSPOSE('Load Forecast Summary'!B28:K28)/1000000} -> 57.823879 | F23: {=TRANSPOSE('Load Forecast Summary'!B33:K33)/1000000} -> 0.257059 | G23: {=TRANSPOSE('Load Forecast Summary'!B37:K37)/1000000} -> 0.15369 | H23: {=TRANSPOSE('Load Forecast Summary'!B42:K42)/1000000} -> 1.585584 | I23: =SUM(B23:H23) -> 238.66722
A24: =A8 -> 2017 | B24: 86.529651 | C24: 27.228067 | D24: 47.44987 | E24: 56.843411 | F24: 0.255469 | G24: 0.152795 | H24: 1.361607 | I24: =SUM(B24:H24) -> 219.82087
A25: =A9 -> 2018 | B25: 94.517191 | C25: 28.692745 | D25: 59.787962 | E25: 61.680653 | F25: 0.249143 | G25: 0.149558 | H25: 1.349349 | I25: =SUM(B25:H25) -> 246.4266
A26: =A10 -> 2019 | B26: 92.484569 | C26: 28.348056 | D26: 59.632442 | E26: 60.666329 | F26: 0.246885 | G26: 0.144657 | H26: 1.353784 | I26: =SUM(B26:H26) -> 242.87672
A27: =A11 -> 2020 | B27: 98.305959 | C27: 26.410288 | D27: 52.047649 | E27: 60.666329 | F27: 0.246885 | G27: 0.141998 | H27: 1.283668 | I27: =SUM(B27:H27) -> 239.10278
A28: =A12 -> 2021 | B28: 106.35984 | C28: 27.377213 | D28: 56.544701 | E28: 50.859469 | F28: 0.248173 | G28: 0.137713 | H28: 1.265084 | I28: =SUM(B28:H28) -> 242.79219
A29: =A13 -> 2022 | B29: 105.83946 | C29: 29.6638 | D29: 55.678002 | E29: 45.020625 | F29: 0.248448 | G29: 0.138479 | H29: 1.271846 | I29: =SUM(B29:H29) -> 237.86065
A30: =A14 -> 2023 | B30: 96.458582 | C30: 28.82861 | D30: 59.808298 | E30: 47.435811 | F30: 0.248859 | G30: 0.13672145 | H30: 1.187658 | I30: =SUM(B30:H30) -> 234.10454
A31: =A15 -> 2024 | B31: 101.36398 | C31: 30.766203 | D31: 59.377099 | E31: 46.518194 | F31: 0.25086324 | G31: 0.13721959 | H31: 1.1922525 | I31: =SUM(B31:H31) -> 239.60581
A32: =A16 -> 2025 | B32: 104.66154 | C32: 31.964519 | D32: 57.467168 | E32: 41.943488 | F32: 0.23501272 | G32: 0.11725278 | H32: 1.1991779 | I32: =SUM(B32:H32) -> 237.58816
A34: Billed Energy (GWh) - Weather Normal
A35: 2022 OEB-Approved | B35: =B242/1000000 -> 104.79436 | C35: =B246/1000000 -> 27.600721 | D35: =B250/1000000 -> 59.877627 | E35: =B255/1000000 -> 50.859469 | F35: =B260/1000000 -> 0.248173 | G35: =B264/1000000 -> 0.137713 | H35: =B269/1000000 -> 1.2791832 | I35: =B274/1000000 -> 244.79724
A37: =A7 -> 2016 | B37: =B23*$F$115 -> 89.586896 | C37: =C23*$F$115 -> 27.729967 | D37: =D23*$F$115 -> 57.830358 | E37: =E23*$F$115 -> 56.627683 | F37: =F23*$F$115 -> 0.25174125 | G37: =G23*$F$115 -> 0.15051063 | H37: =H23*$F$115 -> 1.5527832 | I37: =SUM(B37:H37) -> 233.72994
A38: =A8 -> 2017 | B38: =B24*$F$116 -> 87.845869 | C38: =C24*$F$116 -> 27.642238 | D38: =D24*$F$116 -> 48.171638 | E38: =E24*$F$116 -> 57.708066 | F38: =F24*$F$116 -> 0.25935498 | G38: =G24*$F$116 -> 0.15511919 | H38: =H24*$F$116 -> 1.3823186 | I38: =SUM(B38:H38) -> 223.1646
A39: =A9 -> 2018 | B39: =B25*$F$117 -> 93.030838 | C39: =C25*$F$117 -> 28.24153 | D39: =D25*$F$117 -> 58.847752 | E39: =E25*$F$117 -> 60.710679 | F39: =F25*$F$117 -> 0.24522504 | G39: =G25*$F$117 -> 0.14720609 | H39: =H25*$F$117 -> 1.3281295 | I39: =SUM(B39:H39) -> 242.55136
A40: =A10 -> 2019 | B40: =B26*$F$118 -> 92.287569 | C40: =C26*$F$118 -> 28.287672 | D40: =D26*$F$118 -> 59.50542 | E40: =E26*$F$118 -> 60.537104 | F40: =F26*$F$118 -> 0.24635911 | G40: =G26*$F$118 -> 0.14434887 | H40: =H26*$F$118 -> 1.3509003 | I40: =SUM(B40:H40) -> 242.35937
A41: =A11 -> 2020 | B41: =B27*$F$119 -> 97.736157 | C41: =C27*$F$119 -> 26.257208 | D41: =D27*$F$119 -> 51.74597 | E41: =E27*$F$119 -> 60.314694 | F41: =F27*$F$119 -> 0.245454 | G41: =G27*$F$119 -> 0.14117495 | H41: =H27*$F$119 -> 1.2762276 | I41: =SUM(B41:H41) -> 237.71689
A42: =A12 -> 2021 | B42: =B28*$F$120 -> 105.34156 | C42: =C28*$F$120 -> 27.115107 | D42: =D28*$F$120 -> 56.003348 | E42: =E28*$F$120 -> 50.372546 | F42: =F28*$F$120 -> 0.24579702 | G42: =G28*$F$120 -> 0.13639455 | H42: =H28*$F$120 -> 1.2529722 | I42: =SUM(B42:H42) -> 240.46773
A43: =A13 -> 2022 | B43: =B29*$F$121 -> 104.90983 | C43: =C29*$F$121 -> 29.403254 | D43: =D29*$F$121 -> 55.188964 | E43: =E29*$F$121 -> 44.625195 | F43: =F29*$F$121 -> 0.2462658 | G43: =G29*$F$121 -> 0.1372627 | H43: =H29*$F$121 -> 1.260675 | I43: =SUM(B43:H43) -> 235.77145
A44: =A14 -> 2023 | B44: =B30*$F$122 -> 100.00727 | C44: =C30*$F$122 -> 29.889208 | D44: =D30*$F$122 -> 62.00863 | E44: =E30*$F$122 -> 49.180963 | F44: =F30*$F$122 -> 0.25801446 | G44: =G30*$F$122 -> 0.1417514 | H44: =H30*$F$122 -> 1.2313517 | I44: =SUM(B44:H44) -> 242.71719
A45: =A15 -> 2024 | B45: =B31*$F$123 -> 103.0467 | C45: =C31*$F$123 -> 31.276945 | D45: =D31*$F$123 -> 60.362803 | E45: =E31*$F$123 -> 47.29043 | F45: =F31*$F$123 -> 0.25502776 | G45: =G31*$F$123 -> 0.13949754 | H45: =H31*$F$123 -> 1.2120447 | I45: =SUM(B45:H45) -> 243.58344
...

Sheet Inputs
A3: Average Customer / Connection Count
A4: Date | B4: Residential | C4: General Service < 50 kW | D4: General Service > 50 kW | E4: =M21 -> Embedded Distributor | F4: =P21 -> Unmetered Scatter Load | G4: Sentinel Lighting | H4: Street Lighting
A5: 2016 | B5: =AVERAGEIF($A$24:$A$143,$A5,G$24:G$143) -> 10277 | C5: =AVERAGEIF($A$24:$A$143,$A5,I$24:I$143) -> 1283 | D5: =AVERAGEIF($A$24:$A$143,$A5,L$24:L$143) -> 101.5 | E5: =AVERAGEIF($A$24:$A$143,$A5,O$24:O$143) -> 6 | F5: =AVERAGEIF($A$24:$A$143,$A5,Q$24:Q$143) -> 30 | G5: =AVERAGEIF($A$24:$A$143,$A5,T$24:T$143) -> 73 | H5: =AVERAGEIF($A$24:$A$143,$A5,W$24:W$143) -> 2969.5 | J5: Corrected values
A6: 2017 | B6: =AVERAGEIF($A$24:$A$143,$A6,G$24:G$143) -> 10374.5 | C6: =AVERAGEIF($A$24:$A$143,$A6,I$24:I$143) -> 1224.5 | D6: =AVERAGEIF($A$24:$A$143,$A6,L$24:L$143) -> 113.5 | E6: =AVERAGEIF($A$24:$A$143,$A6,O$24:O$143) -> 6 | F6: =AVERAGEIF($A$24:$A$143,$A6,Q$24:Q$143) -> 30.5 | G6: =AVERAGEIF($A$24:$A$143,$A6,T$24:T$143) -> 73 | H6: =AVERAGEIF($A$24:$A$143,$A6,W$24:W$143) -> 2932
A7: 2018 | B7: =AVERAGEIF($A$24:$A$143,$A7,G$24:G$143) -> 10659.5 | C7: =AVERAGEIF($A$24:$A$143,$A7,I$24:I$143) -> 1237 | D7: =AVERAGEIF($A$24:$A$143,$A7,L$24:L$143) -> 110.5 | E7: =AVERAGEIF($A$24:$A$143,$A7,O$24:O$143) -> 6 | F7: =AVERAGEIF($A$24:$A$143,$A7,Q$24:Q$143) -> 31.5 | G7: =AVERAGEIF($A$24:$A$143,$A7,T$24:T$143) -> 73 | H7: =AVERAGEIF($A$24:$A$143,$A7,W$24:W$143) -> 2955
A8: 2019 | B8: =AVERAGEIF($A$24:$A$143,$A8,G$24:G$143) -> 10922.5 | C8: =AVERAGEIF($A$24:$A$143,$A8,I$24:I$143) -> 1237 | D8: =AVERAGEIF($A$24:$A$143,$A8,L$24:L$143) -> 96 | E8: =AVERAGEIF($A$24:$A$143,$A8,O$24:O$143) -> 6 | F8: =AVERAGEIF($A$24:$A$143,$A8,Q$24:Q$143) -> 32 | G8: =AVERAGEIF($A$24:$A$143,$A8,T$24:T$143) -> 73 | H8: =AVERAGEIF($A$24:$A$143,$A8,W$24:W$143) -> 2992
A9: 2020 | B9: =AVERAGEIF($A$24:$A$143,$A9,G$24:G$143) -> 11019.5 | C9: =AVERAGEIF($A$24:$A$143,$A9,I$24:I$143) -> 1252 | D9: =AVERAGEIF($A$24:$A$143,$A9,L$24:L$143) -> 98 | E9: =AVERAGEIF($A$24:$A$143,$A9,O$24:O$143) -> 6 | F9: =AVERAGEIF($A$24:$A$143,$A9,Q$24:Q$143) -> 32 | G9: =AVERAGEIF($A$24:$A$143,$A9,T$24:T$143) -> 73 | H9: =AVERAGEIF($A$24:$A$143,$A9,W$24:W$143) -> 3043
A10: 2021 | B10: =AVERAGEIF($A$24:$A$143,$A10,G$24:G$143) -> 11096 | C10: =AVERAGEIF($A$24:$A$143,$A10,I$24:I$143) -> 1236.25 | D10: =AVERAGEIF($A$24:$A$143,$A10,L$24:L$143) -> 101 | E10: =AVERAGEIF($A$24:$A$143,$A10,O$24:O$143) -> 6 | F10: =AVERAGEIF($A$24:$A$143,$A10,Q$24:Q$143) -> 31.5 | G10: =AVERAGEIF($A$24:$A$143,$A10,T$24:T$143) -> 73 | H10: =AVERAGEIF($A$24:$A$143,$A10,W$24:W$143) -> 3091.5
A11: 2022 | B11: =AVERAGEIF($A$24:$A$143,$A11,G$24:G$143) -> 11136 | C11: =AVERAGEIF($A$24:$A$143,$A11,I$24:I$143) -> 1199.125 | D11: =AVERAGEIF($A$24:$A$143,$A11,L$24:L$143) -> 98 | E11: =AVERAGEIF($A$24:$A$143,$A11,O$24:O$143) -> 6 | F11: =AVERAGEIF($A$24:$A$143,$A11,Q$24:Q$143) -> 31 | G11: =AVERAGEIF($A$24:$A$143,$A11,T$24:T$143) -> 73 | H11: =AVERAGEIF($A$24:$A$143,$A11,W$24:W$143) -> 3133
A12: 2023 | B12: =AVERAGEIF($A$24:$A$143,$A12,G$24:G$143) -> 11213.5 | C12: =AVERAGEIF($A$24:$A$143,$A12,I$24:I$143) -> 1174.375 | D12: =AVERAGEIF($A$24:$A$143,$A12,L$24:L$143) -> 91.5 | E12: =AVERAGEIF($A$24:$A$143,$A12,O$24:O$143) -> 6 | F12: =AVERAGEIF($A$24:$A$143,$A12,Q$24:Q$143) -> 30 | G12: =AVERAGEIF($A$24:$A$143,$A12,T$24:T$143) -> 73 | H12: =AVERAGEIF($A$24:$A$143,$A12,W$24:W$143) -> 3162
A13: 2024 | B13: =AVERAGEIF($A$24:$A$143,$A13,G$24:G$143) -> 11298.5 | C13: =AVERAGEIF($A$24:$A$143,$A13,I$24:I$143) -> 1170 | D13: =AVERAGEIF($A$24:$A$143,$A13,L$24:L$143) -> 90 | E13: =AVERAGEIF($A$24:$A$143,$A13,O$24:O$143) -> 6 | F13: =AVERAGEIF($A$24:$A$143,$A13,Q$24:Q$143) -> 29 | G13: =AVERAGEIF($A$24:$A$143,$A13,T$24:T$143) -> 73 | H13: =AVERAGEIF($A$24:$A$143,$A13,W$24:W$143) -> 3158
A14: 2025 | B14: =AVERAGEIF($A$24:$A$143,$A14,G$24:G$143) -> 11354.5 | C14: =AVERAGEIF($A$24:$A$143,$A14,I$24:I$143) -> 1179 | D14: =AVERAGEIF($A$24:$A$143,$A14,L$24:L$143) -> 89 | E14: =AVERAGEIF($A$24:$A$143,$A14,O$24:O$143) -> 6 | F14: =AVERAGEIF($A$24:$A$143,$A14,Q$24:Q$143) -> 29 | G14: =AVERAGEIF($A$24:$A$143,$A14,T$24:T$143) -> 73 | H14: =AVERAGEIF($A$24:$A$143,$A14,W$24:W$143) -> 3158.5
A20: Consumption | D20: Wholesale | F20: Retail Consumption
D21: Wholesale Purchases | F21: =B4 -> Residential | H21: =C4 -> General Service < 50 kW | J21: =D4 -> General Service > 50 kW | M21: Embedded Distributor | P21: Unmetered Scatter Load | R21: =G4 -> Sentinel Lighting | U21: =H4 -> Street Lighting
D22: kWh | E22: Generation | F22: kWh | G22: Number of Customer/ Connection | H22: kWh | I22: Number of Customer/ Connection | J22: kWh | K22: kW | L22: Number of Customer/ Connection | M22: kWh | N22: kW | O22: Number of Customer/ Connection | P22: kWh | Q22: Customer/ Connection | R22: kWh | S22: kW | T22: Number of Customer/ Connection | U22: kWh | V22: kW | W22: Number of Customer/ Connection
A23: Year | B23: Month
A24: 2016 | B24: January | C24: =SUM(G24,I24,L24,O24) -> 11667.5 | D24: 22228059 | E24: 234806 | F24: =F25 -> 0 | G24: ='Customer Determination'!C4 -> 10277 | H24: =H25 -> 0 | I24: ='Customer Determination'!E4 -> 1283 | J24: =J25 -> 0 | K24: =K25 -> 0 | L24: ='Customer Determination'!G4 -> 101.5 | M24: =M25 -> 0 | N24: =N25 -> 0 | O24: 6 | P24: =P25 -> 0 | Q24: ='Customer Determination'!K4 -> 30 | R24: =R25 -> 0 | S24: =S25 -> 0 | T24: 73 | U24: =U25 -> 0 | V24: =V25 -> 0 | W24: ='Customer Determination'!O4 -> 2969.5
A25: 2016 | B25: February | C25: =SUM(G25,I25,L25,O25) -> 11667.5 | D25: 19954897 | E25: 297475 | G25: =G24 -> 10277 | I25: =I24 -> 1283 | L25: =L24 -> 101.5 | O25: 6 | Q25: =Q24 -> 30 | T25: 73 | W25: =W24 -> 2969.5
A26: 2016 | B26: March | C26: =SUM(G26,I26,L26,O26) -> 11667.5 | D26: 19222038 | E26: 355013 | G26: =G25 -> 10277 | I26: =I25 -> 1283 | L26: =L25 -> 101.5 | O26: 6 | Q26: =Q25 -> 30 | T26: 73 | W26: =W25 -> 2969.5
A27: 2016 | B27: April | C27: =SUM(G27,I27,L27,O27) -> 11667.5 | D27: 17539923 | E27: 494348 | G27: =G26 -> 10277 | I27: =I26 -> 1283 | L27: =L26 -> 101.5 | O27: 6 | Q27: =Q26 -> 30 | T27: 73 | W27: =W26 -> 2969.5
A28: 2016 | B28: May | C28: =SUM(G28,I28,L28,O28) -> 11667.5 | D28: 17888192 | E28: 630932 | G28: =G27 -> 10277 | I28: =I27 -> 1283 | L28: =L27 -> 101.5 | O28: 6 | Q28: =Q27 -> 30 | T28: 73 | W28: =W27 -> 2969.5
A29: 2016 | B29: June | C29: =SUM(G29,I29,L29,O29) -> 11667.5 | D29: 21176371 | E29: 685810 | G29: =G28 -> 10277 | I29: =I28 -> 1283 | L29: =L28 -> 101.5 | O29: 6 | Q29: =Q28 -> 30 | T29: 73 | W29: =W28 -> 2969.5
A30: 2016 | B30: July | C30: =SUM(G30,I30,L30,O30) -> 11667.5 | D30: 25410950 | E30: 653742 | G30: =G29 -> 10277 | I30: =I29 -> 1283 | L30: =L29 -> 101.5 | O30: 6 | Q30: =Q29 -> 30 | T30: 73 | W30: =W29 -> 2969.5
A31: 2016 | B31: August | C31: =SUM(G31,I31,L31,O31) -> 11667.5 | D31: 26478809 | E31: 604454 | G31: =G30 -> 10277 | I31: =I30 -> 1283 | L31: =L30 -> 101.5 | O31: 6 | Q31: =Q30 -> 30 | T31: 73 | W31: =W30 -> 2969.5
A32: 2016 | B32: September | C32: =SUM(G32,I32,L32,O32) -> 11667.5 | D32: 19964495 | E32: 499609 | G32: =G31 -> 10277 | I32: =I31 -> 1283 | L32: =L31 -> 101.5 | O32: 6 | Q32: =Q31 -> 30 | T32: 73 | W32: =W31 -> 2969.5
A33: 2016 | B33: October | C33: =SUM(G33,I33,L33,O33) -> 11667.5 | D33: 16743812 | E33: 419947 | G33: =G32 -> 10277 | I33: =I32 -> 1283 | L33: =L32 -> 101.5 | O33: 6 | Q33: =Q32 -> 30 | T33: 73 | W33: =W32 -> 2969.5
A34: 2016 | B34: November | C34: =SUM(G34,I34,L34,O34) -> 11667.5 | D34: 17780991 | E34: 308938 | G34: =G33 -> 10277 | I34: =I33 -> 1283 | L34: =L33 -> 101.5 | O34: 6 | Q34: =Q33 -> 30 | T34: 73 | W34: =W33 -> 2969.5
A35: 2016 | B35: December | C35: =SUM(G35,I35,L35,O35) -> 11667.5 | D35: 21570625 | E35: 133539 | F35: 91479319 | G35: =G34 -> 10277 | H35: 28315731 | I35: =I34 -> 1283 | J35: 59051959 | K35: 188539.6 | L35: =L34 -> 101.5 | M35: 57823879 | N35: 117955 | O35: 6 | P35: 257059 | Q35: =Q34 -> 30 | R35: 153690 | S35: 411 | T35: 73 | U35: 1585584 | V35: 4764 | W35: =W34 -> 2969.5
A36: 2017 | B36: January | C36: =SUM(G36,I36,L36,O36) -> 11718.5 | D36: 21358693 | E36: 142223 | F36: =F37 -> 0 | G36: ='Customer Determination'!C5 -> 10374.5 | H36: =H37 -> 0 | I36: ='Customer Determination'!E5 -> 1224.5 | J36: =J37 -> 0 | K36: =K37 -> 0 | L36: ='Customer Determination'!G5 -> 113.5 | M36: =M37 -> 0 | N36: =N37 -> 0 | O36: =O37 -> 6 | P36: =P37 -> 0 | Q36: ='Customer Determination'!K5 -> 30.5 | R36: =R37 -> 0 | S36: =S37 -> 0 | T36: 73 | U36: =U37 -> 0 | V36: =V37 -> 0 | W36: ='Customer Determination'!O5 -> 2932
A37: 2017 | B37: February | C37: =SUM(G37,I37,L37,O37) -> 11718.5 | D37: 17924355 | E37: 311443 | G37: =G36 -> 10374.5 | I37: =I36 -> 1224.5 | L37: =L36 -> 113.5 | O37: 6 | Q37: =Q36 -> 30.5 | T37: 73 | W37: =W36 -> 2932
A38: 2017 | B38: March | C38: =SUM(G38,I38,L38,O38) -> 11718.5 | D38: 19428993 | E38: 418801 | G38: =G37 -> 10374.5 | I38: =I37 -> 1224.5 | L38: =L37 -> 113.5 | O38: 6 | Q38: =Q37 -> 30.5 | T38: 73 | W38: =W37 -> 2932
A39: 2017 | B39: April | C39: =SUM(G39,I39,L39,O39) -> 11718.5 | D39: 15946372 | E39: 473713 | G39: =G38 -> 10374.5 | I39: =I38 -> 1224.5 | L39: =L38 -> 113.5 | O39: 6 | Q39: =Q38 -> 30.5 | T39: 73 | W39: =W38 -> 2932
A40: 2017 | B40: May | C40: =SUM(G40,I40,L40,O40) -> 11718.5 | D40: 16906557 | E40: 826417 | G40: =G39 -> 10374.5 | I40: =I39 -> 1224.5 | L40: =L39 -> 113.5 | O40: 6 | Q40: =Q39 -> 30.5 | T40: 73 | W40: =W39 -> 2932
A41: 2017 | B41: June | C41: =SUM(G41,I41,L41,O41) -> 11718.5 | D41: 20456313 | E41: 745371 | G41: =G40 -> 10374.5 | I41: =I40 -> 1224.5 | L41: =L40 -> 113.5 | O41: 6 | Q41: =Q40 -> 30.5 | T41: 73 | W41: =W40 -> 2932
A42: 2017 | B42: July | C42: =SUM(G42,I42,L42,O42) -> 11718.5 | D42: 24127924 | E42: 738146 | G42: =G41 -> 10374.5 | I42: =I41 -> 1224.5 | L42: =L41 -> 113.5 | O42: 6 | Q42: =Q41 -> 30.5 | T42: 73 | W42: =W41 -> 2932
A43: 2017 | B43: August | C43: =SUM(G43,I43,L43,O43) -> 11718.5 | D43: 20981874 | E43: 688252 | G43: =G42 -> 10374.5 | I43: =I42 -> 1224.5 | L43: =L42 -> 113.5 | O43: 6 | Q43: =Q42 -> 30.5 | T43: 73 | W43: =W42 -> 2932
A44: 2017 | B44: September | C44: =SUM(G44,I44,L44,O44) -> 11718.5 | D44: 17752579 | E44: 621289 | G44: =G43 -> 10374.5 | I44: =I43 -> 1224.5 | L44: =L43 -> 113.5 | O44: 6 | Q44: =Q43 -> 30.5 | T44: 73 | W44: =W43 -> 2932
A45: 2017 | B45: October | C45: =SUM(G45,I45,L45,O45) -> 11718.5 | D45: 16267870 | E45: 422987 | G45: =G44 -> 10374.5 | I45: =I44 -> 1224.5 | L45: =L44 -> 113.5 | O45: 6 | Q45: =Q44 -> 30.5 | T45: 73 | W45: =W44 -> 2932
A46: 2017 | B46: November | C46: =SUM(G46,I46,L46,O46) -> 11718.5 | D46: 17286540 | E46: 285862 | G46: =G45 -> 10374.5 | I46: =I45 -> 1224.5 | L46: =L45 -> 113.5 | O46: 6 | Q46: =Q45 -> 30.5 | T46: 73 | W46: =W45 -> 2932
A47: 2017 | B47: December | C47: =SUM(G47,I47,L47,O47) -> 11718.5 | D47: 20215408 | E47: 172953 | F47: 86529651 | G47: =G46 -> 10374.5 | H47: 27228067 | I47: =I46 -> 1224.5 | J47: 47449870 | K47: 188530 | L47: =L46 -> 113.5 | M47: 56843411 | N47: 143958 | O47: 6 | P47: 255469 | Q47: =Q46 -> 30.5 | R47: 152795 | S47: 406 | T47: 73 | U47: 1361607 | V47: 3705 | W47: =W46 -> 2932
...

Sheet Load Forecast Summary
A1: ELK Energy Weather Normal Load Forecast for 2027 Rate Application
L2: 2026 Bridge | M2: 2027 Test
B3: 2016 Actual | C3: 2017 Actual | D3: 2018 Actual | E3: 2019 Actual | F3: 2020 Actual | G3: 2021 Actual | H3: 2022 Actual | I3: 2023 Actual | J3: 2024 Actual | K3: 2025 Actual | L3: Weather Normal | M3: Weather Normal
A4: Actual kWh Purchases | B4: =+'Power Purchased Model'!D152 -> 2.5127777e+08 | C4: =+'Power Purchased Model'!D153 -> 2.3450093e+08 | D4: =+'Power Purchased Model'!D154 -> 2.4516386e+08 | E4: =+'Power Purchased Model'!D155 -> 2.5286852e+08 | F4: =+'Power Purchased Model'!D156 -> 2.5399647e+08 | G4: =+'Power Purchased Model'!D157 -> 2.498775e+08 | H4: =+'Power Purchased Model'!D158 -> 2.4537848e+08 | I4: =+'Power Purchased Model'!D159 -> 2.4073625e+08 | J4: =+'Power Purchased Model'!D160 -> 2.5542823e+08 | K4: =+'Power Purchased Model'!D161 -> 2.5603297e+08
A5: Predicted kWh Purchases | B5: =+'Power Purchased Model'!K152 -> 2.4620614e+08 | C5: =+'Power Purchased Model'!K153 -> 2.3741519e+08 | D5: =+'Power Purchased Model'!K154 -> 2.4889875e+08 | E5: =+'Power Purchased Model'!K155 -> 2.4885455e+08 | F5: =+'Power Purchased Model'!K156 -> 2.5208957e+08 | G5: =+'Power Purchased Model'!K157 -> 2.5313693e+08 | H5: =+'Power Purchased Model'!K158 -> 2.5293334e+08 | I5: =+'Power Purchased Model'!K159 -> 2.4241496e+08 | J5: =+'Power Purchased Model'!K160 -> 2.4903441e+08 | K5: =+'Power Purchased Model'!K161 -> 2.5427714e+08 | L5: =+'Power Purchased Model'!K162 -> 2.5429854e+08 | M5: =+'Power Purchased Model'!K163 -> 2.5534686e+08
A6: % Difference | B6: =(B5-B4)/B4 -> -0.020183371 | C6: =(C5-C4)/C4 -> 0.0124275 | D6: =(D5-D4)/D4 -> 0.015234244 | E6: =(E5-E4)/E4 -> -0.015873729 | F6: =(F5-F4)/F4 -> -0.0075075639 | G6: =(G5-G4)/G4 -> 0.013044116 | H6: =(H5-H4)/H4 -> 0.030788608 | I6: =(I5-I4)/I4 -> 0.0069732245 | ... K6: =(K5-K4)/K4 -> -0.0068578223
A10: Total Billed | B10: ='Rate Class Energy Model'!G3 -> 238667221 | C10: ='Rate Class Energy Model'!G4 -> 219820870 | D10: ='Rate Class Energy Model'!G5 -> 246426601 | E10: ='Rate Class Energy Model'!G6 -> 242876722 | F10: ='Rate Class Energy Model'!G7 -> 239102776 | G10: ='Rate Class Energy Model'!G8 -> 242792191 | H10: ='Rate Class Energy Model'!G9 -> 2.3786065e+08 | I10: ='Rate Class Energy Model'!G10 -> 2.3410454e+08 | J10: ='Rate Class Energy Model'!G11 -> 2.3960581e+08 | K10: ='Rate Class Energy Model'!G12 -> 2.3758816e+08 | L10: ='Rate Class Energy Model'!G33 -> 2.4042596e+08 | M10: ='Rate Class Energy Model'!G34 -> 2.4141709e+08
A12: By Class
A13: ='Rate Class Energy Model'!H2 -> Residential
A14: Customers | B14: ='Rate Class Customer Model'!B3 -> 10277 | C14: ='Rate Class Customer Model'!B4 -> 10374.5 | D14: ='Rate Class Customer Model'!B5 -> 10659.5 | E14: ='Rate Class Customer Model'!B6 -> 10922.5 | F14: ='Rate Class Customer Model'!B7 -> 11019.5 | G14: ='Rate Class Customer Model'!B8 -> 11096 | H14: ='Rate Class Customer Model'!B9 -> 11136 | I14: ='Rate Class Customer Model'!B10 -> 11213.5 | J14: ='Rate Class Customer Model'!B11 -> 11298.5 | K14: ='Rate Class Customer Model'!B12 -> 11354.5 | L14: ='Rate Class Customer Model'!B13 -> 11422.712 | M14: ='Rate Class Customer Model'!B14 -> 11491.334
A15: kWh | B15: ='Rate Class Energy Model'!H3 -> 91479319 | C15: ='Rate Class Energy Model'!H4 -> 86529651 | D15: ='Rate Class Energy Model'!H5 -> 94517191 | E15: ='Rate Class Energy Model'!H6 -> 92484569 | F15: ='Rate Class Energy Model'!H7 -> 98305959 | G15: ='Rate Class Energy Model'!H8 -> 106359838 | H15: ='Rate Class Energy Model'!H9 -> 105839455 | I15: ='Rate Class Energy Model'!H10 -> 96458582 | J15: ='Rate Class Energy Model'!H11 -> 1.0136398e+08 | K15: ='Rate Class Energy Model'!H12 -> 1.0466154e+08 | L15: ='Rate Class Energy Model'!H33 -> 1.0644081e+08 | M15: ='Rate Class Energy Model'!H34 -> 1.071371e+08
A17: ='Rate Class Energy Model'!I2 -> General Service < 50 kW
A18: Customers | B18: ='Rate Class Customer Model'!C3 -> 1283 | C18: ='Rate Class Customer Model'!C4 -> 1224.5 | D18: ='Rate Class Customer Model'!C5 -> 1237 | E18: ='Rate Class Customer Model'!C6 -> 1237 | F18: ='Rate Class Customer Model'!C7 -> 1252 | G18: ='Rate Class Customer Model'!C8 -> 1236.25 | H18: ='Rate Class Customer Model'!C9 -> 1199.125 | I18: ='Rate Class Customer Model'!C10 -> 1174.375 | J18: ='Rate Class Customer Model'!C11 -> 1170 | K18: ='Rate Class Customer Model'!C12 -> 1179 | L18: ='Rate Class Customer Model'!C13 -> 1188.0692 | M18: ='Rate Class Customer Model'!C14 -> 1197.2082
A19: kWh | B19: ='Rate Class Energy Model'!I3 -> 28315731 | C19: ='Rate Class Energy Model'!I4 -> 27228067 | D19: ='Rate Class Energy Model'!I5 -> 28692745 | E19: ='Rate Class Energy Model'!I6 -> 28348056 | F19: ='Rate Class Energy Model'!I7 -> 26410288 | G19: ='Rate Class Energy Model'!I8 -> 27377213 | H19: ='Rate Class Energy Model'!I9 -> 29663800 | I19: ='Rate Class Energy Model'!I10 -> 28828610 | J19: ='Rate Class Energy Model'!I11 -> 30766203 | K19: ='Rate Class Energy Model'!I12 -> 31964519 | L19: ='Rate Class Energy Model'!I33 -> 32562365 | M19: ='Rate Class Energy Model'!I34 -> 32830262
A21: ='Rate Class Energy Model'!J2 -> General Service > 50 kW
A22: Customers | B22: ='Rate Class Customer Model'!D3 -> 101.5 | C22: ='Rate Class Customer Model'!D4 -> 113.5 | D22: ='Rate Class Customer Model'!D5 -> 110.5 | E22: ='Rate Class Customer Model'!D6 -> 96 | F22: ='Rate Class Customer Model'!D7 -> 98 | G22: ='Rate Class Customer Model'!D8 -> 101 | H22: ='Rate Class Customer Model'!D9 -> 98 | I22: ='Rate Class Customer Model'!D10 -> 91.5 | J22: ='Rate Class Customer Model'!D11 -> 90 | K22: ='Rate Class Customer Model'!D12 -> 89 | L22: ='Rate Class Customer Model'!D13 -> 89 | M22: ='Rate Class Customer Model'!D14 -> 89
A23: kWh | B23: ='Rate Class Energy Model'!J3 -> 59051959 | C23: ='Rate Class Energy Model'!J4 -> 47449870 | D23: ='Rate Class Energy Model'!J5 -> 59787962 | E23: ='Rate Class Energy Model'!J6 -> 59632442 | F23: ='Rate Class Energy Model'!J7 -> 52047649 | G23: ='Rate Class Energy Model'!J8 -> 56544701 | H23: ='Rate Class Energy Model'!J9 -> 55678002 | I23: ='Rate Class Energy Model'!J10 -> 59808298 | J23: ='Rate Class Energy Model'!J11 -> 59377099 | K23: ='Rate Class Energy Model'!J12 -> 57467168 | L23: ='Rate Class Energy Model'!J33 -> 57923466 | M23: ='Rate Class Energy Model'!J34 -> 57945873
A24: kW | B24: ='Rate Class Load Model'!B2 -> 188539.6 | C24: ='Rate Class Load Model'!B3 -> 188530 | D24: ='Rate Class Load Model'!B4 -> 173784 | E24: ='Rate Class Load Model'!B5 -> 201036 | F24: ='Rate Class Load Model'!B6 -> 126949 | G24: ='Rate Class Load Model'!B7 -> 231007 | H24: ='Rate Class Load Model'!B8 -> 151124.07 | I24: ='Rate Class Load Model'!B9 -> 215106.83 | J24: ='Rate Class Load Model'!B10 -> 203008.1 | K24: ='Rate Class Load Model'!B11 -> 203060.9 | L24: ='Rate Class Load Model'!B12 -> 204673.23 | M24: ='Rate Class Load Model'!B13 -> 204752.41
A26: =Inputs!M21 -> Embedded Distributor
A27: Customers | B27: ='Rate Class Customer Model'!E3 -> 6 | C27: ='Rate Class Customer Model'!E4 -> 6 | D27: ='Rate Class Customer Model'!E5 -> 6 | E27: ='Rate Class Customer Model'!E6 -> 6 | F27: ='Rate Class Customer Model'!E7 -> 6 | G27: ='Rate Class Customer Model'!E8 -> 6 | H27: ='Rate Class Customer Model'!E9 -> 6 | I27: ='Rate Class Customer Model'!E10 -> 6 | J27: ='Rate Class Customer Model'!E11 -> 6 | K27: ='Rate Class Customer Model'!E12 -> 6 | L27: ='Rate Class Customer Model'!E13 -> 6 | M27: ='Rate Class Customer Model'!E14 -> 6
A28: kWh | B28: ='Rate Class Energy Model'!K3 -> 57823879 | C28: ='Rate Class Energy Model'!K4 -> 56843411 | D28: ='Rate Class Energy Model'!K5 -> 61680653 | E28: ='Rate Class Energy Model'!K6 -> 60666329 | F28: ='Rate Class Energy Model'!K7 -> 60666329 | G28: ='Rate Class Energy Model'!K8 -> 50859469 | H28: ='Rate Class Energy Model'!K9 -> 45020625 | I28: ='Rate Class Energy Model'!K10 -> 47435811 | J28: ='Rate Class Energy Model'!K11 -> 46518194 | K28: ='Rate Class Energy Model'!K12 -> 41943488 | L28: ='Rate Class Energy Model'!K33 -> 41943488 | M28: ='Rate Class Energy Model'!K34 -> 41943488
A29: kW | B29: ='Rate Class Load Model'!C2 -> 117955 | C29: ='Rate Class Load Model'!C3 -> 143958 | D29: ='Rate Class Load Model'!C4 -> 145229 | E29: ='Rate Class Load Model'!C5 -> 139224 | F29: ='Rate Class Load Model'!C6 -> 139224 | G29: ='Rate Class Load Model'!C7 -> 115598 | H29: ='Rate Class Load Model'!C8 -> 129568 | I29: ='Rate Class Load Model'!C9 -> 127663.3 | J29: ='Rate Class Load Model'!C10 -> 121969.7 | K29: ='Rate Class Load Model'!C11 -> 116093.29 | L29: ='Rate Class Load Model'!C12 -> 116093.29 | M29: ='Rate Class Load Model'!C13 -> 116093.29
A31: ='Rate Class Energy Model'!L2 -> Unmetered Scatter Load
A32: Connections | B32: ='Rate Class Customer Model'!F3 -> 30 | C32: ='Rate Class Customer Model'!F4 -> 30.5 | D32: ='Rate Class Customer Model'!F5 -> 31.5 | E32: ='Rate Class Customer Model'!F6 -> 32 | F32: ='Rate Class Customer Model'!F7 -> 32 | G32: ='Rate Class Customer Model'!F8 -> 31.5 | H32: ='Rate Class Customer Model'!F9 -> 31 | I32: ='Rate Class Customer Model'!F10 -> 30 | J32: ='Rate Class Customer Model'!F11 -> 29 | K32: ='Rate Class Customer Model'!F12 -> 29 | L32: ='Rate Class Customer Model'!F13 -> 28.434631 | M32: ='Rate Class Customer Model'!F14 -> 27.880285
A33: kWh | B33: ='Rate Class Energy Model'!L3 -> 257059 | C33: ='Rate Class Energy Model'!L4 -> 255469 | D33: ='Rate Class Energy Model'!L5 -> 249143 | E33: ='Rate Class Energy Model'!L6 -> 246885 | F33: ='Rate Class Energy Model'!L7 -> 246885 | G33: ='Rate Class Energy Model'!L8 -> 248173 | H33: ='Rate Class Energy Model'!L9 -> 248448 | I33: ='Rate Class Energy Model'!L10 -> 248859 | J33: ='Rate Class Energy Model'!L11 -> 250863.24 | K33: ='Rate Class Energy Model'!L12 -> 235012.72 | L33: ='Rate Class Energy Model'!L33 -> 230431.04 | M33: ='Rate Class Energy Model'!L34 -> 225938.67
A35: ='Rate Class Energy Model'!M2 -> Sentinel Lighting
A36: Connections | B36: ='Rate Class Customer Model'!G3 -> 73 | C36: ='Rate Class Customer Model'!G4 -> 73 | D36: ='Rate Class Customer Model'!G5 -> 73 | E36: ='Rate Class Customer Model'!G6 -> 73 | F36: ='Rate Class Customer Model'!G7 -> 73 | G36: ='Rate Class Customer Model'!G8 -> 73 | H36: ='Rate Class Customer Model'!G9 -> 73 | I36: ='Rate Class Customer Model'!G10 -> 73 | J36: ='Rate Class Customer Model'!G11 -> 73 | K36: ='Rate Class Customer Model'!G12 -> 73 | L36: ='Rate Class Customer Model'!G13 -> 73 | M36: ='Rate Class Customer Model'!G14 -> 73
A37: kWh | B37: ='Rate Class Energy Model'!M3 -> 153690 | C37: ='Rate Class Energy Model'!M4 -> 152795 | D37: ='Rate Class Energy Model'!M5 -> 149558 | E37: ='Rate Class Energy Model'!M6 -> 144657 | F37: ='Rate Class Energy Model'!M7 -> 141998 | G37: ='Rate Class Energy Model'!M8 -> 137713 | H37: ='Rate Class Energy Model'!M9 -> 138479 | I37: ='Rate Class Energy Model'!M10 -> 136721.45 | J37: ='Rate Class Energy Model'!M11 -> 137219.59 | K37: ='Rate Class Energy Model'!M12 -> 117252.78 | L37: ='Rate Class Energy Model'!M33 -> 117252.78 | M37: ='Rate Class Energy Model'!M34 -> 117252.78
A38: kW | B38: ='Rate Class Load Model'!D2 -> 411 | C38: ='Rate Class Load Model'!D3 -> 406 | D38: ='Rate Class Load Model'!D4 -> 388 | E38: ='Rate Class Load Model'!D5 -> 364 | F38: ='Rate Class Load Model'!D6 -> 385 | G38: ='Rate Class Load Model'!D7 -> 357 | H38: ='Rate Class Load Model'!D8 -> 360 | I38: ='Rate Class Load Model'!D9 -> 357.1 | J38: ='Rate Class Load Model'!D10 -> 352 | K38: ='Rate Class Load Model'!D11 -> 375.7 | L38: ='Rate Class Load Model'!D12 -> 375.7 | M38: ='Rate Class Load Model'!D13 -> 375.7
A40: ='Rate Class Energy Model'!N2 -> Street Lighting
A41: Connections | B41: ='Rate Class Customer Model'!H3 -> 2969.5 | C41: ='Rate Class Customer Model'!H4 -> 2932 | D41: ='Rate Class Customer Model'!H5 -> 2955 | E41: ='Rate Class Customer Model'!H6 -> 2992 | F41: ='Rate Class Customer Model'!H7 -> 3043 | G41: ='Rate Class Customer Model'!H8 -> 3091.5 | H41: ='Rate Class Customer Model'!H9 -> 3133 | I41: ='Rate Class Customer Model'!H10 -> 3162 | J41: ='Rate Class Customer Model'!H11 -> 3158 | K41: ='Rate Class Customer Model'!H12 -> 3158.5 | L41: ='Rate Class Customer Model'!H13 -> 3182.1208 | M41: ='Rate Class Customer Model'!H14 -> 3205.9183
A42: kWh | B42: ='Rate Class Energy Model'!N3 -> 1585584 | C42: ='Rate Class Energy Model'!N4 -> 1361607 | D42: ='Rate Class Energy Model'!N5 -> 1349349 | E42: ='Rate Class Energy Model'!N6 -> 1353784 | F42: ='Rate Class Energy Model'!N7 -> 1283668 | G42: ='Rate Class Energy Model'!N8 -> 1265084 | H42: ='Rate Class Energy Model'!N9 -> 1271846 | I42: ='Rate Class Energy Model'!N10 -> 1187658 | J42: ='Rate Class Energy Model'!N11 -> 1192252.5 | K42: ='Rate Class Energy Model'!N12 -> 1199177.9 | L42: ='Rate Class Energy Model'!N33 -> 1208146 | M42: ='Rate Class Energy Model'!N34 -> 1217181.1
A43: kW | B43: ='Rate Class Load Model'!E2 -> 4764 | C43: ='Rate Class Load Model'!E3 -> 3705 | D43: ='Rate Class Load Model'!E4 -> 3920 | E43: ='Rate Class Load Model'!E5 -> 3756 | F43: ='Rate Class Load Model'!E6 -> 3927 | G43: ='Rate Class Load Model'!E7 -> 3399 | H43: ='Rate Class Load Model'!E8 -> 3342 | I43: ='Rate Class Load Model'!E9 -> 3319.34 | J43: ='Rate Class Load Model'!E10 -> 3338.8 | K43: ='Rate Class Load Model'!E11 -> 3367.1 | L43: ='Rate Class Load Model'!E12 -> 3392.2808 | M43: ='Rate Class Load Model'!E13 -> 3417.65
A45: Total
A46: Customer/Connections | B46: =+B14+B18+B22+B27+B32+B36+B41 -> 14740 | C46: =+C14+C18+C22+C27+C32+C36+C41 -> 14754 | D46: =+D14+D18+D22+D27+D32+D36+D41 -> 15072.5 | E46: =+E14+E18+E22+E27+E32+E36+E41 -> 15358.5 | F46: =+F14+F18+F22+F27+F32+F36+F41 -> 15523.5 | G46: =+G14+G18+G22+G27+G32+G36+G41 -> 15635.25 | H46: =+H14+H18+H22+H27+H32+H36+H41 -> 15676.125 | I46: =+I14+I18+I22+I27+I32+I36+I41 -> 15750.375 | ... M46: =+M14+M18+M22+M27+M32+M36+M41 -> 16090.341
A47: kWh | B47: =+B15+B19+B23+B28+B33+B37+B42 -> 238667221 | C47: =+C15+C19+C23+C28+C33+C37+C42 -> 219820870 | D47: =+D15+D19+D23+D28+D33+D37+D42 -> 246426601 | E47: =+E15+E19+E23+E28+E33+E37+E42 -> 242876722 | F47: =+F15+F19+F23+F28+F33+F37+F42 -> 239102776 | G47: =+G15+G19+G23+G28+G33+G37+G42 -> 242792191 | H47: =+H15+H19+H23+H28+H33+H37+H42 -> 2.3786065e+08 | I47: =+I15+I19+I23+I28+I33+I37+I42 -> 2.3410454e+08 | ... M47: =+M15+M19+M23+M28+M33+M37+M42 -> 2.4141709e+08
A48: kW from applicable classes | B48: =B24+B29+B38+B43 -> 311669.6 | C48: =C24+C29+C38+C43 -> 336599 | D48: =D24+D29+D38+D43 -> 323321 | E48: =E24+E29+E38+E43 -> 344380 | F48: =F24+F29+F38+F43 -> 270485 | G48: =G24+G29+G38+G43 -> 350361 | H48: =H24+H29+H38+H43 -> 284394.07 | I48: =I24+I29+I38+I43 -> 346446.57 | ... M48: =M24+M29+M38+M43 -> 324639.05
A50: Customer/Connections | B50: ='Rate Class Customer Model'!I3 -> 14740 | C50: ='Rate Class Customer Model'!I4 -> 14754 | D50: ='Rate Class Customer Model'!I5 -> 15072.5 | E50: ='Rate Class Customer Model'!I6 -> 15358.5 | F50: ='Rate Class Customer Model'!I7 -> 15523.5 | G50: ='Rate Class Customer Model'!I8 -> 15635.25 | H50: ='Rate Class Customer Model'!I9 -> 15676.125 | I50: ='Rate Class Customer Model'!I10 -> 15750.375 | J50: ='Rate Class Customer Model'!I11 -> 15824.5 | K50: ='Rate Class Customer Model'!I12 -> 15889 | L50: ='Rate Class Customer Model'!I13 -> 15989.337 | M50: ='Rate Class Customer Model'!I14 -> 16090.341
A51: kWh | B51: =B10 -> 238667221 | C51: =C10 -> 219820870 | D51: =D10 -> 246426601 | E51: =E10 -> 242876722 | F51: =F10 -> 239102776 | G51: =G10 -> 242792191 | H51: =H10 -> 2.3786065e+08 | I51: =I10 -> 2.3410454e+08 | ... M51: =M10 -> 2.4141709e+08
A52: kW from applicable classes | B52: ='Rate Class Load Model'!F2 -> 311669.6 | C52: ='Rate Class Load Model'!F3 -> 336599 | D52: ='Rate Class Load Model'!F4 -> 323321 | E52: ='Rate Class Load Model'!F5 -> 344380 | F52: ='Rate Class Load Model'!F6 -> 270485 | G52: ='Rate Class Load Model'!F7 -> 350361 | H52: ='Rate Class Load Model'!F8 -> 284394.07 | I52: ='Rate Class Load Model'!F9 -> 346446.57 | J52: ='Rate Class Load Model'!F10 -> 328668.6 | K52: ='Rate Class Load Model'!F11 -> 322896.99 | L52: ='Rate Class Load Model'!F12 -> 324534.5 | M52: ='Rate Class Load Model'!F13 -> 324639.05
...

Sheet Power Purchased Model
A2: Date | B2: Power Purchased | C2: Additions | D2: Total Power Purchased | E2: Customers | F2: Days in Month | G2: Spring/Fall Flag | H2: HDD | I2: CDD | J2: COVID | K2: Predicted Purchases | L2: Residual (kWh) | M2: % Residual | N2: % Residual (Abs) | O2: Residual Squared | P2: Difference of Residuals | Q2: Difference of Residuals Squared | S2: SUMMARY OUTPUT
A3: 42400 | B3: =Inputs!D24 -> 22228059 | C3: =Inputs!E24 -> 234806 | D3: =B3+C3 -> 22462865 | E3: =Inputs!C24 -> 11667.5 | F3: 31 | G3: 0 | H3: 627.8 | I3: 0 | J3: 0 | K3: =$T$18+$T$19*E3+$T$20*F3+$T$21*G3+$T$22*H3+$T$23*I3 -> 21349647 | L3: =K3-B3 -> -878411.76 | M3: =L3/B3 -> -0.03951815 | N3: =ABS(M3) -> 0.03951815 | O3: =L3*L3 -> 7.7160723e+11
A4: 42429 | B4: =Inputs!D25 -> 19954897 | C4: =Inputs!E25 -> 297475 | D4: =B4+C4 -> 20252372 | E4: =Inputs!C25 -> 11667.5 | F4: 29 | G4: 0 | H4: 550.2 | I4: 0 | J4: 0 | K4: =$T$18+$T$19*E4+$T$20*F4+$T$21*G4+$T$22*H4+$T$23*I4 -> 19316660 | L4: =K4-B4 -> -638236.7 | M4: =L4/B4 -> -0.031983964 | N4: =ABS(M4) -> 0.031983964 | O4: =L4*L4 -> 4.0734609e+11 | P4: =L4-L3 -> 240175.06 | Q4: =P4*P4 -> 5.768406e+10 | S4: Regression Statistics
A5: 42460 | B5: =Inputs!D26 -> 19222038 | C5: =Inputs!E26 -> 355013 | D5: =B5+C5 -> 19577051 | E5: =Inputs!C26 -> 11667.5 | F5: 31 | G5: 1 | H5: 404.4 | I5: 0 | J5: 0 | K5: =$T$18+$T$19*E5+$T$20*F5+$T$21*G5+$T$22*H5+$T$23*I5 -> 18387013 | L5: =K5-B5 -> -835024.81 | M5: =L5/B5 -> -0.043441014 | N5: =ABS(M5) -> 0.043441014 | O5: =L5*L5 -> 6.9726643e+11 | P5: =L5-L4 -> -196788.11 | Q5: =P5*P5 -> 3.8725559e+10 | S5: Multiple R | T5: 0.95699588
A6: 42490 | B6: =Inputs!D27 -> 17539923 | C6: =Inputs!E27 -> 494348 | D6: =B6+C6 -> 18034271 | E6: =Inputs!C27 -> 11667.5 | F6: 30 | G6: 1 | H6: 332.1 | I6: 0 | J6: 0 | K6: =$T$18+$T$19*E6+$T$20*F6+$T$21*G6+$T$22*H6+$T$23*I6 -> 17159236 | L6: =K6-B6 -> -380687.3 | M6: =L6/B6 -> -0.021704046 | N6: =ABS(M6) -> 0.021704046 | O6: =L6*L6 -> 1.4492282e+11 | P6: =L6-L5 -> 454337.52 | Q6: =P6*P6 -> 2.0642258e+11 | S6: R Square | T6: 0.91584112
A7: 42521 | B7: =Inputs!D28 -> 17888192 | C7: =Inputs!E28 -> 630932 | D7: =B7+C7 -> 18519124 | E7: =Inputs!C28 -> 11667.5 | F7: 31 | G7: 1 | H7: 126.6 | I7: 37.4 | J7: 0 | K7: =$T$18+$T$19*E7+$T$20*F7+$T$21*G7+$T$22*H7+$T$23*I7 -> 18639378 | L7: =K7-B7 -> 751185.77 | M7: =L7/B7 -> 0.041993387 | N7: =ABS(M7) -> 0.041993387 | O7: =L7*L7 -> 5.6428006e+11 | P7: =L7-L6 -> 1131873.1 | Q7: =P7*P7 -> 1.2811366e+12 | S7: Adjusted R Square | T7: 0.91214994
A8: 42551 | B8: =Inputs!D29 -> 21176371 | C8: =Inputs!E29 -> 685810 | D8: =B8+C8 -> 21862181 | E8: =Inputs!C29 -> 11667.5 | F8: 30 | G8: 0 | H8: 6.8 | I8: 101.3 | J8: 0 | K8: =$T$18+$T$19*E8+$T$20*F8+$T$21*G8+$T$22*H8+$T$23*I8 -> 22090379 | L8: =K8-B8 -> 914008.63 | M8: =L8/B8 -> 0.043161722 | N8: =ABS(M8) -> 0.043161722 | O8: =L8*L8 -> 8.3541177e+11 | P8: =L8-L7 -> 162822.86 | Q8: =P8*P8 -> 2.6511283e+10 | S8: Standard Error | T8: 858649.39
A9: 42582 | B9: =Inputs!D30 -> 25410950 | C9: =Inputs!E30 -> 653742 | D9: =B9+C9 -> 26064692 | E9: =Inputs!C30 -> 11667.5 | F9: 31 | G9: 0 | H9: 0 | I9: 178.3 | J9: 0 | K9: =$T$18+$T$19*E9+$T$20*F9+$T$21*G9+$T$22*H9+$T$23*I9 -> 26946072 | L9: =K9-B9 -> 1535122.3 | M9: =L9/B9 -> 0.060411843 | N9: =ABS(M9) -> 0.060411843 | O9: =L9*L9 -> 2.3566006e+12 | P9: =L9-L8 -> 621113.7 | Q9: =P9*P9 -> 3.8578223e+11 | S9: Observations | T9: 120
A10: 42613 | B10: =Inputs!D31 -> 26478809 | C10: =Inputs!E31 -> 604454 | D10: =B10+C10 -> 27083263 | E10: =Inputs!C31 -> 11667.5 | F10: 31 | G10: 0 | H10: 0 | I10: 165.6 | J10: 0 | K10: =$T$18+$T$19*E10+$T$20*F10+$T$21*G10+$T$22*H10+$T$23*I10 -> 26265419 | L10: =K10-B10 -> -213390.77 | M10: =L10/B10 -> -0.008058926 | N10: =ABS(M10) -> 0.008058926 | O10: =L10*L10 -> 4.5535619e+10 | P10: =L10-L9 -> -1748513.1 | Q10: =P10*P10 -> 3.057298e+12
A11: 42643 | B11: =Inputs!D32 -> 19964495 | C11: =Inputs!E32 -> 499609 | D11: =B11+C11 -> 20464104 | E11: =Inputs!C32 -> 11667.5 | F11: 30 | G11: 0 | H11: 19.4 | I11: 60.7 | J11: 0 | K11: =$T$18+$T$19*E11+$T$20*F11+$T$21*G11+$T$22*H11+$T$23*I11 -> 19993899 | L11: =K11-B11 -> 29404.355 | M11: =L11/B11 -> 0.0014728324 | N11: =ABS(M11) -> 0.0014728324 | O11: =L11*L11 -> 8.646161e+08 | P11: =L11-L10 -> 242795.12 | Q11: =P11*P11 -> 5.8949471e+10 | S11: ANOVA
A12: 42674 | B12: =Inputs!D33 -> 16743812 | C12: =Inputs!E33 -> 419947 | D12: =B12+C12 -> 17163759 | E12: =Inputs!C33 -> 11667.5 | F12: 31 | G12: 1 | H12: 173.2 | I12: 14.1 | J12: 0 | K12: =$T$18+$T$19*E12+$T$20*F12+$T$21*G12+$T$22*H12+$T$23*I12 -> 17684525 | L12: =K12-B12 -> 940713.29 | M12: =L12/B12 -> 0.056182745 | N12: =ABS(M12) -> 0.056182745 | O12: =L12*L12 -> 8.849415e+11 | P12: =L12-L11 -> 911308.94 | Q12: =P12*P12 -> 8.3048398e+11 | T12: df | U12: SS | V12: MS | W12: F | X12: Significance F
A13: 42704 | B13: =Inputs!D34 -> 17780991 | C13: =Inputs!E34 -> 308938 | D13: =B13+C13 -> 18089929 | E13: =Inputs!C34 -> 11667.5 | F13: 30 | G13: 1 | H13: 315.3 | I13: 0 | J13: 0 | K13: =$T$18+$T$19*E13+$T$20*F13+$T$21*G13+$T$22*H13+$T$23*I13 -> 17053278 | L13: =K13-B13 -> -727712.38 | M13: =L13/B13 -> -0.040926425 | N13: =ABS(M13) -> 0.040926425 | O13: =L13*L13 -> 5.2956531e+11 | P13: =L13-L12 -> -1668425.7 | Q13: =P13*P13 -> 2.7836442e+12 | S13: Regression | T13: 5 | U13: 9.1465386e+14 | V13: 1.8293077e+14 | W13: 248.11615 | X13: 1.5803627e-59
A14: 42735 | B14: =Inputs!D35 -> 21570625 | C14: =Inputs!E35 -> 133539 | D14: =B14+C14 -> 21704164 | E14: =Inputs!C35 -> 11667.5 | F14: 31 | G14: 0 | H14: 623.2 | I14: 0 | J14: 0 | K14: =$T$18+$T$19*E14+$T$20*F14+$T$21*G14+$T$22*H14+$T$23*I14 -> 21320635 | L14: =K14-B14 -> -249990.28 | M14: =L14/B14 -> -0.011589385 | N14: =ABS(M14) -> 0.011589385 | O14: =L14*L14 -> 6.2495141e+10 | P14: =L14-L13 -> 477722.1 | Q14: =P14*P14 -> 2.282184e+11 | S14: Residual | T14: 114 | U14: 8.404978e+13 | V14: 7.3727878e+11
A15: 42766 | B15: =Inputs!D36 -> 21358693 | C15: =Inputs!E36 -> 142223 | D15: =B15+C15 -> 21500916 | E15: =Inputs!C36 -> 11718.5 | F15: 31 | G15: =G3 -> 0 | H15: 567.7 | I15: 0 | J15: 0 | K15: =$T$18+$T$19*E15+$T$20*F15+$T$21*G15+$T$22*H15+$T$23*I15 -> 21027717 | L15: =K15-B15 -> -330975.74 | M15: =L15/B15 -> -0.015496067 | N15: =ABS(M15) -> 0.015496067 | O15: =L15*L15 -> 1.0954494e+11 | P15: =L15-L14 -> -80985.455 | Q15: =P15*P15 -> 6.558644e+09 | S15: Total | T15: 119 | U15: 9.9870364e+14
A16: 42794 | B16: =Inputs!D37 -> 17924355 | C16: =Inputs!E37 -> 311443 | D16: =B16+C16 -> 18235798 | E16: =Inputs!C37 -> 11718.5 | F16: 28 | G16: =G4 -> 0 | H16: 440.7 | I16: 0 | J16: 0 | K16: =$T$18+$T$19*E16+$T$20*F16+$T$21*G16+$T$22*H16+$T$23*I16 -> 17911383 | L16: =K16-B16 -> -12972.125 | M16: =L16/B16 -> -0.00072371503 | N16: =ABS(M16) -> 0.00072371503 | O16: =L16*L16 -> 1.6827604e+08 | P16: =L16-L15 -> 318003.61 | Q16: =P16*P16 -> 1.011263e+11
A17: 42825 | B17: =Inputs!D38 -> 19428993 | C17: =Inputs!E38 -> 418801 | D17: =B17+C17 -> 19847794 | E17: =Inputs!C38 -> 11718.5 | F17: 31 | G17: =G5 -> 1 | H17: 507.3 | I17: 0 | J17: 0 | K17: =$T$18+$T$19*E17+$T$20*F17+$T$21*G17+$T$22*H17+$T$23*I17 -> 19093121 | L17: =K17-B17 -> -335871.28 | M17: =L17/B17 -> -0.017287118 | N17: =ABS(M17) -> 0.017287118 | O17: =L17*L17 -> 1.1280952e+11 | P17: =L17-L16 -> -322899.16 | Q17: =P17*P17 -> 1.0426387e+11 | T17: Coefficients | U17: Standard Error | V17: t Stat | W17: P-value | X17: Lower 95% | Y17: Upper 95% | Z17: Lower 95.0% | AA17: Upper 95.0%
A18: 42855 | B18: =Inputs!D39 -> 15946372 | C18: =Inputs!E39 -> 473713 | D18: =B18+C18 -> 16420085 | E18: =Inputs!C39 -> 11718.5 | F18: 30 | G18: =G6 -> 1 | H18: 200.5 | I18: 1 | J18: 0 | K18: =$T$18+$T$19*E18+$T$20*F18+$T$21*G18+$T$22*H18+$T$23*I18 -> 16439951 | L18: =K18-B18 -> 493579.74 | M18: =L18/B18 -> 0.030952479 | N18: =ABS(M18) -> 0.030952479 | O18: =L18*L18 -> 2.4362096e+11 | P18: =L18-L17 -> 829451.02 | Q18: =P18*P18 -> 6.87989e+11 | S18: Intercept | T18: -19602713 | U18: 4302721.9 | V18: -4.5558866 | W18: 1.3166225e-05 | X18: -28126372 | Y18: -11079054 | Z18: -28126372 | AA18: -11079054
A19: 42886 | B19: =Inputs!D40 -> 16906557 | C19: =Inputs!E40 -> 826417 | D19: =B19+C19 -> 17732974 | E19: =Inputs!C40 -> 11718.5 | F19: 31 | G19: =G7 -> 1 | H19: 132.3 | I19: 17.9 | J19: 0 | K19: =$T$18+$T$19*E19+$T$20*F19+$T$21*G19+$T$22*H19+$T$23*I19 -> 17687349 | L19: =K19-B19 -> 780792.25 | M19: =L19/B19 -> 0.046182806 | N19: =ABS(M19) -> 0.046182806 | O19: =L19*L19 -> 6.0963654e+11 | P19: =L19-L18 -> 287212.51 | Q19: =P19*P19 -> 8.2491027e+10 | S19: Customers | T19: 1119.9984 | U19: 241.13715 | V19: 4.6446531 | W19: 9.1930752e-06 | X19: 642.30756 | Y19: 1597.6892 | Z19: 642.30756 | AA19: 1597.6892
A20: 42916 | B20: =Inputs!D41 -> 20456313 | C20: =Inputs!E41 -> 745371 | D20: =B20+C20 -> 21201684 | E20: =Inputs!C41 -> 11718.5 | F20: 30 | G20: =G8 -> 0 | H20: 9.2 | I20: 102.5 | J20: 0 | K20: =$T$18+$T$19*E20+$T$20*F20+$T$21*G20+$T$22*H20+$T$23*I20 -> 22226950 | L20: =K20-B20 -> 1770636.9 | M20: =L20/B20 -> 0.086556993 | N20: =ABS(M20) -> 0.086556993 | O20: =L20*L20 -> 3.1351552e+12 | P20: =L20-L19 -> 989844.69 | Q20: =P20*P20 -> 9.7979251e+11 | S20: Days in Month | T20: 771782.43 | U20: 105577.45 | V20: 7.3101064 | W20: 3.9521247e-11 | X20: 562634.3 | Y20: 980930.55 | Z20: 562634.3 | AA20: 980930.55
A21: 42947 | B21: =Inputs!D42 -> 24127924 | C21: =Inputs!E42 -> 738146 | D21: =B21+C21 -> 24866070 | E21: =Inputs!C42 -> 11718.5 | F21: 31 | G21: =G9 -> 0 | H21: 0 | I21: 137 | J21: 0 | K21: =$T$18+$T$19*E21+$T$20*F21+$T$21*G21+$T$22*H21+$T$23*I21 -> 24789728 | L21: =K21-B21 -> 661803.76 | M21: =L21/B21 -> 0.027428956 | N21: =ABS(M21) -> 0.027428956 | O21: =L21*L21 -> 4.3798422e+11 | P21: =L21-L20 -> -1108833.2 | Q21: =P21*P21 -> 1.229511e+12 | S21: Spring/Fall Flag | T21: -1553654.2 | U21: 214985.64 | V21: -7.2267815 | W21: 6.0227611e-11 | X21: -1979539.1 | Y21: -1127769.3 | Z21: -1979539.1 | AA21: -1127769.3
A22: 42978 | B22: =Inputs!D43 -> 20981874 | C22: =Inputs!E43 -> 688252 | D22: =B22+C22 -> 21670126 | E22: =Inputs!C43 -> 11718.5 | F22: 31 | G22: =G10 -> 0 | H22: 6.7 | I22: 80.6 | J22: 0 | K22: =$T$18+$T$19*E22+$T$20*F22+$T$21*G22+$T$22*H22+$T$23*I22 -> 21809239 | L22: =K22-B22 -> 827365.02 | M22: =L22/B22 -> 0.03943237 | N22: =ABS(M22) -> 0.03943237 | O22: =L22*L22 -> 6.8453288e+11 | P22: =L22-L21 -> 165561.26 | Q22: =P22*P22 -> 2.7410532e+10 | S22: HDD | T22: 6306.9824 | U22: 566.01727 | V22: 11.142738 | W22: 5.9237194e-20 | X22: 5185.7065 | Y22: 7428.2583 | Z22: 5185.7065 | AA22: 7428.2583
A23: 43008 | B23: =Inputs!D44 -> 17752579 | C23: =Inputs!E44 -> 621289 | D23: =B23+C23 -> 18373868 | E23: =Inputs!C44 -> 11718.5 | F23: 30 | G23: =G11 -> 0 | H23: 47.5 | I23: 56.4 | J23: 0 | K23: =$T$18+$T$19*E23+$T$20*F23+$T$21*G23+$T$22*H23+$T$23*I23 -> 19997788 | L23: =K23-B23 -> 2245209.2 | M23: =L23/B23 -> 0.12647228 | N23: =ABS(M23) -> 0.12647228 | O23: =L23*L23 -> 5.0409643e+12 | P23: =L23-L22 -> 1417844.2 | Q23: =P23*P23 -> 2.0102821e+12 | S23: CDD | T23: 53594.778 | U23: 2848.7532 | V23: 18.813416 | W23: 9.4288621e-37 | X23: 47951.42 | Y23: 59238.136 | Z23: 47951.42 | AA23: 59238.136
A24: 43039 | B24: =Inputs!D45 -> 16267870 | C24: =Inputs!E45 -> 422987 | D24: =B24+C24 -> 16690857 | E24: =Inputs!C45 -> 11718.5 | F24: 31 | G24: =G12 -> 1 | H24: 151.6 | I24: 12 | J24: 0 | K24: =$T$18+$T$19*E24+$T$20*F24+$T$21*G24+$T$22*H24+$T$23*I24 -> 17492865 | L24: =K24-B24 -> 1224995.3 | M24: =L24/B24 -> 0.07530152 | N24: =ABS(M24) -> 0.07530152 | O24: =L24*L24 -> 1.5006135e+12 | P24: =L24-L23 -> -1020213.9 | Q24: =P24*P24 -> 1.0408363e+12
A25: 43069 | B25: =Inputs!D46 -> 17286540 | C25: =Inputs!E46 -> 285862 | D25: =B25+C25 -> 17572402 | E25: =Inputs!C46 -> 11718.5 | F25: 30 | G25: =G13 -> 1 | H25: 368.1 | I25: 0 | J25: 0 | K25: =$T$18+$T$19*E25+$T$20*F25+$T$21*G25+$T$22*H25+$T$23*I25 -> 17443407 | L25: =K25-B25 -> 156866.84 | M25: =L25/B25 -> 0.0090745076 | N25: =ABS(M25) -> 0.0090745076 | O25: =L25*L25 -> 2.4607205e+10 | P25: =L25-L24 -> -1068128.5 | Q25: =P25*P25 -> 1.1408984e+12
A26: 43100 | B26: =Inputs!D47 -> 20215408 | C26: =Inputs!E47 -> 172953 | D26: =B26+C26 -> 20388361 | E26: =Inputs!C47 -> 11718.5 | F26: 31 | G26: =G14 -> 0 | H26: 641.9 | I26: 0 | J26: 0 | K26: =$T$18+$T$19*E26+$T$20*F26+$T$21*G26+$T$22*H26+$T$23*I26 -> 21495695 | L26: =K26-B26 -> 1280287.6 | M26: =L26/B26 -> 0.063332265 | N26: =ABS(M26) -> 0.063332265 | O26: =L26*L26 -> 1.6391362e+12 | P26: =L26-L25 -> 1123420.7 | Q26: =P26*P26 -> 1.2620741e+12 | S26: Mean Absolute Percentage Error (MAPE) | T26: =N123 -> 0.041456477
A27: 43131 | B27: =Inputs!D48 -> 21585922 | C27: =Inputs!E48 -> 251852 | D27: =B27+C27 -> 21837774 | E27: =Inputs!C48 -> 12013 | F27: 31 | G27: =G15 -> 0 | H27: 705.6 | I27: 0 | J27: 0 | K27: =$T$18+$T$19*E27+$T$20*F27+$T$21*G27+$T$22*H27+$T$23*I27 -> 22227290 | L27: =K27-B27 -> 641367.56 | M27: =L27/B27 -> 0.029712308 | N27: =ABS(M27) -> 0.029712308 | O27: =L27*L27 -> 4.1135235e+11 | P27: =L27-L26 -> -638920 | Q27: =P27*P27 -> 4.0821876e+11 | S27: Sum of Squared Difference of Residuals | T27: =Q123 -> 1.0926497e+14
A28: 43159 | B28: =Inputs!D49 -> 17656173 | C28: =Inputs!E49 -> 234936 | D28: =B28+C28 -> 17891109 | E28: =Inputs!C49 -> 12013 | F28: 28 | G28: =G16 -> 0 | H28: 544.5 | I28: 0 | J28: 0 | K28: =$T$18+$T$19*E28+$T$20*F28+$T$21*G28+$T$22*H28+$T$23*I28 -> 18895887 | L28: =K28-B28 -> 1239714.5 | M28: =L28/B28 -> 0.070214223 | N28: =ABS(M28) -> 0.070214223 | O28: =L28*L28 -> 1.5368919e+12 | P28: =L28-L27 -> 598346.9 | Q28: =P28*P28 -> 3.5801902e+11 | S28: Sum of Squared Residuals | T28: =O123 -> 1.2229461e+14
A29: 43190 | B29: =Inputs!D50 -> 18248163 | C29: =Inputs!E50 -> 574730 | D29: =B29+C29 -> 18822893 | E29: =Inputs!C50 -> 12013 | F29: 31 | G29: =G17 -> 1 | H29: 519.9 | I29: 0 | J29: 0 | K29: =$T$18+$T$19*E29+$T$20*F29+$T$21*G29+$T$22*H29+$T$23*I29 -> 19502429 | L29: =K29-B29 -> 1254266.1 | M29: =L29/B29 -> 0.068733832 | N29: =ABS(M29) -> 0.068733832 | O29: =L29*L29 -> 1.5731835e+12 | P29: =L29-L28 -> 14551.677 | Q29: =P29*P29 -> 2.1175129e+08
A30: 43220 | B30: =Inputs!D51 -> 16369500 | C30: =Inputs!E51 -> 586292 | D30: =B30+C30 -> 16955792 | E30: =Inputs!C51 -> 12013 | F30: 30 | G30: =G18 -> 1 | H30: 395.6 | I30: 0 | J30: 0 | K30: =$T$18+$T$19*E30+$T$20*F30+$T$21*G30+$T$22*H30+$T$23*I30 -> 17946688 | L30: =K30-B30 -> 1577188.2 | M30: =L30/B30 -> 0.096349196 | N30: =ABS(M30) -> 0.096349196 | O30: =L30*L30 -> 2.4875226e+12 | P30: =L30-L29 -> 322922.04 | Q30: =P30*P30 -> 1.0427864e+11 | S30: Durbin-Watson Calculation | T30: =T27/T28 -> 0.89345695
A31: 43251 | B31: =Inputs!D52 -> 17055235 | C31: =Inputs!E52 -> 731668 | D31: =B31+C31 -> 17786903 | E31: =Inputs!C52 -> 12013 | F31: 31 | G31: =G19 -> 1 | H31: 62.9 | I31: 49.9 | J31: 0 | K31: =$T$18+$T$19*E31+$T$20*F31+$T$21*G31+$T$22*H31+$T$23*I31 -> 19294517 | L31: =K31-B31 -> 2239282.3 | M31: =L31/B31 -> 0.1312959 | N31: =ABS(M31) -> 0.1312959 | O31: =L31*L31 -> 5.0143854e+12 | P31: =L31-L30 -> 662094.15 | Q31: =P31*P31 -> 4.3836867e+11
A32: 43281 | B32: =Inputs!D53 -> 19672643 | C32: =Inputs!E53 -> 710269 | D32: =B32+C32 -> 20382912 | E32: =Inputs!C53 -> 12013 | F32: 30 | G32: =G20 -> 0 | H32: 7.6 | I32: 93.9 | J32: 0 | K32: =$T$18+$T$19*E32+$T$20*F32+$T$21*G32+$T$22*H32+$T$23*I32 -> 22085783 | L32: =K32-B32 -> 2413140.6 | M32: =L32/B32 -> 0.12266479 | N32: =ABS(M32) -> 0.12266479 | O32: =L32*L32 -> 5.8232477e+12 | P32: =L32-L31 -> 173858.29 | Q32: =P32*P32 -> 3.0226706e+10
A33: 43312 | B33: =Inputs!D54 -> 24519316 | C33: =Inputs!E54 -> 778930 | D33: =B33+C33 -> 25298246 | E33: =Inputs!C54 -> 12013 | F33: 31 | G33: =G21 -> 0 | H33: 0.2 | I33: 163.3 | J33: 0 | K33: =$T$18+$T$19*E33+$T$20*F33+$T$21*G33+$T$22*H33+$T$23*I33 -> 26530372 | L33: =K33-B33 -> 2011055.3 | M33: =L33/B33 -> 0.082019225 | N33: =ABS(M33) -> 0.082019225 | O33: =L33*L33 -> 4.0443435e+12 | P33: =L33-L32 -> -402085.3 | Q33: =P33*P33 -> 1.6167259e+11
A34: 43343 | B34: =Inputs!D55 -> 26369599 | C34: =Inputs!E55 -> 636511 | D34: =B34+C34 -> 27006110 | E34: =Inputs!C55 -> 12013 | F34: 31 | G34: =G22 -> 0 | H34: 0 | I34: 135.5 | J34: 0 | K34: =$T$18+$T$19*E34+$T$20*F34+$T$21*G34+$T$22*H34+$T$23*I34 -> 25039175 | L34: =K34-B34 -> -1330424.1 | M34: =L34/B34 -> -0.050452949 | N34: =ABS(M34) -> 0.050452949 | O34: =L34*L34 -> 1.7700282e+12 | P34: =L34-L33 -> -3341479.4 | Q34: =P34*P34 -> 1.1165484e+13
A35: 43373 | B35: =Inputs!D56 -> 21334917 | C35: =Inputs!E56 -> 500836 | D35: =B35+C35 -> 21835753 | E35: =Inputs!C56 -> 12013 | F35: 30 | G35: =G23 -> 0 | H35: 39.2 | I35: 32.4 | J35: 0 | K35: =$T$18+$T$19*E35+$T$20*F35+$T$21*G35+$T$22*H35+$T$23*I35 -> 18989005 | L35: =K35-B35 -> -2345911.7 | M35: =L35/B35 -> -0.10995645 | N35: =ABS(M35) -> 0.10995645 | O35: =L35*L35 -> 5.5033016e+12 | P35: =L35-L34 -> -1015487.6 | Q35: =P35*P35 -> 1.0312151e+12
A36: 43404 | B36: =Inputs!D57 -> 18577884 | C36: =Inputs!E57 -> 376066 | D36: =B36+C36 -> 18953950 | E36: =Inputs!C57 -> 12013 | F36: 31 | G36: =G24 -> 1 | H36: 242.3 | I36: 19.6 | J36: 0 | K36: =$T$18+$T$19*E36+$T$20*F36+$T$21*G36+$T$22*H36+$T$23*I36 -> 18802068 | L36: =K36-B36 -> 224184.21 | M36: =L36/B36 -> 0.012067263 | N36: =ABS(M36) -> 0.012067263 | O36: =L36*L36 -> 5.0258561e+10 | P36: =L36-L35 -> 2570095.9 | Q36: =P36*P36 -> 6.6053928e+12
A37: 43434 | B37: =Inputs!D58 -> 18327765 | C37: =Inputs!E58 -> 181639 | D37: =B37+C37 -> 18509404 | E37: =Inputs!C58 -> 12013 | F37: 30 | G37: =G25 -> 1 | H37: =10.7+463.4 -> 474.1 | I37: 0 | J37: 0 | K37: =$T$18+$T$19*E37+$T$20*F37+$T$21*G37+$T$22*H37+$T$23*I37 -> 18441787 | L37: =K37-B37 -> 114021.57 | M37: =L37/B37 -> 0.0062212478 | N37: =ABS(M37) -> 0.0062212478 | O37: =L37*L37 -> 1.3000918e+10 | P37: =L37-L36 -> -110162.64 | Q37: =P37*P37 -> 1.2135808e+10
A38: 43465 | B38: =Inputs!D59 -> 19674280 | C38: =Inputs!E59 -> 208740 | D38: =B38+C38 -> 19883020 | E38: =Inputs!C59 -> 12013 | F38: 31 | G38: =G26 -> 0 | H38: 533.8 | I38: 0 | J38: 0 | K38: =$T$18+$T$19*E38+$T$20*F38+$T$21*G38+$T$22*H38+$T$23*I38 -> 21143750 | L38: =K38-B38 -> 1469470.4 | M38: =L38/B38 -> 0.074689924 | N38: =ABS(M38) -> 0.074689924 | O38: =L38*L38 -> 2.1593434e+12 | P38: =L38-L37 -> 1355448.9 | Q38: =P38*P38 -> 1.8372417e+12
A39: 43496 | B39: =Inputs!D60 -> 21603461 | C39: =Inputs!E60 -> 249895 | D39: =B39+C39 -> 21853356 | E39: =Inputs!C60 -> 12261.5 | F39: 31 | G39: =G27 -> 0 | H39: 711.8 | I39: 0 | J39: 0 | K39: =$T$18+$T$19*E39+$T$20*F39+$T$21*G39+$T$22*H39+$T$23*I39 -> 22544712 | L39: =K39-B39 -> 941251.27 | M39: =L39/B39 -> 0.043569466 | N39: =ABS(M39) -> 0.043569466 | O39: =L39*L39 -> 8.8595395e+11 | P39: =L39-L38 -> -528219.17 | Q39: =P39*P39 -> 2.790155e+11
A40: 43524 | B40: =Inputs!D61 -> 18823325 | C40: =Inputs!E61 -> 285592 | D40: =B40+C40 -> 19108917 | E40: =Inputs!C61 -> 12261.5 | F40: 28 | G40: =G28 -> 0 | H40: 580.9 | I40: 0 | J40: 0 | K40: =$T$18+$T$19*E40+$T$20*F40+$T$21*G40+$T$22*H40+$T$23*I40 -> 19403781 | L40: =K40-B40 -> 580456.48 | M40: =L40/B40 -> 0.030837086 | N40: =ABS(M40) -> 0.030837086 | O40: =L40*L40 -> 3.3692972e+11 | P40: =L40-L39 -> -360794.79 | Q40: =P40*P40 -> 1.3017288e+11
A41: 43555 | B41: =Inputs!D62 -> 20551304 | C41: =Inputs!E62 -> 502731 | D41: =B41+C41 -> 21054035 | E41: =Inputs!C62 -> 12261.5 | F41: 31 | G41: =G29 -> 1 | H41: 549.4 | I41: 0 | J41: 0 | K41: =$T$18+$T$19*E41+$T$20*F41+$T$21*G41+$T$22*H41+$T$23*I41 -> 19966804 | L41: =K41-B41 -> -584499.77 | M41: =L41/B41 -> -0.028441006 | N41: =ABS(M41) -> 0.028441006 | O41: =L41*L41 -> 3.4163998e+11 | P41: =L41-L40 -> -1164956.3 | Q41: =P41*P41 -> 1.3571231e+12
...

Sheet Power Purchased Model (WN)
A2: Date | B2: Power Purchased | C2: Additions | D2: Total Power Purchased | E2: Customers | F2: Days in Month | G2: Spring/Fall Flag | H2: HDD | I2: CDD | J2: Predicted Purchases | K2: Residual (kWh) | L2: % Residual | M2: % Residual (Abs) | N2: Residual Squared | O2: Difference of Residuals | P2: Difference of Residuals Squared | R2: SUMMARY OUTPUT
A3: 42400 | B3: =Inputs!D24 -> 22228059 | C3: =Inputs!E24 -> 234806 | D3: =B3+C3 -> 22462865 | E3: =Inputs!C24 -> 11667.5 | F3: 31 | G3: 0 | H3: 637.04 | I3: 0 | J3: =$S$18+$S$19*E3+$S$20*F3+$S$21*G3+$S$22*H3+$S$23*I3 -> 21407923 | K3: =J3-B3 -> -820135.25 | L3: =K3/B3 -> -0.036896396 | M3: =ABS(L3) -> 0.036896396 | N3: =K3*K3 -> 6.7262182e+11
A4: 42429 | B4: =Inputs!D25 -> 19954897 | C4: =Inputs!E25 -> 297475 | D4: =B4+C4 -> 20252372 | E4: =Inputs!C25 -> 11667.5 | F4: 29 | G4: 0 | H4: 540.82 | I4: 0 | J4: =$S$18+$S$19*E4+$S$20*F4+$S$21*G4+$S$22*H4+$S$23*I4 -> 19257501 | K4: =J4-B4 -> -697396.2 | L4: =K4/B4 -> -0.034948624 | M4: =ABS(L4) -> 0.034948624 | N4: =K4*K4 -> 4.8636146e+11 | O4: =K4-K3 -> 122739.05 | P4: =O4*O4 -> 1.5064874e+10 | R4: Regression Statistics
A5: 42460 | B5: =Inputs!D26 -> 19222038 | C5: =Inputs!E26 -> 355013 | D5: =B5+C5 -> 19577051 | E5: =Inputs!C26 -> 11667.5 | F5: 31 | G5: 1 | H5: 454.27 | I5: 0 | J5: =$S$18+$S$19*E5+$S$20*F5+$S$21*G5+$S$22*H5+$S$23*I5 -> 18701542 | K5: =J5-B5 -> -520495.6 | L5: =K5/B5 -> -0.027078066 | M5: =ABS(L5) -> 0.027078066 | N5: =K5*K5 -> 2.7091567e+11 | O5: =K5-K4 -> 176900.6 | P5: =O5*O5 -> 3.1293822e+10 | R5: Multiple R | S5: 0.95699588
A6: 42490 | B6: =Inputs!D27 -> 17539923 | C6: =Inputs!E27 -> 494348 | D6: =B6+C6 -> 18034271 | E6: =Inputs!C27 -> 11667.5 | F6: 30 | G6: 1 | H6: 287.61 | I6: 1.08 | J6: =$S$18+$S$19*E6+$S$20*F6+$S$21*G6+$S$22*H6+$S$23*I6 -> 16936520 | K6: =J6-B6 -> -603402.58 | L6: =K6/B6 -> -0.034401667 | M6: =ABS(L6) -> 0.034401667 | N6: =K6*K6 -> 3.6409468e+11 | O6: =K6-K5 -> -82906.983 | P6: =O6*O6 -> 6.8735679e+09 | R6: R Square | S6: 0.91584112
A7: 42521 | B7: =Inputs!D28 -> 17888192 | C7: =Inputs!E28 -> 630932 | D7: =B7+C7 -> 18519124 | E7: =Inputs!C28 -> 11667.5 | F7: 31 | G7: 1 | H7: 116.81 | I7: 27.34 | J7: =$S$18+$S$19*E7+$S$20*F7+$S$21*G7+$S$22*H7+$S$23*I7 -> 18038469 | K7: =J7-B7 -> 150276.94 | L7: =K7/B7 -> 0.0084009017 | M7: =ABS(L7) -> 0.0084009017 | N7: =K7*K7 -> 2.2583159e+10 | O7: =K7-K6 -> 753679.52 | P7: =O7*O7 -> 5.6803282e+11 | R7: Adjusted R Square | S7: 0.91214994
A8: 42551 | B8: =Inputs!D29 -> 21176371 | C8: =Inputs!E29 -> 685810 | D8: =B8+C8 -> 21862181 | E8: =Inputs!C29 -> 11667.5 | F8: 30 | G8: 0 | H8: 10.02 | I8: 99.09 | J8: =$S$18+$S$19*E8+$S$20*F8+$S$21*G8+$S$22*H8+$S$23*I8 -> 21992244 | K8: =J8-B8 -> 815872.65 | L8: =K8/B8 -> 0.038527501 | M8: =ABS(L8) -> 0.038527501 | N8: =K8*K8 -> 6.6564818e+11 | O8: =K8-K7 -> 665595.71 | P8: =O8*O8 -> 4.4301765e+11 | R8: Standard Error | S8: 858649.39
A9: 42582 | B9: =Inputs!D30 -> 25410950 | C9: =Inputs!E30 -> 653742 | D9: =B9+C9 -> 26064692 | E9: =Inputs!C30 -> 11667.5 | F9: 31 | G9: 0 | H9: 0.07 | I9: 158.74 | J9: =$S$18+$S$19*E9+$S$20*F9+$S$21*G9+$S$22*H9+$S$23*I9 -> 25898200 | K9: =J9-B9 -> 487249.95 | L9: =K9/B9 -> 0.019174803 | M9: =ABS(L9) -> 0.019174803 | N9: =K9*K9 -> 2.3741252e+11 | O9: =K9-K8 -> -328622.7 | P9: =O9*O9 -> 1.0799288e+11 | R9: Observations | S9: 120
A10: 42613 | B10: =Inputs!D31 -> 26478809 | C10: =Inputs!E31 -> 604454 | D10: =B10+C10 -> 27083263 | E10: =Inputs!C31 -> 11667.5 | F10: 31 | G10: 0 | H10: 3.19 | I10: 115.76 | J10: =$S$18+$S$19*E10+$S$20*F10+$S$21*G10+$S$22*H10+$S$23*I10 -> 23614374 | K10: =J10-B10 -> -2864435.2 | L10: =K10/B10 -> -0.1081784 | M10: =ABS(L10) -> 0.1081784 | N10: =K10*K10 -> 8.2049893e+12 | O10: =K10-K9 -> -3351685.2 | P10: =O10*O10 -> 1.1233794e+13
A11: 42643 | B11: =Inputs!D32 -> 19964495 | C11: =Inputs!E32 -> 499609 | D11: =B11+C11 -> 20464104 | E11: =Inputs!C32 -> 11667.5 | F11: 30 | G11: 0 | H11: 32.59 | I11: 44.9 | J11: =$S$18+$S$19*E11+$S$20*F11+$S$21*G11+$S$22*H11+$S$23*I11 -> 19230291 | K11: =J11-B11 -> -734204.05 | L11: =K11/B11 -> -0.036775488 | M11: =ABS(L11) -> 0.036775488 | N11: =K11*K11 -> 5.3905558e+11 | O11: =K11-K10 -> 2130231.2 | P11: =O11*O11 -> 4.537885e+12 | R11: ANOVA
