Workbook

Sheet Summary
B1: Billing Determinant Summary
B2: 2027 | C2: kWh | D2: kW | E2: Customers / Devices
B3: =B30 -> Residential | C3: =N13 -> 92832140 | E3: =N30 -> 10599.534
B4: =B31 -> GS < 50 | C4: =N14 -> 30243420 | E4: =N31 -> 1267.1854
B5: =B32 -> GS > 50 | C5: =N15 -> 64938559 | D5: =N23 -> 196084.64 | E5: =N32 -> 132.82234
B6: =B33 -> Street Light | C6: =N16 -> 1016551 | D6: =N24 -> 2837.2201 | E6: =N33 -> 2948.3028
B7: =B34 -> Sentinel Light | C7: =N17 -> 149812.2 | D7: =N25 -> 414.87251 | E7: =N34 -> 175.85432
B8: =B35 -> USL | C8: =N18 -> 598467.09 | E8: =N35 -> 19
B9: Total | C9: =SUM(C3:C8) -> 1.8977895e+08 | D9: =SUM(D3:D8) -> 199336.73 | E9: =SUM(E3:E8) -> 15142.699
B11: Consumption (kWh)
B12: kWh | C12: 2016 Actual | D12: 2017 Actual | E12: 2018 Actual | F12: 2019 Actual | G12: 2020 Actual | H12: 2021 Actual | I12: 2022 Actual | J12: 2023 Actual | K12: 2024 Actual | L12: 2025 Actual | M12: 2026 Forecast | N12: 2027 Forecast
B13: Residential | C13: ='Summary Tables'!C3 -> 76635115 | D13: ='Summary Tables'!D3 -> 76119517 | E13: ='Summary Tables'!E3 -> 81716499 | F13: ='Summary Tables'!F3 -> 85932903 | G13: ='Summary Tables'!G3 -> 85141857 | H13: ='Summary Tables'!H3 -> 85333075 | I13: ='Summary Tables'!I3 -> 86112039 | J13: ='Summary Tables'!J3 -> 85022917 | ... L13: ='Summary Tables'!L3 -> 90973051 | M13: ='Summary Tables'!N3-'CDM Adjustment'!N7 -> 91218659 | N13: ='Summary Tables'!E13 -> 92832140
B14: GS < 50 | C14: ='Summary Tables'!C4 -> 29514061 | D14: ='Summary Tables'!D4 -> 28872534 | E14: ='Summary Tables'!E4 -> 30060062 | F14: ='Summary Tables'!F4 -> 30767208 | G14: ='Summary Tables'!G4 -> 26233400 | H14: ='Summary Tables'!H4 -> 27003039 | I14: ='Summary Tables'!I4 -> 28785066 | J14: ='Summary Tables'!J4 -> 29063129 | ... L14: ='Summary Tables'!L4 -> 30749969 | M14: ='Summary Tables'!N4-'CDM Adjustment'!N8 -> 30138183 | N14: ='Summary Tables'!E14 -> 30243420
B15: GS > 50 | C15: ='Summary Tables'!C5 -> 75048053 | D15: ='Summary Tables'!D5 -> 70829349 | E15: ='Summary Tables'!E5 -> 71502339 | F15: ='Summary Tables'!F5 -> 73532152 | G15: ='Summary Tables'!G5 -> 65161090 | H15: ='Summary Tables'!H5 -> 67961294 | I15: ='Summary Tables'!I5 -> 68211369 | J15: ='Summary Tables'!J5 -> 64679344 | ... L15: ='Summary Tables'!L5 -> 72102178 | M15: ='Summary Tables'!N5-'CDM Adjustment'!N9 -> 65316237 | N15: ='Summary Tables'!E15 -> 64938559
B16: Street Light | C16: ='Summary Tables'!C6 -> 1307703 | D16: ='Summary Tables'!D6 -> 1297582 | E16: ='Summary Tables'!E6 -> 1110658 | F16: ='Summary Tables'!F6 -> 1053969 | G16: ='Summary Tables'!G6 -> 1015667 | H16: ='Summary Tables'!H6 -> 1011635.6 | I16: ='Summary Tables'!I6 -> 1002092 | J16: ='Summary Tables'!J6 -> 998543 | ... L16: ='Summary Tables'!L6 -> 1016652 | M16: ='Summary Tables'!N6-'CDM Adjustment'!N10 -> 1012496.4 | N16: ='Summary Tables'!E16 -> 1016551
B17: Sentinel Light | C17: ='Summary Tables'!C7 -> 217806 | D17: ='Summary Tables'!D7 -> 203681 | E17: ='Summary Tables'!E7 -> 203849 | F17: ='Summary Tables'!F7 -> 211785 | G17: ='Summary Tables'!G7 -> 199124 | H17: ='Summary Tables'!H7 -> 189809.42 | I17: ='Summary Tables'!I7 -> 190718 | J17: ='Summary Tables'!J7 -> 175555 | ... L17: ='Summary Tables'!L7 -> 162265 | M17: ='Summary Tables'!N7-'CDM Adjustment'!N11 -> 157402.6 | N17: ='Summary Tables'!E17 -> 149812.2
B18: USL | C18: ='Summary Tables'!C8 -> 594265 | D18: ='Summary Tables'!D8 -> 606897.73 | E18: ='Summary Tables'!E8 -> 605298.17 | F18: ='Summary Tables'!F8 -> 613238 | G18: ='Summary Tables'!G8 -> 602100 | H18: ='Summary Tables'!H8 -> 613643.61 | I18: ='Summary Tables'!I8 -> 588782 | J18: ='Summary Tables'!J8 -> 589689 | ... L18: ='Summary Tables'!L8 -> 587172 | M18: ='Summary Tables'!N8-'CDM Adjustment'!N12 -> -256127.3 | N18: ='Summary Tables'!E18 -> 598467.09
B19: Total | C19: =SUM(C13:C18) -> 183317003 | D19: =SUM(D13:D18) -> 1.7792956e+08 | E19: =SUM(E13:E18) -> 1.8519871e+08 | F19: =SUM(F13:F18) -> 192111255 | G19: =SUM(G13:G18) -> 178353238 | H19: =SUM(H13:H18) -> 1.821125e+08 | I19: =SUM(I13:I18) -> 1.8489007e+08 | J19: =SUM(J13:J18) -> 180529177 | ... N19: =SUM(N13:N18) -> 1.8977895e+08
B21: Billed Demand (kW)
B22: kW | C22: 2016 Actual | D22: 2017 Actual | E22: 2018 Actual | F22: 2019 Actual | G22: 2020 Actual | H22: 2021 Actual | I22: 2022 Actual | J22: 2023 Actual | K22: 2024 Actual | L22: 2025 Actual | M22: 2026 Forecast | N22: 2027 Forecast
B23: GS > 50 | C23: ='Summary Tables'!C23 -> 223174 | D23: ='Summary Tables'!D23 -> 218669 | E23: ='Summary Tables'!E23 -> 229114 | F23: ='Summary Tables'!F23 -> 230501 | G23: ='Summary Tables'!G23 -> 193232.88 | H23: ='Summary Tables'!H23 -> 184340.4 | I23: ='Summary Tables'!I23 -> 204528.16 | J23: ='Summary Tables'!J23 -> 205270.34 | ... L23: ='Summary Tables'!L23 -> 214176.6 | M23: ='Summary Tables'!N23-'CDM Adjustment'!N20 -> 197167.48 | N23: ='Summary Tables'!E30 -> 196084.64
B24: Street Light | C24: ='Summary Tables'!C24 -> 3918 | D24: ='Summary Tables'!D24 -> 3609 | E24: ='Summary Tables'!E24 -> 3152 | F24: ='Summary Tables'!F24 -> 2923 | G24: ='Summary Tables'!G24 -> 2832 | H24: ='Summary Tables'!H24 -> 2822.7 | I24: ='Summary Tables'!I24 -> 2822.2 | J24: ='Summary Tables'!J24 -> 2784.3 | ... L24: ='Summary Tables'!L24 -> 2824 | M24: ='Summary Tables'!N24-'CDM Adjustment'!N21 -> 2825.9036 | N24: ='Summary Tables'!E31 -> 2837.2201
B25: Sentinel Light | C25: ='Summary Tables'!C25 -> 629 | D25: ='Summary Tables'!D25 -> 546 | E25: ='Summary Tables'!E25 -> 529 | F25: ='Summary Tables'!F25 -> 517 | G25: ='Summary Tables'!G25 -> 516 | H25: ='Summary Tables'!H25 -> 512 | I25: ='Summary Tables'!I25 -> 528.3 | J25: ='Summary Tables'!J25 -> 479 | ... L25: ='Summary Tables'!L25 -> 443.6 | M25: ='Summary Tables'!N25-'CDM Adjustment'!N22 -> 435.89248 | N25: ='Summary Tables'!E32 -> 414.87251
B26: Total | C26: =SUM(C23:C25) -> 227721 | D26: =SUM(D23:D25) -> 222824 | E26: =SUM(E23:E25) -> 232795 | F26: =SUM(F23:F25) -> 233941 | G26: =SUM(G23:G25) -> 196580.88 | H26: =SUM(H23:H25) -> 187675.1 | I26: =SUM(I23:I25) -> 207878.66 | J26: =SUM(J23:J25) -> 208533.64 | ... N26: =SUM(N23:N25) -> 199336.73
B28: Customers / Devices
B29: Customers | C29: 2016 Actual | D29: 2017 Actual | E29: 2018 Actual | F29: 2019 Actual | G29: 2020 Actual | H29: 2021 Actual | I29: 2022 Actual | J29: 2023 Actual | K29: 2024 Actual | L29: 2025 Actual | M29: 2026 Forecast | N29: 2027 Forecast
B30: =B13 -> Residential | C30: ='Summary Tables'!C37 -> 9506 | D30: ='Summary Tables'!D37 -> 9600 | E30: ='Summary Tables'!E37 -> 9740.8333 | F30: ='Summary Tables'!F37 -> 9857.25 | G30: ='Summary Tables'!G37 -> 9959.0833 | H30: ='Summary Tables'!H37 -> 10078.083 | I30: ='Summary Tables'!I37 -> 10168.75 | J30: ='Summary Tables'!J37 -> 10282.667 | ... N30: ='Summary Tables'!N37 -> 10599.534
B31: =B14 -> GS < 50 | C31: ='Summary Tables'!C38 -> 1292.5 | D31: ='Summary Tables'!D38 -> 1282 | E31: ='Summary Tables'!E38 -> 1287.4167 | F31: ='Summary Tables'!F38 -> 1285.75 | G31: ='Summary Tables'!G38 -> 1276.9167 | H31: ='Summary Tables'!H38 -> 1278.4167 | I31: ='Summary Tables'!I38 -> 1277.75 | J31: ='Summary Tables'!J38 -> 1269.5833 | ... N31: ='Summary Tables'!N38 -> 1267.1854
B32: =B15 -> GS > 50 | C32: ='Summary Tables'!C39 -> 149.75 | D32: ='Summary Tables'!D39 -> 151.25 | E32: ='Summary Tables'!E39 -> 149.25 | F32: ='Summary Tables'!F39 -> 149.33333 | G32: ='Summary Tables'!G39 -> 149.66667 | H32: ='Summary Tables'!H39 -> 144.58333 | I32: ='Summary Tables'!I39 -> 141.91667 | J32: ='Summary Tables'!J39 -> 139.33333 | ... N32: ='Summary Tables'!N39 -> 132.82234
B33: =B16 -> Street Light | C33: ='Summary Tables'!C40 -> 2821.5 | D33: ='Summary Tables'!D40 -> 2840 | E33: ='Summary Tables'!E40 -> 2877.5 | F33: ='Summary Tables'!F40 -> 2897 | G33: ='Summary Tables'!G40 -> 2905 | H33: ='Summary Tables'!H40 -> 2920 | I33: ='Summary Tables'!I40 -> 2920 | J33: ='Summary Tables'!J40 -> 2903.6667 | ... N33: ='Summary Tables'!N40 -> 2948.3028
B34: =B17 -> Sentinel Light | C34: ='Summary Tables'!C41 -> 182.25 | D34: ='Summary Tables'!D41 -> 178 | E34: ='Summary Tables'!E41 -> 178 | F34: ='Summary Tables'!F41 -> 175 | G34: ='Summary Tables'!G41 -> 171 | H34: ='Summary Tables'!H41 -> 171 | I34: ='Summary Tables'!I41 -> 177 | J34: ='Summary Tables'!J41 -> 173.91667 | ... N34: ='Summary Tables'!N41 -> 175.85432
B35: =B18 -> USL | C35: ='Summary Tables'!C42 -> 19 | D35: ='Summary Tables'!D42 -> 19 | E35: ='Summary Tables'!E42 -> 19 | F35: ='Summary Tables'!F42 -> 19 | G35: ='Summary Tables'!G42 -> 19 | H35: ='Summary Tables'!H42 -> 19 | I35: ='Summary Tables'!I42 -> 19 | J35: ='Summary Tables'!J42 -> 18.916667 | ... N35: ='Summary Tables'!N42 -> 19
B36: Total | C36: =SUM(C30:C35) -> 13971 | D36: =SUM(D30:D35) -> 14070.25 | E36: =SUM(E30:E35) -> 14252 | F36: =SUM(F30:F35) -> 14383.333 | G36: =SUM(G30:G35) -> 14480.667 | H36: =SUM(H30:H35) -> 14611.083 | I36: =SUM(I30:I35) -> 14704.417 | J36: =SUM(J30:J35) -> 14788.083 | ... N36: =SUM(N30:N35) -> 15142.699

Sheet Monthly Data
A1: Date | B1: Year | C1: Month | D1: Residential_kWh | E1: Res_CDM | F1: Res_NoCDM | G1: Residential_Customers | H1: GS_lt_50_kWh | I1: GS_lt_50_CDM | J1: GS_lt_50_NoCDM | K1: GS_lt_50_Customers | L1: GS_gt_50_kWh | M1: GS_gt_50_CDM | N1: GS_gt_50_NoCDM | O1: GS_gt_50_kW | P1: GS_gt_50_Customers | Q1: Streetlights_kWh | R1: Streetlights_kW | S1: Streetlights_Connections | T1: SentinelLights_kWh | U1: SentinelLights_kW | V1: SentinelLights_Connections | W1: USL_kWh | X1: USL_Customers | Y1: LargekWh | Z1: LargekW | AA1: GSgtxLCkWh | AB1: GSgtxLCkWh_NoCDM | AC1: GSgtxLCkW | AD1: ON GDP | AE1: OEA_GDP | AF1: Ont_FTEAdj | AG1: Ont_FTE | AH1: Ott_FTEAdj | AI1: Ott_FTE | AJ1: Ont_FTEAdjChange | AK1: Ont_FTEChange | AL1: Tor_FTEAdjChange | AM1: Tor_FTEChange | AN1: ON GDPChange | AO1: OEA_GDPChange | AP1: MeanTemp | AQ1: HDD20 | AR1: CDD20 | AS1: HDD18 | AT1: CDD18 | AU1: HDD16 | AV1: CDD16 | AW1: HDD14 | AX1: CDD14 | AY1: HDD12 | AZ1: CDD12 | BA1: HDD10 | BB1: CDD10 | BC1: HDD8 | BD1: CDD8 | BE1: Jan | BF1: Feb | BG1: Mar | BH1: Apr | BI1: May | BJ1: Jun | BK1: Jul | BL1: Aug | BM1: Sept | BN1: Oct | BO1: Nov | BP1: Dec | BQ1: Spring | BR1: Fall | BS1: Shoulder | BT1: Trend | BU1: Month Days | BV1: Peak Days | BW1: COVID | BX1: COVID_AM | BY1: COVID_WFH | BZ1: COVID2020 | CA1: CovHDD20 | CB1: CovCDD20 | CC1: CovHDD18 | CD1: CovCDD18 | CE1: CovHDD16 | CF1: CovCDD16 | CG1: CovHDD14 | CH1: CovCDD14 | CI1: CovHDD12 | CJ1: CovCDD12 | CK1: CovHDD10 | CL1: CovCDD10 | CM1: CovHDD8 | CN1: CovCDD8 | CO1: CWFHHDD20 | CP1: CWFHCDD20 | CQ1: CWFHHDD18 | CR1: CWFHCDD18 | CS1: CWFHHDD16 | CT1: CWFHCDD16 | CU1: CWFHHDD14 | CV1: CWFHCDD14 | CW1: CWFHHDD12 | CX1: CWFHCDD12 | CY1: CWFHHDD10 | CZ1: CWFHCDD10 | DA1: CWFHHDD8 | DB1: CWFHCDD8 | DC1: AvgRes | DD1: AvgResD | DE1: ResD | DF1: AvgGSlt50 | DG1: AvgGSlt50D | DH1: GSlt50D | DI1: AvgGSgt50 | DJ1: AvgGSgt50MD | DK1: AvgGSgt50PD | DL1: GSgt50MD | DM1: GSgt50PD | DN1: FlagNov25 | DO1: FlagDec25
A2: 42370 | B2: =YEAR(A2) -> 2016 | C2: =MONTH(A2) -> 1 | D2: 0 | E2: =IFERROR(VLOOKUP($B2-1,CDM!$J$6:$P$19,2,FALSE)/12,0)+IFERROR(VLOOKUP($B2,CDM!$J$37:$M$48,2,FALSE)/24,0)+IFERROR(VLOOKUP($B2,CDM!$J$37:$M$48,2,FALSE)/2*$C2/78,0) -> 18730.361 | F2: =D2+E2 -> 18730.361 | G2: 9443 | H2: 0 | I2: =IFERROR(VLOOKUP($B2-1,CDM!$J$6:$P$19,3,FALSE)/12,0)+IFERROR(VLOOKUP($B2,CDM!$J$37:$M$47,3,FALSE)/24,0)+IFERROR(VLOOKUP($B2,CDM!$J$37:$M$47,3,FALSE)/2*$C2/78,0) -> 17466.899 | J2: =H2+I2 -> 17466.899 | K2: 1292 | L2: 0 | M2: =IFERROR(VLOOKUP($B2-1,CDM!$J$6:$P$19,4,FALSE)/12,0)+IFERROR(VLOOKUP($B2,CDM!$J$37:$M$47,4,FALSE)/24,0)+IFERROR(VLOOKUP($B2,CDM!$J$37:$M$47,4,FALSE)/2*$C2/78,0) -> 15958.101 | N2: =L2+M2 -> 15958.101 | O2: 0 | P2: 150 | Q2: 0 | R2: 0 | S2: 2794 | T2: 0 | U2: 0 | V2: 183 | W2: 0 | X2: 19 | Y2: 30480 | Z2: 1248 | AA2: =L2-Y2 -> -30480 | AB2: =N2-Z2 -> 14710.101 | AC2: =O2-Z2 -> -1248 | AD2: =Economic!H4 -> 743976.2 | AE2: =Economic!I4 -> 743835 | AF2: =Economic!D4 -> 6882.9 | AG2: =Economic!E4 -> 6848.3 | AH2: =Economic!F4 -> 554.5 | AI2: =Economic!G4 -> 552 | AJ2: =Economic!J4 -> 0 | AK2: =Economic!K4 -> 0 | AL2: =Economic!L4 -> 0 | AM2: =Economic!M4 -> 0 | AN2: =Economic!N4 -> 0 | AO2: =Economic!O4 -> 0 | AP2: =Weather!D2 -> -8.6215726 | AQ2: =Weather!E2 -> 887.26875 | AR2: =Weather!F2 -> 0 | AS2: =Weather!G2 -> 825.26875 | AT2: =Weather!H2 -> 0 | AU2: =Weather!I2 -> 763.26875 | AV2: =Weather!J2 -> 0 | AW2: =Weather!K2 -> 701.26875 | ... BD2: =Weather!R2 -> 0 | BE2: 1 | BF2: 0 | BG2: 0 | BH2: 0 | BI2: 0 | BJ2: 0 | BK2: 0 | BL2: 0 | BM2: 0 | BN2: 0 | BO2: 0 | BP2: 0 | BQ2: 0 | BR2: 0 | BS2: 0 | BT2: 1 | BU2: 31 | BV2: 22 | BW2: 0 | BX2: 0 | BY2: 0 | BZ2: 0 | CA2: =$BX2*AQ2 -> 0 | CB2: =$BX2*AR2 -> 0 | CC2: =$BX2*AS2 -> 0 | CD2: =$BX2*AT2 -> 0 | CE2: =$BX2*AU2 -> 0 | CF2: =$BX2*AV2 -> 0 | CG2: =$BX2*AW2 -> 0 | CH2: =$BX2*AX2 -> 0 | ... CN2: =$BX2*BD2 -> 0 | CO2: =$BY2*AQ2 -> 0 | CP2: =$BY2*AR2 -> 0 | CQ2: =$BY2*AS2 -> 0 | CR2: =$BY2*AT2 -> 0 | CS2: =$BY2*AU2 -> 0 | CT2: =$BY2*AV2 -> 0 | CU2: =$BY2*AW2 -> 0 | CV2: =$BY2*AX2 -> 0 | ... DB2: =$BY2*BD2 -> 0 | DC2: =F2/G2 -> 1.983518 | DD2: =DC2/BU2 -> 0.063984452 | DE2: =F2/BU2 -> 604.20518 | DF2: =J2/K2 -> 13.519272 | DG2: =DF2/BU2 -> 0.43610554 | DH2: =J2/BU2 -> 563.44836 | DI2: =N2/P2 -> 106.38734 | DJ2: =DI2/BU2 -> 3.4318497 | DK2: =DI2/BV2 -> 4.8357882 | DL2: =N2/BU2 -> 514.77745 | DM2: =N2/BV2 -> 725.36823 | DN2: 0 | DO2: 0
A3: =EOMONTH(A2,0)+1 -> 42401 | B3: =YEAR(A3) -> 2016 | C3: =MONTH(A3) -> 2 | D3: 0 | E3: =IFERROR(VLOOKUP($B3-1,CDM!$J$6:$P$19,2,FALSE)/12,0)+IFERROR(VLOOKUP($B3,CDM!$J$37:$M$48,2,FALSE)/24,0)+IFERROR(VLOOKUP($B3,CDM!$J$37:$M$48,2,FALSE)/2*$C3/78,0) -> 21227.742 | F3: =D3+E3 -> 21227.742 | G3: 9443 | H3: 0 | I3: =IFERROR(VLOOKUP($B3-1,CDM!$J$6:$P$19,3,FALSE)/12,0)+IFERROR(VLOOKUP($B3,CDM!$J$37:$M$47,3,FALSE)/24,0)+IFERROR(VLOOKUP($B3,CDM!$J$37:$M$47,3,FALSE)/2*$C3/78,0) -> 19795.819 | J3: =H3+I3 -> 19795.819 | K3: 1292 | L3: 0 | M3: =IFERROR(VLOOKUP($B3-1,CDM!$J$6:$P$19,4,FALSE)/12,0)+IFERROR(VLOOKUP($B3,CDM!$J$37:$M$47,4,FALSE)/24,0)+IFERROR(VLOOKUP($B3,CDM!$J$37:$M$47,4,FALSE)/2*$C3/78,0) -> 18085.848 | N3: =L3+M3 -> 18085.848 | O3: 0 | P3: 150 | Q3: 0 | R3: 0 | S3: 2794 | T3: 0 | U3: 0 | V3: 183 | W3: 0 | X3: 19 | Y3: 118530 | Z3: 3864 | AA3: =L3-Y3 -> -118530 | AB3: =N3-Z3 -> 14221.848 | AC3: =O3-Z3 -> -3864 | AD3: =Economic!H5 -> 743976.2 | AE3: =Economic!I5 -> 743835 | AF3: =Economic!D5 -> 6899.5 | AG3: =Economic!E5 -> 6829.1 | AH3: =Economic!F5 -> 557.6 | AI3: =Economic!G5 -> 554.2 | AJ3: =Economic!J5 -> 0 | AK3: =Economic!K5 -> 0 | AL3: =Economic!L5 -> 0 | AM3: =Economic!M5 -> 0 | AN3: =Economic!N5 -> 0 | AO3: =Economic!O5 -> 0 | AP3: =Weather!D3 -> -9.8030172 | AQ3: =Weather!E3 -> 864.2875 | AR3: =Weather!F3 -> 0 | AS3: =Weather!G3 -> 806.2875 | AT3: =Weather!H3 -> 0 | AU3: =Weather!I3 -> 748.2875 | AV3: =Weather!J3 -> 0 | AW3: =Weather!K3 -> 690.2875 | ... BD3: =Weather!R3 -> 0 | BE3: 0 | BF3: 1 | BG3: 0 | BH3: 0 | BI3: 0 | BJ3: 0 | BK3: 0 | BL3: 0 | BM3: 0 | BN3: 0 | BO3: 0 | BP3: 0 | BQ3: 0 | BR3: 0 | BS3: 0 | BT3: =1+BT2 -> 2 | BU3: 28 | BV3: 19 | BW3: 0 | BX3: 0 | BY3: 0 | BZ3: 0 | CA3: =$BX3*AQ3 -> 0 | CB3: =$BX3*AR3 -> 0 | CC3: =$BX3*AS3 -> 0 | CD3: =$BX3*AT3 -> 0 | CE3: =$BX3*AU3 -> 0 | CF3: =$BX3*AV3 -> 0 | CG3: =$BX3*AW3 -> 0 | CH3: =$BX3*AX3 -> 0 | ... CN3: =$BX3*BD3 -> 0 | CO3: =$BY3*AQ3 -> 0 | CP3: =$BY3*AR3 -> 0 | CQ3: =$BY3*AS3 -> 0 | CR3: =$BY3*AT3 -> 0 | CS3: =$BY3*AU3 -> 0 | CT3: =$BY3*AV3 -> 0 | CU3: =$BY3*AW3 -> 0 | CV3: =$BY3*AX3 -> 0 | ... DB3: =$BY3*BD3 -> 0 | DC3: =F3/G3 -> 2.2479871 | DD3: =DC3/BU3 -> 0.080285253 | DE3: =F3/BU3 -> 758.13364 | DF3: =J3/K3 -> 15.321841 | DG3: =DF3/BU3 -> 0.54720862 | DH3: =J3/BU3 -> 706.99353 | DI3: =N3/P3 -> 120.57232 | DJ3: =DI3/BU3 -> 4.3061542 | DK3: =DI3/BV3 -> 6.3459115 | DL3: =N3/BU3 -> 645.92313 | DM3: =N3/BV3 -> 951.88672 | DN3: 0 | DO3: 0
A4: =EOMONTH(A3,0)+1 -> 42430 | B4: =YEAR(A4) -> 2016 | C4: =MONTH(A4) -> 3 | D4: 0 | E4: =IFERROR(VLOOKUP($B4-1,CDM!$J$6:$P$19,2,FALSE)/12,0)+IFERROR(VLOOKUP($B4,CDM!$J$37:$M$48,2,FALSE)/24,0)+IFERROR(VLOOKUP($B4,CDM!$J$37:$M$48,2,FALSE)/2*$C4/78,0) -> 23725.123 | F4: =D4+E4 -> 23725.123 | G4: 9443 | H4: 0 | I4: =IFERROR(VLOOKUP($B4-1,CDM!$J$6:$P$19,3,FALSE)/12,0)+IFERROR(VLOOKUP($B4,CDM!$J$37:$M$47,3,FALSE)/24,0)+IFERROR(VLOOKUP($B4,CDM!$J$37:$M$47,3,FALSE)/2*$C4/78,0) -> 22124.739 | J4: =H4+I4 -> 22124.739 | K4: 1292 | L4: 0 | M4: =IFERROR(VLOOKUP($B4-1,CDM!$J$6:$P$19,4,FALSE)/12,0)+IFERROR(VLOOKUP($B4,CDM!$J$37:$M$47,4,FALSE)/24,0)+IFERROR(VLOOKUP($B4,CDM!$J$37:$M$47,4,FALSE)/2*$C4/78,0) -> 20213.595 | N4: =L4+M4 -> 20213.595 | O4: 0 | P4: 150 | Q4: 0 | R4: 0 | S4: 2794 | T4: 0 | U4: 0 | V4: 183 | W4: 0 | X4: 19 | Y4: 558 | Z4: 336 | AA4: =L4-Y4 -> -558 | AB4: =N4-Y4 -> 19655.595 | AC4: =O4-Z4 -> -336 | AD4: =Economic!H6 -> 743976.2 | AE4: =Economic!I6 -> 743835 | AF4: =Economic!D6 -> 6908.6 | AG4: =Economic!E6 -> 6808.7 | AH4: =Economic!F6 -> 559.7 | AI4: =Economic!G6 -> 555.6 | AJ4: =Economic!J6 -> 0 | AK4: =Economic!K6 -> 0 | AL4: =Economic!L6 -> 0 | AM4: =Economic!M6 -> 0 | AN4: =Economic!N6 -> 0 | AO4: =Economic!O6 -> 0 | AP4: =Weather!D4 -> -2.3917339 | AQ4: =Weather!E4 -> 694.14375 | AR4: =Weather!F4 -> 0 | AS4: =Weather!G4 -> 632.14375 | AT4: =Weather!H4 -> 0 | AU4: =Weather!I4 -> 570.14375 | AV4: =Weather!J4 -> 0 | AW4: =Weather!K4 -> 508.14375 | ... BD4: =Weather!R4 -> 0 | BE4: 0 | BF4: 0 | BG4: 1 | BH4: 0 | BI4: 0 | BJ4: 0 | BK4: 0 | BL4: 0 | BM4: 0 | BN4: 0 | BO4: 0 | BP4: 0 | BQ4: 1 | BR4: 0 | BS4: 1 | BT4: =1+BT3 -> 3 | BU4: 31 | BV4: 21 | BW4: 0 | BX4: 0 | BY4: 0 | BZ4: 0 | CA4: =$BX4*AQ4 -> 0 | CB4: =$BX4*AR4 -> 0 | CC4: =$BX4*AS4 -> 0 | CD4: =$BX4*AT4 -> 0 | CE4: =$BX4*AU4 -> 0 | CF4: =$BX4*AV4 -> 0 | CG4: =$BX4*AW4 -> 0 | CH4: =$BX4*AX4 -> 0 | ... CN4: =$BX4*BD4 -> 0 | CO4: =$BY4*AQ4 -> 0 | CP4: =$BY4*AR4 -> 0 | CQ4: =$BY4*AS4 -> 0 | CR4: =$BY4*AT4 -> 0 | CS4: =$BY4*AU4 -> 0 | CT4: =$BY4*AV4 -> 0 | CU4: =$BY4*AW4 -> 0 | CV4: =$BY4*AX4 -> 0 | ... DB4: =$BY4*BD4 -> 0 | DC4: =F4/G4 -> 2.5124561 | DD4: =DC4/BU4 -> 0.081046972 | DE4: =F4/BU4 -> 765.32656 | DF4: =J4/K4 -> 17.124411 | DG4: =DF4/BU4 -> 0.55240035 | DH4: =J4/BU4 -> 713.70125 | DI4: =N4/P4 -> 134.7573 | DJ4: =DI4/BU4 -> 4.3470096 | DK4: =DI4/BV4 -> 6.4170141 | DL4: =N4/BU4 -> 652.05144 | DM4: =N4/BV4 -> 962.55212 | DN4: 0 | DO4: 0
A5: =EOMONTH(A4,0)+1 -> 42461 | B5: =YEAR(A5) -> 2016 | C5: =MONTH(A5) -> 4 | D5: 0 | E5: =IFERROR(VLOOKUP($B5-1,CDM!$J$6:$P$19,2,FALSE)/12,0)+IFERROR(VLOOKUP($B5,CDM!$J$37:$M$48,2,FALSE)/24,0)+IFERROR(VLOOKUP($B5,CDM!$J$37:$M$48,2,FALSE)/2*$C5/78,0) -> 26222.505 | F5: =D5+E5 -> 26222.505 | G5: 9491 | H5: 0 | I5: =IFERROR(VLOOKUP($B5-1,CDM!$J$6:$P$19,3,FALSE)/12,0)+IFERROR(VLOOKUP($B5,CDM!$J$37:$M$47,3,FALSE)/24,0)+IFERROR(VLOOKUP($B5,CDM!$J$37:$M$47,3,FALSE)/2*$C5/78,0) -> 24453.659 | J5: =H5+I5 -> 24453.659 | K5: 1291 | L5: 0 | M5: =IFERROR(VLOOKUP($B5-1,CDM!$J$6:$P$19,4,FALSE)/12,0)+IFERROR(VLOOKUP($B5,CDM!$J$37:$M$47,4,FALSE)/24,0)+IFERROR(VLOOKUP($B5,CDM!$J$37:$M$47,4,FALSE)/2*$C5/78,0) -> 22341.341 | N5: =L5+M5 -> 22341.341 | O5: 0 | P5: 149 | Q5: 0 | R5: 0 | S5: 2833 | T5: 0 | U5: 0 | V5: 182 | W5: 0 | X5: 19 | Y5: 6 | Z5: 24 | AA5: =L5-Y5 -> -6 | AB5: =N5-Y5 -> 22335.341 | AC5: =O5-Z5 -> -24 | AD5: =Economic!H7 -> 743976.2 | AE5: =Economic!I7 -> 740829 | AF5: =Economic!D7 -> 6909 | AG5: =Economic!E7 -> 6823.1 | AH5: =Economic!F7 -> 556.9 | AI5: =Economic!G7 -> 555.4 | AJ5: =Economic!J7 -> 0 | AK5: =Economic!K7 -> 0 | AL5: =Economic!L7 -> 0 | AM5: =Economic!M7 -> 0 | AN5: =Economic!N7 -> 0 | AO5: =Economic!O7 -> 0 | AP5: =Weather!D5 -> 1.8519444 | AQ5: =Weather!E5 -> 544.44167 | AR5: =Weather!F5 -> 0 | AS5: =Weather!G5 -> 484.44167 | AT5: =Weather!H5 -> 0 | AU5: =Weather!I5 -> 424.44167 | AV5: =Weather!J5 -> 0 | AW5: =Weather!K5 -> 364.44167 | ... BD5: =Weather!R5 -> 3.2875 | BE5: 0 | BF5: 0 | BG5: 0 | BH5: 1 | BI5: 0 | BJ5: 0 | BK5: 0 | BL5: 0 | BM5: 0 | BN5: 0 | BO5: 0 | BP5: 0 | BQ5: 1 | BR5: 0 | BS5: 1 | BT5: =1+BT4 -> 4 | BU5: 30 | BV5: 20 | BW5: 0 | BX5: 0 | BY5: 0 | BZ5: 0 | CA5: =$BX5*AQ5 -> 0 | CB5: =$BX5*AR5 -> 0 | CC5: =$BX5*AS5 -> 0 | CD5: =$BX5*AT5 -> 0 | CE5: =$BX5*AU5 -> 0 | CF5: =$BX5*AV5 -> 0 | CG5: =$BX5*AW5 -> 0 | CH5: =$BX5*AX5 -> 0 | ... CN5: =$BX5*BD5 -> 0 | CO5: =$BY5*AQ5 -> 0 | CP5: =$BY5*AR5 -> 0 | CQ5: =$BY5*AS5 -> 0 | CR5: =$BY5*AT5 -> 0 | CS5: =$BY5*AU5 -> 0 | CT5: =$BY5*AV5 -> 0 | CU5: =$BY5*AW5 -> 0 | CV5: =$BY5*AX5 -> 0 | ... DB5: =$BY5*BD5 -> 0 | DC5: =F5/G5 -> 2.7628811 | DD5: =DC5/BU5 -> 0.092096038 | DE5: =F5/BU5 -> 874.08349 | DF5: =J5/K5 -> 18.941641 | DG5: =DF5/BU5 -> 0.63138804 | DH5: =J5/BU5 -> 815.12196 | DI5: =N5/P5 -> 149.94189 | DJ5: =DI5/BU5 -> 4.9980629 | DK5: =DI5/BV5 -> 7.4970944 | DL5: =N5/BU5 -> 744.71138 | DM5: =N5/BV5 -> 1117.0671 | DN5: 0 | DO5: 0
A6: =EOMONTH(A5,0)+1 -> 42491 | B6: =YEAR(A6) -> 2016 | C6: =MONTH(A6) -> 5 | D6: 0 | E6: =IFERROR(VLOOKUP($B6-1,CDM!$J$6:$P$19,2,FALSE)/12,0)+IFERROR(VLOOKUP($B6,CDM!$J$37:$M$48,2,FALSE)/24,0)+IFERROR(VLOOKUP($B6,CDM!$J$37:$M$48,2,FALSE)/2*$C6/78,0) -> 28719.886 | F6: =D6+E6 -> 28719.886 | G6: 9491 | H6: 0 | I6: =IFERROR(VLOOKUP($B6-1,CDM!$J$6:$P$19,3,FALSE)/12,0)+IFERROR(VLOOKUP($B6,CDM!$J$37:$M$47,3,FALSE)/24,0)+IFERROR(VLOOKUP($B6,CDM!$J$37:$M$47,3,FALSE)/2*$C6/78,0) -> 26782.579 | J6: =H6+I6 -> 26782.579 | K6: 1291 | L6: 0 | M6: =IFERROR(VLOOKUP($B6-1,CDM!$J$6:$P$19,4,FALSE)/12,0)+IFERROR(VLOOKUP($B6,CDM!$J$37:$M$47,4,FALSE)/24,0)+IFERROR(VLOOKUP($B6,CDM!$J$37:$M$47,4,FALSE)/2*$C6/78,0) -> 24469.088 | N6: =L6+M6 -> 24469.088 | O6: 0 | P6: 149 | Q6: 0 | R6: 0 | S6: 2833 | T6: 0 | U6: 0 | V6: 182 | W6: 0 | X6: 19 | Y6: 22242 | Z6: 3696 | AA6: =L6-Y6 -> -22242 | AB6: =N6-Y6 -> 2227.0881 | AC6: =O6-Z6 -> -3696 | AD6: =Economic!H8 -> 743976.2 | AE6: =Economic!I8 -> 740829 | AF6: =Economic!D8 -> 6919.1 | AG6: =Economic!E8 -> 6889.6 | AH6: =Economic!F8 -> 561.4 | AI6: =Economic!G8 -> 562.4 | AJ6: =Economic!J8 -> 0 | AK6: =Economic!K8 -> 0 | AL6: =Economic!L8 -> 0 | AM6: =Economic!M8 -> 0 | AN6: =Economic!N8 -> 0 | AO6: =Economic!O8 -> 0 | AP6: =Weather!D6 -> 13.282124 | AQ6: =Weather!E6 -> 215.85833 | AR6: =Weather!F6 -> 7.6041667 | AS6: =Weather!G6 -> 163.84583 | AT6: =Weather!H6 -> 17.591667 | AU6: =Weather!I6 -> 118.72917 | AV6: =Weather!J6 -> 34.475 | AW6: =Weather!K6 -> 82.825 | ... BD6: =Weather!R6 -> 177.97083 | BE6: 0 | BF6: 0 | BG6: 0 | BH6: 0 | BI6: 1 | BJ6: 0 | BK6: 0 | BL6: 0 | BM6: 0 | BN6: 0 | BO6: 0 | BP6: 0 | BQ6: 1 | BR6: 0 | BS6: 1 | BT6: =1+BT5 -> 5 | BU6: 31 | BV6: 22 | BW6: 0 | BX6: 0 | BY6: 0 | BZ6: 0 | CA6: =$BX6*AQ6 -> 0 | CB6: =$BX6*AR6 -> 0 | CC6: =$BX6*AS6 -> 0 | CD6: =$BX6*AT6 -> 0 | CE6: =$BX6*AU6 -> 0 | CF6: =$BX6*AV6 -> 0 | CG6: =$BX6*AW6 -> 0 | CH6: =$BX6*AX6 -> 0 | ... CN6: =$BX6*BD6 -> 0 | CO6: =$BY6*AQ6 -> 0 | CP6: =$BY6*AR6 -> 0 | CQ6: =$BY6*AS6 -> 0 | CR6: =$BY6*AT6 -> 0 | CS6: =$BY6*AU6 -> 0 | CT6: =$BY6*AV6 -> 0 | CU6: =$BY6*AW6 -> 0 | CV6: =$BY6*AX6 -> 0 | ... DB6: =$BY6*BD6 -> 0 | DC6: =F6/G6 -> 3.0260127 | DD6: =DC6/BU6 -> 0.097613312 | DE6: =F6/BU6 -> 926.44794 | DF6: =J6/K6 -> 20.745607 | DG6: =DF6/BU6 -> 0.66921313 | DH6: =J6/BU6 -> 863.95415 | DI6: =N6/P6 -> 164.22207 | DJ6: =DI6/BU6 -> 5.2974861 | DK6: =DI6/BV6 -> 7.4646395 | DL6: =N6/BU6 -> 789.32542 | DM6: =N6/BV6 -> 1112.2313 | DN6: 0 | DO6: 0
A7: =EOMONTH(A6,0)+1 -> 42522 | B7: =YEAR(A7) -> 2016 | C7: =MONTH(A7) -> 6 | D7: 0 | E7: =IFERROR(VLOOKUP($B7-1,CDM!$J$6:$P$19,2,FALSE)/12,0)+IFERROR(VLOOKUP($B7,CDM!$J$37:$M$48,2,FALSE)/24,0)+IFERROR(VLOOKUP($B7,CDM!$J$37:$M$48,2,FALSE)/2*$C7/78,0) -> 31217.268 | F7: =D7+E7 -> 31217.268 | G7: 9491 | H7: 0 | I7: =IFERROR(VLOOKUP($B7-1,CDM!$J$6:$P$19,3,FALSE)/12,0)+IFERROR(VLOOKUP($B7,CDM!$J$37:$M$47,3,FALSE)/24,0)+IFERROR(VLOOKUP($B7,CDM!$J$37:$M$47,3,FALSE)/2*$C7/78,0) -> 29111.498 | J7: =H7+I7 -> 29111.498 | K7: 1291 | L7: 0 | M7: =IFERROR(VLOOKUP($B7-1,CDM!$J$6:$P$19,4,FALSE)/12,0)+IFERROR(VLOOKUP($B7,CDM!$J$37:$M$47,4,FALSE)/24,0)+IFERROR(VLOOKUP($B7,CDM!$J$37:$M$47,4,FALSE)/2*$C7/78,0) -> 26596.835 | N7: =L7+M7 -> 26596.835 | O7: 0 | P7: 149 | Q7: 0 | R7: 0 | S7: 2833 | T7: 0 | U7: 0 | V7: 182 | W7: 0 | X7: 19 | Y7: 6738 | Z7: 1224 | AA7: =L7-Y7 -> -6738 | AB7: =N7-Y7 -> 19858.835 | AC7: =O7-Z7 -> -1224 | AD7: =Economic!H9 -> 743976.2 | AE7: =Economic!I9 -> 740829 | AF7: =Economic!D9 -> 6930 | AG7: =Economic!E9 -> 6973 | AH7: =Economic!F9 -> 564.4 | AI7: =Economic!G9 -> 568.2 | AJ7: =Economic!J9 -> 0 | AK7: =Economic!K9 -> 0 | AL7: =Economic!L9 -> 0 | AM7: =Economic!M9 -> 0 | AN7: =Economic!N9 -> 0 | AO7: =Economic!O9 -> 0 | AP7: =Weather!D7 -> 17.330278 | AQ7: =Weather!E7 -> 99.395833 | AR7: =Weather!F7 -> 19.304167 | AS7: =Weather!G7 -> 59.65 | AT7: =Weather!H7 -> 39.558333 | AU7: =Weather!I7 -> 34.066667 | AV7: =Weather!J7 -> 73.975 | AW7: =Weather!K7 -> 16.004167 | ... BD7: =Weather!R7 -> 279.90833 | BE7: 0 | BF7: 0 | BG7: 0 | BH7: 0 | BI7: 0 | BJ7: 1 | BK7: 0 | BL7: 0 | BM7: 0 | BN7: 0 | BO7: 0 | BP7: 0 | BQ7: 0 | BR7: 0 | BS7: 0 | BT7: =1+BT6 -> 6 | BU7: 30 | BV7: 21 | BW7: 0 | BX7: 0 | BY7: 0 | BZ7: 0 | CA7: =$BX7*AQ7 -> 0 | CB7: =$BX7*AR7 -> 0 | CC7: =$BX7*AS7 -> 0 | CD7: =$BX7*AT7 -> 0 | CE7: =$BX7*AU7 -> 0 | CF7: =$BX7*AV7 -> 0 | CG7: =$BX7*AW7 -> 0 | CH7: =$BX7*AX7 -> 0 | ... CN7: =$BX7*BD7 -> 0 | CO7: =$BY7*AQ7 -> 0 | CP7: =$BY7*AR7 -> 0 | CQ7: =$BY7*AS7 -> 0 | CR7: =$BY7*AT7 -> 0 | CS7: =$BY7*AU7 -> 0 | CT7: =$BY7*AV7 -> 0 | CU7: =$BY7*AW7 -> 0 | CV7: =$BY7*AX7 -> 0 | ... DB7: =$BY7*BD7 -> 0 | DC7: =F7/G7 -> 3.2891442 | DD7: =DC7/BU7 -> 0.10963814 | DE7: =F7/BU7 -> 1040.5756 | DF7: =J7/K7 -> 22.549573 | DG7: =DF7/BU7 -> 0.75165242 | DH7: =J7/BU7 -> 970.38328 | DI7: =N7/P7 -> 178.50225 | DJ7: =DI7/BU7 -> 5.9500749 | DK7: =DI7/BV7 -> 8.500107 | DL7: =N7/BU7 -> 886.56116 | DM7: =N7/BV7 -> 1266.5159 | DN7: 0 | DO7: 0
A8: =EOMONTH(A7,0)+1 -> 42552 | B8: =YEAR(A8) -> 2016 | C8: =MONTH(A8) -> 7 | D8: 0 | E8: =IFERROR(VLOOKUP($B8-1,CDM!$J$6:$P$19,2,FALSE)/12,0)+IFERROR(VLOOKUP($B8,CDM!$J$37:$M$48,2,FALSE)/24,0)+IFERROR(VLOOKUP($B8,CDM!$J$37:$M$48,2,FALSE)/2*$C8/78,0) -> 33714.649 | F8: =D8+E8 -> 33714.649 | G8: 9540 | H8: 0 | I8: =IFERROR(VLOOKUP($B8-1,CDM!$J$6:$P$19,3,FALSE)/12,0)+IFERROR(VLOOKUP($B8,CDM!$J$37:$M$47,3,FALSE)/24,0)+IFERROR(VLOOKUP($B8,CDM!$J$37:$M$47,3,FALSE)/2*$C8/78,0) -> 31440.418 | J8: =H8+I8 -> 31440.418 | K8: 1293 | L8: 0 | M8: =IFERROR(VLOOKUP($B8-1,CDM!$J$6:$P$19,4,FALSE)/12,0)+IFERROR(VLOOKUP($B8,CDM!$J$37:$M$47,4,FALSE)/24,0)+IFERROR(VLOOKUP($B8,CDM!$J$37:$M$47,4,FALSE)/2*$C8/78,0) -> 28724.582 | N8: =L8+M8 -> 28724.582 | O8: 0 | P8: 150 | Q8: 0 | R8: 0 | S8: 2816 | T8: 0 | U8: 0 | V8: 182 | W8: 0 | X8: 19 | Y8: 21684 | Z8: 4992 | AA8: =L8-Y8 -> -21684 | AB8: =N8-Y8 -> 7040.5817 | AC8: =O8-Z8 -> -4992 | AD8: =Economic!H10 -> 743976.2 | AE8: =Economic!I10 -> 746710 | AF8: =Economic!D10 -> 6933.8 | AG8: =Economic!E10 -> 7021.7 | AH8: =Economic!F10 -> 570.7 | AI8: =Economic!G10 -> 576.4 | AJ8: =Economic!J10 -> 0 | AK8: =Economic!K10 -> 0 | AL8: =Economic!L10 -> 0 | AM8: =Economic!M10 -> 0 | AN8: =Economic!N10 -> 0 | AO8: =Economic!O10 -> 0 | AP8: =Weather!D8 -> 20.335349 | AQ8: =Weather!E8 -> 31.595833 | AR8: =Weather!F8 -> 41.991667 | AS8: =Weather!G8 -> 7.4375 | AT8: =Weather!H8 -> 79.833333 | AU8: =Weather!I8 -> 0.4875 | AV8: =Weather!J8 -> 134.88333 | AW8: =Weather!K8 -> 0 | ... BD8: =Weather!R8 -> 382.39583 | BE8: 0 | BF8: 0 | BG8: 0 | BH8: 0 | BI8: 0 | BJ8: 0 | BK8: 1 | BL8: 0 | BM8: 0 | BN8: 0 | BO8: 0 | BP8: 0 | BQ8: 0 | BR8: 0 | BS8: 0 | BT8: =1+BT7 -> 7 | BU8: 31 | BV8: 22 | BW8: 0 | BX8: 0 | BY8: 0 | BZ8: 0 | CA8: =$BX8*AQ8 -> 0 | CB8: =$BX8*AR8 -> 0 | CC8: =$BX8*AS8 -> 0 | CD8: =$BX8*AT8 -> 0 | CE8: =$BX8*AU8 -> 0 | CF8: =$BX8*AV8 -> 0 | CG8: =$BX8*AW8 -> 0 | CH8: =$BX8*AX8 -> 0 | ... CN8: =$BX8*BD8 -> 0 | CO8: =$BY8*AQ8 -> 0 | CP8: =$BY8*AR8 -> 0 | CQ8: =$BY8*AS8 -> 0 | CR8: =$BY8*AT8 -> 0 | CS8: =$BY8*AU8 -> 0 | CT8: =$BY8*AV8 -> 0 | CU8: =$BY8*AW8 -> 0 | CV8: =$BY8*AX8 -> 0 | ... DB8: =$BY8*BD8 -> 0 | DC8: =F8/G8 -> 3.5340303 | DD8: =DC8/BU8 -> 0.11400098 | DE8: =F8/BU8 -> 1087.5693 | DF8: =J8/K8 -> 24.315869 | DG8: =DF8/BU8 -> 0.78438286 | DH8: =J8/BU8 -> 1014.207 | DI8: =N8/P8 -> 191.49721 | DJ8: =DI8/BU8 -> 6.1773294 | DK8: =DI8/BV8 -> 8.7044187 | DL8: =N8/BU8 -> 926.59941 | DM8: =N8/BV8 -> 1305.6628 | DN8: 0 | DO8: 0
A9: =EOMONTH(A8,0)+1 -> 42583 | B9: =YEAR(A9) -> 2016 | C9: =MONTH(A9) -> 8 | D9: 0 | E9: =IFERROR(VLOOKUP($B9-1,CDM!$J$6:$P$19,2,FALSE)/12,0)+IFERROR(VLOOKUP($B9,CDM!$J$37:$M$48,2,FALSE)/24,0)+IFERROR(VLOOKUP($B9,CDM!$J$37:$M$48,2,FALSE)/2*$C9/78,0) -> 36212.03 | F9: =D9+E9 -> 36212.03 | G9: 9540 | H9: 0 | I9: =IFERROR(VLOOKUP($B9-1,CDM!$J$6:$P$19,3,FALSE)/12,0)+IFERROR(VLOOKUP($B9,CDM!$J$37:$M$47,3,FALSE)/24,0)+IFERROR(VLOOKUP($B9,CDM!$J$37:$M$47,3,FALSE)/2*$C9/78,0) -> 33769.338 | J9: =H9+I9 -> 33769.338 | K9: 1293 | L9: 0 | M9: =IFERROR(VLOOKUP($B9-1,CDM!$J$6:$P$19,4,FALSE)/12,0)+IFERROR(VLOOKUP($B9,CDM!$J$37:$M$47,4,FALSE)/24,0)+IFERROR(VLOOKUP($B9,CDM!$J$37:$M$47,4,FALSE)/2*$C9/78,0) -> 30852.329 | N9: =L9+M9 -> 30852.329 | O9: 0 | P9: 150 | Q9: 0 | R9: 0 | S9: 2816 | T9: 0 | U9: 0 | V9: 182 | W9: 0 | X9: 19 | Y9: 13710 | Z9: 2736 | AA9: =L9-Y9 -> -13710 | AB9: =N9-Y9 -> 17142.329 | AC9: =O9-Z9 -> -2736 | AD9: =Economic!H11 -> 743976.2 | AE9: =Economic!I11 -> 746710 | AF9: =Economic!D11 -> 6931.2 | AG9: =Economic!E11 -> 7018.7 | AH9: =Economic!F11 -> 571.8 | AI9: =Economic!G11 -> 574.1 | AJ9: =Economic!J11 -> 0 | AK9: =Economic!K11 -> 0 | AL9: =Economic!L11 -> 0 | AM9: =Economic!M11 -> 0 | AN9: =Economic!N11 -> 0 | AO9: =Economic!O11 -> 0 | AP9: =Weather!D9 -> 20.850269 | AQ9: =Weather!E9 -> 19.4625 | AR9: =Weather!F9 -> 45.820833 | AS9: =Weather!G9 -> 3.7375 | AT9: =Weather!H9 -> 92.095833 | AU9: =Weather!I9 -> 1.1125 | AV9: =Weather!J9 -> 151.47083 | AW9: =Weather!K9 -> 0 | ... BD9: =Weather!R9 -> 398.35833 | BE9: 0 | BF9: 0 | BG9: 0 | BH9: 0 | BI9: 0 | BJ9: 0 | BK9: 0 | BL9: 1 | BM9: 0 | BN9: 0 | BO9: 0 | BP9: 0 | BQ9: 0 | BR9: 0 | BS9: 0 | BT9: =1+BT8 -> 8 | BU9: 31 | BV9: 20 | BW9: 0 | BX9: 0 | BY9: 0 | BZ9: 0 | CA9: =$BX9*AQ9 -> 0 | CB9: =$BX9*AR9 -> 0 | CC9: =$BX9*AS9 -> 0 | CD9: =$BX9*AT9 -> 0 | CE9: =$BX9*AU9 -> 0 | CF9: =$BX9*AV9 -> 0 | CG9: =$BX9*AW9 -> 0 | CH9: =$BX9*AX9 -> 0 | ... CN9: =$BX9*BD9 -> 0 | CO9: =$BY9*AQ9 -> 0 | CP9: =$BY9*AR9 -> 0 | CQ9: =$BY9*AS9 -> 0 | CR9: =$BY9*AT9 -> 0 | CS9: =$BY9*AU9 -> 0 | CT9: =$BY9*AV9 -> 0 | CU9: =$BY9*AW9 -> 0 | CV9: =$BY9*AX9 -> 0 | ... DB9: =$BY9*BD9 -> 0 | DC9: =F9/G9 -> 3.7958103 | DD9: =DC9/BU9 -> 0.12244549 | DE9: =F9/BU9 -> 1168.13 | DF9: =J9/K9 -> 26.117044 | DG9: =DF9/BU9 -> 0.8424853 | DH9: =J9/BU9 -> 1089.3335 | DI9: =N9/P9 -> 205.68219 | DJ9: =DI9/BU9 -> 6.6349094 | DK9: =DI9/BV9 -> 10.28411 | DL9: =N9/BU9 -> 995.2364 | DM9: =N9/BV9 -> 1542.6164 | DN9: 0 | DO9: 0
A10: =EOMONTH(A9,0)+1 -> 42614 | B10: =YEAR(A10) -> 2016 | C10: =MONTH(A10) -> 9 | D10: 0 | E10: =IFERROR(VLOOKUP($B10-1,CDM!$J$6:$P$19,2,FALSE)/12,0)+IFERROR(VLOOKUP($B10,CDM!$J$37:$M$48,2,FALSE)/24,0)+IFERROR(VLOOKUP($B10,CDM!$J$37:$M$48,2,FALSE)/2*$C10/78,0) -> 38709.412 | F10: =D10+E10 -> 38709.412 | G10: 9540 | H10: 0 | I10: =IFERROR(VLOOKUP($B10-1,CDM!$J$6:$P$19,3,FALSE)/12,0)+IFERROR(VLOOKUP($B10,CDM!$J$37:$M$47,3,FALSE)/24,0)+IFERROR(VLOOKUP($B10,CDM!$J$37:$M$47,3,FALSE)/2*$C10/78,0) -> 36098.258 | J10: =H10+I10 -> 36098.258 | K10: 1293 | L10: 0 | M10: =IFERROR(VLOOKUP($B10-1,CDM!$J$6:$P$19,4,FALSE)/12,0)+IFERROR(VLOOKUP($B10,CDM!$J$37:$M$47,4,FALSE)/24,0)+IFERROR(VLOOKUP($B10,CDM!$J$37:$M$47,4,FALSE)/2*$C10/78,0) -> 32980.075 | N10: =L10+M10 -> 32980.075 | O10: 0 | P10: 150 | Q10: 0 | R10: 0 | S10: 2816 | T10: 0 | U10: 0 | V10: 182 | W10: 0 | X10: 19 | Y10: 210 | Z10: 432 | AA10: =L10-Y10 -> -210 | AB10: =N10-Y10 -> 32770.075 | AC10: =O10-Z10 -> -432 | AD10: =Economic!H12 -> 743976.2 | AE10: =Economic!I12 -> 746710 | AF10: =Economic!D12 -> 6929.7 | AG10: =Economic!E12 -> 6973.4 | AH10: =Economic!F12 -> 569.2 | AI10: =Economic!G12 -> 567.2 | AJ10: =Economic!J12 -> 0 | AK10: =Economic!K12 -> 0 | AL10: =Economic!L12 -> 0 | AM10: =Economic!M12 -> 0 | AN10: =Economic!N12 -> 0 | AO10: =Economic!O12 -> 0 | AP10: =Weather!D10 -> 15.191389 | AQ10: =Weather!E10 -> 150.00417 | AR10: =Weather!F10 -> 5.7458333 | AS10: =Weather!G10 -> 100.48333 | AT10: =Weather!H10 -> 16.225 | AU10: =Weather!I10 -> 59.129167 | AV10: =Weather!J10 -> 34.870833 | AW10: =Weather!K10 -> 29.379167 | ... BD10: =Weather!R10 -> 215.775 | BE10: 0 | BF10: 0 | BG10: 0 | BH10: 0 | BI10: 0 | BJ10: 0 | BK10: 0 | BL10: 0 | BM10: 1 | BN10: 0 | BO10: 0 | BP10: 0 | BQ10: 0 | BR10: 1 | BS10: 1 | BT10: =1+BT9 -> 9 | BU10: 30 | BV10: 21 | BW10: 0 | BX10: 0 | BY10: 0 | BZ10: 0 | CA10: =$BX10*AQ10 -> 0 | CB10: =$BX10*AR10 -> 0 | CC10: =$BX10*AS10 -> 0 | CD10: =$BX10*AT10 -> 0 | CE10: =$BX10*AU10 -> 0 | CF10: =$BX10*AV10 -> 0 | CG10: =$BX10*AW10 -> 0 | CH10: =$BX10*AX10 -> 0 | ... CN10: =$BX10*BD10 -> 0 | CO10: =$BY10*AQ10 -> 0 | CP10: =$BY10*AR10 -> 0 | CQ10: =$BY10*AS10 -> 0 | CR10: =$BY10*AT10 -> 0 | CS10: =$BY10*AU10 -> 0 | CT10: =$BY10*AV10 -> 0 | CU10: =$BY10*AW10 -> 0 | CV10: =$BY10*AX10 -> 0 | ... DB10: =$BY10*BD10 -> 0 | DC10: =F10/G10 -> 4.0575903 | DD10: =DC10/BU10 -> 0.13525301 | DE10: =F10/BU10 -> 1290.3137 | DF10: =J10/K10 -> 27.91822 | DG10: =DF10/BU10 -> 0.93060732 | DH10: =J10/BU10 -> 1203.2753 | DI10: =N10/P10 -> 219.86717 | DJ10: =DI10/BU10 -> 7.3289056 | DK10: =DI10/BV10 -> 10.469865 | DL10: =N10/BU10 -> 1099.3358 | DM10: =N10/BV10 -> 1570.4798 | DN10: 0 | DO10: 0
A11: =EOMONTH(A10,0)+1 -> 42644 | B11: =YEAR(A11) -> 2016 | C11: =MONTH(A11) -> 10 | D11: 0 | E11: =IFERROR(VLOOKUP($B11-1,CDM!$J$6:$P$19,2,FALSE)/12,0)+IFERROR(VLOOKUP($B11,CDM!$J$37:$M$48,2,FALSE)/24,0)+IFERROR(VLOOKUP($B11,CDM!$J$37:$M$48,2,FALSE)/2*$C11/78,0) -> 41206.793 | F11: =D11+E11 -> 41206.793 | G11: 9550 | H11: 0 | I11: =IFERROR(VLOOKUP($B11-1,CDM!$J$6:$P$19,3,FALSE)/12,0)+IFERROR(VLOOKUP($B11,CDM!$J$37:$M$47,3,FALSE)/24,0)+IFERROR(VLOOKUP($B11,CDM!$J$37:$M$47,3,FALSE)/2*$C11/78,0) -> 38427.178 | J11: =H11+I11 -> 38427.178 | K11: 1294 | L11: 0 | M11: =IFERROR(VLOOKUP($B11-1,CDM!$J$6:$P$19,4,FALSE)/12,0)+IFERROR(VLOOKUP($B11,CDM!$J$37:$M$47,4,FALSE)/24,0)+IFERROR(VLOOKUP($B11,CDM!$J$37:$M$47,4,FALSE)/2*$C11/78,0) -> 35107.822 | N11: =L11+M11 -> 35107.822 | O11: 0 | P11: 150 | Q11: 0 | R11: 0 | S11: 2843 | T11: 0 | U11: 0 | V11: 182 | W11: 0 | X11: 19 | Y11: 542682 | Z11: 3528 | AA11: =L11-Y11 -> -542682 | AB11: =N11-Y11 -> -507574.18 | AC11: =O11-Z11 -> -3528 | AD11: =Economic!H13 -> 743976.2 | AE11: =Economic!I13 -> 745246 | AF11: =Economic!D13 -> 6942 | AG11: =Economic!E13 -> 6966.9 | AH11: =Economic!F13 -> 571 | AI11: =Economic!G13 -> 568.3 | AJ11: =Economic!J13 -> 0 | AK11: =Economic!K13 -> 0 | AL11: =Economic!L13 -> 0 | AM11: =Economic!M13 -> 0 | AN11: =Economic!N13 -> 0 | AO11: =Economic!O13 -> 0 | AP11: =Weather!D11 -> 8.0197581 | AQ11: =Weather!E11 -> 371.3875 | AR11: =Weather!F11 -> 0 | AS11: =Weather!G11 -> 309.3875 | AT11: =Weather!H11 -> 0 | AU11: =Weather!I11 -> 248.13333 | AV11: =Weather!J11 -> 0.74583333 | AW11: =Weather!K11 -> 191.43333 | ... BD11: =Weather!R11 -> 68.266667 | BE11: 0 | BF11: 0 | BG11: 0 | BH11: 0 | BI11: 0 | BJ11: 0 | BK11: 0 | BL11: 0 | BM11: 0 | BN11: 1 | BO11: 0 | BP11: 0 | BQ11: 0 | BR11: 1 | BS11: 1 | BT11: =1+BT10 -> 10 | BU11: 31 | BV11: 22 | BW11: 0 | BX11: 0 | BY11: 0 | BZ11: 0 | CA11: =$BX11*AQ11 -> 0 | CB11: =$BX11*AR11 -> 0 | CC11: =$BX11*AS11 -> 0 | CD11: =$BX11*AT11 -> 0 | CE11: =$BX11*AU11 -> 0 | CF11: =$BX11*AV11 -> 0 | CG11: =$BX11*AW11 -> 0 | CH11: =$BX11*AX11 -> 0 | ... CN11: =$BX11*BD11 -> 0 | CO11: =$BY11*AQ11 -> 0 | CP11: =$BY11*AR11 -> 0 | CQ11: =$BY11*AS11 -> 0 | CR11: =$BY11*AT11 -> 0 | CS11: =$BY11*AU11 -> 0 | CT11: =$BY11*AV11 -> 0 | CU11: =$BY11*AW11 -> 0 | CV11: =$BY11*AX11 -> 0 | ... DB11: =$BY11*BD11 -> 0 | DC11: =F11/G11 -> 4.3148475 | DD11: =DC11/BU11 -> 0.13918863 | DE11: =F11/BU11 -> 1329.2514 | DF11: =J11/K11 -> 29.696428 | DG11: =DF11/BU11 -> 0.95794929 | DH11: =J11/BU11 -> 1239.5864 | DI11: =N11/P11 -> 234.05215 | DJ11: =DI11/BU11 -> 7.5500693 | DK11: =DI11/BV11 -> 10.638734 | DL11: =N11/BU11 -> 1132.5104 | DM11: =N11/BV11 -> 1595.8101 | DN11: 0 | DO11: 0
A12: =EOMONTH(A11,0)+1 -> 42675 | B12: =YEAR(A12) -> 2016 | C12: =MONTH(A12) -> 11 | D12: 0 | E12: =IFERROR(VLOOKUP($B12-1,CDM!$J$6:$P$19,2,FALSE)/12,0)+IFERROR(VLOOKUP($B12,CDM!$J$37:$M$48,2,FALSE)/24,0)+IFERROR(VLOOKUP($B12,CDM!$J$37:$M$48,2,FALSE)/2*$C12/78,0) -> 43704.175 | F12: =D12+E12 -> 43704.175 | G12: 9550 | H12: 0 | I12: =IFERROR(VLOOKUP($B12-1,CDM!$J$6:$P$19,3,FALSE)/12,0)+IFERROR(VLOOKUP($B12,CDM!$J$37:$M$47,3,FALSE)/24,0)+IFERROR(VLOOKUP($B12,CDM!$J$37:$M$47,3,FALSE)/2*$C12/78,0) -> 40756.098 | J12: =H12+I12 -> 40756.098 | K12: 1294 | L12: 0 | M12: =IFERROR(VLOOKUP($B12-1,CDM!$J$6:$P$19,4,FALSE)/12,0)+IFERROR(VLOOKUP($B12,CDM!$J$37:$M$47,4,FALSE)/24,0)+IFERROR(VLOOKUP($B12,CDM!$J$37:$M$47,4,FALSE)/2*$C12/78,0) -> 37235.569 | N12: =L12+M12 -> 37235.569 | O12: 0 | P12: 150 | Q12: 0 | R12: 0 | S12: 2843 | T12: 0 | U12: 0 | V12: 182 | W12: 0 | X12: 19 | Y12: 1170024.3 | Z12: 6216 | AA12: =L12-Y12 -> -1170024.3 | AB12: =N12-Y12 -> -1132788.7 | AC12: =O12-Z12 -> -6216 | AD12: =Economic!H14 -> 743976.2 | AE12: =Economic!I14 -> 745246 | AF12: =Economic!D14 -> 6959 | AG12: =Economic!E14 -> 6964.3 | AH12: =Economic!F14 -> 572.9 | AI12: =Economic!G14 -> 571 | AJ12: =Economic!J14 -> 0 | AK12: =Economic!K14 -> 0 | AL12: =Economic!L14 -> 0 | AM12: =Economic!M14 -> 0 | AN12: =Economic!N14 -> 0 | AO12: =Economic!O14 -> 0 | AP12: =Weather!D12 -> 2.2409722 | AQ12: =Weather!E12 -> 532.77083 | AR12: =Weather!F12 -> 0 | AS12: =Weather!G12 -> 472.77083 | AT12: =Weather!H12 -> 0 | AU12: =Weather!I12 -> 412.77083 | AV12: =Weather!J12 -> 0 | AW12: =Weather!K12 -> 352.77083 | ... BD12: =Weather!R12 -> 0 | BE12: 0 | BF12: 0 | BG12: 0 | BH12: 0 | BI12: 0 | BJ12: 0 | BK12: 0 | BL12: 0 | BM12: 0 | BN12: 0 | BO12: 1 | BP12: 0 | BQ12: 0 | BR12: 1 | BS12: 1 | BT12: =1+BT11 -> 11 | BU12: 30 | BV12: 20 | BW12: 0 | BX12: 0 | BY12: 0 | BZ12: 0 | CA12: =$BX12*AQ12 -> 0 | CB12: =$BX12*AR12 -> 0 | CC12: =$BX12*AS12 -> 0 | CD12: =$BX12*AT12 -> 0 | CE12: =$BX12*AU12 -> 0 | CF12: =$BX12*AV12 -> 0 | CG12: =$BX12*AW12 -> 0 | CH12: =$BX12*AX12 -> 0 | ... CN12: =$BX12*BD12 -> 0 | CO12: =$BY12*AQ12 -> 0 | CP12: =$BY12*AR12 -> 0 | CQ12: =$BY12*AS12 -> 0 | CR12: =$BY12*AT12 -> 0 | CS12: =$BY12*AU12 -> 0 | CT12: =$BY12*AV12 -> 0 | CU12: =$BY12*AW12 -> 0 | CV12: =$BY12*AX12 -> 0 | ... DB12: =$BY12*BD12 -> 0 | DC12: =F12/G12 -> 4.5763534 | DD12: =DC12/BU12 -> 0.15254511 | DE12: =F12/BU12 -> 1456.8058 | DF12: =J12/K12 -> 31.496212 | DG12: =DF12/BU12 -> 1.0498737 | DH12: =J12/BU12 -> 1358.5366 | DI12: =N12/P12 -> 248.23713 | DJ12: =DI12/BU12 -> 8.2745709 | DK12: =DI12/BV12 -> 12.411856 | DL12: =N12/BU12 -> 1241.1856 | DM12: =N12/BV12 -> 1861.7784 | DN12: 0 | DO12: 0
A13: =EOMONTH(A12,0)+1 -> 42705 | B13: =YEAR(A13) -> 2016 | C13: =MONTH(A13) -> 12 | D13: 76635115 | E13: =IFERROR(VLOOKUP($B13-1,CDM!$J$6:$P$19,2,FALSE)/12,0)+IFERROR(VLOOKUP($B13,CDM!$J$37:$M$48,2,FALSE)/24,0)+IFERROR(VLOOKUP($B13,CDM!$J$37:$M$48,2,FALSE)/2*$C13/78,0) -> 46201.556 | F13: =D13+E13 -> 76681317 | G13: 9550 | H13: 29514061 | I13: =IFERROR(VLOOKUP($B13-1,CDM!$J$6:$P$19,3,FALSE)/12,0)+IFERROR(VLOOKUP($B13,CDM!$J$37:$M$47,3,FALSE)/24,0)+IFERROR(VLOOKUP($B13,CDM!$J$37:$M$47,3,FALSE)/2*$C13/78,0) -> 43085.018 | J13: =H13+I13 -> 29557146 | K13: 1294 | L13: 75048053 | M13: =IFERROR(VLOOKUP($B13-1,CDM!$J$6:$P$19,4,FALSE)/12,0)+IFERROR(VLOOKUP($B13,CDM!$J$37:$M$47,4,FALSE)/24,0)+IFERROR(VLOOKUP($B13,CDM!$J$37:$M$47,4,FALSE)/2*$C13/78,0) -> 39363.316 | N13: =L13+M13 -> 75087416 | O13: 223174 | P13: 150 | Q13: 1307703 | R13: 3918 | S13: 2843 | T13: 217806 | U13: 629 | V13: 182 | W13: 594265 | X13: 19 | Y13: 409794 | Z13: 4296 | AA13: =L13-Y13 -> 74638259 | AB13: =N13-Y13 -> 74677622 | AC13: =O13-Z13 -> 218878 | AD13: =Economic!H15 -> 743976.2 | AE13: =Economic!I15 -> 745246 | AF13: =Economic!D15 -> 6974.4 | AG13: =Economic!E15 -> 6983 | AH13: =Economic!F15 -> 574.5 | AI13: =Economic!G15 -> 575.2 | AJ13: =Economic!J15 -> 0 | AK13: =Economic!K15 -> 0 | AL13: =Economic!L15 -> 0 | AM13: =Economic!M15 -> 0 | AN13: =Economic!N15 -> 0 | AO13: =Economic!O15 -> 0 | AP13: =Weather!D13 -> -6.2139785 | AQ13: =Weather!E13 -> 812.63333 | AR13: =Weather!F13 -> 0 | AS13: =Weather!G13 -> 750.63333 | AT13: =Weather!H13 -> 0 | AU13: =Weather!I13 -> 688.63333 | AV13: =Weather!J13 -> 0 | AW13: =Weather!K13 -> 626.63333 | ... BD13: =Weather!R13 -> 0 | BE13: 0 | BF13: 0 | BG13: 0 | BH13: 0 | BI13: 0 | BJ13: 0 | BK13: 0 | BL13: 0 | BM13: 0 | BN13: 0 | BO13: 0 | BP13: 1 | BQ13: 0 | BR13: 0 | BS13: 0 | BT13: =1+BT12 -> 12 | BU13: 31 | BV13: 21 | BW13: 0 | BX13: 0 | BY13: 0 | BZ13: 0 | CA13: =$BX13*AQ13 -> 0 | CB13: =$BX13*AR13 -> 0 | CC13: =$BX13*AS13 -> 0 | CD13: =$BX13*AT13 -> 0 | CE13: =$BX13*AU13 -> 0 | CF13: =$BX13*AV13 -> 0 | CG13: =$BX13*AW13 -> 0 | CH13: =$BX13*AX13 -> 0 | ... CN13: =$BX13*BD13 -> 0 | CO13: =$BY13*AQ13 -> 0 | CP13: =$BY13*AR13 -> 0 | CQ13: =$BY13*AS13 -> 0 | CR13: =$BY13*AT13 -> 0 | CS13: =$BY13*AU13 -> 0 | CT13: =$BY13*AV13 -> 0 | CU13: =$BY13*AW13 -> 0 | CV13: =$BY13*AX13 -> 0 | ... DB13: =$BY13*BD13 -> 0 | DC13: =F13/G13 -> 8029.4572 | DD13: =DC13/BU13 -> 259.01475 | DE13: =F13/BU13 -> 2473590.9 | DF13: =J13/K13 -> 22841.689 | DG13: =DF13/BU13 -> 736.82869 | DH13: =J13/BU13 -> 953456.32 | DI13: =N13/P13 -> 500582.78 | DJ13: =DI13/BU13 -> 16147.831 | DK13: =DI13/BV13 -> 23837.275 | DL13: =N13/BU13 -> 2422174.7 | DM13: =N13/BV13 -> 3575591.3 | DN13: 0 | DO13: 0
A14: =EOMONTH(A13,0)+1 -> 42736 | B14: =YEAR(A14) -> 2017 | C14: =MONTH(A14) -> 1 | D14: 0 | E14: =IFERROR(VLOOKUP($B14-1,CDM!$J$6:$P$19,2,FALSE)/12,0)+IFERROR(VLOOKUP($B14,CDM!$J$37:$M$48,2,FALSE)/24,0)+IFERROR(VLOOKUP($B14,CDM!$J$37:$M$48,2,FALSE)/2*$C14/78,0) -> 80079.324 | F14: =D14+E14 -> 80079.324 | G14: 9560 | H14: 0 | I14: =IFERROR(VLOOKUP($B14-1,CDM!$J$6:$P$19,3,FALSE)/12,0)+IFERROR(VLOOKUP($B14,CDM!$J$37:$M$47,3,FALSE)/24,0)+IFERROR(VLOOKUP($B14,CDM!$J$37:$M$47,3,FALSE)/2*$C14/78,0) -> 63199.167 | J14: =H14+I14 -> 63199.167 | K14: 1287 | L14: 0 | M14: =IFERROR(VLOOKUP($B14-1,CDM!$J$6:$P$19,4,FALSE)/12,0)+IFERROR(VLOOKUP($B14,CDM!$J$37:$M$47,4,FALSE)/24,0)+IFERROR(VLOOKUP($B14,CDM!$J$37:$M$47,4,FALSE)/2*$C14/78,0) -> 55821.97 | N14: =L14+M14 -> 55821.97 | O14: 0 | P14: 151 | Q14: 0 | R14: 0 | S14: 2843 | T14: 0 | U14: 0 | V14: 178 | W14: 0 | X14: 19 | Y14: 109206 | Z14: 2448 | AA14: =L14-Y14 -> -109206 | AB14: =N14-Y14 -> -53384.03 | AC14: =O14-Z14 -> -2448 | AD14: =Economic!H16 -> 764464.8 | AE14: =Economic!I16 -> 756670 | AF14: =Economic!D16 -> 6998.9 | AG14: =Economic!E16 -> 6968.1 | AH14: =Economic!F16 -> 576.2 | AI14: =Economic!G16 -> 576.7 | AJ14: =Economic!J16 -> 116 | AK14: =Economic!K16 -> 119.8 | AL14: =Economic!L16 -> 21.7 | AM14: =Economic!M16 -> 24.7 | AN14: =Economic!N16 -> 20488.6 | AO14: =Economic!O16 -> 11424 | AP14: =Weather!D14 -> -6.9409946 | AQ14: =Weather!E14 -> 835.17083 | AR14: =Weather!F14 -> 0 | AS14: =Weather!G14 -> 773.17083 | AT14: =Weather!H14 -> 0 | AU14: =Weather!I14 -> 711.17083 | AV14: =Weather!J14 -> 0 | AW14: =Weather!K14 -> 649.17083 | ... BD14: =Weather!R14 -> 0 | BE14: 1 | BF14: 0 | BG14: 0 | BH14: 0 | BI14: 0 | BJ14: 0 | BK14: 0 | BL14: 0 | BM14: 0 | BN14: 0 | BO14: 0 | BP14: 0 | BQ14: 0 | BR14: 0 | BS14: 0 | BT14: =1+BT13 -> 13 | BU14: 31 | BV14: 21 | BW14: 0 | BX14: 0 | BY14: 0 | BZ14: 0 | CA14: =$BX14*AQ14 -> 0 | CB14: =$BX14*AR14 -> 0 | CC14: =$BX14*AS14 -> 0 | CD14: =$BX14*AT14 -> 0 | CE14: =$BX14*AU14 -> 0 | CF14: =$BX14*AV14 -> 0 | CG14: =$BX14*AW14 -> 0 | CH14: =$BX14*AX14 -> 0 | ... CN14: =$BX14*BD14 -> 0 | CO14: =$BY14*AQ14 -> 0 | CP14: =$BY14*AR14 -> 0 | CQ14: =$BY14*AS14 -> 0 | CR14: =$BY14*AT14 -> 0 | CS14: =$BY14*AU14 -> 0 | CT14: =$BY14*AV14 -> 0 | CU14: =$BY14*AW14 -> 0 | CV14: =$BY14*AX14 -> 0 | ... DB14: =$BY14*BD14 -> 0 | DC14: =F14/G14 -> 8.3764983 | DD14: =DC14/BU14 -> 0.27020962 | DE14: =F14/BU14 -> 2583.204 | DF14: =J14/K14 -> 49.105802 | DG14: =DF14/BU14 -> 1.5840581 | DH14: =J14/BU14 -> 2038.6828 | DI14: =N14/P14 -> 369.68192 | DJ14: =DI14/BU14 -> 11.925223 | DK14: =DI14/BV14 -> 17.603901 | DL14: =N14/BU14 -> 1800.7087 | DM14: =N14/BV14 -> 2658.1891 | DN14: 0 | DO14: 0
A15: =EOMONTH(A14,0)+1 -> 42767 | B15: =YEAR(A15) -> 2017 | C15: =MONTH(A15) -> 2 | D15: 0 | E15: =IFERROR(VLOOKUP($B15-1,CDM!$J$6:$P$19,2,FALSE)/12,0)+IFERROR(VLOOKUP($B15,CDM!$J$37:$M$48,2,FALSE)/24,0)+IFERROR(VLOOKUP($B15,CDM!$J$37:$M$48,2,FALSE)/2*$C15/78,0) -> 86427.772 | F15: =D15+E15 -> 86427.772 | G15: 9560 | H15: 0 | I15: =IFERROR(VLOOKUP($B15-1,CDM!$J$6:$P$19,3,FALSE)/12,0)+IFERROR(VLOOKUP($B15,CDM!$J$37:$M$47,3,FALSE)/24,0)+IFERROR(VLOOKUP($B15,CDM!$J$37:$M$47,3,FALSE)/2*$C15/78,0) -> 67588.929 | J15: =H15+I15 -> 67588.929 | K15: 1287 | L15: 0 | M15: =IFERROR(VLOOKUP($B15-1,CDM!$J$6:$P$19,4,FALSE)/12,0)+IFERROR(VLOOKUP($B15,CDM!$J$37:$M$47,4,FALSE)/24,0)+IFERROR(VLOOKUP($B15,CDM!$J$37:$M$47,4,FALSE)/2*$C15/78,0) -> 59576.805 | N15: =L15+M15 -> 59576.805 | O15: 0 | P15: 151 | Q15: 0 | R15: 0 | S15: 2843 | T15: 0 | U15: 0 | V15: 178 | W15: 0 | X15: 19 | Y15: 18972 | Z15: 1176 | AA15: =L15-Y15 -> -18972 | AB15: =N15-Y15 -> 40604.805 | AC15: =O15-Z15 -> -1176 | AD15: =Economic!H17 -> 764464.8 | AE15: =Economic!I17 -> 756670 | AF15: =Economic!D17 -> 7017.3 | AG15: =Economic!E17 -> 6948.4 | AH15: =Economic!F17 -> 577.2 | AI15: =Economic!G17 -> 576.9 | AJ15: =Economic!J17 -> 117.8 | AK15: =Economic!K17 -> 119.3 | AL15: =Economic!L17 -> 19.6 | AM15: =Economic!M17 -> 22.7 | AN15: =Economic!N17 -> 20488.6 | AO15: =Economic!O17 -> 11424 | AP15: =Weather!D15 -> -6.3861607 | AQ15: =Weather!E15 -> 738.8125 | AR15: =Weather!F15 -> 0 | AS15: =Weather!G15 -> 682.8125 | AT15: =Weather!H15 -> 0 | AU15: =Weather!I15 -> 626.8125 | AV15: =Weather!J15 -> 0 | AW15: =Weather!K15 -> 570.8125 | ... BD15: =Weather!R15 -> 0 | BE15: 0 | BF15: 1 | BG15: 0 | BH15: 0 | BI15: 0 | BJ15: 0 | BK15: 0 | BL15: 0 | BM15: 0 | BN15: 0 | BO15: 0 | BP15: 0 | BQ15: 0 | BR15: 0 | BS15: 0 | BT15: =1+BT14 -> 14 | BU15: 28 | BV15: 19 | BW15: 0 | BX15: 0 | BY15: 0 | BZ15: 0 | CA15: =$BX15*AQ15 -> 0 | CB15: =$BX15*AR15 -> 0 | CC15: =$BX15*AS15 -> 0 | CD15: =$BX15*AT15 -> 0 | CE15: =$BX15*AU15 -> 0 | CF15: =$BX15*AV15 -> 0 | CG15: =$BX15*AW15 -> 0 | CH15: =$BX15*AX15 -> 0 | ... CN15: =$BX15*BD15 -> 0 | CO15: =$BY15*AQ15 -> 0 | CP15: =$BY15*AR15 -> 0 | CQ15: =$BY15*AS15 -> 0 | CR15: =$BY15*AT15 -> 0 | CS15: =$BY15*AU15 -> 0 | CT15: =$BY15*AV15 -> 0 | CU15: =$BY15*AW15 -> 0 | CV15: =$BY15*AX15 -> 0 | ... DB15: =$BY15*BD15 -> 0 | DC15: =F15/G15 -> 9.040562 | DD15: =DC15/BU15 -> 0.32287721 | DE15: =F15/BU15 -> 3086.7062 | DF15: =J15/K15 -> 52.51665 | DG15: =DF15/BU15 -> 1.8755946 | DH15: =J15/BU15 -> 2413.8903 | DI15: =N15/P15 -> 394.54838 | DJ15: =DI15/BU15 -> 14.091014 | DK15: =DI15/BV15 -> 20.765704 | DL15: =N15/BU15 -> 2127.743 | DM15: =N15/BV15 -> 3135.6213 | DN15: 0 | DO15: 0
... A52: =EOMONTH(A51,0)+1 -> 43891 | B52: =YEAR(A52) -> 2020 | C52: =MONTH(A52) -> 3 | D52: 7390200 | E52: =IFERROR(VLOOKUP($B52-1,CDM!$J$6:$P$19,2,FALSE)/12,0)+IFERROR(VLOOKUP($B52,CDM!$J$37:$M$48,2,FALSE)/24,0)+IFERROR(VLOOKUP($B52,CDM!$J$37:$M$48,2,FALSE)/2*$C52/78,0) -> 161850.21 | F52: =D52+E52 -> 7552050.2 | G52: 9928 | H52: 2392130 | I52: =IFERROR(VLOOKUP($B52-1,CDM!$J$6:$P$19,3,FALSE)/12,0)+IFERROR(VLOOKUP($B52,CDM!$J$37:$M$47,3,FALSE)/24,0)+IFERROR(VLOOKUP($B52,CDM!$J$37:$M$47,3,FALSE)/2*$C52/78,0) -> 157671.54 | J52: =H52+I52 -> 2549801.5 | K52: 1280 | L52: 5610578 | M52: =IFERROR(VLOOKUP($B52-1,CDM!$J$6:$P$19,4,FALSE)/12,0)+IFERROR(VLOOKUP($B52,CDM!$J$37:$M$47,4,FALSE)/24,0)+IFERROR(VLOOKUP($B52,CDM!$J$37:$M$47,4,FALSE)/2*$C52/78,0) -> 135976.2 | N52: =L52+M52 -> 5746554.2 | O52: 14021 | P52: 149 | Q52: 87913 | R52: 236 | S52: 2875 | T52: 16258 | U52: 44 | V52: 171 | W52: 49981 | X52: 19 | Y52: 16681.76 | Z52: 3181.4 | AA52: =L52-Y52 -> 5593896.2 | AB52: =N52-Y52 -> 5729872.4 | AC52: =O52-Z52 -> 10839.6 | AD52: =Economic!H54 -> 769942 | AE52: =Economic!I54 -> 801246 | AF52: =Economic!D54 -> 7351.6 | AG52: =Economic!E54 -> 7258.8 | AH52: =Economic!F54 -> 611.6 | AI52: =Economic!G54 -> 605.2 | AJ52: =Economic!J54 -> 9.7 | AK52: =Economic!K54 -> 19.3 | AL52: =Economic!L54 -> 14.7 | AM52: =Economic!M54 -> 13.3 | AN52: =Economic!N54 -> -37332.5 | AO52: =Economic!O54 -> -10918 | AP52: =Weather!D52 -> -1.2733871 | AQ52: =Weather!E52 -> 659.475 | AR52: =Weather!F52 -> 0 | AS52: =Weather!G52 -> 597.475 | AT52: =Weather!H52 -> 0 | AU52: =Weather!I52 -> 535.475 | AV52: =Weather!J52 -> 0 | AW52: =Weather!K52 -> 473.475 | ... BD52: =Weather!R52 -> 0 | BE52: 0 | BF52: 0 | BG52: 1 | BH52: 0 | BI52: 0 | BJ52: 0 | BK52: 0 | BL52: 0 | BM52: 0 | BN52: 0 | BO52: 0 | BP52: 0 | BQ52: 1 | BR52: 0 | BS52: 1 | BT52: =1+BT51 -> 51 | BU52: 31 | BV52: 21 | BW52: 1 | BX52: 0.5 | BY52: 0.5 | BZ52: 0.5 | CA52: =$BX52*AQ52 -> 329.7375 | CB52: =$BX52*AR52 -> 0 | CC52: =$BX52*AS52 -> 298.7375 | CD52: =$BX52*AT52 -> 0 | CE52: =$BX52*AU52 -> 267.7375 | CF52: =$BX52*AV52 -> 0 | CG52: =$BX52*AW52 -> 236.7375 | CH52: =$BX52*AX52 -> 0 | ... CN52: =$BX52*BD52 -> 0 | CO52: =$BY52*AQ52 -> 329.7375 | CP52: =$BY52*AR52 -> 0 | CQ52: =$BY52*AS52 -> 298.7375 | CR52: =$BY52*AT52 -> 0 | CS52: =$BY52*AU52 -> 267.7375 | CT52: =$BY52*AV52 -> 0 | CU52: =$BY52*AW52 -> 236.7375 | CV52: =$BY52*AX52 -> 0 | ... DB52: =$BY52*BD52 -> 0 | DC52: =F52/G52 -> 760.68193 | DD52: =DC52/BU52 -> 24.538127 | DE52: =F52/BU52 -> 243614.52 | DF52: =J52/K52 -> 1992.0325 | DG52: =DF52/BU52 -> 64.259111 | DH52: =J52/BU52 -> 82251.663 | DI52: =N52/P52 -> 38567.478 | DJ52: =DI52/BU52 -> 1244.1122 | DK52: =DI52/BV52 -> 1836.5466 | DL52: =N52/BU52 -> 185372.72 | DM52: =N52/BV52 -> 273645.44 | DN52: 0 | DO52: 0
A53: =EOMONTH(A52,0)+1 -> 43922 | B53: =YEAR(A53) -> 2020 | C53: =MONTH(A53) -> 4 | D53: 6556759 | E53: =IFERROR(VLOOKUP($B53-1,CDM!$J$6:$P$19,2,FALSE)/12,0)+IFERROR(VLOOKUP($B53,CDM!$J$37:$M$48,2,FALSE)/24,0)+IFERROR(VLOOKUP($B53,CDM!$J$37:$M$48,2,FALSE)/2*$C53/78,0) -> 161852.23 | F53: =D53+E53 -> 6718611.2 | G53: 9943 | H53: 1855781 | I53: =IFERROR(VLOOKUP($B53-1,CDM!$J$6:$P$19,3,FALSE)/12,0)+IFERROR(VLOOKUP($B53,CDM!$J$37:$M$47,3,FALSE)/24,0)+IFERROR(VLOOKUP($B53,CDM!$J$37:$M$47,3,FALSE)/2*$C53/78,0) -> 157287.18 | J53: =H53+I53 -> 2013068.2 | K53: 1281 | L53: 4999240 | M53: =IFERROR(VLOOKUP($B53-1,CDM!$J$6:$P$19,4,FALSE)/12,0)+IFERROR(VLOOKUP($B53,CDM!$J$37:$M$47,4,FALSE)/24,0)+IFERROR(VLOOKUP($B53,CDM!$J$37:$M$47,4,FALSE)/2*$C53/78,0) -> 135845.82 | N53: =L53+M53 -> 5135085.8 | O53: =AVERAGE(O52/N52,O54/N54)*N53 -> 13418.879 | P53: 149 | Q53: 74549 | R53: 236 | S53: 2875 | T53: 16645 | U53: 43 | V53: 171 | W53: 46957 | X53: 19 | Y53: 3969.44 | Z53: 6635.5 | AA53: =L53-Y53 -> 4995270.6 | AB53: =N53-Y53 -> 5131116.4 | AC53: =O53-Z53 -> 6783.3787 | AD53: =Economic!H55 -> 769942 | AE53: =Economic!I55 -> 705711 | AF53: =Economic!D55 -> 6961.6 | AG53: =Economic!E55 -> 6893.7 | AH53: =Economic!F55 -> 585 | AI53: =Economic!G55 -> 582.4 | AJ53: =Economic!J55 -> -400 | AK53: =Economic!K55 -> -382 | AL53: =Economic!L55 -> -10 | AM53: =Economic!M55 -> -11.3 | AN53: =Economic!N55 -> -37332.5 | AO53: =Economic!O55 -> -95535 | AP53: =Weather!D53 -> 3.5943056 | AQ53: =Weather!E53 -> 492.17083 | AR53: =Weather!F53 -> 0 | AS53: =Weather!G53 -> 432.17083 | AT53: =Weather!H53 -> 0 | AU53: =Weather!I53 -> 372.17083 | AV53: =Weather!J53 -> 0 | AW53: =Weather!K53 -> 312.17083 | ... BD53: =Weather!R53 -> 3.4583333 | BE53: 0 | BF53: 0 | BG53: 0 | BH53: 1 | BI53: 0 | BJ53: 0 | BK53: 0 | BL53: 0 | BM53: 0 | BN53: 0 | BO53: 0 | BP53: 0 | BQ53: 1 | BR53: 0 | BS53: 1 | BT53: =1+BT52 -> 52 | BU53: 30 | BV53: 21 | BW53: 1 | BX53: 1 | BY53: 1 | BZ53: 1 | CA53: =$BX53*AQ53 -> 492.17083 | CB53: =$BX53*AR53 -> 0 | CC53: =$BX53*AS53 -> 432.17083 | CD53: =$BX53*AT53 -> 0 | CE53: =$BX53*AU53 -> 372.17083 | CF53: =$BX53*AV53 -> 0 | CG53: =$BX53*AW53 -> 312.17083 | CH53: =$BX53*AX53 -> 0 | ... CN53: =$BX53*BD53 -> 3.4583333 | CO53: =$BY53*AQ53 -> 492.17083 | CP53: =$BY53*AR53 -> 0 | CQ53: =$BY53*AS53 -> 432.17083 | CR53: =$BY53*AT53 -> 0 | CS53: =$BY53*AU53 -> 372.17083 | CT53: =$BY53*AV53 -> 0 | CU53: =$BY53*AW53 -> 312.17083 | CV53: =$BY53*AX53 -> 0 | ... DB53: =$BY53*BD53 -> 3.4583333 | DC53: =F53/G53 -> 675.71269 | DD53: =DC53/BU53 -> 22.523756 | DE53: =F53/BU53 -> 223953.71 | DF53: =J53/K53 -> 1571.4818 | DG53: =DF53/BU53 -> 52.382727 | DH53: =J53/BU53 -> 67102.273 | DI53: =N53/P53 -> 34463.663 | DJ53: =DI53/BU53 -> 1148.7888 | DK53: =DI53/BV53 -> 1641.1268 | DL53: =N53/BU53 -> 171169.53 | DM53: =N53/BV53 -> 244527.9 | DN53: 0 | DO53: 0
A54: =EOMONTH(A53,0)+1 -> 43952 | B54: =YEAR(A54) -> 2020 | C54: =MONTH(A54) -> 5 | D54: 6323124 | E54: =IFERROR(VLOOKUP($B54-1,CDM!$J$6:$P$19,2,FALSE)/12,0)+IFERROR(VLOOKUP($B54,CDM!$J$37:$M$48,2,FALSE)/24,0)+IFERROR(VLOOKUP($B54,CDM!$J$37:$M$48,2,FALSE)/2*$C54/78,0) -> 161854.25 | F54: =D54+E54 -> 6484978.2 | G54: 9945 | H54: 1785317 | I54: =IFERROR(VLOOKUP($B54-1,CDM!$J$6:$P$19,3,FALSE)/12,0)+IFERROR(VLOOKUP($B54,CDM!$J$37:$M$47,3,FALSE)/24,0)+IFERROR(VLOOKUP($B54,CDM!$J$37:$M$47,3,FALSE)/2*$C54/78,0) -> 156902.82 | J54: =H54+I54 -> 1942219.8 | K54: 1281 | L54: 4744682 | M54: =IFERROR(VLOOKUP($B54-1,CDM!$J$6:$P$19,4,FALSE)/12,0)+IFERROR(VLOOKUP($B54,CDM!$J$37:$M$47,4,FALSE)/24,0)+IFERROR(VLOOKUP($B54,CDM!$J$37:$M$47,4,FALSE)/2*$C54/78,0) -> 135715.43 | N54: =L54+M54 -> 4880397.4 | O54: 13599 | P54: 150 | Q54: 67740 | R54: 236 | S54: 2920 | T54: 16468 | U54: 43 | V54: 171 | W54: 50359 | X54: 19 | Y54: 528 | Z54: 524.8 | AA54: =L54-Y54 -> 4744154 | AB54: =N54-Y54 -> 4879869.4 | AC54: =O54-Z54 -> 13074.2 | AD54: =Economic!H56 -> 769942 | AE54: =Economic!I56 -> 705711 | AF54: =Economic!D56 -> 6572.6 | AG54: =Economic!E56 -> 6550.9 | AH54: =Economic!F56 -> 564.2 | AI54: =Economic!G56 -> 564.5 | AJ54: =Economic!J56 -> -803.8 | AK54: =Economic!K56 -> -794.8 | AL54: =Economic!L56 -> -31.1 | AM54: =Economic!M56 -> -32.6 | AN54: =Economic!N56 -> -37332.5 | AO54: =Economic!O56 -> -95535 | AP54: =Weather!D54 -> 11.401882 | AQ54: =Weather!E54 -> 278.2125 | AR54: =Weather!F54 -> 11.670833 | AS54: =Weather!G54 -> 227.0375 | AT54: =Weather!H54 -> 22.495833 | AU54: =Weather!I54 -> 182.64583 | AV54: =Weather!J54 -> 40.104167 | AW54: =Weather!K54 -> 140.46667 | ... BD54: =Weather!R54 -> 152.78333 | BE54: 0 | BF54: 0 | BG54: 0 | BH54: 0 | BI54: 1 | BJ54: 0 | BK54: 0 | BL54: 0 | BM54: 0 | BN54: 0 | BO54: 0 | BP54: 0 | BQ54: 1 | BR54: 0 | BS54: 1 | BT54: =1+BT53 -> 53 | BU54: 31 | BV54: 22 | BW54: 1 | BX54: 1 | BY54: 1 | BZ54: 1 | CA54: =$BX54*AQ54 -> 278.2125 | CB54: =$BX54*AR54 -> 11.670833 | CC54: =$BX54*AS54 -> 227.0375 | CD54: =$BX54*AT54 -> 22.495833 | CE54: =$BX54*AU54 -> 182.64583 | CF54: =$BX54*AV54 -> 40.104167 | CG54: =$BX54*AW54 -> 140.46667 | CH54: =$BX54*AX54 -> 59.925 | ... CN54: =$BX54*BD54 -> 152.78333 | CO54: =$BY54*AQ54 -> 278.2125 | CP54: =$BY54*AR54 -> 11.670833 | CQ54: =$BY54*AS54 -> 227.0375 | CR54: =$BY54*AT54 -> 22.495833 | CS54: =$BY54*AU54 -> 182.64583 | CT54: =$BY54*AV54 -> 40.104167 | CU54: =$BY54*AW54 -> 140.46667 | CV54: =$BY54*AX54 -> 59.925 | ... DB54: =$BY54*BD54 -> 152.78333 | DC54: =F54/G54 -> 652.08429 | DD54: =DC54/BU54 -> 21.034977 | DE54: =F54/BU54 -> 209192.85 | DF54: =J54/K54 -> 1516.1747 | DG54: =DF54/BU54 -> 48.908862 | DH54: =J54/BU54 -> 62652.252 | DI54: =N54/P54 -> 32535.983 | DJ54: =DI54/BU54 -> 1049.5478 | DK54: =DI54/BV54 -> 1478.9083 | DL54: =N54/BU54 -> 157432.18 | DM54: =N54/BV54 -> 221836.25 | DN54: 0 | DO54: 0
A55: =EOMONTH(A54,0)+1 -> 43983 | B55: =YEAR(A55) -> 2020 | C55: =MONTH(A55) -> 6 | D55: 6629679 | E55: =IFERROR(VLOOKUP($B55-1,CDM!$J$6:$P$19,2,FALSE)/12,0)+IFERROR(VLOOKUP($B55,CDM!$J$37:$M$48,2,FALSE)/24,0)+IFERROR(VLOOKUP($B55,CDM!$J$37:$M$48,2,FALSE)/2*$C55/78,0) -> 161856.27 | F55: =D55+E55 -> 6791535.3 | G55: 9949 | H55: 1892488 | I55: =IFERROR(VLOOKUP($B55-1,CDM!$J$6:$P$19,3,FALSE)/12,0)+IFERROR(VLOOKUP($B55,CDM!$J$37:$M$47,3,FALSE)/24,0)+IFERROR(VLOOKUP($B55,CDM!$J$37:$M$47,3,FALSE)/2*$C55/78,0) -> 156518.46 | J55: =H55+I55 -> 2049006.5 | K55: 1276 | L55: 5036829 | M55: =IFERROR(VLOOKUP($B55-1,CDM!$J$6:$P$19,4,FALSE)/12,0)+IFERROR(VLOOKUP($B55,CDM!$J$37:$M$47,4,FALSE)/24,0)+IFERROR(VLOOKUP($B55,CDM!$J$37:$M$47,4,FALSE)/2*$C55/78,0) -> 135585.05 | N55: =L55+M55 -> 5172414.1 | O55: 15696 | P55: 150 | Q55: 61049 | R55: 236 | S55: 2920 | T55: 16451 | U55: 43 | V55: 171 | W55: 48889 | X55: 19 | Y55: 3140.96 | Z55: 1978.24 | AA55: =L55-Y55 -> 5033688 | AB55: =N55-Y55 -> 5169273.1 | AC55: =O55-Z55 -> 13717.76 | AD55: =Economic!H57 -> 769942 | AE55: =Economic!I57 -> 705711 | AF55: =Economic!D57 -> 6477.4 | AG55: =Economic!E57 -> 6515.6 | AH55: =Economic!F57 -> 555.7 | AI55: =Economic!G57 -> 560.1 | AJ55: =Economic!J57 -> -918.7 | AK55: =Economic!K57 -> -921.2 | AL55: =Economic!L57 -> -41.4 | AM55: =Economic!M57 -> -43.3 | AN55: =Economic!N57 -> -37332.5 | AO55: =Economic!O57 -> -95535 | AP55: =Weather!D55 -> 17.740833 | AQ55: =Weather!E55 -> 92.391667 | AR55: =Weather!F55 -> 24.616667 | AS55: =Weather!G55 -> 55.383333 | AT55: =Weather!H55 -> 47.608333 | AU55: =Weather!I55 -> 32.708333 | AV55: =Weather!J55 -> 84.933333 | AW55: =Weather!K55 -> 17.5375 | ... BD55: =Weather!R55 -> 292.225 | BE55: 0 | BF55: 0 | BG55: 0 | BH55: 0 | BI55: 0 | BJ55: 1 | BK55: 0 | BL55: 0 | BM55: 0 | BN55: 0 | BO55: 0 | BP55: 0 | BQ55: 0 | BR55: 0 | BS55: 0 | BT55: =1+BT54 -> 54 | BU55: 30 | BV55: 21 | BW55: 1 | BX55: 0.5 | BY55: 1 | BZ55: 0.5 | CA55: =$BX55*AQ55 -> 46.195833 | CB55: =$BX55*AR55 -> 12.308333 | CC55: =$BX55*AS55 -> 27.691667 | CD55: =$BX55*AT55 -> 23.804167 | CE55: =$BX55*AU55 -> 16.354167 | CF55: =$BX55*AV55 -> 42.466667 | CG55: =$BX55*AW55 -> 8.76875 | CH55: =$BX55*AX55 -> 64.88125 | ... CN55: =$BX55*BD55 -> 146.1125 | CO55: =$BY55*AQ55 -> 92.391667 | CP55: =$BY55*AR55 -> 24.616667 | CQ55: =$BY55*AS55 -> 55.383333 | CR55: =$BY55*AT55 -> 47.608333 | CS55: =$BY55*AU55 -> 32.708333 | CT55: =$BY55*AV55 -> 84.933333 | CU55: =$BY55*AW55 -> 17.5375 | CV55: =$BY55*AX55 -> 129.7625 | ... DB55: =$BY55*BD55 -> 292.225 | DC55: =F55/G55 -> 682.63496 | DD55: =DC55/BU55 -> 22.754499 | DE55: =F55/BU55 -> 226384.51 | DF55: =J55/K55 -> 1605.8044 | DG55: =DF55/BU55 -> 53.526815 | DH55: =J55/BU55 -> 68300.215 | DI55: =N55/P55 -> 34482.76 | DJ55: =DI55/BU55 -> 1149.4253 | DK55: =DI55/BV55 -> 1642.0362 | DL55: =N55/BU55 -> 172413.8 | DM55: =N55/BV55 -> 246305.43 | DN55: 0 | DO55: 0
