Workbook

Sheet B&C Inputs
A1: Billing & Collecting Weighting Factor Model
A2: Yellow cells = inputs. Each sub-account row can use different allocation. Use 'Applicable only' methods to exclude classes and re-normalize. | J2: B) Time Allocation (used for rows marked Time %)
A4: Relvant Billing Balances | D4: A) Customer & Billing Volumes | J4: B) Time Allocation
A5: Bad Debt & Meter Reading have their own allocation in the CA Model
A6: Account | B6: 2027 Balance | D6: Class | E6: 2027 Customers | F6: 2027Bills / Year | G6: Total Bills | H6: Bill Share % | J6: Class | K6: Time % | L6: Previous | M6: Check | N6: Must Equal 100%
A7: 5315-Cust Bill | B7: 482493.84 | D7: Residential | E7: 5376 | F7: 12 | G7: =E7*F7 -> 64512 | H7: =IF(SUM($G$7:$G$12)=0,0,G7/SUM($G$7:$G$12)) -> 0.85090218 | J7: Residential | K7: 0.8 | L7: 0.9 | M7: H13 & K13 | N7: =IF(OR(K13=1,H13=1),"OK","NOT 100%") -> OK
A8: 5320-Collecting | B8: 38262.471 | D8: GS < 50 | E8: 742 | F8: 12 | G8: =E8*F8 -> 8904 | H8: =IF(SUM($G$7:$G$12)=0,0,G8/SUM($G$7:$G$12)) -> 0.11744223 | J8: GS < 50 | K8: 0.22 | L8: 0.075
A9: 5325-Cash O/S | B9: 0 | D9: GS > 50 | E9: 66 | F9: 12 | G9: =E9*F9 -> 792 | H9: =IF(SUM($G$7:$G$12)=0,0,G9/SUM($G$7:$G$12)) -> 0.010446344 | J9: GS > 50 | K9: 0.115 | L9: 0.005
A10: 5330-Collection Charges | B10: 0 | D10: Unmetered | E10: 60 | F10: 12 | G10: =E10*F10 -> 720 | H10: =IF(SUM($G$7:$G$12)=0,0,G10/SUM($G$7:$G$12)) -> 0.0094966762 | J10: Unmetered | K10: 0.005 | L10: 0.005 | M10: Notes:
A11: 5340-Misc Cust Acct | B11: 8771.2886 | D11: Street Lighting | E11: 5 | F11: 12 | G11: =E11*F11 -> 60 | H11: =IF(SUM($G$7:$G$12)=0,0,G11/SUM($G$7:$G$12)) -> 0.00079138968 | J11: Street Lighting | K11: 0.005 | L11: 0.005 | M11: • 'Applicable only' methods re-normalize across classes marked Applies=Y.
A12: TOTAL | B12: =ROUND(SUM(B7:B11),0) -> 529528 | C12: =IF(B12=C97,"Balanced","Not Balanced") -> Balanced | D12: Sentinel Lights | E12: 69 | F12: 12 | G12: =E12*F12 -> 828 | H12: =IF(SUM($G$7:$G$12)=0,0,G12/SUM($G$7:$G$12)) -> 0.010921178 | J12: Sentinel Lights | K12: 0.005 | L12: 0.01 | M12: • 'Direct $' uses the Direct $ columns (enter dollars by class; Total Annual Cost can be left as reference).
C13: =B12-C97 -> 0 | D13: TOTAL | E13: =SUM(E7:E12) -> 6318 | G13: =SUM(G7:G12) -> 75816 | H13: =SUM(H7:H12) -> 1 | J13: TOTAL | K13: =SUM(K7:K12) -> 1.15 | L13: 1 | M13: • For Direct $, blanks/zeros mean no allocation to that class.
A15: C) Sub-Account Expenses (each row can have its own allocation, applicability, and/or direct $ split)
A17: Primary Acct | B17: Sub-Account Description | C17: 2027 Projected Annual Cost | D17: Allocation Method | E17: Applies: Residential | F17: Applies: GS < 50 | G17: Applies: GS > 50 | H17: Applies: USL | I17: Applies: Street Lighting | J17: Applies: Sentinel Lights | K17: Direct $: Residential | L17: Direct $: GS < 50 | M17: Direct $: GS > 50 | N17: Direct $: USL | O17: Direct $: Street Lighting | P17: Direct $: Sentinel Lights | Q17: Recon
A18: 5315 | B18: Staff payroll time | C18: =B7 -> 482493.84 | D18: Per Bill (Applicable only) | E18: Y | F18: Y | G18: Y | H18: Y | I18: Y | J18: Y | K18: 0 | L18: 0 | M18: 0 | N18: 0 | O18: 0 | P18: 0 | Q18: =SUM(K18:P18) -> 0
A19: 5320 | B19: Staff payroll time | C19: =B8 -> 38262.471 | D19: Time % (Applicable only) | E19: Y | F19: Y | G19: Y | H19: N | I19: N | J19: N | K19: 0 | L19: 0 | M19: 0 | N19: 0 | O19: 0 | P19: 0 | Q19: =SUM(K19:P19) -> 0
A20: 5320 | B20: Collection call fee | C20: =B9 -> 0 | D20: Time % (Applicable only) | E20: Y | F20: Y | G20: Y | H20: N | I20: N | J20: N | K20: 0 | L20: 0 | M20: 0 | N20: 0 | O20: 0 | P20: 0 | Q20: =SUM(K20:P20) -> 0
A21: 5330 | B21: Collection fee | C21: 0 | D21: Time % (Applicable only) | E21: Y | F21: Y | G21: Y | H21: N | I21: N | J21: N | K21: 0 | L21: 0 | M21: 0 | N21: 0 | O21: 0 | P21: 0 | Q21: =SUM(K21:P21) -> 0
A22: 5340 | B22: Billing services | C22: 8771.2886 | D22: Per Bill | E22: Y | F22: Y | G22: Y | H22: Y | I22: Y | J22: Y | K22: 0 | L22: 0 | M22: 0 | N22: 0 | O22: 0 | P22: 0 | Q22: =SUM(K22:P22) -> 0
C23: 0 | E23: Y | F23: Y | G23: Y | H23: Y | I23: Y | J23: Y | K23: 0 | L23: 0 | M23: 0 | N23: 0 | O23: 0 | P23: 0 | Q23: =SUM(K23:P23) -> 0
C24: 0 | E24: Y | F24: Y | G24: Y | H24: Y | I24: Y | J24: Y | K24: 0 | L24: 0 | M24: 0 | N24: 0 | O24: 0 | P24: 0 | Q24: =SUM(K24:P24) -> 0
C25: 0 | E25: Y | F25: Y | G25: Y | H25: Y | I25: Y | J25: Y | K25: 0 | L25: 0 | M25: 0 | N25: 0 | O25: 0 | P25: 0 | Q25: =SUM(K25:P25) -> 0
C26: 0 | E26: Y | F26: Y | G26: Y | H26: Y | I26: Y | J26: Y | K26: 0 | L26: 0 | M26: 0 | N26: 0 | O26: 0 | P26: 0 | Q26: =SUM(K26:P26) -> 0
C27: 0 | E27: Y | F27: Y | G27: Y | H27: Y | I27: Y | J27: Y | K27: 0 | L27: 0 | M27: 0 | N27: 0 | O27: 0 | P27: 0 | Q27: =SUM(K27:P27) -> 0
C28: 0 | E28: Y | F28: Y | G28: Y | H28: Y | I28: Y | J28: Y | K28: 0 | L28: 0 | M28: 0 | N28: 0 | O28: 0 | P28: 0 | Q28: =SUM(K28:P28) -> 0
C29: 0 | E29: Y | F29: Y | G29: Y | H29: Y | I29: Y | J29: Y | K29: 0 | L29: 0 | M29: 0 | N29: 0 | O29: 0 | P29: 0 | Q29: =SUM(K29:P29) -> 0
C30: 0 | E30: Y | F30: Y | G30: Y | H30: Y | I30: Y | J30: Y | K30: 0 | L30: 0 | M30: 0 | N30: 0 | O30: 0 | P30: 0 | Q30: =SUM(K30:P30) -> 0
C31: 0 | E31: Y | F31: Y | G31: Y | H31: Y | I31: Y | J31: Y | K31: 0 | L31: 0 | M31: 0 | N31: 0 | O31: 0 | P31: 0 | Q31: =SUM(K31:P31) -> 0
C32: 0 | E32: Y | F32: Y | G32: Y | H32: Y | I32: Y | J32: Y | K32: 0 | L32: 0 | M32: 0 | N32: 0 | O32: 0 | P32: 0 | Q32: =SUM(K32:P32) -> 0
C33: 0 | E33: Y | F33: Y | G33: Y | H33: Y | I33: Y | J33: Y | K33: 0 | L33: 0 | M33: 0 | N33: 0 | O33: 0 | P33: 0 | Q33: =SUM(K33:P33) -> 0
C34: 0 | E34: Y | F34: Y | G34: Y | H34: Y | I34: Y | J34: Y | K34: 0 | L34: 0 | M34: 0 | N34: 0 | O34: 0 | P34: 0 | Q34: =SUM(K34:P34) -> 0
... C96: 0 | E96: Y | F96: Y | G96: Y | H96: Y | I96: Y | J96: Y | K96: 0 | L96: 0 | M96: 0 | N96: 0 | O96: 0 | P96: 0 | Q96: =SUM(K96:P96) -> 0
B97: TOTAL | C97: =ROUND(SUM(C18:C96),0) -> 529528 | E97: Y | F97: Y | G97: Y | H97: Y | I97: Y | J97: Y | K97: 0 | L97: 0 | M97: 0 | N97: 0 | O97: 0 | P97: 0 | Q97: =SUM(Q18:Q96) -> 0

Sheet B&C Weighting Factor
A1: Calculated Results
A2: Allocations are calculated per sub-account row and summed by class.
A4: Class | B4: Customers | C4: Allocated Cost | D4: Cost per Customer | E4: Weighting (Res=1.00)
A5: Residential | B5: ='B&C Inputs'!E7 -> 5376 | C5: =SUM(G16:G95) -> 444987.72 | D5: =IF(B5=0,0,C5/B5) -> 82.773013 | E5: 1
A6: GS < 50 | B6: ='B&C Inputs'!E8 -> 742 | C6: =SUM(H16:H95) -> 65111.786 | D6: =IF(B6=0,0,C6/B6) -> 87.751733 | E6: =IF(D5=0,0,D6/D5) -> 1.0601491
A7: GS > 50 | B7: ='B&C Inputs'!E9 -> 66 | C7: =SUM(I16:I95) -> 9008.7387 | D7: =IF(B7=0,0,C7/B7) -> 136.49604 | E7: =IF(D5=0,0,D7/D5) -> 1.6490404
A8: Unmetered | B8: ='B&C Inputs'!E10 -> 60 | C8: =SUM(J16:J95) -> 4665.3859 | D8: =IF(B8=0,0,C8/B8) -> 77.756431 | E8: =IF(D5=0,0,D8/D5) -> 0.93939351
A9: Street Lighting | B9: ='B&C Inputs'!E11 -> 5 | C9: =SUM(K16:K95) -> 388.78216 | D9: =IF(B9=0,0,C9/B9) -> 77.756431 | E9: =IF(D5=0,0,D9/D5) -> 0.93939351
A10: Sentinel Lights | B10: ='B&C Inputs'!E12 -> 69 | C10: =SUM(L16:L95) -> 5365.1937 | D10: =IF(B10=0,0,C10/B10) -> 77.756431 | E10: =IF(D5=0,0,D10/D5) -> 0.93939351
A13: Allocation Detail (first 80 sub-accounts)
A15: Primary Acct | B15: Sub-Account Description | C15: Total Cost | D15: Method | E15: Denom Bills | F15: Denom Time | G15: Residential | H15: GS < 50 | I15: GS > 50 | J15: USL | K15: Street Lighting | L15: Sentinel Lights
A16: ='B&C Inputs'!A18 -> 5315 | B16: ='B&C Inputs'!B18 -> Staff payroll time | C16: ='B&C Inputs'!C18 -> 482493.84 | D16: ='B&C Inputs'!D18 -> Per Bill (Applicable only) | E16: =IF($A16="","",(IF('B&C Inputs'!E18="Y",'B&C Inputs'!G7,0)+IF('B&C Inputs'!F18="Y",'B&C Inputs'!G8,0)+IF('B&C Inputs'!G18="Y",'B&C Inputs'!G9,0)+IF('B&C Inputs'!H18="Y",'B&C Inputs'!G10,0)+IF('B&C Inputs'!I18="Y",'B&C Inputs'!G11,0)+IF('B&C Inputs'!J18="Y",'B&C Inputs'!G12,0))) -> 75816 | F16: =IF($A16="","",(IF('B&C Inputs'!E18="Y",'B&C Inputs'!K7,0)+IF('B&C Inputs'!F18="Y",'B&C Inputs'!K8,0)+IF('B&C Inputs'!G18="Y",'B&C Inputs'!K9,0)+IF('B&C Inputs'!H18="Y",'B&C Inputs'!K10,0)+IF('B&C Inputs'!I18="Y",'B&C Inputs'!K11,0)+IF('B&C Inputs'!J18="Y",'B&C Inputs'!K12,0))) -> 1.15 | G16: =IF($A16="","",IF($D16="Direct $",'B&C Inputs'!K18,IF($D16="Per Bill",$C16*'B&C Inputs'!H7,IF($D16="Time %",$C16*'B&C Inputs'!K7,IF($D16="Per Bill (Applicable only)",IF($E16=0,0,$C16*(IF('B&C Inputs'!E18="Y",'B&C Inputs'!G7,0))/$E16),IF($D16="Time % (Applicable only)",IF($F16=0,0,$C16*(IF('B&C Inputs'!E18="Y",'B&C Inputs'!K7,0))/$F16),0)))))) -> 410555.07 | H16: =IF($A16="","",IF($D16="Direct $",'B&C Inputs'!L18,IF($D16="Per Bill",$C16*'B&C Inputs'!H8,IF($D16="Time %",$C16*'B&C Inputs'!K8,IF($D16="Per Bill (Applicable only)",IF($E16=0,0,$C16*(IF('B&C Inputs'!F18="Y",'B&C Inputs'!G8,0))/$E16),IF($D16="Time % (Applicable only)",IF($F16=0,0,$C16*(IF('B&C Inputs'!F18="Y",'B&C Inputs'!K8,0))/$F16),0)))))) -> 56665.152 | I16: =IF($A16="","",IF($D16="Direct $",'B&C Inputs'!M18,IF($D16="Per Bill",$C16*'B&C Inputs'!H9,IF($D16="Time %",$C16*'B&C Inputs'!K9,IF($D16="Per Bill (Applicable only)",IF($E16=0,0,$C16*(IF('B&C Inputs'!G18="Y",'B&C Inputs'!G9,0))/$E16),IF($D16="Time % (Applicable only)",IF($F16=0,0,$C16*(IF('B&C Inputs'!G18="Y",'B&C Inputs'!K9,0))/$F16),0)))))) -> 5040.2966 | J16: =IF($A16="","",IF($D16="Direct $",'B&C Inputs'!N18,IF($D16="Per Bill",$C16*'B&C Inputs'!H10,IF($D16="Time %",$C16*'B&C Inputs'!K10,IF($D16="Per Bill (Applicable only)",IF($E16=0,0,$C16*(IF('B&C Inputs'!H18="Y",'B&C Inputs'!G10,0))/$E16),IF($D16="Time % (Applicable only)",IF($F16=0,0,$C16*(IF('B&C Inputs'!H18="Y",'B&C Inputs'!K10,0))/$F16),0)))))) -> 4582.0878 | K16: =IF($A16="","",IF($D16="Direct $",'B&C Inputs'!O18,IF($D16="Per Bill",$C16*'B&C Inputs'!H11,IF($D16="Time %",$C16*'B&C Inputs'!K11,IF($D16="Per Bill (Applicable only)",IF($E16=0,0,$C16*(IF('B&C Inputs'!I18="Y",'B&C Inputs'!G11,0))/$E16),IF($D16="Time % (Applicable only)",IF($F16=0,0,$C16*(IF('B&C Inputs'!I18="Y",'B&C Inputs'!K11,0))/$F16),0)))))) -> 381.84065 | L16: =IF($A16="","",IF($D16="Direct $",'B&C Inputs'!P18,IF($D16="Per Bill",$C16*'B&C Inputs'!H12,IF($D16="Time %",$C16*'B&C Inputs'!K12,IF($D16="Per Bill (Applicable only)",IF($E16=0,0,$C16*(IF('B&C Inputs'!J18="Y",'B&C Inputs'!G12,0))/$E16),IF($D16="Time % (Applicable only)",IF($F16=0,0,$C16*(IF('B&C Inputs'!J18="Y",'B&C Inputs'!K12,0))/$F16),0)))))) -> 5269.4009
A17: ='B&C Inputs'!A19 -> 5320 | B17: ='B&C Inputs'!B19 -> Staff payroll time | C17: ='B&C Inputs'!C19 -> 38262.471 | D17: ='B&C Inputs'!D19 -> Time % (Applicable only) | E17: =IF($A17="","",(IF('B&C Inputs'!E19="Y",'B&C Inputs'!G7,0)+IF('B&C Inputs'!F19="Y",'B&C Inputs'!G8,0)+IF('B&C Inputs'!G19="Y",'B&C Inputs'!G9,0)+IF('B&C Inputs'!H19="Y",'B&C Inputs'!G10,0)+IF('B&C Inputs'!I19="Y",'B&C Inputs'!G11,0)+IF('B&C Inputs'!J19="Y",'B&C Inputs'!G12,0))) -> 74208 | F17: =IF($A17="","",(IF('B&C Inputs'!E19="Y",'B&C Inputs'!K7,0)+IF('B&C Inputs'!F19="Y",'B&C Inputs'!K8,0)+IF('B&C Inputs'!G19="Y",'B&C Inputs'!K9,0)+IF('B&C Inputs'!H19="Y",'B&C Inputs'!K10,0)+IF('B&C Inputs'!I19="Y",'B&C Inputs'!K11,0)+IF('B&C Inputs'!J19="Y",'B&C Inputs'!K12,0))) -> 1.135 | G17: =IF($A17="","",IF($D17="Direct $",'B&C Inputs'!K19,IF($D17="Per Bill",$C17*'B&C Inputs'!H7,IF($D17="Time %",$C17*'B&C Inputs'!K7,IF($D17="Per Bill (Applicable only)",IF($E17=0,0,$C17*(IF('B&C Inputs'!E19="Y",'B&C Inputs'!G7,0))/$E17),IF($D17="Time % (Applicable only)",IF($F17=0,0,$C17*(IF('B&C Inputs'!E19="Y",'B&C Inputs'!K7,0))/$F17),0)))))) -> 26969.142 | H17: =IF($A17="","",IF($D17="Direct $",'B&C Inputs'!L19,IF($D17="Per Bill",$C17*'B&C Inputs'!H8,IF($D17="Time %",$C17*'B&C Inputs'!K8,IF($D17="Per Bill (Applicable only)",IF($E17=0,0,$C17*(IF('B&C Inputs'!F19="Y",'B&C Inputs'!G8,0))/$E17),IF($D17="Time % (Applicable only)",IF($F17=0,0,$C17*(IF('B&C Inputs'!F19="Y",'B&C Inputs'!K8,0))/$F17),0)))))) -> 7416.5141 | I17: =IF($A17="","",IF($D17="Direct $",'B&C Inputs'!M19,IF($D17="Per Bill",$C17*'B&C Inputs'!H9,IF($D17="Time %",$C17*'B&C Inputs'!K9,IF($D17="Per Bill (Applicable only)",IF($E17=0,0,$C17*(IF('B&C Inputs'!G19="Y",'B&C Inputs'!G9,0))/$E17),IF($D17="Time % (Applicable only)",IF($F17=0,0,$C17*(IF('B&C Inputs'!G19="Y",'B&C Inputs'!K9,0))/$F17),0)))))) -> 3876.8142 | J17: =IF($A17="","",IF($D17="Direct $",'B&C Inputs'!N19,IF($D17="Per Bill",$C17*'B&C Inputs'!H10,IF($D17="Time %",$C17*'B&C Inputs'!K10,IF($D17="Per Bill (Applicable only)",IF($E17=0,0,$C17*(IF('B&C Inputs'!H19="Y",'B&C Inputs'!G10,0))/$E17),IF($D17="Time % (Applicable only)",IF($F17=0,0,$C17*(IF('B&C Inputs'!H19="Y",'B&C Inputs'!K10,0))/$F17),0)))))) -> 0 | K17: =IF($A17="","",IF($D17="Direct $",'B&C Inputs'!O19,IF($D17="Per Bill",$C17*'B&C Inputs'!H11,IF($D17="Time %",$C17*'B&C Inputs'!K11,IF($D17="Per Bill (Applicable only)",IF($E17=0,0,$C17*(IF('B&C Inputs'!I19="Y",'B&C Inputs'!G11,0))/$E17),IF($D17="Time % (Applicable only)",IF($F17=0,0,$C17*(IF('B&C Inputs'!I19="Y",'B&C Inputs'!K11,0))/$F17),0)))))) -> 0 | L17: =IF($A17="","",IF($D17="Direct $",'B&C Inputs'!P19,IF($D17="Per Bill",$C17*'B&C Inputs'!H12,IF($D17="Time %",$C17*'B&C Inputs'!K12,IF($D17="Per Bill (Applicable only)",IF($E17=0,0,$C17*(IF('B&C Inputs'!J19="Y",'B&C Inputs'!G12,0))/$E17),IF($D17="Time % (Applicable only)",IF($F17=0,0,$C17*(IF('B&C Inputs'!J19="Y",'B&C Inputs'!K12,0))/$F17),0)))))) -> 0
A18: ='B&C Inputs'!A20 -> 5320 | B18: ='B&C Inputs'!B20 -> Collection call fee | C18: ='B&C Inputs'!C20 -> 0 | D18: ='B&C Inputs'!D20 -> Time % (Applicable only) | E18: =IF($A18="","",(IF('B&C Inputs'!E20="Y",'B&C Inputs'!G7,0)+IF('B&C Inputs'!F20="Y",'B&C Inputs'!G8,0)+IF('B&C Inputs'!G20="Y",'B&C Inputs'!G9,0)+IF('B&C Inputs'!H20="Y",'B&C Inputs'!G10,0)+IF('B&C Inputs'!I20="Y",'B&C Inputs'!G11,0)+IF('B&C Inputs'!J20="Y",'B&C Inputs'!G12,0))) -> 74208 | F18: =IF($A18="","",(IF('B&C Inputs'!E20="Y",'B&C Inputs'!K7,0)+IF('B&C Inputs'!F20="Y",'B&C Inputs'!K8,0)+IF('B&C Inputs'!G20="Y",'B&C Inputs'!K9,0)+IF('B&C Inputs'!H20="Y",'B&C Inputs'!K10,0)+IF('B&C Inputs'!I20="Y",'B&C Inputs'!K11,0)+IF('B&C Inputs'!J20="Y",'B&C Inputs'!K12,0))) -> 1.135 | G18: =IF($A18="","",IF($D18="Direct $",'B&C Inputs'!K20,IF($D18="Per Bill",$C18*'B&C Inputs'!H7,IF($D18="Time %",$C18*'B&C Inputs'!K7,IF($D18="Per Bill (Applicable only)",IF($E18=0,0,$C18*(IF('B&C Inputs'!E20="Y",'B&C Inputs'!G7,0))/$E18),IF($D18="Time % (Applicable only)",IF($F18=0,0,$C18*(IF('B&C Inputs'!E20="Y",'B&C Inputs'!K7,0))/$F18),0)))))) -> 0 | H18: =IF($A18="","",IF($D18="Direct $",'B&C Inputs'!L20,IF($D18="Per Bill",$C18*'B&C Inputs'!H8,IF($D18="Time %",$C18*'B&C Inputs'!K8,IF($D18="Per Bill (Applicable only)",IF($E18=0,0,$C18*(IF('B&C Inputs'!F20="Y",'B&C Inputs'!G8,0))/$E18),IF($D18="Time % (Applicable only)",IF($F18=0,0,$C18*(IF('B&C Inputs'!F20="Y",'B&C Inputs'!K8,0))/$F18),0)))))) -> 0 | I18: =IF($A18="","",IF($D18="Direct $",'B&C Inputs'!M20,IF($D18="Per Bill",$C18*'B&C Inputs'!H9,IF($D18="Time %",$C18*'B&C Inputs'!K9,IF($D18="Per Bill (Applicable only)",IF($E18=0,0,$C18*(IF('B&C Inputs'!G20="Y",'B&C Inputs'!G9,0))/$E18),IF($D18="Time % (Applicable only)",IF($F18=0,0,$C18*(IF('B&C Inputs'!G20="Y",'B&C Inputs'!K9,0))/$F18),0)))))) -> 0 | J18: =IF($A18="","",IF($D18="Direct $",'B&C Inputs'!N20,IF($D18="Per Bill",$C18*'B&C Inputs'!H10,IF($D18="Time %",$C18*'B&C Inputs'!K10,IF($D18="Per Bill (Applicable only)",IF($E18=0,0,$C18*(IF('B&C Inputs'!H20="Y",'B&C Inputs'!G10,0))/$E18),IF($D18="Time % (Applicable only)",IF($F18=0,0,$C18*(IF('B&C Inputs'!H20="Y",'B&C Inputs'!K10,0))/$F18),0)))))) -> 0 | K18: =IF($A18="","",IF($D18="Direct $",'B&C Inputs'!O20,IF($D18="Per Bill",$C18*'B&C Inputs'!H11,IF($D18="Time %",$C18*'B&C Inputs'!K11,IF($D18="Per Bill (Applicable only)",IF($E18=0,0,$C18*(IF('B&C Inputs'!I20="Y",'B&C Inputs'!G11,0))/$E18),IF($D18="Time % (Applicable only)",IF($F18=0,0,$C18*(IF('B&C Inputs'!I20="Y",'B&C Inputs'!K11,0))/$F18),0)))))) -> 0 | L18: =IF($A18="","",IF($D18="Direct $",'B&C Inputs'!P20,IF($D18="Per Bill",$C18*'B&C Inputs'!H12,IF($D18="Time %",$C18*'B&C Inputs'!K12,IF($D18="Per Bill (Applicable only)",IF($E18=0,0,$C18*(IF('B&C Inputs'!J20="Y",'B&C Inputs'!G12,0))/$E18),IF($D18="Time % (Applicable only)",IF($F18=0,0,$C18*(IF('B&C Inputs'!J20="Y",'B&C Inputs'!K12,0))/$F18),0)))))) -> 0
A19: ='B&C Inputs'!A21 -> 5330 | B19: ='B&C Inputs'!B21 -> Collection fee | C19: ='B&C Inputs'!C21 -> 0 | D19: ='B&C Inputs'!D21 -> Time % (Applicable only) | E19: =IF($A19="","",(IF('B&C Inputs'!E21="Y",'B&C Inputs'!G7,0)+IF('B&C Inputs'!F21="Y",'B&C Inputs'!G8,0)+IF('B&C Inputs'!G21="Y",'B&C Inputs'!G9,0)+IF('B&C Inputs'!H21="Y",'B&C Inputs'!G10,0)+IF('B&C Inputs'!I21="Y",'B&C Inputs'!G11,0)+IF('B&C Inputs'!J21="Y",'B&C Inputs'!G12,0))) -> 74208 | F19: =IF($A19="","",(IF('B&C Inputs'!E21="Y",'B&C Inputs'!K7,0)+IF('B&C Inputs'!F21="Y",'B&C Inputs'!K8,0)+IF('B&C Inputs'!G21="Y",'B&C Inputs'!K9,0)+IF('B&C Inputs'!H21="Y",'B&C Inputs'!K10,0)+IF('B&C Inputs'!I21="Y",'B&C Inputs'!K11,0)+IF('B&C Inputs'!J21="Y",'B&C Inputs'!K12,0))) -> 1.135 | G19: =IF($A19="","",IF($D19="Direct $",'B&C Inputs'!K21,IF($D19="Per Bill",$C19*'B&C Inputs'!H7,IF($D19="Time %",$C19*'B&C Inputs'!K7,IF($D19="Per Bill (Applicable only)",IF($E19=0,0,$C19*(IF('B&C Inputs'!E21="Y",'B&C Inputs'!G7,0))/$E19),IF($D19="Time % (Applicable only)",IF($F19=0,0,$C19*(IF('B&C Inputs'!E21="Y",'B&C Inputs'!K7,0))/$F19),0)))))) -> 0 | H19: =IF($A19="","",IF($D19="Direct $",'B&C Inputs'!L21,IF($D19="Per Bill",$C19*'B&C Inputs'!H8,IF($D19="Time %",$C19*'B&C Inputs'!K8,IF($D19="Per Bill (Applicable only)",IF($E19=0,0,$C19*(IF('B&C Inputs'!F21="Y",'B&C Inputs'!G8,0))/$E19),IF($D19="Time % (Applicable only)",IF($F19=0,0,$C19*(IF('B&C Inputs'!F21="Y",'B&C Inputs'!K8,0))/$F19),0)))))) -> 0 | I19: =IF($A19="","",IF($D19="Direct $",'B&C Inputs'!M21,IF($D19="Per Bill",$C19*'B&C Inputs'!H9,IF($D19="Time %",$C19*'B&C Inputs'!K9,IF($D19="Per Bill (Applicable only)",IF($E19=0,0,$C19*(IF('B&C Inputs'!G21="Y",'B&C Inputs'!G9,0))/$E19),IF($D19="Time % (Applicable only)",IF($F19=0,0,$C19*(IF('B&C Inputs'!G21="Y",'B&C Inputs'!K9,0))/$F19),0)))))) -> 0 | J19: =IF($A19="","",IF($D19="Direct $",'B&C Inputs'!N21,IF($D19="Per Bill",$C19*'B&C Inputs'!H10,IF($D19="Time %",$C19*'B&C Inputs'!K10,IF($D19="Per Bill (Applicable only)",IF($E19=0,0,$C19*(IF('B&C Inputs'!H21="Y",'B&C Inputs'!G10,0))/$E19),IF($D19="Time % (Applicable only)",IF($F19=0,0,$C19*(IF('B&C Inputs'!H21="Y",'B&C Inputs'!K10,0))/$F19),0)))))) -> 0 | K19: =IF($A19="","",IF($D19="Direct $",'B&C Inputs'!O21,IF($D19="Per Bill",$C19*'B&C Inputs'!H11,IF($D19="Time %",$C19*'B&C Inputs'!K11,IF($D19="Per Bill (Applicable only)",IF($E19=0,0,$C19*(IF('B&C Inputs'!I21="Y",'B&C Inputs'!G11,0))/$E19),IF($D19="Time % (Applicable only)",IF($F19=0,0,$C19*(IF('B&C Inputs'!I21="Y",'B&C Inputs'!K11,0))/$F19),0)))))) -> 0 | L19: =IF($A19="","",IF($D19="Direct $",'B&C Inputs'!P21,IF($D19="Per Bill",$C19*'B&C Inputs'!H12,IF($D19="Time %",$C19*'B&C Inputs'!K12,IF($D19="Per Bill (Applicable only)",IF($E19=0,0,$C19*(IF('B&C Inputs'!J21="Y",'B&C Inputs'!G12,0))/$E19),IF($D19="Time % (Applicable only)",IF($F19=0,0,$C19*(IF('B&C Inputs'!J21="Y",'B&C Inputs'!K12,0))/$F19),0)))))) -> 0
A20: ='B&C Inputs'!A22 -> 5340 | B20: ='B&C Inputs'!B22 -> Billing services | C20: ='B&C Inputs'!C22 -> 8771.2886 | D20: ='B&C Inputs'!D22 -> Per Bill | E20: =IF($A20="","",(IF('B&C Inputs'!E22="Y",'B&C Inputs'!G7,0)+IF('B&C Inputs'!F22="Y",'B&C Inputs'!G8,0)+IF('B&C Inputs'!G22="Y",'B&C Inputs'!G9,0)+IF('B&C Inputs'!H22="Y",'B&C Inputs'!G10,0)+IF('B&C Inputs'!I22="Y",'B&C Inputs'!G11,0)+IF('B&C Inputs'!J22="Y",'B&C Inputs'!G12,0))) -> 75816 | F20: =IF($A20="","",(IF('B&C Inputs'!E22="Y",'B&C Inputs'!K7,0)+IF('B&C Inputs'!F22="Y",'B&C Inputs'!K8,0)+IF('B&C Inputs'!G22="Y",'B&C Inputs'!K9,0)+IF('B&C Inputs'!H22="Y",'B&C Inputs'!K10,0)+IF('B&C Inputs'!I22="Y",'B&C Inputs'!K11,0)+IF('B&C Inputs'!J22="Y",'B&C Inputs'!K12,0))) -> 1.15 | G20: =IF($A20="","",IF($D20="Direct $",'B&C Inputs'!K22,IF($D20="Per Bill",$C20*'B&C Inputs'!H7,IF($D20="Time %",$C20*'B&C Inputs'!K7,IF($D20="Per Bill (Applicable only)",IF($E20=0,0,$C20*(IF('B&C Inputs'!E22="Y",'B&C Inputs'!G7,0))/$E20),IF($D20="Time % (Applicable only)",IF($F20=0,0,$C20*(IF('B&C Inputs'!E22="Y",'B&C Inputs'!K7,0))/$F20),0)))))) -> 7463.5087 | H20: =IF($A20="","",IF($D20="Direct $",'B&C Inputs'!L22,IF($D20="Per Bill",$C20*'B&C Inputs'!H8,IF($D20="Time %",$C20*'B&C Inputs'!K8,IF($D20="Per Bill (Applicable only)",IF($E20=0,0,$C20*(IF('B&C Inputs'!F22="Y",'B&C Inputs'!G8,0))/$E20),IF($D20="Time % (Applicable only)",IF($F20=0,0,$C20*(IF('B&C Inputs'!F22="Y",'B&C Inputs'!K8,0))/$F20),0)))))) -> 1030.1197 | I20: =IF($A20="","",IF($D20="Direct $",'B&C Inputs'!M22,IF($D20="Per Bill",$C20*'B&C Inputs'!H9,IF($D20="Time %",$C20*'B&C Inputs'!K9,IF($D20="Per Bill (Applicable only)",IF($E20=0,0,$C20*(IF('B&C Inputs'!G22="Y",'B&C Inputs'!G9,0))/$E20),IF($D20="Time % (Applicable only)",IF($F20=0,0,$C20*(IF('B&C Inputs'!G22="Y",'B&C Inputs'!K9,0))/$F20),0)))))) -> 91.627896 | J20: =IF($A20="","",IF($D20="Direct $",'B&C Inputs'!N22,IF($D20="Per Bill",$C20*'B&C Inputs'!H10,IF($D20="Time %",$C20*'B&C Inputs'!K10,IF($D20="Per Bill (Applicable only)",IF($E20=0,0,$C20*(IF('B&C Inputs'!H22="Y",'B&C Inputs'!G10,0))/$E20),IF($D20="Time % (Applicable only)",IF($F20=0,0,$C20*(IF('B&C Inputs'!H22="Y",'B&C Inputs'!K10,0))/$F20),0)))))) -> 83.298088 | K20: =IF($A20="","",IF($D20="Direct $",'B&C Inputs'!O22,IF($D20="Per Bill",$C20*'B&C Inputs'!H11,IF($D20="Time %",$C20*'B&C Inputs'!K11,IF($D20="Per Bill (Applicable only)",IF($E20=0,0,$C20*(IF('B&C Inputs'!I22="Y",'B&C Inputs'!G11,0))/$E20),IF($D20="Time % (Applicable only)",IF($F20=0,0,$C20*(IF('B&C Inputs'!I22="Y",'B&C Inputs'!K11,0))/$F20),0)))))) -> 6.9415073 | L20: =IF($A20="","",IF($D20="Direct $",'B&C Inputs'!P22,IF($D20="Per Bill",$C20*'B&C Inputs'!H12,IF($D20="Time %",$C20*'B&C Inputs'!K12,IF($D20="Per Bill (Applicable only)",IF($E20=0,0,$C20*(IF('B&C Inputs'!J22="Y",'B&C Inputs'!G12,0))/$E20),IF($D20="Time % (Applicable only)",IF($F20=0,0,$C20*(IF('B&C Inputs'!J22="Y",'B&C Inputs'!K12,0))/$F20),0)))))) -> 95.792801
A21: ='B&C Inputs'!A23 -> 0 | B21: ='B&C Inputs'!B23 -> 0 | C21: ='B&C Inputs'!C23 -> 0 | D21: ='B&C Inputs'!D23 -> 0 | E21: =IF($A21="","",(IF('B&C Inputs'!E23="Y",'B&C Inputs'!G7,0)+IF('B&C Inputs'!F23="Y",'B&C Inputs'!G8,0)+IF('B&C Inputs'!G23="Y",'B&C Inputs'!G9,0)+IF('B&C Inputs'!H23="Y",'B&C Inputs'!G10,0)+IF('B&C Inputs'!I23="Y",'B&C Inputs'!G11,0)+IF('B&C Inputs'!J23="Y",'B&C Inputs'!G12,0))) -> 75816 | F21: =IF($A21="","",(IF('B&C Inputs'!E23="Y",'B&C Inputs'!K7,0)+IF('B&C Inputs'!F23="Y",'B&C Inputs'!K8,0)+IF('B&C Inputs'!G23="Y",'B&C Inputs'!K9,0)+IF('B&C Inputs'!H23="Y",'B&C Inputs'!K10,0)+IF('B&C Inputs'!I23="Y",'B&C Inputs'!K11,0)+IF('B&C Inputs'!J23="Y",'B&C Inputs'!K12,0))) -> 1.15 | G21: =IF($A21="","",IF($D21="Direct $",'B&C Inputs'!K23,IF($D21="Per Bill",$C21*'B&C Inputs'!H7,IF($D21="Time %",$C21*'B&C Inputs'!K7,IF($D21="Per Bill (Applicable only)",IF($E21=0,0,$C21*(IF('B&C Inputs'!E23="Y",'B&C Inputs'!G7,0))/$E21),IF($D21="Time % (Applicable only)",IF($F21=0,0,$C21*(IF('B&C Inputs'!E23="Y",'B&C Inputs'!K7,0))/$F21),0)))))) -> 0 | H21: =IF($A21="","",IF($D21="Direct $",'B&C Inputs'!L23,IF($D21="Per Bill",$C21*'B&C Inputs'!H8,IF($D21="Time %",$C21*'B&C Inputs'!K8,IF($D21="Per Bill (Applicable only)",IF($E21=0,0,$C21*(IF('B&C Inputs'!F23="Y",'B&C Inputs'!G8,0))/$E21),IF($D21="Time % (Applicable only)",IF($F21=0,0,$C21*(IF('B&C Inputs'!F23="Y",'B&C Inputs'!K8,0))/$F21),0)))))) -> 0 | I21: =IF($A21="","",IF($D21="Direct $",'B&C Inputs'!M23,IF($D21="Per Bill",$C21*'B&C Inputs'!H9,IF($D21="Time %",$C21*'B&C Inputs'!K9,IF($D21="Per Bill (Applicable only)",IF($E21=0,0,$C21*(IF('B&C Inputs'!G23="Y",'B&C Inputs'!G9,0))/$E21),IF($D21="Time % (Applicable only)",IF($F21=0,0,$C21*(IF('B&C Inputs'!G23="Y",'B&C Inputs'!K9,0))/$F21),0)))))) -> 0 | J21: =IF($A21="","",IF($D21="Direct $",'B&C Inputs'!N23,IF($D21="Per Bill",$C21*'B&C Inputs'!H10,IF($D21="Time %",$C21*'B&C Inputs'!K10,IF($D21="Per Bill (Applicable only)",IF($E21=0,0,$C21*(IF('B&C Inputs'!H23="Y",'B&C Inputs'!G10,0))/$E21),IF($D21="Time % (Applicable only)",IF($F21=0,0,$C21*(IF('B&C Inputs'!H23="Y",'B&C Inputs'!K10,0))/$F21),0)))))) -> 0 | K21: =IF($A21="","",IF($D21="Direct $",'B&C Inputs'!O23,IF($D21="Per Bill",$C21*'B&C Inputs'!H11,IF($D21="Time %",$C21*'B&C Inputs'!K11,IF($D21="Per Bill (Applicable only)",IF($E21=0,0,$C21*(IF('B&C Inputs'!I23="Y",'B&C Inputs'!G11,0))/$E21),IF($D21="Time % (Applicable only)",IF($F21=0,0,$C21*(IF('B&C Inputs'!I23="Y",'B&C Inputs'!K11,0))/$F21),0)))))) -> 0 | L21: =IF($A21="","",IF($D21="Direct $",'B&C Inputs'!P23,IF($D21="Per Bill",$C21*'B&C Inputs'!H12,IF($D21="Time %",$C21*'B&C Inputs'!K12,IF($D21="Per Bill (Applicable only)",IF($E21=0,0,$C21*(IF('B&C Inputs'!J23="Y",'B&C Inputs'!G12,0))/$E21),IF($D21="Time % (Applicable only)",IF($F21=0,0,$C21*(IF('B&C Inputs'!J23="Y",'B&C Inputs'!K12,0))/$F21),0)))))) -> 0
A22: ='B&C Inputs'!A24 -> 0 | B22: ='B&C Inputs'!B24 -> 0 | C22: ='B&C Inputs'!C24 -> 0 | D22: ='B&C Inputs'!D24 -> 0 | E22: =IF($A22="","",(IF('B&C Inputs'!E24="Y",'B&C Inputs'!G7,0)+IF('B&C Inputs'!F24="Y",'B&C Inputs'!G8,0)+IF('B&C Inputs'!G24="Y",'B&C Inputs'!G9,0)+IF('B&C Inputs'!H24="Y",'B&C Inputs'!G10,0)+IF('B&C Inputs'!I24="Y",'B&C Inputs'!G11,0)+IF('B&C Inputs'!J24="Y",'B&C Inputs'!G12,0))) -> 75816 | F22: =IF($A22="","",(IF('B&C Inputs'!E24="Y",'B&C Inputs'!K7,0)+IF('B&C Inputs'!F24="Y",'B&C Inputs'!K8,0)+IF('B&C Inputs'!G24="Y",'B&C Inputs'!K9,0)+IF('B&C Inputs'!H24="Y",'B&C Inputs'!K10,0)+IF('B&C Inputs'!I24="Y",'B&C Inputs'!K11,0)+IF('B&C Inputs'!J24="Y",'B&C Inputs'!K12,0))) -> 1.15 | G22: =IF($A22="","",IF($D22="Direct $",'B&C Inputs'!K24,IF($D22="Per Bill",$C22*'B&C Inputs'!H7,IF($D22="Time %",$C22*'B&C Inputs'!K7,IF($D22="Per Bill (Applicable only)",IF($E22=0,0,$C22*(IF('B&C Inputs'!E24="Y",'B&C Inputs'!G7,0))/$E22),IF($D22="Time % (Applicable only)",IF($F22=0,0,$C22*(IF('B&C Inputs'!E24="Y",'B&C Inputs'!K7,0))/$F22),0)))))) -> 0 | H22: =IF($A22="","",IF($D22="Direct $",'B&C Inputs'!L24,IF($D22="Per Bill",$C22*'B&C Inputs'!H8,IF($D22="Time %",$C22*'B&C Inputs'!K8,IF($D22="Per Bill (Applicable only)",IF($E22=0,0,$C22*(IF('B&C Inputs'!F24="Y",'B&C Inputs'!G8,0))/$E22),IF($D22="Time % (Applicable only)",IF($F22=0,0,$C22*(IF('B&C Inputs'!F24="Y",'B&C Inputs'!K8,0))/$F22),0)))))) -> 0 | I22: =IF($A22="","",IF($D22="Direct $",'B&C Inputs'!M24,IF($D22="Per Bill",$C22*'B&C Inputs'!H9,IF($D22="Time %",$C22*'B&C Inputs'!K9,IF($D22="Per Bill (Applicable only)",IF($E22=0,0,$C22*(IF('B&C Inputs'!G24="Y",'B&C Inputs'!G9,0))/$E22),IF($D22="Time % (Applicable only)",IF($F22=0,0,$C22*(IF('B&C Inputs'!G24="Y",'B&C Inputs'!K9,0))/$F22),0)))))) -> 0 | J22: =IF($A22="","",IF($D22="Direct $",'B&C Inputs'!N24,IF($D22="Per Bill",$C22*'B&C Inputs'!H10,IF($D22="Time %",$C22*'B&C Inputs'!K10,IF($D22="Per Bill (Applicable only)",IF($E22=0,0,$C22*(IF('B&C Inputs'!H24="Y",'B&C Inputs'!G10,0))/$E22),IF($D22="Time % (Applicable only)",IF($F22=0,0,$C22*(IF('B&C Inputs'!H24="Y",'B&C Inputs'!K10,0))/$F22),0)))))) -> 0 | K22: =IF($A22="","",IF($D22="Direct $",'B&C Inputs'!O24,IF($D22="Per Bill",$C22*'B&C Inputs'!H11,IF($D22="Time %",$C22*'B&C Inputs'!K11,IF($D22="Per Bill (Applicable only)",IF($E22=0,0,$C22*(IF('B&C Inputs'!I24="Y",'B&C Inputs'!G11,0))/$E22),IF($D22="Time % (Applicable only)",IF($F22=0,0,$C22*(IF('B&C Inputs'!I24="Y",'B&C Inputs'!K11,0))/$F22),0)))))) -> 0 | L22: =IF($A22="","",IF($D22="Direct $",'B&C Inputs'!P24,IF($D22="Per Bill",$C22*'B&C Inputs'!H12,IF($D22="Time %",$C22*'B&C Inputs'!K12,IF($D22="Per Bill (Applicable only)",IF($E22=0,0,$C22*(IF('B&C Inputs'!J24="Y",'B&C Inputs'!G12,0))/$E22),IF($D22="Time % (Applicable only)",IF($F22=0,0,$C22*(IF('B&C Inputs'!J24="Y",'B&C Inputs'!K12,0))/$F22),0)))))) -> 0
A23: ='B&C Inputs'!A25 -> 0 | B23: ='B&C Inputs'!B25 -> 0 | C23: ='B&C Inputs'!C25 -> 0 | D23: ='B&C Inputs'!D25 -> 0 | E23: =IF($A23="","",(IF('B&C Inputs'!E25="Y",'B&C Inputs'!G7,0)+IF('B&C Inputs'!F25="Y",'B&C Inputs'!G8,0)+IF('B&C Inputs'!G25="Y",'B&C Inputs'!G9,0)+IF('B&C Inputs'!H25="Y",'B&C Inputs'!G10,0)+IF('B&C Inputs'!I25="Y",'B&C Inputs'!G11,0)+IF('B&C Inputs'!J25="Y",'B&C Inputs'!G12,0))) -> 75816 | F23: =IF($A23="","",(IF('B&C Inputs'!E25="Y",'B&C Inputs'!K7,0)+IF('B&C Inputs'!F25="Y",'B&C Inputs'!K8,0)+IF('B&C Inputs'!G25="Y",'B&C Inputs'!K9,0)+IF('B&C Inputs'!H25="Y",'B&C Inputs'!K10,0)+IF('B&C Inputs'!I25="Y",'B&C Inputs'!K11,0)+IF('B&C Inputs'!J25="Y",'B&C Inputs'!K12,0))) -> 1.15 | G23: =IF($A23="","",IF($D23="Direct $",'B&C Inputs'!K25,IF($D23="Per Bill",$C23*'B&C Inputs'!H7,IF($D23="Time %",$C23*'B&C Inputs'!K7,IF($D23="Per Bill (Applicable only)",IF($E23=0,0,$C23*(IF('B&C Inputs'!E25="Y",'B&C Inputs'!G7,0))/$E23),IF($D23="Time % (Applicable only)",IF($F23=0,0,$C23*(IF('B&C Inputs'!E25="Y",'B&C Inputs'!K7,0))/$F23),0)))))) -> 0 | H23: =IF($A23="","",IF($D23="Direct $",'B&C Inputs'!L25,IF($D23="Per Bill",$C23*'B&C Inputs'!H8,IF($D23="Time %",$C23*'B&C Inputs'!K8,IF($D23="Per Bill (Applicable only)",IF($E23=0,0,$C23*(IF('B&C Inputs'!F25="Y",'B&C Inputs'!G8,0))/$E23),IF($D23="Time % (Applicable only)",IF($F23=0,0,$C23*(IF('B&C Inputs'!F25="Y",'B&C Inputs'!K8,0))/$F23),0)))))) -> 0 | I23: =IF($A23="","",IF($D23="Direct $",'B&C Inputs'!M25,IF($D23="Per Bill",$C23*'B&C Inputs'!H9,IF($D23="Time %",$C23*'B&C Inputs'!K9,IF($D23="Per Bill (Applicable only)",IF($E23=0,0,$C23*(IF('B&C Inputs'!G25="Y",'B&C Inputs'!G9,0))/$E23),IF($D23="Time % (Applicable only)",IF($F23=0,0,$C23*(IF('B&C Inputs'!G25="Y",'B&C Inputs'!K9,0))/$F23),0)))))) -> 0 | J23: =IF($A23="","",IF($D23="Direct $",'B&C Inputs'!N25,IF($D23="Per Bill",$C23*'B&C Inputs'!H10,IF($D23="Time %",$C23*'B&C Inputs'!K10,IF($D23="Per Bill (Applicable only)",IF($E23=0,0,$C23*(IF('B&C Inputs'!H25="Y",'B&C Inputs'!G10,0))/$E23),IF($D23="Time % (Applicable only)",IF($F23=0,0,$C23*(IF('B&C Inputs'!H25="Y",'B&C Inputs'!K10,0))/$F23),0)))))) -> 0 | K23: =IF($A23="","",IF($D23="Direct $",'B&C Inputs'!O25,IF($D23="Per Bill",$C23*'B&C Inputs'!H11,IF($D23="Time %",$C23*'B&C Inputs'!K11,IF($D23="Per Bill (Applicable only)",IF($E23=0,0,$C23*(IF('B&C Inputs'!I25="Y",'B&C Inputs'!G11,0))/$E23),IF($D23="Time % (Applicable only)",IF($F23=0,0,$C23*(IF('B&C Inputs'!I25="Y",'B&C Inputs'!K11,0))/$F23),0)))))) -> 0 | L23: =IF($A23="","",IF($D23="Direct $",'B&C Inputs'!P25,IF($D23="Per Bill",$C23*'B&C Inputs'!H12,IF($D23="Time %",$C23*'B&C Inputs'!K12,IF($D23="Per Bill (Applicable only)",IF($E23=0,0,$C23*(IF('B&C Inputs'!J25="Y",'B&C Inputs'!G12,0))/$E23),IF($D23="Time % (Applicable only)",IF($F23=0,0,$C23*(IF('B&C Inputs'!J25="Y",'B&C Inputs'!K12,0))/$F23),0)))))) -> 0
A24: ='B&C Inputs'!A26 -> 0 | B24: ='B&C Inputs'!B26 -> 0 | C24: ='B&C Inputs'!C26 -> 0 | D24: ='B&C Inputs'!D26 -> 0 | E24: =IF($A24="","",(IF('B&C Inputs'!E26="Y",'B&C Inputs'!G7,0)+IF('B&C Inputs'!F26="Y",'B&C Inputs'!G8,0)+IF('B&C Inputs'!G26="Y",'B&C Inputs'!G9,0)+IF('B&C Inputs'!H26="Y",'B&C Inputs'!G10,0)+IF('B&C Inputs'!I26="Y",'B&C Inputs'!G11,0)+IF('B&C Inputs'!J26="Y",'B&C Inputs'!G12,0))) -> 75816 | F24: =IF($A24="","",(IF('B&C Inputs'!E26="Y",'B&C Inputs'!K7,0)+IF('B&C Inputs'!F26="Y",'B&C Inputs'!K8,0)+IF('B&C Inputs'!G26="Y",'B&C Inputs'!K9,0)+IF('B&C Inputs'!H26="Y",'B&C Inputs'!K10,0)+IF('B&C Inputs'!I26="Y",'B&C Inputs'!K11,0)+IF('B&C Inputs'!J26="Y",'B&C Inputs'!K12,0))) -> 1.15 | G24: =IF($A24="","",IF($D24="Direct $",'B&C Inputs'!K26,IF($D24="Per Bill",$C24*'B&C Inputs'!H7,IF($D24="Time %",$C24*'B&C Inputs'!K7,IF($D24="Per Bill (Applicable only)",IF($E24=0,0,$C24*(IF('B&C Inputs'!E26="Y",'B&C Inputs'!G7,0))/$E24),IF($D24="Time % (Applicable only)",IF($F24=0,0,$C24*(IF('B&C Inputs'!E26="Y",'B&C Inputs'!K7,0))/$F24),0)))))) -> 0 | H24: =IF($A24="","",IF($D24="Direct $",'B&C Inputs'!L26,IF($D24="Per Bill",$C24*'B&C Inputs'!H8,IF($D24="Time %",$C24*'B&C Inputs'!K8,IF($D24="Per Bill (Applicable only)",IF($E24=0,0,$C24*(IF('B&C Inputs'!F26="Y",'B&C Inputs'!G8,0))/$E24),IF($D24="Time % (Applicable only)",IF($F24=0,0,$C24*(IF('B&C Inputs'!F26="Y",'B&C Inputs'!K8,0))/$F24),0)))))) -> 0 | I24: =IF($A24="","",IF($D24="Direct $",'B&C Inputs'!M26,IF($D24="Per Bill",$C24*'B&C Inputs'!H9,IF($D24="Time %",$C24*'B&C Inputs'!K9,IF($D24="Per Bill (Applicable only)",IF($E24=0,0,$C24*(IF('B&C Inputs'!G26="Y",'B&C Inputs'!G9,0))/$E24),IF($D24="Time % (Applicable only)",IF($F24=0,0,$C24*(IF('B&C Inputs'!G26="Y",'B&C Inputs'!K9,0))/$F24),0)))))) -> 0 | J24: =IF($A24="","",IF($D24="Direct $",'B&C Inputs'!N26,IF($D24="Per Bill",$C24*'B&C Inputs'!H10,IF($D24="Time %",$C24*'B&C Inputs'!K10,IF($D24="Per Bill (Applicable only)",IF($E24=0,0,$C24*(IF('B&C Inputs'!H26="Y",'B&C Inputs'!G10,0))/$E24),IF($D24="Time % (Applicable only)",IF($F24=0,0,$C24*(IF('B&C Inputs'!H26="Y",'B&C Inputs'!K10,0))/$F24),0)))))) -> 0 | K24: =IF($A24="","",IF($D24="Direct $",'B&C Inputs'!O26,IF($D24="Per Bill",$C24*'B&C Inputs'!H11,IF($D24="Time %",$C24*'B&C Inputs'!K11,IF($D24="Per Bill (Applicable only)",IF($E24=0,0,$C24*(IF('B&C Inputs'!I26="Y",'B&C Inputs'!G11,0))/$E24),IF($D24="Time % (Applicable only)",IF($F24=0,0,$C24*(IF('B&C Inputs'!I26="Y",'B&C Inputs'!K11,0))/$F24),0)))))) -> 0 | L24: =IF($A24="","",IF($D24="Direct $",'B&C Inputs'!P26,IF($D24="Per Bill",$C24*'B&C Inputs'!H12,IF($D24="Time %",$C24*'B&C Inputs'!K12,IF($D24="Per Bill (Applicable only)",IF($E24=0,0,$C24*(IF('B&C Inputs'!J26="Y",'B&C Inputs'!G12,0))/$E24),IF($D24="Time % (Applicable only)",IF($F24=0,0,$C24*(IF('B&C Inputs'!J26="Y",'B&C Inputs'!K12,0))/$F24),0)))))) -> 0
A25: ='B&C Inputs'!A27 -> 0 | B25: ='B&C Inputs'!B27 -> 0 | C25: ='B&C Inputs'!C27 -> 0 | D25: ='B&C Inputs'!D27 -> 0 | E25: =IF($A25="","",(IF('B&C Inputs'!E27="Y",'B&C Inputs'!G7,0)+IF('B&C Inputs'!F27="Y",'B&C Inputs'!G8,0)+IF('B&C Inputs'!G27="Y",'B&C Inputs'!G9,0)+IF('B&C Inputs'!H27="Y",'B&C Inputs'!G10,0)+IF('B&C Inputs'!I27="Y",'B&C Inputs'!G11,0)+IF('B&C Inputs'!J27="Y",'B&C Inputs'!G12,0))) -> 75816 | F25: =IF($A25="","",(IF('B&C Inputs'!E27="Y",'B&C Inputs'!K7,0)+IF('B&C Inputs'!F27="Y",'B&C Inputs'!K8,0)+IF('B&C Inputs'!G27="Y",'B&C Inputs'!K9,0)+IF('B&C Inputs'!H27="Y",'B&C Inputs'!K10,0)+IF('B&C Inputs'!I27="Y",'B&C Inputs'!K11,0)+IF('B&C Inputs'!J27="Y",'B&C Inputs'!K12,0))) -> 1.15 | G25: =IF($A25="","",IF($D25="Direct $",'B&C Inputs'!K27,IF($D25="Per Bill",$C25*'B&C Inputs'!H7,IF($D25="Time %",$C25*'B&C Inputs'!K7,IF($D25="Per Bill (Applicable only)",IF($E25=0,0,$C25*(IF('B&C Inputs'!E27="Y",'B&C Inputs'!G7,0))/$E25),IF($D25="Time % (Applicable only)",IF($F25=0,0,$C25*(IF('B&C Inputs'!E27="Y",'B&C Inputs'!K7,0))/$F25),0)))))) -> 0 | H25: =IF($A25="","",IF($D25="Direct $",'B&C Inputs'!L27,IF($D25="Per Bill",$C25*'B&C Inputs'!H8,IF($D25="Time %",$C25*'B&C Inputs'!K8,IF($D25="Per Bill (Applicable only)",IF($E25=0,0,$C25*(IF('B&C Inputs'!F27="Y",'B&C Inputs'!G8,0))/$E25),IF($D25="Time % (Applicable only)",IF($F25=0,0,$C25*(IF('B&C Inputs'!F27="Y",'B&C Inputs'!K8,0))/$F25),0)))))) -> 0 | I25: =IF($A25="","",IF($D25="Direct $",'B&C Inputs'!M27,IF($D25="Per Bill",$C25*'B&C Inputs'!H9,IF($D25="Time %",$C25*'B&C Inputs'!K9,IF($D25="Per Bill (Applicable only)",IF($E25=0,0,$C25*(IF('B&C Inputs'!G27="Y",'B&C Inputs'!G9,0))/$E25),IF($D25="Time % (Applicable only)",IF($F25=0,0,$C25*(IF('B&C Inputs'!G27="Y",'B&C Inputs'!K9,0))/$F25),0)))))) -> 0 | J25: =IF($A25="","",IF($D25="Direct $",'B&C Inputs'!N27,IF($D25="Per Bill",$C25*'B&C Inputs'!H10,IF($D25="Time %",$C25*'B&C Inputs'!K10,IF($D25="Per Bill (Applicable only)",IF($E25=0,0,$C25*(IF('B&C Inputs'!H27="Y",'B&C Inputs'!G10,0))/$E25),IF($D25="Time % (Applicable only)",IF($F25=0,0,$C25*(IF('B&C Inputs'!H27="Y",'B&C Inputs'!K10,0))/$F25),0)))))) -> 0 | K25: =IF($A25="","",IF($D25="Direct $",'B&C Inputs'!O27,IF($D25="Per Bill",$C25*'B&C Inputs'!H11,IF($D25="Time %",$C25*'B&C Inputs'!K11,IF($D25="Per Bill (Applicable only)",IF($E25=0,0,$C25*(IF('B&C Inputs'!I27="Y",'B&C Inputs'!G11,0))/$E25),IF($D25="Time % (Applicable only)",IF($F25=0,0,$C25*(IF('B&C Inputs'!I27="Y",'B&C Inputs'!K11,0))/$F25),0)))))) -> 0 | L25: =IF($A25="","",IF($D25="Direct $",'B&C Inputs'!P27,IF($D25="Per Bill",$C25*'B&C Inputs'!H12,IF($D25="Time %",$C25*'B&C Inputs'!K12,IF($D25="Per Bill (Applicable only)",IF($E25=0,0,$C25*(IF('B&C Inputs'!J27="Y",'B&C Inputs'!G12,0))/$E25),IF($D25="Time % (Applicable only)",IF($F25=0,0,$C25*(IF('B&C Inputs'!J27="Y",'B&C Inputs'!K12,0))/$F25),0)))))) -> 0
A26: ='B&C Inputs'!A28 -> 0 | B26: ='B&C Inputs'!B28 -> 0 | C26: ='B&C Inputs'!C28 -> 0 | D26: ='B&C Inputs'!D28 -> 0 | E26: =IF($A26="","",(IF('B&C Inputs'!E28="Y",'B&C Inputs'!G7,0)+IF('B&C Inputs'!F28="Y",'B&C Inputs'!G8,0)+IF('B&C Inputs'!G28="Y",'B&C Inputs'!G9,0)+IF('B&C Inputs'!H28="Y",'B&C Inputs'!G10,0)+IF('B&C Inputs'!I28="Y",'B&C Inputs'!G11,0)+IF('B&C Inputs'!J28="Y",'B&C Inputs'!G12,0))) -> 75816 | F26: =IF($A26="","",(IF('B&C Inputs'!E28="Y",'B&C Inputs'!K7,0)+IF('B&C Inputs'!F28="Y",'B&C Inputs'!K8,0)+IF('B&C Inputs'!G28="Y",'B&C Inputs'!K9,0)+IF('B&C Inputs'!H28="Y",'B&C Inputs'!K10,0)+IF('B&C Inputs'!I28="Y",'B&C Inputs'!K11,0)+IF('B&C Inputs'!J28="Y",'B&C Inputs'!K12,0))) -> 1.15 | G26: =IF($A26="","",IF($D26="Direct $",'B&C Inputs'!K28,IF($D26="Per Bill",$C26*'B&C Inputs'!H7,IF($D26="Time %",$C26*'B&C Inputs'!K7,IF($D26="Per Bill (Applicable only)",IF($E26=0,0,$C26*(IF('B&C Inputs'!E28="Y",'B&C Inputs'!G7,0))/$E26),IF($D26="Time % (Applicable only)",IF($F26=0,0,$C26*(IF('B&C Inputs'!E28="Y",'B&C Inputs'!K7,0))/$F26),0)))))) -> 0 | H26: =IF($A26="","",IF($D26="Direct $",'B&C Inputs'!L28,IF($D26="Per Bill",$C26*'B&C Inputs'!H8,IF($D26="Time %",$C26*'B&C Inputs'!K8,IF($D26="Per Bill (Applicable only)",IF($E26=0,0,$C26*(IF('B&C Inputs'!F28="Y",'B&C Inputs'!G8,0))/$E26),IF($D26="Time % (Applicable only)",IF($F26=0,0,$C26*(IF('B&C Inputs'!F28="Y",'B&C Inputs'!K8,0))/$F26),0)))))) -> 0 | I26: =IF($A26="","",IF($D26="Direct $",'B&C Inputs'!M28,IF($D26="Per Bill",$C26*'B&C Inputs'!H9,IF($D26="Time %",$C26*'B&C Inputs'!K9,IF($D26="Per Bill (Applicable only)",IF($E26=0,0,$C26*(IF('B&C Inputs'!G28="Y",'B&C Inputs'!G9,0))/$E26),IF($D26="Time % (Applicable only)",IF($F26=0,0,$C26*(IF('B&C Inputs'!G28="Y",'B&C Inputs'!K9,0))/$F26),0)))))) -> 0 | J26: =IF($A26="","",IF($D26="Direct $",'B&C Inputs'!N28,IF($D26="Per Bill",$C26*'B&C Inputs'!H10,IF($D26="Time %",$C26*'B&C Inputs'!K10,IF($D26="Per Bill (Applicable only)",IF($E26=0,0,$C26*(IF('B&C Inputs'!H28="Y",'B&C Inputs'!G10,0))/$E26),IF($D26="Time % (Applicable only)",IF($F26=0,0,$C26*(IF('B&C Inputs'!H28="Y",'B&C Inputs'!K10,0))/$F26),0)))))) -> 0 | K26: =IF($A26="","",IF($D26="Direct $",'B&C Inputs'!O28,IF($D26="Per Bill",$C26*'B&C Inputs'!H11,IF($D26="Time %",$C26*'B&C Inputs'!K11,IF($D26="Per Bill (Applicable only)",IF($E26=0,0,$C26*(IF('B&C Inputs'!I28="Y",'B&C Inputs'!G11,0))/$E26),IF($D26="Time % (Applicable only)",IF($F26=0,0,$C26*(IF('B&C Inputs'!I28="Y",'B&C Inputs'!K11,0))/$F26),0)))))) -> 0 | L26: =IF($A26="","",IF($D26="Direct $",'B&C Inputs'!P28,IF($D26="Per Bill",$C26*'B&C Inputs'!H12,IF($D26="Time %",$C26*'B&C Inputs'!K12,IF($D26="Per Bill (Applicable only)",IF($E26=0,0,$C26*(IF('B&C Inputs'!J28="Y",'B&C Inputs'!G12,0))/$E26),IF($D26="Time % (Applicable only)",IF($F26=0,0,$C26*(IF('B&C Inputs'!J28="Y",'B&C Inputs'!K12,0))/$F26),0)))))) -> 0
A27: ='B&C Inputs'!A29 -> 0 | B27: ='B&C Inputs'!B29 -> 0 | C27: ='B&C Inputs'!C29 -> 0 | D27: ='B&C Inputs'!D29 -> 0 | E27: =IF($A27="","",(IF('B&C Inputs'!E29="Y",'B&C Inputs'!G7,0)+IF('B&C Inputs'!F29="Y",'B&C Inputs'!G8,0)+IF('B&C Inputs'!G29="Y",'B&C Inputs'!G9,0)+IF('B&C Inputs'!H29="Y",'B&C Inputs'!G10,0)+IF('B&C Inputs'!I29="Y",'B&C Inputs'!G11,0)+IF('B&C Inputs'!J29="Y",'B&C Inputs'!G12,0))) -> 75816 | F27: =IF($A27="","",(IF('B&C Inputs'!E29="Y",'B&C Inputs'!K7,0)+IF('B&C Inputs'!F29="Y",'B&C Inputs'!K8,0)+IF('B&C Inputs'!G29="Y",'B&C Inputs'!K9,0)+IF('B&C Inputs'!H29="Y",'B&C Inputs'!K10,0)+IF('B&C Inputs'!I29="Y",'B&C Inputs'!K11,0)+IF('B&C Inputs'!J29="Y",'B&C Inputs'!K12,0))) -> 1.15 | G27: =IF($A27="","",IF($D27="Direct $",'B&C Inputs'!K29,IF($D27="Per Bill",$C27*'B&C Inputs'!H7,IF($D27="Time %",$C27*'B&C Inputs'!K7,IF($D27="Per Bill (Applicable only)",IF($E27=0,0,$C27*(IF('B&C Inputs'!E29="Y",'B&C Inputs'!G7,0))/$E27),IF($D27="Time % (Applicable only)",IF($F27=0,0,$C27*(IF('B&C Inputs'!E29="Y",'B&C Inputs'!K7,0))/$F27),0)))))) -> 0 | H27: =IF($A27="","",IF($D27="Direct $",'B&C Inputs'!L29,IF($D27="Per Bill",$C27*'B&C Inputs'!H8,IF($D27="Time %",$C27*'B&C Inputs'!K8,IF($D27="Per Bill (Applicable only)",IF($E27=0,0,$C27*(IF('B&C Inputs'!F29="Y",'B&C Inputs'!G8,0))/$E27),IF($D27="Time % (Applicable only)",IF($F27=0,0,$C27*(IF('B&C Inputs'!F29="Y",'B&C Inputs'!K8,0))/$F27),0)))))) -> 0 | I27: =IF($A27="","",IF($D27="Direct $",'B&C Inputs'!M29,IF($D27="Per Bill",$C27*'B&C Inputs'!H9,IF($D27="Time %",$C27*'B&C Inputs'!K9,IF($D27="Per Bill (Applicable only)",IF($E27=0,0,$C27*(IF('B&C Inputs'!G29="Y",'B&C Inputs'!G9,0))/$E27),IF($D27="Time % (Applicable only)",IF($F27=0,0,$C27*(IF('B&C Inputs'!G29="Y",'B&C Inputs'!K9,0))/$F27),0)))))) -> 0 | J27: =IF($A27="","",IF($D27="Direct $",'B&C Inputs'!N29,IF($D27="Per Bill",$C27*'B&C Inputs'!H10,IF($D27="Time %",$C27*'B&C Inputs'!K10,IF($D27="Per Bill (Applicable only)",IF($E27=0,0,$C27*(IF('B&C Inputs'!H29="Y",'B&C Inputs'!G10,0))/$E27),IF($D27="Time % (Applicable only)",IF($F27=0,0,$C27*(IF('B&C Inputs'!H29="Y",'B&C Inputs'!K10,0))/$F27),0)))))) -> 0 | K27: =IF($A27="","",IF($D27="Direct $",'B&C Inputs'!O29,IF($D27="Per Bill",$C27*'B&C Inputs'!H11,IF($D27="Time %",$C27*'B&C Inputs'!K11,IF($D27="Per Bill (Applicable only)",IF($E27=0,0,$C27*(IF('B&C Inputs'!I29="Y",'B&C Inputs'!G11,0))/$E27),IF($D27="Time % (Applicable only)",IF($F27=0,0,$C27*(IF('B&C Inputs'!I29="Y",'B&C Inputs'!K11,0))/$F27),0)))))) -> 0 | L27: =IF($A27="","",IF($D27="Direct $",'B&C Inputs'!P29,IF($D27="Per Bill",$C27*'B&C Inputs'!H12,IF($D27="Time %",$C27*'B&C Inputs'!K12,IF($D27="Per Bill (Applicable only)",IF($E27=0,0,$C27*(IF('B&C Inputs'!J29="Y",'B&C Inputs'!G12,0))/$E27),IF($D27="Time % (Applicable only)",IF($F27=0,0,$C27*(IF('B&C Inputs'!J29="Y",'B&C Inputs'!K12,0))/$F27),0)))))) -> 0
A28: ='B&C Inputs'!A30 -> 0 | B28: ='B&C Inputs'!B30 -> 0 | C28: ='B&C Inputs'!C30 -> 0 | D28: ='B&C Inputs'!D30 -> 0 | E28: =IF($A28="","",(IF('B&C Inputs'!E30="Y",'B&C Inputs'!G7,0)+IF('B&C Inputs'!F30="Y",'B&C Inputs'!G8,0)+IF('B&C Inputs'!G30="Y",'B&C Inputs'!G9,0)+IF('B&C Inputs'!H30="Y",'B&C Inputs'!G10,0)+IF('B&C Inputs'!I30="Y",'B&C Inputs'!G11,0)+IF('B&C Inputs'!J30="Y",'B&C Inputs'!G12,0))) -> 75816 | F28: =IF($A28="","",(IF('B&C Inputs'!E30="Y",'B&C Inputs'!K7,0)+IF('B&C Inputs'!F30="Y",'B&C Inputs'!K8,0)+IF('B&C Inputs'!G30="Y",'B&C Inputs'!K9,0)+IF('B&C Inputs'!H30="Y",'B&C Inputs'!K10,0)+IF('B&C Inputs'!I30="Y",'B&C Inputs'!K11,0)+IF('B&C Inputs'!J30="Y",'B&C Inputs'!K12,0))) -> 1.15 | G28: =IF($A28="","",IF($D28="Direct $",'B&C Inputs'!K30,IF($D28="Per Bill",$C28*'B&C Inputs'!H7,IF($D28="Time %",$C28*'B&C Inputs'!K7,IF($D28="Per Bill (Applicable only)",IF($E28=0,0,$C28*(IF('B&C Inputs'!E30="Y",'B&C Inputs'!G7,0))/$E28),IF($D28="Time % (Applicable only)",IF($F28=0,0,$C28*(IF('B&C Inputs'!E30="Y",'B&C Inputs'!K7,0))/$F28),0)))))) -> 0 | H28: =IF($A28="","",IF($D28="Direct $",'B&C Inputs'!L30,IF($D28="Per Bill",$C28*'B&C Inputs'!H8,IF($D28="Time %",$C28*'B&C Inputs'!K8,IF($D28="Per Bill (Applicable only)",IF($E28=0,0,$C28*(IF('B&C Inputs'!F30="Y",'B&C Inputs'!G8,0))/$E28),IF($D28="Time % (Applicable only)",IF($F28=0,0,$C28*(IF('B&C Inputs'!F30="Y",'B&C Inputs'!K8,0))/$F28),0)))))) -> 0 | I28: =IF($A28="","",IF($D28="Direct $",'B&C Inputs'!M30,IF($D28="Per Bill",$C28*'B&C Inputs'!H9,IF($D28="Time %",$C28*'B&C Inputs'!K9,IF($D28="Per Bill (Applicable only)",IF($E28=0,0,$C28*(IF('B&C Inputs'!G30="Y",'B&C Inputs'!G9,0))/$E28),IF($D28="Time % (Applicable only)",IF($F28=0,0,$C28*(IF('B&C Inputs'!G30="Y",'B&C Inputs'!K9,0))/$F28),0)))))) -> 0 | J28: =IF($A28="","",IF($D28="Direct $",'B&C Inputs'!N30,IF($D28="Per Bill",$C28*'B&C Inputs'!H10,IF($D28="Time %",$C28*'B&C Inputs'!K10,IF($D28="Per Bill (Applicable only)",IF($E28=0,0,$C28*(IF('B&C Inputs'!H30="Y",'B&C Inputs'!G10,0))/$E28),IF($D28="Time % (Applicable only)",IF($F28=0,0,$C28*(IF('B&C Inputs'!H30="Y",'B&C Inputs'!K10,0))/$F28),0)))))) -> 0 | K28: =IF($A28="","",IF($D28="Direct $",'B&C Inputs'!O30,IF($D28="Per Bill",$C28*'B&C Inputs'!H11,IF($D28="Time %",$C28*'B&C Inputs'!K11,IF($D28="Per Bill (Applicable only)",IF($E28=0,0,$C28*(IF('B&C Inputs'!I30="Y",'B&C Inputs'!G11,0))/$E28),IF($D28="Time % (Applicable only)",IF($F28=0,0,$C28*(IF('B&C Inputs'!I30="Y",'B&C Inputs'!K11,0))/$F28),0)))))) -> 0 | L28: =IF($A28="","",IF($D28="Direct $",'B&C Inputs'!P30,IF($D28="Per Bill",$C28*'B&C Inputs'!H12,IF($D28="Time %",$C28*'B&C Inputs'!K12,IF($D28="Per Bill (Applicable only)",IF($E28=0,0,$C28*(IF('B&C Inputs'!J30="Y",'B&C Inputs'!G12,0))/$E28),IF($D28="Time % (Applicable only)",IF($F28=0,0,$C28*(IF('B&C Inputs'!J30="Y",'B&C Inputs'!K12,0))/$F28),0)))))) -> 0
A29: ='B&C Inputs'!A31 -> 0 | B29: ='B&C Inputs'!B31 -> 0 | C29: ='B&C Inputs'!C31 -> 0 | D29: ='B&C Inputs'!D31 -> 0 | E29: =IF($A29="","",(IF('B&C Inputs'!E31="Y",'B&C Inputs'!G7,0)+IF('B&C Inputs'!F31="Y",'B&C Inputs'!G8,0)+IF('B&C Inputs'!G31="Y",'B&C Inputs'!G9,0)+IF('B&C Inputs'!H31="Y",'B&C Inputs'!G10,0)+IF('B&C Inputs'!I31="Y",'B&C Inputs'!G11,0)+IF('B&C Inputs'!J31="Y",'B&C Inputs'!G12,0))) -> 75816 | F29: =IF($A29="","",(IF('B&C Inputs'!E31="Y",'B&C Inputs'!K7,0)+IF('B&C Inputs'!F31="Y",'B&C Inputs'!K8,0)+IF('B&C Inputs'!G31="Y",'B&C Inputs'!K9,0)+IF('B&C Inputs'!H31="Y",'B&C Inputs'!K10,0)+IF('B&C Inputs'!I31="Y",'B&C Inputs'!K11,0)+IF('B&C Inputs'!J31="Y",'B&C Inputs'!K12,0))) -> 1.15 | G29: =IF($A29="","",IF($D29="Direct $",'B&C Inputs'!K31,IF($D29="Per Bill",$C29*'B&C Inputs'!H7,IF($D29="Time %",$C29*'B&C Inputs'!K7,IF($D29="Per Bill (Applicable only)",IF($E29=0,0,$C29*(IF('B&C Inputs'!E31="Y",'B&C Inputs'!G7,0))/$E29),IF($D29="Time % (Applicable only)",IF($F29=0,0,$C29*(IF('B&C Inputs'!E31="Y",'B&C Inputs'!K7,0))/$F29),0)))))) -> 0 | H29: =IF($A29="","",IF($D29="Direct $",'B&C Inputs'!L31,IF($D29="Per Bill",$C29*'B&C Inputs'!H8,IF($D29="Time %",$C29*'B&C Inputs'!K8,IF($D29="Per Bill (Applicable only)",IF($E29=0,0,$C29*(IF('B&C Inputs'!F31="Y",'B&C Inputs'!G8,0))/$E29),IF($D29="Time % (Applicable only)",IF($F29=0,0,$C29*(IF('B&C Inputs'!F31="Y",'B&C Inputs'!K8,0))/$F29),0)))))) -> 0 | I29: =IF($A29="","",IF($D29="Direct $",'B&C Inputs'!M31,IF($D29="Per Bill",$C29*'B&C Inputs'!H9,IF($D29="Time %",$C29*'B&C Inputs'!K9,IF($D29="Per Bill (Applicable only)",IF($E29=0,0,$C29*(IF('B&C Inputs'!G31="Y",'B&C Inputs'!G9,0))/$E29),IF($D29="Time % (Applicable only)",IF($F29=0,0,$C29*(IF('B&C Inputs'!G31="Y",'B&C Inputs'!K9,0))/$F29),0)))))) -> 0 | J29: =IF($A29="","",IF($D29="Direct $",'B&C Inputs'!N31,IF($D29="Per Bill",$C29*'B&C Inputs'!H10,IF($D29="Time %",$C29*'B&C Inputs'!K10,IF($D29="Per Bill (Applicable only)",IF($E29=0,0,$C29*(IF('B&C Inputs'!H31="Y",'B&C Inputs'!G10,0))/$E29),IF($D29="Time % (Applicable only)",IF($F29=0,0,$C29*(IF('B&C Inputs'!H31="Y",'B&C Inputs'!K10,0))/$F29),0)))))) -> 0 | K29: =IF($A29="","",IF($D29="Direct $",'B&C Inputs'!O31,IF($D29="Per Bill",$C29*'B&C Inputs'!H11,IF($D29="Time %",$C29*'B&C Inputs'!K11,IF($D29="Per Bill (Applicable only)",IF($E29=0,0,$C29*(IF('B&C Inputs'!I31="Y",'B&C Inputs'!G11,0))/$E29),IF($D29="Time % (Applicable only)",IF($F29=0,0,$C29*(IF('B&C Inputs'!I31="Y",'B&C Inputs'!K11,0))/$F29),0)))))) -> 0 | L29: =IF($A29="","",IF($D29="Direct $",'B&C Inputs'!P31,IF($D29="Per Bill",$C29*'B&C Inputs'!H12,IF($D29="Time %",$C29*'B&C Inputs'!K12,IF($D29="Per Bill (Applicable only)",IF($E29=0,0,$C29*(IF('B&C Inputs'!J31="Y",'B&C Inputs'!G12,0))/$E29),IF($D29="Time % (Applicable only)",IF($F29=0,0,$C29*(IF('B&C Inputs'!J31="Y",'B&C Inputs'!K12,0))/$F29),0)))))) -> 0
A30: ='B&C Inputs'!A32 -> 0 | B30: ='B&C Inputs'!B32 -> 0 | C30: ='B&C Inputs'!C32 -> 0 | D30: ='B&C Inputs'!D32 -> 0 | E30: =IF($A30="","",(IF('B&C Inputs'!E32="Y",'B&C Inputs'!G7,0)+IF('B&C Inputs'!F32="Y",'B&C Inputs'!G8,0)+IF('B&C Inputs'!G32="Y",'B&C Inputs'!G9,0)+IF('B&C Inputs'!H32="Y",'B&C Inputs'!G10,0)+IF('B&C Inputs'!I32="Y",'B&C Inputs'!G11,0)+IF('B&C Inputs'!J32="Y",'B&C Inputs'!G12,0))) -> 75816 | F30: =IF($A30="","",(IF('B&C Inputs'!E32="Y",'B&C Inputs'!K7,0)+IF('B&C Inputs'!F32="Y",'B&C Inputs'!K8,0)+IF('B&C Inputs'!G32="Y",'B&C Inputs'!K9,0)+IF('B&C Inputs'!H32="Y",'B&C Inputs'!K10,0)+IF('B&C Inputs'!I32="Y",'B&C Inputs'!K11,0)+IF('B&C Inputs'!J32="Y",'B&C Inputs'!K12,0))) -> 1.15 | G30: =IF($A30="","",IF($D30="Direct $",'B&C Inputs'!K32,IF($D30="Per Bill",$C30*'B&C Inputs'!H7,IF($D30="Time %",$C30*'B&C Inputs'!K7,IF($D30="Per Bill (Applicable only)",IF($E30=0,0,$C30*(IF('B&C Inputs'!E32="Y",'B&C Inputs'!G7,0))/$E30),IF($D30="Time % (Applicable only)",IF($F30=0,0,$C30*(IF('B&C Inputs'!E32="Y",'B&C Inputs'!K7,0))/$F30),0)))))) -> 0 | H30: =IF($A30="","",IF($D30="Direct $",'B&C Inputs'!L32,IF($D30="Per Bill",$C30*'B&C Inputs'!H8,IF($D30="Time %",$C30*'B&C Inputs'!K8,IF($D30="Per Bill (Applicable only)",IF($E30=0,0,$C30*(IF('B&C Inputs'!F32="Y",'B&C Inputs'!G8,0))/$E30),IF($D30="Time % (Applicable only)",IF($F30=0,0,$C30*(IF('B&C Inputs'!F32="Y",'B&C Inputs'!K8,0))/$F30),0)))))) -> 0 | I30: =IF($A30="","",IF($D30="Direct $",'B&C Inputs'!M32,IF($D30="Per Bill",$C30*'B&C Inputs'!H9,IF($D30="Time %",$C30*'B&C Inputs'!K9,IF($D30="Per Bill (Applicable only)",IF($E30=0,0,$C30*(IF('B&C Inputs'!G32="Y",'B&C Inputs'!G9,0))/$E30),IF($D30="Time % (Applicable only)",IF($F30=0,0,$C30*(IF('B&C Inputs'!G32="Y",'B&C Inputs'!K9,0))/$F30),0)))))) -> 0 | J30: =IF($A30="","",IF($D30="Direct $",'B&C Inputs'!N32,IF($D30="Per Bill",$C30*'B&C Inputs'!H10,IF($D30="Time %",$C30*'B&C Inputs'!K10,IF($D30="Per Bill (Applicable only)",IF($E30=0,0,$C30*(IF('B&C Inputs'!H32="Y",'B&C Inputs'!G10,0))/$E30),IF($D30="Time % (Applicable only)",IF($F30=0,0,$C30*(IF('B&C Inputs'!H32="Y",'B&C Inputs'!K10,0))/$F30),0)))))) -> 0 | K30: =IF($A30="","",IF($D30="Direct $",'B&C Inputs'!O32,IF($D30="Per Bill",$C30*'B&C Inputs'!H11,IF($D30="Time %",$C30*'B&C Inputs'!K11,IF($D30="Per Bill (Applicable only)",IF($E30=0,0,$C30*(IF('B&C Inputs'!I32="Y",'B&C Inputs'!G11,0))/$E30),IF($D30="Time % (Applicable only)",IF($F30=0,0,$C30*(IF('B&C Inputs'!I32="Y",'B&C Inputs'!K11,0))/$F30),0)))))) -> 0 | L30: =IF($A30="","",IF($D30="Direct $",'B&C Inputs'!P32,IF($D30="Per Bill",$C30*'B&C Inputs'!H12,IF($D30="Time %",$C30*'B&C Inputs'!K12,IF($D30="Per Bill (Applicable only)",IF($E30=0,0,$C30*(IF('B&C Inputs'!J32="Y",'B&C Inputs'!G12,0))/$E30),IF($D30="Time % (Applicable only)",IF($F30=0,0,$C30*(IF('B&C Inputs'!J32="Y",'B&C Inputs'!K12,0))/$F30),0)))))) -> 0
A31: ='B&C Inputs'!A33 -> 0 | B31: ='B&C Inputs'!B33 -> 0 | C31: ='B&C Inputs'!C33 -> 0 | D31: ='B&C Inputs'!D33 -> 0 | E31: =IF($A31="","",(IF('B&C Inputs'!E33="Y",'B&C Inputs'!G7,0)+IF('B&C Inputs'!F33="Y",'B&C Inputs'!G8,0)+IF('B&C Inputs'!G33="Y",'B&C Inputs'!G9,0)+IF('B&C Inputs'!H33="Y",'B&C Inputs'!G10,0)+IF('B&C Inputs'!I33="Y",'B&C Inputs'!G11,0)+IF('B&C Inputs'!J33="Y",'B&C Inputs'!G12,0))) -> 75816 | F31: =IF($A31="","",(IF('B&C Inputs'!E33="Y",'B&C Inputs'!K7,0)+IF('B&C Inputs'!F33="Y",'B&C Inputs'!K8,0)+IF('B&C Inputs'!G33="Y",'B&C Inputs'!K9,0)+IF('B&C Inputs'!H33="Y",'B&C Inputs'!K10,0)+IF('B&C Inputs'!I33="Y",'B&C Inputs'!K11,0)+IF('B&C Inputs'!J33="Y",'B&C Inputs'!K12,0))) -> 1.15 | G31: =IF($A31="","",IF($D31="Direct $",'B&C Inputs'!K33,IF($D31="Per Bill",$C31*'B&C Inputs'!H7,IF($D31="Time %",$C31*'B&C Inputs'!K7,IF($D31="Per Bill (Applicable only)",IF($E31=0,0,$C31*(IF('B&C Inputs'!E33="Y",'B&C Inputs'!G7,0))/$E31),IF($D31="Time % (Applicable only)",IF($F31=0,0,$C31*(IF('B&C Inputs'!E33="Y",'B&C Inputs'!K7,0))/$F31),0)))))) -> 0 | H31: =IF($A31="","",IF($D31="Direct $",'B&C Inputs'!L33,IF($D31="Per Bill",$C31*'B&C Inputs'!H8,IF($D31="Time %",$C31*'B&C Inputs'!K8,IF($D31="Per Bill (Applicable only)",IF($E31=0,0,$C31*(IF('B&C Inputs'!F33="Y",'B&C Inputs'!G8,0))/$E31),IF($D31="Time % (Applicable only)",IF($F31=0,0,$C31*(IF('B&C Inputs'!F33="Y",'B&C Inputs'!K8,0))/$F31),0)))))) -> 0 | I31: =IF($A31="","",IF($D31="Direct $",'B&C Inputs'!M33,IF($D31="Per Bill",$C31*'B&C Inputs'!H9,IF($D31="Time %",$C31*'B&C Inputs'!K9,IF($D31="Per Bill (Applicable only)",IF($E31=0,0,$C31*(IF('B&C Inputs'!G33="Y",'B&C Inputs'!G9,0))/$E31),IF($D31="Time % (Applicable only)",IF($F31=0,0,$C31*(IF('B&C Inputs'!G33="Y",'B&C Inputs'!K9,0))/$F31),0)))))) -> 0 | J31: =IF($A31="","",IF($D31="Direct $",'B&C Inputs'!N33,IF($D31="Per Bill",$C31*'B&C Inputs'!H10,IF($D31="Time %",$C31*'B&C Inputs'!K10,IF($D31="Per Bill (Applicable only)",IF($E31=0,0,$C31*(IF('B&C Inputs'!H33="Y",'B&C Inputs'!G10,0))/$E31),IF($D31="Time % (Applicable only)",IF($F31=0,0,$C31*(IF('B&C Inputs'!H33="Y",'B&C Inputs'!K10,0))/$F31),0)))))) -> 0 | K31: =IF($A31="","",IF($D31="Direct $",'B&C Inputs'!O33,IF($D31="Per Bill",$C31*'B&C Inputs'!H11,IF($D31="Time %",$C31*'B&C Inputs'!K11,IF($D31="Per Bill (Applicable only)",IF($E31=0,0,$C31*(IF('B&C Inputs'!I33="Y",'B&C Inputs'!G11,0))/$E31),IF($D31="Time % (Applicable only)",IF($F31=0,0,$C31*(IF('B&C Inputs'!I33="Y",'B&C Inputs'!K11,0))/$F31),0)))))) -> 0 | L31: =IF($A31="","",IF($D31="Direct $",'B&C Inputs'!P33,IF($D31="Per Bill",$C31*'B&C Inputs'!H12,IF($D31="Time %",$C31*'B&C Inputs'!K12,IF($D31="Per Bill (Applicable only)",IF($E31=0,0,$C31*(IF('B&C Inputs'!J33="Y",'B&C Inputs'!G12,0))/$E31),IF($D31="Time % (Applicable only)",IF($F31=0,0,$C31*(IF('B&C Inputs'!J33="Y",'B&C Inputs'!K12,0))/$F31),0)))))) -> 0
A32: ='B&C Inputs'!A34 -> 0 | B32: ='B&C Inputs'!B34 -> 0 | C32: ='B&C Inputs'!C34 -> 0 | D32: ='B&C Inputs'!D34 -> 0 | E32: =IF($A32="","",(IF('B&C Inputs'!E34="Y",'B&C Inputs'!G7,0)+IF('B&C Inputs'!F34="Y",'B&C Inputs'!G8,0)+IF('B&C Inputs'!G34="Y",'B&C Inputs'!G9,0)+IF('B&C Inputs'!H34="Y",'B&C Inputs'!G10,0)+IF('B&C Inputs'!I34="Y",'B&C Inputs'!G11,0)+IF('B&C Inputs'!J34="Y",'B&C Inputs'!G12,0))) -> 75816 | F32: =IF($A32="","",(IF('B&C Inputs'!E34="Y",'B&C Inputs'!K7,0)+IF('B&C Inputs'!F34="Y",'B&C Inputs'!K8,0)+IF('B&C Inputs'!G34="Y",'B&C Inputs'!K9,0)+IF('B&C Inputs'!H34="Y",'B&C Inputs'!K10,0)+IF('B&C Inputs'!I34="Y",'B&C Inputs'!K11,0)+IF('B&C Inputs'!J34="Y",'B&C Inputs'!K12,0))) -> 1.15 | G32: =IF($A32="","",IF($D32="Direct $",'B&C Inputs'!K34,IF($D32="Per Bill",$C32*'B&C Inputs'!H7,IF($D32="Time %",$C32*'B&C Inputs'!K7,IF($D32="Per Bill (Applicable only)",IF($E32=0,0,$C32*(IF('B&C Inputs'!E34="Y",'B&C Inputs'!G7,0))/$E32),IF($D32="Time % (Applicable only)",IF($F32=0,0,$C32*(IF('B&C Inputs'!E34="Y",'B&C Inputs'!K7,0))/$F32),0)))))) -> 0 | H32: =IF($A32="","",IF($D32="Direct $",'B&C Inputs'!L34,IF($D32="Per Bill",$C32*'B&C Inputs'!H8,IF($D32="Time %",$C32*'B&C Inputs'!K8,IF($D32="Per Bill (Applicable only)",IF($E32=0,0,$C32*(IF('B&C Inputs'!F34="Y",'B&C Inputs'!G8,0))/$E32),IF($D32="Time % (Applicable only)",IF($F32=0,0,$C32*(IF('B&C Inputs'!F34="Y",'B&C Inputs'!K8,0))/$F32),0)))))) -> 0 | I32: =IF($A32="","",IF($D32="Direct $",'B&C Inputs'!M34,IF($D32="Per Bill",$C32*'B&C Inputs'!H9,IF($D32="Time %",$C32*'B&C Inputs'!K9,IF($D32="Per Bill (Applicable only)",IF($E32=0,0,$C32*(IF('B&C Inputs'!G34="Y",'B&C Inputs'!G9,0))/$E32),IF($D32="Time % (Applicable only)",IF($F32=0,0,$C32*(IF('B&C Inputs'!G34="Y",'B&C Inputs'!K9,0))/$F32),0)))))) -> 0 | J32: =IF($A32="","",IF($D32="Direct $",'B&C Inputs'!N34,IF($D32="Per Bill",$C32*'B&C Inputs'!H10,IF($D32="Time %",$C32*'B&C Inputs'!K10,IF($D32="Per Bill (Applicable only)",IF($E32=0,0,$C32*(IF('B&C Inputs'!H34="Y",'B&C Inputs'!G10,0))/$E32),IF($D32="Time % (Applicable only)",IF($F32=0,0,$C32*(IF('B&C Inputs'!H34="Y",'B&C Inputs'!K10,0))/$F32),0)))))) -> 0 | K32: =IF($A32="","",IF($D32="Direct $",'B&C Inputs'!O34,IF($D32="Per Bill",$C32*'B&C Inputs'!H11,IF($D32="Time %",$C32*'B&C Inputs'!K11,IF($D32="Per Bill (Applicable only)",IF($E32=0,0,$C32*(IF('B&C Inputs'!I34="Y",'B&C Inputs'!G11,0))/$E32),IF($D32="Time % (Applicable only)",IF($F32=0,0,$C32*(IF('B&C Inputs'!I34="Y",'B&C Inputs'!K11,0))/$F32),0)))))) -> 0 | L32: =IF($A32="","",IF($D32="Direct $",'B&C Inputs'!P34,IF($D32="Per Bill",$C32*'B&C Inputs'!H12,IF($D32="Time %",$C32*'B&C Inputs'!K12,IF($D32="Per Bill (Applicable only)",IF($E32=0,0,$C32*(IF('B&C Inputs'!J34="Y",'B&C Inputs'!G12,0))/$E32),IF($D32="Time % (Applicable only)",IF($F32=0,0,$C32*(IF('B&C Inputs'!J34="Y",'B&C Inputs'!K12,0))/$F32),0)))))) -> 0
A33: ='B&C Inputs'!A35 -> 0 | B33: ='B&C Inputs'!B35 -> 0 | C33: ='B&C Inputs'!C35 -> 0 | D33: ='B&C Inputs'!D35 -> 0 | E33: =IF($A33="","",(IF('B&C Inputs'!E35="Y",'B&C Inputs'!G7,0)+IF('B&C Inputs'!F35="Y",'B&C Inputs'!G8,0)+IF('B&C Inputs'!G35="Y",'B&C Inputs'!G9,0)+IF('B&C Inputs'!H35="Y",'B&C Inputs'!G10,0)+IF('B&C Inputs'!I35="Y",'B&C Inputs'!G11,0)+IF('B&C Inputs'!J35="Y",'B&C Inputs'!G12,0))) -> 75816 | F33: =IF($A33="","",(IF('B&C Inputs'!E35="Y",'B&C Inputs'!K7,0)+IF('B&C Inputs'!F35="Y",'B&C Inputs'!K8,0)+IF('B&C Inputs'!G35="Y",'B&C Inputs'!K9,0)+IF('B&C Inputs'!H35="Y",'B&C Inputs'!K10,0)+IF('B&C Inputs'!I35="Y",'B&C Inputs'!K11,0)+IF('B&C Inputs'!J35="Y",'B&C Inputs'!K12,0))) -> 1.15 | G33: =IF($A33="","",IF($D33="Direct $",'B&C Inputs'!K35,IF($D33="Per Bill",$C33*'B&C Inputs'!H7,IF($D33="Time %",$C33*'B&C Inputs'!K7,IF($D33="Per Bill (Applicable only)",IF($E33=0,0,$C33*(IF('B&C Inputs'!E35="Y",'B&C Inputs'!G7,0))/$E33),IF($D33="Time % (Applicable only)",IF($F33=0,0,$C33*(IF('B&C Inputs'!E35="Y",'B&C Inputs'!K7,0))/$F33),0)))))) -> 0 | H33: =IF($A33="","",IF($D33="Direct $",'B&C Inputs'!L35,IF($D33="Per Bill",$C33*'B&C Inputs'!H8,IF($D33="Time %",$C33*'B&C Inputs'!K8,IF($D33="Per Bill (Applicable only)",IF($E33=0,0,$C33*(IF('B&C Inputs'!F35="Y",'B&C Inputs'!G8,0))/$E33),IF($D33="Time % (Applicable only)",IF($F33=0,0,$C33*(IF('B&C Inputs'!F35="Y",'B&C Inputs'!K8,0))/$F33),0)))))) -> 0 | I33: =IF($A33="","",IF($D33="Direct $",'B&C Inputs'!M35,IF($D33="Per Bill",$C33*'B&C Inputs'!H9,IF($D33="Time %",$C33*'B&C Inputs'!K9,IF($D33="Per Bill (Applicable only)",IF($E33=0,0,$C33*(IF('B&C Inputs'!G35="Y",'B&C Inputs'!G9,0))/$E33),IF($D33="Time % (Applicable only)",IF($F33=0,0,$C33*(IF('B&C Inputs'!G35="Y",'B&C Inputs'!K9,0))/$F33),0)))))) -> 0 | J33: =IF($A33="","",IF($D33="Direct $",'B&C Inputs'!N35,IF($D33="Per Bill",$C33*'B&C Inputs'!H10,IF($D33="Time %",$C33*'B&C Inputs'!K10,IF($D33="Per Bill (Applicable only)",IF($E33=0,0,$C33*(IF('B&C Inputs'!H35="Y",'B&C Inputs'!G10,0))/$E33),IF($D33="Time % (Applicable only)",IF($F33=0,0,$C33*(IF('B&C Inputs'!H35="Y",'B&C Inputs'!K10,0))/$F33),0)))))) -> 0 | K33: =IF($A33="","",IF($D33="Direct $",'B&C Inputs'!O35,IF($D33="Per Bill",$C33*'B&C Inputs'!H11,IF($D33="Time %",$C33*'B&C Inputs'!K11,IF($D33="Per Bill (Applicable only)",IF($E33=0,0,$C33*(IF('B&C Inputs'!I35="Y",'B&C Inputs'!G11,0))/$E33),IF($D33="Time % (Applicable only)",IF($F33=0,0,$C33*(IF('B&C Inputs'!I35="Y",'B&C Inputs'!K11,0))/$F33),0)))))) -> 0 | L33: =IF($A33="","",IF($D33="Direct $",'B&C Inputs'!P35,IF($D33="Per Bill",$C33*'B&C Inputs'!H12,IF($D33="Time %",$C33*'B&C Inputs'!K12,IF($D33="Per Bill (Applicable only)",IF($E33=0,0,$C33*(IF('B&C Inputs'!J35="Y",'B&C Inputs'!G12,0))/$E33),IF($D33="Time % (Applicable only)",IF($F33=0,0,$C33*(IF('B&C Inputs'!J35="Y",'B&C Inputs'!K12,0))/$F33),0)))))) -> 0
