Workbook
Name IQ_CH: 110000
Name IQ_CQ: 5000
Name IQ_CY: 10000
Name IQ_DAILY: 500000
Name IQ_FH: 100000
Name IQ_FQ: 500
Name IQ_FY: 1000
Name IQ_LTM: 2000
Name IQ_MONTH: 15000
Name IQ_NTM: 6000
Name IQ_WEEK: 50000
Name IQ_YTD: 3000

Sheet Model Inputs
C2: Data Required for Cost Benchmarking
C3: =IF(F5="Click to Choose an LDC","",F5) -> London Hydro Inc.
B5: Select Distributor from Dropdown Box: | F5: London Hydro Inc. | G5: History | H5: History | I5: Bridge Year | J5: Test Year | K5: Additonal Years for Custom IR Filings
B6: Required Item | G6: 2024 | H6: 2025 | I6: =H6+1 -> 2026 | J6: =I6+1 -> 2027 | K6: =J6+1 -> 2028 | L6: =K6+1 -> 2029 | M6: =L6+1 -> 2030 | N6: =M6+1 -> 2031 | O6: =N6+1 -> 2032 | P6: The values provided for 2026-2032 are placeholder values that must be replaced
C8: Gross Capital Cost Additions Data
B9: 1 | D9: Total Gross Capital Additions | G9: ='Benchmarking Calculations'!G92 -> 47406387 | H9: ='Benchmarking Calculations'!H92 -> 52408922 | I9: 56988500 | J9: 66069400 | K9: =J9 -> 66069400 | L9: =K9 -> 66069400 | M9: =L9 -> 66069400 | N9: =M9 -> 66069400 | O9: =N9 -> 66069400 | P9: Enter Values
B10: 2 | D10: HV Gross Capital Additions | G10: ='Benchmarking Calculations'!G93 -> 0 | H10: ='Benchmarking Calculations'!H93 -> 0 | I10: =H10 -> 0 | J10: =I10 -> 0 | K10: =J10 -> 0 | L10: =K10 -> 0 | M10: =L10 -> 0 | N10: =M10 -> 0 | O10: =N10 -> 0 | P10: Enter Values
C12: Output and Other Business Conditions
B13: 3 | D13: Number of Customers | G13: ='Benchmarking Calculations'!G96 -> 168224 | H13: ='Benchmarking Calculations'!H96 -> 169144 | I13: 170131 | J13: 171569 | K13: =J13 -> 171569 | L13: =K13 -> 171569 | M13: =L13 -> 171569 | N13: =M13 -> 171569 | O13: =N13 -> 171569 | P13: Enter Values
B14: 4 | D14: Delivery Volume | G14: ='Benchmarking Calculations'!G97 -> 3.2316849e+09 | H14: ='Benchmarking Calculations'!H97 -> 3.2959384e+09 | I14: 3299626511 | J14: 3335463424 | K14: =J14 -> 3335463424 | L14: =K14 -> 3335463424 | M14: =L14 -> 3335463424 | N14: =M14 -> 3335463424 | O14: =N14 -> 3335463424 | P14: Enter Values
B15: 5 | D15: Annual Peak Demand | G15: ='Benchmarking Calculations'!G98 -> 673584 | H15: ='Benchmarking Calculations'!H98 -> 714451 | I15: =H15 -> 714451 | J15: =I15 -> 714451 | K15: =J15 -> 714451 | L15: =K15 -> 714451 | M15: =L15 -> 714451 | N15: =M15 -> 714451 | O15: =N15 -> 714451 | P15: Enter Values
B16: 6 | D16: Distribution Circuit-km | G16: ='Benchmarking Calculations'!G99 -> 3122 | H16: ='Benchmarking Calculations'!H99 -> 3138 | I16: =H16 -> 3138 | J16: =I16 -> 3138 | K16: =J16 -> 3138 | L16: =K16 -> 3138 | M16: =L16 -> 3138 | N16: =M16 -> 3138 | O16: =N16 -> 3138 | P16: Enter Values
B17: 7 | D17: Ten Year Customer Growth Percentage | G17: ='Benchmarking Calculations'!G145 -> 0.10279001 | H17: ='Benchmarking Calculations'!H145 -> 0.098715792 | I17: ='Benchmarking Calculations'!I145 -> 0.089948721 | J17: ='Benchmarking Calculations'!J145 -> 0.087542977 | K17: ='Benchmarking Calculations'!K145 -> 0.075836063 | L17: ='Benchmarking Calculations'!L145 -> 0.06608117 | M17: ='Benchmarking Calculations'!M145 -> 0.056525358 | N17: ='Benchmarking Calculations'!N145 -> 0.044277981 | O17: ='Benchmarking Calculations'!O145 -> 0.032732705 | P17: Enter Values
C19: Inflation Measures
B20: 8 | D20: Wage Growth | G20: 0.0497 | H20: 0.0357 | I20: 0.03 | J20: 0.035 | K20: =+J20 -> 0.035 | L20: =K20 -> 0.035 | M20: =L20 -> 0.035 | N20: =M20 -> 0.035 | O20: =N20 -> 0.035 | P20: Enter values. The value provided is an arbitrary placeholder. | Q20: The applicability of the wage index used in the benchmarking analysis has been reviewed by the OEB. Please refer to EB-2021-0212 and subsequent proceedings for policy regarding inflation measures.
B21: 9 | D21: Growth in Economy-wide Inflation | G21: 0.024 | H21: 0.021 | I21: 0.024 | J21: 0.022 | K21: =J21 -> 0.022 | L21: =K21 -> 0.022 | M21: =L21 -> 0.022 | N21: =M21 -> 0.022 | O21: =N21 -> 0.022 | P21: Enter values. The value provided is an arbitrary placeholder.
B22: 10 | D22: Rate of Return (WACC) | G22: ='Benchmarking Calculations'!G110 -> 0.06498 | H22: ='Benchmarking Calculations'!H110 -> 0.06282 | I22: 0.064 | J22: =I22 -> 0.064 | K22: =J22 -> 0.064 | L22: =K22 -> 0.064 | M22: =L22 -> 0.064 | N22: =M22 -> 0.064 | O22: =N22 -> 0.064 | P22: Enter Values. The default value provided is for 2025.
C25: OM&A Expenses Included in Cost Benchmarking
E27: N | F27: Use Method 1 [1A - 1B + 1C] | G27: =G35-G36+G37 -> 47225902 | H27: =H35-H36+H37 -> 53025914 | I27: =I35-I36+I37 -> 0 | J27: =J35-J36+J37 -> 0 | K27: =K35-K36+K37 -> 0 | L27: =L35-L36+L37 -> 0 | M27: =M35-M36+M37 -> 0 | N27: =N35-N36+N37 -> 0 | O27: =O35-O36+O37 -> 0 | P27: Formula
B28: Choose a Method:
E29: Y | F29: Use Method 2 [2A - 2B + 2C] | G29: =G115-G121+G122 -> 47225902 | H29: =H115-H121+H122 -> 53025914 | I29: =I115-I121+I122 -> 57486055 | J29: =J115-J121+J122 -> 62506243 | K29: =K115-K121+K122 -> 62506243 | L29: =L115-L121+L122 -> 62506243 | M29: =M115-M121+M122 -> 62506243 | N29: =N115-N121+N122 -> 62506243 | O29: =O115-O121+O122 -> 62506243 | P29: Formula
B31: 11 | E31: OM&A Values Transfered to Calculations Worksheet | G31: =IF($E$27="Y",G27,IF($E$29="Y",G29,"Error: Please enter Y for one method")) -> 47225902 | H31: =IF($E$27="Y",H27,IF($E$29="Y",H29,"Error: Please enter Y for one method")) -> 53025914 | I31: =IF($E$27="Y",I27,IF($E$29="Y",I29,"Error: Please enter Y for one method")) -> 57486055 | J31: =IF($E$27="Y",J27,IF($E$29="Y",J29,"Error: Please enter Y for one method")) -> 62506243 | K31: =IF($E$27="Y",K27,IF($E$29="Y",K29,"Error: Please enter Y for one method")) -> 62506243 | L31: =IF($E$27="Y",L27,IF($E$29="Y",L29,"Error: Please enter Y for one method")) -> 62506243 | M31: =IF($E$27="Y",M27,IF($E$29="Y",M29,"Error: Please enter Y for one method")) -> 62506243 | N31: =IF($E$27="Y",N27,IF($E$29="Y",N29,"Error: Please enter Y for one method")) -> 62506243 | O31: =IF($E$27="Y",O27,IF($E$29="Y",O29,"Error: Please enter Y for one method")) -> 62506243 | P31: Formula
I32: =IF(AND(E27="Y",E29="Y"),"Error: Please enter only one Y selection","")
D34: Method 1: Enter Values Calculated Elsewhere | I34: Enter Values Supported by Separate Calculations
D35: 1A | E35: Total OM&A Consistent with accounts included in [2B] | G35: =G115 -> 47204907 | H35: =H115 -> 53004771 | P35: Enter Values
D36: 1B | E36: HV Cost (Accounts 5014, 5015, and 5112) if included in total | G36: =G121 -> 0 | H36: =H121 -> 0 | P36: Enter Values
D37: 1C | E37: LV Adjustment | G37: =G122 -> 20994.78 | H37: =H122 -> 21142.44 | P37: Enter Values
D41: Method 2: Enter Detailed Data
D43: OM&A Data
E44: 5005 | F44: Operation Supervision and Engineering | G44: ='Benchmarking Calculations'!G10 -> 2170961.1 | H44: ='Benchmarking Calculations'!H10 -> 2399073.1 | I44: 2695977.3 | J44: =3069988.13*0+3084988.13 -> 3084988.1 | K44: =J44 -> 3084988.1 | L44: =K44 -> 3084988.1 | M44: =L44 -> 3084988.1 | N44: =M44 -> 3084988.1 | O44: =N44 -> 3084988.1 | P44: Enter Values
E45: 5010 | F45: Load Dispatching | G45: ='Benchmarking Calculations'!G11 -> 3626183.6 | H45: ='Benchmarking Calculations'!H11 -> 4169507.7 | I45: 3908500 | J45: 4047300 | K45: =J45 -> 4047300 | L45: =K45 -> 4047300 | M45: =L45 -> 4047300 | N45: =M45 -> 4047300 | O45: =N45 -> 4047300 | P45: Enter Values
E46: 5012 | F46: Station Buildings and Fixtures | G46: ='Benchmarking Calculations'!G12 -> 703468.89 | H46: ='Benchmarking Calculations'!H12 -> 539746.72 | I46: 809959.78 | J46: 906346.62 | K46: =J46 -> 906346.62 | L46: =K46 -> 906346.62 | M46: =L46 -> 906346.62 | N46: =M46 -> 906346.62 | O46: =N46 -> 906346.62 | P46: Enter Values
E47: 5014 | F47: Transformer Station Equipment - Operation Labor | G47: ='Benchmarking Calculations'!G13 -> 0 | H47: ='Benchmarking Calculations'!H13 -> 0 | I47: 0 | J47: 0 | K47: =J47 -> 0 | L47: =K47 -> 0 | M47: =L47 -> 0 | N47: =M47 -> 0 | O47: =N47 -> 0 | P47: Enter Values
E48: 5015 | F48: Transformer Station Equipment - Operation Supplies and Expenses | G48: ='Benchmarking Calculations'!G14 -> 0 | H48: ='Benchmarking Calculations'!H14 -> 0 | I48: 0 | J48: 0 | K48: =J48 -> 0 | L48: =K48 -> 0 | M48: =L48 -> 0 | N48: =M48 -> 0 | O48: =N48 -> 0 | P48: Enter Values
E49: 5016 | F49: Distribution Station Equipment - Operation Labor | G49: ='Benchmarking Calculations'!G15 -> 181470.22 | H49: ='Benchmarking Calculations'!H15 -> 133067.16 | I49: 163558.96 | J49: 171747.95 | K49: =J49 -> 171747.95 | L49: =K49 -> 171747.95 | M49: =L49 -> 171747.95 | N49: =M49 -> 171747.95 | O49: =N49 -> 171747.95 | P49: Enter Values
E50: 5017 | F50: Distribution Station Equipment - Operation Supplies and Expenses | G50: ='Benchmarking Calculations'!G16 -> 109305.86 | H50: ='Benchmarking Calculations'!H16 -> 123608.71 | I50: 173057.65 | J50: 160766.39 | K50: =J50 -> 160766.39 | L50: =K50 -> 160766.39 | M50: =L50 -> 160766.39 | N50: =M50 -> 160766.39 | O50: =N50 -> 160766.39 | P50: Enter Values
E51: 5020 | F51: Overhead Distribution Lines and Feeders - Operation Labor | G51: ='Benchmarking Calculations'!G17 -> 162245.35 | H51: ='Benchmarking Calculations'!H17 -> 85236.33 | I51: 139608.4 | J51: 147224.65 | K51: =J51 -> 147224.65 | L51: =K51 -> 147224.65 | M51: =L51 -> 147224.65 | N51: =M51 -> 147224.65 | O51: =N51 -> 147224.65 | P51: Enter Values
E52: 5025 | F52: Overhead Distribution Lines and Feeders - Operation Supplies and Expenses | G52: ='Benchmarking Calculations'!G18 -> 336377.56 | H52: ='Benchmarking Calculations'!H18 -> 326500.84 | I52: 477607.52 | J52: 486644.63 | K52: =J52 -> 486644.63 | L52: =K52 -> 486644.63 | M52: =L52 -> 486644.63 | N52: =M52 -> 486644.63 | O52: =N52 -> 486644.63 | P52: Enter Values
E53: 5035 | F53: Overhead Distribution Transformers - Operation | G53: ='Benchmarking Calculations'!G19 -> 53087.98 | H53: ='Benchmarking Calculations'!H19 -> 67309.1 | I53: 123095.13 | J53: 126514.02 | K53: =J53 -> 126514.02 | L53: =K53 -> 126514.02 | M53: =L53 -> 126514.02 | N53: =M53 -> 126514.02 | O53: =N53 -> 126514.02 | P53: Enter Values
E54: 5040 | F54: Underground Distribution Lines and Feeders - Operation Labor | G54: ='Benchmarking Calculations'!G20 -> 161452.09 | H54: ='Benchmarking Calculations'!H20 -> 218339.58 | I54: 144793.17 | J54: 149020.65 | K54: =J54 -> 149020.65 | L54: =K54 -> 149020.65 | M54: =L54 -> 149020.65 | N54: =M54 -> 149020.65 | O54: =N54 -> 149020.65 | P54: Enter Values
...

Sheet Benchmarking Calculations
A1: Benchmarking Calculations for LDC Forecasting | R1: Used to populate the drop down box
B3: Selected LDC from the Model Inputs Worksheet: | E3: ='Model Inputs'!F5 -> London Hydro Inc. | Q3: 1 | R3: Click to Choose a Distributor | S3: Alectra Utilities Corporation | T3: Algoma Power Inc. | U3: Atikokan Hydro Inc. | V3: Bluewater Power Distribution Corporation | W3: Burlington Hydro Inc. | X3: Canadian Niagara Power Inc. | Y3: Centre Wellington Hydro Ltd. | Z3: Cooperative Hydro Embrun Inc. | AA3: E.L.K. Energy Inc. | AB3: Elexicon Energy Inc. | AC3: Entegrus Powerlines Inc. | AD3: ENWIN Utilities Ltd. | AE3: EPCOR Electricity Distribution Ontario Inc. | AF3: ERTH Power Corporation | AG3: Essex Powerlines Corporation | AH3: Festival Hydro Inc. | AI3: Fort Frances Power Corporation | AJ3: Greater Sudbury Hydro Inc. | AK3: Grimsby Power Incorporated | AL3: Halton Hills Hydro Inc. | AM3: Hearst Power Distribution Company Limited | AN3: Hydro 2000 Inc. | AO3: Hydro Hawkesbury Inc. | AP3: Hydro One Networks Inc. | AQ3: Hydro Ottawa Limited | AR3: Innpower Corporation | AS3: Kingston Hydro Corporation | AT3: Lakefront Utilities Inc. | AU3: Lakeland Power Distribution Ltd. | AV3: London Hydro Inc. | AW3: Milton Hydro Distribution Inc. | AX3: Newmarket-Tay Power Distribution Ltd. | AY3: Niagara Peninsula Energy Inc. | AZ3: Niagara-on-the-Lake Hydro Inc. | BA3: North Bay Hydro Distribution Limited | BB3: Northern Ontario Wires Inc. | BC3: Oakville Hydro Electricity Distribution Inc. | BD3: Orangeville Hydro Limited | BE3: Oshawa PUC Networks Inc. | BF3: Ottawa River Power Corporation | BG3: PUC Distribution Inc. | BH3: Renfrew Hydro Inc. | BI3: Rideau St. Lawrence Distribution Inc. | BJ3: Sioux Lookout Hydro Inc. | BK3: Synergy North Corporation | BL3: Tillsonburg Hydro Inc. | BM3: Toronto Hydro-Electric System Limited | BN3: Wasaga Distribution Inc. | BO3: Welland Hydro-Electric System Corp. | BP3: Wellington North Power Inc. | BQ3: Westario Power Inc. | BR3: Enova Power Corp. | BS3: GrandBridge Energy Inc.
I4: Forecasted Values | Q4: 2
B5: Line Reference Number | D5: Row Number on 2.1.7 | E5: Account | G5: 2024 | H5: 2025 | I5: =H5+1 -> 2026 | J5: =I5+1 -> 2027 | K5: =J5+1 -> 2028 | L5: =K5+1 -> 2029 | M5: =L5+1 -> 2030 | N5: =M5+1 -> 2031 | O5: =N5+1 -> 2032 | P5: Data Item Number | Q5: 3 | S5: 2025 | T5: 2025 | U5: 2025 | V5: 2025 | W5: 2025 | X5: 2025 | Y5: 2025 | Z5: 2025 | AA5: 2025 | AB5: 2025 | AC5: 2025 | AD5: 2025 | AE5: 2025 | AF5: 2025 | AG5: 2025 | AH5: 2025 | AI5: 2025 | AJ5: 2025 | AK5: 2025 | AL5: 2025 | AM5: 2025 | AN5: 2025 | AO5: 2025 | AP5: 2025 | AQ5: 2025 | AR5: 2025 | AS5: 2025 | AT5: 2025 | AU5: 2025 | AV5: 2025 | AW5: 2025 | AX5: 2025 | AY5: 2025 | AZ5: 2025 | BA5: 2025 | BB5: 2025 | BC5: 2025 | BD5: 2025 | BE5: 2025 | BF5: 2025 | BG5: 2025 | BH5: 2025 | BI5: 2025 | BJ5: 2025 | BK5: 2025 | BL5: 2025 | BM5: 2025 | BN5: 2025 | BO5: 2025 | BP5: 2025 | BQ5: 2025 | BR5: 2025 | BS5: 2025
Q6: 4
A7: Section 1: Source Data and OM&A Calculations | Q7: 5
Q8: 6
B9: 1 | C9: OM&A Data (Detail may be hidden or expanded using the +/- buttons to the left of the row numbers) | Q9: 7
B10: 2 | C10: 5005 | D10: 2 | E10: Operation Supervision and Engineering | G10: =HLOOKUP($E$3,'2024 Historical'!$C$3:$BC$261,Q10,FALSE) -> 2170961.1 | H10: =HLOOKUP($E$3,$S$3:$BS$269,Q10,FALSE) -> 2399073.1 | Q10: 8 | S10: 9414652 | T10: 77367.85 | U10: 39704.11 | V10: 648745 | W10: 0 | X10: 91102.57 | Y10: 97497.6 | Z10: 0 | AA10: 29272.5 | AB10: 3609010.9 | AC10: 865710.8 | AD10: 3127197.1 | AE10: 396627.95 | AF10: 485970.15 | AG10: 48062.48 | AH10: 282120.11 | AI10: 162337.39 | AJ10: 2009082.2 | AK10: 111671.37 | AL10: 406671.23 | AM10: 0 | AN10: 0 | AO10: 0 | AP10: 4998541 | AQ10: 8608024.2 | AR10: 309020.5 | AS10: 327465.23 | AT10: 49988.12 | AU10: 0 | AV10: 2399073.1 | AW10: 39956.36 | AX10: 1113255.5 | AY10: 1164006.3 | AZ10: 52502.88 | BA10: 487750.65 | BB10: 247199.63 | BC10: 3497505 | BD10: 619283.57 | BE10: 128613.63 | BF10: 187987.43 | BG10: 636466.02 | BH10: 70956.88 | BI10: 149314.5 | BJ10: 0 | BK10: 465822 | BL10: 277346.37 | BM10: 26455734 | BN10: 0 | BO10: 186836.65 | BP10: 185705.68 | BQ10: 0 | BR10: 2012635 | BS10: 1715385.7
B11: 3 | C11: 5010 | D11: 3 | E11: Load Dispatching | G11: =HLOOKUP($E$3,'2024 Historical'!$C$3:$BC$261,Q11,FALSE) -> 3626183.6 | H11: =HLOOKUP($E$3,$S$3:$BS$269,Q11,FALSE) -> 4169507.7 | Q11: 9 | S11: 10363380 | T11: 132069.61 | U11: 0 | V11: 252305 | W11: 1488866.1 | X11: 250990.96 | Y11: 21642.52 | Z11: 0 | AA11: 1022 | AB11: 2198372.5 | AC11: 270515.05 | AD11: 1151082.3 | AE11: 99124.89 | AF11: 12300.77 | AG11: 199432.54 | AH11: 98828.15 | AI11: 0 | AJ11: 811724.39 | AK11: 98319.96 | AL11: 0 | AM11: 0 | AN11: 11125 | AO11: 0 | AP11: 3481031.5 | AQ11: 3083413.3 | AR11: 146212.63 | AS11: 998478.82 | AT11: 0 | AU11: 49235.48 | AV11: 4169507.7 | AW11: 588650.4 | AX11: 57834.35 | AY11: 13067.21 | AZ11: 71540.85 | BA11: 301143 | BB11: 0 | BC11: 1650089.7 | BD11: 0 | BE11: 333602.04 | BF11: 15868.23 | BG11: 522450.07 | BH11: 0 | BI11: 0 | BJ11: 0 | BK11: 1062096.4 | BL11: 0 | BM11: 6375046.8 | BN11: 31846.65 | BO11: 257527.23 | BP11: 0 | BQ11: 0 | BR11: 2547268.9 | BS11: 1485857.6
B12: 4 | C12: 5012 | D12: 4 | E12: Station Buildings and Fixtures | G12: =HLOOKUP($E$3,'2024 Historical'!$C$3:$BC$261,Q12,FALSE) -> 703468.89 | H12: =HLOOKUP($E$3,$S$3:$BS$269,Q12,FALSE) -> 539746.72 | Q12: 10 | S12: 0 | T12: 117304.75 | U12: 0 | V12: 3847 | W12: 136868.43 | X12: 256078.62 | Y12: 79123.72 | Z12: 0 | AA12: 0 | AB12: 398050.55 | AC12: 0 | AD12: 0 | AE12: 34568.65 | AF12: 0 | AG12: 0 | AH12: 37581.46 | AI12: 45486.88 | AJ12: 174505.56 | AK12: 33290.04 | AL12: 61693.89 | AM12: 0 | AN12: 0 | AO12: 0 | AP12: 1951345.1 | AQ12: 5430086 | AR12: 89449.72 | AS12: 68994.82 | AT12: 0 | AU12: 0 | AV12: 539746.72 | AW12: 21264 | AX12: 134233.4 | AY12: 96861.86 | AZ12: 0 | BA12: 92711 | BB12: 20871.01 | BC12: 557279.09 | BD12: 0 | BE12: 263554.65 | BF12: 110637.41 | BG12: 575708.91 | BH12: 375.28 | BI12: 2038.59 | BJ12: 0 | BK12: 139221.77 | BL12: 0 | BM12: 127763.35 | BN12: 0 | BO12: 16209.62 | BP12: 22859.14 | BQ12: 0 | BR12: 252247.92 | BS12: 6972.37
B13: 5 | C13: 5014 | D13: 5 | E13: Transformer Station Equipment - Operation Labor | G13: =HLOOKUP($E$3,'2024 Historical'!$C$3:$BC$261,Q13,FALSE) -> 0 | H13: =HLOOKUP($E$3,$S$3:$BS$269,Q13,FALSE) -> 0 | Q13: 11 | S13: 0 | T13: 0 | U13: 0 | V13: 0 | W13: 0 | X13: 0 | Y13: 0 | Z13: 0 | AA13: 0 | AB13: 106341.35 | AC13: 0 | AD13: 316136.95 | AE13: 0 | AF13: 0 | AG13: 0 | AH13: 166522.01 | AI13: 66938.75 | AJ13: 0 | AK13: 12221.44 | AL13: 21895.02 | AM13: 0 | AN13: 0 | AO13: 18011.42 | AP13: 450843.45 | AQ13: 1124705.8 | AR13: 0 | AS13: 0 | AT13: 0 | AU13: 0 | AV13: 0 | AW13: 0 | AX13: 0 | AY13: 3008.84 | AZ13: 15197.41 | BA13: 0 | BB13: 0 | BC13: 402106.55 | BD13: 0 | BE13: 0 | BF13: 0 | BG13: 49074.26 | BH13: 0 | BI13: 0 | BJ13: 0 | BK13: 0 | BL13: 0 | BM13: 303582.31 | BN13: 0 | BO13: 0 | BP13: 0 | BQ13: 0 | BR13: 273263.13 | BS13: 2736.19
B14: 6 | C14: 5015 | D14: 6 | E14: Transformer Station Equipment - Operation Supplies and Expenses | G14: =HLOOKUP($E$3,'2024 Historical'!$C$3:$BC$261,Q14,FALSE) -> 0 | H14: =HLOOKUP($E$3,$S$3:$BS$269,Q14,FALSE) -> 0 | Q14: 12 | S14: 0 | T14: 0 | U14: 0 | V14: 0 | W14: 0 | X14: 0 | Y14: 0 | Z14: 0 | AA14: 0 | AB14: 230375.9 | AC14: 0 | AD14: 17674.33 | AE14: 0 | AF14: 0 | AG14: 0 | AH14: 79529.12 | AI14: 33218 | AJ14: 0 | AK14: 98122.84 | AL14: 20507.26 | AM14: 0 | AN14: 0 | AO14: 10892.73 | AP14: 121683.44 | AQ14: 1239287.1 | AR14: 0 | AS14: 0 | AT14: 0 | AU14: 0 | AV14: 0 | AW14: 0 | AX14: 0 | AY14: 138811.13 | AZ14: 13200 | BA14: 0 | BB14: 0 | BC14: 41480.38 | BD14: 0 | BE14: 0 | BF14: 0 | BG14: 20770 | BH14: 0 | BI14: 0 | BJ14: 0 | BK14: 28534.67 | BL14: 0 | BM14: 955188.34 | BN14: 0 | BO14: 0 | BP14: 0 | BQ14: 0 | BR14: 643113.07 | BS14: 252872.98
B15: 7 | C15: 5016 | D15: 7 | E15: Distribution Station Equipment - Operation Labor | G15: =HLOOKUP($E$3,'2024 Historical'!$C$3:$BC$261,Q15,FALSE) -> 181470.22 | H15: =HLOOKUP($E$3,$S$3:$BS$269,Q15,FALSE) -> 133067.16 | Q15: 13 | S15: 2407153.6 | T15: 44460.13 | U15: 27157.63 | V15: 0 | W15: 199869.69 | X15: 19469.73 | Y15: 0 | Z15: 0 | AA15: 165.23 | AB15: 203607.56 | AC15: 122900.21 | AD15: 0 | AE15: 11744.91 | AF15: 12129.12 | AG15: 0 | AH15: 0 | AI15: 0 | AJ15: 622554.39 | AK15: 0 | AL15: 291413.71 | AM15: 0 | AN15: 0 | AO15: 21100.11 | AP15: 4032068.4 | AQ15: 994364.08 | AR15: 21052.72 | AS15: 89854.55 | AT15: 93759.16 | AU15: 21152.14 | AV15: 133067.16 | AW15: 35393.82 | AX15: 1322.14 | AY15: 0 | AZ15: 0 | BA15: 0 | BB15: 7252.32 | BC15: 57634.77 | BD15: 3189.88 | BE15: 346637.08 | BF15: 21260.23 | BG15: 164194.34 | BH15: 4366.8 | BI15: 2014.82 | BJ15: 0 | BK15: 0 | BL15: 0 | BM15: 3867635 | BN15: 23042.53 | BO15: 0 | BP15: 11419.38 | BQ15: 0 | BR15: 55106.27 | BS15: 0
B16: 8 | C16: 5017 | D16: 8 | E16: Distribution Station Equipment - Operation Supplies and Expenses | G16: =HLOOKUP($E$3,'2024 Historical'!$C$3:$BC$261,Q16,FALSE) -> 109305.86 | H16: =HLOOKUP($E$3,$S$3:$BS$269,Q16,FALSE) -> 123608.71 | Q16: 14 | S16: 1494730.8 | T16: 32642.4 | U16: 11.97 | V16: 108540 | W16: 558339.88 | X16: 32147.74 | Y16: 51736.32 | Z16: 1127.31 | AA16: 0 | AB16: 93434.97 | AC16: 183902.4 | AD16: 0 | AE16: 1279.39 | AF16: 2163.78 | AG16: 0 | AH16: 0 | AI16: 0 | AJ16: 294142.48 | AK16: 3662.98 | AL16: 29271.24 | AM16: 0 | AN16: 0 | AO16: 2549.97 | AP16: 1154059.1 | AQ16: 229286.05 | AR16: 43983.81 | AS16: 12592 | AT16: 0 | AU16: 0 | AV16: 123608.71 | AW16: 66058.78 | AX16: 62026.74 | AY16: 0 | AZ16: 0 | BA16: 0 | BB16: 10999.92 | BC16: 1030.15 | BD16: 20428.62 | BE16: 0 | BF16: 9125 | BG16: 169202.33 | BH16: 42338.48 | BI16: 0 | BJ16: 0 | BK16: 114241.3 | BL16: 12346.91 | BM16: 2759093.3 | BN16: 40871.96 | BO16: 71742.24 | BP16: 22798.26 | BQ16: 0 | BR16: -709.8 | BS16: 0
B17: 9 | C17: 5020 | D17: 9 | E17: Overhead Distribution Lines and Feeders - Operation Labor | G17: =HLOOKUP($E$3,'2024 Historical'!$C$3:$BC$261,Q17,FALSE) -> 162245.35 | H17: =HLOOKUP($E$3,$S$3:$BS$269,Q17,FALSE) -> 85236.33 | Q17: 15 | S17: 18529705 | T17: 90355.43 | U17: 231574.29 | V17: 0 | W17: 358947.21 | X17: 132354.9 | Y17: 838.56 | Z17: 0 | AA17: 16633.24 | AB17: 1623854.4 | AC17: 260141.7 | AD17: 2532063 | AE17: 90093.52 | AF17: 17541.78 | AG17: 138702.6 | AH17: 5978.81 | AI17: 33903.72 | AJ17: 180404.92 | AK17: 88742.15 | AL17: 541809.84 | AM17: 13382.54 | AN17: 0 | AO17: 54.67 | AP17: 8292239.4 | AQ17: 241260.68 | AR17: 32095.9 | AS17: 84138.78 | AT17: 111718.69 | AU17: 39980.9 | AV17: 85236.33 | AW17: 327176.45 | AX17: 10997.72 | AY17: 84409.28 | AZ17: 89588.27 | BA17: 8988 | BB17: 110726.26 | BC17: 319820.53 | BD17: 12969.93 | BE17: 813612.9 | BF17: 23762.5 | BG17: 438843.6 | BH17: 35382.42 | BI17: 2029.68 | BJ17: 418167.08 | BK17: 389371.1 | BL17: 2394.36 | BM17: 279464.84 | BN17: 0 | BO17: 109299.38 | BP17: 28015.38 | BQ17: 0 | BR17: 1683413.8 | BS17: 281126.48
B18: 10 | C18: 5025 | D18: 10 | E18: Overhead Distribution Lines and Feeders - Operation Supplies and Expenses | G18: =HLOOKUP($E$3,'2024 Historical'!$C$3:$BC$261,Q18,FALSE) -> 336377.56 | H18: =HLOOKUP($E$3,$S$3:$BS$269,Q18,FALSE) -> 326500.84 | Q18: 16 | S18: 9458831.1 | T18: 94026.13 | U18: 54103.87 | V18: 211953 | W18: 559097.65 | X18: 39918.15 | Y18: 8775 | Z18: 0 | AA18: 7777.17 | AB18: 589482.33 | AC18: 53618.48 | AD18: -220048.08 | AE18: 8037.76 | AF18: 0 | AG18: 49353.99 | AH18: 54266.87 | AI18: 6040.16 | AJ18: 460334.39 | AK18: 26346.56 | AL18: 42241.189 | AM18: 86565.43 | AN18: 0 | AO18: 3481 | AP18: 272460.07 | AQ18: 76996.45 | AR18: 18560.22 | AS18: 68436.61 | AT18: 22216.78 | AU18: 0 | AV18: 326500.84 | AW18: 0 | AX18: 38042.22 | AY18: 83250.5 | AZ18: 67262.8 | BA18: 22323.31 | BB18: 2681.03 | BC18: 160519.81 | BD18: 20136.67 | BE18: 256481.49 | BF18: 6131.77 | BG18: 253457.85 | BH18: 26431.34 | BI18: 0 | BJ18: 120664.18 | BK18: 768685.37 | BL18: 22033.21 | BM18: 1586591.4 | BN18: 0 | BO18: 77765.76 | BP18: 16618.81 | BQ18: 0 | BR18: 1137324.7 | BS18: 145482.7
B19: 11 | C19: 5035 | D19: 11 | E19: Overhead Distribution Transformers - Operation | G19: =HLOOKUP($E$3,'2024 Historical'!$C$3:$BC$261,Q19,FALSE) -> 53087.98 | H19: =HLOOKUP($E$3,$S$3:$BS$269,Q19,FALSE) -> 67309.1 | Q19: 17 | S19: 0 | T19: 0 | U19: 0 | V19: 2464 | W19: 14918.77 | X19: 22479.54 | Y19: 0 | Z19: 479.18 | AA19: 12225.48 | AB19: 0 | AC19: 0 | AD19: 69566.32 | AE19: 1822.46 | AF19: 0 | AG19: 570.37 | AH19: 22.38 | AI19: 0 | AJ19: 54897.74 | AK19: 603.09 | AL19: 26622.499 | AM19: 10.21 | AN19: 0 | AO19: 16478.16 | AP19: 0 | AQ19: 239181.76 | AR19: 0 | AS19: 3745.98 | AT19: 0 | AU19: 1249.16 | AV19: 67309.1 | AW19: 0 | AX19: 48137.77 | AY19: 0 | AZ19: 0 | BA19: 60254 | BB19: 0 | BC19: 8641.78 | BD19: 0 | BE19: 0 | BF19: 365467.52 | BG19: 13111.39 | BH19: 12136.15 | BI19: 1553.98 | BJ19: 4210.79 | BK19: 438526.48 | BL19: 8052.24 | BM19: 0 | BN19: 0 | BO19: 0 | BP19: 3066.33 | BQ19: 0 | BR19: 823.94 | BS19: 44467.98
B20: 12 | C20: 5040 | D20: 12 | E20: Underground Distribution Lines and Feeders - Operation Labor | G20: =HLOOKUP($E$3,'2024 Historical'!$C$3:$BC$261,Q20,FALSE) -> 161452.09 | H20: =HLOOKUP($E$3,$S$3:$BS$269,Q20,FALSE) -> 218339.58 | Q20: 18 | S20: 5829221.5 | T20: 3764.19 | U20: 0 | V20: 1067316 | W20: 71034.43 | X20: 99188.72 | Y20: 0 | Z20: 0 | AA20: 178042.15 | AB20: -1407241 | AC20: 490781.26 | AD20: 814198.28 | AE20: 34298.73 | AF20: 4674.48 | AG20: 103071.38 | AH20: 6226.3 | AI20: 9019.46 | AJ20: 106755.15 | AK20: 2221.53 | AL20: 58675.83 | AM20: 652.09 | AN20: 0 | AO20: 5.86 | AP20: 968746.91 | AQ20: 460272.27 | AR20: 6642.1 | AS20: 46507.02 | AT20: 5012.95 | AU20: 0 | AV20: 218339.58 | AW20: 0 | AX20: 118868.77 | AY20: 40222.16 | AZ20: 30.5 | BA20: 38239.64 | BB20: 0 | BC20: 917048.67 | BD20: 5907.23 | BE20: 13842.41 | BF20: 5417.92 | BG20: 236264.92 | BH20: 2266.54 | BI20: 0 | BJ20: 0 | BK20: 31197.92 | BL20: 545.74 | BM20: 634693.51 | BN20: 0 | BO20: 368940.59 | BP20: 273.25 | BQ20: 417585.86 | BR20: 155817.63 | BS20: 128620.46
B21: 13 | C21: 5045 | D21: 13 | E21: Underground Distribution Lines and Feeders - Operation Supplies and Expenses | G21: =HLOOKUP($E$3,'2024 Historical'!$C$3:$BC$261,Q21,FALSE) -> 235028.56 | H21: =HLOOKUP($E$3,$S$3:$BS$269,Q21,FALSE) -> 166326.7 | Q21: 19 | S21: 16117167 | T21: 0 | U21: 0 | V21: 424199 | W21: 614970.68 | X21: 196965.69 | Y21: 0 | Z21: 0 | AA21: 0 | AB21: 2129973.4 | AC21: 213454.84 | AD21: 425633.4 | AE21: 0 | AF21: 662.42 | AG21: 46946.35 | AH21: 515.5 | AI21: 782.66 | AJ21: 75510.42 | AK21: 56101.61 | AL21: 17351.531 | AM21: 5296.78 | AN21: 0 | AO21: 0 | AP21: 90820.02 | AQ21: 4696809.3 | AR21: 146406.9 | AS21: 40815.49 | AT21: 0 | AU21: 0 | AV21: 166326.7 | AW21: 823933.37 | AX21: 278162.28 | AY21: 446452.35 | AZ21: 6914.69 | BA21: 233610.91 | BB21: 0 | BC21: 30069.27 | BD21: 3056.93 | BE21: 0 | BF21: 4217.42 | BG21: 34560.42 | BH21: 728 | BI21: 0 | BJ21: 7933.07 | BK21: 15149.08 | BL21: 639.59 | BM21: 6244008.2 | BN21: 0 | BO21: 0 | BP21: 8634.02 | BQ21: 0 | BR21: 299392.9 | BS21: 109065.06
... B29: 21 | C29: 5096 | D29: 21 | E29: Other Rent (Distribution) | G29: =HLOOKUP($E$3,'2024 Historical'!$C$3:$BC$261,Q29,FALSE) -> 0 | H29: =HLOOKUP($E$3,$S$3:$BS$269,Q29,FALSE) -> 0 | Q29: 27 | S29: 0 | T29: 2334.55 | U29: 8527.77 | V29: 0 | W29: 0 | X29: 0 | Y29: 0 | Z29: 0 | AA29: 0 | AB29: 0 | AC29: 0 | AD29: 0 | AE29: 188400 | AF29: 979 | AG29: 123187.99 | AH29: 0 | AI29: 0 | AJ29: 0 | AK29: 0 | AL29: 0 | AM29: 3600 | AN29: 0 | AO29: 0 | AP29: 0 | AQ29: 228659.96 | AR29: 0 | AS29: 0 | AT29: 66607.67 | AU29: 0 | AV29: 0 | AW29: 0 | AX29: 0 | AY29: 0 | AZ29: 0 | BA29: 0 | BB29: 0 | BC29: 0 | BD29: 16719.16 | BE29: 0 | BF29: 86900.04 | BG29: 175158.97 | BH29: 1257.74 | BI29: 0 | BJ29: 0 | BK29: 0 | BL29: 0 | BM29: 0 | BN29: 0 | BO29: 0 | BP29: 0 | BQ29: 0 | BR29: 0 | BS29: 2779.67
B30: 22 | E30: Subtotal: Operation | G30: =HLOOKUP($E$3,'2024 Historical'!$C$3:$BC$261,Q30,FALSE) -> 13271392 | H30: =HLOOKUP($E$3,$S$3:$BS$269,Q30,FALSE) -> 14612998 | Q30: 28 | S30: 92919702 | T30: 1841311.9 | U30: 412824.88 | V30: 4050931 | W30: 5010304.1 | X30: 2322506.6 | Y30: 541406.34 | Z30: 62106.93 | AA30: 322806.25 | AB30: 12082366 | AC30: 2675125.2 | AD30: 9450252.5 | AE30: 1174523.5 | AF30: 1962535.2 | AG30: 1557609.5 | AH30: 1282091.8 | AI30: 562442.76 | AJ30: 7626958.8 | AK30: 1193952.5 | AL30: 1677483.3 | AM30: 239564.15 | AN30: 11125 | AO30: 99268 | AP30: 1.4375898e+08 | AQ30: 30969663 | AR30: 1980714.1 | AS30: 2969613.7 | AT30: 515426.12 | AU30: 524337.31 | AV30: 14612998 | AW30: 3348507.8 | AX30: 4312597.5 | AY30: 5491848.5 | AZ30: 912436.6 | BA30: 1587693.5 | BB30: 1081854.7 | BC30: 9485754.6 | BD30: 955526.07 | BE30: 2621786.7 | BF30: 1222318.1 | BG30: 4518214.7 | BH30: 460386.79 | BI30: 544361.8 | BJ30: 654370.93 | BK30: 3749851.8 | BL30: 734114.86 | BM30: 61272734 | BN30: 113630.35 | BO30: 1672490.5 | BP30: 566434.11 | BQ30: 999467.55 | BR30: 14481639 | BS30: 5120109.1
B31: 23 | C31: 5105 | D31: 22 | E31: Maintenance Supervision and Engineering | G31: =HLOOKUP($E$3,'2024 Historical'!$C$3:$BC$261,Q31,FALSE) -> 1485448.3 | H31: =HLOOKUP($E$3,$S$3:$BS$269,Q31,FALSE) -> 1617451.3 | Q31: 29 | S31: 8389396.8 | T31: 73786.03 | U31: 0 | V31: 0 | W31: 0 | X31: 17905.59 | Y31: 63862.87 | Z31: 0 | AA31: 0 | AB31: 575122.29 | AC31: 1004641.7 | AD31: 0 | AE31: 232495.87 | AF31: 0 | AG31: 3575.12 | AH31: 0 | AI31: 95972.47 | AJ31: 0 | AK31: 175146.81 | AL31: 0 | AM31: 32815.3 | AN31: 0 | AO31: 0 | AP31: 10159563 | AQ31: 1426387.3 | AR31: 0 | AS31: 51104.31 | AT31: 0 | AU31: 585044.77 | AV31: 1617451.3 | AW31: 349065.02 | AX31: 25353.28 | AY31: 416219.76 | AZ31: 840.9 | BA31: 491144.78 | BB31: 2635.43 | BC31: 687986.95 | BD31: 0 | BE31: 114053.31 | BF31: 4537.5 | BG31: 0 | BH31: 0 | BI31: 0 | BJ31: 0 | BK31: 2081592.3 | BL31: 123.72 | BM31: 22754692 | BN31: 138580.24 | BO31: 139858.95 | BP31: 161920.18 | BQ31: 0 | BR31: 0 | BS31: 19513.88
B32: 24 | C32: 5110 | D32: 23 | E32: Maintenance of Buildings and Fixtures | G32: =HLOOKUP($E$3,'2024 Historical'!$C$3:$BC$261,Q32,FALSE) -> 162061.84 | H32: =HLOOKUP($E$3,$S$3:$BS$269,Q32,FALSE) -> 94388.73 | Q32: 30 | S32: 226932.55 | T32: 376 | U32: 0 | V32: 0 | W32: 480475.77 | X32: 80415.57 | Y32: 0 | Z32: 9038.46 | AA32: 0 | AB32: 84238.26 | AC32: 0 | AD32: 0 | AE32: 42707.93 | AF32: 18214.01 | AG32: 0 | AH32: 10220.53 | AI32: 16979.63 | AJ32: 42321.19 | AK32: 0 | AL32: 0 | AM32: 0 | AN32: 0 | AO32: 0 | AP32: 2915558.1 | AQ32: 0 | AR32: 0 | AS32: 83273.39 | AT32: 0 | AU32: 0 | AV32: 94388.73 | AW32: 0 | AX32: 0 | AY32: 0 | AZ32: 0 | BA32: 45250.39 | BB32: 0 | BC32: 56364.66 | BD32: 0 | BE32: 91235.47 | BF32: 35631.62 | BG32: 124189.77 | BH32: 0 | BI32: 0 | BJ32: 0 | BK32: 36387.56 | BL32: 0 | BM32: 17937922 | BN32: 0 | BO32: 25989.92 | BP32: 0 | BQ32: 1469.57 | BR32: 57232.21 | BS32: 0
B33: 25 | C33: 5112 | D33: 24 | E33: Maintenance of Transformer Station Equipment | G33: =HLOOKUP($E$3,'2024 Historical'!$C$3:$BC$261,Q33,FALSE) -> 0 | H33: =HLOOKUP($E$3,$S$3:$BS$269,Q33,FALSE) -> 0 | Q33: 31 | S33: 0 | T33: 0 | U33: 0 | V33: 0 | W33: 0 | X33: 0 | Y33: 0 | Z33: 0 | AA33: 0 | AB33: 19851.81 | AC33: 0 | AD33: 875080.89 | AE33: 0 | AF33: 0 | AG33: 0 | AH33: 49486.44 | AI33: 13300.61 | AJ33: 0 | AK33: 19342.55 | AL33: 0 | AM33: 0 | AN33: 0 | AO33: 0 | AP33: 1404671.7 | AQ33: 552924.04 | AR33: 0 | AS33: 0 | AT33: 0 | AU33: 0 | AV33: 0 | AW33: 0 | AX33: 0 | AY33: 124006.52 | AZ33: 84588.45 | BA33: 0 | BB33: 2734.93 | BC33: 170981.32 | BD33: 0 | BE33: 0 | BF33: 0 | BG33: 82119.72 | BH33: 0 | BI33: 0 | BJ33: 0 | BK33: 14777.02 | BL33: 0 | BM33: 1105257.2 | BN33: 0 | BO33: 0 | BP33: 0 | BQ33: 0 | BR33: 134039.81 | BS33: 2829.02
B34: 26 | C34: 5114 | D34: 25 | E34: Maintenance of Distribution Station Equipement | G34: =HLOOKUP($E$3,'2024 Historical'!$C$3:$BC$261,Q34,FALSE) -> 779674.3 | H34: =HLOOKUP($E$3,$S$3:$BS$269,Q34,FALSE) -> 810816.45 | Q34: 32 | S34: 6564962 | T34: 28039.66 | U34: 9706.13 | V34: 102854 | W34: 360013.78 | X34: 123851.57 | Y34: 37659.13 | Z34: 10489.2 | AA34: 0 | AB34: 481159.06 | AC34: 142477.07 | AD34: 692.75 | AE34: 61377.26 | AF34: 21278.67 | AG34: 0 | AH34: 4624.28 | AI34: 0 | AJ34: 3749.31 | AK34: 0 | AL34: 99056.4 | AM34: 0 | AN34: 0 | AO34: 0 | AP34: 13227325 | AQ34: 1623177.7 | AR34: 191645.04 | AS34: 185591.21 | AT34: 0 | AU34: -185069.55 | AV34: 810816.45 | AW34: 0 | AX34: 120921.92 | AY34: 45646.24 | AZ34: 0 | BA34: 110936.84 | BB34: 4429.44 | BC34: 153428.39 | BD34: 1552.57 | BE34: 498744.8 | BF34: 103181.28 | BG34: 344471.27 | BH34: 2231.66 | BI34: 136235.34 | BJ34: 0 | BK34: 162003.63 | BL34: 0 | BM34: 708329.49 | BN34: 0 | BO34: 110786.71 | BP34: 28946.12 | BQ34: 222323.66 | BR34: 6828.83 | BS34: 738.64
B35: 27 | C35: 5120 | D35: 26 | E35: Maintenance of Poles, Towers and Fixtures | G35: =HLOOKUP($E$3,'2024 Historical'!$C$3:$BC$261,Q35,FALSE) -> 512001.35 | H35: =HLOOKUP($E$3,$S$3:$BS$269,Q35,FALSE) -> 490222.81 | Q35: 33 | S35: 1921497.8 | T35: 105954.47 | U35: 11381.93 | V35: 14843 | W35: 83103.56 | X35: 135473.92 | Y35: 32574.52 | Z35: 6414 | AA35: 67492.56 | AB35: 2669825.4 | AC35: 156336.67 | AD35: 460299.67 | AE35: 15585 | AF35: 77859.87 | AG35: 107382 | AH35: 77007.52 | AI35: 8937.08 | AJ35: 316703.36 | AK35: 16761.64 | AL35: 69129.411 | AM35: 126570.73 | AN35: 6214 | AO35: 3.95 | AP35: 27648050 | AQ35: 903885.01 | AR35: 67875.19 | AS35: 99815.96 | AT35: 47787.25 | AU35: 64368.82 | AV35: 490222.81 | AW35: 255085.13 | AX35: 51620.55 | AY35: 175286.93 | AZ35: 44334.65 | BA35: 101399.7 | BB35: 3834.83 | BC35: 39436.41 | BD35: 1944.54 | BE35: 200856.88 | BF35: 21437.39 | BG35: 122558.84 | BH35: 507.18 | BI35: 13914.48 | BJ35: 38055.44 | BK35: 219059.6 | BL35: 8997.47 | BM35: 1033378.3 | BN35: 38000.9 | BO35: 113158.31 | BP35: 19302.01 | BQ35: 324086.64 | BR35: 408672.61 | BS35: 184687.48
B36: 28 | C36: 5125 | D36: 27 | E36: Maintenance of Overhead Conductors and Devices | G36: =HLOOKUP($E$3,'2024 Historical'!$C$3:$BC$261,Q36,FALSE) -> 1521266.4 | H36: =HLOOKUP($E$3,$S$3:$BS$269,Q36,FALSE) -> 1819930.2 | Q36: 34 | S36: 1275240.6 | T36: 718204.27 | U36: 35336.17 | V36: 165766 | W36: 2621875.7 | X36: 400755.86 | Y36: 18868.26 | Z36: 5931 | AA36: 242197.8 | AB36: 478364.63 | AC36: 532825.72 | AD36: 0 | AE36: 75306.06 | AF36: 240216.87 | AG36: 195341.57 | AH36: 136530.21 | AI36: 18587.4 | AJ36: 346753.99 | AK36: 98488.84 | AL36: 0 | AM36: 170806.63 | AN36: 3500 | AO36: 35077.47 | AP36: 42345011 | AQ36: 1489790.5 | AR36: 287031.73 | AS36: 284307.67 | AT36: 0 | AU36: 142429.09 | AV36: 1819930.2 | AW36: 340624.84 | AX36: 222537.16 | AY36: 1032166.4 | AZ36: 103685.12 | BA36: 233918.19 | BB36: 443474.26 | BC36: 201305.34 | BD36: 49878.93 | BE36: 0 | BF36: 59943.01 | BG36: 766495.95 | BH36: 21123.93 | BI36: 360493.69 | BJ36: 0 | BK36: 1325303.9 | BL36: 27607.84 | BM36: 6677856.7 | BN36: 103048.68 | BO36: 588050.44 | BP36: 29960.83 | BQ36: 125933.67 | BR36: 1188227.3 | BS36: 1520307.1
B37: 29 | C37: 5130 | D37: 28 | E37: Maintenance of Overhead Services | G37: =HLOOKUP($E$3,'2024 Historical'!$C$3:$BC$261,Q37,FALSE) -> 286690.83 | H37: =HLOOKUP($E$3,$S$3:$BS$269,Q37,FALSE) -> 350127.61 | Q37: 35 | S37: 0 | T37: 303223.98 | U37: 6001.88 | V37: 372207 | W37: 883810.12 | X37: 293859.24 | Y37: 92246.42 | Z37: 0 | AA37: 181149.14 | AB37: 116509.2 | AC37: 334891.41 | AD37: 155242.82 | AE37: 342180.03 | AF37: 354983.65 | AG37: 218941.25 | AH37: 977447.7 | AI37: 20005.91 | AJ37: 387830.22 | AK37: 1820.26 | AL37: 0 | AM37: 3009.54 | AN37: 0 | AO37: 3755.95 | AP37: 11193521 | AQ37: 747882.44 | AR37: 368524.01 | AS37: 108492.15 | AT37: 110748.7 | AU37: 830228.93 | AV37: 350127.61 | AW37: 0 | AX37: 0 | AY37: 235481.75 | AZ37: 64489.93 | BA37: 277675.87 | BB37: 21243.08 | BC37: 17994.44 | BD37: 21587.21 | BE37: 0 | BF37: 42440.33 | BG37: 6590.91 | BH37: 31732.81 | BI37: 76478.53 | BJ37: 0 | BK37: 886511.69 | BL37: 17674.28 | BM37: 577788.58 | BN37: 61532.41 | BO37: 351388.64 | BP37: 16439.57 | BQ37: 163721.06 | BR37: 1751709.5 | BS37: 1255319.5
B38: 30 | C38: 5135 | D38: 29 | E38: Overhead Distribution Lines and Feeders - Right of Way | G38: =HLOOKUP($E$3,'2024 Historical'!$C$3:$BC$261,Q38,FALSE) -> 1537575 | H38: =HLOOKUP($E$3,$S$3:$BS$269,Q38,FALSE) -> 1613429.5 | Q38: 36 | S38: 6145492 | T38: 4743443.3 | U38: 27714.52 | V38: 394258 | W38: 1531387.5 | X38: 667440.17 | Y38: 109635.84 | Z38: 17780 | AA38: 351516.28 | AB38: 1704919.7 | AC38: 389478.25 | AD38: 1455881.2 | AE38: 66181.26 | AF38: 216661.12 | AG38: 383395.37 | AH38: 242968.3 | AI38: 112644.72 | AJ38: 751565.18 | AK38: 43382.95 | AL38: 368201.46 | AM38: 24559.98 | AN38: 7235 | AO38: 28180.12 | AP38: 89172600 | AQ38: 7064462.8 | AR38: 407094.77 | AS38: 296391.9 | AT38: 59754.68 | AU38: 205245.24 | AV38: 1613429.5 | AW38: 375259.87 | AX38: 357759.63 | AY38: 822700.88 | AZ38: 118226.92 | BA38: 802537.96 | BB38: 286309.01 | BC38: 669220.19 | BD38: 127201.98 | BE38: 182637.21 | BF38: 222510.25 | BG38: 858462.21 | BH38: 135761.85 | BI38: 46145.37 | BJ38: 94143.76 | BK38: 2272013.8 | BL38: 105443.16 | BM38: 5609955.2 | BN38: 221488.47 | BO38: 283867.35 | BP38: 72171.87 | BQ38: 332423.92 | BR38: 1292040.7 | BS38: 1270067.4
B39: 31 | C39: 5145 | D39: 30 | E39: Maintenance of Underground Conduit | G39: =HLOOKUP($E$3,'2024 Historical'!$C$3:$BC$261,Q39,FALSE) -> 447590.5 | H39: =HLOOKUP($E$3,$S$3:$BS$269,Q39,FALSE) -> 399387.13 | Q39: 37 | S39: 0 | T39: 0 | U39: 0 | V39: 41608 | W39: 12237.29 | X39: -17310.22 | Y39: 0 | Z39: 0 | AA39: 0 | AB39: 20771.67 | AC39: 25975.32 | AD39: 0 | AE39: 0 | AF39: 0 | AG39: 0 | AH39: 14572.02 | AI39: 0 | AJ39: 66981.69 | AK39: 254.99 | AL39: 0 | AM39: 803.41 | AN39: 0 | AO39: 0 | AP39: 52983.89 | AQ39: 200249.49 | AR39: 0 | AS39: 68042.74 | AT39: 0 | AU39: 409.02 | AV39: 399387.13 | AW39: 0 | AX39: 1816.81 | AY39: 25450.87 | AZ39: 0 | BA39: 11775.01 | BB39: 4108.1 | BC39: 205.24 | BD39: 64 | BE39: 172969.84 | BF39: 0 | BG39: 18256.38 | BH39: 0 | BI39: 4325.04 | BJ39: 0 | BK39: 34430.92 | BL39: 0 | BM39: 3769954.2 | BN39: 1584.91 | BO39: 0 | BP39: 392.99 | BQ39: 2086.92 | BR39: 57181.19 | BS39: 221820.2
B40: 32 | C40: 5150 | D40: 31 | E40: Maintenance of Underground Conductors and Devices | G40: =HLOOKUP($E$3,'2024 Historical'!$C$3:$BC$261,Q40,FALSE) -> 1617151.6 | H40: =HLOOKUP($E$3,$S$3:$BS$269,Q40,FALSE) -> 1370915.7 | Q40: 38 | S40: 2667581.7 | T40: 0 | U40: 0 | V40: 11964 | W40: 454551.92 | X40: 46960.55 | Y40: 4751.43 | Z40: 975 | AA40: 93936.33 | AB40: 489831.66 | AC40: 55541.17 | AD40: 0 | AE40: 101181.02 | AF40: 18864.83 | AG40: 97616.39 | AH40: 87199.34 | AI40: 1273.62 | AJ40: 120282.16 | AK40: 2120.45 | AL40: 49128.22 | AM40: 693.28 | AN40: 0 | AO40: 17980.67 | AP40: 1865586.8 | AQ40: 971465.02 | AR40: 33899.81 | AS40: 156990.22 | AT40: 0 | AU40: 13935.73 | AV40: 1370915.7 | AW40: 70571.25 | AX40: 384233.51 | AY40: 186604.14 | AZ40: 72662.07 | BA40: 68826.46 | BB40: 34804.19 | BC40: 243796.72 | BD40: 5744.62 | BE40: 0 | BF40: 33691.84 | BG40: 127311.89 | BH40: 145.07 | BI40: 15933.33 | BJ40: 0 | BK40: 217989.64 | BL40: 24697.34 | BM40: 11245135 | BN40: 142892.57 | BO40: 131822.13 | BP40: 0 | BQ40: 66296.64 | BR40: 731864.11 | BS40: 1311870.5
B41: 33 | C41: 5155 | D41: 32 | E41: Maintenance of Underground Services | G41: =HLOOKUP($E$3,'2024 Historical'!$C$3:$BC$261,Q41,FALSE) -> 616677.31 | H41: =HLOOKUP($E$3,$S$3:$BS$269,Q41,FALSE) -> 1199171.5 | Q41: 39 | S41: 0 | T41: 0 | U41: 0 | V41: 69772 | W41: 850618.62 | X41: 74250.13 | Y41: 109584.14 | Z41: 0 | AA41: 230429.96 | AB41: 516012.33 | AC41: 198123.49 | AD41: 651353.92 | AE41: 252588.76 | AF41: -330134.31 | AG41: 339413.16 | AH41: 185999.48 | AI41: 1162.57 | AJ41: 48710.5 | AK41: 25428.64 | AL41: 0 | AM41: 1218.1 | AN41: 450 | AO41: 13273.61 | AP41: 9514492.5 | AQ41: 129050.21 | AR41: 65944.48 | AS41: 85317.83 | AT41: 54972.48 | AU41: 209289.84 | AV41: 1199171.5 | AW41: 0 | AX41: 187206.17 | AY41: 223474.62 | AZ41: 57959.02 | BA41: 245995.36 | BB41: 17092.25 | BC41: 634.67 | BD41: 115268 | BE41: 62389.52 | BF41: 25835.95 | BG41: 6816.63 | BH41: 7951.46 | BI41: 24410.46 | BJ41: 0 | BK41: 114273.11 | BL41: 14239.61 | BM41: 118485.42 | BN41: 156977.17 | BO41: 194725.05 | BP41: 7790.76 | BQ41: 218711.95 | BR41: 589415.43 | BS41: 344185.69
B42: 34 | C42: 5160 | D42: 33 | E42: Maintenance of Line Transformers | G42: =HLOOKUP($E$3,'2024 Historical'!$C$3:$BC$261,Q42,FALSE) -> 113809.78 | H42: =HLOOKUP($E$3,$S$3:$BS$269,Q42,FALSE) -> 73809.49 | Q42: 40 | S42: 2585014.2 | T42: 53208.2 | U42: 2329.08 | V42: 17516 | W42: 24198.08 | X42: 90169.75 | Y42: 36678.3 | Z42: 0 | AA42: 15320.42 | AB42: 34522.55 | AC42: 102232.57 | AD42: 36775.23 | AE42: 52968.98 | AF42: 129027.58 | AG42: 53682.39 | AH42: 49696.48 | AI42: 3146.69 | AJ42: 180587.82 | AK42: 7426.93 | AL42: 0 | AM42: 55721.58 | AN42: 4100 | AO42: 2788.07 | AP42: 4050749.5 | AQ42: 85827.91 | AR42: 37649.3 | AS42: 51111.78 | AT42: 0 | AU42: 50612.64 | AV42: 73809.49 | AW42: 164405.84 | AX42: 60858.28 | AY42: 78717.18 | AZ42: 44085.68 | BA42: 154186.31 | BB42: 69659.83 | BC42: 26549.41 | BD42: 33405.48 | BE42: 0 | BF42: 146913.86 | BG42: 17506.92 | BH42: 7597.82 | BI42: -2360.79 | BJ42: 459.04 | BK42: 5810.02 | BL42: 14846.79 | BM42: 2107418.5 | BN42: 43923.68 | BO42: 167646.07 | BP42: 2076.83 | BQ42: 78635.48 | BR42: 325195.15 | BS42: 111925.41
B43: 35 | C43: 5175 | D43: 34 | E43: Maintenance of Meters | G43: =HLOOKUP($E$3,'2024 Historical'!$C$3:$BC$261,Q43,FALSE) -> 808.27 | H43: =HLOOKUP($E$3,$S$3:$BS$269,Q43,FALSE) -> 1622.68 | Q43: 41 | S43: 1190524.1 | T43: 642103.35 | U43: 49684.34 | V43: 101685 | W43: 180744.72 | X43: 538891.13 | Y43: 0 | Z43: 0 | AA43: 320871.5 | AB43: 580734.1 | AC43: 389451.75 | AD43: 0 | AE43: 113341.52 | AF43: 2532.6 | AG43: 529.58 | AH43: 100948.34 | AI43: 52102.84 | AJ43: 17542.87 | AK43: 0 | AL43: 0 | AM43: 7246.56 | AN43: 4487.5 | AO43: 1147.4 | AP43: 5196240.3 | AQ43: 1384423.6 | AR43: 18801.27 | AS43: 0 | AT43: 83616.42 | AU43: 15064.1 | AV43: 1622.68 | AW43: 138344.07 | AX43: 0 | AY43: 0 | AZ43: 66115.81 | BA43: 13655.14 | BB43: 2439.47 | BC43: 0 | BD43: 0 | BE43: 0 | BF43: 16572.02 | BG43: 41006.56 | BH43: 70.68 | BI43: 7953.72 | BJ43: 861.68 | BK43: 26583.23 | BL43: 581.95 | BM43: 95776.64 | BN43: 61619.12 | BO43: 144542.29 | BP43: 15208.01 | BQ43: 447644.08 | BR43: 0 | BS43: 789394.66
B44: 36 | E44: Subtotal: Maintenance | G44: =HLOOKUP($E$3,'2024 Historical'!$C$3:$BC$261,Q44,FALSE) -> 9080755.5 | H44: =HLOOKUP($E$3,$S$3:$BS$269,Q44,FALSE) -> 9841273 | Q44: 42 | S44: 30966642 | T44: 6668339.3 | U44: 142154.05 | V44: 1292473 | W44: 7483017 | X44: 2452663.3 | Y44: 505860.91 | Z44: 50627.66 | AA44: 1502914 | AB44: 7771862.7 | AC44: 3331975.1 | AD44: 3635326.5 | AE44: 1355913.7 | AF44: 749504.89 | AG44: 1399876.8 | AH44: 1936700.6 | AI44: 344113.54 | AJ44: 2283028.3 | AK44: 390174.06 | AL44: 585515.49 | AM44: 423445.11 | AN44: 25986.5 | AO44: 102207.24 | AP44: 2.1874635e+08 | AQ44: 16579526 | AR44: 1478465.6 | AS44: 1470439.2 | AT44: 356879.53 | AU44: 1931558.6 | AV44: 9841273 | AW44: 1693356 | AX44: 1412307.3 | AY44: 3365755.3 | AZ44: 656988.55 | BA44: 2557302 | BB44: 892764.82 | BC44: 2267903.7 | BD44: 356647.33 | BE44: 1322887 | BF44: 712695.05 | BG44: 2515787 | BH44: 207122.46 | BI44: 683529.17 | BJ44: 133519.92 | BK44: 7396736.5 | BL44: 214212.16 | BM44: 73741948 | BN44: 969648.15 | BO44: 2251835.9 | BP44: 354209.17 | BQ44: 1983333.6 | BR44: 6542406.8 | BS44: 7032659.5
B45: 37 | C45: 5305 | D45: 35 | E45: Supervision (Billing and Collection) | G45: =HLOOKUP($E$3,'2024 Historical'!$C$3:$BC$261,Q45,FALSE) -> 434071.37 | H45: =HLOOKUP($E$3,$S$3:$BS$269,Q45,FALSE) -> 392976.91 | Q45: 43 | S45: 1604434.1 | T45: 93282.16 | U45: 3569.28 | V45: 229718 | W45: 0 | X45: 157951.88 | Y45: 84145.58 | Z45: 0 | AA45: 69346.9 | AB45: 157229.28 | AC45: 357035.54 | AD45: 0 | AE45: 130871.86 | AF45: 125929.48 | AG45: 188960.15 | AH45: 109769.04 | AI45: 28604.66 | AJ45: 139051.16 | AK45: 88067.99 | AL45: 293721.7 | AM45: 0 | AN45: 0 | AO45: 0 | AP45: 327977.89 | AQ45: 0 | AR45: 179136.94 | AS45: 0 | AT45: 0 | AU45: 174862.54 | AV45: 392976.91 | AW45: 0 | AX45: 295486.13 | AY45: 1369396.6 | AZ45: 60655.55 | BA45: 0 | BB45: 154131.5 | BC45: 571234.68 | BD45: 147281.5 | BE45: 112587.05 | BF45: 67587.24 | BG45: 0 | BH45: 0 | BI45: 0 | BJ45: 0 | BK45: 0 | BL45: 79805.84 | BM45: 945741.94 | BN45: 0 | BO45: 0 | BP45: 66042.79 | BQ45: 0 | BR45: 24606.93 | BS45: 800822.03
B46: 38 | C46: 5310 | D46: 36 | E46: Meter Reading Expense | G46: =HLOOKUP($E$3,'2024 Historical'!$C$3:$BC$261,Q46,FALSE) -> 1737313.2 | H46: =HLOOKUP($E$3,$S$3:$BS$269,Q46,FALSE) -> 2015009.8 | Q46: 44 | S46: 427229.31 | T46: 171358.67 | U46: 32983.51 | V46: 316328 | W46: 338788.92 | X46: 75489.72 | Y46: 129706.31 | Z46: 0 | AA46: 44485.77 | AB46: 239347.82 | AC46: 0 | AD46: 962215.13 | AE46: 300186.59 | AF46: 156106.05 | AG46: 609.6 | AH46: 191333.27 | AI46: 11184.18 | AJ46: 0 | AK46: 70007.01 | AL46: 8387.5 | AM46: 24279.43 | AN46: 12 | AO46: 32903.54 | AP46: 7936915.4 | AQ46: 431504.37 | AR46: 21851.08 | AS46: 280398.7 | AT46: 229800.74 | AU46: 119913.99 | AV46: 2015009.8 | AW46: 372824.46 | AX46: 568233.23 | AY46: 823876.02 | AZ46: 127562.37 | BA46: 410291.92 | BB46: 210565.77 | BC46: 1477827.8 | BD46: 236669.12 | BE46: 712443.21 | BF46: 39991.58 | BG46: 279960.66 | BH46: 32503.76 | BI46: 21029.32 | BJ46: 13455.4 | BK46: 264183.95 | BL46: 70537.65 | BM46: 4710300.6 | BN46: 171279.57 | BO46: 0 | BP46: 71219.84 | BQ46: 166817.85 | BR46: 1225081.6 | BS46: 503463.05
B47: 39 | C47: 5315 | D47: 37 | E47: Customer Billing | G47: =HLOOKUP($E$3,'2024 Historical'!$C$3:$BC$261,Q47,FALSE) -> 1562976.7 | H47: =HLOOKUP($E$3,$S$3:$BS$269,Q47,FALSE) -> 1861731.8 | Q47: 45 | S47: 17589603 | T47: 201032.28 | U47: 150809.08 | V47: 1503463 | W47: 1335038.6 | X47: 383645.81 | Y47: 344631.35 | Z47: 278275.18 | AA47: 669921.15 | AB47: 6065173 | AC47: 1457155.9 | AD47: 2039354.1 | AE47: 534521.79 | AF47: 947861.94 | AG47: 1079686.1 | AH47: 721389.15 | AI47: 183962.4 | AJ47: 913068.57 | AK47: 567273.42 | AL47: 745095.57 | AM47: 349164.33 | AN47: 226853 | AO47: 320827.19 | AP47: 42081134 | AQ47: 8377954.3 | AR47: 607531.15 | AS47: 507888.16 | AT47: 222007.33 | AU47: 443839.4 | AV47: 1861731.8 | AW47: 910999.87 | AX47: 961703.12 | AY47: 3449916.1 | AZ47: 435002.97 | BA47: 719381.81 | BB47: 352040.78 | BC47: 1729864.2 | BD47: 490594.88 | BE47: 1561254.1 | BF47: 600631.67 | BG47: 491973.56 | BH47: 413000.04 | BI47: 467209.38 | BJ47: 195929.88 | BK47: 1752251.3 | BL47: 421485.12 | BM47: 27917664 | BN47: 604171.77 | BO47: 1196518.6 | BP47: 153782.07 | BQ47: 511410.38 | BR47: 2696342.3 | BS47: 2942562.7
B48: 40 | C48: 5320 | D48: 38 | E48: Collecting | G48: =HLOOKUP($E$3,'2024 Historical'!$C$3:$BC$261,Q48,FALSE) -> 753983.87 | H48: =HLOOKUP($E$3,$S$3:$BS$269,Q48,FALSE) -> 1193856.4 | Q48: 46 | S48: 7476618.7 | T48: 183659.86 | U48: 0 | V48: 377500 | W48: 268975.46 | X48: 374331.65 | Y48: 109588.38 | Z48: 0 | AA48: 76856.61 | AB48: 1412543.5 | AC48: 998445.24 | AD48: 14278.72 | AE48: 106948.8 | AF48: 480968.42 | AG48: 313643.99 | AH48: 109630.75 | AI48: 26851.01 | AJ48: 273302.53 | AK48: 29829.33 | AL48: 376630.35 | AM48: 52298.7 | AN48: 1052.52 | AO48: 167222.57 | AP48: 10510039 | AQ48: 1062022.6 | AR48: 157324.56 | AS48: 170584.97 | AT48: 50401.82 | AU48: 110829.92 | AV48: 1193856.4 | AW48: 701728.7 | AX48: 786445.78 | AY48: 463199.92 | AZ48: 89660.11 | BA48: 283013.05 | BB48: 86872.65 | BC48: 446911.79 | BD48: 257090.05 | BE48: 603874.87 | BF48: 218498.02 | BG48: 96912.13 | BH48: 63765.44 | BI48: 13856.28 | BJ48: 79026.6 | BK48: 471531.77 | BL48: 96185.52 | BM48: 5380767.2 | BN48: 375222.22 | BO48: 374511.97 | BP48: 133778.36 | BQ48: 141321.57 | BR48: 3371466 | BS48: 281010.41
...

Sheet Results
C2: Summary of Cost Benchmarking Results
C3: ='Model Inputs'!F5 -> London Hydro Inc.
F6: ='Benchmarking Calculations'!G5 -> 2024 | G6: ='Benchmarking Calculations'!H5 -> 2025 | H6: =G6+1 -> 2026 | I6: =H6+1 -> 2027 | J6: =I6+1 -> 2028 | K6: =J6+1 -> 2029 | L6: =K6+1 -> 2030 | M6: =L6+1 -> 2031 | N6: =M6+1 -> 2032
F7: (History) | G7: (History) | H7: (Bridge) | I7: (Test Year)
C8: Cost Benchmarking Summary
D10: Actual Total Cost | F10: ='Benchmarking Calculations'!G121 -> 1.2369124e+08 | G10: ='Benchmarking Calculations'!H121 -> 1.3232563e+08 | H10: ='Benchmarking Calculations'!I121 -> 1.4222897e+08 | I10: ='Benchmarking Calculations'!J121 -> 1.5242235e+08 | J10: ='Benchmarking Calculations'!K121 -> 1.5737249e+08 | K10: ='Benchmarking Calculations'!L121 -> 1.6220047e+08 | L10: ='Benchmarking Calculations'!M121 -> 1.6690931e+08 | M10: ='Benchmarking Calculations'!N121 -> 1.7150195e+08 | N10: ='Benchmarking Calculations'!O121 -> 1.7598126e+08
D12: Predicted Total Cost | F12: ='Benchmarking Calculations'!G257 -> 1.3400334e+08 | G12: ='Benchmarking Calculations'!H257 -> 1.3939455e+08 | H12: ='Benchmarking Calculations'!I257 -> 1.4696664e+08 | I12: ='Benchmarking Calculations'!J257 -> 1.5401849e+08 | J12: ='Benchmarking Calculations'!K257 -> 1.6052303e+08 | K12: ='Benchmarking Calculations'!L257 -> 1.6733683e+08 | L12: ='Benchmarking Calculations'!M257 -> 1.7443505e+08 | M12: ='Benchmarking Calculations'!N257 -> 1.81758e+08 | N12: ='Benchmarking Calculations'!O257 -> 1.8939874e+08
D14: Difference | F14: =F10-F12 -> -10312105 | G14: =G10-G12 -> -7068925.7 | H14: =H10-H12 -> -4737674.8 | I14: =I10-I12 -> -1596147.6 | J14: =IF(ISNUMBER(J12),J10-J12,"na") -> -3150539.7 | K14: =IF(ISNUMBER(K12),K10-K12,"na") -> -5136357.7 | L14: =IF(ISNUMBER(L12),L10-L12,"na") -> -7525734.9 | M14: =IF(ISNUMBER(M12),M10-M12,"na") -> -10256048 | N14: =IF(ISNUMBER(N12),N10-N12,"na") -> -13417482
D16: Percentage Difference (Cost Performance) | F16: =LN(F10/F12) -> -0.080076304 | G16: =LN(G10/G12) -> -0.052042664 | H16: =LN(H10/H12) -> -0.032767432 | I16: =LN(I10/I12) -> -0.010417424 | J16: =IF(ISNUMBER(J14),LN(J10/J12),"na") -> -0.019821877 | K16: =IF(ISNUMBER(K14),LN(K10/K12),"na") -> -0.031175674 | L16: =IF(ISNUMBER(L14),LN(L10/L12),"na") -> -0.044101825 | M16: =IF(ISNUMBER(M14),LN(M10/M12),"na") -> -0.058081483 | N16: =IF(ISNUMBER(N14),LN(N10/N12),"na") -> -0.073477028
D18: Three-Year Average Performance | H18: =AVERAGE(F16:H16) -> -0.054962133 | I18: =AVERAGE(G16:I16) -> -0.031742506 | J18: =AVERAGE(H16:J16) -> -0.021002244 | K18: =AVERAGE(I16:K16) -> -0.020471658 | L18: =AVERAGE(J16:L16) -> -0.031699792 | M18: =AVERAGE(K16:M16) -> -0.044452994 | N18: =AVERAGE(L16:N16) -> -0.058553445
D20: Stretch Factor Cohort
E22: Annual Result | F22: =IF(F16<-0.25,1,IF(F16<-0.1,2,IF(F16<0.1,3,IF(F16<0.25,4,5)))) -> 3 | G22: =IF(G16<-0.25,1,IF(G16<-0.1,2,IF(G16<0.1,3,IF(G16<0.25,4,5)))) -> 3 | H22: =IF(H16<-0.25,1,IF(H16<-0.1,2,IF(H16<0.1,3,IF(H16<0.25,4,5)))) -> 3 | I22: =IF($I$16<-0.25,1,IF($I$16<-0.1,2,IF($I$16<0.1,3,IF($I$16<0.25,4,5)))) -> 3 | J22: =IF(ISNUMBER(J16),IF(J16<-0.25,1,IF(J16<-0.1,2,IF(J16<0.1,3,IF(J16<0.25,4,5)))),"na") -> 3 | K22: =IF(ISNUMBER(K16),IF(K16<-0.25,1,IF(K16<-0.1,2,IF(K16<0.1,3,IF(K16<0.25,4,5)))),"na") -> 3 | L22: =IF(ISNUMBER(L16),IF(L16<-0.25,1,IF(L16<-0.1,2,IF(L16<0.1,3,IF(L16<0.25,4,5)))),"na") -> 3 | M22: =IF(ISNUMBER(M16),IF(M16<-0.25,1,IF(M16<-0.1,2,IF(M16<0.1,3,IF(M16<0.25,4,5)))),"na") -> 3 | N22: =IF(ISNUMBER(N16),IF(N16<-0.25,1,IF(N16<-0.1,2,IF(N16<0.1,3,IF(N16<0.25,4,5)))),"na") -> 3
E24: Three Year Average | H24: =IF(H$18<-0.25,1,IF(H$18<-0.1,2,IF(H$18<0.1,3,IF(H$18<0.25,4,5)))) -> 3 | I24: =IF(I$18<-0.25,1,IF(I$18<-0.1,2,IF(I$18<0.1,3,IF(I$18<0.25,4,5)))) -> 3 | J24: =IF(J$18<-0.25,1,IF(J$18<-0.1,2,IF(J$18<0.1,3,IF(J$18<0.25,4,5)))) -> 3 | K24: =IF(K$18<-0.25,1,IF(K$18<-0.1,2,IF(K$18<0.1,3,IF(K$18<0.25,4,5)))) -> 3 | L24: =IF(L$18<-0.25,1,IF(L$18<-0.1,2,IF(L$18<0.1,3,IF(L$18<0.25,4,5)))) -> 3 | M24: =IF(M$18<-0.25,1,IF(M$18<-0.1,2,IF(M$18<0.1,3,IF(M$18<0.25,4,5)))) -> 3 | N24: =IF(N$18<-0.25,1,IF(N$18<-0.1,2,IF(N$18<0.1,3,IF(N$18<0.25,4,5)))) -> 3

Sheet 2024 Historical
C3: Alectra Utilities Corporation | D3: Algoma Power Inc. | E3: Atikokan Hydro Inc. | F3: Bluewater Power Distribution Corporation | G3: Burlington Hydro Inc. | H3: Canadian Niagara Power Inc. | I3: Centre Wellington Hydro Ltd. | J3: Cooperative Hydro Embrun Inc. | K3: E.L.K. Energy Inc. | L3: Elexicon Energy Inc. | M3: Entegrus Powerlines Inc. | N3: ENWIN Utilities Ltd. | O3: EPCOR Electricity Distribution Ontario Inc. | P3: ERTH Power Corporation | Q3: Essex Powerlines Corporation | R3: Festival Hydro Inc. | S3: Fort Frances Power Corporation | T3: Greater Sudbury Hydro Inc. | U3: Grimsby Power Incorporated | V3: Halton Hills Hydro Inc. | W3: Hearst Power Distribution Company Limited | X3: Hydro 2000 Inc. | Y3: Hydro Hawkesbury Inc. | Z3: Hydro One Networks Inc. | AA3: Hydro Ottawa Limited | AB3: Innpower Corporation | AC3: Kingston Hydro Corporation | AD3: Lakefront Utilities Inc. | AE3: Lakeland Power Distribution Ltd. | AF3: London Hydro Inc. | AG3: Milton Hydro Distribution Inc. | AH3: Newmarket-Tay Power Distribution Ltd. | AI3: Niagara Peninsula Energy Inc. | AJ3: Niagara-on-the-Lake Hydro Inc. | AK3: North Bay Hydro Distribution Limited | AL3: Northern Ontario Wires Inc. | AM3: Oakville Hydro Electricity Distribution Inc. | AN3: Orangeville Hydro Limited | AO3: Oshawa PUC Networks Inc. | AP3: Ottawa River Power Corporation | AQ3: PUC Distribution Inc. | AR3: Renfrew Hydro Inc. | AS3: Rideau St. Lawrence Distribution Inc. | AT3: Sioux Lookout Hydro Inc. | AU3: Synergy North Corporation | AV3: Tillsonburg Hydro Inc. | AW3: Toronto Hydro-Electric System Limited | AX3: Wasaga Distribution Inc. | AY3: Welland Hydro-Electric System Corp. | AZ3: Wellington North Power Inc. | BA3: Westario Power Inc. | BB3: Enova Power Corp. | BC3: GrandBridge Energy Inc.
C5: 2024 | D5: 2024 | E5: 2024 | F5: 2024 | G5: 2024 | H5: 2024 | I5: 2024 | J5: 2024 | K5: 2024 | L5: 2024 | M5: 2024 | N5: 2024 | O5: 2024 | P5: 2024 | Q5: 2024 | R5: 2024 | S5: 2024 | T5: 2024 | U5: 2024 | V5: 2024 | W5: 2024 | X5: 2024 | Y5: 2024 | Z5: 2024 | AA5: 2024 | AB5: 2024 | AC5: 2024 | AD5: 2024 | AE5: 2024 | AF5: 2024 | AG5: 2024 | AH5: 2024 | AI5: 2024 | AJ5: 2024 | AK5: 2024 | AL5: 2024 | AM5: 2024 | AN5: 2024 | AO5: 2024 | AP5: 2024 | AQ5: 2024 | AR5: 2024 | AS5: 2024 | AT5: 2024 | AU5: 2024 | AV5: 2024 | AW5: 2024 | AX5: 2024 | AY5: 2024 | AZ5: 2024 | BA5: 2024 | BB5: 2024 | BC5: 2024
A9: OM&A Data (Detail may be hidden or expanded using the +/- buttons to the left of the row numbers)
A10: 5005 | B10: Operation Supervision and Engineering | C10: 9022995.7 | D10: 112690.9 | E10: 40670.42 | F10: 637119 | G10: 0 | H10: 123734.35 | I10: 93906.89 | J10: 0 | K10: 123114.7 | L10: 3256907.8 | M10: 878479.88 | N10: 2738440.6 | O10: 357799.94 | P10: 406025.75 | Q10: 56432.9 | R10: 125511.8 | S10: 170666.22 | T10: 1597801 | U10: 167296.43 | V10: 451575.04 | W10: 0 | X10: 0 | Y10: 0 | Z10: 5242061 | AA10: 8811174.2 | AB10: 384622.23 | AC10: 294655.12 | AD10: 31464.97 | AE10: 0 | AF10: 2170961.1 | AG10: 0 | AH10: 856378.03 | AI10: 869865.82 | AJ10: 57765.73 | AK10: 401555 | AL10: 203021.55 | AM10: 3531413.2 | AN10: 655403.01 | AO10: 230378.54 | AP10: 122981.33 | AQ10: 550871.91 | AR10: 56430.07 | AS10: 241311.49 | AT10: 0 | AU10: 378446.19 | AV10: 124466.44 | AW10: 21821156 | AX10: 0 | AY10: 321730.15 | AZ10: 120863.71 | BA10: 0 | BB10: 1436816.8 | BC10: 1847199
A11: 5010 | B11: Load Dispatching | C11: 13478739 | D11: 125684.14 | E11: 0 | F11: 235914 | G11: 1618163 | H11: 294919.48 | I11: 20188.62 | J11: 0 | K11: 813.74 | L11: 1894430.3 | M11: 136509.33 | N11: 781487.76 | O11: 79491.69 | P11: 11626.54 | Q11: 202102.91 | R11: 108399.33 | S11: 0 | T11: 809098.58 | U11: 112616.89 | V11: 0 | W11: 0 | X11: 13230 | Y11: 0 | Z11: 1628247.1 | AA11: 3177132.4 | AB11: 76436.39 | AC11: 762569.55 | AD11: 0 | AE11: 40515.85 | AF11: 3626183.6 | AG11: 614389.76 | AH11: 17675.67 | AI11: 12689.79 | AJ11: 77385.45 | AK11: 240318 | AL11: 0 | AM11: 1663012.3 | AN11: 0 | AO11: 175852.19 | AP11: 21753.02 | AQ11: 505250.43 | AR11: 0 | AS11: 0 | AT11: 0 | AU11: 1067723.5 | AV11: 0 | AW11: 5349271.2 | AX11: 2971.8 | AY11: 264508.22 | AZ11: 0 | BA11: 0 | BB11: 2367921.2 | BC11: 1401986.5
A12: 5012 | B12: Station Buildings and Fixtures | C12: 0 | D12: 127084.42 | E12: 0 | F12: 12355 | G12: 132540.19 | H12: 229950.89 | I12: 67771.02 | J12: 0 | K12: 0 | L12: 284455.25 | M12: 0 | N12: 0 | O12: 37722.72 | P12: 0 | Q12: 0 | R12: 37335.69 | S12: 29484.34 | T12: 148047.87 | U12: 27303.12 | V12: 62276.61 | W12: 0 | X12: 0 | Y12: 0 | Z12: 1775210.3 | AA12: 4857803.8 | AB12: 82204.86 | AC12: 72117.12 | AD12: 0 | AE12: 0 | AF12: 703468.89 | AG12: 0 | AH12: 62522.2 | AI12: 65014.99 | AJ12: 0 | AK12: 74353 | AL12: 10134.96 | AM12: 389647.55 | AN12: 0 | AO12: 274828.62 | AP12: 93880.1 | AQ12: 590801.01 | AR12: 423.88 | AS12: 3735.43 | AT12: 0 | AU12: 155894.37 | AV12: 0 | AW12: 179547.19 | AX12: 0 | AY12: 13971.27 | AZ12: 24636.25 | BA12: 0 | BB12: 93245.37 | BC12: 6212.73
A13: 5014 | B13: Transformer Station Equipment - Operation Labor | C13: 0 | D13: 0 | E13: 0 | F13: 0 | G13: 0 | H13: 0 | I13: 0 | J13: 0 | K13: 0 | L13: 112926.55 | M13: 0 | N13: 289867.55 | O13: 0 | P13: 0 | Q13: 0 | R13: 171657.47 | S13: 62210 | T13: 0 | U13: 14700.82 | V13: 31334.54 | W13: 0 | X13: 0 | Y13: 60061.73 | Z13: 501044.47 | AA13: 899315.39 | AB13: 0 | AC13: 0 | AD13: 0 | AE13: 0 | AF13: 0 | AG13: 0 | AH13: 0 | AI13: 7891.25 | AJ13: 5149.31 | AK13: 0 | AL13: 0 | AM13: 351641.75 | AN13: 0 | AO13: 0 | AP13: 0 | AQ13: 24410.58 | AR13: 0 | AS13: 0 | AT13: 0 | AU13: 0 | AV13: 0 | AW13: 38595.11 | AX13: 0 | AY13: 0 | AZ13: 0 | BA13: 0 | BB13: 276507.22 | BC13: 0
A14: 5015 | B14: Transformer Station Equipment - Operation Supplies and Expenses | C14: 0 | D14: 0 | E14: 0 | F14: 0 | G14: 0 | H14: 0 | I14: 0 | J14: 0 | K14: 0 | L14: 172940.51 | M14: 0 | N14: 22568.3 | O14: 0 | P14: 0 | Q14: 0 | R14: 68304.12 | S14: 43615.6 | T14: 0 | U14: 87256.76 | V14: 24609.71 | W14: 0 | X14: 0 | Y14: 12771.07 | Z14: 133402.81 | AA14: 1124406.1 | AB14: 0 | AC14: 0 | AD14: 0 | AE14: 0 | AF14: 0 | AG14: 0 | AH14: 0 | AI14: 135138.32 | AJ14: 1070.78 | AK14: 0 | AL14: 0 | AM14: 32691.41 | AN14: 0 | AO14: 0 | AP14: 0 | AQ14: 13955.36 | AR14: 0 | AS14: 0 | AT14: 0 | AU14: 30331.52 | AV14: 0 | AW14: 8422.36 | AX14: 0 | AY14: 0 | AZ14: 0 | BA14: 0 | BB14: 795346.14 | BC14: 277393.06
A15: 5016 | B15: Distribution Station Equipment - Operation Labor | C15: 2030404.7 | D15: 31376.67 | E15: 27391.75 | F15: 0 | G15: 419629.39 | H15: 19243.72 | I15: 0 | J15: 0 | K15: 0 | L15: 170924.41 | M15: 106449.99 | N15: 0 | O15: 3405 | P15: 11759.94 | Q15: 0 | R15: 0 | S15: 0 | T15: 491933.94 | U15: 0 | V15: 260980.9 | W15: 0 | X15: 0 | Y15: 55834.21 | Z15: 4474817.9 | AA15: 1187537.2 | AB15: 6227.93 | AC15: 103704.15 | AD15: 71146.03 | AE15: 10156.88 | AF15: 181470.22 | AG15: 16158 | AH15: 20338.61 | AI15: 0 | AJ15: 0 | AK15: 283 | AL15: 12523.23 | AM15: 40067.41 | AN15: 6182.59 | AO15: 103452.82 | AP15: 16364.81 | AQ15: 181742.84 | AR15: 4766.05 | AS15: 2269.99 | AT15: 0 | AU15: 0 | AV15: 0 | AW15: 4289161.4 | AX15: 27798.82 | AY15: 0 | AZ15: 7787.65 | BA15: 0 | BB15: 61415.3 | BC15: 0
A16: 5017 | B16: Distribution Station Equipment - Operation Supplies and Expenses | C16: 1540899.1 | D16: 44245.49 | E16: 2906 | F16: 50196 | G16: 548598.95 | H16: 29041.43 | I16: 40898.58 | J16: 1131.47 | K16: 0 | L16: 58387.14 | M16: 121558.45 | N16: 0 | O16: 1680 | P16: 2144 | Q16: 0 | R16: 0 | S16: 0 | T16: 261620.96 | U16: 3437.88 | V16: 29786.86 | W16: 0 | X16: 0 | Y16: 1991.45 | Z16: 1265569.4 | AA16: 206168.42 | AB16: 41100 | AC16: 8586.48 | AD16: 237.5 | AE16: 0 | AF16: 109305.86 | AG16: 13044.15 | AH16: 36358.41 | AI16: 0 | AJ16: 0 | AK16: 29 | AL16: 11000.04 | AM16: 2049.35 | AN16: 40700.5 | AO16: 0 | AP16: 762.5 | AQ16: 82725.15 | AR16: 39278.59 | AS16: 0 | AT16: 0 | AU16: 191196.62 | AV16: 19169.3 | AW16: 2437799.7 | AX16: 14529.72 | AY16: 73328.14 | AZ16: 21874.1 | BA16: 0 | BB16: 17530.01 | BC16: 0
A17: 5020 | B17: Overhead Distribution Lines and Feeders - Operation Labor | C17: 15370068 | D17: 31302.67 | E17: 263235.12 | F17: 26861 | G17: 251058.27 | H17: 109662.87 | I17: 3006.54 | J17: 0 | K17: 11834.35 | L17: 1452299.1 | M17: 149735.13 | N17: 2321845.2 | O17: 81463.92 | P17: 24935.09 | Q17: 146073.45 | R17: 12697.71 | S17: 36745.49 | T17: 219520.06 | U17: 83925.82 | V17: 591077.29 | W17: 3336.94 | X17: 0 | Y17: 0 | Z17: 9029137.6 | AA17: 166156.88 | AB17: 25951.23 | AC17: 125935.97 | AD17: 165522.5 | AE17: 51862.42 | AF17: 162245.35 | AG17: 22205.29 | AH17: 14157.54 | AI17: 75869.75 | AJ17: 109199.43 | AK17: 23636 | AL17: 201693.74 | AM17: 253769 | AN17: 14259.18 | AO17: 590871.35 | AP17: 40276.97 | AQ17: 474871.38 | AR17: 34197.42 | AS17: 1770.6 | AT17: 378596.53 | AU17: 211310.87 | AV17: 433.33 | AW17: 488795.24 | AX17: 0 | AY17: 71835.93 | AZ17: 22066.65 | BA17: 0 | BB17: 1594956.1 | BC17: 303570.31
