Workbook

Sheet Results Summary
B1: Summary
B2: 2027 | C2: kWh | D2: kW | E2: Customers / Connections
B3: =B39 -> Residential | C3: =M17 -> 1.2468068e+09 | E3: =M39 -> 156277.41
B4: =B40 -> GS < 50 | C4: =M18 -> 4.1959005e+08 | E4: =M40 -> 13763.954
B5: =B41 -> GS > 50 | C5: =M19 -> 1.4457643e+09 | D5: =M29 -> 3658332.2 | E5: =M41 -> 1518.8343
B6: =B42 -> GS Co Gen | C6: =M20 -> 37958687 | D6: =M30 -> 67531.955 | E6: =M42 -> 7
B7: =B43 -> Large Use | C7: =M21 -> 1.6151499e+08 | D7: =M31 -> 308313.01 | E7: =M43 -> 2
B8: =B44 -> Street Light | C8: =M22 -> 17892936 | D8: =M32 -> 50166.768 | E8: =M44 -> 41542.967
B9: =B45 -> Sentinel Light | C9: =M23 -> 492053.31 | D9: =M33 -> 1333.9779 | E9: =M45 -> 466.20579
B10: =B46 -> USL | C10: =M24 -> 5443581.1 | E10: =M46 -> 1585.3161
B11: =B34 -> Standby | D11: =M34 -> 196800
B12: Total | C12: =SUM(C3:C11) -> 3.3354634e+09 | D12: =SUM(D3:D11) -> 4282477.9 | E12: =SUM(E3:E11) -> 215163.69
B15: kWh
B16: kWh | C16: ='Summary Tables'!AG2 -> 2017 Actual | D16: ='Summary Tables'!AH2 -> 2018 Actual | E16: ='Summary Tables'!AI2 -> 2019 Actual | F16: ='Summary Tables'!AJ2 -> 2020 Actual | G16: ='Summary Tables'!AK2 -> 2021 Actual | H16: ='Summary Tables'!AL2 -> 2022 Actual | I16: ='Summary Tables'!AM2 -> 2023 Actual | J16: ='Summary Tables'!AN2 -> 2024 Actual | ... M16: ='Summary Tables'!AQ2 -> 2027 Forecast
B17: Residential | C17: ='Summary Tables'!AG3 -> 1047993667 | D17: ='Summary Tables'!AH3 -> 1139376021 | E17: ='Summary Tables'!AI3 -> 1.1014339e+09 | F17: ='Summary Tables'!AJ3 -> 1.1743764e+09 | G17: ='Summary Tables'!AK3 -> 1.183156e+09 | H17: ='Summary Tables'!AL3 -> 1.1802102e+09 | I17: ='Summary Tables'!AM3 -> 1.1279505e+09 | J17: ='Summary Tables'!AN3 -> 1.1817061e+09 | ... M17: ='Summary Tables'!AQ3 -> 1.2468068e+09
B18: GS < 50 | C18: ='Summary Tables'!AG4 -> 385223199 | D18: ='Summary Tables'!AH4 -> 398801024 | E18: ='Summary Tables'!AI4 -> 3.942377e+08 | F18: ='Summary Tables'!AJ4 -> 3.7450601e+08 | G18: ='Summary Tables'!AK4 -> 3.8147891e+08 | H18: ='Summary Tables'!AL4 -> 4.0490435e+08 | I18: ='Summary Tables'!AM4 -> 3.9991844e+08 | J18: ='Summary Tables'!AN4 -> 4.0423397e+08 | ... M18: ='Summary Tables'!AQ4 -> 4.1959005e+08
B19: GS > 50 | C19: ='Summary Tables'!AG5 -> 1458855316 | D19: ='Summary Tables'!AH5 -> 1485117370 | E19: ='Summary Tables'!AI5 -> 1.4083412e+09 | F19: ='Summary Tables'!AJ5 -> 1.3656784e+09 | G19: ='Summary Tables'!AK5 -> 1.3853801e+09 | H19: ='Summary Tables'!AL5 -> 1.4247085e+09 | I19: ='Summary Tables'!AM5 -> 1.4003932e+09 | J19: ='Summary Tables'!AN5 -> 1.4462632e+09 | ... M19: ='Summary Tables'!AQ5 -> 1.4457643e+09
B20: GS Co Gen | C20: ='Summary Tables'!AG6 -> 46826076 | D20: ='Summary Tables'!AH6 -> 47167618 | E20: ='Summary Tables'!AI6 -> 34966868 | F20: ='Summary Tables'!AJ6 -> 36542442 | G20: ='Summary Tables'!AK6 -> 28072542 | H20: ='Summary Tables'!AL6 -> 43045721 | I20: ='Summary Tables'!AM6 -> 51773686 | J20: ='Summary Tables'!AN6 -> 34855427 | ... M20: ='Summary Tables'!AQ6 -> 37958687
B21: Large Use | C21: ='Summary Tables'!AG7 -> 117991437 | D21: ='Summary Tables'!AH7 -> 117777486 | E21: ='Summary Tables'!AI7 -> 1.1058977e+08 | F21: ='Summary Tables'!AJ7 -> 1.0189389e+08 | G21: ='Summary Tables'!AK7 -> 1.0565451e+08 | H21: ='Summary Tables'!AL7 -> 1.1246499e+08 | I21: ='Summary Tables'!AM7 -> 1.5316075e+08 | J21: ='Summary Tables'!AN7 -> 1.6273402e+08 | ... M21: ='Summary Tables'!AQ7 -> 1.6151499e+08
B22: Street Light | C22: ='Summary Tables'!AG8 -> 19787896 | D22: ='Summary Tables'!AH8 -> 17086179 | E22: ='Summary Tables'!AI8 -> 16623912 | F22: ='Summary Tables'!AJ8 -> 16908317 | G22: ='Summary Tables'!AK8 -> 16882809 | H22: ='Summary Tables'!AL8 -> 17000378 | I22: ='Summary Tables'!AM8 -> 17184524 | J22: ='Summary Tables'!AN8 -> 17401184 | ... M22: ='Summary Tables'!AQ8 -> 17892936
B23: Sentinel Light | C23: ='Summary Tables'!AG9 -> 580140.85 | D23: ='Summary Tables'!AH9 -> 548884.51 | E23: ='Summary Tables'!AI9 -> 541071.94 | F23: ='Summary Tables'!AJ9 -> 535957.61 | G23: ='Summary Tables'!AK9 -> 528905.93 | H23: ='Summary Tables'!AL9 -> 527895.43 | I23: ='Summary Tables'!AM9 -> 522310.95 | J23: ='Summary Tables'!AN9 -> 512976.03 | ... M23: ='Summary Tables'!AQ9 -> 492053.31
B24: USL | C24: ='Summary Tables'!AG10 -> 5547493.9 | D24: ='Summary Tables'!AH10 -> 5495625.3 | E24: ='Summary Tables'!AI10 -> 5503096.2 | F24: ='Summary Tables'!AJ10 -> 5418852.6 | G24: ='Summary Tables'!AK10 -> 5433333.8 | H24: ='Summary Tables'!AL10 -> 5441494.1 | I24: ='Summary Tables'!AM10 -> 5450500.6 | J24: ='Summary Tables'!AN10 -> 5428926.7 | ... M24: ='Summary Tables'!AQ10 -> 5443581.1
B25: Total | C25: =SUM(C17:C24) -> 3.0828052e+09 | D25: =SUM(D17:D24) -> 3.2113702e+09 | E25: =SUM(E17:E24) -> 3.0722375e+09 | F25: =SUM(F17:F24) -> 3.0758603e+09 | G25: =SUM(G17:G24) -> 3.1065871e+09 | H25: =SUM(H17:H24) -> 3.1883035e+09 | I25: =SUM(I17:I24) -> 3.1563539e+09 | J25: =SUM(J17:J24) -> 3.2531358e+09 | ... M25: =SUM(M17:M24) -> 3.3354634e+09
B27: Billed kW
B28: kW | C28: ='Summary Tables'!AG26 -> 2017 Actual | D28: ='Summary Tables'!AH26 -> 2018 Actual | E28: ='Summary Tables'!AI26 -> 2019 Actual | F28: ='Summary Tables'!AJ26 -> 2020 Actual | G28: ='Summary Tables'!AK26 -> 2021 Actual | H28: ='Summary Tables'!AL26 -> 2022 Actual | I28: ='Summary Tables'!AM26 -> 2023 Actual | J28: ='Summary Tables'!AN26 -> 2024 Actual | ... M28: ='Summary Tables'!AQ26 -> 2027 Forecast
B29: =B19 -> GS > 50 | C29: ='Summary Tables'!AG27 -> 3708563.1 | D29: ='Summary Tables'!AH27 -> 3744566.1 | E29: ='Summary Tables'!AI27 -> 3636724.4 | F29: ='Summary Tables'!AJ27 -> 3426345.1 | G29: ='Summary Tables'!AK27 -> 3496519.7 | H29: ='Summary Tables'!AL27 -> 3574256.7 | I29: ='Summary Tables'!AM27 -> 3541020.3 | J29: ='Summary Tables'!AN27 -> 3656086 | ... M29: ='Summary Tables'!AQ27 -> 3658332.2
B30: =B20 -> GS Co Gen | C30: ='Summary Tables'!AG28 -> 74118.64 | D30: ='Summary Tables'!AH28 -> 88637.54 | E30: ='Summary Tables'!AI28 -> 55790.88 | F30: ='Summary Tables'!AJ28 -> 60972.48 | G30: ='Summary Tables'!AK28 -> 50765.99 | H30: ='Summary Tables'!AL28 -> 72458.68 | I30: ='Summary Tables'!AM28 -> 81016.88 | J30: ='Summary Tables'!AN28 -> 69036 | ... M30: ='Summary Tables'!AQ28 -> 67531.955
B31: =B21 -> Large Use | C31: ='Summary Tables'!AG29 -> 227423.46 | D31: ='Summary Tables'!AH29 -> 221470.55 | E31: ='Summary Tables'!AI29 -> 216188.64 | F31: ='Summary Tables'!AJ29 -> 189813.83 | G31: ='Summary Tables'!AK29 -> 194965.44 | H31: ='Summary Tables'!AL29 -> 213689.69 | I31: ='Summary Tables'!AM29 -> 298641.74 | J31: ='Summary Tables'!AN29 -> 311835.54 | ... M31: ='Summary Tables'!AQ29 -> 308313.01
B32: =B22 -> Street Light | C32: ='Summary Tables'!AG30 -> 55752.55 | D32: ='Summary Tables'!AH30 -> 47864.48 | E32: ='Summary Tables'!AI30 -> 46618.69 | F32: ='Summary Tables'!AJ30 -> 47272.4 | G32: ='Summary Tables'!AK30 -> 47347.97 | H32: ='Summary Tables'!AL30 -> 47685.23 | I32: ='Summary Tables'!AM30 -> 48191.71 | J32: ='Summary Tables'!AN30 -> 48655.01 | ... M32: ='Summary Tables'!AQ30 -> 50166.768
B33: =B23 -> Sentinel Light | C33: ='Summary Tables'!AG31 -> 1579.19 | D33: ='Summary Tables'!AH31 -> 1489.93 | E33: ='Summary Tables'!AI31 -> 1467.4 | F33: ='Summary Tables'!AJ31 -> 1446 | G33: ='Summary Tables'!AK31 -> 1433.29 | H33: ='Summary Tables'!AL31 -> 1427.47 | I33: ='Summary Tables'!AM31 -> 1416.03 | J33: ='Summary Tables'!AN31 -> 1394.79 | ... M33: ='Summary Tables'!AQ31 -> 1333.9779
B34: Standby | C34: ='Summary Tables'!AG32 -> 157800 | D34: ='Summary Tables'!AH32 -> 172800 | E34: ='Summary Tables'!AI32 -> 172800 | F34: ='Summary Tables'!AJ32 -> 182800 | G34: ='Summary Tables'!AK32 -> 194300 | H34: ='Summary Tables'!AL32 -> 196800 | I34: ='Summary Tables'!AM32 -> 196800 | J34: ='Summary Tables'!AN32 -> 196800 | ... M34: ='Summary Tables'!AQ32 -> 196800
B35: Total | C35: =SUM(C29:C34) -> 4225236.9 | D35: =SUM(D29:D34) -> 4276828.6 | E35: =SUM(E29:E34) -> 4129590 | F35: =SUM(F29:F34) -> 3908649.8 | G35: =SUM(G29:G34) -> 3985332.4 | H35: =SUM(H29:H34) -> 4106317.8 | I35: =SUM(I29:I34) -> 4167086.7 | J35: =SUM(J29:J34) -> 4283807.3 | ... M35: =SUM(M29:M34) -> 4282477.9
B37: Customers / Devices
B38: Customers | C38: 2017 Actual | D38: 2018 Actual | E38: 2019 Actual | F38: 2020 Actual | G38: 2021 Actual | H38: 2022 Actual | I38: 2023 Actual | J38: 2024 Actual | K38: 2025 Actual | L38: 2026 Forecast | M38: 2027 Forecast
B39: =B17 -> Residential | C39: ='Summary Tables'!C47 -> 142206.67 | D39: ='Summary Tables'!D47 -> 143926.92 | E39: ='Summary Tables'!E47 -> 145514.42 | F39: ='Summary Tables'!F47 -> 146977.5 | G39: ='Summary Tables'!G47 -> 148595.83 | H39: ='Summary Tables'!H47 -> 150464.33 | I39: ='Summary Tables'!I47 -> 151858.5 | J39: ='Summary Tables'!J47 -> 152856.17 | ... M39: ='Summary Tables'!M47 -> 156277.41
B40: =B18 -> GS < 50 | C40: ='Summary Tables'!C48 -> 12575.25 | D40: ='Summary Tables'!D48 -> 12635.833 | E40: ='Summary Tables'!E48 -> 12771.833 | F40: ='Summary Tables'!F48 -> 12891.583 | G40: ='Summary Tables'!G48 -> 12991.75 | H40: ='Summary Tables'!H48 -> 13153.667 | I40: ='Summary Tables'!I48 -> 13233 | J40: ='Summary Tables'!J48 -> 13363.583 | ... M40: ='Summary Tables'!M48 -> 13763.954
B41: =B19 -> GS > 50 | C41: ='Summary Tables'!C49 -> 1604.5833 | D41: ='Summary Tables'!D49 -> 1622 | E41: ='Summary Tables'!E49 -> 1578.75 | F41: ='Summary Tables'!F49 -> 1540.9167 | G41: ='Summary Tables'!G49 -> 1521.8333 | H41: ='Summary Tables'!H49 -> 1467.6667 | I41: ='Summary Tables'!I49 -> 1464.0833 | J41: ='Summary Tables'!J49 -> 1496.75 | ... M41: ='Summary Tables'!M49 -> 1518.8343
B42: =B20 -> GS Co Gen | C42: ='Summary Tables'!C50 -> 4 | D42: ='Summary Tables'!D50 -> 5 | E42: ='Summary Tables'!E50 -> 5 | F42: ='Summary Tables'!F50 -> 5.1666667 | G42: ='Summary Tables'!G50 -> 7 | H42: ='Summary Tables'!H50 -> 7.25 | I42: ='Summary Tables'!I50 -> 7 | J42: ='Summary Tables'!J50 -> 7 | ... M42: ='Summary Tables'!M50 -> 7
B43: =B21 -> Large Use | C43: ='Summary Tables'!C51 -> 1 | D43: ='Summary Tables'!D51 -> 1 | E43: ='Summary Tables'!E51 -> 1 | F43: ='Summary Tables'!F51 -> 1 | G43: ='Summary Tables'!G51 -> 1 | H43: ='Summary Tables'!H51 -> 1.25 | I43: ='Summary Tables'!I51 -> 2 | J43: ='Summary Tables'!J51 -> 2 | ... M43: ='Summary Tables'!M51 -> 2
B44: =B22 -> Street Light | C44: ='Summary Tables'!C52 -> 36184.083 | D44: ='Summary Tables'!D52 -> 36831.417 | E44: ='Summary Tables'!E52 -> 37110.833 | F44: ='Summary Tables'!F52 -> 37806.583 | G44: ='Summary Tables'!G52 -> 38502.417 | H44: ='Summary Tables'!H52 -> 39231.917 | I44: ='Summary Tables'!I52 -> 39733.333 | J44: ='Summary Tables'!J52 -> 40243.833 | ... M44: ='Summary Tables'!M52 -> 41542.967
...

Sheet Monthly Data
A1: Date | B1: Year | C1: Month | D1: Residential_kWh | E1: Res_CDM | F1: Res_NoCDM | G1: Residential_Customers | H1: GS_lt_50_kWh | I1: GS_lt_50_CDM | J1: GS_lt_50_NoCDM | K1: GS_lt_50_Customers | L1: GS_gt_50_kWh | M1: GS_gt_50_CDM | N1: GS_gt_50_NoCDM | O1: GS_gt_50_kW | P1: GS_gt_50_Customers | Q1: GS_gt_50_CoGen_kWh | R1: GS_gt_50_CoGen_CDM | S1: GS_gt_50_CoGen_NoCDM | T1: GS_gt_50_CoGen_kW | U1: GS_gt_50_CoGen_Customers | V1: Large_Use_kWh | W1: Large_Use_CDM | X1: Large_Use_NoCDM | Y1: Large_Use_kW | Z1: Large_Use_Customers | AA1: Streetlights_kWh | AB1: Streetlights_kW | AC1: Streetlights_Connections | AD1: USL_kWh | AE1: USL Connections | AF1: Sentinel_kWh | AG1: Sentinel_kW | AH1: Sentinel_Connections | AI1: Standby kW | AJ1: ON_GDP | AK1: ON_Manufacturing_GDP | AL1: ON_Info_Ind_GDP | AM1: ON_Fin_and_Insurance_GDP | AN1: ON_Prof_Services_GDP | AO1: OEA_GDP | AP1: OEA_Manufacturing | AQ1: OEA_Manufacturing_Food | AR1: OEA_Info | AS1: OEA_Finance_and_Insurance | AT1: Ont_FTEAdj | AU1: Ont_FTE | AV1: London_FTEAdj | AW1: London_FTE | AX1: =Economic!W2&Economic!W3 -> OEA_GDPChange | AY1: Ont_FTEAdjChange | AZ1: Ont_FTEChange | BA1: London_FTEAdjChange | BB1: London_FTEChange | BC1: MeanTemp | BD1: HDD20 | BE1: CDD20 | BF1: HDD18 | BG1: CDD18 | BH1: HDD16 | BI1: CDD16 | BJ1: HDD14 | BK1: CDD14 | BL1: HDD12 | BM1: CDD12 | BN1: HDD10 | BO1: CDD10 | BP1: HDD8 | BQ1: CDD8 | BR1: Jan | BS1: Feb | BT1: Mar | BU1: Apr | BV1: May | BW1: Jun | BX1: Jul | BY1: Aug | BZ1: Sept | CA1: Oct | CB1: Nov | CC1: Dec | CD1: Spring | CE1: Spring2 | CF1: Fall | CG1: Fall2 | CH1: Shoulder | CI1: Shoulder2 | CJ1: Shoulder3 | CK1: Summer | CL1: Summer2 | CM1: Trend | CN1: Trend2021 | CO1: Trend2022 | CP1: Trend2023 | CQ1: Trend2024 | CR1: Trend2025 | CS1: Month Days | CT1: Peak Days | CU1: COVID | CV1: COVID_AM | CW1: COVID_AM2 | CX1: COVID_WFH | CY1: COVID2020 | CZ1: CovHDD20 | DA1: CovCDD20 | DB1: CovHDD18 | DC1: CovCDD18 | DD1: CovHDD16 | DE1: CovCDD16 | DF1: CovHDD14 | DG1: CovCDD14 | DH1: CovHDD12 | DI1: CovCDD12 | DJ1: CovHDD10 | DK1: CovCDD10 | DL1: CovHDD8 | DM1: CovCDD8 | DN1: CWFHHDD20 | DO1: CWFHCDD20 | DP1: CWFHHDD18 | DQ1: CWFHCDD18 | DR1: CWFHHDD16 | DS1: CWFHCDD16 | DT1: CWFHHDD14 | DU1: CWFHCDD14 | DV1: CWFHHDD12 | DW1: CWFHCDD12 | DX1: CWFHHDD10 | DY1: CWFHCDD10 | DZ1: CWFHHDD8 | EA1: CWFHCDD8 | EB1: AvgRes | EC1: AvgResD | ED1: ResD | EE1: AvgGSlt50 | EF1: AvgGSlt50D | EG1: GSlt50D | EH1: AvgGSgt50 | EI1: AvgGSgt50MD | EJ1: AvgGSgt50PD | EK1: GSgt50MD | EL1: GSgt50PD
A2: 42736 | B2: =YEAR(A2) -> 2017 | C2: =MONTH(A2) -> 1 | D2: 95873581 | E2: =IFERROR(VLOOKUP($B2-1,CDM!$L$7:$T$18,2,FALSE)/12,0)+IFERROR(VLOOKUP($B2,CDM!$L$37:$O$47,2,FALSE)/24,0)+IFERROR(VLOOKUP($B2,CDM!$L$37:$O$47,2,FALSE)/2*$C2/78,0) -> 654530.99 | F2: =D2+E2 -> 96528112 | G2: 141495 | H2: 34553601 | I2: =IFERROR(VLOOKUP($B2-1,CDM!$L$7:$T$18,3,FALSE)/12,0)+IFERROR(VLOOKUP($B2,CDM!$L$37:$O$47,3,FALSE)/24,0)+IFERROR(VLOOKUP($B2,CDM!$L$37:$O$47,3,FALSE)/2*$C2/78,0) -> 129448 | J2: =H2+I2 -> 34683049 | K2: 12593 | L2: 114991755 | M2: =IFERROR(VLOOKUP($B2-1,CDM!$L$7:$T$18,4,FALSE)/12,0)+IFERROR(VLOOKUP($B2,CDM!$L$37:$O$47,4,FALSE)/24,0)+IFERROR(VLOOKUP($B2,CDM!$L$37:$O$47,4,FALSE)/2*$C2/78,0) -> 958978.09 | N2: =L2+M2 -> 1.1595073e+08 | O2: 291162.15 | P2: 1594 | Q2: 1948930 | R2: =IFERROR(VLOOKUP($B2-1,CDM!$L$7:$T$18,5,FALSE)/12,0)+IFERROR(VLOOKUP($B2,CDM!$L$37:$T$47,5,FALSE)/24,0)+IFERROR(VLOOKUP($B2,CDM!$L$37:$T$47,5,FALSE)/2*$C2/78,0) -> 26299.71 | S2: =R2+Q2 -> 1975229.7 | T2: 3859 | U2: 4 | V2: 8997855 | W2: =IFERROR(VLOOKUP($B2-1,CDM!$L$7:$T$18,6,FALSE)/12,0)+IFERROR(VLOOKUP($B2,CDM!$L$37:$T$47,6,FALSE)/24,0)+IFERROR(VLOOKUP($B2,CDM!$L$37:$T$47,6,FALSE)/2*$C2/78,0) -> 1591.6823 | X2: =W2+V2 -> 8999446.7 | Y2: 14801.45 | Z2: 1 | AA2: 2105050.3 | AB2: 4712.34 | AC2: 35967 | AD2: 470992.23 | AE2: 1516 | AF2: 58050.89 | AG2: 157.43 | AH2: 613 | AI2: 12900 | AJ2: =Economic!H16 -> 764465 | AK2: =Economic!I16 -> 91847.6 | AL2: =Economic!J16 -> 29151.9 | AM2: =Economic!K16 -> 71039.2 | AN2: =Economic!L16 -> 53985.7 | AO2: =Economic!M16 -> 756670 | AP2: =Economic!N16 -> 92615 | AQ2: =Economic!O16 -> 13599 | ... AS2: =Economic!Q16 -> 67116 | AT2: =Economic!D16 -> 6998.9 | AU2: =Economic!E16 -> 6968.1 | AV2: =Economic!F16 -> 241.8 | AW2: =Economic!G16 -> 238.7 | AX2: =Economic!W16 -> 12835 | AY2: =Economic!R16 -> 116 | AZ2: =Economic!W16 -> 12835 | BA2: =Economic!X16 -> 134 | BB2: =Economic!Y16 -> 1434 | BC2: =Weather!C14 -> -2.3577957 | BD2: =Weather!D14 -> 693.09167 | BE2: =Weather!E14 -> 0 | BF2: =Weather!F14 -> 631.09167 | BG2: =Weather!G14 -> 0 | BH2: =Weather!H14 -> 569.09167 | BI2: =Weather!I14 -> 0 | BJ2: =Weather!J14 -> 507.09167 | ... BQ2: =Weather!Q14 -> 0 | BR2: 1 | BS2: 0 | BT2: 0 | BU2: 0 | BV2: 0 | BW2: 0 | BX2: 0 | BY2: 0 | BZ2: 0 | CA2: 0 | CB2: 0 | CC2: 0 | CD2: 0 | CE2: 0 | CF2: 0 | CG2: 0 | CH2: 0 | CI2: =CE2+CG2 -> 0 | CJ2: =CE2+CF2 -> 0 | CK2: 0 | CL2: 0 | CM2: 1 | CN2: 0 | CO2: 0 | CP2: 0 | CQ2: 0 | CR2: 0 | CS2: 31 | CT2: 22 | CU2: 0 | CV2: 0 | CW2: 0 | CX2: 0 | CY2: 0 | CZ2: =$CV2*BD2 -> 0 | DA2: =$CV2*BE2 -> 0 | DB2: =$CV2*BF2 -> 0 | DC2: =$CV2*BG2 -> 0 | DD2: =$CV2*BH2 -> 0 | DE2: =$CV2*BI2 -> 0 | DF2: =$CV2*BJ2 -> 0 | DG2: =$CV2*BK2 -> 0 | ... DM2: =$CV2*BQ2 -> 0 | DN2: =$CX2*BD2 -> 0 | DO2: =$CX2*BE2 -> 0 | DP2: =$CX2*BF2 -> 0 | DQ2: =$CX2*BG2 -> 0 | DR2: =$CX2*BH2 -> 0 | DS2: =$CX2*BI2 -> 0 | DT2: =$CX2*BJ2 -> 0 | DU2: =$CX2*BK2 -> 0 | ... EA2: =$CX2*BQ2 -> 0 | EB2: =F2/G2 -> 682.20158 | EC2: =EB2/CS2 -> 22.006502 | ED2: =F2/CS2 -> 3113810.1 | EE2: =J2/K2 -> 2754.153 | EF2: =EE2/CS2 -> 88.843646 | EG2: =J2/CS2 -> 1118808 | EH2: =N2/P2 -> 72741.991 | EI2: =EH2/CS2 -> 2346.5158 | EJ2: =EH2/CT2 -> 3306.4541 | EK2: =N2/CS2 -> 3740346.2 | EL2: =N2/CT2 -> 5270487.9
A3: 42767 | B3: =YEAR(A3) -> 2017 | C3: =MONTH(A3) -> 2 | D3: 80558289 | E3: =IFERROR(VLOOKUP($B3-1,CDM!$L$7:$T$18,2,FALSE)/12,0)+IFERROR(VLOOKUP($B3,CDM!$L$37:$O$47,2,FALSE)/24,0)+IFERROR(VLOOKUP($B3,CDM!$L$37:$O$47,2,FALSE)/2*$C3/78,0) -> 741801.79 | F3: =D3+E3 -> 81300091 | G3: 141664 | H3: 31484081 | I3: =IFERROR(VLOOKUP($B3-1,CDM!$L$7:$T$18,3,FALSE)/12,0)+IFERROR(VLOOKUP($B3,CDM!$L$37:$O$47,3,FALSE)/24,0)+IFERROR(VLOOKUP($B3,CDM!$L$37:$O$47,3,FALSE)/2*$C3/78,0) -> 146707.74 | J3: =H3+I3 -> 31630789 | K3: 12577 | L3: 122254037 | M3: =IFERROR(VLOOKUP($B3-1,CDM!$L$7:$T$18,4,FALSE)/12,0)+IFERROR(VLOOKUP($B3,CDM!$L$37:$O$47,4,FALSE)/24,0)+IFERROR(VLOOKUP($B3,CDM!$L$37:$O$47,4,FALSE)/2*$C3/78,0) -> 1086841.8 | N3: =L3+M3 -> 1.2334088e+08 | O3: 292258.4 | P3: 1596 | Q3: 2172576 | R3: =IFERROR(VLOOKUP($B3-1,CDM!$L$7:$T$18,5,FALSE)/12,0)+IFERROR(VLOOKUP($B3,CDM!$L$37:$T$47,5,FALSE)/24,0)+IFERROR(VLOOKUP($B3,CDM!$L$37:$T$47,5,FALSE)/2*$C3/78,0) -> 29806.338 | S3: =R3+Q3 -> 2202382.3 | T3: 3499.77 | U3: 4 | V3: 8123127 | W3: =IFERROR(VLOOKUP($B3-1,CDM!$L$7:$T$18,6,FALSE)/12,0)+IFERROR(VLOOKUP($B3,CDM!$L$37:$T$47,6,FALSE)/24,0)+IFERROR(VLOOKUP($B3,CDM!$L$37:$T$47,6,FALSE)/2*$C3/78,0) -> 1803.9066 | X3: =W3+V3 -> 8124930.9 | Y3: 15066.08 | Z3: 1 | AA3: 1773206.2 | AB3: 4718.99 | AC3: 36059 | AD3: 426893.95 | AE3: 1516 | AF3: 52947.82 | AG3: 156.37 | AH3: 607 | AI3: 12900 | AJ3: =Economic!H17 -> 764465 | AK3: =Economic!I17 -> 91847.6 | AL3: =Economic!J17 -> 29151.9 | AM3: =Economic!K17 -> 71039.2 | AN3: =Economic!L17 -> 53985.7 | AO3: =Economic!M17 -> 756670 | AP3: =Economic!N17 -> 92615 | AQ3: =Economic!O17 -> 13599 | ... AS3: =Economic!Q17 -> 67116 | AT3: =Economic!D17 -> 7017.3 | AU3: =Economic!E17 -> 6948.4 | AV3: =Economic!F17 -> 244.4 | AW3: =Economic!G17 -> 241.5 | AX3: =Economic!W17 -> 12835 | AY3: =Economic!R17 -> 117.8 | AZ3: =Economic!W17 -> 12835 | BA3: =Economic!X17 -> 134 | BB3: =Economic!Y17 -> 1434 | BC3: =Weather!C15 -> -0.070684524 | BD3: =Weather!D15 -> 561.97917 | BE3: =Weather!E15 -> 0 | BF3: =Weather!F15 -> 505.97917 | BG3: =Weather!G15 -> 0 | BH3: =Weather!H15 -> 449.97917 | BI3: =Weather!I15 -> 0 | BJ3: =Weather!J15 -> 393.97917 | ... BQ3: =Weather!Q15 -> 4.025 | BR3: 0 | BS3: 1 | BT3: 0 | BU3: 0 | BV3: 0 | BW3: 0 | BX3: 0 | BY3: 0 | BZ3: 0 | CA3: 0 | CB3: 0 | CC3: 0 | CD3: 0 | CE3: 0 | CF3: 0 | CG3: 0 | CH3: 0 | CI3: =CE3+CG3 -> 0 | CJ3: =CE3+CF3 -> 0 | CK3: 0 | CL3: 0 | CM3: =1+CM2 -> 2 | CN3: 0 | CO3: 0 | CP3: 0 | CQ3: 0 | CR3: 0 | CS3: 28 | CT3: 19 | CU3: 0 | CV3: 0 | CW3: 0 | CX3: 0 | CY3: 0 | CZ3: =$CV3*BD3 -> 0 | DA3: =$CV3*BE3 -> 0 | DB3: =$CV3*BF3 -> 0 | DC3: =$CV3*BG3 -> 0 | DD3: =$CV3*BH3 -> 0 | DE3: =$CV3*BI3 -> 0 | DF3: =$CV3*BJ3 -> 0 | DG3: =$CV3*BK3 -> 0 | ... DM3: =$CV3*BQ3 -> 0 | DN3: =$CX3*BD3 -> 0 | DO3: =$CX3*BE3 -> 0 | DP3: =$CX3*BF3 -> 0 | DQ3: =$CX3*BG3 -> 0 | DR3: =$CX3*BH3 -> 0 | DS3: =$CX3*BI3 -> 0 | DT3: =$CX3*BJ3 -> 0 | DU3: =$CX3*BK3 -> 0 | ... EA3: =$CX3*BQ3 -> 0 | EB3: =F3/G3 -> 573.8938 | EC3: =EB3/CS3 -> 20.496207 | ED3: =F3/CS3 -> 2903574.7 | EE3: =J3/K3 -> 2514.9709 | EF3: =EE3/CS3 -> 89.820389 | EG3: =J3/CS3 -> 1129671 | EH3: =N3/P3 -> 77281.252 | EI3: =EH3/CS3 -> 2760.0447 | EJ3: =EH3/CT3 -> 4067.4343 | EK3: =N3/CS3 -> 4405031.4 | EL3: =N3/CT3 -> 6491625.2
A4: 42795 | B4: =YEAR(A4) -> 2017 | C4: =MONTH(A4) -> 3 | D4: 87149622 | E4: =IFERROR(VLOOKUP($B4-1,CDM!$L$7:$T$18,2,FALSE)/12,0)+IFERROR(VLOOKUP($B4,CDM!$L$37:$O$47,2,FALSE)/24,0)+IFERROR(VLOOKUP($B4,CDM!$L$37:$O$47,2,FALSE)/2*$C4/78,0) -> 829072.59 | F4: =D4+E4 -> 87978695 | G4: 141783 | H4: 33557905 | I4: =IFERROR(VLOOKUP($B4-1,CDM!$L$7:$T$18,3,FALSE)/12,0)+IFERROR(VLOOKUP($B4,CDM!$L$37:$O$47,3,FALSE)/24,0)+IFERROR(VLOOKUP($B4,CDM!$L$37:$O$47,3,FALSE)/2*$C4/78,0) -> 163967.47 | J4: =H4+I4 -> 33721872 | K4: 12578 | L4: 124913359 | M4: =IFERROR(VLOOKUP($B4-1,CDM!$L$7:$T$18,4,FALSE)/12,0)+IFERROR(VLOOKUP($B4,CDM!$L$37:$O$47,4,FALSE)/24,0)+IFERROR(VLOOKUP($B4,CDM!$L$37:$O$47,4,FALSE)/2*$C4/78,0) -> 1214705.6 | N4: =L4+M4 -> 1.2612806e+08 | O4: 292186.08 | P4: 1599 | Q4: 3265577 | R4: =IFERROR(VLOOKUP($B4-1,CDM!$L$7:$T$18,5,FALSE)/12,0)+IFERROR(VLOOKUP($B4,CDM!$L$37:$T$47,5,FALSE)/24,0)+IFERROR(VLOOKUP($B4,CDM!$L$37:$T$47,5,FALSE)/2*$C4/78,0) -> 33312.966 | S4: =R4+Q4 -> 3298890 | T4: 1823.19 | U4: 4 | V4: 9232208 | W4: =IFERROR(VLOOKUP($B4-1,CDM!$L$7:$T$18,6,FALSE)/12,0)+IFERROR(VLOOKUP($B4,CDM!$L$37:$T$47,6,FALSE)/24,0)+IFERROR(VLOOKUP($B4,CDM!$L$37:$T$47,6,FALSE)/2*$C4/78,0) -> 2016.1309 | X4: =W4+V4 -> 9234224.1 | Y4: 15289.22 | Z4: 1 | AA4: 1748321.5 | AB4: 4723.41 | AC4: 36096 | AD4: 471289.47 | AE4: 1516 | AF4: 48152.35 | AG4: 131.13 | AH4: 537 | AI4: 12900 | AJ4: =Economic!H18 -> 764465 | AK4: =Economic!I18 -> 91847.6 | AL4: =Economic!J18 -> 29151.9 | AM4: =Economic!K18 -> 71039.2 | AN4: =Economic!L18 -> 53985.7 | AO4: =Economic!M18 -> 756670 | AP4: =Economic!N18 -> 92615 | AQ4: =Economic!O18 -> 13599 | ... AS4: =Economic!Q18 -> 67116 | AT4: =Economic!D18 -> 7035.4 | AU4: =Economic!E18 -> 6933.2 | AV4: =Economic!F18 -> 248 | AW4: =Economic!G18 -> 244.3 | AX4: =Economic!W18 -> 12835 | AY4: =Economic!R18 -> 126.8 | AZ4: =Economic!W18 -> 12835 | BA4: =Economic!X18 -> 134 | BB4: =Economic!Y18 -> 1434 | BC4: =Weather!C16 -> -0.17392473 | BD4: =Weather!D16 -> 625.39167 | BE4: =Weather!E16 -> 0 | BF4: =Weather!F16 -> 563.39167 | BG4: =Weather!G16 -> 0 | BH4: =Weather!H16 -> 501.39167 | BI4: =Weather!I16 -> 0 | BJ4: =Weather!J16 -> 439.39167 | ... BQ4: =Weather!Q16 -> 6.1541667 | BR4: 0 | BS4: 0 | BT4: 1 | BU4: 0 | BV4: 0 | BW4: 0 | BX4: 0 | BY4: 0 | BZ4: 0 | CA4: 0 | CB4: 0 | CC4: 0 | CD4: 1 | CE4: 1 | CF4: 0 | CG4: 0 | CH4: 1 | CI4: =CE4+CG4 -> 1 | CJ4: =CE4+CF4 -> 1 | CK4: 0 | CL4: 0 | CM4: =1+CM3 -> 3 | CN4: 0 | CO4: 0 | CP4: 0 | CQ4: 0 | CR4: 0 | CS4: 31 | CT4: 23 | CU4: 0 | CV4: 0 | CW4: 0 | CX4: 0 | CY4: 0 | CZ4: =$CV4*BD4 -> 0 | DA4: =$CV4*BE4 -> 0 | DB4: =$CV4*BF4 -> 0 | DC4: =$CV4*BG4 -> 0 | DD4: =$CV4*BH4 -> 0 | DE4: =$CV4*BI4 -> 0 | DF4: =$CV4*BJ4 -> 0 | DG4: =$CV4*BK4 -> 0 | ... DM4: =$CV4*BQ4 -> 0 | DN4: =$CX4*BD4 -> 0 | DO4: =$CX4*BE4 -> 0 | DP4: =$CX4*BF4 -> 0 | DQ4: =$CX4*BG4 -> 0 | DR4: =$CX4*BH4 -> 0 | DS4: =$CX4*BI4 -> 0 | DT4: =$CX4*BJ4 -> 0 | DU4: =$CX4*BK4 -> 0 | ... EA4: =$CX4*BQ4 -> 0 | EB4: =F4/G4 -> 620.51653 | EC4: =EB4/CS4 -> 20.016662 | ED4: =F4/CS4 -> 2838022.4 | EE4: =J4/K4 -> 2681.0202 | EF4: =EE4/CS4 -> 86.484524 | EG4: =J4/CS4 -> 1087802.3 | EH4: =N4/P4 -> 78879.34 | EI4: =EH4/CS4 -> 2544.4948 | EJ4: =EH4/CT4 -> 3429.5365 | EK4: =N4/CS4 -> 4068647.2 | EL4: =N4/CT4 -> 5483828.9
A5: 42826 | B5: =YEAR(A5) -> 2017 | C5: =MONTH(A5) -> 4 | D5: 72157766 | E5: =IFERROR(VLOOKUP($B5-1,CDM!$L$7:$T$18,2,FALSE)/12,0)+IFERROR(VLOOKUP($B5,CDM!$L$37:$O$47,2,FALSE)/24,0)+IFERROR(VLOOKUP($B5,CDM!$L$37:$O$47,2,FALSE)/2*$C5/78,0) -> 916343.38 | F5: =D5+E5 -> 73074109 | G5: 141833 | H5: 28819249 | I5: =IFERROR(VLOOKUP($B5-1,CDM!$L$7:$T$18,3,FALSE)/12,0)+IFERROR(VLOOKUP($B5,CDM!$L$37:$O$47,3,FALSE)/24,0)+IFERROR(VLOOKUP($B5,CDM!$L$37:$O$47,3,FALSE)/2*$C5/78,0) -> 181227.2 | J5: =H5+I5 -> 29000476 | K5: 12567 | L5: 111628772 | M5: =IFERROR(VLOOKUP($B5-1,CDM!$L$7:$T$18,4,FALSE)/12,0)+IFERROR(VLOOKUP($B5,CDM!$L$37:$O$47,4,FALSE)/24,0)+IFERROR(VLOOKUP($B5,CDM!$L$37:$O$47,4,FALSE)/2*$C5/78,0) -> 1342569.3 | N5: =L5+M5 -> 1.1297134e+08 | O5: 299701.82 | P5: 1599 | Q5: 3797978 | R5: =IFERROR(VLOOKUP($B5-1,CDM!$L$7:$T$18,5,FALSE)/12,0)+IFERROR(VLOOKUP($B5,CDM!$L$37:$T$47,5,FALSE)/24,0)+IFERROR(VLOOKUP($B5,CDM!$L$37:$T$47,5,FALSE)/2*$C5/78,0) -> 36819.595 | S5: =R5+Q5 -> 3834797.6 | T5: 9182.62 | U5: 4 | V5: 8837800 | W5: =IFERROR(VLOOKUP($B5-1,CDM!$L$7:$T$18,6,FALSE)/12,0)+IFERROR(VLOOKUP($B5,CDM!$L$37:$T$47,6,FALSE)/24,0)+IFERROR(VLOOKUP($B5,CDM!$L$37:$T$47,6,FALSE)/2*$C5/78,0) -> 2228.3552 | X5: =W5+V5 -> 8840028.4 | Y5: 19310.26 | Z5: 1 | AA5: 1516682 | AB5: 4724.87 | AC5: 36107 | AD5: 456723.76 | AE5: 1516 | AF5: 46114.02 | AG5: 127.67 | AH5: 537 | AI5: 12900 | AJ5: =Economic!H19 -> 764465 | AK5: =Economic!I19 -> 91847.6 | AL5: =Economic!J19 -> 29151.9 | AM5: =Economic!K19 -> 71039.2 | AN5: =Economic!L19 -> 53985.7 | AO5: =Economic!M19 -> 764676 | AP5: =Economic!N19 -> 92541 | AQ5: =Economic!O19 -> 13363 | ... AS5: =Economic!Q19 -> 70966 | AT5: =Economic!D19 -> 7041.8 | AU5: =Economic!E19 -> 6951.9 | AV5: =Economic!F19 -> 250.7 | AW5: =Economic!G19 -> 246.2 | AX5: =Economic!W19 -> 23847 | AY5: =Economic!R19 -> 132.8 | AZ5: =Economic!W19 -> 23847 | BA5: =Economic!X19 -> 2369 | BB5: =Economic!Y19 -> 5722 | BC5: =Weather!C17 -> 9.3709722 | BD5: =Weather!D17 -> 318.87083 | BE5: =Weather!E17 -> 0 | BF5: =Weather!F17 -> 259.11667 | BG5: =Weather!G17 -> 0.24583333 | BH5: =Weather!H17 -> 202.6375 | BI5: =Weather!I17 -> 3.7666667 | BJ5: =Weather!J17 -> 150.225 | ... BQ5: =Weather!Q17 -> 69.820833 | BR5: 0 | BS5: 0 | BT5: 0 | BU5: 1 | BV5: 0 | BW5: 0 | BX5: 0 | BY5: 0 | BZ5: 0 | CA5: 0 | CB5: 0 | CC5: 0 | CD5: 1 | CE5: 1 | CF5: 0 | CG5: 0 | CH5: 1 | CI5: =CE5+CG5 -> 1 | CJ5: =CE5+CF5 -> 1 | CK5: 0 | CL5: 0 | CM5: =1+CM4 -> 4 | CN5: 0 | CO5: 0 | CP5: 0 | CQ5: 0 | CR5: 0 | CS5: 30 | CT5: 19 | CU5: 0 | CV5: 0 | CW5: 0 | CX5: 0 | CY5: 0 | CZ5: =$CV5*BD5 -> 0 | DA5: =$CV5*BE5 -> 0 | DB5: =$CV5*BF5 -> 0 | DC5: =$CV5*BG5 -> 0 | DD5: =$CV5*BH5 -> 0 | DE5: =$CV5*BI5 -> 0 | DF5: =$CV5*BJ5 -> 0 | DG5: =$CV5*BK5 -> 0 | ... DM5: =$CV5*BQ5 -> 0 | DN5: =$CX5*BD5 -> 0 | DO5: =$CX5*BE5 -> 0 | DP5: =$CX5*BF5 -> 0 | DQ5: =$CX5*BG5 -> 0 | DR5: =$CX5*BH5 -> 0 | DS5: =$CX5*BI5 -> 0 | DT5: =$CX5*BJ5 -> 0 | DU5: =$CX5*BK5 -> 0 | ... EA5: =$CX5*BQ5 -> 0 | EB5: =F5/G5 -> 515.21232 | EC5: =EB5/CS5 -> 17.173744 | ED5: =F5/CS5 -> 2435803.6 | EE5: =J5/K5 -> 2307.669 | EF5: =EE5/CS5 -> 76.9223 | EG5: =J5/CS5 -> 966682.54 | EH5: =N5/P5 -> 70651.245 | EI5: =EH5/CS5 -> 2355.0415 | EJ5: =EH5/CT5 -> 3718.4866 | EK5: =N5/CS5 -> 3765711.4 | EL5: =N5/CT5 -> 5945860.1
A6: 42856 | B6: =YEAR(A6) -> 2017 | C6: =MONTH(A6) -> 5 | D6: 73173599 | E6: =IFERROR(VLOOKUP($B6-1,CDM!$L$7:$T$18,2,FALSE)/12,0)+IFERROR(VLOOKUP($B6,CDM!$L$37:$O$47,2,FALSE)/24,0)+IFERROR(VLOOKUP($B6,CDM!$L$37:$O$47,2,FALSE)/2*$C6/78,0) -> 1003614.2 | F6: =D6+E6 -> 74177213 | G6: 141997 | H6: 29942579 | I6: =IFERROR(VLOOKUP($B6-1,CDM!$L$7:$T$18,3,FALSE)/12,0)+IFERROR(VLOOKUP($B6,CDM!$L$37:$O$47,3,FALSE)/24,0)+IFERROR(VLOOKUP($B6,CDM!$L$37:$O$47,3,FALSE)/2*$C6/78,0) -> 198486.94 | J6: =H6+I6 -> 30141066 | K6: 12575 | L6: 119336727 | M6: =IFERROR(VLOOKUP($B6-1,CDM!$L$7:$T$18,4,FALSE)/12,0)+IFERROR(VLOOKUP($B6,CDM!$L$37:$O$47,4,FALSE)/24,0)+IFERROR(VLOOKUP($B6,CDM!$L$37:$O$47,4,FALSE)/2*$C6/78,0) -> 1470433.1 | N6: =L6+M6 -> 1.2080716e+08 | O6: 314401.45 | P6: 1602 | Q6: 4070442 | R6: =IFERROR(VLOOKUP($B6-1,CDM!$L$7:$T$18,5,FALSE)/12,0)+IFERROR(VLOOKUP($B6,CDM!$L$37:$T$47,5,FALSE)/24,0)+IFERROR(VLOOKUP($B6,CDM!$L$37:$T$47,5,FALSE)/2*$C6/78,0) -> 40326.223 | S6: =R6+Q6 -> 4110768.2 | T6: 8727.15 | U6: 4 | V6: 9324282 | W6: =IFERROR(VLOOKUP($B6-1,CDM!$L$7:$T$18,6,FALSE)/12,0)+IFERROR(VLOOKUP($B6,CDM!$L$37:$T$47,6,FALSE)/24,0)+IFERROR(VLOOKUP($B6,CDM!$L$37:$T$47,6,FALSE)/2*$C6/78,0) -> 2440.5795 | X6: =W6+V6 -> 9326722.6 | Y6: 20527.56 | Z6: 1 | AA6: 1353573.8 | AB6: 4740.9 | AC6: 36107 | AD6: 471343.42 | AE6: 1514 | AF6: 47527.79 | AG6: 126.02 | AH6: 536 | AI6: 12900 | AJ6: =Economic!H20 -> 764465 | AK6: =Economic!I20 -> 91847.6 | AL6: =Economic!J20 -> 29151.9 | AM6: =Economic!K20 -> 71039.2 | AN6: =Economic!L20 -> 53985.7 | AO6: =Economic!M20 -> 764676 | AP6: =Economic!N20 -> 92541 | AQ6: =Economic!O20 -> 13363 | ... AS6: =Economic!Q20 -> 70966 | AT6: =Economic!D20 -> 7055.9 | AU6: =Economic!E20 -> 7023.7 | AV6: =Economic!F20 -> 251.2 | AW6: =Economic!G20 -> 249 | AX6: =Economic!W20 -> 23847 | AY6: =Economic!R20 -> 136.8 | AZ6: =Economic!W20 -> 23847 | BA6: =Economic!X20 -> 2369 | BB6: =Economic!Y20 -> 5722 | BC6: =Weather!C18 -> 12.22621 | BD6: =Weather!D18 -> 247.3 | BE6: =Weather!E18 -> 6.3125 | BF6: =Weather!F18 -> 189.45833 | BG6: =Weather!G18 -> 10.470833 | BH6: =Weather!H18 -> 136.45833 | BI6: =Weather!I18 -> 19.470833 | BJ6: =Weather!J18 -> 92.170833 | ... BQ6: =Weather!Q18 -> 143.98333 | BR6: 0 | BS6: 0 | BT6: 0 | BU6: 0 | BV6: 1 | BW6: 0 | BX6: 0 | BY6: 0 | BZ6: 0 | CA6: 0 | CB6: 0 | CC6: 0 | CD6: 1 | CE6: 0 | CF6: 0 | CG6: 0 | CH6: 1 | CI6: =CE6+CG6 -> 0 | CJ6: =CE6+CF6 -> 0 | CK6: 1 | CL6: 0 | CM6: =1+CM5 -> 5 | CN6: 0 | CO6: 0 | CP6: 0 | CQ6: 0 | CR6: 0 | CS6: 31 | CT6: 22 | CU6: 0 | CV6: 0 | CW6: 0 | CX6: 0 | CY6: 0 | CZ6: =$CV6*BD6 -> 0 | DA6: =$CV6*BE6 -> 0 | DB6: =$CV6*BF6 -> 0 | DC6: =$CV6*BG6 -> 0 | DD6: =$CV6*BH6 -> 0 | DE6: =$CV6*BI6 -> 0 | DF6: =$CV6*BJ6 -> 0 | DG6: =$CV6*BK6 -> 0 | ... DM6: =$CV6*BQ6 -> 0 | DN6: =$CX6*BD6 -> 0 | DO6: =$CX6*BE6 -> 0 | DP6: =$CX6*BF6 -> 0 | DQ6: =$CX6*BG6 -> 0 | DR6: =$CX6*BH6 -> 0 | DS6: =$CX6*BI6 -> 0 | DT6: =$CX6*BJ6 -> 0 | DU6: =$CX6*BK6 -> 0 | ... EA6: =$CX6*BQ6 -> 0 | EB6: =F6/G6 -> 522.38578 | EC6: =EB6/CS6 -> 16.851154 | ED6: =F6/CS6 -> 2392813.3 | EE6: =J6/K6 -> 2396.9039 | EF6: =EE6/CS6 -> 77.319479 | EG6: =J6/CS6 -> 972292.45 | EH6: =N6/P6 -> 75410.212 | EI6: =EH6/CS6 -> 2432.5875 | EJ6: =EH6/CT6 -> 3427.7369 | EK6: =N6/CS6 -> 3897005.2 | EL6: =N6/CT6 -> 5491234.5
A7: 42887 | B7: =YEAR(A7) -> 2017 | C7: =MONTH(A7) -> 6 | D7: 90036466 | E7: =IFERROR(VLOOKUP($B7-1,CDM!$L$7:$T$18,2,FALSE)/12,0)+IFERROR(VLOOKUP($B7,CDM!$L$37:$O$47,2,FALSE)/24,0)+IFERROR(VLOOKUP($B7,CDM!$L$37:$O$47,2,FALSE)/2*$C7/78,0) -> 1090885 | F7: =D7+E7 -> 91127351 | G7: 142062 | H7: 32060147 | I7: =IFERROR(VLOOKUP($B7-1,CDM!$L$7:$T$18,3,FALSE)/12,0)+IFERROR(VLOOKUP($B7,CDM!$L$37:$O$47,3,FALSE)/24,0)+IFERROR(VLOOKUP($B7,CDM!$L$37:$O$47,3,FALSE)/2*$C7/78,0) -> 215746.67 | J7: =H7+I7 -> 32275894 | K7: 12572 | L7: 126432223 | M7: =IFERROR(VLOOKUP($B7-1,CDM!$L$7:$T$18,4,FALSE)/12,0)+IFERROR(VLOOKUP($B7,CDM!$L$37:$O$47,4,FALSE)/24,0)+IFERROR(VLOOKUP($B7,CDM!$L$37:$O$47,4,FALSE)/2*$C7/78,0) -> 1598296.8 | N7: =L7+M7 -> 1.2803052e+08 | O7: 331731.48 | P7: 1602 | Q7: 5699728 | R7: =IFERROR(VLOOKUP($B7-1,CDM!$L$7:$T$18,5,FALSE)/12,0)+IFERROR(VLOOKUP($B7,CDM!$L$37:$T$47,5,FALSE)/24,0)+IFERROR(VLOOKUP($B7,CDM!$L$37:$T$47,5,FALSE)/2*$C7/78,0) -> 43832.851 | S7: =R7+Q7 -> 5743560.9 | T7: 10882.61 | U7: 4 | V7: 10994901 | W7: =IFERROR(VLOOKUP($B7-1,CDM!$L$7:$T$18,6,FALSE)/12,0)+IFERROR(VLOOKUP($B7,CDM!$L$37:$T$47,6,FALSE)/24,0)+IFERROR(VLOOKUP($B7,CDM!$L$37:$T$47,6,FALSE)/2*$C7/78,0) -> 2652.8038 | X7: =W7+V7 -> 10997554 | Y7: 21755.73 | Z7: 1 | AA7: 1237045.7 | AB7: 4728.77 | AC7: 36141 | AD7: 456487.39 | AE7: 1513 | AF7: 45904.6 | AG7: 125.84 | AH7: 535 | AI7: 12900 | AJ7: =Economic!H21 -> 764465 | AK7: =Economic!I21 -> 91847.6 | AL7: =Economic!J21 -> 29151.9 | AM7: =Economic!K21 -> 71039.2 | AN7: =Economic!L21 -> 53985.7 | AO7: =Economic!M21 -> 764676 | AP7: =Economic!N21 -> 92541 | AQ7: =Economic!O21 -> 13363 | ... AS7: =Economic!Q21 -> 70966 | AT7: =Economic!D21 -> 7071 | AU7: =Economic!E21 -> 7112.9 | AV7: =Economic!F21 -> 250.9 | AW7: =Economic!G21 -> 253.2 | AX7: =Economic!W21 -> 23847 | AY7: =Economic!R21 -> 141 | AZ7: =Economic!W21 -> 23847 | BA7: =Economic!X21 -> 2369 | BB7: =Economic!Y21 -> 5722 | BC7: =Weather!C19 -> 18.871667 | BD7: =Weather!D19 -> 66.325 | BE7: =Weather!E19 -> 32.475 | BF7: =Weather!F19 -> 33.816667 | BG7: =Weather!G19 -> 59.966667 | BH7: =Weather!H19 -> 11.108333 | BI7: =Weather!I19 -> 97.258333 | BJ7: =Weather!J19 -> 0.98333333 | ... BQ7: =Weather!Q19 -> 326.15 | BR7: 0 | BS7: 0 | BT7: 0 | BU7: 0 | BV7: 0 | BW7: 1 | BX7: 0 | BY7: 0 | BZ7: 0 | CA7: 0 | CB7: 0 | CC7: 0 | CD7: 0 | CE7: 0 | CF7: 0 | CG7: 0 | CH7: 0 | CI7: =CE7+CG7 -> 0 | CJ7: =CE7+CF7 -> 0 | CK7: 1 | CL7: 0 | CM7: =1+CM6 -> 6 | CN7: 0 | CO7: 0 | CP7: 0 | CQ7: 0 | CR7: 0 | CS7: 30 | CT7: 22 | CU7: 0 | CV7: 0 | CW7: 0 | CX7: 0 | CY7: 0 | CZ7: =$CV7*BD7 -> 0 | DA7: =$CV7*BE7 -> 0 | DB7: =$CV7*BF7 -> 0 | DC7: =$CV7*BG7 -> 0 | DD7: =$CV7*BH7 -> 0 | DE7: =$CV7*BI7 -> 0 | DF7: =$CV7*BJ7 -> 0 | DG7: =$CV7*BK7 -> 0 | ... DM7: =$CV7*BQ7 -> 0 | DN7: =$CX7*BD7 -> 0 | DO7: =$CX7*BE7 -> 0 | DP7: =$CX7*BF7 -> 0 | DQ7: =$CX7*BG7 -> 0 | DR7: =$CX7*BH7 -> 0 | DS7: =$CX7*BI7 -> 0 | DT7: =$CX7*BJ7 -> 0 | DU7: =$CX7*BK7 -> 0 | ... EA7: =$CX7*BQ7 -> 0 | EB7: =F7/G7 -> 641.46183 | EC7: =EB7/CS7 -> 21.382061 | ED7: =F7/CS7 -> 3037578.4 | EE7: =J7/K7 -> 2567.2839 | EF7: =EE7/CS7 -> 85.576131 | EG7: =J7/CS7 -> 1075863.1 | EH7: =N7/P7 -> 79919.176 | EI7: =EH7/CS7 -> 2663.9725 | EJ7: =EH7/CT7 -> 3632.6898 | EK7: =N7/CS7 -> 4267684 | EL7: =N7/CT7 -> 5819569.1
A8: 42917 | B8: =YEAR(A8) -> 2017 | C8: =MONTH(A8) -> 7 | D8: 107049192 | E8: =IFERROR(VLOOKUP($B8-1,CDM!$L$7:$T$18,2,FALSE)/12,0)+IFERROR(VLOOKUP($B8,CDM!$L$37:$O$47,2,FALSE)/24,0)+IFERROR(VLOOKUP($B8,CDM!$L$37:$O$47,2,FALSE)/2*$C8/78,0) -> 1178155.8 | F8: =D8+E8 -> 1.0822735e+08 | G8: 142175 | H8: 34823079 | I8: =IFERROR(VLOOKUP($B8-1,CDM!$L$7:$T$18,3,FALSE)/12,0)+IFERROR(VLOOKUP($B8,CDM!$L$37:$O$47,3,FALSE)/24,0)+IFERROR(VLOOKUP($B8,CDM!$L$37:$O$47,3,FALSE)/2*$C8/78,0) -> 233006.4 | J8: =H8+I8 -> 35056085 | K8: 12570 | L8: 131478817 | M8: =IFERROR(VLOOKUP($B8-1,CDM!$L$7:$T$18,4,FALSE)/12,0)+IFERROR(VLOOKUP($B8,CDM!$L$37:$O$47,4,FALSE)/24,0)+IFERROR(VLOOKUP($B8,CDM!$L$37:$O$47,4,FALSE)/2*$C8/78,0) -> 1726160.6 | N8: =L8+M8 -> 1.3320498e+08 | O8: 330107.02 | P8: 1604 | Q8: 5577236 | R8: =IFERROR(VLOOKUP($B8-1,CDM!$L$7:$T$18,5,FALSE)/12,0)+IFERROR(VLOOKUP($B8,CDM!$L$37:$T$47,5,FALSE)/24,0)+IFERROR(VLOOKUP($B8,CDM!$L$37:$T$47,5,FALSE)/2*$C8/78,0) -> 47339.479 | S8: =R8+Q8 -> 5624575.5 | T8: 7052.61 | U8: 4 | V8: 12308029 | W8: =IFERROR(VLOOKUP($B8-1,CDM!$L$7:$T$18,6,FALSE)/12,0)+IFERROR(VLOOKUP($B8,CDM!$L$37:$T$47,6,FALSE)/24,0)+IFERROR(VLOOKUP($B8,CDM!$L$37:$T$47,6,FALSE)/2*$C8/78,0) -> 2865.0281 | X8: =W8+V8 -> 12310894 | Y8: 22719.27 | Z8: 1 | AA8: 1314062.6 | AB8: 4730.93 | AC8: 36153 | AD8: 470912.14 | AE8: 1512 | AF8: 47158.15 | AG8: 125.85 | AH8: 535 | AI8: 12900 | AJ8: =Economic!H22 -> 764465 | AK8: =Economic!I22 -> 91847.6 | AL8: =Economic!J22 -> 29151.9 | AM8: =Economic!K22 -> 71039.2 | AN8: =Economic!L22 -> 53985.7 | AO8: =Economic!M22 -> 765009 | AP8: =Economic!N22 -> 90558 | AQ8: =Economic!O22 -> 13304 | ... AS8: =Economic!Q22 -> 71934 | AT8: =Economic!D22 -> 7099.1 | AU8: =Economic!E22 -> 7186.7 | AV8: =Economic!F22 -> 250.1 | AW8: =Economic!G22 -> 255.5 | AX8: =Economic!W22 -> 18299 | AY8: =Economic!R22 -> 165.3 | AZ8: =Economic!W22 -> 18299 | BA8: =Economic!X22 -> -841 | BB8: =Economic!Y22 -> 6035 | BC8: =Weather!C20 -> 20.67211 | BD8: =Weather!D20 -> 10.095833 | BE8: =Weather!E20 -> 30.93125 | BF8: =Weather!F20 -> 0.49166667 | BG8: =Weather!G20 -> 83.327083 | BH8: =Weather!H20 -> 0 | BI8: =Weather!I20 -> 144.83542 | BJ8: =Weather!J20 -> 0 | ... BQ8: =Weather!Q20 -> 392.83542 | BR8: 0 | BS8: 0 | BT8: 0 | BU8: 0 | BV8: 0 | BW8: 0 | BX8: 1 | BY8: 0 | BZ8: 0 | CA8: 0 | CB8: 0 | CC8: 0 | CD8: 0 | CE8: 0 | CF8: 0 | CG8: 0 | CH8: 0 | CI8: =CE8+CG8 -> 0 | CJ8: =CE8+CF8 -> 0 | CK8: 1 | CL8: 1 | CM8: =1+CM7 -> 7 | CN8: 0 | CO8: 0 | CP8: 0 | CQ8: 0 | CR8: 0 | CS8: 31 | CT8: 20 | CU8: 0 | CV8: 0 | CW8: 0 | CX8: 0 | CY8: 0 | CZ8: =$CV8*BD8 -> 0 | DA8: =$CV8*BE8 -> 0 | DB8: =$CV8*BF8 -> 0 | DC8: =$CV8*BG8 -> 0 | DD8: =$CV8*BH8 -> 0 | DE8: =$CV8*BI8 -> 0 | DF8: =$CV8*BJ8 -> 0 | DG8: =$CV8*BK8 -> 0 | ... DM8: =$CV8*BQ8 -> 0 | DN8: =$CX8*BD8 -> 0 | DO8: =$CX8*BE8 -> 0 | DP8: =$CX8*BF8 -> 0 | DQ8: =$CX8*BG8 -> 0 | DR8: =$CX8*BH8 -> 0 | DS8: =$CX8*BI8 -> 0 | DT8: =$CX8*BJ8 -> 0 | DU8: =$CX8*BK8 -> 0 | ... EA8: =$CX8*BQ8 -> 0 | EB8: =F8/G8 -> 761.22629 | EC8: =EB8/CS8 -> 24.555687 | ED8: =F8/CS8 -> 3491204.8 | EE8: =J8/K8 -> 2788.8692 | EF8: =EE8/CS8 -> 89.963521 | EG8: =J8/CS8 -> 1130841.5 | EH8: =N8/P8 -> 83045.497 | EI8: =EH8/CS8 -> 2678.887 | EJ8: =EH8/CT8 -> 4152.2749 | EK8: =N8/CS8 -> 4296934.8 | EL8: =N8/CT8 -> 6660248.9
A9: 42948 | B9: =YEAR(A9) -> 2017 | C9: =MONTH(A9) -> 8 | D9: 94105753 | E9: =IFERROR(VLOOKUP($B9-1,CDM!$L$7:$T$18,2,FALSE)/12,0)+IFERROR(VLOOKUP($B9,CDM!$L$37:$O$47,2,FALSE)/24,0)+IFERROR(VLOOKUP($B9,CDM!$L$37:$O$47,2,FALSE)/2*$C9/78,0) -> 1265426.6 | F9: =D9+E9 -> 95371180 | G9: 142403 | H9: 33473974 | I9: =IFERROR(VLOOKUP($B9-1,CDM!$L$7:$T$18,3,FALSE)/12,0)+IFERROR(VLOOKUP($B9,CDM!$L$37:$O$47,3,FALSE)/24,0)+IFERROR(VLOOKUP($B9,CDM!$L$37:$O$47,3,FALSE)/2*$C9/78,0) -> 250266.14 | J9: =H9+I9 -> 33724240 | K9: 12569 | L9: 129638713 | M9: =IFERROR(VLOOKUP($B9-1,CDM!$L$7:$T$18,4,FALSE)/12,0)+IFERROR(VLOOKUP($B9,CDM!$L$37:$O$47,4,FALSE)/24,0)+IFERROR(VLOOKUP($B9,CDM!$L$37:$O$47,4,FALSE)/2*$C9/78,0) -> 1854024.3 | N9: =L9+M9 -> 1.3149274e+08 | O9: 322207.49 | P9: 1604 | Q9: 4755040 | R9: =IFERROR(VLOOKUP($B9-1,CDM!$L$7:$T$18,5,FALSE)/12,0)+IFERROR(VLOOKUP($B9,CDM!$L$37:$T$47,5,FALSE)/24,0)+IFERROR(VLOOKUP($B9,CDM!$L$37:$T$47,5,FALSE)/2*$C9/78,0) -> 50846.107 | S9: =R9+Q9 -> 4805886.1 | T9: 6747.44 | U9: 4 | V9: 11682519 | W9: =IFERROR(VLOOKUP($B9-1,CDM!$L$7:$T$18,6,FALSE)/12,0)+IFERROR(VLOOKUP($B9,CDM!$L$37:$T$47,6,FALSE)/24,0)+IFERROR(VLOOKUP($B9,CDM!$L$37:$T$47,6,FALSE)/2*$C9/78,0) -> 3077.2524 | X9: =W9+V9 -> 11685596 | Y9: 21983.95 | Z9: 1 | AA9: 1461499.4 | AB9: 4733.45 | AC9: 36162 | AD9: 471113.6 | AE9: 1512 | AF9: 47545.11 | AG9: 125.79 | AH9: 535 | AI9: 12900 | AJ9: =Economic!H23 -> 764465 | AK9: =Economic!I23 -> 91847.6 | AL9: =Economic!J23 -> 29151.9 | AM9: =Economic!K23 -> 71039.2 | AN9: =Economic!L23 -> 53985.7 | AO9: =Economic!M23 -> 765009 | AP9: =Economic!N23 -> 90558 | AQ9: =Economic!O23 -> 13304 | ... AS9: =Economic!Q23 -> 71934 | AT9: =Economic!D23 -> 7118 | AU9: =Economic!E23 -> 7207.6 | AV9: =Economic!F23 -> 246.8 | AW9: =Economic!G23 -> 252.1 | AX9: =Economic!W23 -> 18299 | AY9: =Economic!R23 -> 186.8 | AZ9: =Economic!W23 -> 18299 | BA9: =Economic!X23 -> -841 | BB9: =Economic!Y23 -> 6035 | BC9: =Weather!C21 -> 18.813172 | BD9: =Weather!D21 -> 49.708333 | BE9: =Weather!E21 -> 12.916667 | BF9: =Weather!F21 -> 20.0125 | BG9: =Weather!G21 -> 45.220833 | BH9: =Weather!H21 -> 5.6166667 | BI9: =Weather!I21 -> 92.825 | BJ9: =Weather!J21 -> 0 | ... BQ9: =Weather!Q21 -> 335.20833 | BR9: 0 | BS9: 0 | BT9: 0 | BU9: 0 | BV9: 0 | BW9: 0 | BX9: 0 | BY9: 1 | BZ9: 0 | CA9: 0 | CB9: 0 | CC9: 0 | CD9: 0 | CE9: 0 | CF9: 0 | CG9: 0 | CH9: 0 | CI9: =CE9+CG9 -> 0 | CJ9: =CE9+CF9 -> 0 | CK9: 1 | CL9: 1 | CM9: =1+CM8 -> 8 | CN9: 0 | CO9: 0 | CP9: 0 | CQ9: 0 | CR9: 0 | CS9: 31 | CT9: 22 | CU9: 0 | CV9: 0 | CW9: 0 | CX9: 0 | CY9: 0 | CZ9: =$CV9*BD9 -> 0 | DA9: =$CV9*BE9 -> 0 | DB9: =$CV9*BF9 -> 0 | DC9: =$CV9*BG9 -> 0 | DD9: =$CV9*BH9 -> 0 | DE9: =$CV9*BI9 -> 0 | DF9: =$CV9*BJ9 -> 0 | DG9: =$CV9*BK9 -> 0 | ... DM9: =$CV9*BQ9 -> 0 | DN9: =$CX9*BD9 -> 0 | DO9: =$CX9*BE9 -> 0 | DP9: =$CX9*BF9 -> 0 | DQ9: =$CX9*BG9 -> 0 | DR9: =$CX9*BH9 -> 0 | DS9: =$CX9*BI9 -> 0 | DT9: =$CX9*BJ9 -> 0 | DU9: =$CX9*BK9 -> 0 | ... EA9: =$CX9*BQ9 -> 0 | EB9: =F9/G9 -> 669.72732 | EC9: =EB9/CS9 -> 21.604107 | ED9: =F9/CS9 -> 3076489.7 | EE9: =J9/K9 -> 2683.1283 | EF9: =EE9/CS9 -> 86.552527 | EG9: =J9/CS9 -> 1087878.7 | EH9: =N9/P9 -> 81978.016 | EI9: =EH9/CS9 -> 2644.4521 | EJ9: =EH9/CT9 -> 3726.2734 | EK9: =N9/CS9 -> 4241701.2 | EL9: =N9/CT9 -> 5976942.6
A10: 42979 | B10: =YEAR(A10) -> 2017 | C10: =MONTH(A10) -> 9 | D10: 87805190 | E10: =IFERROR(VLOOKUP($B10-1,CDM!$L$7:$T$18,2,FALSE)/12,0)+IFERROR(VLOOKUP($B10,CDM!$L$37:$O$47,2,FALSE)/24,0)+IFERROR(VLOOKUP($B10,CDM!$L$37:$O$47,2,FALSE)/2*$C10/78,0) -> 1352697.4 | F10: =D10+E10 -> 89157887 | G10: 142513 | H10: 31626552 | I10: =IFERROR(VLOOKUP($B10-1,CDM!$L$7:$T$18,3,FALSE)/12,0)+IFERROR(VLOOKUP($B10,CDM!$L$37:$O$47,3,FALSE)/24,0)+IFERROR(VLOOKUP($B10,CDM!$L$37:$O$47,3,FALSE)/2*$C10/78,0) -> 267525.87 | J10: =H10+I10 -> 31894078 | K10: 12564 | L10: 123880301 | M10: =IFERROR(VLOOKUP($B10-1,CDM!$L$7:$T$18,4,FALSE)/12,0)+IFERROR(VLOOKUP($B10,CDM!$L$37:$O$47,4,FALSE)/24,0)+IFERROR(VLOOKUP($B10,CDM!$L$37:$O$47,4,FALSE)/2*$C10/78,0) -> 1981888.1 | N10: =L10+M10 -> 1.2586219e+08 | O10: 336043.77 | P10: 1609 | Q10: 3916579 | R10: =IFERROR(VLOOKUP($B10-1,CDM!$L$7:$T$18,5,FALSE)/12,0)+IFERROR(VLOOKUP($B10,CDM!$L$37:$T$47,5,FALSE)/24,0)+IFERROR(VLOOKUP($B10,CDM!$L$37:$T$47,5,FALSE)/2*$C10/78,0) -> 54352.735 | S10: =R10+Q10 -> 3970931.7 | T10: 6677.69 | U10: 4 | V10: 11268578 | W10: =IFERROR(VLOOKUP($B10-1,CDM!$L$7:$T$18,6,FALSE)/12,0)+IFERROR(VLOOKUP($B10,CDM!$L$37:$T$47,6,FALSE)/24,0)+IFERROR(VLOOKUP($B10,CDM!$L$37:$T$47,6,FALSE)/2*$C10/78,0) -> 3289.4767 | X10: =W10+V10 -> 11271867 | Y10: 24452.48 | Z10: 1 | AA10: 1625593.6 | AB10: 4736.58 | AC10: 36182 | AD10: 456332.73 | AE10: 1513 | AF10: 46298.34 | AG10: 125.68 | AH10: 535 | AI10: 12900 | AJ10: =Economic!H24 -> 764465 | AK10: =Economic!I24 -> 91847.6 | AL10: =Economic!J24 -> 29151.9 | AM10: =Economic!K24 -> 71039.2 | AN10: =Economic!L24 -> 53985.7 | AO10: =Economic!M24 -> 765009 | AP10: =Economic!N24 -> 90558 | AQ10: =Economic!O24 -> 13304 | ... AS10: =Economic!Q24 -> 71934 | AT10: =Economic!D24 -> 7143.3 | AU10: =Economic!E24 -> 7185.7 | AV10: =Economic!F24 -> 245.3 | AW10: =Economic!G24 -> 247.1 | AX10: =Economic!W24 -> 18299 | AY10: =Economic!R24 -> 213.6 | AZ10: =Economic!W24 -> 18299 | BA10: =Economic!X24 -> -841 | BB10: =Economic!Y24 -> 6035 | BC10: =Weather!C22 -> 17.060139 | BD10: =Weather!D22 -> 107.17083 | BE10: =Weather!E22 -> 18.975 | BF10: =Weather!F22 -> 71.945833 | BG10: =Weather!G22 -> 43.75 | BH10: =Weather!H22 -> 43.908333 | BI10: =Weather!I22 -> 75.7125 | BJ10: =Weather!J22 -> 20.804167 | ... BQ10: =Weather!Q22 -> 271.80417 | BR10: 0 | BS10: 0 | BT10: 0 | BU10: 0 | BV10: 0 | BW10: 0 | BX10: 0 | BY10: 0 | BZ10: 1 | CA10: 0 | CB10: 0 | CC10: 0 | CD10: 0 | CE10: 0 | CF10: 1 | CG10: 1 | CH10: 1 | CI10: =CE10+CG10 -> 1 | CJ10: =CE10+CF10 -> 1 | CK10: 0 | CL10: 0 | CM10: =1+CM9 -> 9 | CN10: 0 | CO10: 0 | CP10: 0 | CQ10: 0 | CR10: 0 | CS10: 30 | CT10: 20 | CU10: 0 | CV10: 0 | CW10: 0 | CX10: 0 | CY10: 0 | CZ10: =$CV10*BD10 -> 0 | DA10: =$CV10*BE10 -> 0 | DB10: =$CV10*BF10 -> 0 | DC10: =$CV10*BG10 -> 0 | DD10: =$CV10*BH10 -> 0 | DE10: =$CV10*BI10 -> 0 | DF10: =$CV10*BJ10 -> 0 | DG10: =$CV10*BK10 -> 0 | ... DM10: =$CV10*BQ10 -> 0 | DN10: =$CX10*BD10 -> 0 | DO10: =$CX10*BE10 -> 0 | DP10: =$CX10*BF10 -> 0 | DQ10: =$CX10*BG10 -> 0 | DR10: =$CX10*BH10 -> 0 | DS10: =$CX10*BI10 -> 0 | DT10: =$CX10*BJ10 -> 0 | DU10: =$CX10*BK10 -> 0 | ... EA10: =$CX10*BQ10 -> 0 | EB10: =F10/G10 -> 625.61231 | EC10: =EB10/CS10 -> 20.853744 | ED10: =F10/CS10 -> 2971929.6 | EE10: =J10/K10 -> 2538.529 | EF10: =EE10/CS10 -> 84.617632 | EG10: =J10/CS10 -> 1063135.9 | EH10: =N10/P10 -> 78223.859 | EI10: =EH10/CS10 -> 2607.462 | EJ10: =EH10/CT10 -> 3911.1929 | EK10: =N10/CS10 -> 4195406.3 | EL10: =N10/CT10 -> 6293109.5
A11: 43009 | B11: =YEAR(A11) -> 2017 | C11: =MONTH(A11) -> 10 | D11: 76066658 | E11: =IFERROR(VLOOKUP($B11-1,CDM!$L$7:$T$18,2,FALSE)/12,0)+IFERROR(VLOOKUP($B11,CDM!$L$37:$O$47,2,FALSE)/24,0)+IFERROR(VLOOKUP($B11,CDM!$L$37:$O$47,2,FALSE)/2*$C11/78,0) -> 1439968.2 | F11: =D11+E11 -> 77506626 | G11: 142654 | H11: 29861241 | I11: =IFERROR(VLOOKUP($B11-1,CDM!$L$7:$T$18,3,FALSE)/12,0)+IFERROR(VLOOKUP($B11,CDM!$L$37:$O$47,3,FALSE)/24,0)+IFERROR(VLOOKUP($B11,CDM!$L$37:$O$47,3,FALSE)/2*$C11/78,0) -> 284785.6 | J11: =H11+I11 -> 30146027 | K11: 12570 | L11: 118433173 | M11: =IFERROR(VLOOKUP($B11-1,CDM!$L$7:$T$18,4,FALSE)/12,0)+IFERROR(VLOOKUP($B11,CDM!$L$37:$O$47,4,FALSE)/24,0)+IFERROR(VLOOKUP($B11,CDM!$L$37:$O$47,4,FALSE)/2*$C11/78,0) -> 2109751.8 | N11: =L11+M11 -> 1.2054292e+08 | O11: 316110.81 | P11: 1610 | Q11: 5119784 | R11: =IFERROR(VLOOKUP($B11-1,CDM!$L$7:$T$18,5,FALSE)/12,0)+IFERROR(VLOOKUP($B11,CDM!$L$37:$T$47,5,FALSE)/24,0)+IFERROR(VLOOKUP($B11,CDM!$L$37:$T$47,5,FALSE)/2*$C11/78,0) -> 57859.363 | S11: =R11+Q11 -> 5177643.4 | T11: 6223.69 | U11: 4 | V11: 9991016 | W11: =IFERROR(VLOOKUP($B11-1,CDM!$L$7:$T$18,6,FALSE)/12,0)+IFERROR(VLOOKUP($B11,CDM!$L$37:$T$47,6,FALSE)/24,0)+IFERROR(VLOOKUP($B11,CDM!$L$37:$T$47,6,FALSE)/2*$C11/78,0) -> 3501.701 | X11: =W11+V11 -> 9994517.7 | Y11: 22527.76 | Z11: 1 | AA11: 1901617.3 | AB11: 4744.2 | AC11: 36253 | AD11: 471147.45 | AE11: 1514 | AF11: 46556.71 | AG11: 125.85 | AH11: 535 | AI11: 12900 | AJ11: =Economic!H25 -> 764465 | AK11: =Economic!I25 -> 91847.6 | AL11: =Economic!J25 -> 29151.9 | AM11: =Economic!K25 -> 71039.2 | AN11: =Economic!L25 -> 53985.7 | AO11: =Economic!M25 -> 771506 | AP11: =Economic!N25 -> 91677 | AQ11: =Economic!O25 -> 13398 | ... AS11: =Economic!Q25 -> 74140 | AT11: =Economic!D25 -> 7158.3 | AU11: =Economic!E25 -> 7179.8 | AV11: =Economic!F25 -> 245.1 | AW11: =Economic!G25 -> 245.6 | AX11: =Economic!W25 -> 26260 | AY11: =Economic!R25 -> 216.3 | AZ11: =Economic!W25 -> 26260 | BA11: =Economic!X25 -> 612 | BB11: =Economic!Y25 -> 8887 | BC11: =Weather!C23 -> 12.279435 | BD11: =Weather!D23 -> 241.64583 | BE11: =Weather!E23 -> 2.3083333 | BF11: =Weather!F23 -> 183.64583 | BG11: =Weather!G23 -> 6.3083333 | BH11: =Weather!H23 -> 129.94583 | BI11: =Weather!I23 -> 14.608333 | BJ11: =Weather!J23 -> 90.325 | ... BQ11: =Weather!Q23 -> 155.3125 | BR11: 0 | BS11: 0 | BT11: 0 | BU11: 0 | BV11: 0 | BW11: 0 | BX11: 0 | BY11: 0 | BZ11: 0 | CA11: 1 | CB11: 0 | CC11: 0 | CD11: 0 | CE11: 0 | CF11: 1 | CG11: 1 | CH11: 1 | CI11: =CE11+CG11 -> 1 | CJ11: =CE11+CF11 -> 1 | CK11: 0 | CL11: 0 | CM11: =1+CM10 -> 10 | CN11: 0 | CO11: 0 | CP11: 0 | CQ11: 0 | CR11: 0 | CS11: 31 | CT11: 21 | CU11: 0 | CV11: 0 | CW11: 0 | CX11: 0 | CY11: 0 | CZ11: =$CV11*BD11 -> 0 | DA11: =$CV11*BE11 -> 0 | DB11: =$CV11*BF11 -> 0 | DC11: =$CV11*BG11 -> 0 | DD11: =$CV11*BH11 -> 0 | DE11: =$CV11*BI11 -> 0 | DF11: =$CV11*BJ11 -> 0 | DG11: =$CV11*BK11 -> 0 | ... DM11: =$CV11*BQ11 -> 0 | DN11: =$CX11*BD11 -> 0 | DO11: =$CX11*BE11 -> 0 | DP11: =$CX11*BF11 -> 0 | DQ11: =$CX11*BG11 -> 0 | DR11: =$CX11*BH11 -> 0 | DS11: =$CX11*BI11 -> 0 | DT11: =$CX11*BJ11 -> 0 | DU11: =$CX11*BK11 -> 0 | ... EA11: =$CX11*BQ11 -> 0 | EB11: =F11/G11 -> 543.31898 | EC11: =EB11/CS11 -> 17.526419 | ED11: =F11/CS11 -> 2500213.7 | EE11: =J11/K11 -> 2398.2519 | EF11: =EE11/CS11 -> 77.362965 | EG11: =J11/CS11 -> 972452.47 | EH11: =N11/P11 -> 74871.382 | EI11: =EH11/CS11 -> 2415.2059 | EJ11: =EH11/CT11 -> 3565.3039 | EK11: =N11/CS11 -> 3888481.4 | EL11: =N11/CT11 -> 5740139.3
A12: 43040 | B12: =YEAR(A12) -> 2017 | C12: =MONTH(A12) -> 11 | D12: 82898269 | E12: =IFERROR(VLOOKUP($B12-1,CDM!$L$7:$T$18,2,FALSE)/12,0)+IFERROR(VLOOKUP($B12,CDM!$L$37:$O$47,2,FALSE)/24,0)+IFERROR(VLOOKUP($B12,CDM!$L$37:$O$47,2,FALSE)/2*$C12/78,0) -> 1527239 | F12: =D12+E12 -> 84425508 | G12: 142883 | H12: 31138349 | I12: =IFERROR(VLOOKUP($B12-1,CDM!$L$7:$T$18,3,FALSE)/12,0)+IFERROR(VLOOKUP($B12,CDM!$L$37:$O$47,3,FALSE)/24,0)+IFERROR(VLOOKUP($B12,CDM!$L$37:$O$47,3,FALSE)/2*$C12/78,0) -> 302045.34 | J12: =H12+I12 -> 31440394 | K12: 12569 | L12: 116281914 | M12: =IFERROR(VLOOKUP($B12-1,CDM!$L$7:$T$18,4,FALSE)/12,0)+IFERROR(VLOOKUP($B12,CDM!$L$37:$O$47,4,FALSE)/24,0)+IFERROR(VLOOKUP($B12,CDM!$L$37:$O$47,4,FALSE)/2*$C12/78,0) -> 2237615.6 | N12: =L12+M12 -> 1.1851953e+08 | O12: 291467.1 | P12: 1614 | Q12: 3235223 | R12: =IFERROR(VLOOKUP($B12-1,CDM!$L$7:$T$18,5,FALSE)/12,0)+IFERROR(VLOOKUP($B12,CDM!$L$37:$T$47,5,FALSE)/24,0)+IFERROR(VLOOKUP($B12,CDM!$L$37:$T$47,5,FALSE)/2*$C12/78,0) -> 61365.991 | S12: =R12+Q12 -> 3296589 | T12: 4721.35 | U12: 4 | V12: 8683088 | W12: =IFERROR(VLOOKUP($B12-1,CDM!$L$7:$T$18,6,FALSE)/12,0)+IFERROR(VLOOKUP($B12,CDM!$L$37:$T$47,6,FALSE)/24,0)+IFERROR(VLOOKUP($B12,CDM!$L$37:$T$47,6,FALSE)/2*$C12/78,0) -> 3713.9253 | X12: =W12+V12 -> 8686801.9 | Y12: 14608.34 | Z12: 1 | AA12: 1796120.2 | AB12: 4228.16 | AC12: 36484 | AD12: 456409.04 | AE12: 1515 | AF12: 45729.34 | AG12: 125.79 | AH12: 535 | AI12: 14400 | AJ12: =Economic!H26 -> 764465 | AK12: =Economic!I26 -> 91847.6 | AL12: =Economic!J26 -> 29151.9 | AM12: =Economic!K26 -> 71039.2 | AN12: =Economic!L26 -> 53985.7 | AO12: =Economic!M26 -> 771506 | AP12: =Economic!N26 -> 91677 | AQ12: =Economic!O26 -> 13398 | ... AS12: =Economic!Q26 -> 74140 | AT12: =Economic!D26 -> 7182.2 | AU12: =Economic!E26 -> 7182.5 | AV12: =Economic!F26 -> 249.3 | AW12: =Economic!G26 -> 247 | AX12: =Economic!W26 -> 26260 | AY12: =Economic!R26 -> 223.2 | AZ12: =Economic!W26 -> 26260 | BA12: =Economic!X26 -> 612 | BB12: =Economic!Y26 -> 8887 | BC12: =Weather!C24 -> 2.9639583 | BD12: =Weather!D24 -> 511.08125 | BE12: =Weather!E24 -> 0 | BF12: =Weather!F24 -> 451.08125 | BG12: =Weather!G24 -> 0 | BH12: =Weather!H24 -> 391.08125 | BI12: =Weather!I24 -> 0 | BJ12: =Weather!J24 -> 331.08125 | ... BQ12: =Weather!Q24 -> 8.7625 | BR12: 0 | BS12: 0 | BT12: 0 | BU12: 0 | BV12: 0 | BW12: 0 | BX12: 0 | BY12: 0 | BZ12: 0 | CA12: 0 | CB12: 1 | CC12: 0 | CD12: 0 | CE12: 0 | CF12: 1 | CG12: 0 | CH12: 1 | CI12: =CE12+CG12 -> 0 | CJ12: =CE12+CF12 -> 1 | CK12: 0 | CL12: 0 | CM12: =1+CM11 -> 11 | CN12: 0 | CO12: 0 | CP12: 0 | CQ12: 0 | CR12: 0 | CS12: 30 | CT12: 22 | CU12: 0 | CV12: 0 | CW12: 0 | CX12: 0 | CY12: 0 | CZ12: =$CV12*BD12 -> 0 | DA12: =$CV12*BE12 -> 0 | DB12: =$CV12*BF12 -> 0 | DC12: =$CV12*BG12 -> 0 | DD12: =$CV12*BH12 -> 0 | DE12: =$CV12*BI12 -> 0 | DF12: =$CV12*BJ12 -> 0 | DG12: =$CV12*BK12 -> 0 | ... DM12: =$CV12*BQ12 -> 0 | DN12: =$CX12*BD12 -> 0 | DO12: =$CX12*BE12 -> 0 | DP12: =$CX12*BF12 -> 0 | DQ12: =$CX12*BG12 -> 0 | DR12: =$CX12*BH12 -> 0 | DS12: =$CX12*BI12 -> 0 | DT12: =$CX12*BJ12 -> 0 | DU12: =$CX12*BK12 -> 0 | ... EA12: =$CX12*BQ12 -> 0 | EB12: =F12/G12 -> 590.87161 | EC12: =EB12/CS12 -> 19.69572 | ED12: =F12/CS12 -> 2814183.6 | EE12: =J12/K12 -> 2501.4237 | EF12: =EE12/CS12 -> 83.38079 | EG12: =J12/CS12 -> 1048013.1 | EH12: =N12/P12 -> 73432.174 | EI12: =EH12/CS12 -> 2447.7391 | EJ12: =EH12/CT12 -> 3337.8261 | EK12: =N12/CS12 -> 3950651 | EL12: =N12/CT12 -> 5387251.3
A13: 43070 | B13: =YEAR(A13) -> 2017 | C13: =MONTH(A13) -> 12 | D13: 101119282 | E13: =IFERROR(VLOOKUP($B13-1,CDM!$L$7:$T$18,2,FALSE)/12,0)+IFERROR(VLOOKUP($B13,CDM!$L$37:$O$47,2,FALSE)/24,0)+IFERROR(VLOOKUP($B13,CDM!$L$37:$O$47,2,FALSE)/2*$C13/78,0) -> 1614509.8 | F13: =D13+E13 -> 1.0273379e+08 | G13: 143018 | H13: 33882442 | I13: =IFERROR(VLOOKUP($B13-1,CDM!$L$7:$T$18,3,FALSE)/12,0)+IFERROR(VLOOKUP($B13,CDM!$L$37:$O$47,3,FALSE)/24,0)+IFERROR(VLOOKUP($B13,CDM!$L$37:$O$47,3,FALSE)/2*$C13/78,0) -> 319305.07 | J13: =H13+I13 -> 34201747 | K13: 12599 | L13: 119585525 | M13: =IFERROR(VLOOKUP($B13-1,CDM!$L$7:$T$18,4,FALSE)/12,0)+IFERROR(VLOOKUP($B13,CDM!$L$37:$O$47,4,FALSE)/24,0)+IFERROR(VLOOKUP($B13,CDM!$L$37:$O$47,4,FALSE)/2*$C13/78,0) -> 2365479.3 | N13: =L13+M13 -> 1.21951e+08 | O13: 291185.5 | P13: 1622 | Q13: 3266983 | R13: =IFERROR(VLOOKUP($B13-1,CDM!$L$7:$T$18,5,FALSE)/12,0)+IFERROR(VLOOKUP($B13,CDM!$L$37:$T$47,5,FALSE)/24,0)+IFERROR(VLOOKUP($B13,CDM!$L$37:$T$47,5,FALSE)/2*$C13/78,0) -> 64872.619 | S13: =R13+Q13 -> 3331855.6 | T13: 4721.52 | U13: 4 | V13: 8548034 | W13: =IFERROR(VLOOKUP($B13-1,CDM!$L$7:$T$18,6,FALSE)/12,0)+IFERROR(VLOOKUP($B13,CDM!$L$37:$T$47,6,FALSE)/24,0)+IFERROR(VLOOKUP($B13,CDM!$L$37:$T$47,6,FALSE)/2*$C13/78,0) -> 3926.1496 | X13: =W13+V13 -> 8551960.1 | Y13: 14381.36 | Z13: 1 | AA13: 1955123.3 | AB13: 4229.95 | AC13: 36498 | AD13: 467848.75 | AE13: 1530 | AF13: 48155.73 | AG13: 125.77 | AH13: 535 | AI13: 14400 | AJ13: =Economic!H27 -> 764465 | AK13: =Economic!I27 -> 91847.6 | AL13: =Economic!J27 -> 29151.9 | AM13: =Economic!K27 -> 71039.2 | AN13: =Economic!L27 -> 53985.7 | AO13: =Economic!M27 -> 771506 | AP13: =Economic!N27 -> 91677 | AQ13: =Economic!O27 -> 13398 | ... AS13: =Economic!Q27 -> 74140 | AT13: =Economic!D27 -> 7196.8 | AU13: =Economic!E27 -> 7205 | AV13: =Economic!F27 -> 250.7 | AW13: =Economic!G27 -> 248 | AX13: =Economic!W27 -> 26260 | AY13: =Economic!R27 -> 222.4 | AZ13: =Economic!W27 -> 26260 | BA13: =Economic!X27 -> 612 | BB13: =Economic!Y27 -> 8887 | BC13: =Weather!C25 -> -5.1143817 | BD13: =Weather!D25 -> 778.54583 | BE13: =Weather!E25 -> 0 | BF13: =Weather!F25 -> 716.54583 | BG13: =Weather!G25 -> 0 | BH13: =Weather!H25 -> 654.54583 | BI13: =Weather!I25 -> 0 | BJ13: =Weather!J25 -> 592.54583 | ... BQ13: =Weather!Q25 -> 0 | BR13: 0 | BS13: 0 | BT13: 0 | BU13: 0 | BV13: 0 | BW13: 0 | BX13: 0 | BY13: 0 | BZ13: 0 | CA13: 0 | CB13: 0 | CC13: 1 | CD13: 0 | CE13: 0 | CF13: 0 | CG13: 0 | CH13: 0 | CI13: =CE13+CG13 -> 0 | CJ13: =CE13+CF13 -> 0 | CK13: 0 | CL13: 0 | CM13: =1+CM12 -> 12 | CN13: 0 | CO13: 0 | CP13: 0 | CQ13: 0 | CR13: 0 | CS13: 31 | CT13: 19 | CU13: 0 | CV13: 0 | CW13: 0 | CX13: 0 | CY13: 0 | CZ13: =$CV13*BD13 -> 0 | DA13: =$CV13*BE13 -> 0 | DB13: =$CV13*BF13 -> 0 | DC13: =$CV13*BG13 -> 0 | DD13: =$CV13*BH13 -> 0 | DE13: =$CV13*BI13 -> 0 | DF13: =$CV13*BJ13 -> 0 | DG13: =$CV13*BK13 -> 0 | ... DM13: =$CV13*BQ13 -> 0 | DN13: =$CX13*BD13 -> 0 | DO13: =$CX13*BE13 -> 0 | DP13: =$CX13*BF13 -> 0 | DQ13: =$CX13*BG13 -> 0 | DR13: =$CX13*BH13 -> 0 | DS13: =$CX13*BI13 -> 0 | DT13: =$CX13*BJ13 -> 0 | DU13: =$CX13*BK13 -> 0 | ... EA13: =$CX13*BQ13 -> 0 | EB13: =F13/G13 -> 718.32771 | EC13: =EB13/CS13 -> 23.171861 | ED13: =F13/CS13 -> 3313993.3 | EE13: =J13/K13 -> 2714.6398 | EF13: =EE13/CS13 -> 87.569026 | EG13: =J13/CS13 -> 1103282.2 | EH13: =N13/P13 -> 75185.576 | EI13: =EH13/CS13 -> 2425.3412 | EJ13: =EH13/CT13 -> 3957.1356 | EK13: =N13/CS13 -> 3933903.4 | EL13: =N13/CT13 -> 6418473.9
A14: 43101 | B14: =YEAR(A14) -> 2018 | C14: =MONTH(A14) -> 1 | D14: 103110214 | E14: =IFERROR(VLOOKUP($B14-1,CDM!$L$7:$T$18,2,FALSE)/12,0)+IFERROR(VLOOKUP($B14,CDM!$L$37:$O$47,2,FALSE)/24,0)+IFERROR(VLOOKUP($B14,CDM!$L$37:$O$47,2,FALSE)/2*$C14/78,0) -> 1655176 | F14: =D14+E14 -> 1.0476539e+08 | G14: 143169 | H14: 36703749 | I14: =IFERROR(VLOOKUP($B14-1,CDM!$L$7:$T$18,3,FALSE)/12,0)+IFERROR(VLOOKUP($B14,CDM!$L$37:$O$47,3,FALSE)/24,0)+IFERROR(VLOOKUP($B14,CDM!$L$37:$O$47,3,FALSE)/2*$C14/78,0) -> 444106.28 | J14: =H14+I14 -> 37147855 | K14: 12614 | L14: 127178163 | M14: =IFERROR(VLOOKUP($B14-1,CDM!$L$7:$T$18,4,FALSE)/12,0)+IFERROR(VLOOKUP($B14,CDM!$L$37:$O$47,4,FALSE)/24,0)+IFERROR(VLOOKUP($B14,CDM!$L$37:$O$47,4,FALSE)/2*$C14/78,0) -> 2945203.2 | N14: =L14+M14 -> 1.3012337e+08 | O14: 294391.73 | P14: 1615 | Q14: 3806686 | R14: =IFERROR(VLOOKUP($B14-1,CDM!$L$7:$T$18,5,FALSE)/12,0)+IFERROR(VLOOKUP($B14,CDM!$L$37:$T$47,5,FALSE)/24,0)+IFERROR(VLOOKUP($B14,CDM!$L$37:$T$47,5,FALSE)/2*$C14/78,0) -> 74090.364 | S14: =R14+Q14 -> 3880776.4 | T14: 1808.99 | U14: 5 | V14: 9015210 | W14: =IFERROR(VLOOKUP($B14-1,CDM!$L$7:$T$18,6,FALSE)/12,0)+IFERROR(VLOOKUP($B14,CDM!$L$37:$T$47,6,FALSE)/24,0)+IFERROR(VLOOKUP($B14,CDM!$L$37:$T$47,6,FALSE)/2*$C14/78,0) -> 87856.043 | X14: =W14+V14 -> 9103066 | Y14: 14598.05 | Z14: 1 | AA14: 1895959.6 | AB14: 4244.27 | AC14: 36633 | AD14: 466851.67 | AE14: 1523 | AF14: 46307.57 | AG14: 125.85 | AH14: 535 | AI14: 14400 | AJ14: =Economic!H28 -> 789828.1 | AK14: =Economic!I28 -> 95159.5 | AL14: =Economic!J28 -> 30609.7 | AM14: =Economic!K28 -> 72894 | AN14: =Economic!L28 -> 57384.8 | AO14: =Economic!M28 -> 779694 | AP14: =Economic!N28 -> 94103 | AQ14: =Economic!O28 -> 13370 | ... AS14: =Economic!Q28 -> 73963 | AT14: =Economic!D28 -> 7195 | AU14: =Economic!E28 -> 7165 | AV14: =Economic!F28 -> 251.3 | AW14: =Economic!G28 -> 247.7 | AX14: =Economic!W28 -> 23024 | AY14: =Economic!R28 -> 196.1 | AZ14: =Economic!W28 -> 23024 | BA14: =Economic!X28 -> 1488 | BB14: =Economic!Y28 -> 6847 | BC14: =Weather!C26 -> -6.2030914 | BD14: =Weather!D26 -> 812.29583 | BE14: =Weather!E26 -> 0 | BF14: =Weather!F26 -> 750.29583 | BG14: =Weather!G26 -> 0 | BH14: =Weather!H26 -> 688.29583 | BI14: =Weather!I26 -> 0 | BJ14: =Weather!J26 -> 626.29583 | ... BQ14: =Weather!Q26 -> 0.066666667 | BR14: 1 | BS14: 0 | BT14: 0 | BU14: 0 | BV14: 0 | BW14: 0 | BX14: 0 | BY14: 0 | BZ14: 0 | CA14: 0 | CB14: 0 | CC14: 0 | CD14: 0 | CE14: =CE2 -> 0 | CF14: 0 | CG14: =CG2 -> 0 | CH14: 0 | CI14: =CI2 -> 0 | CJ14: =CE14+CF14 -> 0 | CK14: =CK2 -> 0 | CL14: =CL2 -> 0 | CM14: =1+CM13 -> 13 | CN14: 0 | CO14: 0 | CP14: 0 | CQ14: 0 | CR14: 0 | CS14: 31 | CT14: 22 | CU14: 0 | CV14: 0 | CW14: 0 | CX14: 0 | CY14: 0 | CZ14: =$CV14*BD14 -> 0 | DA14: =$CV14*BE14 -> 0 | DB14: =$CV14*BF14 -> 0 | DC14: =$CV14*BG14 -> 0 | DD14: =$CV14*BH14 -> 0 | DE14: =$CV14*BI14 -> 0 | DF14: =$CV14*BJ14 -> 0 | DG14: =$CV14*BK14 -> 0 | ... DM14: =$CV14*BQ14 -> 0 | DN14: =$CX14*BD14 -> 0 | DO14: =$CX14*BE14 -> 0 | DP14: =$CX14*BF14 -> 0 | DQ14: =$CX14*BG14 -> 0 | DR14: =$CX14*BH14 -> 0 | DS14: =$CX14*BI14 -> 0 | DT14: =$CX14*BJ14 -> 0 | DU14: =$CX14*BK14 -> 0 | ... EA14: =$CX14*BQ14 -> 0 | EB14: =F14/G14 -> 731.7603 | EC14: =EB14/CS14 -> 23.605171 | ED14: =F14/CS14 -> 3379528.7 | EE14: =J14/K14 -> 2944.9703 | EF14: =EE14/CS14 -> 94.999042 | EG14: =J14/CS14 -> 1198317.9 | EH14: =N14/P14 -> 80571.744 | EI14: =EH14/CS14 -> 2599.0885 | EJ14: =EH14/CT14 -> 3662.352 | EK14: =N14/CS14 -> 4197527.9 | EL14: =N14/CT14 -> 5914698.5
