Workbook

Sheet Results Summary
B1: Summary
B2: 2027 | C2: kWh | D2: kW | E2: Customers / Connections
B3: =B39 -> Residential | C3: =M17 -> 1.2468068e+09 | E3: =M39 -> 156277.41
B4: =B40 -> GS < 50 | C4: =M18 -> 4.1959005e+08 | E4: =M40 -> 13763.954
B5: =B41 -> GS > 50 | C5: =M19 -> 1.4457643e+09 | D5: =M29 -> 3658332.2 | E5: =M41 -> 1518.8343
B6: =B42 -> GS Co Gen | C6: =M20 -> 37958687 | D6: =M30 -> 67531.955 | E6: =M42 -> 7
B7: =B43 -> Large Use | C7: =M21 -> 1.6151499e+08 | D7: =M31 -> 308313.01 | E7: =M43 -> 2
B8: =B44 -> Street Light | C8: =M22 -> 17892936 | D8: =M32 -> 50166.768 | E8: =M44 -> 41542.967
B9: =B45 -> Sentinel Light | C9: =M23 -> 492053.31 | D9: =M33 -> 1333.9779 | E9: =M45 -> 466.20579
B10: =B46 -> USL | C10: =M24 -> 5443581.1 | E10: =M46 -> 1585.3161
B11: =B34 -> Standby | D11: =M34 -> 196800
B12: Total | C12: =SUM(C3:C11) -> 3.3354634e+09 | D12: =SUM(D3:D11) -> 4282477.9 | E12: =SUM(E3:E11) -> 215163.69
B15: kWh
B16: kWh | C16: ='Summary Tables'!AG2 -> 2017 Actual | D16: ='Summary Tables'!AH2 -> 2018 Actual | E16: ='Summary Tables'!AI2 -> 2019 Actual | F16: ='Summary Tables'!AJ2 -> 2020 Actual | G16: ='Summary Tables'!AK2 -> 2021 Actual | H16: ='Summary Tables'!AL2 -> 2022 Actual | I16: ='Summary Tables'!AM2 -> 2023 Actual | J16: ='Summary Tables'!AN2 -> 2024 Actual | ... M16: ='Summary Tables'!AQ2 -> 2027 Forecast
B17: Residential | C17: ='Summary Tables'!AG3 -> 1047993667 | D17: ='Summary Tables'!AH3 -> 1139376021 | E17: ='Summary Tables'!AI3 -> 1.1014339e+09 | F17: ='Summary Tables'!AJ3 -> 1.1743764e+09 | G17: ='Summary Tables'!AK3 -> 1.183156e+09 | H17: ='Summary Tables'!AL3 -> 1.1802102e+09 | I17: ='Summary Tables'!AM3 -> 1.1279505e+09 | J17: ='Summary Tables'!AN3 -> 1.1817061e+09 | ... M17: ='Summary Tables'!AQ3 -> 1.2468068e+09
B18: GS < 50 | C18: ='Summary Tables'!AG4 -> 385223199 | D18: ='Summary Tables'!AH4 -> 398801024 | E18: ='Summary Tables'!AI4 -> 3.942377e+08 | F18: ='Summary Tables'!AJ4 -> 3.7450601e+08 | G18: ='Summary Tables'!AK4 -> 3.8147891e+08 | H18: ='Summary Tables'!AL4 -> 4.0490435e+08 | I18: ='Summary Tables'!AM4 -> 3.9991844e+08 | J18: ='Summary Tables'!AN4 -> 4.0423397e+08 | ... M18: ='Summary Tables'!AQ4 -> 4.1959005e+08
B19: GS > 50 | C19: ='Summary Tables'!AG5 -> 1458855316 | D19: ='Summary Tables'!AH5 -> 1485117370 | E19: ='Summary Tables'!AI5 -> 1.4083412e+09 | F19: ='Summary Tables'!AJ5 -> 1.3656784e+09 | G19: ='Summary Tables'!AK5 -> 1.3853801e+09 | H19: ='Summary Tables'!AL5 -> 1.4247085e+09 | I19: ='Summary Tables'!AM5 -> 1.4003932e+09 | J19: ='Summary Tables'!AN5 -> 1.4462632e+09 | ... M19: ='Summary Tables'!AQ5 -> 1.4457643e+09
B20: GS Co Gen | C20: ='Summary Tables'!AG6 -> 46826076 | D20: ='Summary Tables'!AH6 -> 47167618 | E20: ='Summary Tables'!AI6 -> 34966868 | F20: ='Summary Tables'!AJ6 -> 36542442 | G20: ='Summary Tables'!AK6 -> 28072542 | H20: ='Summary Tables'!AL6 -> 43045721 | I20: ='Summary Tables'!AM6 -> 51773686 | J20: ='Summary Tables'!AN6 -> 34855427 | ... M20: ='Summary Tables'!AQ6 -> 37958687
B21: Large Use | C21: ='Summary Tables'!AG7 -> 117991437 | D21: ='Summary Tables'!AH7 -> 117777486 | E21: ='Summary Tables'!AI7 -> 1.1058977e+08 | F21: ='Summary Tables'!AJ7 -> 1.0189389e+08 | G21: ='Summary Tables'!AK7 -> 1.0565451e+08 | H21: ='Summary Tables'!AL7 -> 1.1246499e+08 | I21: ='Summary Tables'!AM7 -> 1.5316075e+08 | J21: ='Summary Tables'!AN7 -> 1.6273402e+08 | ... M21: ='Summary Tables'!AQ7 -> 1.6151499e+08
B22: Street Light | C22: ='Summary Tables'!AG8 -> 19787896 | D22: ='Summary Tables'!AH8 -> 17086179 | E22: ='Summary Tables'!AI8 -> 16623912 | F22: ='Summary Tables'!AJ8 -> 16908317 | G22: ='Summary Tables'!AK8 -> 16882809 | H22: ='Summary Tables'!AL8 -> 17000378 | I22: ='Summary Tables'!AM8 -> 17184524 | J22: ='Summary Tables'!AN8 -> 17401184 | ... M22: ='Summary Tables'!AQ8 -> 17892936
B23: Sentinel Light | C23: ='Summary Tables'!AG9 -> 580140.85 | D23: ='Summary Tables'!AH9 -> 548884.51 | E23: ='Summary Tables'!AI9 -> 541071.94 | F23: ='Summary Tables'!AJ9 -> 535957.61 | G23: ='Summary Tables'!AK9 -> 528905.93 | H23: ='Summary Tables'!AL9 -> 527895.43 | I23: ='Summary Tables'!AM9 -> 522310.95 | J23: ='Summary Tables'!AN9 -> 512976.03 | ... M23: ='Summary Tables'!AQ9 -> 492053.31
B24: USL | C24: ='Summary Tables'!AG10 -> 5547493.9 | D24: ='Summary Tables'!AH10 -> 5495625.3 | E24: ='Summary Tables'!AI10 -> 5503096.2 | F24: ='Summary Tables'!AJ10 -> 5418852.6 | G24: ='Summary Tables'!AK10 -> 5433333.8 | H24: ='Summary Tables'!AL10 -> 5441494.1 | I24: ='Summary Tables'!AM10 -> 5450500.6 | J24: ='Summary Tables'!AN10 -> 5428926.7 | ... M24: ='Summary Tables'!AQ10 -> 5443581.1
B25: Total | C25: =SUM(C17:C24) -> 3.0828052e+09 | D25: =SUM(D17:D24) -> 3.2113702e+09 | E25: =SUM(E17:E24) -> 3.0722375e+09 | F25: =SUM(F17:F24) -> 3.0758603e+09 | G25: =SUM(G17:G24) -> 3.1065871e+09 | H25: =SUM(H17:H24) -> 3.1883035e+09 | I25: =SUM(I17:I24) -> 3.1563539e+09 | J25: =SUM(J17:J24) -> 3.2531358e+09 | ... M25: =SUM(M17:M24) -> 3.3354634e+09
B27: Billed kW
B28: kW | C28: ='Summary Tables'!AG26 -> 2017 Actual | D28: ='Summary Tables'!AH26 -> 2018 Actual | E28: ='Summary Tables'!AI26 -> 2019 Actual | F28: ='Summary Tables'!AJ26 -> 2020 Actual | G28: ='Summary Tables'!AK26 -> 2021 Actual | H28: ='Summary Tables'!AL26 -> 2022 Actual | I28: ='Summary Tables'!AM26 -> 2023 Actual | J28: ='Summary Tables'!AN26 -> 2024 Actual | ... M28: ='Summary Tables'!AQ26 -> 2027 Forecast
B29: =B19 -> GS > 50 | C29: ='Summary Tables'!AG27 -> 3708563.1 | D29: ='Summary Tables'!AH27 -> 3744566.1 | E29: ='Summary Tables'!AI27 -> 3636724.4 | F29: ='Summary Tables'!AJ27 -> 3426345.1 | G29: ='Summary Tables'!AK27 -> 3496519.7 | H29: ='Summary Tables'!AL27 -> 3574256.7 | I29: ='Summary Tables'!AM27 -> 3541020.3 | J29: ='Summary Tables'!AN27 -> 3656086 | ... M29: ='Summary Tables'!AQ27 -> 3658332.2
B30: =B20 -> GS Co Gen | C30: ='Summary Tables'!AG28 -> 74118.64 | D30: ='Summary Tables'!AH28 -> 88637.54 | E30: ='Summary Tables'!AI28 -> 55790.88 | F30: ='Summary Tables'!AJ28 -> 60972.48 | G30: ='Summary Tables'!AK28 -> 50765.99 | H30: ='Summary Tables'!AL28 -> 72458.68 | I30: ='Summary Tables'!AM28 -> 81016.88 | J30: ='Summary Tables'!AN28 -> 69036 | ... M30: ='Summary Tables'!AQ28 -> 67531.955
B31: =B21 -> Large Use | C31: ='Summary Tables'!AG29 -> 227423.46 | D31: ='Summary Tables'!AH29 -> 221470.55 | E31: ='Summary Tables'!AI29 -> 216188.64 | F31: ='Summary Tables'!AJ29 -> 189813.83 | G31: ='Summary Tables'!AK29 -> 194965.44 | H31: ='Summary Tables'!AL29 -> 213689.69 | I31: ='Summary Tables'!AM29 -> 298641.74 | J31: ='Summary Tables'!AN29 -> 311835.54 | ... M31: ='Summary Tables'!AQ29 -> 308313.01
B32: =B22 -> Street Light | C32: ='Summary Tables'!AG30 -> 55752.55 | D32: ='Summary Tables'!AH30 -> 47864.48 | E32: ='Summary Tables'!AI30 -> 46618.69 | F32: ='Summary Tables'!AJ30 -> 47272.4 | G32: ='Summary Tables'!AK30 -> 47347.97 | H32: ='Summary Tables'!AL30 -> 47685.23 | I32: ='Summary Tables'!AM30 -> 48191.71 | J32: ='Summary Tables'!AN30 -> 48655.01 | ... M32: ='Summary Tables'!AQ30 -> 50166.768
B33: =B23 -> Sentinel Light | C33: ='Summary Tables'!AG31 -> 1579.19 | D33: ='Summary Tables'!AH31 -> 1489.93 | E33: ='Summary Tables'!AI31 -> 1467.4 | F33: ='Summary Tables'!AJ31 -> 1446 | G33: ='Summary Tables'!AK31 -> 1433.29 | H33: ='Summary Tables'!AL31 -> 1427.47 | I33: ='Summary Tables'!AM31 -> 1416.03 | J33: ='Summary Tables'!AN31 -> 1394.79 | ... M33: ='Summary Tables'!AQ31 -> 1333.9779
B34: Standby | C34: ='Summary Tables'!AG32 -> 157800 | D34: ='Summary Tables'!AH32 -> 172800 | E34: ='Summary Tables'!AI32 -> 172800 | F34: ='Summary Tables'!AJ32 -> 182800 | G34: ='Summary Tables'!AK32 -> 194300 | H34: ='Summary Tables'!AL32 -> 196800 | I34: ='Summary Tables'!AM32 -> 196800 | J34: ='Summary Tables'!AN32 -> 196800 | ... M34: ='Summary Tables'!AQ32 -> 196800
B35: Total | C35: =SUM(C29:C34) -> 4225236.9 | D35: =SUM(D29:D34) -> 4276828.6 | E35: =SUM(E29:E34) -> 4129590 | F35: =SUM(F29:F34) -> 3908649.8 | G35: =SUM(G29:G34) -> 3985332.4 | H35: =SUM(H29:H34) -> 4106317.8 | I35: =SUM(I29:I34) -> 4167086.7 | J35: =SUM(J29:J34) -> 4283807.3 | ... M35: =SUM(M29:M34) -> 4282477.9
B37: Customers / Devices
B38: Customers | C38: 2017 Actual | D38: 2018 Actual | E38: 2019 Actual | F38: 2020 Actual | G38: 2021 Actual | H38: 2022 Actual | I38: 2023 Actual | J38: 2024 Actual | K38: 2025 Actual | L38: 2026 Forecast | M38: 2027 Forecast
B39: =B17 -> Residential | C39: ='Summary Tables'!C47 -> 142206.67 | D39: ='Summary Tables'!D47 -> 143926.92 | E39: ='Summary Tables'!E47 -> 145514.42 | F39: ='Summary Tables'!F47 -> 146977.5 | G39: ='Summary Tables'!G47 -> 148595.83 | H39: ='Summary Tables'!H47 -> 150464.33 | I39: ='Summary Tables'!I47 -> 151858.5 | J39: ='Summary Tables'!J47 -> 152856.17 | ... M39: ='Summary Tables'!M47 -> 156277.41
B40: =B18 -> GS < 50 | C40: ='Summary Tables'!C48 -> 12575.25 | D40: ='Summary Tables'!D48 -> 12635.833 | E40: ='Summary Tables'!E48 -> 12771.833 | F40: ='Summary Tables'!F48 -> 12891.583 | G40: ='Summary Tables'!G48 -> 12991.75 | H40: ='Summary Tables'!H48 -> 13153.667 | I40: ='Summary Tables'!I48 -> 13233 | J40: ='Summary Tables'!J48 -> 13363.583 | ... M40: ='Summary Tables'!M48 -> 13763.954
B41: =B19 -> GS > 50 | C41: ='Summary Tables'!C49 -> 1604.5833 | D41: ='Summary Tables'!D49 -> 1622 | E41: ='Summary Tables'!E49 -> 1578.75 | F41: ='Summary Tables'!F49 -> 1540.9167 | G41: ='Summary Tables'!G49 -> 1521.8333 | H41: ='Summary Tables'!H49 -> 1467.6667 | I41: ='Summary Tables'!I49 -> 1464.0833 | J41: ='Summary Tables'!J49 -> 1496.75 | ... M41: ='Summary Tables'!M49 -> 1518.8343
B42: =B20 -> GS Co Gen | C42: ='Summary Tables'!C50 -> 4 | D42: ='Summary Tables'!D50 -> 5 | E42: ='Summary Tables'!E50 -> 5 | F42: ='Summary Tables'!F50 -> 5.1666667 | G42: ='Summary Tables'!G50 -> 7 | H42: ='Summary Tables'!H50 -> 7.25 | I42: ='Summary Tables'!I50 -> 7 | J42: ='Summary Tables'!J50 -> 7 | ... M42: ='Summary Tables'!M50 -> 7
B43: =B21 -> Large Use | C43: ='Summary Tables'!C51 -> 1 | D43: ='Summary Tables'!D51 -> 1 | E43: ='Summary Tables'!E51 -> 1 | F43: ='Summary Tables'!F51 -> 1 | G43: ='Summary Tables'!G51 -> 1 | H43: ='Summary Tables'!H51 -> 1.25 | I43: ='Summary Tables'!I51 -> 2 | J43: ='Summary Tables'!J51 -> 2 | ... M43: ='Summary Tables'!M51 -> 2
B44: =B22 -> Street Light | C44: ='Summary Tables'!C52 -> 36184.083 | D44: ='Summary Tables'!D52 -> 36831.417 | E44: ='Summary Tables'!E52 -> 37110.833 | F44: ='Summary Tables'!F52 -> 37806.583 | G44: ='Summary Tables'!G52 -> 38502.417 | H44: ='Summary Tables'!H52 -> 39231.917 | I44: ='Summary Tables'!I52 -> 39733.333 | J44: ='Summary Tables'!J52 -> 40243.833 | ... M44: ='Summary Tables'!M52 -> 41542.967
B45: =B23 -> Sentinel Light | C45: ='Summary Tables'!C53 -> 547.91667 | D45: ='Summary Tables'!D53 -> 530.25 | E45: ='Summary Tables'!E53 -> 525 | F45: ='Summary Tables'!F53 -> 515.75 | G45: ='Summary Tables'!G53 -> 510.41667 | H45: ='Summary Tables'!H53 -> 505.75 | I45: ='Summary Tables'!I53 -> 500.83333 | J45: ='Summary Tables'!J53 -> 492.5 | ... M45: ='Summary Tables'!M53 -> 466.20579
B46: =B24 -> USL | C46: ='Summary Tables'!C54 -> 1515.5833 | D46: ='Summary Tables'!D54 -> 1522.25 | E46: ='Summary Tables'!E54 -> 1543.5 | F46: ='Summary Tables'!F54 -> 1533.75 | G46: ='Summary Tables'!G54 -> 1543 | H46: ='Summary Tables'!H54 -> 1549.75 | I46: ='Summary Tables'!I54 -> 1563.8333 | J46: ='Summary Tables'!J54 -> 1565.5833 | ... M46: ='Summary Tables'!M54 -> 1585.3161
B47: Total | C47: =SUM(C39:C46) -> 194639.08 | D47: =SUM(D39:D46) -> 197074.67 | E47: =SUM(E39:E46) -> 199050.33 | F47: =SUM(F39:F46) -> 201272.25 | G47: =SUM(G39:G46) -> 203673.25 | H47: =SUM(H39:H46) -> 206381.58 | I47: =SUM(I39:I46) -> 208362.58 | J47: =SUM(J39:J46) -> 210027.42 | ... M47: =SUM(M39:M46) -> 215163.69

Sheet Monthly Data
A1: Date | B1: Year | C1: Month | D1: Residential_kWh | E1: Res_CDM | F1: Res_NoCDM | G1: Residential_Customers | H1: GS_lt_50_kWh | I1: GS_lt_50_CDM | J1: GS_lt_50_NoCDM | K1: GS_lt_50_Customers | L1: GS_gt_50_kWh | M1: GS_gt_50_CDM | N1: GS_gt_50_NoCDM | O1: GS_gt_50_kW | P1: GS_gt_50_Customers | Q1: GS_gt_50_CoGen_kWh | R1: GS_gt_50_CoGen_CDM | S1: GS_gt_50_CoGen_NoCDM | T1: GS_gt_50_CoGen_kW | U1: GS_gt_50_CoGen_Customers | V1: Large_Use_kWh | W1: Large_Use_CDM | X1: Large_Use_NoCDM | Y1: Large_Use_kW | Z1: Large_Use_Customers | AA1: Streetlights_kWh | AB1: Streetlights_kW | AC1: Streetlights_Connections | AD1: USL_kWh | AE1: USL Connections | AF1: Sentinel_kWh | AG1: Sentinel_kW | AH1: Sentinel_Connections | AI1: Standby kW | AJ1: ON_GDP | AK1: ON_Manufacturing_GDP | AL1: ON_Info_Ind_GDP | AM1: ON_Fin_and_Insurance_GDP | AN1: ON_Prof_Services_GDP | AO1: OEA_GDP | AP1: OEA_Manufacturing | AQ1: OEA_Manufacturing_Food | AR1: OEA_Info | AS1: OEA_Finance_and_Insurance | AT1: Ont_FTEAdj | AU1: Ont_FTE | AV1: London_FTEAdj | AW1: London_FTE | AX1: =Economic!W2&Economic!W3 -> OEA_GDPChange | AY1: Ont_FTEAdjChange | AZ1: Ont_FTEChange | BA1: London_FTEAdjChange | BB1: London_FTEChange | BC1: MeanTemp | BD1: HDD20 | BE1: CDD20 | BF1: HDD18 | BG1: CDD18 | BH1: HDD16 | BI1: CDD16 | BJ1: HDD14 | BK1: CDD14 | BL1: HDD12 | BM1: CDD12 | BN1: HDD10 | BO1: CDD10 | BP1: HDD8 | BQ1: CDD8 | BR1: Jan | BS1: Feb | BT1: Mar | BU1: Apr | BV1: May | BW1: Jun | BX1: Jul | BY1: Aug | BZ1: Sept | CA1: Oct | CB1: Nov | CC1: Dec | CD1: Spring | CE1: Spring2 | CF1: Fall | CG1: Fall2 | CH1: Shoulder | CI1: Shoulder2 | CJ1: Shoulder3 | CK1: Summer | CL1: Summer2 | CM1: Trend | CN1: Trend2021 | CO1: Trend2022 | CP1: Trend2023 | CQ1: Trend2024 | CR1: Trend2025 | CS1: Month Days | CT1: Peak Days | CU1: COVID | CV1: COVID_AM | CW1: COVID_AM2 | CX1: COVID_WFH | CY1: COVID2020 | CZ1: CovHDD20 | DA1: CovCDD20 | DB1: CovHDD18 | DC1: CovCDD18 | DD1: CovHDD16 | DE1: CovCDD16 | DF1: CovHDD14 | DG1: CovCDD14 | DH1: CovHDD12 | DI1: CovCDD12 | DJ1: CovHDD10 | DK1: CovCDD10 | DL1: CovHDD8 | DM1: CovCDD8 | DN1: CWFHHDD20 | DO1: CWFHCDD20 | DP1: CWFHHDD18 | DQ1: CWFHCDD18 | DR1: CWFHHDD16 | DS1: CWFHCDD16 | DT1: CWFHHDD14 | DU1: CWFHCDD14 | DV1: CWFHHDD12 | DW1: CWFHCDD12 | DX1: CWFHHDD10 | DY1: CWFHCDD10 | DZ1: CWFHHDD8 | EA1: CWFHCDD8 | EB1: AvgRes | EC1: AvgResD | ED1: ResD | EE1: AvgGSlt50 | EF1: AvgGSlt50D | EG1: GSlt50D | EH1: AvgGSgt50 | EI1: AvgGSgt50MD | EJ1: AvgGSgt50PD | EK1: GSgt50MD | EL1: GSgt50PD
A2: 42736 | B2: =YEAR(A2) -> 2017 | C2: =MONTH(A2) -> 1 | D2: 95873581 | E2: =IFERROR(VLOOKUP($B2-1,CDM!$L$7:$T$18,2,FALSE)/12,0)+IFERROR(VLOOKUP($B2,CDM!$L$37:$O$47,2,FALSE)/24,0)+IFERROR(VLOOKUP($B2,CDM!$L$37:$O$47,2,FALSE)/2*$C2/78,0) -> 654530.99 | F2: =D2+E2 -> 96528112 | G2: 141495 | H2: 34553601 | I2: =IFERROR(VLOOKUP($B2-1,CDM!$L$7:$T$18,3,FALSE)/12,0)+IFERROR(VLOOKUP($B2,CDM!$L$37:$O$47,3,FALSE)/24,0)+IFERROR(VLOOKUP($B2,CDM!$L$37:$O$47,3,FALSE)/2*$C2/78,0) -> 129448 | J2: =H2+I2 -> 34683049 | K2: 12593 | L2: 114991755 | M2: =IFERROR(VLOOKUP($B2-1,CDM!$L$7:$T$18,4,FALSE)/12,0)+IFERROR(VLOOKUP($B2,CDM!$L$37:$O$47,4,FALSE)/24,0)+IFERROR(VLOOKUP($B2,CDM!$L$37:$O$47,4,FALSE)/2*$C2/78,0) -> 958978.09 | N2: =L2+M2 -> 1.1595073e+08 | O2: 291162.15 | P2: 1594 | Q2: 1948930 | R2: =IFERROR(VLOOKUP($B2-1,CDM!$L$7:$T$18,5,FALSE)/12,0)+IFERROR(VLOOKUP($B2,CDM!$L$37:$T$47,5,FALSE)/24,0)+IFERROR(VLOOKUP($B2,CDM!$L$37:$T$47,5,FALSE)/2*$C2/78,0) -> 26299.71 | S2: =R2+Q2 -> 1975229.7 | T2: 3859 | U2: 4 | V2: 8997855 | W2: =IFERROR(VLOOKUP($B2-1,CDM!$L$7:$T$18,6,FALSE)/12,0)+IFERROR(VLOOKUP($B2,CDM!$L$37:$T$47,6,FALSE)/24,0)+IFERROR(VLOOKUP($B2,CDM!$L$37:$T$47,6,FALSE)/2*$C2/78,0) -> 1591.6823 | X2: =W2+V2 -> 8999446.7 | Y2: 14801.45 | Z2: 1 | AA2: 2105050.3 | AB2: 4712.34 | AC2: 35967 | AD2: 470992.23 | AE2: 1516 | AF2: 58050.89 | AG2: 157.43 | AH2: 613 | AI2: 12900 | AJ2: =Economic!H16 -> 764465 | AK2: =Economic!I16 -> 91847.6 | AL2: =Economic!J16 -> 29151.9 | AM2: =Economic!K16 -> 71039.2 | AN2: =Economic!L16 -> 53985.7 | AO2: =Economic!M16 -> 756670 | AP2: =Economic!N16 -> 92615 | AQ2: =Economic!O16 -> 13599 | ... AS2: =Economic!Q16 -> 67116 | AT2: =Economic!D16 -> 6998.9 | AU2: =Economic!E16 -> 6968.1 | AV2: =Economic!F16 -> 241.8 | AW2: =Economic!G16 -> 238.7 | AX2: =Economic!W16 -> 12835 | AY2: =Economic!R16 -> 116 | AZ2: =Economic!W16 -> 12835 | BA2: =Economic!X16 -> 134 | BB2: =Economic!Y16 -> 1434 | BC2: =Weather!C14 -> -2.3577957 | BD2: =Weather!D14 -> 693.09167 | BE2: =Weather!E14 -> 0 | BF2: =Weather!F14 -> 631.09167 | BG2: =Weather!G14 -> 0 | BH2: =Weather!H14 -> 569.09167 | BI2: =Weather!I14 -> 0 | BJ2: =Weather!J14 -> 507.09167 | ... BQ2: =Weather!Q14 -> 0 | BR2: 1 | BS2: 0 | BT2: 0 | BU2: 0 | BV2: 0 | BW2: 0 | BX2: 0 | BY2: 0 | BZ2: 0 | CA2: 0 | CB2: 0 | CC2: 0 | CD2: 0 | CE2: 0 | CF2: 0 | CG2: 0 | CH2: 0 | CI2: =CE2+CG2 -> 0 | CJ2: =CE2+CF2 -> 0 | CK2: 0 | CL2: 0 | CM2: 1 | CN2: 0 | CO2: 0 | CP2: 0 | CQ2: 0 | CR2: 0 | CS2: 31 | CT2: 22 | CU2: 0 | CV2: 0 | CW2: 0 | CX2: 0 | CY2: 0 | CZ2: =$CV2*BD2 -> 0 | DA2: =$CV2*BE2 -> 0 | DB2: =$CV2*BF2 -> 0 | DC2: =$CV2*BG2 -> 0 | DD2: =$CV2*BH2 -> 0 | DE2: =$CV2*BI2 -> 0 | DF2: =$CV2*BJ2 -> 0 | DG2: =$CV2*BK2 -> 0 | ... DM2: =$CV2*BQ2 -> 0 | DN2: =$CX2*BD2 -> 0 | DO2: =$CX2*BE2 -> 0 | DP2: =$CX2*BF2 -> 0 | DQ2: =$CX2*BG2 -> 0 | DR2: =$CX2*BH2 -> 0 | DS2: =$CX2*BI2 -> 0 | DT2: =$CX2*BJ2 -> 0 | DU2: =$CX2*BK2 -> 0 | ... EA2: =$CX2*BQ2 -> 0 | EB2: =F2/G2 -> 682.20158 | EC2: =EB2/CS2 -> 22.006502 | ED2: =F2/CS2 -> 3113810.1 | EE2: =J2/K2 -> 2754.153 | EF2: =EE2/CS2 -> 88.843646 | EG2: =J2/CS2 -> 1118808 | EH2: =N2/P2 -> 72741.991 | EI2: =EH2/CS2 -> 2346.5158 | EJ2: =EH2/CT2 -> 3306.4541 | EK2: =N2/CS2 -> 3740346.2 | EL2: =N2/CT2 -> 5270487.9
A3: 42767 | B3: =YEAR(A3) -> 2017 | C3: =MONTH(A3) -> 2 | D3: 80558289 | E3: =IFERROR(VLOOKUP($B3-1,CDM!$L$7:$T$18,2,FALSE)/12,0)+IFERROR(VLOOKUP($B3,CDM!$L$37:$O$47,2,FALSE)/24,0)+IFERROR(VLOOKUP($B3,CDM!$L$37:$O$47,2,FALSE)/2*$C3/78,0) -> 741801.79 | F3: =D3+E3 -> 81300091 | G3: 141664 | H3: 31484081 | I3: =IFERROR(VLOOKUP($B3-1,CDM!$L$7:$T$18,3,FALSE)/12,0)+IFERROR(VLOOKUP($B3,CDM!$L$37:$O$47,3,FALSE)/24,0)+IFERROR(VLOOKUP($B3,CDM!$L$37:$O$47,3,FALSE)/2*$C3/78,0) -> 146707.74 | J3: =H3+I3 -> 31630789 | K3: 12577 | L3: 122254037 | M3: =IFERROR(VLOOKUP($B3-1,CDM!$L$7:$T$18,4,FALSE)/12,0)+IFERROR(VLOOKUP($B3,CDM!$L$37:$O$47,4,FALSE)/24,0)+IFERROR(VLOOKUP($B3,CDM!$L$37:$O$47,4,FALSE)/2*$C3/78,0) -> 1086841.8 | N3: =L3+M3 -> 1.2334088e+08 | O3: 292258.4 | P3: 1596 | Q3: 2172576 | R3: =IFERROR(VLOOKUP($B3-1,CDM!$L$7:$T$18,5,FALSE)/12,0)+IFERROR(VLOOKUP($B3,CDM!$L$37:$T$47,5,FALSE)/24,0)+IFERROR(VLOOKUP($B3,CDM!$L$37:$T$47,5,FALSE)/2*$C3/78,0) -> 29806.338 | S3: =R3+Q3 -> 2202382.3 | T3: 3499.77 | U3: 4 | V3: 8123127 | W3: =IFERROR(VLOOKUP($B3-1,CDM!$L$7:$T$18,6,FALSE)/12,0)+IFERROR(VLOOKUP($B3,CDM!$L$37:$T$47,6,FALSE)/24,0)+IFERROR(VLOOKUP($B3,CDM!$L$37:$T$47,6,FALSE)/2*$C3/78,0) -> 1803.9066 | X3: =W3+V3 -> 8124930.9 | Y3: 15066.08 | Z3: 1 | AA3: 1773206.2 | AB3: 4718.99 | AC3: 36059 | AD3: 426893.95 | AE3: 1516 | AF3: 52947.82 | AG3: 156.37 | AH3: 607 | AI3: 12900 | AJ3: =Economic!H17 -> 764465 | AK3: =Economic!I17 -> 91847.6 | AL3: =Economic!J17 -> 29151.9 | AM3: =Economic!K17 -> 71039.2 | AN3: =Economic!L17 -> 53985.7 | AO3: =Economic!M17 -> 756670 | AP3: =Economic!N17 -> 92615 | AQ3: =Economic!O17 -> 13599 | ... AS3: =Economic!Q17 -> 67116 | AT3: =Economic!D17 -> 7017.3 | AU3: =Economic!E17 -> 6948.4 | AV3: =Economic!F17 -> 244.4 | AW3: =Economic!G17 -> 241.5 | AX3: =Economic!W17 -> 12835 | AY3: =Economic!R17 -> 117.8 | AZ3: =Economic!W17 -> 12835 | BA3: =Economic!X17 -> 134 | BB3: =Economic!Y17 -> 1434 | BC3: =Weather!C15 -> -0.070684524 | BD3: =Weather!D15 -> 561.97917 | BE3: =Weather!E15 -> 0 | BF3: =Weather!F15 -> 505.97917 | BG3: =Weather!G15 -> 0 | BH3: =Weather!H15 -> 449.97917 | BI3: =Weather!I15 -> 0 | BJ3: =Weather!J15 -> 393.97917 | ... BQ3: =Weather!Q15 -> 4.025 | BR3: 0 | BS3: 1 | BT3: 0 | BU3: 0 | BV3: 0 | BW3: 0 | BX3: 0 | BY3: 0 | BZ3: 0 | CA3: 0 | CB3: 0 | CC3: 0 | CD3: 0 | CE3: 0 | CF3: 0 | CG3: 0 | CH3: 0 | CI3: =CE3+CG3 -> 0 | CJ3: =CE3+CF3 -> 0 | CK3: 0 | CL3: 0 | CM3: =1+CM2 -> 2 | CN3: 0 | CO3: 0 | CP3: 0 | CQ3: 0 | CR3: 0 | CS3: 28 | CT3: 19 | CU3: 0 | CV3: 0 | CW3: 0 | CX3: 0 | CY3: 0 | CZ3: =$CV3*BD3 -> 0 | DA3: =$CV3*BE3 -> 0 | DB3: =$CV3*BF3 -> 0 | DC3: =$CV3*BG3 -> 0 | DD3: =$CV3*BH3 -> 0 | DE3: =$CV3*BI3 -> 0 | DF3: =$CV3*BJ3 -> 0 | DG3: =$CV3*BK3 -> 0 | ... DM3: =$CV3*BQ3 -> 0 | DN3: =$CX3*BD3 -> 0 | DO3: =$CX3*BE3 -> 0 | DP3: =$CX3*BF3 -> 0 | DQ3: =$CX3*BG3 -> 0 | DR3: =$CX3*BH3 -> 0 | DS3: =$CX3*BI3 -> 0 | DT3: =$CX3*BJ3 -> 0 | DU3: =$CX3*BK3 -> 0 | ... EA3: =$CX3*BQ3 -> 0 | EB3: =F3/G3 -> 573.8938 | EC3: =EB3/CS3 -> 20.496207 | ED3: =F3/CS3 -> 2903574.7 | EE3: =J3/K3 -> 2514.9709 | EF3: =EE3/CS3 -> 89.820389 | EG3: =J3/CS3 -> 1129671 | EH3: =N3/P3 -> 77281.252 | EI3: =EH3/CS3 -> 2760.0447 | EJ3: =EH3/CT3 -> 4067.4343 | EK3: =N3/CS3 -> 4405031.4 | EL3: =N3/CT3 -> 6491625.2
A4: 42795 | B4: =YEAR(A4) -> 2017 | C4: =MONTH(A4) -> 3 | D4: 87149622 | E4: =IFERROR(VLOOKUP($B4-1,CDM!$L$7:$T$18,2,FALSE)/12,0)+IFERROR(VLOOKUP($B4,CDM!$L$37:$O$47,2,FALSE)/24,0)+IFERROR(VLOOKUP($B4,CDM!$L$37:$O$47,2,FALSE)/2*$C4/78,0) -> 829072.59 | F4: =D4+E4 -> 87978695 | G4: 141783 | H4: 33557905 | I4: =IFERROR(VLOOKUP($B4-1,CDM!$L$7:$T$18,3,FALSE)/12,0)+IFERROR(VLOOKUP($B4,CDM!$L$37:$O$47,3,FALSE)/24,0)+IFERROR(VLOOKUP($B4,CDM!$L$37:$O$47,3,FALSE)/2*$C4/78,0) -> 163967.47 | J4: =H4+I4 -> 33721872 | K4: 12578 | L4: 124913359 | M4: =IFERROR(VLOOKUP($B4-1,CDM!$L$7:$T$18,4,FALSE)/12,0)+IFERROR(VLOOKUP($B4,CDM!$L$37:$O$47,4,FALSE)/24,0)+IFERROR(VLOOKUP($B4,CDM!$L$37:$O$47,4,FALSE)/2*$C4/78,0) -> 1214705.6 | N4: =L4+M4 -> 1.2612806e+08 | O4: 292186.08 | P4: 1599 | Q4: 3265577 | R4: =IFERROR(VLOOKUP($B4-1,CDM!$L$7:$T$18,5,FALSE)/12,0)+IFERROR(VLOOKUP($B4,CDM!$L$37:$T$47,5,FALSE)/24,0)+IFERROR(VLOOKUP($B4,CDM!$L$37:$T$47,5,FALSE)/2*$C4/78,0) -> 33312.966 | S4: =R4+Q4 -> 3298890 | T4: 1823.19 | U4: 4 | V4: 9232208 | W4: =IFERROR(VLOOKUP($B4-1,CDM!$L$7:$T$18,6,FALSE)/12,0)+IFERROR(VLOOKUP($B4,CDM!$L$37:$T$47,6,FALSE)/24,0)+IFERROR(VLOOKUP($B4,CDM!$L$37:$T$47,6,FALSE)/2*$C4/78,0) -> 2016.1309 | X4: =W4+V4 -> 9234224.1 | Y4: 15289.22 | Z4: 1 | AA4: 1748321.5 | AB4: 4723.41 | AC4: 36096 | AD4: 471289.47 | AE4: 1516 | AF4: 48152.35 | AG4: 131.13 | AH4: 537 | AI4: 12900 | AJ4: =Economic!H18 -> 764465 | AK4: =Economic!I18 -> 91847.6 | AL4: =Economic!J18 -> 29151.9 | AM4: =Economic!K18 -> 71039.2 | AN4: =Economic!L18 -> 53985.7 | AO4: =Economic!M18 -> 756670 | AP4: =Economic!N18 -> 92615 | AQ4: =Economic!O18 -> 13599 | ... AS4: =Economic!Q18 -> 67116 | AT4: =Economic!D18 -> 7035.4 | AU4: =Economic!E18 -> 6933.2 | AV4: =Economic!F18 -> 248 | AW4: =Economic!G18 -> 244.3 | AX4: =Economic!W18 -> 12835 | AY4: =Economic!R18 -> 126.8 | AZ4: =Economic!W18 -> 12835 | BA4: =Economic!X18 -> 134 | BB4: =Economic!Y18 -> 1434 | BC4: =Weather!C16 -> -0.17392473 | BD4: =Weather!D16 -> 625.39167 | BE4: =Weather!E16 -> 0 | BF4: =Weather!F16 -> 563.39167 | BG4: =Weather!G16 -> 0 | BH4: =Weather!H16 -> 501.39167 | BI4: =Weather!I16 -> 0 | BJ4: =Weather!J16 -> 439.39167 | ... BQ4: =Weather!Q16 -> 6.1541667 | BR4: 0 | BS4: 0 | BT4: 1 | BU4: 0 | BV4: 0 | BW4: 0 | BX4: 0 | BY4: 0 | BZ4: 0 | CA4: 0 | CB4: 0 | CC4: 0 | CD4: 1 | CE4: 1 | CF4: 0 | CG4: 0 | CH4: 1 | CI4: =CE4+CG4 -> 1 | CJ4: =CE4+CF4 -> 1 | CK4: 0 | CL4: 0 | CM4: =1+CM3 -> 3 | CN4: 0 | CO4: 0 | CP4: 0 | CQ4: 0 | CR4: 0 | CS4: 31 | CT4: 23 | CU4: 0 | CV4: 0 | CW4: 0 | CX4: 0 | CY4: 0 | CZ4: =$CV4*BD4 -> 0 | DA4: =$CV4*BE4 -> 0 | DB4: =$CV4*BF4 -> 0 | DC4: =$CV4*BG4 -> 0 | DD4: =$CV4*BH4 -> 0 | DE4: =$CV4*BI4 -> 0 | DF4: =$CV4*BJ4 -> 0 | DG4: =$CV4*BK4 -> 0 | ... DM4: =$CV4*BQ4 -> 0 | DN4: =$CX4*BD4 -> 0 | DO4: =$CX4*BE4 -> 0 | DP4: =$CX4*BF4 -> 0 | DQ4: =$CX4*BG4 -> 0 | DR4: =$CX4*BH4 -> 0 | DS4: =$CX4*BI4 -> 0 | DT4: =$CX4*BJ4 -> 0 | DU4: =$CX4*BK4 -> 0 | ... EA4: =$CX4*BQ4 -> 0 | EB4: =F4/G4 -> 620.51653 | EC4: =EB4/CS4 -> 20.016662 | ED4: =F4/CS4 -> 2838022.4 | EE4: =J4/K4 -> 2681.0202 | EF4: =EE4/CS4 -> 86.484524 | EG4: =J4/CS4 -> 1087802.3 | EH4: =N4/P4 -> 78879.34 | EI4: =EH4/CS4 -> 2544.4948 | EJ4: =EH4/CT4 -> 3429.5365 | EK4: =N4/CS4 -> 4068647.2 | EL4: =N4/CT4 -> 5483828.9
A5: 42826 | B5: =YEAR(A5) -> 2017 | C5: =MONTH(A5) -> 4 | D5: 72157766 | E5: =IFERROR(VLOOKUP($B5-1,CDM!$L$7:$T$18,2,FALSE)/12,0)+IFERROR(VLOOKUP($B5,CDM!$L$37:$O$47,2,FALSE)/24,0)+IFERROR(VLOOKUP($B5,CDM!$L$37:$O$47,2,FALSE)/2*$C5/78,0) -> 916343.38 | F5: =D5+E5 -> 73074109 | G5: 141833 | H5: 28819249 | I5: =IFERROR(VLOOKUP($B5-1,CDM!$L$7:$T$18,3,FALSE)/12,0)+IFERROR(VLOOKUP($B5,CDM!$L$37:$O$47,3,FALSE)/24,0)+IFERROR(VLOOKUP($B5,CDM!$L$37:$O$47,3,FALSE)/2*$C5/78,0) -> 181227.2 | J5: =H5+I5 -> 29000476 | K5: 12567 | L5: 111628772 | M5: =IFERROR(VLOOKUP($B5-1,CDM!$L$7:$T$18,4,FALSE)/12,0)+IFERROR(VLOOKUP($B5,CDM!$L$37:$O$47,4,FALSE)/24,0)+IFERROR(VLOOKUP($B5,CDM!$L$37:$O$47,4,FALSE)/2*$C5/78,0) -> 1342569.3 | N5: =L5+M5 -> 1.1297134e+08 | O5: 299701.82 | P5: 1599 | Q5: 3797978 | R5: =IFERROR(VLOOKUP($B5-1,CDM!$L$7:$T$18,5,FALSE)/12,0)+IFERROR(VLOOKUP($B5,CDM!$L$37:$T$47,5,FALSE)/24,0)+IFERROR(VLOOKUP($B5,CDM!$L$37:$T$47,5,FALSE)/2*$C5/78,0) -> 36819.595 | S5: =R5+Q5 -> 3834797.6 | T5: 9182.62 | U5: 4 | V5: 8837800 | W5: =IFERROR(VLOOKUP($B5-1,CDM!$L$7:$T$18,6,FALSE)/12,0)+IFERROR(VLOOKUP($B5,CDM!$L$37:$T$47,6,FALSE)/24,0)+IFERROR(VLOOKUP($B5,CDM!$L$37:$T$47,6,FALSE)/2*$C5/78,0) -> 2228.3552 | X5: =W5+V5 -> 8840028.4 | Y5: 19310.26 | Z5: 1 | AA5: 1516682 | AB5: 4724.87 | AC5: 36107 | AD5: 456723.76 | AE5: 1516 | AF5: 46114.02 | AG5: 127.67 | AH5: 537 | AI5: 12900 | AJ5: =Economic!H19 -> 764465 | AK5: =Economic!I19 -> 91847.6 | AL5: =Economic!J19 -> 29151.9 | AM5: =Economic!K19 -> 71039.2 | AN5: =Economic!L19 -> 53985.7 | AO5: =Economic!M19 -> 764676 | AP5: =Economic!N19 -> 92541 | AQ5: =Economic!O19 -> 13363 | ... AS5: =Economic!Q19 -> 70966 | AT5: =Economic!D19 -> 7041.8 | AU5: =Economic!E19 -> 6951.9 | AV5: =Economic!F19 -> 250.7 | AW5: =Economic!G19 -> 246.2 | AX5: =Economic!W19 -> 23847 | AY5: =Economic!R19 -> 132.8 | AZ5: =Economic!W19 -> 23847 | BA5: =Economic!X19 -> 2369 | BB5: =Economic!Y19 -> 5722 | BC5: =Weather!C17 -> 9.3709722 | BD5: =Weather!D17 -> 318.87083 | BE5: =Weather!E17 -> 0 | BF5: =Weather!F17 -> 259.11667 | BG5: =Weather!G17 -> 0.24583333 | BH5: =Weather!H17 -> 202.6375 | BI5: =Weather!I17 -> 3.7666667 | BJ5: =Weather!J17 -> 150.225 | ... BQ5: =Weather!Q17 -> 69.820833 | BR5: 0 | BS5: 0 | BT5: 0 | BU5: 1 | BV5: 0 | BW5: 0 | BX5: 0 | BY5: 0 | BZ5: 0 | CA5: 0 | CB5: 0 | CC5: 0 | CD5: 1 | CE5: 1 | CF5: 0 | CG5: 0 | CH5: 1 | CI5: =CE5+CG5 -> 1 | CJ5: =CE5+CF5 -> 1 | CK5: 0 | CL5: 0 | CM5: =1+CM4 -> 4 | CN5: 0 | CO5: 0 | CP5: 0 | CQ5: 0 | CR5: 0 | CS5: 30 | CT5: 19 | CU5: 0 | CV5: 0 | CW5: 0 | CX5: 0 | CY5: 0 | CZ5: =$CV5*BD5 -> 0 | DA5: =$CV5*BE5 -> 0 | DB5: =$CV5*BF5 -> 0 | DC5: =$CV5*BG5 -> 0 | DD5: =$CV5*BH5 -> 0 | DE5: =$CV5*BI5 -> 0 | DF5: =$CV5*BJ5 -> 0 | DG5: =$CV5*BK5 -> 0 | ... DM5: =$CV5*BQ5 -> 0 | DN5: =$CX5*BD5 -> 0 | DO5: =$CX5*BE5 -> 0 | DP5: =$CX5*BF5 -> 0 | DQ5: =$CX5*BG5 -> 0 | DR5: =$CX5*BH5 -> 0 | DS5: =$CX5*BI5 -> 0 | DT5: =$CX5*BJ5 -> 0 | DU5: =$CX5*BK5 -> 0 | ... EA5: =$CX5*BQ5 -> 0 | EB5: =F5/G5 -> 515.21232 | EC5: =EB5/CS5 -> 17.173744 | ED5: =F5/CS5 -> 2435803.6 | EE5: =J5/K5 -> 2307.669 | EF5: =EE5/CS5 -> 76.9223 | EG5: =J5/CS5 -> 966682.54 | EH5: =N5/P5 -> 70651.245 | EI5: =EH5/CS5 -> 2355.0415 | EJ5: =EH5/CT5 -> 3718.4866 | EK5: =N5/CS5 -> 3765711.4 | EL5: =N5/CT5 -> 5945860.1
A6: 42856 | B6: =YEAR(A6) -> 2017 | C6: =MONTH(A6) -> 5 | D6: 73173599 | E6: =IFERROR(VLOOKUP($B6-1,CDM!$L$7:$T$18,2,FALSE)/12,0)+IFERROR(VLOOKUP($B6,CDM!$L$37:$O$47,2,FALSE)/24,0)+IFERROR(VLOOKUP($B6,CDM!$L$37:$O$47,2,FALSE)/2*$C6/78,0) -> 1003614.2 | F6: =D6+E6 -> 74177213 | G6: 141997 | H6: 29942579 | I6: =IFERROR(VLOOKUP($B6-1,CDM!$L$7:$T$18,3,FALSE)/12,0)+IFERROR(VLOOKUP($B6,CDM!$L$37:$O$47,3,FALSE)/24,0)+IFERROR(VLOOKUP($B6,CDM!$L$37:$O$47,3,FALSE)/2*$C6/78,0) -> 198486.94 | J6: =H6+I6 -> 30141066 | K6: 12575 | L6: 119336727 | M6: =IFERROR(VLOOKUP($B6-1,CDM!$L$7:$T$18,4,FALSE)/12,0)+IFERROR(VLOOKUP($B6,CDM!$L$37:$O$47,4,FALSE)/24,0)+IFERROR(VLOOKUP($B6,CDM!$L$37:$O$47,4,FALSE)/2*$C6/78,0) -> 1470433.1 | N6: =L6+M6 -> 1.2080716e+08 | O6: 314401.45 | P6: 1602 | Q6: 4070442 | R6: =IFERROR(VLOOKUP($B6-1,CDM!$L$7:$T$18,5,FALSE)/12,0)+IFERROR(VLOOKUP($B6,CDM!$L$37:$T$47,5,FALSE)/24,0)+IFERROR(VLOOKUP($B6,CDM!$L$37:$T$47,5,FALSE)/2*$C6/78,0) -> 40326.223 | S6: =R6+Q6 -> 4110768.2 | T6: 8727.15 | U6: 4 | V6: 9324282 | W6: =IFERROR(VLOOKUP($B6-1,CDM!$L$7:$T$18,6,FALSE)/12,0)+IFERROR(VLOOKUP($B6,CDM!$L$37:$T$47,6,FALSE)/24,0)+IFERROR(VLOOKUP($B6,CDM!$L$37:$T$47,6,FALSE)/2*$C6/78,0) -> 2440.5795 | X6: =W6+V6 -> 9326722.6 | Y6: 20527.56 | Z6: 1 | AA6: 1353573.8 | AB6: 4740.9 | AC6: 36107 | AD6: 471343.42 | AE6: 1514 | AF6: 47527.79 | AG6: 126.02 | AH6: 536 | AI6: 12900 | AJ6: =Economic!H20 -> 764465 | AK6: =Economic!I20 -> 91847.6 | AL6: =Economic!J20 -> 29151.9 | AM6: =Economic!K20 -> 71039.2 | AN6: =Economic!L20 -> 53985.7 | AO6: =Economic!M20 -> 764676 | AP6: =Economic!N20 -> 92541 | AQ6: =Economic!O20 -> 13363 | ... AS6: =Economic!Q20 -> 70966 | AT6: =Economic!D20 -> 7055.9 | AU6: =Economic!E20 -> 7023.7 | AV6: =Economic!F20 -> 251.2 | AW6: =Economic!G20 -> 249 | AX6: =Economic!W20 -> 23847 | AY6: =Economic!R20 -> 136.8 | AZ6: =Economic!W20 -> 23847 | BA6: =Economic!X20 -> 2369 | BB6: =Economic!Y20 -> 5722 | BC6: =Weather!C18 -> 12.22621 | BD6: =Weather!D18 -> 247.3 | BE6: =Weather!E18 -> 6.3125 | BF6: =Weather!F18 -> 189.45833 | BG6: =Weather!G18 -> 10.470833 | BH6: =Weather!H18 -> 136.45833 | BI6: =Weather!I18 -> 19.470833 | BJ6: =Weather!J18 -> 92.170833 | ... BQ6: =Weather!Q18 -> 143.98333 | BR6: 0 | BS6: 0 | BT6: 0 | BU6: 0 | BV6: 1 | BW6: 0 | BX6: 0 | BY6: 0 | BZ6: 0 | CA6: 0 | CB6: 0 | CC6: 0 | CD6: 1 | CE6: 0 | CF6: 0 | CG6: 0 | CH6: 1 | CI6: =CE6+CG6 -> 0 | CJ6: =CE6+CF6 -> 0 | CK6: 1 | CL6: 0 | CM6: =1+CM5 -> 5 | CN6: 0 | CO6: 0 | CP6: 0 | CQ6: 0 | CR6: 0 | CS6: 31 | CT6: 22 | CU6: 0 | CV6: 0 | CW6: 0 | CX6: 0 | CY6: 0 | CZ6: =$CV6*BD6 -> 0 | DA6: =$CV6*BE6 -> 0 | DB6: =$CV6*BF6 -> 0 | DC6: =$CV6*BG6 -> 0 | DD6: =$CV6*BH6 -> 0 | DE6: =$CV6*BI6 -> 0 | DF6: =$CV6*BJ6 -> 0 | DG6: =$CV6*BK6 -> 0 | ... DM6: =$CV6*BQ6 -> 0 | DN6: =$CX6*BD6 -> 0 | DO6: =$CX6*BE6 -> 0 | DP6: =$CX6*BF6 -> 0 | DQ6: =$CX6*BG6 -> 0 | DR6: =$CX6*BH6 -> 0 | DS6: =$CX6*BI6 -> 0 | DT6: =$CX6*BJ6 -> 0 | DU6: =$CX6*BK6 -> 0 | ... EA6: =$CX6*BQ6 -> 0 | EB6: =F6/G6 -> 522.38578 | EC6: =EB6/CS6 -> 16.851154 | ED6: =F6/CS6 -> 2392813.3 | EE6: =J6/K6 -> 2396.9039 | EF6: =EE6/CS6 -> 77.319479 | EG6: =J6/CS6 -> 972292.45 | EH6: =N6/P6 -> 75410.212 | EI6: =EH6/CS6 -> 2432.5875 | EJ6: =EH6/CT6 -> 3427.7369 | EK6: =N6/CS6 -> 3897005.2 | EL6: =N6/CT6 -> 5491234.5
A7: 42887 | B7: =YEAR(A7) -> 2017 | C7: =MONTH(A7) -> 6 | D7: 90036466 | E7: =IFERROR(VLOOKUP($B7-1,CDM!$L$7:$T$18,2,FALSE)/12,0)+IFERROR(VLOOKUP($B7,CDM!$L$37:$O$47,2,FALSE)/24,0)+IFERROR(VLOOKUP($B7,CDM!$L$37:$O$47,2,FALSE)/2*$C7/78,0) -> 1090885 | F7: =D7+E7 -> 91127351 | G7: 142062 | H7: 32060147 | I7: =IFERROR(VLOOKUP($B7-1,CDM!$L$7:$T$18,3,FALSE)/12,0)+IFERROR(VLOOKUP($B7,CDM!$L$37:$O$47,3,FALSE)/24,0)+IFERROR(VLOOKUP($B7,CDM!$L$37:$O$47,3,FALSE)/2*$C7/78,0) -> 215746.67 | J7: =H7+I7 -> 32275894 | K7: 12572 | L7: 126432223 | M7: =IFERROR(VLOOKUP($B7-1,CDM!$L$7:$T$18,4,FALSE)/12,0)+IFERROR(VLOOKUP($B7,CDM!$L$37:$O$47,4,FALSE)/24,0)+IFERROR(VLOOKUP($B7,CDM!$L$37:$O$47,4,FALSE)/2*$C7/78,0) -> 1598296.8 | N7: =L7+M7 -> 1.2803052e+08 | O7: 331731.48 | P7: 1602 | Q7: 5699728 | R7: =IFERROR(VLOOKUP($B7-1,CDM!$L$7:$T$18,5,FALSE)/12,0)+IFERROR(VLOOKUP($B7,CDM!$L$37:$T$47,5,FALSE)/24,0)+IFERROR(VLOOKUP($B7,CDM!$L$37:$T$47,5,FALSE)/2*$C7/78,0) -> 43832.851 | S7: =R7+Q7 -> 5743560.9 | T7: 10882.61 | U7: 4 | V7: 10994901 | W7: =IFERROR(VLOOKUP($B7-1,CDM!$L$7:$T$18,6,FALSE)/12,0)+IFERROR(VLOOKUP($B7,CDM!$L$37:$T$47,6,FALSE)/24,0)+IFERROR(VLOOKUP($B7,CDM!$L$37:$T$47,6,FALSE)/2*$C7/78,0) -> 2652.8038 | X7: =W7+V7 -> 10997554 | Y7: 21755.73 | Z7: 1 | AA7: 1237045.7 | AB7: 4728.77 | AC7: 36141 | AD7: 456487.39 | AE7: 1513 | AF7: 45904.6 | AG7: 125.84 | AH7: 535 | AI7: 12900 | AJ7: =Economic!H21 -> 764465 | AK7: =Economic!I21 -> 91847.6 | AL7: =Economic!J21 -> 29151.9 | AM7: =Economic!K21 -> 71039.2 | AN7: =Economic!L21 -> 53985.7 | AO7: =Economic!M21 -> 764676 | AP7: =Economic!N21 -> 92541 | AQ7: =Economic!O21 -> 13363 | ... AS7: =Economic!Q21 -> 70966 | AT7: =Economic!D21 -> 7071 | AU7: =Economic!E21 -> 7112.9 | AV7: =Economic!F21 -> 250.9 | AW7: =Economic!G21 -> 253.2 | AX7: =Economic!W21 -> 23847 | AY7: =Economic!R21 -> 141 | AZ7: =Economic!W21 -> 23847 | BA7: =Economic!X21 -> 2369 | BB7: =Economic!Y21 -> 5722 | BC7: =Weather!C19 -> 18.871667 | BD7: =Weather!D19 -> 66.325 | BE7: =Weather!E19 -> 32.475 | BF7: =Weather!F19 -> 33.816667 | BG7: =Weather!G19 -> 59.966667 | BH7: =Weather!H19 -> 11.108333 | BI7: =Weather!I19 -> 97.258333 | BJ7: =Weather!J19 -> 0.98333333 | ... BQ7: =Weather!Q19 -> 326.15 | BR7: 0 | BS7: 0 | BT7: 0 | BU7: 0 | BV7: 0 | BW7: 1 | BX7: 0 | BY7: 0 | BZ7: 0 | CA7: 0 | CB7: 0 | CC7: 0 | CD7: 0 | CE7: 0 | CF7: 0 | CG7: 0 | CH7: 0 | CI7: =CE7+CG7 -> 0 | CJ7: =CE7+CF7 -> 0 | CK7: 1 | CL7: 0 | CM7: =1+CM6 -> 6 | CN7: 0 | CO7: 0 | CP7: 0 | CQ7: 0 | CR7: 0 | CS7: 30 | CT7: 22 | CU7: 0 | CV7: 0 | CW7: 0 | CX7: 0 | CY7: 0 | CZ7: =$CV7*BD7 -> 0 | DA7: =$CV7*BE7 -> 0 | DB7: =$CV7*BF7 -> 0 | DC7: =$CV7*BG7 -> 0 | DD7: =$CV7*BH7 -> 0 | DE7: =$CV7*BI7 -> 0 | DF7: =$CV7*BJ7 -> 0 | DG7: =$CV7*BK7 -> 0 | ... DM7: =$CV7*BQ7 -> 0 | DN7: =$CX7*BD7 -> 0 | DO7: =$CX7*BE7 -> 0 | DP7: =$CX7*BF7 -> 0 | DQ7: =$CX7*BG7 -> 0 | DR7: =$CX7*BH7 -> 0 | DS7: =$CX7*BI7 -> 0 | DT7: =$CX7*BJ7 -> 0 | DU7: =$CX7*BK7 -> 0 | ... EA7: =$CX7*BQ7 -> 0 | EB7: =F7/G7 -> 641.46183 | EC7: =EB7/CS7 -> 21.382061 | ED7: =F7/CS7 -> 3037578.4 | EE7: =J7/K7 -> 2567.2839 | EF7: =EE7/CS7 -> 85.576131 | EG7: =J7/CS7 -> 1075863.1 | EH7: =N7/P7 -> 79919.176 | EI7: =EH7/CS7 -> 2663.9725 | EJ7: =EH7/CT7 -> 3632.6898 | EK7: =N7/CS7 -> 4267684 | EL7: =N7/CT7 -> 5819569.1
A8: 42917 | B8: =YEAR(A8) -> 2017 | C8: =MONTH(A8) -> 7 | D8: 107049192 | E8: =IFERROR(VLOOKUP($B8-1,CDM!$L$7:$T$18,2,FALSE)/12,0)+IFERROR(VLOOKUP($B8,CDM!$L$37:$O$47,2,FALSE)/24,0)+IFERROR(VLOOKUP($B8,CDM!$L$37:$O$47,2,FALSE)/2*$C8/78,0) -> 1178155.8 | F8: =D8+E8 -> 1.0822735e+08 | G8: 142175 | H8: 34823079 | I8: =IFERROR(VLOOKUP($B8-1,CDM!$L$7:$T$18,3,FALSE)/12,0)+IFERROR(VLOOKUP($B8,CDM!$L$37:$O$47,3,FALSE)/24,0)+IFERROR(VLOOKUP($B8,CDM!$L$37:$O$47,3,FALSE)/2*$C8/78,0) -> 233006.4 | J8: =H8+I8 -> 35056085 | K8: 12570 | L8: 131478817 | M8: =IFERROR(VLOOKUP($B8-1,CDM!$L$7:$T$18,4,FALSE)/12,0)+IFERROR(VLOOKUP($B8,CDM!$L$37:$O$47,4,FALSE)/24,0)+IFERROR(VLOOKUP($B8,CDM!$L$37:$O$47,4,FALSE)/2*$C8/78,0) -> 1726160.6 | N8: =L8+M8 -> 1.3320498e+08 | O8: 330107.02 | P8: 1604 | Q8: 5577236 | R8: =IFERROR(VLOOKUP($B8-1,CDM!$L$7:$T$18,5,FALSE)/12,0)+IFERROR(VLOOKUP($B8,CDM!$L$37:$T$47,5,FALSE)/24,0)+IFERROR(VLOOKUP($B8,CDM!$L$37:$T$47,5,FALSE)/2*$C8/78,0) -> 47339.479 | S8: =R8+Q8 -> 5624575.5 | T8: 7052.61 | U8: 4 | V8: 12308029 | W8: =IFERROR(VLOOKUP($B8-1,CDM!$L$7:$T$18,6,FALSE)/12,0)+IFERROR(VLOOKUP($B8,CDM!$L$37:$T$47,6,FALSE)/24,0)+IFERROR(VLOOKUP($B8,CDM!$L$37:$T$47,6,FALSE)/2*$C8/78,0) -> 2865.0281 | X8: =W8+V8 -> 12310894 | Y8: 22719.27 | Z8: 1 | AA8: 1314062.6 | AB8: 4730.93 | AC8: 36153 | AD8: 470912.14 | AE8: 1512 | AF8: 47158.15 | AG8: 125.85 | AH8: 535 | AI8: 12900 | AJ8: =Economic!H22 -> 764465 | AK8: =Economic!I22 -> 91847.6 | AL8: =Economic!J22 -> 29151.9 | AM8: =Economic!K22 -> 71039.2 | AN8: =Economic!L22 -> 53985.7 | AO8: =Economic!M22 -> 765009 | AP8: =Economic!N22 -> 90558 | AQ8: =Economic!O22 -> 13304 | ... AS8: =Economic!Q22 -> 71934 | AT8: =Economic!D22 -> 7099.1 | AU8: =Economic!E22 -> 7186.7 | AV8: =Economic!F22 -> 250.1 | AW8: =Economic!G22 -> 255.5 | AX8: =Economic!W22 -> 18299 | AY8: =Economic!R22 -> 165.3 | AZ8: =Economic!W22 -> 18299 | BA8: =Economic!X22 -> -841 | BB8: =Economic!Y22 -> 6035 | BC8: =Weather!C20 -> 20.67211 | BD8: =Weather!D20 -> 10.095833 | BE8: =Weather!E20 -> 30.93125 | BF8: =Weather!F20 -> 0.49166667 | BG8: =Weather!G20 -> 83.327083 | BH8: =Weather!H20 -> 0 | BI8: =Weather!I20 -> 144.83542 | BJ8: =Weather!J20 -> 0 | ... BQ8: =Weather!Q20 -> 392.83542 | BR8: 0 | BS8: 0 | BT8: 0 | BU8: 0 | BV8: 0 | BW8: 0 | BX8: 1 | BY8: 0 | BZ8: 0 | CA8: 0 | CB8: 0 | CC8: 0 | CD8: 0 | CE8: 0 | CF8: 0 | CG8: 0 | CH8: 0 | CI8: =CE8+CG8 -> 0 | CJ8: =CE8+CF8 -> 0 | CK8: 1 | CL8: 1 | CM8: =1+CM7 -> 7 | CN8: 0 | CO8: 0 | CP8: 0 | CQ8: 0 | CR8: 0 | CS8: 31 | CT8: 20 | CU8: 0 | CV8: 0 | CW8: 0 | CX8: 0 | CY8: 0 | CZ8: =$CV8*BD8 -> 0 | DA8: =$CV8*BE8 -> 0 | DB8: =$CV8*BF8 -> 0 | DC8: =$CV8*BG8 -> 0 | DD8: =$CV8*BH8 -> 0 | DE8: =$CV8*BI8 -> 0 | DF8: =$CV8*BJ8 -> 0 | DG8: =$CV8*BK8 -> 0 | ... DM8: =$CV8*BQ8 -> 0 | DN8: =$CX8*BD8 -> 0 | DO8: =$CX8*BE8 -> 0 | DP8: =$CX8*BF8 -> 0 | DQ8: =$CX8*BG8 -> 0 | DR8: =$CX8*BH8 -> 0 | DS8: =$CX8*BI8 -> 0 | DT8: =$CX8*BJ8 -> 0 | DU8: =$CX8*BK8 -> 0 | ... EA8: =$CX8*BQ8 -> 0 | EB8: =F8/G8 -> 761.22629 | EC8: =EB8/CS8 -> 24.555687 | ED8: =F8/CS8 -> 3491204.8 | EE8: =J8/K8 -> 2788.8692 | EF8: =EE8/CS8 -> 89.963521 | EG8: =J8/CS8 -> 1130841.5 | EH8: =N8/P8 -> 83045.497 | EI8: =EH8/CS8 -> 2678.887 | EJ8: =EH8/CT8 -> 4152.2749 | EK8: =N8/CS8 -> 4296934.8 | EL8: =N8/CT8 -> 6660248.9
A9: 42948 | B9: =YEAR(A9) -> 2017 | C9: =MONTH(A9) -> 8 | D9: 94105753 | E9: =IFERROR(VLOOKUP($B9-1,CDM!$L$7:$T$18,2,FALSE)/12,0)+IFERROR(VLOOKUP($B9,CDM!$L$37:$O$47,2,FALSE)/24,0)+IFERROR(VLOOKUP($B9,CDM!$L$37:$O$47,2,FALSE)/2*$C9/78,0) -> 1265426.6 | F9: =D9+E9 -> 95371180 | G9: 142403 | H9: 33473974 | I9: =IFERROR(VLOOKUP($B9-1,CDM!$L$7:$T$18,3,FALSE)/12,0)+IFERROR(VLOOKUP($B9,CDM!$L$37:$O$47,3,FALSE)/24,0)+IFERROR(VLOOKUP($B9,CDM!$L$37:$O$47,3,FALSE)/2*$C9/78,0) -> 250266.14 | J9: =H9+I9 -> 33724240 | K9: 12569 | L9: 129638713 | M9: =IFERROR(VLOOKUP($B9-1,CDM!$L$7:$T$18,4,FALSE)/12,0)+IFERROR(VLOOKUP($B9,CDM!$L$37:$O$47,4,FALSE)/24,0)+IFERROR(VLOOKUP($B9,CDM!$L$37:$O$47,4,FALSE)/2*$C9/78,0) -> 1854024.3 | N9: =L9+M9 -> 1.3149274e+08 | O9: 322207.49 | P9: 1604 | Q9: 4755040 | R9: =IFERROR(VLOOKUP($B9-1,CDM!$L$7:$T$18,5,FALSE)/12,0)+IFERROR(VLOOKUP($B9,CDM!$L$37:$T$47,5,FALSE)/24,0)+IFERROR(VLOOKUP($B9,CDM!$L$37:$T$47,5,FALSE)/2*$C9/78,0) -> 50846.107 | S9: =R9+Q9 -> 4805886.1 | T9: 6747.44 | U9: 4 | V9: 11682519 | W9: =IFERROR(VLOOKUP($B9-1,CDM!$L$7:$T$18,6,FALSE)/12,0)+IFERROR(VLOOKUP($B9,CDM!$L$37:$T$47,6,FALSE)/24,0)+IFERROR(VLOOKUP($B9,CDM!$L$37:$T$47,6,FALSE)/2*$C9/78,0) -> 3077.2524 | X9: =W9+V9 -> 11685596 | Y9: 21983.95 | Z9: 1 | AA9: 1461499.4 | AB9: 4733.45 | AC9: 36162 | AD9: 471113.6 | AE9: 1512 | AF9: 47545.11 | AG9: 125.79 | AH9: 535 | AI9: 12900 | AJ9: =Economic!H23 -> 764465 | AK9: =Economic!I23 -> 91847.6 | AL9: =Economic!J23 -> 29151.9 | AM9: =Economic!K23 -> 71039.2 | AN9: =Economic!L23 -> 53985.7 | AO9: =Economic!M23 -> 765009 | AP9: =Economic!N23 -> 90558 | AQ9: =Economic!O23 -> 13304 | ... AS9: =Economic!Q23 -> 71934 | AT9: =Economic!D23 -> 7118 | AU9: =Economic!E23 -> 7207.6 | AV9: =Economic!F23 -> 246.8 | AW9: =Economic!G23 -> 252.1 | AX9: =Economic!W23 -> 18299 | AY9: =Economic!R23 -> 186.8 | AZ9: =Economic!W23 -> 18299 | BA9: =Economic!X23 -> -841 | BB9: =Economic!Y23 -> 6035 | BC9: =Weather!C21 -> 18.813172 | BD9: =Weather!D21 -> 49.708333 | BE9: =Weather!E21 -> 12.916667 | BF9: =Weather!F21 -> 20.0125 | BG9: =Weather!G21 -> 45.220833 | BH9: =Weather!H21 -> 5.6166667 | BI9: =Weather!I21 -> 92.825 | BJ9: =Weather!J21 -> 0 | ... BQ9: =Weather!Q21 -> 335.20833 | BR9: 0 | BS9: 0 | BT9: 0 | BU9: 0 | BV9: 0 | BW9: 0 | BX9: 0 | BY9: 1 | BZ9: 0 | CA9: 0 | CB9: 0 | CC9: 0 | CD9: 0 | CE9: 0 | CF9: 0 | CG9: 0 | CH9: 0 | CI9: =CE9+CG9 -> 0 | CJ9: =CE9+CF9 -> 0 | CK9: 1 | CL9: 1 | CM9: =1+CM8 -> 8 | CN9: 0 | CO9: 0 | CP9: 0 | CQ9: 0 | CR9: 0 | CS9: 31 | CT9: 22 | CU9: 0 | CV9: 0 | CW9: 0 | CX9: 0 | CY9: 0 | CZ9: =$CV9*BD9 -> 0 | DA9: =$CV9*BE9 -> 0 | DB9: =$CV9*BF9 -> 0 | DC9: =$CV9*BG9 -> 0 | DD9: =$CV9*BH9 -> 0 | DE9: =$CV9*BI9 -> 0 | DF9: =$CV9*BJ9 -> 0 | DG9: =$CV9*BK9 -> 0 | ... DM9: =$CV9*BQ9 -> 0 | DN9: =$CX9*BD9 -> 0 | DO9: =$CX9*BE9 -> 0 | DP9: =$CX9*BF9 -> 0 | DQ9: =$CX9*BG9 -> 0 | DR9: =$CX9*BH9 -> 0 | DS9: =$CX9*BI9 -> 0 | DT9: =$CX9*BJ9 -> 0 | DU9: =$CX9*BK9 -> 0 | ... EA9: =$CX9*BQ9 -> 0 | EB9: =F9/G9 -> 669.72732 | EC9: =EB9/CS9 -> 21.604107 | ED9: =F9/CS9 -> 3076489.7 | EE9: =J9/K9 -> 2683.1283 | EF9: =EE9/CS9 -> 86.552527 | EG9: =J9/CS9 -> 1087878.7 | EH9: =N9/P9 -> 81978.016 | EI9: =EH9/CS9 -> 2644.4521 | EJ9: =EH9/CT9 -> 3726.2734 | EK9: =N9/CS9 -> 4241701.2 | EL9: =N9/CT9 -> 5976942.6
A10: 42979 | B10: =YEAR(A10) -> 2017 | C10: =MONTH(A10) -> 9 | D10: 87805190 | E10: =IFERROR(VLOOKUP($B10-1,CDM!$L$7:$T$18,2,FALSE)/12,0)+IFERROR(VLOOKUP($B10,CDM!$L$37:$O$47,2,FALSE)/24,0)+IFERROR(VLOOKUP($B10,CDM!$L$37:$O$47,2,FALSE)/2*$C10/78,0) -> 1352697.4 | F10: =D10+E10 -> 89157887 | G10: 142513 | H10: 31626552 | I10: =IFERROR(VLOOKUP($B10-1,CDM!$L$7:$T$18,3,FALSE)/12,0)+IFERROR(VLOOKUP($B10,CDM!$L$37:$O$47,3,FALSE)/24,0)+IFERROR(VLOOKUP($B10,CDM!$L$37:$O$47,3,FALSE)/2*$C10/78,0) -> 267525.87 | J10: =H10+I10 -> 31894078 | K10: 12564 | L10: 123880301 | M10: =IFERROR(VLOOKUP($B10-1,CDM!$L$7:$T$18,4,FALSE)/12,0)+IFERROR(VLOOKUP($B10,CDM!$L$37:$O$47,4,FALSE)/24,0)+IFERROR(VLOOKUP($B10,CDM!$L$37:$O$47,4,FALSE)/2*$C10/78,0) -> 1981888.1 | N10: =L10+M10 -> 1.2586219e+08 | O10: 336043.77 | P10: 1609 | Q10: 3916579 | R10: =IFERROR(VLOOKUP($B10-1,CDM!$L$7:$T$18,5,FALSE)/12,0)+IFERROR(VLOOKUP($B10,CDM!$L$37:$T$47,5,FALSE)/24,0)+IFERROR(VLOOKUP($B10,CDM!$L$37:$T$47,5,FALSE)/2*$C10/78,0) -> 54352.735 | S10: =R10+Q10 -> 3970931.7 | T10: 6677.69 | U10: 4 | V10: 11268578 | W10: =IFERROR(VLOOKUP($B10-1,CDM!$L$7:$T$18,6,FALSE)/12,0)+IFERROR(VLOOKUP($B10,CDM!$L$37:$T$47,6,FALSE)/24,0)+IFERROR(VLOOKUP($B10,CDM!$L$37:$T$47,6,FALSE)/2*$C10/78,0) -> 3289.4767 | X10: =W10+V10 -> 11271867 | Y10: 24452.48 | Z10: 1 | AA10: 1625593.6 | AB10: 4736.58 | AC10: 36182 | AD10: 456332.73 | AE10: 1513 | AF10: 46298.34 | AG10: 125.68 | AH10: 535 | AI10: 12900 | AJ10: =Economic!H24 -> 764465 | AK10: =Economic!I24 -> 91847.6 | AL10: =Economic!J24 -> 29151.9 | AM10: =Economic!K24 -> 71039.2 | AN10: =Economic!L24 -> 53985.7 | AO10: =Economic!M24 -> 765009 | AP10: =Economic!N24 -> 90558 | AQ10: =Economic!O24 -> 13304 | ... AS10: =Economic!Q24 -> 71934 | AT10: =Economic!D24 -> 7143.3 | AU10: =Economic!E24 -> 7185.7 | AV10: =Economic!F24 -> 245.3 | AW10: =Economic!G24 -> 247.1 | AX10: =Economic!W24 -> 18299 | AY10: =Economic!R24 -> 213.6 | AZ10: =Economic!W24 -> 18299 | BA10: =Economic!X24 -> -841 | BB10: =Economic!Y24 -> 6035 | BC10: =Weather!C22 -> 17.060139 | BD10: =Weather!D22 -> 107.17083 | BE10: =Weather!E22 -> 18.975 | BF10: =Weather!F22 -> 71.945833 | BG10: =Weather!G22 -> 43.75 | BH10: =Weather!H22 -> 43.908333 | BI10: =Weather!I22 -> 75.7125 | BJ10: =Weather!J22 -> 20.804167 | ... BQ10: =Weather!Q22 -> 271.80417 | BR10: 0 | BS10: 0 | BT10: 0 | BU10: 0 | BV10: 0 | BW10: 0 | BX10: 0 | BY10: 0 | BZ10: 1 | CA10: 0 | CB10: 0 | CC10: 0 | CD10: 0 | CE10: 0 | CF10: 1 | CG10: 1 | CH10: 1 | CI10: =CE10+CG10 -> 1 | CJ10: =CE10+CF10 -> 1 | CK10: 0 | CL10: 0 | CM10: =1+CM9 -> 9 | CN10: 0 | CO10: 0 | CP10: 0 | CQ10: 0 | CR10: 0 | CS10: 30 | CT10: 20 | CU10: 0 | CV10: 0 | CW10: 0 | CX10: 0 | CY10: 0 | CZ10: =$CV10*BD10 -> 0 | DA10: =$CV10*BE10 -> 0 | DB10: =$CV10*BF10 -> 0 | DC10: =$CV10*BG10 -> 0 | DD10: =$CV10*BH10 -> 0 | DE10: =$CV10*BI10 -> 0 | DF10: =$CV10*BJ10 -> 0 | DG10: =$CV10*BK10 -> 0 | ... DM10: =$CV10*BQ10 -> 0 | DN10: =$CX10*BD10 -> 0 | DO10: =$CX10*BE10 -> 0 | DP10: =$CX10*BF10 -> 0 | DQ10: =$CX10*BG10 -> 0 | DR10: =$CX10*BH10 -> 0 | DS10: =$CX10*BI10 -> 0 | DT10: =$CX10*BJ10 -> 0 | DU10: =$CX10*BK10 -> 0 | ... EA10: =$CX10*BQ10 -> 0 | EB10: =F10/G10 -> 625.61231 | EC10: =EB10/CS10 -> 20.853744 | ED10: =F10/CS10 -> 2971929.6 | EE10: =J10/K10 -> 2538.529 | EF10: =EE10/CS10 -> 84.617632 | EG10: =J10/CS10 -> 1063135.9 | EH10: =N10/P10 -> 78223.859 | EI10: =EH10/CS10 -> 2607.462 | EJ10: =EH10/CT10 -> 3911.1929 | EK10: =N10/CS10 -> 4195406.3 | EL10: =N10/CT10 -> 6293109.5
A11: 43009 | B11: =YEAR(A11) -> 2017 | C11: =MONTH(A11) -> 10 | D11: 76066658 | E11: =IFERROR(VLOOKUP($B11-1,CDM!$L$7:$T$18,2,FALSE)/12,0)+IFERROR(VLOOKUP($B11,CDM!$L$37:$O$47,2,FALSE)/24,0)+IFERROR(VLOOKUP($B11,CDM!$L$37:$O$47,2,FALSE)/2*$C11/78,0) -> 1439968.2 | F11: =D11+E11 -> 77506626 | G11: 142654 | H11: 29861241 | I11: =IFERROR(VLOOKUP($B11-1,CDM!$L$7:$T$18,3,FALSE)/12,0)+IFERROR(VLOOKUP($B11,CDM!$L$37:$O$47,3,FALSE)/24,0)+IFERROR(VLOOKUP($B11,CDM!$L$37:$O$47,3,FALSE)/2*$C11/78,0) -> 284785.6 | J11: =H11+I11 -> 30146027 | K11: 12570 | L11: 118433173 | M11: =IFERROR(VLOOKUP($B11-1,CDM!$L$7:$T$18,4,FALSE)/12,0)+IFERROR(VLOOKUP($B11,CDM!$L$37:$O$47,4,FALSE)/24,0)+IFERROR(VLOOKUP($B11,CDM!$L$37:$O$47,4,FALSE)/2*$C11/78,0) -> 2109751.8 | N11: =L11+M11 -> 1.2054292e+08 | O11: 316110.81 | P11: 1610 | Q11: 5119784 | R11: =IFERROR(VLOOKUP($B11-1,CDM!$L$7:$T$18,5,FALSE)/12,0)+IFERROR(VLOOKUP($B11,CDM!$L$37:$T$47,5,FALSE)/24,0)+IFERROR(VLOOKUP($B11,CDM!$L$37:$T$47,5,FALSE)/2*$C11/78,0) -> 57859.363 | S11: =R11+Q11 -> 5177643.4 | T11: 6223.69 | U11: 4 | V11: 9991016 | W11: =IFERROR(VLOOKUP($B11-1,CDM!$L$7:$T$18,6,FALSE)/12,0)+IFERROR(VLOOKUP($B11,CDM!$L$37:$T$47,6,FALSE)/24,0)+IFERROR(VLOOKUP($B11,CDM!$L$37:$T$47,6,FALSE)/2*$C11/78,0) -> 3501.701 | X11: =W11+V11 -> 9994517.7 | Y11: 22527.76 | Z11: 1 | AA11: 1901617.3 | AB11: 4744.2 | AC11: 36253 | AD11: 471147.45 | AE11: 1514 | AF11: 46556.71 | AG11: 125.85 | AH11: 535 | AI11: 12900 | AJ11: =Economic!H25 -> 764465 | AK11: =Economic!I25 -> 91847.6 | AL11: =Economic!J25 -> 29151.9 | AM11: =Economic!K25 -> 71039.2 | AN11: =Economic!L25 -> 53985.7 | AO11: =Economic!M25 -> 771506 | AP11: =Economic!N25 -> 91677 | AQ11: =Economic!O25 -> 13398 | ... AS11: =Economic!Q25 -> 74140 | AT11: =Economic!D25 -> 7158.3 | AU11: =Economic!E25 -> 7179.8 | AV11: =Economic!F25 -> 245.1 | AW11: =Economic!G25 -> 245.6 | AX11: =Economic!W25 -> 26260 | AY11: =Economic!R25 -> 216.3 | AZ11: =Economic!W25 -> 26260 | BA11: =Economic!X25 -> 612 | BB11: =Economic!Y25 -> 8887 | BC11: =Weather!C23 -> 12.279435 | BD11: =Weather!D23 -> 241.64583 | BE11: =Weather!E23 -> 2.3083333 | BF11: =Weather!F23 -> 183.64583 | BG11: =Weather!G23 -> 6.3083333 | BH11: =Weather!H23 -> 129.94583 | BI11: =Weather!I23 -> 14.608333 | BJ11: =Weather!J23 -> 90.325 | ... BQ11: =Weather!Q23 -> 155.3125 | BR11: 0 | BS11: 0 | BT11: 0 | BU11: 0 | BV11: 0 | BW11: 0 | BX11: 0 | BY11: 0 | BZ11: 0 | CA11: 1 | CB11: 0 | CC11: 0 | CD11: 0 | CE11: 0 | CF11: 1 | CG11: 1 | CH11: 1 | CI11: =CE11+CG11 -> 1 | CJ11: =CE11+CF11 -> 1 | CK11: 0 | CL11: 0 | CM11: =1+CM10 -> 10 | CN11: 0 | CO11: 0 | CP11: 0 | CQ11: 0 | CR11: 0 | CS11: 31 | CT11: 21 | CU11: 0 | CV11: 0 | CW11: 0 | CX11: 0 | CY11: 0 | CZ11: =$CV11*BD11 -> 0 | DA11: =$CV11*BE11 -> 0 | DB11: =$CV11*BF11 -> 0 | DC11: =$CV11*BG11 -> 0 | DD11: =$CV11*BH11 -> 0 | DE11: =$CV11*BI11 -> 0 | DF11: =$CV11*BJ11 -> 0 | DG11: =$CV11*BK11 -> 0 | ... DM11: =$CV11*BQ11 -> 0 | DN11: =$CX11*BD11 -> 0 | DO11: =$CX11*BE11 -> 0 | DP11: =$CX11*BF11 -> 0 | DQ11: =$CX11*BG11 -> 0 | DR11: =$CX11*BH11 -> 0 | DS11: =$CX11*BI11 -> 0 | DT11: =$CX11*BJ11 -> 0 | DU11: =$CX11*BK11 -> 0 | ... EA11: =$CX11*BQ11 -> 0 | EB11: =F11/G11 -> 543.31898 | EC11: =EB11/CS11 -> 17.526419 | ED11: =F11/CS11 -> 2500213.7 | EE11: =J11/K11 -> 2398.2519 | EF11: =EE11/CS11 -> 77.362965 | EG11: =J11/CS11 -> 972452.47 | EH11: =N11/P11 -> 74871.382 | EI11: =EH11/CS11 -> 2415.2059 | EJ11: =EH11/CT11 -> 3565.3039 | EK11: =N11/CS11 -> 3888481.4 | EL11: =N11/CT11 -> 5740139.3
A12: 43040 | B12: =YEAR(A12) -> 2017 | C12: =MONTH(A12) -> 11 | D12: 82898269 | E12: =IFERROR(VLOOKUP($B12-1,CDM!$L$7:$T$18,2,FALSE)/12,0)+IFERROR(VLOOKUP($B12,CDM!$L$37:$O$47,2,FALSE)/24,0)+IFERROR(VLOOKUP($B12,CDM!$L$37:$O$47,2,FALSE)/2*$C12/78,0) -> 1527239 | F12: =D12+E12 -> 84425508 | G12: 142883 | H12: 31138349 | I12: =IFERROR(VLOOKUP($B12-1,CDM!$L$7:$T$18,3,FALSE)/12,0)+IFERROR(VLOOKUP($B12,CDM!$L$37:$O$47,3,FALSE)/24,0)+IFERROR(VLOOKUP($B12,CDM!$L$37:$O$47,3,FALSE)/2*$C12/78,0) -> 302045.34 | J12: =H12+I12 -> 31440394 | K12: 12569 | L12: 116281914 | M12: =IFERROR(VLOOKUP($B12-1,CDM!$L$7:$T$18,4,FALSE)/12,0)+IFERROR(VLOOKUP($B12,CDM!$L$37:$O$47,4,FALSE)/24,0)+IFERROR(VLOOKUP($B12,CDM!$L$37:$O$47,4,FALSE)/2*$C12/78,0) -> 2237615.6 | N12: =L12+M12 -> 1.1851953e+08 | O12: 291467.1 | P12: 1614 | Q12: 3235223 | R12: =IFERROR(VLOOKUP($B12-1,CDM!$L$7:$T$18,5,FALSE)/12,0)+IFERROR(VLOOKUP($B12,CDM!$L$37:$T$47,5,FALSE)/24,0)+IFERROR(VLOOKUP($B12,CDM!$L$37:$T$47,5,FALSE)/2*$C12/78,0) -> 61365.991 | S12: =R12+Q12 -> 3296589 | T12: 4721.35 | U12: 4 | V12: 8683088 | W12: =IFERROR(VLOOKUP($B12-1,CDM!$L$7:$T$18,6,FALSE)/12,0)+IFERROR(VLOOKUP($B12,CDM!$L$37:$T$47,6,FALSE)/24,0)+IFERROR(VLOOKUP($B12,CDM!$L$37:$T$47,6,FALSE)/2*$C12/78,0) -> 3713.9253 | X12: =W12+V12 -> 8686801.9 | Y12: 14608.34 | Z12: 1 | AA12: 1796120.2 | AB12: 4228.16 | AC12: 36484 | AD12: 456409.04 | AE12: 1515 | AF12: 45729.34 | AG12: 125.79 | AH12: 535 | AI12: 14400 | AJ12: =Economic!H26 -> 764465 | AK12: =Economic!I26 -> 91847.6 | AL12: =Economic!J26 -> 29151.9 | AM12: =Economic!K26 -> 71039.2 | AN12: =Economic!L26 -> 53985.7 | AO12: =Economic!M26 -> 771506 | AP12: =Economic!N26 -> 91677 | AQ12: =Economic!O26 -> 13398 | ... AS12: =Economic!Q26 -> 74140 | AT12: =Economic!D26 -> 7182.2 | AU12: =Economic!E26 -> 7182.5 | AV12: =Economic!F26 -> 249.3 | AW12: =Economic!G26 -> 247 | AX12: =Economic!W26 -> 26260 | AY12: =Economic!R26 -> 223.2 | AZ12: =Economic!W26 -> 26260 | BA12: =Economic!X26 -> 612 | BB12: =Economic!Y26 -> 8887 | BC12: =Weather!C24 -> 2.9639583 | BD12: =Weather!D24 -> 511.08125 | BE12: =Weather!E24 -> 0 | BF12: =Weather!F24 -> 451.08125 | BG12: =Weather!G24 -> 0 | BH12: =Weather!H24 -> 391.08125 | BI12: =Weather!I24 -> 0 | BJ12: =Weather!J24 -> 331.08125 | ... BQ12: =Weather!Q24 -> 8.7625 | BR12: 0 | BS12: 0 | BT12: 0 | BU12: 0 | BV12: 0 | BW12: 0 | BX12: 0 | BY12: 0 | BZ12: 0 | CA12: 0 | CB12: 1 | CC12: 0 | CD12: 0 | CE12: 0 | CF12: 1 | CG12: 0 | CH12: 1 | CI12: =CE12+CG12 -> 0 | CJ12: =CE12+CF12 -> 1 | CK12: 0 | CL12: 0 | CM12: =1+CM11 -> 11 | CN12: 0 | CO12: 0 | CP12: 0 | CQ12: 0 | CR12: 0 | CS12: 30 | CT12: 22 | CU12: 0 | CV12: 0 | CW12: 0 | CX12: 0 | CY12: 0 | CZ12: =$CV12*BD12 -> 0 | DA12: =$CV12*BE12 -> 0 | DB12: =$CV12*BF12 -> 0 | DC12: =$CV12*BG12 -> 0 | DD12: =$CV12*BH12 -> 0 | DE12: =$CV12*BI12 -> 0 | DF12: =$CV12*BJ12 -> 0 | DG12: =$CV12*BK12 -> 0 | ... DM12: =$CV12*BQ12 -> 0 | DN12: =$CX12*BD12 -> 0 | DO12: =$CX12*BE12 -> 0 | DP12: =$CX12*BF12 -> 0 | DQ12: =$CX12*BG12 -> 0 | DR12: =$CX12*BH12 -> 0 | DS12: =$CX12*BI12 -> 0 | DT12: =$CX12*BJ12 -> 0 | DU12: =$CX12*BK12 -> 0 | ... EA12: =$CX12*BQ12 -> 0 | EB12: =F12/G12 -> 590.87161 | EC12: =EB12/CS12 -> 19.69572 | ED12: =F12/CS12 -> 2814183.6 | EE12: =J12/K12 -> 2501.4237 | EF12: =EE12/CS12 -> 83.38079 | EG12: =J12/CS12 -> 1048013.1 | EH12: =N12/P12 -> 73432.174 | EI12: =EH12/CS12 -> 2447.7391 | EJ12: =EH12/CT12 -> 3337.8261 | EK12: =N12/CS12 -> 3950651 | EL12: =N12/CT12 -> 5387251.3
A13: 43070 | B13: =YEAR(A13) -> 2017 | C13: =MONTH(A13) -> 12 | D13: 101119282 | E13: =IFERROR(VLOOKUP($B13-1,CDM!$L$7:$T$18,2,FALSE)/12,0)+IFERROR(VLOOKUP($B13,CDM!$L$37:$O$47,2,FALSE)/24,0)+IFERROR(VLOOKUP($B13,CDM!$L$37:$O$47,2,FALSE)/2*$C13/78,0) -> 1614509.8 | F13: =D13+E13 -> 1.0273379e+08 | G13: 143018 | H13: 33882442 | I13: =IFERROR(VLOOKUP($B13-1,CDM!$L$7:$T$18,3,FALSE)/12,0)+IFERROR(VLOOKUP($B13,CDM!$L$37:$O$47,3,FALSE)/24,0)+IFERROR(VLOOKUP($B13,CDM!$L$37:$O$47,3,FALSE)/2*$C13/78,0) -> 319305.07 | J13: =H13+I13 -> 34201747 | K13: 12599 | L13: 119585525 | M13: =IFERROR(VLOOKUP($B13-1,CDM!$L$7:$T$18,4,FALSE)/12,0)+IFERROR(VLOOKUP($B13,CDM!$L$37:$O$47,4,FALSE)/24,0)+IFERROR(VLOOKUP($B13,CDM!$L$37:$O$47,4,FALSE)/2*$C13/78,0) -> 2365479.3 | N13: =L13+M13 -> 1.21951e+08 | O13: 291185.5 | P13: 1622 | Q13: 3266983 | R13: =IFERROR(VLOOKUP($B13-1,CDM!$L$7:$T$18,5,FALSE)/12,0)+IFERROR(VLOOKUP($B13,CDM!$L$37:$T$47,5,FALSE)/24,0)+IFERROR(VLOOKUP($B13,CDM!$L$37:$T$47,5,FALSE)/2*$C13/78,0) -> 64872.619 | S13: =R13+Q13 -> 3331855.6 | T13: 4721.52 | U13: 4 | V13: 8548034 | W13: =IFERROR(VLOOKUP($B13-1,CDM!$L$7:$T$18,6,FALSE)/12,0)+IFERROR(VLOOKUP($B13,CDM!$L$37:$T$47,6,FALSE)/24,0)+IFERROR(VLOOKUP($B13,CDM!$L$37:$T$47,6,FALSE)/2*$C13/78,0) -> 3926.1496 | X13: =W13+V13 -> 8551960.1 | Y13: 14381.36 | Z13: 1 | AA13: 1955123.3 | AB13: 4229.95 | AC13: 36498 | AD13: 467848.75 | AE13: 1530 | AF13: 48155.73 | AG13: 125.77 | AH13: 535 | AI13: 14400 | AJ13: =Economic!H27 -> 764465 | AK13: =Economic!I27 -> 91847.6 | AL13: =Economic!J27 -> 29151.9 | AM13: =Economic!K27 -> 71039.2 | AN13: =Economic!L27 -> 53985.7 | AO13: =Economic!M27 -> 771506 | AP13: =Economic!N27 -> 91677 | AQ13: =Economic!O27 -> 13398 | ... AS13: =Economic!Q27 -> 74140 | AT13: =Economic!D27 -> 7196.8 | AU13: =Economic!E27 -> 7205 | AV13: =Economic!F27 -> 250.7 | AW13: =Economic!G27 -> 248 | AX13: =Economic!W27 -> 26260 | AY13: =Economic!R27 -> 222.4 | AZ13: =Economic!W27 -> 26260 | BA13: =Economic!X27 -> 612 | BB13: =Economic!Y27 -> 8887 | BC13: =Weather!C25 -> -5.1143817 | BD13: =Weather!D25 -> 778.54583 | BE13: =Weather!E25 -> 0 | BF13: =Weather!F25 -> 716.54583 | BG13: =Weather!G25 -> 0 | BH13: =Weather!H25 -> 654.54583 | BI13: =Weather!I25 -> 0 | BJ13: =Weather!J25 -> 592.54583 | ... BQ13: =Weather!Q25 -> 0 | BR13: 0 | BS13: 0 | BT13: 0 | BU13: 0 | BV13: 0 | BW13: 0 | BX13: 0 | BY13: 0 | BZ13: 0 | CA13: 0 | CB13: 0 | CC13: 1 | CD13: 0 | CE13: 0 | CF13: 0 | CG13: 0 | CH13: 0 | CI13: =CE13+CG13 -> 0 | CJ13: =CE13+CF13 -> 0 | CK13: 0 | CL13: 0 | CM13: =1+CM12 -> 12 | CN13: 0 | CO13: 0 | CP13: 0 | CQ13: 0 | CR13: 0 | CS13: 31 | CT13: 19 | CU13: 0 | CV13: 0 | CW13: 0 | CX13: 0 | CY13: 0 | CZ13: =$CV13*BD13 -> 0 | DA13: =$CV13*BE13 -> 0 | DB13: =$CV13*BF13 -> 0 | DC13: =$CV13*BG13 -> 0 | DD13: =$CV13*BH13 -> 0 | DE13: =$CV13*BI13 -> 0 | DF13: =$CV13*BJ13 -> 0 | DG13: =$CV13*BK13 -> 0 | ... DM13: =$CV13*BQ13 -> 0 | DN13: =$CX13*BD13 -> 0 | DO13: =$CX13*BE13 -> 0 | DP13: =$CX13*BF13 -> 0 | DQ13: =$CX13*BG13 -> 0 | DR13: =$CX13*BH13 -> 0 | DS13: =$CX13*BI13 -> 0 | DT13: =$CX13*BJ13 -> 0 | DU13: =$CX13*BK13 -> 0 | ... EA13: =$CX13*BQ13 -> 0 | EB13: =F13/G13 -> 718.32771 | EC13: =EB13/CS13 -> 23.171861 | ED13: =F13/CS13 -> 3313993.3 | EE13: =J13/K13 -> 2714.6398 | EF13: =EE13/CS13 -> 87.569026 | EG13: =J13/CS13 -> 1103282.2 | EH13: =N13/P13 -> 75185.576 | EI13: =EH13/CS13 -> 2425.3412 | EJ13: =EH13/CT13 -> 3957.1356 | EK13: =N13/CS13 -> 3933903.4 | EL13: =N13/CT13 -> 6418473.9
A14: 43101 | B14: =YEAR(A14) -> 2018 | C14: =MONTH(A14) -> 1 | D14: 103110214 | E14: =IFERROR(VLOOKUP($B14-1,CDM!$L$7:$T$18,2,FALSE)/12,0)+IFERROR(VLOOKUP($B14,CDM!$L$37:$O$47,2,FALSE)/24,0)+IFERROR(VLOOKUP($B14,CDM!$L$37:$O$47,2,FALSE)/2*$C14/78,0) -> 1655176 | F14: =D14+E14 -> 1.0476539e+08 | G14: 143169 | H14: 36703749 | I14: =IFERROR(VLOOKUP($B14-1,CDM!$L$7:$T$18,3,FALSE)/12,0)+IFERROR(VLOOKUP($B14,CDM!$L$37:$O$47,3,FALSE)/24,0)+IFERROR(VLOOKUP($B14,CDM!$L$37:$O$47,3,FALSE)/2*$C14/78,0) -> 444106.28 | J14: =H14+I14 -> 37147855 | K14: 12614 | L14: 127178163 | M14: =IFERROR(VLOOKUP($B14-1,CDM!$L$7:$T$18,4,FALSE)/12,0)+IFERROR(VLOOKUP($B14,CDM!$L$37:$O$47,4,FALSE)/24,0)+IFERROR(VLOOKUP($B14,CDM!$L$37:$O$47,4,FALSE)/2*$C14/78,0) -> 2945203.2 | N14: =L14+M14 -> 1.3012337e+08 | O14: 294391.73 | P14: 1615 | Q14: 3806686 | R14: =IFERROR(VLOOKUP($B14-1,CDM!$L$7:$T$18,5,FALSE)/12,0)+IFERROR(VLOOKUP($B14,CDM!$L$37:$T$47,5,FALSE)/24,0)+IFERROR(VLOOKUP($B14,CDM!$L$37:$T$47,5,FALSE)/2*$C14/78,0) -> 74090.364 | S14: =R14+Q14 -> 3880776.4 | T14: 1808.99 | U14: 5 | V14: 9015210 | W14: =IFERROR(VLOOKUP($B14-1,CDM!$L$7:$T$18,6,FALSE)/12,0)+IFERROR(VLOOKUP($B14,CDM!$L$37:$T$47,6,FALSE)/24,0)+IFERROR(VLOOKUP($B14,CDM!$L$37:$T$47,6,FALSE)/2*$C14/78,0) -> 87856.043 | X14: =W14+V14 -> 9103066 | Y14: 14598.05 | Z14: 1 | AA14: 1895959.6 | AB14: 4244.27 | AC14: 36633 | AD14: 466851.67 | AE14: 1523 | AF14: 46307.57 | AG14: 125.85 | AH14: 535 | AI14: 14400 | AJ14: =Economic!H28 -> 789828.1 | AK14: =Economic!I28 -> 95159.5 | AL14: =Economic!J28 -> 30609.7 | AM14: =Economic!K28 -> 72894 | AN14: =Economic!L28 -> 57384.8 | AO14: =Economic!M28 -> 779694 | AP14: =Economic!N28 -> 94103 | AQ14: =Economic!O28 -> 13370 | ... AS14: =Economic!Q28 -> 73963 | AT14: =Economic!D28 -> 7195 | AU14: =Economic!E28 -> 7165 | AV14: =Economic!F28 -> 251.3 | AW14: =Economic!G28 -> 247.7 | AX14: =Economic!W28 -> 23024 | AY14: =Economic!R28 -> 196.1 | AZ14: =Economic!W28 -> 23024 | BA14: =Economic!X28 -> 1488 | BB14: =Economic!Y28 -> 6847 | BC14: =Weather!C26 -> -6.2030914 | BD14: =Weather!D26 -> 812.29583 | BE14: =Weather!E26 -> 0 | BF14: =Weather!F26 -> 750.29583 | BG14: =Weather!G26 -> 0 | BH14: =Weather!H26 -> 688.29583 | BI14: =Weather!I26 -> 0 | BJ14: =Weather!J26 -> 626.29583 | ... BQ14: =Weather!Q26 -> 0.066666667 | BR14: 1 | BS14: 0 | BT14: 0 | BU14: 0 | BV14: 0 | BW14: 0 | BX14: 0 | BY14: 0 | BZ14: 0 | CA14: 0 | CB14: 0 | CC14: 0 | CD14: 0 | CE14: =CE2 -> 0 | CF14: 0 | CG14: =CG2 -> 0 | CH14: 0 | CI14: =CI2 -> 0 | CJ14: =CE14+CF14 -> 0 | CK14: =CK2 -> 0 | CL14: =CL2 -> 0 | CM14: =1+CM13 -> 13 | CN14: 0 | CO14: 0 | CP14: 0 | CQ14: 0 | CR14: 0 | CS14: 31 | CT14: 22 | CU14: 0 | CV14: 0 | CW14: 0 | CX14: 0 | CY14: 0 | CZ14: =$CV14*BD14 -> 0 | DA14: =$CV14*BE14 -> 0 | DB14: =$CV14*BF14 -> 0 | DC14: =$CV14*BG14 -> 0 | DD14: =$CV14*BH14 -> 0 | DE14: =$CV14*BI14 -> 0 | DF14: =$CV14*BJ14 -> 0 | DG14: =$CV14*BK14 -> 0 | ... DM14: =$CV14*BQ14 -> 0 | DN14: =$CX14*BD14 -> 0 | DO14: =$CX14*BE14 -> 0 | DP14: =$CX14*BF14 -> 0 | DQ14: =$CX14*BG14 -> 0 | DR14: =$CX14*BH14 -> 0 | DS14: =$CX14*BI14 -> 0 | DT14: =$CX14*BJ14 -> 0 | DU14: =$CX14*BK14 -> 0 | ... EA14: =$CX14*BQ14 -> 0 | EB14: =F14/G14 -> 731.7603 | EC14: =EB14/CS14 -> 23.605171 | ED14: =F14/CS14 -> 3379528.7 | EE14: =J14/K14 -> 2944.9703 | EF14: =EE14/CS14 -> 94.999042 | EG14: =J14/CS14 -> 1198317.9 | EH14: =N14/P14 -> 80571.744 | EI14: =EH14/CS14 -> 2599.0885 | EJ14: =EH14/CT14 -> 3662.352 | EK14: =N14/CS14 -> 4197527.9 | EL14: =N14/CT14 -> 5914698.5
A15: 43132 | B15: =YEAR(A15) -> 2018 | C15: =MONTH(A15) -> 2 | D15: 86184598 | E15: =IFERROR(VLOOKUP($B15-1,CDM!$L$7:$T$18,2,FALSE)/12,0)+IFERROR(VLOOKUP($B15,CDM!$L$37:$O$47,2,FALSE)/24,0)+IFERROR(VLOOKUP($B15,CDM!$L$37:$O$47,2,FALSE)/2*$C15/78,0) -> 1724596.8 | F15: =D15+E15 -> 87909195 | G15: 143313 | H15: 31657129 | I15: =IFERROR(VLOOKUP($B15-1,CDM!$L$7:$T$18,3,FALSE)/12,0)+IFERROR(VLOOKUP($B15,CDM!$L$37:$O$47,3,FALSE)/24,0)+IFERROR(VLOOKUP($B15,CDM!$L$37:$O$47,3,FALSE)/2*$C15/78,0) -> 473403.58 | J15: =H15+I15 -> 32130533 | K15: 12617 | L15: 112578328 | M15: =IFERROR(VLOOKUP($B15-1,CDM!$L$7:$T$18,4,FALSE)/12,0)+IFERROR(VLOOKUP($B15,CDM!$L$37:$O$47,4,FALSE)/24,0)+IFERROR(VLOOKUP($B15,CDM!$L$37:$O$47,4,FALSE)/2*$C15/78,0) -> 3116266.5 | N15: =L15+M15 -> 1.1569459e+08 | O15: 288880.62 | P15: 1618 | Q15: 2426603 | R15: =IFERROR(VLOOKUP($B15-1,CDM!$L$7:$T$18,5,FALSE)/12,0)+IFERROR(VLOOKUP($B15,CDM!$L$37:$T$47,5,FALSE)/24,0)+IFERROR(VLOOKUP($B15,CDM!$L$37:$T$47,5,FALSE)/2*$C15/78,0) -> 77890.923 | S15: =R15+Q15 -> 2504493.9 | T15: 2682.45 | U15: 5 | V15: 7970781 | W15: =IFERROR(VLOOKUP($B15-1,CDM!$L$7:$T$18,6,FALSE)/12,0)+IFERROR(VLOOKUP($B15,CDM!$L$37:$T$47,6,FALSE)/24,0)+IFERROR(VLOOKUP($B15,CDM!$L$37:$T$47,6,FALSE)/2*$C15/78,0) -> 99202.327 | X15: =W15+V15 -> 8069983.3 | Y15: 14562.37 | Z15: 1 | AA15: 1596419 | AB15: 4248.51 | AC15: 36684 | AD15: 422523.02 | AE15: 1520 | AF15: 43010.52 | AG15: 125.56 | AH15: 534 | AI15: 14400 | AJ15: =Economic!H29 -> 789828.1 | AK15: =Economic!I29 -> 95159.5 | AL15: =Economic!J29 -> 30609.7 | AM15: =Economic!K29 -> 72894 | AN15: =Economic!L29 -> 57384.8 | AO15: =Economic!M29 -> 779694 | AP15: =Economic!N29 -> 94103 | AQ15: =Economic!O29 -> 13370 | ... AS15: =Economic!Q29 -> 73963 | AT15: =Economic!D29 -> 7183.9 | AU15: =Economic!E29 -> 7116 | AV15: =Economic!F29 -> 253 | AW15: =Economic!G29 -> 250 | AX15: =Economic!W29 -> 23024 | AY15: =Economic!R29 -> 166.6 | AZ15: =Economic!W29 -> 23024 | BA15: =Economic!X29 -> 1488 | BB15: =Economic!Y29 -> 6847 | BC15: =Weather!C27 -> -2.513244 | BD15: =Weather!D27 -> 630.37083 | BE15: =Weather!E27 -> 0 | BF15: =Weather!F27 -> 574.37083 | BG15: =Weather!G27 -> 0 | BH15: =Weather!H27 -> 518.37083 | BI15: =Weather!I27 -> 0 | BJ15: =Weather!J27 -> 462.37083 | ... BQ15: =Weather!Q27 -> 3.5625 | BR15: 0 | BS15: 1 | BT15: 0 | BU15: 0 | BV15: 0 | BW15: 0 | BX15: 0 | BY15: 0 | BZ15: 0 | CA15: 0 | CB15: 0 | CC15: 0 | CD15: 0 | CE15: =CE3 -> 0 | CF15: 0 | CG15: =CG3 -> 0 | CH15: 0 | CI15: =CI3 -> 0 | CJ15: =CE15+CF15 -> 0 | CK15: =CK3 -> 0 | CL15: =CL3 -> 0 | CM15: =1+CM14 -> 14 | CN15: 0 | CO15: 0 | CP15: 0 | CQ15: 0 | CR15: 0 | CS15: 28 | CT15: 19 | CU15: 0 | CV15: 0 | CW15: 0 | CX15: 0 | CY15: 0 | CZ15: =$CV15*BD15 -> 0 | DA15: =$CV15*BE15 -> 0 | DB15: =$CV15*BF15 -> 0 | DC15: =$CV15*BG15 -> 0 | DD15: =$CV15*BH15 -> 0 | DE15: =$CV15*BI15 -> 0 | DF15: =$CV15*BJ15 -> 0 | DG15: =$CV15*BK15 -> 0 | ... DM15: =$CV15*BQ15 -> 0 | DN15: =$CX15*BD15 -> 0 | DO15: =$CX15*BE15 -> 0 | DP15: =$CX15*BF15 -> 0 | DQ15: =$CX15*BG15 -> 0 | DR15: =$CX15*BH15 -> 0 | DS15: =$CX15*BI15 -> 0 | DT15: =$CX15*BJ15 -> 0 | DU15: =$CX15*BK15 -> 0 | ... EA15: =$CX15*BQ15 -> 0 | EB15: =F15/G15 -> 613.40698 | EC15: =EB15/CS15 -> 21.907392 | ED15: =F15/CS15 -> 3139614.1 | EE15: =J15/K15 -> 2546.6064 | EF15: =EE15/CS15 -> 90.950228 | EG15: =J15/CS15 -> 1147519 | EH15: =N15/P15 -> 71504.694 | EI15: =EH15/CS15 -> 2553.7391 | EJ15: =EH15/CT15 -> 3763.4049 | EK15: =N15/CS15 -> 4131949.8 | EL15: =N15/CT15 -> 6089189.2
A16: 43160 | B16: =YEAR(A16) -> 2018 | C16: =MONTH(A16) -> 3 | D16: 90024514 | E16: =IFERROR(VLOOKUP($B16-1,CDM!$L$7:$T$18,2,FALSE)/12,0)+IFERROR(VLOOKUP($B16,CDM!$L$37:$O$47,2,FALSE)/24,0)+IFERROR(VLOOKUP($B16,CDM!$L$37:$O$47,2,FALSE)/2*$C16/78,0) -> 1794017.5 | F16: =D16+E16 -> 91818532 | G16: 143415 | H16: 33579511 | I16: =IFERROR(VLOOKUP($B16-1,CDM!$L$7:$T$18,3,FALSE)/12,0)+IFERROR(VLOOKUP($B16,CDM!$L$37:$O$47,3,FALSE)/24,0)+IFERROR(VLOOKUP($B16,CDM!$L$37:$O$47,3,FALSE)/2*$C16/78,0) -> 502700.88 | J16: =H16+I16 -> 34082212 | K16: 12620 | L16: 122191302 | M16: =IFERROR(VLOOKUP($B16-1,CDM!$L$7:$T$18,4,FALSE)/12,0)+IFERROR(VLOOKUP($B16,CDM!$L$37:$O$47,4,FALSE)/24,0)+IFERROR(VLOOKUP($B16,CDM!$L$37:$O$47,4,FALSE)/2*$C16/78,0) -> 3287329.7 | N16: =L16+M16 -> 1.2547863e+08 | O16: 281907.07 | P16: 1618 | Q16: 2614332 | R16: =IFERROR(VLOOKUP($B16-1,CDM!$L$7:$T$18,5,FALSE)/12,0)+IFERROR(VLOOKUP($B16,CDM!$L$37:$T$47,5,FALSE)/24,0)+IFERROR(VLOOKUP($B16,CDM!$L$37:$T$47,5,FALSE)/2*$C16/78,0) -> 81691.483 | S16: =R16+Q16 -> 2696023.5 | T16: 5815.04 | U16: 5 | V16: 8912058 | W16: =IFERROR(VLOOKUP($B16-1,CDM!$L$7:$T$18,6,FALSE)/12,0)+IFERROR(VLOOKUP($B16,CDM!$L$37:$T$47,6,FALSE)/24,0)+IFERROR(VLOOKUP($B16,CDM!$L$37:$T$47,6,FALSE)/2*$C16/78,0) -> 110548.61 | X16: =W16+V16 -> 9022606.6 | Y16: 14885.16 | Z16: 1 | AA16: 1572605.3 | AB16: 4248.68 | AC16: 36684 | AD16: 465787.34 | AE16: 1521 | AF16: 47945.15 | AG16: 125.44 | AH16: 531 | AI16: 14400 | AJ16: =Economic!H30 -> 789828.1 | AK16: =Economic!I30 -> 95159.5 | AL16: =Economic!J30 -> 30609.7 | AM16: =Economic!K30 -> 72894 | AN16: =Economic!L30 -> 57384.8 | AO16: =Economic!M30 -> 779694 | AP16: =Economic!N30 -> 94103 | AQ16: =Economic!O30 -> 13370 | ... AS16: =Economic!Q30 -> 73963 | AT16: =Economic!D30 -> 7183.7 | AU16: =Economic!E30 -> 7080.1 | AV16: =Economic!F30 -> 255.1 | AW16: =Economic!G30 -> 251.7 | AX16: =Economic!W30 -> 23024 | AY16: =Economic!R30 -> 148.3 | AZ16: =Economic!W30 -> 23024 | BA16: =Economic!X30 -> 1488 | BB16: =Economic!Y30 -> 6847 | BC16: =Weather!C28 -> -1.2198925 | BD16: =Weather!D28 -> 657.81667 | BE16: =Weather!E28 -> 0 | BF16: =Weather!F28 -> 595.81667 | BG16: =Weather!G28 -> 0 | BH16: =Weather!H28 -> 533.81667 | BI16: =Weather!I28 -> 0 | BJ16: =Weather!J28 -> 471.81667 | ... BQ16: =Weather!Q28 -> 0 | BR16: 0 | BS16: 0 | BT16: 1 | BU16: 0 | BV16: 0 | BW16: 0 | BX16: 0 | BY16: 0 | BZ16: 0 | CA16: 0 | CB16: 0 | CC16: 0 | CD16: 1 | CE16: =CE4 -> 1 | CF16: 0 | CG16: =CG4 -> 0 | CH16: 1 | CI16: =CI4 -> 1 | CJ16: =CE16+CF16 -> 1 | CK16: =CK4 -> 0 | CL16: =CL4 -> 0 | CM16: =1+CM15 -> 15 | CN16: 0 | CO16: 0 | CP16: 0 | CQ16: 0 | CR16: 0 | CS16: 31 | CT16: 21 | CU16: 0 | CV16: 0 | CW16: 0 | CX16: 0 | CY16: 0 | CZ16: =$CV16*BD16 -> 0 | DA16: =$CV16*BE16 -> 0 | DB16: =$CV16*BF16 -> 0 | DC16: =$CV16*BG16 -> 0 | DD16: =$CV16*BH16 -> 0 | DE16: =$CV16*BI16 -> 0 | DF16: =$CV16*BJ16 -> 0 | DG16: =$CV16*BK16 -> 0 | ... DM16: =$CV16*BQ16 -> 0 | DN16: =$CX16*BD16 -> 0 | DO16: =$CX16*BE16 -> 0 | DP16: =$CX16*BF16 -> 0 | DQ16: =$CX16*BG16 -> 0 | DR16: =$CX16*BH16 -> 0 | DS16: =$CX16*BI16 -> 0 | DT16: =$CX16*BJ16 -> 0 | DU16: =$CX16*BK16 -> 0 | ... EA16: =$CX16*BQ16 -> 0 | EB16: =F16/G16 -> 640.22962 | EC16: =EB16/CS16 -> 20.652569 | ED16: =F16/CS16 -> 2961888.1 | EE16: =J16/K16 -> 2700.6507 | EF16: =EE16/CS16 -> 87.117765 | EG16: =J16/CS16 -> 1099426.2 | EH16: =N16/P16 -> 77551.688 | EI16: =EH16/CS16 -> 2501.6674 | EJ16: =EH16/CT16 -> 3692.9375 | EK16: =N16/CS16 -> 4047697.8 | EL16: =N16/CT16 -> 5975172.9
A17: 43191 | B17: =YEAR(A17) -> 2018 | C17: =MONTH(A17) -> 4 | D17: 81914583 | E17: =IFERROR(VLOOKUP($B17-1,CDM!$L$7:$T$18,2,FALSE)/12,0)+IFERROR(VLOOKUP($B17,CDM!$L$37:$O$47,2,FALSE)/24,0)+IFERROR(VLOOKUP($B17,CDM!$L$37:$O$47,2,FALSE)/2*$C17/78,0) -> 1863438.3 | F17: =D17+E17 -> 83778021 | G17: 143508 | H17: 31046782 | I17: =IFERROR(VLOOKUP($B17-1,CDM!$L$7:$T$18,3,FALSE)/12,0)+IFERROR(VLOOKUP($B17,CDM!$L$37:$O$47,3,FALSE)/24,0)+IFERROR(VLOOKUP($B17,CDM!$L$37:$O$47,3,FALSE)/2*$C17/78,0) -> 531998.18 | J17: =H17+I17 -> 31578780 | K17: 12627 | L17: 116259012 | M17: =IFERROR(VLOOKUP($B17-1,CDM!$L$7:$T$18,4,FALSE)/12,0)+IFERROR(VLOOKUP($B17,CDM!$L$37:$O$47,4,FALSE)/24,0)+IFERROR(VLOOKUP($B17,CDM!$L$37:$O$47,4,FALSE)/2*$C17/78,0) -> 3458393 | N17: =L17+M17 -> 1.1971741e+08 | O17: 294103.19 | P17: 1619 | Q17: 2362135 | R17: =IFERROR(VLOOKUP($B17-1,CDM!$L$7:$T$18,5,FALSE)/12,0)+IFERROR(VLOOKUP($B17,CDM!$L$37:$T$47,5,FALSE)/24,0)+IFERROR(VLOOKUP($B17,CDM!$L$37:$T$47,5,FALSE)/2*$C17/78,0) -> 85492.043 | S17: =R17+Q17 -> 2447627 | T17: 3134.49 | U17: 5 | V17: 8485452 | W17: =IFERROR(VLOOKUP($B17-1,CDM!$L$7:$T$18,6,FALSE)/12,0)+IFERROR(VLOOKUP($B17,CDM!$L$37:$T$47,6,FALSE)/24,0)+IFERROR(VLOOKUP($B17,CDM!$L$37:$T$47,6,FALSE)/2*$C17/78,0) -> 121894.89 | X17: =W17+V17 -> 8607346.9 | Y17: 16999.48 | Z17: 1 | AA17: 1259475.9 | AB17: 3923.6 | AC17: 36907 | AD17: 450870.29 | AE17: 1522 | AF17: 44364.84 | AG17: 125.15 | AH17: 531 | AI17: 14400 | AJ17: =Economic!H31 -> 789828.1 | AK17: =Economic!I31 -> 95159.5 | AL17: =Economic!J31 -> 30609.7 | AM17: =Economic!K31 -> 72894 | AN17: =Economic!L31 -> 57384.8 | AO17: =Economic!M31 -> 785185 | AP17: =Economic!N31 -> 94344 | AQ17: =Economic!O31 -> 13371 | ... AS17: =Economic!Q31 -> 73078 | AT17: =Economic!D31 -> 7196 | AU17: =Economic!E31 -> 7107.1 | AV17: =Economic!F31 -> 257.9 | AW17: =Economic!G31 -> 254.4 | AX17: =Economic!W31 -> 20509 | AY17: =Economic!R31 -> 154.2 | AZ17: =Economic!W31 -> 20509 | BA17: =Economic!X31 -> 1803 | BB17: =Economic!Y31 -> 2112 | BC17: =Weather!C29 -> 2.6366667 | BD17: =Weather!D29 -> 520.9 | BE17: =Weather!E29 -> 0 | BF17: =Weather!F29 -> 460.9 | BG17: =Weather!G29 -> 0 | BH17: =Weather!H29 -> 400.9 | BI17: =Weather!I29 -> 0 | BJ17: =Weather!J29 -> 340.9 | ... BQ17: =Weather!Q29 -> 8.5 | BR17: 0 | BS17: 0 | BT17: 0 | BU17: 1 | BV17: 0 | BW17: 0 | BX17: 0 | BY17: 0 | BZ17: 0 | CA17: 0 | CB17: 0 | CC17: 0 | CD17: 1 | CE17: =CE5 -> 1 | CF17: 0 | CG17: =CG5 -> 0 | CH17: 1 | CI17: =CI5 -> 1 | CJ17: =CE17+CF17 -> 1 | CK17: =CK5 -> 0 | CL17: =CL5 -> 0 | CM17: =1+CM16 -> 16 | CN17: 0 | CO17: 0 | CP17: 0 | CQ17: 0 | CR17: 0 | CS17: 30 | CT17: 21 | CU17: 0 | CV17: 0 | CW17: 0 | CX17: 0 | CY17: 0 | CZ17: =$CV17*BD17 -> 0 | DA17: =$CV17*BE17 -> 0 | DB17: =$CV17*BF17 -> 0 | DC17: =$CV17*BG17 -> 0 | DD17: =$CV17*BH17 -> 0 | DE17: =$CV17*BI17 -> 0 | DF17: =$CV17*BJ17 -> 0 | DG17: =$CV17*BK17 -> 0 | ... DM17: =$CV17*BQ17 -> 0 | DN17: =$CX17*BD17 -> 0 | DO17: =$CX17*BE17 -> 0 | DP17: =$CX17*BF17 -> 0 | DQ17: =$CX17*BG17 -> 0 | DR17: =$CX17*BH17 -> 0 | DS17: =$CX17*BI17 -> 0 | DT17: =$CX17*BJ17 -> 0 | DU17: =$CX17*BK17 -> 0 | ... EA17: =$CX17*BQ17 -> 0 | EB17: =F17/G17 -> 583.78642 | EC17: =EB17/CS17 -> 19.459547 | ED17: =F17/CS17 -> 2792600.7 | EE17: =J17/K17 -> 2500.8933 | EF17: =EE17/CS17 -> 83.363111 | EG17: =J17/CS17 -> 1052626 | EH17: =N17/P17 -> 73945.278 | EI17: =EH17/CS17 -> 2464.8426 | EJ17: =EH17/CT17 -> 3521.2037 | EK17: =N17/CS17 -> 3990580.2 | EL17: =N17/CT17 -> 5700828.8
A18: 43221 | B18: =YEAR(A18) -> 2018 | C18: =MONTH(A18) -> 5 | D18: 82919300 | E18: =IFERROR(VLOOKUP($B18-1,CDM!$L$7:$T$18,2,FALSE)/12,0)+IFERROR(VLOOKUP($B18,CDM!$L$37:$O$47,2,FALSE)/24,0)+IFERROR(VLOOKUP($B18,CDM!$L$37:$O$47,2,FALSE)/2*$C18/78,0) -> 1932859 | F18: =D18+E18 -> 84852159 | G18: 143726 | H18: 31876618 | I18: =IFERROR(VLOOKUP($B18-1,CDM!$L$7:$T$18,3,FALSE)/12,0)+IFERROR(VLOOKUP($B18,CDM!$L$37:$O$47,3,FALSE)/24,0)+IFERROR(VLOOKUP($B18,CDM!$L$37:$O$47,3,FALSE)/2*$C18/78,0) -> 561295.48 | J18: =H18+I18 -> 32437913 | K18: 12628 | L18: 123804330 | M18: =IFERROR(VLOOKUP($B18-1,CDM!$L$7:$T$18,4,FALSE)/12,0)+IFERROR(VLOOKUP($B18,CDM!$L$37:$O$47,4,FALSE)/24,0)+IFERROR(VLOOKUP($B18,CDM!$L$37:$O$47,4,FALSE)/2*$C18/78,0) -> 3629456.3 | N18: =L18+M18 -> 1.2743379e+08 | O18: 327824.17 | P18: 1624 | Q18: 4462046 | R18: =IFERROR(VLOOKUP($B18-1,CDM!$L$7:$T$18,5,FALSE)/12,0)+IFERROR(VLOOKUP($B18,CDM!$L$37:$T$47,5,FALSE)/24,0)+IFERROR(VLOOKUP($B18,CDM!$L$37:$T$47,5,FALSE)/2*$C18/78,0) -> 89292.603 | S18: =R18+Q18 -> 4551338.6 | T18: 9762.71 | U18: 5 | V18: 10115955 | W18: =IFERROR(VLOOKUP($B18-1,CDM!$L$7:$T$18,6,FALSE)/12,0)+IFERROR(VLOOKUP($B18,CDM!$L$37:$T$47,6,FALSE)/24,0)+IFERROR(VLOOKUP($B18,CDM!$L$37:$T$47,6,FALSE)/2*$C18/78,0) -> 133241.18 | X18: =W18+V18 -> 10249196 | Y18: 21428.48 | Z18: 1 | AA18: 1120778.6 | AB18: 3925.53 | AC18: 36910 | AD18: 465562.15 | AE18: 1521 | AF18: 47197.41 | AG18: 124.55 | AH18: 529 | AI18: 14400 | AJ18: =Economic!H32 -> 789828.1 | AK18: =Economic!I32 -> 95159.5 | AL18: =Economic!J32 -> 30609.7 | AM18: =Economic!K32 -> 72894 | AN18: =Economic!L32 -> 57384.8 | AO18: =Economic!M32 -> 785185 | AP18: =Economic!N32 -> 94344 | AQ18: =Economic!O32 -> 13371 | ... AS18: =Economic!Q32 -> 73078 | AT18: =Economic!D32 -> 7205 | AU18: =Economic!E32 -> 7172.4 | AV18: =Economic!F32 -> 258.1 | AW18: =Economic!G32 -> 256.6 | AX18: =Economic!W32 -> 20509 | AY18: =Economic!R32 -> 149.1 | AZ18: =Economic!W32 -> 20509 | BA18: =Economic!X32 -> 1803 | BB18: =Economic!Y32 -> 2112 | BC18: =Weather!C30 -> 16.961425 | BD18: =Weather!D30 -> 117.825 | BE18: =Weather!E30 -> 23.629167 | BF18: =Weather!F30 -> 73.595833 | BG18: =Weather!G30 -> 41.4 | BH18: =Weather!H30 -> 36.745833 | BI18: =Weather!I30 -> 66.55 | BJ18: =Weather!J30 -> 15.375 | ... BQ18: =Weather!Q30 -> 279.62083 | BR18: 0 | BS18: 0 | BT18: 0 | BU18: 0 | BV18: 1 | BW18: 0 | BX18: 0 | BY18: 0 | BZ18: 0 | CA18: 0 | CB18: 0 | CC18: 0 | CD18: 1 | CE18: =CE6 -> 0 | CF18: 0 | CG18: =CG6 -> 0 | CH18: 1 | CI18: =CI6 -> 0 | CJ18: =CE18+CF18 -> 0 | CK18: =CK6 -> 1 | CL18: =CL6 -> 0 | CM18: =1+CM17 -> 17 | CN18: 0 | CO18: 0 | CP18: 0 | CQ18: 0 | CR18: 0 | CS18: 31 | CT18: 22 | CU18: 0 | CV18: 0 | CW18: 0 | CX18: 0 | CY18: 0 | CZ18: =$CV18*BD18 -> 0 | DA18: =$CV18*BE18 -> 0 | DB18: =$CV18*BF18 -> 0 | DC18: =$CV18*BG18 -> 0 | DD18: =$CV18*BH18 -> 0 | DE18: =$CV18*BI18 -> 0 | DF18: =$CV18*BJ18 -> 0 | DG18: =$CV18*BK18 -> 0 | ... DM18: =$CV18*BQ18 -> 0 | DN18: =$CX18*BD18 -> 0 | DO18: =$CX18*BE18 -> 0 | DP18: =$CX18*BF18 -> 0 | DQ18: =$CX18*BG18 -> 0 | DR18: =$CX18*BH18 -> 0 | DS18: =$CX18*BI18 -> 0 | DT18: =$CX18*BJ18 -> 0 | DU18: =$CX18*BK18 -> 0 | ... EA18: =$CX18*BQ18 -> 0 | EB18: =F18/G18 -> 590.37446 | EC18: =EB18/CS18 -> 19.044337 | ED18: =F18/CS18 -> 2737166.4 | EE18: =J18/K18 -> 2568.7293 | EF18: =EE18/CS18 -> 82.862235 | EG18: =J18/CS18 -> 1046384.3 | EH18: =N18/P18 -> 78469.08 | EI18: =EH18/CS18 -> 2531.2607 | EJ18: =EH18/CT18 -> 3566.7764 | EK18: =N18/CS18 -> 4110767.3 | EL18: =N18/CT18 -> 5792444.8
A19: 43252 | B19: =YEAR(A19) -> 2018 | C19: =MONTH(A19) -> 6 | D19: 94394407 | E19: =IFERROR(VLOOKUP($B19-1,CDM!$L$7:$T$18,2,FALSE)/12,0)+IFERROR(VLOOKUP($B19,CDM!$L$37:$O$47,2,FALSE)/24,0)+IFERROR(VLOOKUP($B19,CDM!$L$37:$O$47,2,FALSE)/2*$C19/78,0) -> 2002279.8 | F19: =D19+E19 -> 96396687 | G19: 143830 | H19: 33391034 | I19: =IFERROR(VLOOKUP($B19-1,CDM!$L$7:$T$18,3,FALSE)/12,0)+IFERROR(VLOOKUP($B19,CDM!$L$37:$O$47,3,FALSE)/24,0)+IFERROR(VLOOKUP($B19,CDM!$L$37:$O$47,3,FALSE)/2*$C19/78,0) -> 590592.78 | J19: =H19+I19 -> 33981627 | K19: 12632 | L19: 126359687 | M19: =IFERROR(VLOOKUP($B19-1,CDM!$L$7:$T$18,4,FALSE)/12,0)+IFERROR(VLOOKUP($B19,CDM!$L$37:$O$47,4,FALSE)/24,0)+IFERROR(VLOOKUP($B19,CDM!$L$37:$O$47,4,FALSE)/2*$C19/78,0) -> 3800519.6 | N19: =L19+M19 -> 1.3016021e+08 | O19: 342086.64 | P19: 1622 | Q19: 6617754 | R19: =IFERROR(VLOOKUP($B19-1,CDM!$L$7:$T$18,5,FALSE)/12,0)+IFERROR(VLOOKUP($B19,CDM!$L$37:$T$47,5,FALSE)/24,0)+IFERROR(VLOOKUP($B19,CDM!$L$37:$T$47,5,FALSE)/2*$C19/78,0) -> 93093.163 | S19: =R19+Q19 -> 6710847.2 | T19: 9686.01 | U19: 5 | V19: 10557994 | W19: =IFERROR(VLOOKUP($B19-1,CDM!$L$7:$T$18,6,FALSE)/12,0)+IFERROR(VLOOKUP($B19,CDM!$L$37:$T$47,6,FALSE)/24,0)+IFERROR(VLOOKUP($B19,CDM!$L$37:$T$47,6,FALSE)/2*$C19/78,0) -> 144587.46 | X19: =W19+V19 -> 10702581 | Y19: 20664.09 | Z19: 1 | AA19: 1027887.9 | AB19: 3929.24 | AC19: 36949 | AD19: 451609.67 | AE19: 1521 | AF19: 45645.42 | AG19: 124.4 | AH19: 529 | AI19: 14400 | AJ19: =Economic!H33 -> 789828.1 | AK19: =Economic!I33 -> 95159.5 | AL19: =Economic!J33 -> 30609.7 | AM19: =Economic!K33 -> 72894 | AN19: =Economic!L33 -> 57384.8 | AO19: =Economic!M33 -> 785185 | AP19: =Economic!N33 -> 94344 | AQ19: =Economic!O33 -> 13371 | ... AS19: =Economic!Q33 -> 73078 | AT19: =Economic!D33 -> 7216.7 | AU19: =Economic!E33 -> 7258 | AV19: =Economic!F33 -> 257.6 | AW19: =Economic!G33 -> 260.5 | AX19: =Economic!W33 -> 20509 | AY19: =Economic!R33 -> 145.7 | AZ19: =Economic!W33 -> 20509 | BA19: =Economic!X33 -> 1803 | BB19: =Economic!Y33 -> 2112 | BC19: =Weather!C31 -> 19.014722 | BD19: =Weather!D31 -> 55.55 | BE19: =Weather!E31 -> 25.991667 | BF19: =Weather!F31 -> 21.091667 | BG19: =Weather!G31 -> 51.533333 | BH19: =Weather!H31 -> 8.9958333 | BI19: =Weather!I31 -> 99.4375 | BJ19: =Weather!J31 -> 4.6208333 | ... BQ19: =Weather!Q31 -> 330.44167 | BR19: 0 | BS19: 0 | BT19: 0 | BU19: 0 | BV19: 0 | BW19: 1 | BX19: 0 | BY19: 0 | BZ19: 0 | CA19: 0 | CB19: 0 | CC19: 0 | CD19: 0 | CE19: =CE7 -> 0 | CF19: 0 | CG19: =CG7 -> 0 | CH19: 0 | CI19: =CI7 -> 0 | CJ19: =CE19+CF19 -> 0 | CK19: =CK7 -> 1 | CL19: =CL7 -> 0 | CM19: =1+CM18 -> 18 | CN19: 0 | CO19: 0 | CP19: 0 | CQ19: 0 | CR19: 0 | CS19: 30 | CT19: 21 | CU19: 0 | CV19: 0 | CW19: 0 | CX19: 0 | CY19: 0 | CZ19: =$CV19*BD19 -> 0 | DA19: =$CV19*BE19 -> 0 | DB19: =$CV19*BF19 -> 0 | DC19: =$CV19*BG19 -> 0 | DD19: =$CV19*BH19 -> 0 | DE19: =$CV19*BI19 -> 0 | DF19: =$CV19*BJ19 -> 0 | DG19: =$CV19*BK19 -> 0 | ... DM19: =$CV19*BQ19 -> 0 | DN19: =$CX19*BD19 -> 0 | DO19: =$CX19*BE19 -> 0 | DP19: =$CX19*BF19 -> 0 | DQ19: =$CX19*BG19 -> 0 | DR19: =$CX19*BH19 -> 0 | DS19: =$CX19*BI19 -> 0 | DT19: =$CX19*BJ19 -> 0 | DU19: =$CX19*BK19 -> 0 | ... EA19: =$CX19*BQ19 -> 0 | EB19: =F19/G19 -> 670.21266 | EC19: =EB19/CS19 -> 22.340422 | ED19: =F19/CS19 -> 3213222.9 | EE19: =J19/K19 -> 2690.1224 | EF19: =EE19/CS19 -> 89.670748 | EG19: =J19/CS19 -> 1132720.9 | EH19: =N19/P19 -> 80246.736 | EI19: =EH19/CS19 -> 2674.8912 | EJ19: =EH19/CT19 -> 3821.2732 | EK19: =N19/CS19 -> 4338673.6 | EL19: =N19/CT19 -> 6198105.1
A20: 43282 | B20: =YEAR(A20) -> 2018 | C20: =MONTH(A20) -> 7 | D20: 118664613 | E20: =IFERROR(VLOOKUP($B20-1,CDM!$L$7:$T$18,2,FALSE)/12,0)+IFERROR(VLOOKUP($B20,CDM!$L$37:$O$47,2,FALSE)/24,0)+IFERROR(VLOOKUP($B20,CDM!$L$37:$O$47,2,FALSE)/2*$C20/78,0) -> 2071700.6 | F20: =D20+E20 -> 1.2073631e+08 | G20: 143994 | H20: 36720528 | I20: =IFERROR(VLOOKUP($B20-1,CDM!$L$7:$T$18,3,FALSE)/12,0)+IFERROR(VLOOKUP($B20,CDM!$L$37:$O$47,3,FALSE)/24,0)+IFERROR(VLOOKUP($B20,CDM!$L$37:$O$47,3,FALSE)/2*$C20/78,0) -> 619890.08 | J20: =H20+I20 -> 37340418 | K20: 12632 | L20: 135603866 | M20: =IFERROR(VLOOKUP($B20-1,CDM!$L$7:$T$18,4,FALSE)/12,0)+IFERROR(VLOOKUP($B20,CDM!$L$37:$O$47,4,FALSE)/24,0)+IFERROR(VLOOKUP($B20,CDM!$L$37:$O$47,4,FALSE)/2*$C20/78,0) -> 3971582.8 | N20: =L20+M20 -> 1.3957545e+08 | O20: 342558.78 | P20: 1622 | Q20: 7271650 | R20: =IFERROR(VLOOKUP($B20-1,CDM!$L$7:$T$18,5,FALSE)/12,0)+IFERROR(VLOOKUP($B20,CDM!$L$37:$T$47,5,FALSE)/24,0)+IFERROR(VLOOKUP($B20,CDM!$L$37:$T$47,5,FALSE)/2*$C20/78,0) -> 96893.723 | S20: =R20+Q20 -> 7368543.7 | T20: 10100.53 | U20: 5 | V20: 12171754 | W20: =IFERROR(VLOOKUP($B20-1,CDM!$L$7:$T$18,6,FALSE)/12,0)+IFERROR(VLOOKUP($B20,CDM!$L$37:$T$47,6,FALSE)/24,0)+IFERROR(VLOOKUP($B20,CDM!$L$37:$T$47,6,FALSE)/2*$C20/78,0) -> 155933.74 | X20: =W20+V20 -> 12327688 | Y20: 22199.68 | Z20: 1 | AA20: 1091504.3 | AB20: 3929.67 | AC20: 36953 | AD20: 465769.39 | AE20: 1520 | AF20: 45271.42 | AG20: 123.31 | AH20: 529 | AI20: 14400 | AJ20: =Economic!H34 -> 789828.1 | AK20: =Economic!I34 -> 95159.5 | AL20: =Economic!J34 -> 30609.7 | AM20: =Economic!K34 -> 72894 | AN20: =Economic!L34 -> 57384.8 | AO20: =Economic!M34 -> 794512 | AP20: =Economic!N34 -> 96068 | AQ20: =Economic!O34 -> 13890 | ... AS20: =Economic!Q34 -> 72324 | AT20: =Economic!D34 -> 7249.1 | AU20: =Economic!E34 -> 7338.7 | AV20: =Economic!F34 -> 258.9 | AW20: =Economic!G34 -> 264.6 | AX20: =Economic!W34 -> 29503 | AY20: =Economic!R34 -> 150 | AZ20: =Economic!W34 -> 29503 | BA20: =Economic!X34 -> 5510 | BB20: =Economic!Y34 -> 390 | BC20: =Weather!C32 -> 21.252083 | BD20: =Weather!D32 -> 15.339583 | BE20: =Weather!E32 -> 54.154167 | BF20: =Weather!F32 -> 0.97083333 | BG20: =Weather!G32 -> 101.78542 | BH20: =Weather!H32 -> 0 | BI20: =Weather!I32 -> 162.81458 | BJ20: =Weather!J32 -> 0 | ... BQ20: =Weather!Q32 -> 410.81458 | BR20: 0 | BS20: 0 | BT20: 0 | BU20: 0 | BV20: 0 | BW20: 0 | BX20: 1 | BY20: 0 | BZ20: 0 | CA20: 0 | CB20: 0 | CC20: 0 | CD20: 0 | CE20: =CE8 -> 0 | CF20: 0 | CG20: =CG8 -> 0 | CH20: 0 | CI20: =CI8 -> 0 | CJ20: =CE20+CF20 -> 0 | CK20: =CK8 -> 1 | CL20: =CL8 -> 1 | CM20: =1+CM19 -> 19 | CN20: 0 | CO20: 0 | CP20: 0 | CQ20: 0 | CR20: 0 | CS20: 31 | CT20: 21 | CU20: 0 | CV20: 0 | CW20: 0 | CX20: 0 | CY20: 0 | CZ20: =$CV20*BD20 -> 0 | DA20: =$CV20*BE20 -> 0 | DB20: =$CV20*BF20 -> 0 | DC20: =$CV20*BG20 -> 0 | DD20: =$CV20*BH20 -> 0 | DE20: =$CV20*BI20 -> 0 | DF20: =$CV20*BJ20 -> 0 | DG20: =$CV20*BK20 -> 0 | ... DM20: =$CV20*BQ20 -> 0 | DN20: =$CX20*BD20 -> 0 | DO20: =$CX20*BE20 -> 0 | DP20: =$CX20*BF20 -> 0 | DQ20: =$CX20*BG20 -> 0 | DR20: =$CX20*BH20 -> 0 | DS20: =$CX20*BI20 -> 0 | DT20: =$CX20*BJ20 -> 0 | DU20: =$CX20*BK20 -> 0 | ... EA20: =$CX20*BQ20 -> 0 | EB20: =F20/G20 -> 838.48156 | EC20: =EB20/CS20 -> 27.047792 | ED20: =F20/CS20 -> 3894719.8 | EE20: =J20/K20 -> 2956.0179 | EF20: =EE20/CS20 -> 95.355416 | EG20: =J20/CS20 -> 1204529.6 | EH20: =N20/P20 -> 86051.448 | EI20: =EH20/CS20 -> 2775.8532 | EJ20: =EH20/CT20 -> 4097.688 | EK20: =N20/CS20 -> 4502433.8 | EL20: =N20/CT20 -> 6646449.9
A21: 43313 | B21: =YEAR(A21) -> 2018 | C21: =MONTH(A21) -> 8 | D21: 117220318 | E21: =IFERROR(VLOOKUP($B21-1,CDM!$L$7:$T$18,2,FALSE)/12,0)+IFERROR(VLOOKUP($B21,CDM!$L$37:$O$47,2,FALSE)/24,0)+IFERROR(VLOOKUP($B21,CDM!$L$37:$O$47,2,FALSE)/2*$C21/78,0) -> 2141121.3 | F21: =D21+E21 -> 1.1936144e+08 | G21: 144112 | H21: 36609012 | I21: =IFERROR(VLOOKUP($B21-1,CDM!$L$7:$T$18,3,FALSE)/12,0)+IFERROR(VLOOKUP($B21,CDM!$L$37:$O$47,3,FALSE)/24,0)+IFERROR(VLOOKUP($B21,CDM!$L$37:$O$47,3,FALSE)/2*$C21/78,0) -> 649187.38 | J21: =H21+I21 -> 37258199 | K21: 12641 | L21: 141373688 | M21: =IFERROR(VLOOKUP($B21-1,CDM!$L$7:$T$18,4,FALSE)/12,0)+IFERROR(VLOOKUP($B21,CDM!$L$37:$O$47,4,FALSE)/24,0)+IFERROR(VLOOKUP($B21,CDM!$L$37:$O$47,4,FALSE)/2*$C21/78,0) -> 4142646.1 | N21: =L21+M21 -> 1.4551633e+08 | O21: 338502.55 | P21: 1624 | Q21: 6876246 | R21: =IFERROR(VLOOKUP($B21-1,CDM!$L$7:$T$18,5,FALSE)/12,0)+IFERROR(VLOOKUP($B21,CDM!$L$37:$T$47,5,FALSE)/24,0)+IFERROR(VLOOKUP($B21,CDM!$L$37:$T$47,5,FALSE)/2*$C21/78,0) -> 100694.28 | S21: =R21+Q21 -> 6976940.3 | T21: 12243.55 | U21: 5 | V21: 12667173 | W21: =IFERROR(VLOOKUP($B21-1,CDM!$L$7:$T$18,6,FALSE)/12,0)+IFERROR(VLOOKUP($B21,CDM!$L$37:$T$47,6,FALSE)/24,0)+IFERROR(VLOOKUP($B21,CDM!$L$37:$T$47,6,FALSE)/2*$C21/78,0) -> 167280.03 | X21: =W21+V21 -> 12834453 | Y21: 22603.23 | Z21: 1 | AA21: 1213324 | AB21: 3929.67 | AC21: 36953 | AD21: 466602.93 | AE21: 1522 | AF21: 46548.85 | AG21: 123.11 | AH21: 529 | AI21: 14400 | AJ21: =Economic!H35 -> 789828.1 | AK21: =Economic!I35 -> 95159.5 | AL21: =Economic!J35 -> 30609.7 | AM21: =Economic!K35 -> 72894 | AN21: =Economic!L35 -> 57384.8 | AO21: =Economic!M35 -> 794512 | AP21: =Economic!N35 -> 96068 | AQ21: =Economic!O35 -> 13890 | ... AS21: =Economic!Q35 -> 72324 | AT21: =Economic!D35 -> 7257.7 | AU21: =Economic!E35 -> 7350.2 | AV21: =Economic!F35 -> 260.1 | AW21: =Economic!G35 -> 266 | AX21: =Economic!W35 -> 29503 | AY21: =Economic!R35 -> 139.7 | AZ21: =Economic!W35 -> 29503 | BA21: =Economic!X35 -> 5510 | BB21: =Economic!Y35 -> 390 | BC21: =Weather!C33 -> 21.448656 | BD21: =Weather!D33 -> 9.9416667 | BE21: =Weather!E33 -> 54.85 | BF21: =Weather!F33 -> 1.7291667 | BG21: =Weather!G33 -> 108.6375 | BH21: =Weather!H33 -> 0 | BI21: =Weather!I33 -> 168.90833 | BJ21: =Weather!J33 -> 0 | ... BQ21: =Weather!Q33 -> 416.90833 | BR21: 0 | BS21: 0 | BT21: 0 | BU21: 0 | BV21: 0 | BW21: 0 | BX21: 0 | BY21: 1 | BZ21: 0 | CA21: 0 | CB21: 0 | CC21: 0 | CD21: 0 | CE21: =CE9 -> 0 | CF21: 0 | CG21: =CG9 -> 0 | CH21: 0 | CI21: =CI9 -> 0 | CJ21: =CE21+CF21 -> 0 | CK21: =CK9 -> 1 | CL21: =CL9 -> 1 | CM21: =1+CM20 -> 20 | CN21: 0 | CO21: 0 | CP21: 0 | CQ21: 0 | CR21: 0 | CS21: 31 | CT21: 22 | CU21: 0 | CV21: 0 | CW21: 0 | CX21: 0 | CY21: 0 | CZ21: =$CV21*BD21 -> 0 | DA21: =$CV21*BE21 -> 0 | DB21: =$CV21*BF21 -> 0 | DC21: =$CV21*BG21 -> 0 | DD21: =$CV21*BH21 -> 0 | DE21: =$CV21*BI21 -> 0 | DF21: =$CV21*BJ21 -> 0 | DG21: =$CV21*BK21 -> 0 | ... DM21: =$CV21*BQ21 -> 0 | DN21: =$CX21*BD21 -> 0 | DO21: =$CX21*BE21 -> 0 | DP21: =$CX21*BF21 -> 0 | DQ21: =$CX21*BG21 -> 0 | DR21: =$CX21*BH21 -> 0 | DS21: =$CX21*BI21 -> 0 | DT21: =$CX21*BJ21 -> 0 | DU21: =$CX21*BK21 -> 0 | ... EA21: =$CX21*BQ21 -> 0 | EB21: =F21/G21 -> 828.25469 | EC21: =EB21/CS21 -> 26.717893 | ED21: =F21/CS21 -> 3850369 | EE21: =J21/K21 -> 2947.4092 | EF21: =EE21/CS21 -> 95.077715 | EG21: =J21/CS21 -> 1201877.4 | EH21: =N21/P21 -> 89603.654 | EI21: =EH21/CS21 -> 2890.4405 | EJ21: =EH21/CT21 -> 4072.8934 | EK21: =N21/CS21 -> 4694075.3 | EL21: =N21/CT21 -> 6614378.8
A22: 43344 | B22: =YEAR(A22) -> 2018 | C22: =MONTH(A22) -> 9 | D22: 96184618 | E22: =IFERROR(VLOOKUP($B22-1,CDM!$L$7:$T$18,2,FALSE)/12,0)+IFERROR(VLOOKUP($B22,CDM!$L$37:$O$47,2,FALSE)/24,0)+IFERROR(VLOOKUP($B22,CDM!$L$37:$O$47,2,FALSE)/2*$C22/78,0) -> 2210542.1 | F22: =D22+E22 -> 98395160 | G22: 144236 | H22: 31779471 | I22: =IFERROR(VLOOKUP($B22-1,CDM!$L$7:$T$18,3,FALSE)/12,0)+IFERROR(VLOOKUP($B22,CDM!$L$37:$O$47,3,FALSE)/24,0)+IFERROR(VLOOKUP($B22,CDM!$L$37:$O$47,3,FALSE)/2*$C22/78,0) -> 678484.68 | J22: =H22+I22 -> 32457956 | K22: 12635 | L22: 126159099 | M22: =IFERROR(VLOOKUP($B22-1,CDM!$L$7:$T$18,4,FALSE)/12,0)+IFERROR(VLOOKUP($B22,CDM!$L$37:$O$47,4,FALSE)/24,0)+IFERROR(VLOOKUP($B22,CDM!$L$37:$O$47,4,FALSE)/2*$C22/78,0) -> 4313709.4 | N22: =L22+M22 -> 1.3047281e+08 | O22: 344953.53 | P22: 1624 | Q22: 5227258 | R22: =IFERROR(VLOOKUP($B22-1,CDM!$L$7:$T$18,5,FALSE)/12,0)+IFERROR(VLOOKUP($B22,CDM!$L$37:$T$47,5,FALSE)/24,0)+IFERROR(VLOOKUP($B22,CDM!$L$37:$T$47,5,FALSE)/2*$C22/78,0) -> 104494.84 | S22: =R22+Q22 -> 5331752.8 | T22: 15172.65 | U22: 5 | V22: 11377114 | W22: =IFERROR(VLOOKUP($B22-1,CDM!$L$7:$T$18,6,FALSE)/12,0)+IFERROR(VLOOKUP($B22,CDM!$L$37:$T$47,6,FALSE)/24,0)+IFERROR(VLOOKUP($B22,CDM!$L$37:$T$47,6,FALSE)/2*$C22/78,0) -> 178626.31 | X22: =W22+V22 -> 11555740 | Y22: 23222.74 | Z22: 1 | AA22: 1352933.5 | AB22: 3942.11 | AC22: 37041 | AD22: 452371.42 | AE22: 1525 | AF22: 44704.86 | AG22: 123.17 | AH22: 529 | AI22: 14400 | AJ22: =Economic!H36 -> 789828.1 | AK22: =Economic!I36 -> 95159.5 | AL22: =Economic!J36 -> 30609.7 | AM22: =Economic!K36 -> 72894 | AN22: =Economic!L36 -> 57384.8 | AO22: =Economic!M36 -> 794512 | AP22: =Economic!N36 -> 96068 | AQ22: =Economic!O36 -> 13890 | ... AS22: =Economic!Q36 -> 72324 | AT22: =Economic!D36 -> 7273.8 | AU22: =Economic!E36 -> 7316.6 | AV22: =Economic!F36 -> 262.2 | AW22: =Economic!G36 -> 264.8 | AX22: =Economic!W36 -> 29503 | AY22: =Economic!R36 -> 130.5 | AZ22: =Economic!W36 -> 29503 | BA22: =Economic!X36 -> 5510 | BB22: =Economic!Y36 -> 390 | BC22: =Weather!C34 -> 17.676111 | BD22: =Weather!D34 -> 101.0875 | BE22: =Weather!E34 -> 31.370833 | BF22: =Weather!F34 -> 67.079167 | BG22: =Weather!G34 -> 57.3625 | BH22: =Weather!H34 -> 39.5875 | BI22: =Weather!I34 -> 89.870833 | BJ22: =Weather!J34 -> 20.0625 | ... BQ22: =Weather!Q34 -> 290.28333 | BR22: 0 | BS22: 0 | BT22: 0 | BU22: 0 | BV22: 0 | BW22: 0 | BX22: 0 | BY22: 0 | BZ22: 1 | CA22: 0 | CB22: 0 | CC22: 0 | CD22: 0 | CE22: =CE10 -> 0 | CF22: 1 | CG22: =CG10 -> 1 | CH22: 1 | CI22: =CI10 -> 1 | CJ22: =CE22+CF22 -> 1 | CK22: =CK10 -> 0 | CL22: =CL10 -> 0 | CM22: =1+CM21 -> 21 | CN22: 0 | CO22: 0 | CP22: 0 | CQ22: 0 | CR22: 0 | CS22: 30 | CT22: 19 | CU22: 0 | CV22: 0 | CW22: 0 | CX22: 0 | CY22: 0 | CZ22: =$CV22*BD22 -> 0 | DA22: =$CV22*BE22 -> 0 | DB22: =$CV22*BF22 -> 0 | DC22: =$CV22*BG22 -> 0 | DD22: =$CV22*BH22 -> 0 | DE22: =$CV22*BI22 -> 0 | DF22: =$CV22*BJ22 -> 0 | DG22: =$CV22*BK22 -> 0 | ... DM22: =$CV22*BQ22 -> 0 | DN22: =$CX22*BD22 -> 0 | DO22: =$CX22*BE22 -> 0 | DP22: =$CX22*BF22 -> 0 | DQ22: =$CX22*BG22 -> 0 | DR22: =$CX22*BH22 -> 0 | DS22: =$CX22*BI22 -> 0 | DT22: =$CX22*BJ22 -> 0 | DU22: =$CX22*BK22 -> 0 | ... EA22: =$CX22*BQ22 -> 0 | EB22: =F22/G22 -> 682.1817 | EC22: =EB22/CS22 -> 22.73939 | ED22: =F22/CS22 -> 3279838.7 | EE22: =J22/K22 -> 2568.8924 | EF22: =EE22/CS22 -> 85.629747 | EG22: =J22/CS22 -> 1081931.9 | EH22: =N22/P22 -> 80340.399 | EI22: =EH22/CS22 -> 2678.0133 | EJ22: =EH22/CT22 -> 4228.4421 | EK22: =N22/CS22 -> 4349093.6 | EL22: =N22/CT22 -> 6866989.9
A23: 43374 | B23: =YEAR(A23) -> 2018 | C23: =MONTH(A23) -> 10 | D23: 80857467 | E23: =IFERROR(VLOOKUP($B23-1,CDM!$L$7:$T$18,2,FALSE)/12,0)+IFERROR(VLOOKUP($B23,CDM!$L$37:$O$47,2,FALSE)/24,0)+IFERROR(VLOOKUP($B23,CDM!$L$37:$O$47,2,FALSE)/2*$C23/78,0) -> 2279962.8 | F23: =D23+E23 -> 83137430 | G23: 144490 | H23: 30178509 | I23: =IFERROR(VLOOKUP($B23-1,CDM!$L$7:$T$18,3,FALSE)/12,0)+IFERROR(VLOOKUP($B23,CDM!$L$37:$O$47,3,FALSE)/24,0)+IFERROR(VLOOKUP($B23,CDM!$L$37:$O$47,3,FALSE)/2*$C23/78,0) -> 707781.98 | J23: =H23+I23 -> 30886291 | K23: 12648 | L23: 119787178 | M23: =IFERROR(VLOOKUP($B23-1,CDM!$L$7:$T$18,4,FALSE)/12,0)+IFERROR(VLOOKUP($B23,CDM!$L$37:$O$47,4,FALSE)/24,0)+IFERROR(VLOOKUP($B23,CDM!$L$37:$O$47,4,FALSE)/2*$C23/78,0) -> 4484772.6 | N23: =L23+M23 -> 1.2427195e+08 | O23: 315895.36 | P23: 1625 | Q23: 2831759 | R23: =IFERROR(VLOOKUP($B23-1,CDM!$L$7:$T$18,5,FALSE)/12,0)+IFERROR(VLOOKUP($B23,CDM!$L$37:$T$47,5,FALSE)/24,0)+IFERROR(VLOOKUP($B23,CDM!$L$37:$T$47,5,FALSE)/2*$C23/78,0) -> 108295.4 | S23: =R23+Q23 -> 2940054.4 | T23: 12617.92 | U23: 5 | V23: 9473584 | W23: =IFERROR(VLOOKUP($B23-1,CDM!$L$7:$T$18,6,FALSE)/12,0)+IFERROR(VLOOKUP($B23,CDM!$L$37:$T$47,6,FALSE)/24,0)+IFERROR(VLOOKUP($B23,CDM!$L$37:$T$47,6,FALSE)/2*$C23/78,0) -> 189972.6 | X23: =W23+V23 -> 9663556.6 | Y23: 21375.74 | Z23: 1 | AA23: 1542308.5 | AB23: 3847.79 | AC23: 36729 | AD23: 467136.84 | AE23: 1526 | AF23: 46358.3 | AG23: 123.11 | AH23: 529 | AI23: 14400 | AJ23: =Economic!H37 -> 789828.1 | AK23: =Economic!I37 -> 95159.5 | AL23: =Economic!J37 -> 30609.7 | AM23: =Economic!K37 -> 72894 | AN23: =Economic!L37 -> 57384.8 | AO23: =Economic!M37 -> 799922 | AP23: =Economic!N37 -> 96123 | AQ23: =Economic!O37 -> 13379 | ... AS23: =Economic!Q37 -> 72211 | AT23: =Economic!D37 -> 7269.1 | AU23: =Economic!E37 -> 7285.3 | AV23: =Economic!F37 -> 263 | AW23: =Economic!G37 -> 263.3 | AX23: =Economic!W37 -> 28416 | AY23: =Economic!R37 -> 110.8 | AZ23: =Economic!W37 -> 28416 | BA23: =Economic!X37 -> 4446 | BB23: =Economic!Y37 -> -1929 | BC23: =Weather!C35 -> 8.8767473 | BD23: =Weather!D35 -> 348 | BE23: =Weather!E35 -> 3.1791667 | BF23: =Weather!F35 -> 290 | BG23: =Weather!G35 -> 7.1791667 | BH23: =Weather!H35 -> 233.9625 | BI23: =Weather!I35 -> 13.141667 | BJ23: =Weather!J35 -> 181.65 | ... BQ23: =Weather!Q35 -> 80.029167 | BR23: 0 | BS23: 0 | BT23: 0 | BU23: 0 | BV23: 0 | BW23: 0 | BX23: 0 | BY23: 0 | BZ23: 0 | CA23: 1 | CB23: 0 | CC23: 0 | CD23: 0 | CE23: =CE11 -> 0 | CF23: 1 | CG23: =CG11 -> 1 | CH23: 1 | CI23: =CI11 -> 1 | CJ23: =CE23+CF23 -> 1 | CK23: =CK11 -> 0 | CL23: =CL11 -> 0 | CM23: =1+CM22 -> 22 | CN23: 0 | CO23: 0 | CP23: 0 | CQ23: 0 | CR23: 0 | CS23: 31 | CT23: 22 | CU23: 0 | CV23: 0 | CW23: 0 | CX23: 0 | CY23: 0 | CZ23: =$CV23*BD23 -> 0 | DA23: =$CV23*BE23 -> 0 | DB23: =$CV23*BF23 -> 0 | DC23: =$CV23*BG23 -> 0 | DD23: =$CV23*BH23 -> 0 | DE23: =$CV23*BI23 -> 0 | DF23: =$CV23*BJ23 -> 0 | DG23: =$CV23*BK23 -> 0 | ... DM23: =$CV23*BQ23 -> 0 | DN23: =$CX23*BD23 -> 0 | DO23: =$CX23*BE23 -> 0 | DP23: =$CX23*BF23 -> 0 | DQ23: =$CX23*BG23 -> 0 | DR23: =$CX23*BH23 -> 0 | DS23: =$CX23*BI23 -> 0 | DT23: =$CX23*BJ23 -> 0 | DU23: =$CX23*BK23 -> 0 | ... EA23: =$CX23*BQ23 -> 0 | EB23: =F23/G23 -> 575.38535 | EC23: =EB23/CS23 -> 18.560818 | ED23: =F23/CS23 -> 2681852.6 | EE23: =J23/K23 -> 2441.9901 | EF23: =EE23/CS23 -> 78.773875 | EG23: =J23/CS23 -> 996331.97 | EH23: =N23/P23 -> 76475.047 | EI23: =EH23/CS23 -> 2466.937 | EJ23: =EH23/CT23 -> 3476.1385 | EK23: =N23/CS23 -> 4008772.6 | EL23: =N23/CT23 -> 5648725
A24: 43405 | B24: =YEAR(A24) -> 2018 | C24: =MONTH(A24) -> 11 | D24: 87977332 | E24: =IFERROR(VLOOKUP($B24-1,CDM!$L$7:$T$18,2,FALSE)/12,0)+IFERROR(VLOOKUP($B24,CDM!$L$37:$O$47,2,FALSE)/24,0)+IFERROR(VLOOKUP($B24,CDM!$L$37:$O$47,2,FALSE)/2*$C24/78,0) -> 2349383.6 | F24: =D24+E24 -> 90326716 | G24: 144599 | H24: 32327635 | I24: =IFERROR(VLOOKUP($B24-1,CDM!$L$7:$T$18,3,FALSE)/12,0)+IFERROR(VLOOKUP($B24,CDM!$L$37:$O$47,3,FALSE)/24,0)+IFERROR(VLOOKUP($B24,CDM!$L$37:$O$47,3,FALSE)/2*$C24/78,0) -> 737079.28 | J24: =H24+I24 -> 33064714 | K24: 12660 | L24: 117869371 | M24: =IFERROR(VLOOKUP($B24-1,CDM!$L$7:$T$18,4,FALSE)/12,0)+IFERROR(VLOOKUP($B24,CDM!$L$37:$O$47,4,FALSE)/24,0)+IFERROR(VLOOKUP($B24,CDM!$L$37:$O$47,4,FALSE)/2*$C24/78,0) -> 4655835.9 | N24: =L24+M24 -> 1.2252521e+08 | O24: 288065.86 | P24: 1627 | Q24: 1719942 | R24: =IFERROR(VLOOKUP($B24-1,CDM!$L$7:$T$18,5,FALSE)/12,0)+IFERROR(VLOOKUP($B24,CDM!$L$37:$T$47,5,FALSE)/24,0)+IFERROR(VLOOKUP($B24,CDM!$L$37:$T$47,5,FALSE)/2*$C24/78,0) -> 112095.96 | S24: =R24+Q24 -> 1832038 | T24: 4381.05 | U24: 5 | V24: 8675672 | W24: =IFERROR(VLOOKUP($B24-1,CDM!$L$7:$T$18,6,FALSE)/12,0)+IFERROR(VLOOKUP($B24,CDM!$L$37:$T$47,6,FALSE)/24,0)+IFERROR(VLOOKUP($B24,CDM!$L$37:$T$47,6,FALSE)/2*$C24/78,0) -> 201318.88 | X24: =W24+V24 -> 8876990.9 | Y24: 14574.71 | Z24: 1 | AA24: 1634136.4 | AB24: 3846.84 | AC24: 36754 | AD24: 453053.09 | AE24: 1522 | AF24: 45252.26 | AG24: 123.11 | AH24: 529 | AI24: 14400 | AJ24: =Economic!H38 -> 789828.1 | AK24: =Economic!I38 -> 95159.5 | AL24: =Economic!J38 -> 30609.7 | AM24: =Economic!K38 -> 72894 | AN24: =Economic!L38 -> 57384.8 | AO24: =Economic!M38 -> 799922 | AP24: =Economic!N38 -> 96123 | AQ24: =Economic!O38 -> 13379 | ... AS24: =Economic!Q38 -> 72211 | AT24: =Economic!D38 -> 7289.9 | AU24: =Economic!E38 -> 7286.3 | AV24: =Economic!F38 -> 261.2 | AW24: =Economic!G38 -> 258.4 | AX24: =Economic!W38 -> 28416 | AY24: =Economic!R38 -> 107.7 | AZ24: =Economic!W38 -> 28416 | BA24: =Economic!X38 -> 4446 | BB24: =Economic!Y38 -> -1929 | BC24: =Weather!C36 -> 0.71916667 | BD24: =Weather!D36 -> 578.425 | BE24: =Weather!E36 -> 0 | BF24: =Weather!F36 -> 518.425 | BG24: =Weather!G36 -> 0 | BH24: =Weather!H36 -> 458.425 | BI24: =Weather!I36 -> 0 | BJ24: =Weather!J36 -> 398.425 | ... BQ24: =Weather!Q36 -> 1.9291667 | BR24: 0 | BS24: 0 | BT24: 0 | BU24: 0 | BV24: 0 | BW24: 0 | BX24: 0 | BY24: 0 | BZ24: 0 | CA24: 0 | CB24: 1 | CC24: 0 | CD24: 0 | CE24: =CE12 -> 0 | CF24: 1 | CG24: =CG12 -> 0 | CH24: 1 | CI24: =CI12 -> 0 | CJ24: =CE24+CF24 -> 1 | CK24: =CK12 -> 0 | CL24: =CL12 -> 0 | CM24: =1+CM23 -> 23 | CN24: 0 | CO24: 0 | CP24: 0 | CQ24: 0 | CR24: 0 | CS24: 30 | CT24: 22 | CU24: 0 | CV24: 0 | CW24: 0 | CX24: 0 | CY24: 0 | CZ24: =$CV24*BD24 -> 0 | DA24: =$CV24*BE24 -> 0 | DB24: =$CV24*BF24 -> 0 | DC24: =$CV24*BG24 -> 0 | DD24: =$CV24*BH24 -> 0 | DE24: =$CV24*BI24 -> 0 | DF24: =$CV24*BJ24 -> 0 | DG24: =$CV24*BK24 -> 0 | ... DM24: =$CV24*BQ24 -> 0 | DN24: =$CX24*BD24 -> 0 | DO24: =$CX24*BE24 -> 0 | DP24: =$CX24*BF24 -> 0 | DQ24: =$CX24*BG24 -> 0 | DR24: =$CX24*BH24 -> 0 | DS24: =$CX24*BI24 -> 0 | DT24: =$CX24*BJ24 -> 0 | DU24: =$CX24*BK24 -> 0 | ... EA24: =$CX24*BQ24 -> 0 | EB24: =F24/G24 -> 624.6704 | EC24: =EB24/CS24 -> 20.822347 | ED24: =F24/CS24 -> 3010890.5 | EE24: =J24/K24 -> 2611.7468 | EF24: =EE24/CS24 -> 87.058226 | EG24: =J24/CS24 -> 1102157.1 | EH24: =N24/P24 -> 75307.441 | EI24: =EH24/CS24 -> 2510.248 | EJ24: =EH24/CT24 -> 3423.0655 | EK24: =N24/CS24 -> 4084173.6 | EL24: =N24/CT24 -> 5569327.6
A25: 43435 | B25: =YEAR(A25) -> 2018 | C25: =MONTH(A25) -> 12 | D25: 99924057 | E25: =IFERROR(VLOOKUP($B25-1,CDM!$L$7:$T$18,2,FALSE)/12,0)+IFERROR(VLOOKUP($B25,CDM!$L$37:$O$47,2,FALSE)/24,0)+IFERROR(VLOOKUP($B25,CDM!$L$37:$O$47,2,FALSE)/2*$C25/78,0) -> 2418804.3 | F25: =D25+E25 -> 1.0234286e+08 | G25: 144731 | H25: 32931046 | I25: =IFERROR(VLOOKUP($B25-1,CDM!$L$7:$T$18,3,FALSE)/12,0)+IFERROR(VLOOKUP($B25,CDM!$L$37:$O$47,3,FALSE)/24,0)+IFERROR(VLOOKUP($B25,CDM!$L$37:$O$47,3,FALSE)/2*$C25/78,0) -> 766376.58 | J25: =H25+I25 -> 33697423 | K25: 12676 | L25: 115953346 | M25: =IFERROR(VLOOKUP($B25-1,CDM!$L$7:$T$18,4,FALSE)/12,0)+IFERROR(VLOOKUP($B25,CDM!$L$37:$O$47,4,FALSE)/24,0)+IFERROR(VLOOKUP($B25,CDM!$L$37:$O$47,4,FALSE)/2*$C25/78,0) -> 4826899.2 | N25: =L25+M25 -> 1.2078025e+08 | O25: 285396.58 | P25: 1626 | Q25: 951207 | R25: =IFERROR(VLOOKUP($B25-1,CDM!$L$7:$T$18,5,FALSE)/12,0)+IFERROR(VLOOKUP($B25,CDM!$L$37:$T$47,5,FALSE)/24,0)+IFERROR(VLOOKUP($B25,CDM!$L$37:$T$47,5,FALSE)/2*$C25/78,0) -> 115896.52 | S25: =R25+Q25 -> 1067103.5 | T25: 1232.15 | U25: 5 | V25: 8354739 | W25: =IFERROR(VLOOKUP($B25-1,CDM!$L$7:$T$18,6,FALSE)/12,0)+IFERROR(VLOOKUP($B25,CDM!$L$37:$T$47,6,FALSE)/24,0)+IFERROR(VLOOKUP($B25,CDM!$L$37:$T$47,6,FALSE)/2*$C25/78,0) -> 212665.16 | X25: =W25+V25 -> 8567404.2 | Y25: 14356.82 | Z25: 1 | AA25: 1778845.7 | AB25: 3848.57 | AC25: 36780 | AD25: 467487.49 | AE25: 1524 | AF25: 46277.91 | AG25: 123.17 | AH25: 529 | AI25: 14400 | AJ25: =Economic!H39 -> 789828.1 | AK25: =Economic!I39 -> 95159.5 | AL25: =Economic!J39 -> 30609.7 | AM25: =Economic!K39 -> 72894 | AN25: =Economic!L39 -> 57384.8 | AO25: =Economic!M39 -> 799922 | AP25: =Economic!N39 -> 96123 | AQ25: =Economic!O39 -> 13379 | ... AS25: =Economic!Q39 -> 72211 | AT25: =Economic!D39 -> 7296.4 | AU25: =Economic!E39 -> 7306.9 | AV25: =Economic!F39 -> 260.4 | AW25: =Economic!G39 -> 257.1 | AX25: =Economic!W39 -> 28416 | AY25: =Economic!R39 -> 99.6 | AZ25: =Economic!W39 -> 28416 | BA25: =Economic!X39 -> 4446 | BB25: =Economic!Y39 -> -1929 | BC25: =Weather!C37 -> -0.49905914 | BD25: =Weather!D37 -> 635.47083 | BE25: =Weather!E37 -> 0 | BF25: =Weather!F37 -> 573.47083 | BG25: =Weather!G37 -> 0 | BH25: =Weather!H37 -> 511.47083 | BI25: =Weather!I37 -> 0 | BJ25: =Weather!J37 -> 449.47083 | ... BQ25: =Weather!Q37 -> 0 | BR25: 0 | BS25: 0 | BT25: 0 | BU25: 0 | BV25: 0 | BW25: 0 | BX25: 0 | BY25: 0 | BZ25: 0 | CA25: 0 | CB25: 0 | CC25: 1 | CD25: 0 | CE25: =CE13 -> 0 | CF25: 0 | CG25: =CG13 -> 0 | CH25: 0 | CI25: =CI13 -> 0 | CJ25: =CE25+CF25 -> 0 | CK25: =CK13 -> 0 | CL25: =CL13 -> 0 | CM25: =1+CM24 -> 24 | CN25: 0 | CO25: 0 | CP25: 0 | CQ25: 0 | CR25: 0 | CS25: 31 | CT25: 19 | CU25: 0 | CV25: 0 | CW25: 0 | CX25: 0 | CY25: 0 | CZ25: =$CV25*BD25 -> 0 | DA25: =$CV25*BE25 -> 0 | DB25: =$CV25*BF25 -> 0 | DC25: =$CV25*BG25 -> 0 | DD25: =$CV25*BH25 -> 0 | DE25: =$CV25*BI25 -> 0 | DF25: =$CV25*BJ25 -> 0 | DG25: =$CV25*BK25 -> 0 | ... DM25: =$CV25*BQ25 -> 0 | DN25: =$CX25*BD25 -> 0 | DO25: =$CX25*BE25 -> 0 | DP25: =$CX25*BF25 -> 0 | DQ25: =$CX25*BG25 -> 0 | DR25: =$CX25*BH25 -> 0 | DS25: =$CX25*BI25 -> 0 | DT25: =$CX25*BJ25 -> 0 | DU25: =$CX25*BK25 -> 0 | ... EA25: =$CX25*BQ25 -> 0 | EB25: =F25/G25 -> 707.12467 | EC25: =EB25/CS25 -> 22.810473 | ED25: =F25/CS25 -> 3301382.6 | EE25: =J25/K25 -> 2658.364 | EF25: =EE25/CS25 -> 85.753679 | EG25: =J25/CS25 -> 1087013.6 | EH25: =N25/P25 -> 74280.594 | EI25: =EH25/CS25 -> 2396.1482 | EJ25: =EH25/CT25 -> 3909.5049 | EK25: =N25/CS25 -> 3896136.9 | EL25: =N25/CT25 -> 6356855
A26: 43466 | B26: =YEAR(A26) -> 2019 | C26: =MONTH(A26) -> 1 | D26: 1.0330972e+08 | E26: =IFERROR(VLOOKUP($B26-1,CDM!$L$7:$T$18,2,FALSE)/12,0)+IFERROR(VLOOKUP($B26,CDM!$L$37:$O$47,2,FALSE)/24,0)+IFERROR(VLOOKUP($B26,CDM!$L$37:$O$47,2,FALSE)/2*$C26/78,0) -> 2106960.3 | F26: =D26+E26 -> 1.0541668e+08 | G26: 144863 | H26: 36106848 | I26: =IFERROR(VLOOKUP($B26-1,CDM!$L$7:$T$18,3,FALSE)/12,0)+IFERROR(VLOOKUP($B26,CDM!$L$37:$O$47,3,FALSE)/24,0)+IFERROR(VLOOKUP($B26,CDM!$L$37:$O$47,3,FALSE)/2*$C26/78,0) -> 722632.52 | J26: =H26+I26 -> 36829481 | K26: 12729 | L26: 1.1814519e+08 | M26: =IFERROR(VLOOKUP($B26-1,CDM!$L$7:$T$18,4,FALSE)/12,0)+IFERROR(VLOOKUP($B26,CDM!$L$37:$O$47,4,FALSE)/24,0)+IFERROR(VLOOKUP($B26,CDM!$L$37:$O$47,4,FALSE)/2*$C26/78,0) -> 4412305.2 | N26: =L26+M26 -> 1.2255749e+08 | O26: 295543.46 | P26: 1578 | Q26: 879471.39 | R26: =IFERROR(VLOOKUP($B26-1,CDM!$L$7:$T$18,5,FALSE)/12,0)+IFERROR(VLOOKUP($B26,CDM!$L$37:$T$47,5,FALSE)/24,0)+IFERROR(VLOOKUP($B26,CDM!$L$37:$T$47,5,FALSE)/2*$C26/78,0) -> 94928.297 | S26: =R26+Q26 -> 974399.69 | T26: 1240.21 | U26: 5 | V26: 8746139.6 | W26: =IFERROR(VLOOKUP($B26-1,CDM!$L$7:$T$18,6,FALSE)/12,0)+IFERROR(VLOOKUP($B26,CDM!$L$37:$T$47,6,FALSE)/24,0)+IFERROR(VLOOKUP($B26,CDM!$L$37:$T$47,6,FALSE)/2*$C26/78,0) -> 243138.72 | X26: =W26+V26 -> 8989278.3 | Y26: 14596.81 | Z26: 1 | AA26: 1723231.2 | AB26: 3857.61 | AC26: 36848 | AD26: 467802.57 | AE26: 1530 | AF26: 46018.55 | AG26: 123.16 | AH26: 529 | AI26: 14400 | AJ26: =Economic!H40 -> 807583.1 | AK26: =Economic!I40 -> 94617.3 | AL26: =Economic!J40 -> 33264.1 | AM26: =Economic!K40 -> 75322.9 | AN26: =Economic!L40 -> 59802.7 | AO26: =Economic!M40 -> 800743 | AP26: =Economic!N40 -> 95928 | AQ26: =Economic!O40 -> 13861 | ... AS26: =Economic!Q40 -> 73144 | AT26: =Economic!D40 -> 7306.5 | AU26: =Economic!E40 -> 7280.1 | AV26: =Economic!F40 -> 259.6 | AW26: =Economic!G40 -> 255.8 | AX26: =Economic!W40 -> 21049 | AY26: =Economic!R40 -> 111.5 | AZ26: =Economic!W40 -> 21049 | BA26: =Economic!X40 -> 1825 | BB26: =Economic!Y40 -> -819 | BC26: =Weather!C38 -> -7.1076613 | BD26: =Weather!D38 -> 840.3375 | BE26: =Weather!E38 -> 0 | BF26: =Weather!F38 -> 778.3375 | BG26: =Weather!G38 -> 0 | BH26: =Weather!H38 -> 716.3375 | BI26: =Weather!I38 -> 0 | BJ26: =Weather!J38 -> 654.3375 | ... BQ26: =Weather!Q38 -> 0 | BR26: 1 | BS26: 0 | BT26: 0 | BU26: 0 | BV26: 0 | BW26: 0 | BX26: 0 | BY26: 0 | BZ26: 0 | CA26: 0 | CB26: 0 | CC26: 0 | CD26: 0 | CE26: =CE14 -> 0 | CF26: 0 | CG26: =CG14 -> 0 | CH26: 0 | CI26: =CI14 -> 0 | CJ26: =CE26+CF26 -> 0 | CK26: =CK14 -> 0 | CL26: =CL14 -> 0 | CM26: =1+CM25 -> 25 | CN26: 0 | CO26: 0 | CP26: 0 | CQ26: 0 | CR26: 0 | CS26: 31 | CT26: 22 | CU26: 0 | CV26: 0 | CW26: 0 | CX26: 0 | CY26: 0 | CZ26: =$CV26*BD26 -> 0 | DA26: =$CV26*BE26 -> 0 | DB26: =$CV26*BF26 -> 0 | DC26: =$CV26*BG26 -> 0 | DD26: =$CV26*BH26 -> 0 | DE26: =$CV26*BI26 -> 0 | DF26: =$CV26*BJ26 -> 0 | DG26: =$CV26*BK26 -> 0 | ... DM26: =$CV26*BQ26 -> 0 | DN26: =$CX26*BD26 -> 0 | DO26: =$CX26*BE26 -> 0 | DP26: =$CX26*BF26 -> 0 | DQ26: =$CX26*BG26 -> 0 | DR26: =$CX26*BH26 -> 0 | DS26: =$CX26*BI26 -> 0 | DT26: =$CX26*BJ26 -> 0 | DU26: =$CX26*BK26 -> 0 | ... EA26: =$CX26*BQ26 -> 0 | EB26: =F26/G26 -> 727.69913 | EC26: =EB26/CS26 -> 23.474165 | ED26: =F26/CS26 -> 3400538 | EE26: =J26/K26 -> 2893.3522 | EF26: =EE26/CS26 -> 93.333943 | EG26: =J26/CS26 -> 1188047.8 | EH26: =N26/P26 -> 77666.345 | EI26: =EH26/CS26 -> 2505.366 | EJ26: =EH26/CT26 -> 3530.2884 | EK26: =N26/CS26 -> 3953467.5 | EL26: =N26/CT26 -> 5570795.1
A27: 43497 | B27: =YEAR(A27) -> 2019 | C27: =MONTH(A27) -> 2 | D27: 90504686 | E27: =IFERROR(VLOOKUP($B27-1,CDM!$L$7:$T$18,2,FALSE)/12,0)+IFERROR(VLOOKUP($B27,CDM!$L$37:$O$47,2,FALSE)/24,0)+IFERROR(VLOOKUP($B27,CDM!$L$37:$O$47,2,FALSE)/2*$C27/78,0) -> 2116289.6 | F27: =D27+E27 -> 92620975 | G27: 145010 | H27: 32628616 | I27: =IFERROR(VLOOKUP($B27-1,CDM!$L$7:$T$18,3,FALSE)/12,0)+IFERROR(VLOOKUP($B27,CDM!$L$37:$O$47,3,FALSE)/24,0)+IFERROR(VLOOKUP($B27,CDM!$L$37:$O$47,3,FALSE)/2*$C27/78,0) -> 738284.67 | J27: =H27+I27 -> 33366900 | K27: 12739 | L27: 1.083111e+08 | M27: =IFERROR(VLOOKUP($B27-1,CDM!$L$7:$T$18,4,FALSE)/12,0)+IFERROR(VLOOKUP($B27,CDM!$L$37:$O$47,4,FALSE)/24,0)+IFERROR(VLOOKUP($B27,CDM!$L$37:$O$47,4,FALSE)/2*$C27/78,0) -> 4482472.4 | N27: =L27+M27 -> 1.1279357e+08 | O27: 292576.77 | P27: 1577 | Q27: 926229.04 | R27: =IFERROR(VLOOKUP($B27-1,CDM!$L$7:$T$18,5,FALSE)/12,0)+IFERROR(VLOOKUP($B27,CDM!$L$37:$T$47,5,FALSE)/24,0)+IFERROR(VLOOKUP($B27,CDM!$L$37:$T$47,5,FALSE)/2*$C27/78,0) -> 94919.611 | S27: =R27+Q27 -> 1021148.6 | T27: 833.04 | U27: 5 | V27: 7842022.9 | W27: =IFERROR(VLOOKUP($B27-1,CDM!$L$7:$T$18,6,FALSE)/12,0)+IFERROR(VLOOKUP($B27,CDM!$L$37:$T$47,6,FALSE)/24,0)+IFERROR(VLOOKUP($B27,CDM!$L$37:$T$47,6,FALSE)/2*$C27/78,0) -> 255522.47 | X27: =W27+V27 -> 8097545.4 | Y27: 14595.4 | Z27: 1 | AA27: 1449972.9 | AB27: 3858.77 | AC27: 36858 | AD27: 422962.01 | AE27: 1534 | AF27: 42292.36 | AG27: 122.88 | AH27: 528 | AI27: 14400 | AJ27: =Economic!H41 -> 807583.1 | AK27: =Economic!I41 -> 94617.3 | AL27: =Economic!J41 -> 33264.1 | AM27: =Economic!K41 -> 75322.9 | AN27: =Economic!L41 -> 59802.7 | AO27: =Economic!M41 -> 800743 | AP27: =Economic!N41 -> 95928 | AQ27: =Economic!O41 -> 13861 | ... AS27: =Economic!Q41 -> 73144 | AT27: =Economic!D41 -> 7329.7 | AU27: =Economic!E41 -> 7264.2 | AV27: =Economic!F41 -> 258.3 | AW27: =Economic!G41 -> 255.3 | AX27: =Economic!W41 -> 21049 | AY27: =Economic!R41 -> 145.8 | AZ27: =Economic!W41 -> 21049 | BA27: =Economic!X41 -> 1825 | BB27: =Economic!Y41 -> -819 | BC27: =Weather!C39 -> -4.496875 | BD27: =Weather!D39 -> 685.9125 | BE27: =Weather!E39 -> 0 | BF27: =Weather!F39 -> 629.9125 | BG27: =Weather!G39 -> 0 | BH27: =Weather!H39 -> 573.9125 | BI27: =Weather!I39 -> 0 | BJ27: =Weather!J39 -> 517.9125 | ... BQ27: =Weather!Q39 -> 0 | BR27: 0 | BS27: 1 | BT27: 0 | BU27: 0 | BV27: 0 | BW27: 0 | BX27: 0 | BY27: 0 | BZ27: 0 | CA27: 0 | CB27: 0 | CC27: 0 | CD27: 0 | CE27: =CE15 -> 0 | CF27: 0 | CG27: =CG15 -> 0 | CH27: 0 | CI27: =CI15 -> 0 | CJ27: =CE27+CF27 -> 0 | CK27: =CK15 -> 0 | CL27: =CL15 -> 0 | CM27: =1+CM26 -> 26 | CN27: 0 | CO27: 0 | CP27: 0 | CQ27: 0 | CR27: 0 | CS27: 28 | CT27: 19 | CU27: 0 | CV27: 0 | CW27: 0 | CX27: 0 | CY27: 0 | CZ27: =$CV27*BD27 -> 0 | DA27: =$CV27*BE27 -> 0 | DB27: =$CV27*BF27 -> 0 | DC27: =$CV27*BG27 -> 0 | DD27: =$CV27*BH27 -> 0 | DE27: =$CV27*BI27 -> 0 | DF27: =$CV27*BJ27 -> 0 | DG27: =$CV27*BK27 -> 0 | ... DM27: =$CV27*BQ27 -> 0 | DN27: =$CX27*BD27 -> 0 | DO27: =$CX27*BE27 -> 0 | DP27: =$CX27*BF27 -> 0 | DQ27: =$CX27*BG27 -> 0 | DR27: =$CX27*BH27 -> 0 | DS27: =$CX27*BI27 -> 0 | DT27: =$CX27*BJ27 -> 0 | DU27: =$CX27*BK27 -> 0 | ... EA27: =$CX27*BQ27 -> 0 | EB27: =F27/G27 -> 638.7213 | EC27: =EB27/CS27 -> 22.811475 | ED27: =F27/CS27 -> 3307892 | EE27: =J27/K27 -> 2619.2716 | EF27: =EE27/CS27 -> 93.545413 | EG27: =J27/CS27 -> 1191675 | EH27: =N27/P27 -> 71524.142 | EI27: =EH27/CS27 -> 2554.4336 | EJ27: =EH27/CT3 -> 3764.4285 | EK27: =N27/CS27 -> 4028341.9 | EL27: =N27/CT3 -> 5936503.8
A28: 43525 | B28: =YEAR(A28) -> 2019 | C28: =MONTH(A28) -> 3 | D28: 92115559 | E28: =IFERROR(VLOOKUP($B28-1,CDM!$L$7:$T$18,2,FALSE)/12,0)+IFERROR(VLOOKUP($B28,CDM!$L$37:$O$47,2,FALSE)/24,0)+IFERROR(VLOOKUP($B28,CDM!$L$37:$O$47,2,FALSE)/2*$C28/78,0) -> 2125619 | F28: =D28+E28 -> 94241178 | G28: 145052 | H28: 34118400 | I28: =IFERROR(VLOOKUP($B28-1,CDM!$L$7:$T$18,3,FALSE)/12,0)+IFERROR(VLOOKUP($B28,CDM!$L$37:$O$47,3,FALSE)/24,0)+IFERROR(VLOOKUP($B28,CDM!$L$37:$O$47,3,FALSE)/2*$C28/78,0) -> 753936.81 | J28: =H28+I28 -> 34872336 | K28: 12754 | L28: 1.1672693e+08 | M28: =IFERROR(VLOOKUP($B28-1,CDM!$L$7:$T$18,4,FALSE)/12,0)+IFERROR(VLOOKUP($B28,CDM!$L$37:$O$47,4,FALSE)/24,0)+IFERROR(VLOOKUP($B28,CDM!$L$37:$O$47,4,FALSE)/2*$C28/78,0) -> 4552639.6 | N28: =L28+M28 -> 1.2127957e+08 | O28: 286085.81 | P28: 1582 | Q28: 1490196.6 | R28: =IFERROR(VLOOKUP($B28-1,CDM!$L$7:$T$18,5,FALSE)/12,0)+IFERROR(VLOOKUP($B28,CDM!$L$37:$T$47,5,FALSE)/24,0)+IFERROR(VLOOKUP($B28,CDM!$L$37:$T$47,5,FALSE)/2*$C28/78,0) -> 94910.925 | S28: =R28+Q28 -> 1585107.6 | T28: 1738.53 | U28: 5 | V28: 8717486.4 | W28: =IFERROR(VLOOKUP($B28-1,CDM!$L$7:$T$18,6,FALSE)/12,0)+IFERROR(VLOOKUP($B28,CDM!$L$37:$T$47,6,FALSE)/24,0)+IFERROR(VLOOKUP($B28,CDM!$L$37:$T$47,6,FALSE)/2*$C28/78,0) -> 267906.22 | X28: =W28+V28 -> 8985392.6 | Y28: 14515.7 | Z28: 1 | AA28: 1429682 | AB28: 3862.54 | AC28: 36887 | AD28: 467438.48 | AE28: 1537 | AF28: 45566.54 | AG28: 122.87 | AH28: 528 | AI28: 14400 | AJ28: =Economic!H42 -> 807583.1 | AK28: =Economic!I42 -> 94617.3 | AL28: =Economic!J42 -> 33264.1 | AM28: =Economic!K42 -> 75322.9 | AN28: =Economic!L42 -> 59802.7 | AO28: =Economic!M42 -> 800743 | AP28: =Economic!N42 -> 95928 | AQ28: =Economic!O42 -> 13861 | ... AS28: =Economic!Q42 -> 73144 | AT28: =Economic!D42 -> 7341.9 | AU28: =Economic!E42 -> 7239.5 | AV28: =Economic!F42 -> 255.6 | AW28: =Economic!G42 -> 252.3 | AX28: =Economic!W42 -> 21049 | AY28: =Economic!R42 -> 158.2 | AZ28: =Economic!W42 -> 21049 | BA28: =Economic!X42 -> 1825 | BB28: =Economic!Y42 -> -819 | BC28: =Weather!C40 -> -1.7538978 | BD28: =Weather!D40 -> 674.37083 | BE28: =Weather!E40 -> 0 | BF28: =Weather!F40 -> 612.37083 | BG28: =Weather!G40 -> 0 | BH28: =Weather!H40 -> 550.37083 | BI28: =Weather!I40 -> 0 | BJ28: =Weather!J40 -> 488.37083 | ... BQ28: =Weather!Q40 -> 0 | BR28: 0 | BS28: 0 | BT28: 1 | BU28: 0 | BV28: 0 | BW28: 0 | BX28: 0 | BY28: 0 | BZ28: 0 | CA28: 0 | CB28: 0 | CC28: 0 | CD28: 1 | CE28: =CE16 -> 1 | CF28: 0 | CG28: =CG16 -> 0 | CH28: 1 | CI28: =CI16 -> 1 | CJ28: =CE28+CF28 -> 1 | CK28: =CK16 -> 0 | CL28: =CL16 -> 0 | CM28: =1+CM27 -> 27 | CN28: 0 | CO28: 0 | CP28: 0 | CQ28: 0 | CR28: 0 | CS28: 31 | CT28: 22 | CU28: 0 | CV28: 0 | CW28: 0 | CX28: 0 | CY28: 0 | CZ28: =$CV28*BD28 -> 0 | DA28: =$CV28*BE28 -> 0 | DB28: =$CV28*BF28 -> 0 | DC28: =$CV28*BG28 -> 0 | DD28: =$CV28*BH28 -> 0 | DE28: =$CV28*BI28 -> 0 | DF28: =$CV28*BJ28 -> 0 | DG28: =$CV28*BK28 -> 0 | ... DM28: =$CV28*BQ28 -> 0 | DN28: =$CX28*BD28 -> 0 | DO28: =$CX28*BE28 -> 0 | DP28: =$CX28*BF28 -> 0 | DQ28: =$CX28*BG28 -> 0 | DR28: =$CX28*BH28 -> 0 | DS28: =$CX28*BI28 -> 0 | DT28: =$CX28*BJ28 -> 0 | DU28: =$CX28*BK28 -> 0 | ... EA28: =$CX28*BQ28 -> 0 | EB28: =F28/G28 -> 649.70616 | EC28: =EB28/CS28 -> 20.958263 | ED28: =F28/CS28 -> 3040038 | EE28: =J28/K28 -> 2734.2274 | EF28: =EE28/CS28 -> 88.200884 | EG28: =J28/CS28 -> 1124914.1 | EH28: =N28/P28 -> 76662.181 | EI28: =EH28/CS28 -> 2472.9736 | EJ28: =EH28/CT4 -> 3333.1383 | EK28: =N28/CS28 -> 3912244.2 | EL28: =N28/CT4 -> 5273024.8
A29: 43556 | B29: =YEAR(A29) -> 2019 | C29: =MONTH(A29) -> 4 | D29: 77342100 | E29: =IFERROR(VLOOKUP($B29-1,CDM!$L$7:$T$18,2,FALSE)/12,0)+IFERROR(VLOOKUP($B29,CDM!$L$37:$O$47,2,FALSE)/24,0)+IFERROR(VLOOKUP($B29,CDM!$L$37:$O$47,2,FALSE)/2*$C29/78,0) -> 2134948.3 | F29: =D29+E29 -> 79477048 | G29: 145220 | H29: 29794360 | I29: =IFERROR(VLOOKUP($B29-1,CDM!$L$7:$T$18,3,FALSE)/12,0)+IFERROR(VLOOKUP($B29,CDM!$L$37:$O$47,3,FALSE)/24,0)+IFERROR(VLOOKUP($B29,CDM!$L$37:$O$47,3,FALSE)/2*$C29/78,0) -> 769588.96 | J29: =H29+I29 -> 30563949 | K29: 12749 | L29: 1.0813303e+08 | M29: =IFERROR(VLOOKUP($B29-1,CDM!$L$7:$T$18,4,FALSE)/12,0)+IFERROR(VLOOKUP($B29,CDM!$L$37:$O$47,4,FALSE)/24,0)+IFERROR(VLOOKUP($B29,CDM!$L$37:$O$47,4,FALSE)/2*$C29/78,0) -> 4622806.8 | N29: =L29+M29 -> 1.1275584e+08 | O29: 286249.65 | P29: 1584 | Q29: 1264628.4 | R29: =IFERROR(VLOOKUP($B29-1,CDM!$L$7:$T$18,5,FALSE)/12,0)+IFERROR(VLOOKUP($B29,CDM!$L$37:$T$47,5,FALSE)/24,0)+IFERROR(VLOOKUP($B29,CDM!$L$37:$T$47,5,FALSE)/2*$C29/78,0) -> 94902.239 | S29: =R29+Q29 -> 1359530.6 | T29: 1561.71 | U29: 5 | V29: 8224291.6 | W29: =IFERROR(VLOOKUP($B29-1,CDM!$L$7:$T$18,6,FALSE)/12,0)+IFERROR(VLOOKUP($B29,CDM!$L$37:$T$47,6,FALSE)/24,0)+IFERROR(VLOOKUP($B29,CDM!$L$37:$T$47,6,FALSE)/2*$C29/78,0) -> 280289.96 | X29: =W29+V29 -> 8504581.6 | Y29: 16994.05 | Z29: 1 | AA29: 1239876.6 | AB29: 3862.54 | AC29: 36887 | AD29: 452662.27 | AE29: 1541 | AF29: 45066.68 | AG29: 122.81 | AH29: 528 | AI29: 14400 | AJ29: =Economic!H43 -> 807583.1 | AK29: =Economic!I43 -> 94617.3 | AL29: =Economic!J43 -> 33264.1 | AM29: =Economic!K43 -> 75322.9 | AN29: =Economic!L43 -> 59802.7 | AO29: =Economic!M43 -> 806729 | AP29: =Economic!N43 -> 95147 | AQ29: =Economic!O43 -> 14072 | ... AS29: =Economic!Q43 -> 74644 | AT29: =Economic!D43 -> 7361.6 | AU29: =Economic!E43 -> 7275.7 | AV29: =Economic!F43 -> 253 | AW29: =Economic!G43 -> 250 | AX29: =Economic!W43 -> 21544 | AY29: =Economic!R43 -> 165.6 | AZ29: =Economic!W43 -> 21544 | BA29: =Economic!X43 -> 803 | BB29: =Economic!Y43 -> 1566 | BC29: =Weather!C41 -> 6.1650694 | BD29: =Weather!D41 -> 415.04792 | BE29: =Weather!E41 -> 0 | BF29: =Weather!F41 -> 355.04792 | BG29: =Weather!G41 -> 0 | BH29: =Weather!H41 -> 295.04792 | BI29: =Weather!I41 -> 0 | BJ29: =Weather!J41 -> 235.04792 | ... BQ29: =Weather!Q41 -> 23.6375 | BR29: 0 | BS29: 0 | BT29: 0 | BU29: 1 | BV29: 0 | BW29: 0 | BX29: 0 | BY29: 0 | BZ29: 0 | CA29: 0 | CB29: 0 | CC29: 0 | CD29: 1 | CE29: =CE17 -> 1 | CF29: 0 | CG29: =CG17 -> 0 | CH29: 1 | CI29: =CI17 -> 1 | CJ29: =CE29+CF29 -> 1 | CK29: =CK17 -> 0 | CL29: =CL17 -> 0 | CM29: =1+CM28 -> 28 | CN29: 0 | CO29: 0 | CP29: 0 | CQ29: 0 | CR29: 0 | CS29: 30 | CT29: 21 | CU29: 0 | CV29: 0 | CW29: 0 | CX29: 0 | CY29: 0 | CZ29: =$CV29*BD29 -> 0 | DA29: =$CV29*BE29 -> 0 | DB29: =$CV29*BF29 -> 0 | DC29: =$CV29*BG29 -> 0 | DD29: =$CV29*BH29 -> 0 | DE29: =$CV29*BI29 -> 0 | DF29: =$CV29*BJ29 -> 0 | DG29: =$CV29*BK29 -> 0 | ... DM29: =$CV29*BQ29 -> 0 | DN29: =$CX29*BD29 -> 0 | DO29: =$CX29*BE29 -> 0 | DP29: =$CX29*BF29 -> 0 | DQ29: =$CX29*BG29 -> 0 | DR29: =$CX29*BH29 -> 0 | DS29: =$CX29*BI29 -> 0 | DT29: =$CX29*BJ29 -> 0 | DU29: =$CX29*BK29 -> 0 | ... EA29: =$CX29*BQ29 -> 0 | EB29: =F29/G29 -> 547.28721 | EC29: =EB29/CS29 -> 18.242907 | ED29: =F29/CS29 -> 2649234.9 | EE29: =J29/K29 -> 2397.3605 | EF29: =EE29/CS29 -> 79.912016 | EG29: =J29/CS29 -> 1018798.3 | EH29: =N29/P29 -> 71184.243 | EI29: =EH29/CS29 -> 2372.8081 | EJ29: =EH29/CT5 -> 3746.5391 | EK29: =N29/CS29 -> 3758528 | EL29: =N29/CT5 -> 5934517.9
A30: 43586 | B30: =YEAR(A30) -> 2019 | C30: =MONTH(A30) -> 5 | D30: 73825586 | E30: =IFERROR(VLOOKUP($B30-1,CDM!$L$7:$T$18,2,FALSE)/12,0)+IFERROR(VLOOKUP($B30,CDM!$L$37:$O$47,2,FALSE)/24,0)+IFERROR(VLOOKUP($B30,CDM!$L$37:$O$47,2,FALSE)/2*$C30/78,0) -> 2144277.7 | F30: =D30+E30 -> 75969864 | G30: 145361 | H30: 29654740 | I30: =IFERROR(VLOOKUP($B30-1,CDM!$L$7:$T$18,3,FALSE)/12,0)+IFERROR(VLOOKUP($B30,CDM!$L$37:$O$47,3,FALSE)/24,0)+IFERROR(VLOOKUP($B30,CDM!$L$37:$O$47,3,FALSE)/2*$C30/78,0) -> 785241.1 | J30: =H30+I30 -> 30439982 | K30: 12771 | L30: 1.1207001e+08 | M30: =IFERROR(VLOOKUP($B30-1,CDM!$L$7:$T$18,4,FALSE)/12,0)+IFERROR(VLOOKUP($B30,CDM!$L$37:$O$47,4,FALSE)/24,0)+IFERROR(VLOOKUP($B30,CDM!$L$37:$O$47,4,FALSE)/2*$C30/78,0) -> 4692974 | N30: =L30+M30 -> 1.1676298e+08 | O30: 297771.85 | P30: 1574 | Q30: 2990855.8 | R30: =IFERROR(VLOOKUP($B30-1,CDM!$L$7:$T$18,5,FALSE)/12,0)+IFERROR(VLOOKUP($B30,CDM!$L$37:$T$47,5,FALSE)/24,0)+IFERROR(VLOOKUP($B30,CDM!$L$37:$T$47,5,FALSE)/2*$C30/78,0) -> 94893.553 | S30: =R30+Q30 -> 3085749.4 | T30: 7223.27 | U30: 5 | V30: 8794977.6 | W30: =IFERROR(VLOOKUP($B30-1,CDM!$L$7:$T$18,6,FALSE)/12,0)+IFERROR(VLOOKUP($B30,CDM!$L$37:$T$47,6,FALSE)/24,0)+IFERROR(VLOOKUP($B30,CDM!$L$37:$T$47,6,FALSE)/2*$C30/78,0) -> 292673.71 | X30: =W30+V30 -> 9087651.3 | Y30: 18156.61 | Z30: 1 | AA30: 1105435.6 | AB30: 3871.79 | AC30: 36949 | AD30: 468760.11 | AE30: 1542 | AF30: 46257.67 | AG30: 122.51 | AH30: 526 | AI30: 14400 | AJ30: =Economic!H44 -> 807583.1 | AK30: =Economic!I44 -> 94617.3 | AL30: =Economic!J44 -> 33264.1 | AM30: =Economic!K44 -> 75322.9 | AN30: =Economic!L44 -> 59802.7 | AO30: =Economic!M44 -> 806729 | AP30: =Economic!N44 -> 95147 | AQ30: =Economic!O44 -> 14072 | ... AS30: =Economic!Q44 -> 74644 | AT30: =Economic!D44 -> 7376.4 | AU30: =Economic!E44 -> 7345.7 | AV30: =Economic!F44 -> 248.9 | AW30: =Economic!G44 -> 247.5 | AX30: =Economic!W44 -> 21544 | AY30: =Economic!R44 -> 171.4 | AZ30: =Economic!W44 -> 21544 | BA30: =Economic!X44 -> 803 | BB30: =Economic!Y44 -> 1566 | BC30: =Weather!C42 -> 12.244355 | BD30: =Weather!D42 -> 240.425 | BE30: =Weather!E42 -> 0 | BF30: =Weather!F42 -> 178.6625 | BG30: =Weather!G42 -> 0.2375 | BH30: =Weather!H42 -> 123.2125 | BI30: =Weather!I42 -> 6.7875 | BJ30: =Weather!J42 -> 74.9125 | ... BQ30: =Weather!Q42 -> 135.65417 | BR30: 0 | BS30: 0 | BT30: 0 | BU30: 0 | BV30: 1 | BW30: 0 | BX30: 0 | BY30: 0 | BZ30: 0 | CA30: 0 | CB30: 0 | CC30: 0 | CD30: 1 | CE30: =CE18 -> 0 | CF30: 0 | CG30: =CG18 -> 0 | CH30: 1 | CI30: =CI18 -> 0 | CJ30: =CE30+CF30 -> 0 | CK30: =CK18 -> 1 | CL30: =CL18 -> 0 | CM30: =1+CM29 -> 29 | CN30: 0 | CO30: 0 | CP30: 0 | CQ30: 0 | CR30: 0 | CS30: 31 | CT30: 20 | CU30: 0 | CV30: 0 | CW30: 0 | CX30: 0 | CY30: 0 | CZ30: =$CV30*BD30 -> 0 | DA30: =$CV30*BE30 -> 0 | DB30: =$CV30*BF30 -> 0 | DC30: =$CV30*BG30 -> 0 | DD30: =$CV30*BH30 -> 0 | DE30: =$CV30*BI30 -> 0 | DF30: =$CV30*BJ30 -> 0 | DG30: =$CV30*BK30 -> 0 | ... DM30: =$CV30*BQ30 -> 0 | DN30: =$CX30*BD30 -> 0 | DO30: =$CX30*BE30 -> 0 | DP30: =$CX30*BF30 -> 0 | DQ30: =$CX30*BG30 -> 0 | DR30: =$CX30*BH30 -> 0 | DS30: =$CX30*BI30 -> 0 | DT30: =$CX30*BJ30 -> 0 | DU30: =$CX30*BK30 -> 0 | ... EA30: =$CX30*BQ30 -> 0 | EB30: =F30/G30 -> 522.62893 | EC30: =EB30/CS30 -> 16.858998 | ED30: =F30/CS30 -> 2450640.8 | EE30: =J30/K30 -> 2383.5237 | EF30: =EE30/CS30 -> 76.887862 | EG30: =J30/CS30 -> 981934.89 | EH30: =N30/P30 -> 74182.327 | EI30: =EH30/CS30 -> 2392.9783 | EJ30: =EH30/CT6 -> 3371.924 | EK30: =N30/CS30 -> 3766547.8 | EL30: =N30/CT6 -> 5307408.3
A31: 43617 | B31: =YEAR(A31) -> 2019 | C31: =MONTH(A31) -> 6 | D31: 85841030 | E31: =IFERROR(VLOOKUP($B31-1,CDM!$L$7:$T$18,2,FALSE)/12,0)+IFERROR(VLOOKUP($B31,CDM!$L$37:$O$47,2,FALSE)/24,0)+IFERROR(VLOOKUP($B31,CDM!$L$37:$O$47,2,FALSE)/2*$C31/78,0) -> 2153607 | F31: =D31+E31 -> 87994637 | G31: 145409 | H31: 31157567 | I31: =IFERROR(VLOOKUP($B31-1,CDM!$L$7:$T$18,3,FALSE)/12,0)+IFERROR(VLOOKUP($B31,CDM!$L$37:$O$47,3,FALSE)/24,0)+IFERROR(VLOOKUP($B31,CDM!$L$37:$O$47,3,FALSE)/2*$C31/78,0) -> 800893.25 | J31: =H31+I31 -> 31958461 | K31: 12784 | L31: 1.1614967e+08 | M31: =IFERROR(VLOOKUP($B31-1,CDM!$L$7:$T$18,4,FALSE)/12,0)+IFERROR(VLOOKUP($B31,CDM!$L$37:$O$47,4,FALSE)/24,0)+IFERROR(VLOOKUP($B31,CDM!$L$37:$O$47,4,FALSE)/2*$C31/78,0) -> 4763141.2 | N31: =L31+M31 -> 1.2091281e+08 | O31: 318519.56 | P31: 1573 | Q31: 5688850.7 | R31: =IFERROR(VLOOKUP($B31-1,CDM!$L$7:$T$18,5,FALSE)/12,0)+IFERROR(VLOOKUP($B31,CDM!$L$37:$T$47,5,FALSE)/24,0)+IFERROR(VLOOKUP($B31,CDM!$L$37:$T$47,5,FALSE)/2*$C31/78,0) -> 94884.867 | S31: =R31+Q31 -> 5783735.6 | T31: 9935.97 | U31: 5 | V31: 9845052.5 | W31: =IFERROR(VLOOKUP($B31-1,CDM!$L$7:$T$18,6,FALSE)/12,0)+IFERROR(VLOOKUP($B31,CDM!$L$37:$T$47,6,FALSE)/24,0)+IFERROR(VLOOKUP($B31,CDM!$L$37:$T$47,6,FALSE)/2*$C31/78,0) -> 305057.46 | X31: =W31+V31 -> 10150110 | Y31: 20161.9 | Z31: 1 | AA31: 1016779.3 | AB31: 3886.77 | AC31: 37088 | AD31: 453734.34 | AE31: 1542 | AF31: 45090.06 | AG31: 122.25 | AH31: 526 | AI31: 14400 | AJ31: =Economic!H45 -> 807583.1 | AK31: =Economic!I45 -> 94617.3 | AL31: =Economic!J45 -> 33264.1 | AM31: =Economic!K45 -> 75322.9 | AN31: =Economic!L45 -> 59802.7 | AO31: =Economic!M45 -> 806729 | AP31: =Economic!N45 -> 95147 | AQ31: =Economic!O45 -> 14072 | ... AS31: =Economic!Q45 -> 74644 | AT31: =Economic!D45 -> 7396.1 | AU31: =Economic!E45 -> 7436.8 | AV31: =Economic!F45 -> 248.6 | AW31: =Economic!G45 -> 250.7 | AX31: =Economic!W45 -> 21544 | AY31: =Economic!R45 -> 179.4 | AZ31: =Economic!W45 -> 21544 | BA31: =Economic!X45 -> 803 | BB31: =Economic!Y45 -> 1566 | BC31: =Weather!C43 -> 18.090486 | BD31: =Weather!D43 -> 69.822917 | BE31: =Weather!E43 -> 12.5375 | BF31: =Weather!F43 -> 31.910417 | BG31: =Weather!G43 -> 34.625 | BH31: =Weather!H43 -> 11.320833 | BI31: =Weather!I43 -> 74.035417 | BJ31: =Weather!J43 -> 4.4958333 | ... BQ31: =Weather!Q43 -> 302.71458 | BR31: 0 | BS31: 0 | BT31: 0 | BU31: 0 | BV31: 0 | BW31: 1 | BX31: 0 | BY31: 0 | BZ31: 0 | CA31: 0 | CB31: 0 | CC31: 0 | CD31: 0 | CE31: =CE19 -> 0 | CF31: 0 | CG31: =CG19 -> 0 | CH31: 0 | CI31: =CI19 -> 0 | CJ31: =CE31+CF31 -> 0 | CK31: =CK19 -> 1 | CL31: =CL19 -> 0 | CM31: =1+CM30 -> 30 | CN31: 0 | CO31: 0 | CP31: 0 | CQ31: 0 | CR31: 0 | CS31: 30 | CT31: 22 | CU31: 0 | CV31: 0 | CW31: 0 | CX31: 0 | CY31: 0 | CZ31: =$CV31*BD31 -> 0 | DA31: =$CV31*BE31 -> 0 | DB31: =$CV31*BF31 -> 0 | DC31: =$CV31*BG31 -> 0 | DD31: =$CV31*BH31 -> 0 | DE31: =$CV31*BI31 -> 0 | DF31: =$CV31*BJ31 -> 0 | DG31: =$CV31*BK31 -> 0 | ... DM31: =$CV31*BQ31 -> 0 | DN31: =$CX31*BD31 -> 0 | DO31: =$CX31*BE31 -> 0 | DP31: =$CX31*BF31 -> 0 | DQ31: =$CX31*BG31 -> 0 | DR31: =$CX31*BH31 -> 0 | DS31: =$CX31*BI31 -> 0 | DT31: =$CX31*BJ31 -> 0 | DU31: =$CX31*BK31 -> 0 | ... EA31: =$CX31*BQ31 -> 0 | EB31: =F31/G31 -> 605.15262 | EC31: =EB31/CS31 -> 20.171754 | ED31: =F31/CS31 -> 2933154.6 | EE31: =J31/K31 -> 2499.8796 | EF31: =EE31/CS31 -> 83.329319 | EG31: =J31/CS31 -> 1065282 | EH31: =N31/P31 -> 76867.65 | EI31: =EH31/CS31 -> 2562.255 | EJ31: =EH31/CT7 -> 3493.9841 | EK31: =N31/CS31 -> 4030427.1 | EL31: =N31/CT7 -> 5496037
A32: 43647 | B32: =YEAR(A32) -> 2019 | C32: =MONTH(A32) -> 7 | D32: 1.2523157e+08 | E32: =IFERROR(VLOOKUP($B32-1,CDM!$L$7:$T$18,2,FALSE)/12,0)+IFERROR(VLOOKUP($B32,CDM!$L$37:$O$47,2,FALSE)/24,0)+IFERROR(VLOOKUP($B32,CDM!$L$37:$O$47,2,FALSE)/2*$C32/78,0) -> 2162936.4 | F32: =D32+E32 -> 1.2739451e+08 | G32: 145575 | H32: 38184245 | I32: =IFERROR(VLOOKUP($B32-1,CDM!$L$7:$T$18,3,FALSE)/12,0)+IFERROR(VLOOKUP($B32,CDM!$L$37:$O$47,3,FALSE)/24,0)+IFERROR(VLOOKUP($B32,CDM!$L$37:$O$47,3,FALSE)/2*$C32/78,0) -> 816545.39 | J32: =H32+I32 -> 39000791 | K32: 12790 | L32: 1.35434e+08 | M32: =IFERROR(VLOOKUP($B32-1,CDM!$L$7:$T$18,4,FALSE)/12,0)+IFERROR(VLOOKUP($B32,CDM!$L$37:$O$47,4,FALSE)/24,0)+IFERROR(VLOOKUP($B32,CDM!$L$37:$O$47,4,FALSE)/2*$C32/78,0) -> 4833308.4 | N32: =L32+M32 -> 1.4026731e+08 | O32: 336464.61 | P32: 1575 | Q32: 6684997.3 | R32: =IFERROR(VLOOKUP($B32-1,CDM!$L$7:$T$18,5,FALSE)/12,0)+IFERROR(VLOOKUP($B32,CDM!$L$37:$T$47,5,FALSE)/24,0)+IFERROR(VLOOKUP($B32,CDM!$L$37:$T$47,5,FALSE)/2*$C32/78,0) -> 94876.181 | S32: =R32+Q32 -> 6779873.4 | T32: 11696.66 | U32: 5 | V32: 11967976 | W32: =IFERROR(VLOOKUP($B32-1,CDM!$L$7:$T$18,6,FALSE)/12,0)+IFERROR(VLOOKUP($B32,CDM!$L$37:$T$47,6,FALSE)/24,0)+IFERROR(VLOOKUP($B32,CDM!$L$37:$T$47,6,FALSE)/2*$C32/78,0) -> 317441.21 | X32: =W32+V32 -> 12285417 | Y32: 22137.01 | Z32: 1 | AA32: 1081326.9 | AB32: 3893.03 | AC32: 37164 | AD32: 468620.97 | AE32: 1544 | AF32: 45233.9 | AG32: 122.25 | AH32: 524 | AI32: 14400 | AJ32: =Economic!H46 -> 807583.1 | AK32: =Economic!I46 -> 94617.3 | AL32: =Economic!J46 -> 33264.1 | AM32: =Economic!K46 -> 75322.9 | AN32: =Economic!L46 -> 59802.7 | AO32: =Economic!M46 -> 810697 | AP32: =Economic!N46 -> 94481 | AQ32: =Economic!O46 -> 14434 | ... AS32: =Economic!Q46 -> 75909 | AT32: =Economic!D46 -> 7399.6 | AU32: =Economic!E46 -> 7484.5 | AV32: =Economic!F46 -> 246.4 | AW32: =Economic!G46 -> 250.8 | AX32: =Economic!W46 -> 16185 | AY32: =Economic!R46 -> 150.5 | AZ32: =Economic!W46 -> 16185 | BA32: =Economic!X46 -> -1587 | BB32: =Economic!Y46 -> 3585 | BC32: =Weather!C44 -> 22.131452 | BD32: =Weather!D44 -> 5.95 | BE32: =Weather!E44 -> 72.025 | BF32: =Weather!F44 -> 0 | BG32: =Weather!G44 -> 128.075 | BH32: =Weather!H44 -> 0 | BI32: =Weather!I44 -> 190.075 | BJ32: =Weather!J44 -> 0 | ... BQ32: =Weather!Q44 -> 438.075 | BR32: 0 | BS32: 0 | BT32: 0 | BU32: 0 | BV32: 0 | BW32: 0 | BX32: 1 | BY32: 0 | BZ32: 0 | CA32: 0 | CB32: 0 | CC32: 0 | CD32: 0 | CE32: =CE20 -> 0 | CF32: 0 | CG32: =CG20 -> 0 | CH32: 0 | CI32: =CI20 -> 0 | CJ32: =CE32+CF32 -> 0 | CK32: =CK20 -> 1 | CL32: =CL20 -> 1 | CM32: =1+CM31 -> 31 | CN32: 0 | CO32: 0 | CP32: 0 | CQ32: 0 | CR32: 0 | CS32: 31 | CT32: 22 | CU32: 0 | CV32: 0 | CW32: 0 | CX32: 0 | CY32: 0 | CZ32: =$CV32*BD32 -> 0 | DA32: =$CV32*BE32 -> 0 | DB32: =$CV32*BF32 -> 0 | DC32: =$CV32*BG32 -> 0 | DD32: =$CV32*BH32 -> 0 | DE32: =$CV32*BI32 -> 0 | DF32: =$CV32*BJ32 -> 0 | DG32: =$CV32*BK32 -> 0 | ... DM32: =$CV32*BQ32 -> 0 | DN32: =$CX32*BD32 -> 0 | DO32: =$CX32*BE32 -> 0 | DP32: =$CX32*BF32 -> 0 | DQ32: =$CX32*BG32 -> 0 | DR32: =$CX32*BH32 -> 0 | DS32: =$CX32*BI32 -> 0 | DT32: =$CX32*BJ32 -> 0 | DU32: =$CX32*BK32 -> 0 | ... EA32: =$CX32*BQ32 -> 0 | EB32: =F32/G32 -> 875.11254 | EC32: =EB32/CS32 -> 28.229437 | ED32: =F32/CS32 -> 4109500.3 | EE32: =J32/K32 -> 3049.3191 | EF32: =EE32/CS32 -> 98.365131 | EG32: =J32/CS32 -> 1258090 | EH32: =N32/P32 -> 89058.611 | EI32: =EH32/CS32 -> 2872.8584 | EJ32: =EH32/CT8 -> 4452.9306 | EK32: =N32/CS32 -> 4524752 | EL32: =N32/CT8 -> 7013365.6
A33: 43678 | B33: =YEAR(A33) -> 2019 | C33: =MONTH(A33) -> 8 | D33: 1.0773945e+08 | E33: =IFERROR(VLOOKUP($B33-1,CDM!$L$7:$T$18,2,FALSE)/12,0)+IFERROR(VLOOKUP($B33,CDM!$L$37:$O$47,2,FALSE)/24,0)+IFERROR(VLOOKUP($B33,CDM!$L$37:$O$47,2,FALSE)/2*$C33/78,0) -> 2172265.7 | F33: =D33+E33 -> 1.0991172e+08 | G33: 145632 | H33: 35487981 | I33: =IFERROR(VLOOKUP($B33-1,CDM!$L$7:$T$18,3,FALSE)/12,0)+IFERROR(VLOOKUP($B33,CDM!$L$37:$O$47,3,FALSE)/24,0)+IFERROR(VLOOKUP($B33,CDM!$L$37:$O$47,3,FALSE)/2*$C33/78,0) -> 832197.54 | J33: =H33+I33 -> 36320179 | K33: 12787 | L33: 1.2942174e+08 | M33: =IFERROR(VLOOKUP($B33-1,CDM!$L$7:$T$18,4,FALSE)/12,0)+IFERROR(VLOOKUP($B33,CDM!$L$37:$O$47,4,FALSE)/24,0)+IFERROR(VLOOKUP($B33,CDM!$L$37:$O$47,4,FALSE)/2*$C33/78,0) -> 4903475.6 | N33: =L33+M33 -> 1.3432522e+08 | O33: 323210.27 | P33: 1572 | Q33: 4173999.2 | R33: =IFERROR(VLOOKUP($B33-1,CDM!$L$7:$T$18,5,FALSE)/12,0)+IFERROR(VLOOKUP($B33,CDM!$L$37:$T$47,5,FALSE)/24,0)+IFERROR(VLOOKUP($B33,CDM!$L$37:$T$47,5,FALSE)/2*$C33/78,0) -> 94867.495 | S33: =R33+Q33 -> 4268866.7 | T33: 5153.67 | U33: 5 | V33: 11148334 | W33: =IFERROR(VLOOKUP($B33-1,CDM!$L$7:$T$18,6,FALSE)/12,0)+IFERROR(VLOOKUP($B33,CDM!$L$37:$T$47,6,FALSE)/24,0)+IFERROR(VLOOKUP($B33,CDM!$L$37:$T$47,6,FALSE)/2*$C33/78,0) -> 329824.96 | X33: =W33+V33 -> 11478159 | Y33: 21225.82 | Z33: 1 | AA33: 1202166.3 | AB33: 3893.53 | AC33: 37170 | AD33: 469896.93 | AE33: 1550 | AF33: 46842.62 | AG33: 122.11 | AH33: 526 | AI33: 14400 | AJ33: =Economic!H47 -> 807583.1 | AK33: =Economic!I47 -> 94617.3 | AL33: =Economic!J47 -> 33264.1 | AM33: =Economic!K47 -> 75322.9 | AN33: =Economic!L47 -> 59802.7 | AO33: =Economic!M47 -> 810697 | AP33: =Economic!N47 -> 94481 | AQ33: =Economic!O47 -> 14434 | ... AS33: =Economic!Q47 -> 75909 | AT33: =Economic!D47 -> 7414 | AU33: =Economic!E47 -> 7501.5 | AV33: =Economic!F47 -> 251.4 | AW33: =Economic!G47 -> 256.4 | AX33: =Economic!W47 -> 16185 | AY33: =Economic!R47 -> 156.3 | AZ33: =Economic!W47 -> 16185 | BA33: =Economic!X47 -> -1587 | BB33: =Economic!Y47 -> 3585 | BC33: =Weather!C45 -> 19.894086 | BD33: =Weather!D45 -> 28.045833 | BE33: =Weather!E45 -> 24.7625 | BF33: =Weather!F45 -> 8.2541667 | BG33: =Weather!G45 -> 66.970833 | BH33: =Weather!H45 -> 1.0958333 | BI33: =Weather!I45 -> 121.8125 | BJ33: =Weather!J45 -> 0 | ... BQ33: =Weather!Q45 -> 368.71667 | BR33: 0 | BS33: 0 | BT33: 0 | BU33: 0 | BV33: 0 | BW33: 0 | BX33: 0 | BY33: 1 | BZ33: 0 | CA33: 0 | CB33: 0 | CC33: 0 | CD33: 0 | CE33: =CE21 -> 0 | CF33: 0 | CG33: =CG21 -> 0 | CH33: 0 | CI33: =CI21 -> 0 | CJ33: =CE33+CF33 -> 0 | CK33: =CK21 -> 1 | CL33: =CL21 -> 1 | CM33: =1+CM32 -> 32 | CN33: 0 | CO33: 0 | CP33: 0 | CQ33: 0 | CR33: 0 | CS33: 31 | CT33: 20 | CU33: 0 | CV33: 0 | CW33: 0 | CX33: 0 | CY33: 0 | CZ33: =$CV33*BD33 -> 0 | DA33: =$CV33*BE33 -> 0 | DB33: =$CV33*BF33 -> 0 | DC33: =$CV33*BG33 -> 0 | DD33: =$CV33*BH33 -> 0 | DE33: =$CV33*BI33 -> 0 | DF33: =$CV33*BJ33 -> 0 | DG33: =$CV33*BK33 -> 0 | ... DM33: =$CV33*BQ33 -> 0 | DN33: =$CX33*BD33 -> 0 | DO33: =$CX33*BE33 -> 0 | DP33: =$CX33*BF33 -> 0 | DQ33: =$CX33*BG33 -> 0 | DR33: =$CX33*BH33 -> 0 | DS33: =$CX33*BI33 -> 0 | DT33: =$CX33*BJ33 -> 0 | DU33: =$CX33*BK33 -> 0 | ... EA33: =$CX33*BQ33 -> 0 | EB33: =F33/G33 -> 754.72232 | EC33: =EB33/CS33 -> 24.345881 | ED33: =F33/CS33 -> 3545539.4 | EE33: =J33/K33 -> 2840.3987 | EF33: =EE33/CS33 -> 91.625765 | EG33: =J33/CS33 -> 1171618.7 | EH33: =N33/P33 -> 85448.61 | EI33: =EH33/CS33 -> 2756.4068 | EJ33: =EH33/CT9 -> 3884.0277 | EK33: =N33/CS33 -> 4333071.5 | EL33: =N33/CT9 -> 6105691.6
A34: 43709 | B34: =YEAR(A34) -> 2019 | C34: =MONTH(A34) -> 9 | D34: 84803153 | E34: =IFERROR(VLOOKUP($B34-1,CDM!$L$7:$T$18,2,FALSE)/12,0)+IFERROR(VLOOKUP($B34,CDM!$L$37:$O$47,2,FALSE)/24,0)+IFERROR(VLOOKUP($B34,CDM!$L$37:$O$47,2,FALSE)/2*$C34/78,0) -> 2181595.1 | F34: =D34+E34 -> 86984749 | G34: 145827 | H34: 31114487 | I34: =IFERROR(VLOOKUP($B34-1,CDM!$L$7:$T$18,3,FALSE)/12,0)+IFERROR(VLOOKUP($B34,CDM!$L$37:$O$47,3,FALSE)/24,0)+IFERROR(VLOOKUP($B34,CDM!$L$37:$O$47,3,FALSE)/2*$C34/78,0) -> 847849.68 | J34: =H34+I34 -> 31962337 | K34: 12801 | L34: 1.1991871e+08 | M34: =IFERROR(VLOOKUP($B34-1,CDM!$L$7:$T$18,4,FALSE)/12,0)+IFERROR(VLOOKUP($B34,CDM!$L$37:$O$47,4,FALSE)/24,0)+IFERROR(VLOOKUP($B34,CDM!$L$37:$O$47,4,FALSE)/2*$C34/78,0) -> 4973642.8 | N34: =L34+M34 -> 1.2489235e+08 | O34: 326008.05 | P34: 1580 | Q34: 5569688.6 | R34: =IFERROR(VLOOKUP($B34-1,CDM!$L$7:$T$18,5,FALSE)/12,0)+IFERROR(VLOOKUP($B34,CDM!$L$37:$T$47,5,FALSE)/24,0)+IFERROR(VLOOKUP($B34,CDM!$L$37:$T$47,5,FALSE)/2*$C34/78,0) -> 94858.809 | S34: =R34+Q34 -> 5664547.4 | T34: 5894.12 | U34: 5 | V34: 10380347 | W34: =IFERROR(VLOOKUP($B34-1,CDM!$L$7:$T$18,6,FALSE)/12,0)+IFERROR(VLOOKUP($B34,CDM!$L$37:$T$47,6,FALSE)/24,0)+IFERROR(VLOOKUP($B34,CDM!$L$37:$T$47,6,FALSE)/2*$C34/78,0) -> 342208.71 | X34: =W34+V34 -> 10722556 | Y34: 22399.41 | Z34: 1 | AA34: 1336954.8 | AB34: 3895.56 | AC34: 37210 | AD34: 455204.05 | AE34: 1551 | AF34: 43494.03 | AG34: 122.18 | AH34: 526 | AI34: 14400 | AJ34: =Economic!H48 -> 807583.1 | AK34: =Economic!I48 -> 94617.3 | AL34: =Economic!J48 -> 33264.1 | AM34: =Economic!K48 -> 75322.9 | AN34: =Economic!L48 -> 59802.7 | AO34: =Economic!M48 -> 810697 | AP34: =Economic!N48 -> 94481 | AQ34: =Economic!O48 -> 14434 | ... AS34: =Economic!Q48 -> 75909 | AT34: =Economic!D48 -> 7432.4 | AU34: =Economic!E48 -> 7489.3 | AV34: =Economic!F48 -> 255.2 | AW34: =Economic!G48 -> 257.6 | AX34: =Economic!W48 -> 16185 | AY34: =Economic!R48 -> 158.6 | AZ34: =Economic!W48 -> 16185 | BA34: =Economic!X48 -> -1587 | BB34: =Economic!Y48 -> 3585 | BC34: =Weather!C46 -> 17.383264 | BD34: =Weather!D46 -> 86.46875 | BE34: =Weather!E46 -> 7.9666667 | BF34: =Weather!F46 -> 40.50625 | BG34: =Weather!G46 -> 22.004167 | BH34: =Weather!H46 -> 11.541667 | BI34: =Weather!I46 -> 53.039583 | BJ34: =Weather!J46 -> 1.8833333 | ... BQ34: =Weather!Q46 -> 281.49792 | BR34: 0 | BS34: 0 | BT34: 0 | BU34: 0 | BV34: 0 | BW34: 0 | BX34: 0 | BY34: 0 | BZ34: 1 | CA34: 0 | CB34: 0 | CC34: 0 | CD34: 0 | CE34: =CE22 -> 0 | CF34: 1 | CG34: =CG22 -> 1 | CH34: 1 | CI34: =CI22 -> 1 | CJ34: =CE34+CF34 -> 1 | CK34: =CK22 -> 0 | CL34: =CL22 -> 0 | CM34: =1+CM33 -> 33 | CN34: 0 | CO34: 0 | CP34: 0 | CQ34: 0 | CR34: 0 | CS34: 30 | CT34: 21 | CU34: 0 | CV34: 0 | CW34: 0 | CX34: 0 | CY34: 0 | CZ34: =$CV34*BD34 -> 0 | DA34: =$CV34*BE34 -> 0 | DB34: =$CV34*BF34 -> 0 | DC34: =$CV34*BG34 -> 0 | DD34: =$CV34*BH34 -> 0 | DE34: =$CV34*BI34 -> 0 | DF34: =$CV34*BJ34 -> 0 | DG34: =$CV34*BK34 -> 0 | ... DM34: =$CV34*BQ34 -> 0 | DN34: =$CX34*BD34 -> 0 | DO34: =$CX34*BE34 -> 0 | DP34: =$CX34*BF34 -> 0 | DQ34: =$CX34*BG34 -> 0 | DR34: =$CX34*BH34 -> 0 | DS34: =$CX34*BI34 -> 0 | DT34: =$CX34*BJ34 -> 0 | DU34: =$CX34*BK34 -> 0 | ... EA34: =$CX34*BQ34 -> 0 | EB34: =F34/G34 -> 596.49275 | EC34: =EB34/CS34 -> 19.883092 | ED34: =F34/CS34 -> 2899491.6 | EE34: =J34/K34 -> 2496.8625 | EF34: =EE34/CS34 -> 83.228749 | EG34: =J34/CS34 -> 1065411.2 | EH34: =N34/P34 -> 79045.792 | EI34: =EH34/CS34 -> 2634.8597 | EJ34: =EH34/CT10 -> 3952.2896 | EK34: =N34/CS34 -> 4163078.4 | EL34: =N34/CT10 -> 6244617.5
A35: 43739 | B35: =YEAR(A35) -> 2019 | C35: =MONTH(A35) -> 10 | D35: 76883102 | E35: =IFERROR(VLOOKUP($B35-1,CDM!$L$7:$T$18,2,FALSE)/12,0)+IFERROR(VLOOKUP($B35,CDM!$L$37:$O$47,2,FALSE)/24,0)+IFERROR(VLOOKUP($B35,CDM!$L$37:$O$47,2,FALSE)/2*$C35/78,0) -> 2190924.4 | F35: =D35+E35 -> 79074027 | G35: 145934 | H35: 29895779 | I35: =IFERROR(VLOOKUP($B35-1,CDM!$L$7:$T$18,3,FALSE)/12,0)+IFERROR(VLOOKUP($B35,CDM!$L$37:$O$47,3,FALSE)/24,0)+IFERROR(VLOOKUP($B35,CDM!$L$37:$O$47,3,FALSE)/2*$C35/78,0) -> 863501.83 | J35: =H35+I35 -> 30759281 | K35: 12773 | L35: 1.1528319e+08 | M35: =IFERROR(VLOOKUP($B35-1,CDM!$L$7:$T$18,4,FALSE)/12,0)+IFERROR(VLOOKUP($B35,CDM!$L$37:$O$47,4,FALSE)/24,0)+IFERROR(VLOOKUP($B35,CDM!$L$37:$O$47,4,FALSE)/2*$C35/78,0) -> 5043810 | N35: =L35+M35 -> 1.20327e+08 | O35: 306778.13 | P35: 1581 | Q35: 2995711.7 | R35: =IFERROR(VLOOKUP($B35-1,CDM!$L$7:$T$18,5,FALSE)/12,0)+IFERROR(VLOOKUP($B35,CDM!$L$37:$T$47,5,FALSE)/24,0)+IFERROR(VLOOKUP($B35,CDM!$L$37:$T$47,5,FALSE)/2*$C35/78,0) -> 94850.123 | S35: =R35+Q35 -> 3090561.8 | T35: 5389.3 | U35: 5 | V35: 8841248.9 | W35: =IFERROR(VLOOKUP($B35-1,CDM!$L$7:$T$18,6,FALSE)/12,0)+IFERROR(VLOOKUP($B35,CDM!$L$37:$T$47,6,FALSE)/24,0)+IFERROR(VLOOKUP($B35,CDM!$L$37:$T$47,6,FALSE)/2*$C35/78,0) -> 354592.46 | X35: =W35+V35 -> 9195841.3 | Y35: 22933.77 | Z35: 1 | AA35: 1566672.9 | AB35: 3908.57 | AC35: 37391 | AD35: 463672.02 | AE35: 1550 | AF35: 46127.88 | AG35: 122.01 | AH35: 526 | AI35: 14400 | AJ35: =Economic!H49 -> 807583.1 | AK35: =Economic!I49 -> 94617.3 | AL35: =Economic!J49 -> 33264.1 | AM35: =Economic!K49 -> 75322.9 | AN35: =Economic!L49 -> 59802.7 | AO35: =Economic!M49 -> 812164 | AP35: =Economic!N49 -> 92913 | AQ35: =Economic!O49 -> 14573 | ... AS35: =Economic!Q49 -> 77595 | AT35: =Economic!D49 -> 7450 | AU35: =Economic!E49 -> 7491.1 | AV35: =Economic!F49 -> 260.4 | AW35: =Economic!G49 -> 261.9 | AX35: =Economic!W49 -> 12242 | AY35: =Economic!R49 -> 180.9 | AZ35: =Economic!W49 -> 12242 | BA35: =Economic!X49 -> -3210 | BB35: =Economic!Y49 -> 5384 | BC35: =Weather!C47 -> 10.254973 | BD35: =Weather!D47 -> 302.80417 | BE35: =Weather!E47 -> 0.70833333 | BF35: =Weather!F47 -> 242.80417 | BG35: =Weather!G47 -> 2.7083333 | BH35: =Weather!H47 -> 182.80417 | BI35: =Weather!I47 -> 4.7083333 | BJ35: =Weather!J47 -> 126.9625 | ... BQ35: =Weather!Q47 -> 80.645833 | BR35: 0 | BS35: 0 | BT35: 0 | BU35: 0 | BV35: 0 | BW35: 0 | BX35: 0 | BY35: 0 | BZ35: 0 | CA35: 1 | CB35: 0 | CC35: 0 | CD35: 0 | CE35: =CE23 -> 0 | CF35: 1 | CG35: =CG23 -> 1 | CH35: 1 | CI35: =CI23 -> 1 | CJ35: =CE35+CF35 -> 1 | CK35: =CK23 -> 0 | CL35: =CL23 -> 0 | CM35: =1+CM34 -> 34 | CN35: 0 | CO35: 0 | CP35: 0 | CQ35: 0 | CR35: 0 | CS35: 31 | CT35: 21 | CU35: 0 | CV35: 0 | CW35: 0 | CX35: 0 | CY35: 0 | CZ35: =$CV35*BD35 -> 0 | DA35: =$CV35*BE35 -> 0 | DB35: =$CV35*BF35 -> 0 | DC35: =$CV35*BG35 -> 0 | DD35: =$CV35*BH35 -> 0 | DE35: =$CV35*BI35 -> 0 | DF35: =$CV35*BJ35 -> 0 | DG35: =$CV35*BK35 -> 0 | ... DM35: =$CV35*BQ35 -> 0 | DN35: =$CX35*BD35 -> 0 | DO35: =$CX35*BE35 -> 0 | DP35: =$CX35*BF35 -> 0 | DQ35: =$CX35*BG35 -> 0 | DR35: =$CX35*BH35 -> 0 | DS35: =$CX35*BI35 -> 0 | DT35: =$CX35*BJ35 -> 0 | DU35: =$CX35*BK35 -> 0 | ... EA35: =$CX35*BQ35 -> 0 | EB35: =F35/G35 -> 541.84787 | EC35: =EB35/CS35 -> 17.478963 | ED35: =F35/CS35 -> 2550775.1 | EE35: =J35/K35 -> 2408.1485 | EF35: =EE35/CS35 -> 77.682211 | EG35: =J35/CS35 -> 992234.88 | EH35: =N35/P35 -> 76108.159 | EI35: =EH35/CS35 -> 2455.1019 | EJ35: =EH35/CT11 -> 3624.1981 | EK35: =N35/CS35 -> 3881516.1 | EL35: =N35/CT11 -> 5729857.1
A36: 43770 | B36: =YEAR(A36) -> 2019 | C36: =MONTH(A36) -> 11 | D36: 86690182 | E36: =IFERROR(VLOOKUP($B36-1,CDM!$L$7:$T$18,2,FALSE)/12,0)+IFERROR(VLOOKUP($B36,CDM!$L$37:$O$47,2,FALSE)/24,0)+IFERROR(VLOOKUP($B36,CDM!$L$37:$O$47,2,FALSE)/2*$C36/78,0) -> 2200253.8 | F36: =D36+E36 -> 88890436 | G36: 146082 | H36: 32262303 | I36: =IFERROR(VLOOKUP($B36-1,CDM!$L$7:$T$18,3,FALSE)/12,0)+IFERROR(VLOOKUP($B36,CDM!$L$37:$O$47,3,FALSE)/24,0)+IFERROR(VLOOKUP($B36,CDM!$L$37:$O$47,3,FALSE)/2*$C36/78,0) -> 879153.98 | J36: =H36+I36 -> 33141457 | K36: 12785 | L36: 1.1469727e+08 | M36: =IFERROR(VLOOKUP($B36-1,CDM!$L$7:$T$18,4,FALSE)/12,0)+IFERROR(VLOOKUP($B36,CDM!$L$37:$O$47,4,FALSE)/24,0)+IFERROR(VLOOKUP($B36,CDM!$L$37:$O$47,4,FALSE)/2*$C36/78,0) -> 5113977.2 | N36: =L36+M36 -> 1.1981125e+08 | O36: 285332.03 | P36: 1585 | Q36: 1387636.3 | R36: =IFERROR(VLOOKUP($B36-1,CDM!$L$7:$T$18,5,FALSE)/12,0)+IFERROR(VLOOKUP($B36,CDM!$L$37:$T$47,5,FALSE)/24,0)+IFERROR(VLOOKUP($B36,CDM!$L$37:$T$47,5,FALSE)/2*$C36/78,0) -> 94841.437 | S36: =R36+Q36 -> 1482477.7 | T36: 4169.95 | U36: 5 | V36: 8158371.5 | W36: =IFERROR(VLOOKUP($B36-1,CDM!$L$7:$T$18,6,FALSE)/12,0)+IFERROR(VLOOKUP($B36,CDM!$L$37:$T$47,6,FALSE)/24,0)+IFERROR(VLOOKUP($B36,CDM!$L$37:$T$47,6,FALSE)/2*$C36/78,0) -> 366976.21 | X36: =W36+V36 -> 8525347.7 | Y36: 14421.37 | Z36: 1 | AA36: 1661911.5 | AB36: 3912.22 | AC36: 37417 | AD36: 448955.72 | AE36: 1550 | AF36: 44261.74 | AG36: 121.69 | AH36: 517 | AI36: 14400 | AJ36: =Economic!H50 -> 807583.1 | AK36: =Economic!I50 -> 94617.3 | AL36: =Economic!J50 -> 33264.1 | AM36: =Economic!K50 -> 75322.9 | AN36: =Economic!L50 -> 59802.7 | AO36: =Economic!M50 -> 812164 | AP36: =Economic!N50 -> 92913 | AQ36: =Economic!O50 -> 14573 | ... AS36: =Economic!Q50 -> 77595 | AT36: =Economic!D50 -> 7458.2 | AU36: =Economic!E50 -> 7479.5 | AV36: =Economic!F50 -> 265.6 | AW36: =Economic!G50 -> 265.8 | AX36: =Economic!W50 -> 12242 | AY36: =Economic!R50 -> 168.3 | AZ36: =Economic!W50 -> 12242 | BA36: =Economic!X50 -> -3210 | BB36: =Economic!Y50 -> 5384 | BC36: =Weather!C48 -> 0.55111111 | BD36: =Weather!D48 -> 583.46667 | BE36: =Weather!E48 -> 0 | BF36: =Weather!F48 -> 523.46667 | BG36: =Weather!G48 -> 0 | BH36: =Weather!H48 -> 463.46667 | BI36: =Weather!I48 -> 0 | BJ36: =Weather!J48 -> 403.46667 | ... BQ36: =Weather!Q48 -> 0 | BR36: 0 | BS36: 0 | BT36: 0 | BU36: 0 | BV36: 0 | BW36: 0 | BX36: 0 | BY36: 0 | BZ36: 0 | CA36: 0 | CB36: 1 | CC36: 0 | CD36: 0 | CE36: =CE24 -> 0 | CF36: 1 | CG36: =CG24 -> 0 | CH36: 1 | CI36: =CI24 -> 0 | CJ36: =CE36+CF36 -> 1 | CK36: =CK24 -> 0 | CL36: =CL24 -> 0 | CM36: =1+CM35 -> 35 | CN36: 0 | CO36: 0 | CP36: 0 | CQ36: 0 | CR36: 0 | CS36: 30 | CT36: 21 | CU36: 0 | CV36: 0 | CW36: 0 | CX36: 0 | CY36: 0 | CZ36: =$CV36*BD36 -> 0 | DA36: =$CV36*BE36 -> 0 | DB36: =$CV36*BF36 -> 0 | DC36: =$CV36*BG36 -> 0 | DD36: =$CV36*BH36 -> 0 | DE36: =$CV36*BI36 -> 0 | DF36: =$CV36*BJ36 -> 0 | DG36: =$CV36*BK36 -> 0 | ... DM36: =$CV36*BQ36 -> 0 | DN36: =$CX36*BD36 -> 0 | DO36: =$CX36*BE36 -> 0 | DP36: =$CX36*BF36 -> 0 | DQ36: =$CX36*BG36 -> 0 | DR36: =$CX36*BH36 -> 0 | DS36: =$CX36*BI36 -> 0 | DT36: =$CX36*BJ36 -> 0 | DU36: =$CX36*BK36 -> 0 | ... EA36: =$CX36*BQ36 -> 0 | EB36: =F36/G36 -> 608.49685 | EC36: =EB36/CS36 -> 20.283228 | ED36: =F36/CS36 -> 2963014.5 | EE36: =J36/K36 -> 2592.2141 | EF36: =EE36/CS36 -> 86.407135 | EG36: =J36/CS36 -> 1104715.2 | EH36: =N36/P36 -> 75590.691 | EI36: =EH36/CS36 -> 2519.6897 | EJ36: =EH36/CT12 -> 3435.9405 | EK36: =N36/CS36 -> 3993708.2 | EL36: =N36/CT12 -> 5445965.7
A37: 43800 | B37: =YEAR(A37) -> 2019 | C37: =MONTH(A37) -> 12 | D37: 97147745 | E37: =IFERROR(VLOOKUP($B37-1,CDM!$L$7:$T$18,2,FALSE)/12,0)+IFERROR(VLOOKUP($B37,CDM!$L$37:$O$47,2,FALSE)/24,0)+IFERROR(VLOOKUP($B37,CDM!$L$37:$O$47,2,FALSE)/2*$C37/78,0) -> 2209583.1 | F37: =D37+E37 -> 99357328 | G37: 146208 | H37: 33832376 | I37: =IFERROR(VLOOKUP($B37-1,CDM!$L$7:$T$18,3,FALSE)/12,0)+IFERROR(VLOOKUP($B37,CDM!$L$37:$O$47,3,FALSE)/24,0)+IFERROR(VLOOKUP($B37,CDM!$L$37:$O$47,3,FALSE)/2*$C37/78,0) -> 894806.12 | J37: =H37+I37 -> 34727182 | K37: 12800 | L37: 1.1405033e+08 | M37: =IFERROR(VLOOKUP($B37-1,CDM!$L$7:$T$18,4,FALSE)/12,0)+IFERROR(VLOOKUP($B37,CDM!$L$37:$O$47,4,FALSE)/24,0)+IFERROR(VLOOKUP($B37,CDM!$L$37:$O$47,4,FALSE)/2*$C37/78,0) -> 5184144.4 | N37: =L37+M37 -> 1.1923448e+08 | O37: 282184.24 | P37: 1584 | Q37: 914602.91 | R37: =IFERROR(VLOOKUP($B37-1,CDM!$L$7:$T$18,5,FALSE)/12,0)+IFERROR(VLOOKUP($B37,CDM!$L$37:$T$47,5,FALSE)/24,0)+IFERROR(VLOOKUP($B37,CDM!$L$37:$T$47,5,FALSE)/2*$C37/78,0) -> 94832.751 | S37: =R37+Q37 -> 1009435.7 | T37: 954.45 | U37: 5 | V37: 7923519.7 | W37: =IFERROR(VLOOKUP($B37-1,CDM!$L$7:$T$18,6,FALSE)/12,0)+IFERROR(VLOOKUP($B37,CDM!$L$37:$T$47,6,FALSE)/24,0)+IFERROR(VLOOKUP($B37,CDM!$L$37:$T$47,6,FALSE)/2*$C37/78,0) -> 379359.95 | X37: =W37+V37 -> 8302879.7 | Y37: 14050.79 | Z37: 1 | AA37: 1809902 | AB37: 3915.76 | AC37: 37461 | AD37: 463386.74 | AE37: 1551 | AF37: 44819.91 | AG37: 120.68 | AH37: 516 | AI37: 14400 | AJ37: =Economic!H51 -> 807583.1 | AK37: =Economic!I51 -> 94617.3 | AL37: =Economic!J51 -> 33264.1 | AM37: =Economic!K51 -> 75322.9 | AN37: =Economic!L51 -> 59802.7 | AO37: =Economic!M51 -> 812164 | AP37: =Economic!N51 -> 92913 | AQ37: =Economic!O51 -> 14573 | ... AS37: =Economic!Q51 -> 77595 | AT37: =Economic!D51 -> 7474 | AU37: =Economic!E51 -> 7485.8 | AV37: =Economic!F51 -> 266 | AW37: =Economic!G51 -> 265.1 | AX37: =Economic!W51 -> 12242 | AY37: =Economic!R51 -> 177.6 | AZ37: =Economic!W51 -> 12242 | BA37: =Economic!X51 -> -3210 | BB37: =Economic!Y51 -> 5384 | BC37: =Weather!C49 -> -0.71391129 | BD37: =Weather!D49 -> 642.13125 | BE37: =Weather!E49 -> 0 | BF37: =Weather!F49 -> 580.13125 | BG37: =Weather!G49 -> 0 | BH37: =Weather!H49 -> 518.13125 | BI37: =Weather!I49 -> 0 | BJ37: =Weather!J49 -> 456.13125 | ... BQ37: =Weather!Q49 -> 0 | BR37: 0 | BS37: 0 | BT37: 0 | BU37: 0 | BV37: 0 | BW37: 0 | BX37: 0 | BY37: 0 | BZ37: 0 | CA37: 0 | CB37: 0 | CC37: 1 | CD37: 0 | CE37: =CE25 -> 0 | CF37: 0 | CG37: =CG25 -> 0 | CH37: 0 | CI37: =CI25 -> 0 | CJ37: =CE37+CF37 -> 0 | CK37: =CK25 -> 0 | CL37: =CL25 -> 0 | CM37: =1+CM36 -> 36 | CN37: 0 | CO37: 0 | CP37: 0 | CQ37: 0 | CR37: 0 | CS37: 31 | CT37: 21 | CU37: 0 | CV37: 0 | CW37: 0 | CX37: 0 | CY37: 0 | CZ37: =$CV37*BD37 -> 0 | DA37: =$CV37*BE37 -> 0 | DB37: =$CV37*BF37 -> 0 | DC37: =$CV37*BG37 -> 0 | DD37: =$CV37*BH37 -> 0 | DE37: =$CV37*BI37 -> 0 | DF37: =$CV37*BJ37 -> 0 | DG37: =$CV37*BK37 -> 0 | ... DM37: =$CV37*BQ37 -> 0 | DN37: =$CX37*BD37 -> 0 | DO37: =$CX37*BE37 -> 0 | DP37: =$CX37*BF37 -> 0 | DQ37: =$CX37*BG37 -> 0 | DR37: =$CX37*BH37 -> 0 | DS37: =$CX37*BI37 -> 0 | DT37: =$CX37*BJ37 -> 0 | DU37: =$CX37*BK37 -> 0 | ... EA37: =$CX37*BQ37 -> 0 | EB37: =F37/G37 -> 679.5615 | EC37: =EB37/CS37 -> 21.921339 | ED37: =F37/CS37 -> 3205075.1 | EE37: =J37/K37 -> 2713.0611 | EF37: =EE37/CS37 -> 87.5181 | EG37: =J37/CS37 -> 1120231.7 | EH37: =N37/P37 -> 75274.29 | EI37: =EH37/CS37 -> 2428.2029 | EJ37: =EH37/CT13 -> 3961.8048 | EK37: =N37/CS37 -> 3846273.4 | EL37: =N37/CT13 -> 6275498.7
A38: 43831 | B38: =YEAR(A38) -> 2020 | C38: =MONTH(A38) -> 1 | D38: 95387680 | E38: =IFERROR(VLOOKUP($B38-1,CDM!$L$7:$T$18,2,FALSE)/12,0)+IFERROR(VLOOKUP($B38,CDM!$L$37:$O$47,2,FALSE)/24,0)+IFERROR(VLOOKUP($B38,CDM!$L$37:$O$47,2,FALSE)/2*$C38/78,0) -> 2158271.7 | F38: =D38+E38 -> 97545952 | G38: 146344 | H38: 34759836 | I38: =IFERROR(VLOOKUP($B38-1,CDM!$L$7:$T$18,3,FALSE)/12,0)+IFERROR(VLOOKUP($B38,CDM!$L$37:$O$47,3,FALSE)/24,0)+IFERROR(VLOOKUP($B38,CDM!$L$37:$O$47,3,FALSE)/2*$C38/78,0) -> 827698.49 | J38: =H38+I38 -> 35587535 | K38: 12846 | L38: 1.2027069e+08 | M38: =IFERROR(VLOOKUP($B38-1,CDM!$L$7:$T$18,4,FALSE)/12,0)+IFERROR(VLOOKUP($B38,CDM!$L$37:$O$47,4,FALSE)/24,0)+IFERROR(VLOOKUP($B38,CDM!$L$37:$O$47,4,FALSE)/2*$C38/78,0) -> 5159779.9 | N38: =L38+M38 -> 1.2543047e+08 | O38: 281822.04 | P38: 1537 | Q38: 903651.87 | R38: =IFERROR(VLOOKUP($B38-1,CDM!$L$7:$T$18,5,FALSE)/12,0)+IFERROR(VLOOKUP($B38,CDM!$L$37:$T$47,5,FALSE)/24,0)+IFERROR(VLOOKUP($B38,CDM!$L$37:$T$47,5,FALSE)/2*$C38/78,0) -> 94880.524 | S38: =R38+Q38 -> 998532.39 | T38: 4293.82 | U38: 5 | V38: 8280450.2 | W38: =IFERROR(VLOOKUP($B38-1,CDM!$L$7:$T$18,6,FALSE)/12,0)+IFERROR(VLOOKUP($B38,CDM!$L$37:$T$47,6,FALSE)/24,0)+IFERROR(VLOOKUP($B38,CDM!$L$37:$T$47,6,FALSE)/2*$C38/78,0) -> 319811.86 | X38: =W38+V38 -> 8600262 | Y38: 14044.44 | Z38: 1 | AA38: 1754152.9 | AB38: 3926.83 | AC38: 37568 | AD38: 463898.29 | AE38: 1552 | AF38: 45431.61 | AG38: 120.68 | AH38: 516 | AI38: 14400 | AJ38: =Economic!H52 -> 770641 | AK38: =Economic!I52 -> 85970.9 | AL38: =Economic!J52 -> 32860.6 | AM38: =Economic!K52 -> 78307.1 | AN38: =Economic!L52 -> 58237.8 | AO38: =Economic!M52 -> 801246 | AP38: =Economic!N52 -> 90581 | AQ38: =Economic!O52 -> 14679 | ... AS38: =Economic!Q52 -> 77965 | AT38: =Economic!D52 -> 7498.1 | AU38: =Economic!E52 -> 7464.7 | AV38: =Economic!F52 -> 269.3 | AW38: =Economic!G52 -> 266.8 | AX38: =Economic!W52 -> 503 | AY38: =Economic!R52 -> 191.6 | AZ38: =Economic!W52 -> 503 | BA38: =Economic!X52 -> -5347 | BB38: =Economic!Y52 -> 4821 | BC38: =Weather!C50 -> -1.4294355 | BD38: =Weather!D50 -> 664.3125 | BE38: =Weather!E50 -> 0 | BF38: =Weather!F50 -> 602.3125 | BG38: =Weather!G50 -> 0 | BH38: =Weather!H50 -> 540.3125 | BI38: =Weather!I50 -> 0 | BJ38: =Weather!J50 -> 478.3125 | ... BQ38: =Weather!Q50 -> 0 | BR38: 1 | BS38: 0 | BT38: 0 | BU38: 0 | BV38: 0 | BW38: 0 | BX38: 0 | BY38: 0 | BZ38: 0 | CA38: 0 | CB38: 0 | CC38: 0 | CD38: 0 | CE38: =CE26 -> 0 | CF38: 0 | CG38: =CG26 -> 0 | CH38: 0 | CI38: =CI26 -> 0 | CJ38: =CE38+CF38 -> 0 | CK38: =CK26 -> 0 | CL38: =CL26 -> 0 | CM38: =1+CM37 -> 37 | CN38: 0 | CO38: 0 | CP38: 0 | CQ38: 0 | CR38: 0 | CS38: 31 | CT38: 22 | CU38: 0 | CV38: 0 | CW38: 0 | CX38: 0 | CY38: 0 | CZ38: =$CV38*BD38 -> 0 | DA38: =$CV38*BE38 -> 0 | DB38: =$CV38*BF38 -> 0 | DC38: =$CV38*BG38 -> 0 | DD38: =$CV38*BH38 -> 0 | DE38: =$CV38*BI38 -> 0 | DF38: =$CV38*BJ38 -> 0 | DG38: =$CV38*BK38 -> 0 | ... DM38: =$CV38*BQ38 -> 0 | DN38: =$CX38*BD38 -> 0 | DO38: =$CX38*BE38 -> 0 | DP38: =$CX38*BF38 -> 0 | DQ38: =$CX38*BG38 -> 0 | DR38: =$CX38*BH38 -> 0 | DS38: =$CX38*BI38 -> 0 | DT38: =$CX38*BJ38 -> 0 | DU38: =$CX38*BK38 -> 0 | ... EA38: =$CX38*BQ38 -> 0 | EB38: =F38/G38 -> 666.55245 | EC38: =EB38/CS38 -> 21.501692 | ED38: =F38/CS38 -> 3146643.6 | EE38: =J38/K38 -> 2770.3203 | EF38: =EE38/CS38 -> 89.365171 | EG38: =J38/CS38 -> 1147985 | EH38: =N38/P38 -> 81607.331 | EI38: =EH38/CS38 -> 2632.4945 | EJ38: =EH38/CT14 -> 3709.4241 | EK38: =N38/CS38 -> 4046144.1 | EL38: =N38/CT14 -> 5701384.9
... A49: 44166 | B49: =YEAR(A49) -> 2020 | C49: =MONTH(A49) -> 12 | D49: 1.0204959e+08 | E49: =IFERROR(VLOOKUP($B49-1,CDM!$L$7:$T$18,2,FALSE)/12,0)+IFERROR(VLOOKUP($B49,CDM!$L$37:$O$47,2,FALSE)/24,0)+IFERROR(VLOOKUP($B49,CDM!$L$37:$O$47,2,FALSE)/2*$C49/78,0) -> 2158271.7 | F49: =D49+E49 -> 1.0420786e+08 | G49: 147666 | H49: 32497812 | I49: =IFERROR(VLOOKUP($B49-1,CDM!$L$7:$T$18,3,FALSE)/12,0)+IFERROR(VLOOKUP($B49,CDM!$L$37:$O$47,3,FALSE)/24,0)+IFERROR(VLOOKUP($B49,CDM!$L$37:$O$47,3,FALSE)/2*$C49/78,0) -> 855534.61 | J49: =H49+I49 -> 33353347 | K49: 12925 | L49: 1.1200255e+08 | M49: =IFERROR(VLOOKUP($B49-1,CDM!$L$7:$T$18,4,FALSE)/12,0)+IFERROR(VLOOKUP($B49,CDM!$L$37:$O$47,4,FALSE)/24,0)+IFERROR(VLOOKUP($B49,CDM!$L$37:$O$47,4,FALSE)/2*$C49/78,0) -> 5690060.8 | N49: =L49+M49 -> 1.1769261e+08 | O49: 269032.19 | P49: 1542 | Q49: 1507091.7 | R49: =IFERROR(VLOOKUP($B49-1,CDM!$L$7:$T$18,5,FALSE)/12,0)+IFERROR(VLOOKUP($B49,CDM!$L$37:$T$47,5,FALSE)/24,0)+IFERROR(VLOOKUP($B49,CDM!$L$37:$T$47,5,FALSE)/2*$C49/78,0) -> 94880.524 | S49: =R49+Q49 -> 1601972.3 | T49: 3331.75 | U49: 6 | V49: 7693489.6 | W49: =IFERROR(VLOOKUP($B49-1,CDM!$L$7:$T$18,6,FALSE)/12,0)+IFERROR(VLOOKUP($B49,CDM!$L$37:$T$47,6,FALSE)/24,0)+IFERROR(VLOOKUP($B49,CDM!$L$37:$T$47,6,FALSE)/2*$C49/78,0) -> 332370.24 | X49: =W49+V49 -> 8025859.9 | Y49: 12314.82 | Z49: 1 | AA49: 1826645.1 | AB49: 3951.98 | AC49: 37973 | AD49: 460635.32 | AE49: 1539 | AF49: 47124.37 | AG49: 120.07 | AH49: 515 | AI49: 15400 | AJ49: =Economic!H63 -> 770641 | AK49: =Economic!I63 -> 85970.9 | AL49: =Economic!J63 -> 32860.6 | AM49: =Economic!K63 -> 78307.1 | AN49: =Economic!L63 -> 58237.8 | AO49: =Economic!M63 -> 797313 | AP49: =Economic!N63 -> 90586 | AQ49: =Economic!O63 -> 13876 | ... AS49: =Economic!Q63 -> 79712 | AT49: =Economic!D63 -> 7289.8 | AU49: =Economic!E63 -> 7300.6 | AV49: =Economic!F63 -> 267.6 | AW49: =Economic!G63 -> 265.9 | AX49: =Economic!W63 -> -14851 | AY49: =Economic!R63 -> -184.2 | AZ49: =Economic!W63 -> -14851 | BA49: =Economic!X63 -> -2327 | BB49: =Economic!Y63 -> 2117 | BC49: =Weather!C61 -> -0.69670699 | BD49: =Weather!D61 -> 641.59792 | BE49: =Weather!E61 -> 0 | BF49: =Weather!F61 -> 579.59792 | BG49: =Weather!G61 -> 0 | BH49: =Weather!H61 -> 517.59792 | BI49: =Weather!I61 -> 0 | BJ49: =Weather!J61 -> 455.59792 | ... BQ49: =Weather!Q61 -> 0 | BR49: 0 | BS49: 0 | BT49: 0 | BU49: 0 | BV49: 0 | BW49: 0 | BX49: 0 | BY49: 0 | BZ49: 0 | CA49: 0 | CB49: 0 | CC49: 1 | CD49: 0 | CE49: =CE37 -> 0 | CF49: 0 | CG49: =CG37 -> 0 | CH49: 0 | CI49: =CI37 -> 0 | CJ49: =CE49+CF49 -> 0 | CK49: =CK37 -> 0 | CL49: =CL37 -> 0 | CM49: =1+CM48 -> 48 | CN49: 0 | CO49: 0 | CP49: 0 | CQ49: 0 | CR49: 0 | CS49: 31 | CT49: 21 | CU49: 1 | CV49: 0.5 | CW49: 0.5 | CX49: 1 | CY49: 0 | CZ49: =$CV49*BD49 -> 320.79896 | DA49: =$CV49*BE49 -> 0 | DB49: =$CV49*BF49 -> 289.79896 | DC49: =$CV49*BG49 -> 0 | DD49: =$CV49*BH49 -> 258.79896 | DE49: =$CV49*BI49 -> 0 | DF49: =$CV49*BJ49 -> 227.79896 | DG49: =$CV49*BK49 -> 0 | ... DM49: =$CV49*BQ49 -> 0 | DN49: =$CX49*BD49 -> 641.59792 | DO49: =$CX49*BE49 -> 0 | DP49: =$CX49*BF49 -> 579.59792 | DQ49: =$CX49*BG49 -> 0 | DR49: =$CX49*BH49 -> 517.59792 | DS49: =$CX49*BI49 -> 0 | DT49: =$CX49*BJ49 -> 455.59792 | DU49: =$CX49*BK49 -> 0 | ... EA49: =$CX49*BQ49 -> 0 | EB49: =F49/G49 -> 705.69974 | EC49: =EB49/CS49 -> 22.764508 | ED49: =F49/CS49 -> 3361543.8 | EE49: =J49/K49 -> 2580.5297 | EF49: =EE49/CS49 -> 83.242895 | EG49: =J49/CS49 -> 1075914.4 | EH49: =N49/P49 -> 76324.649 | EI49: =EH49/CS49 -> 2462.0854 | EJ49: =EH49/CT25 -> 4017.0868 | EK49: =N49/CS49 -> 3796535.7 | EL49: =N49/CT25 -> 6194347.8
A50: 44197 | B50: =YEAR(A50) -> 2021 | C50: =MONTH(A50) -> 1 | D50: 1.0358511e+08 | E50: =IFERROR(VLOOKUP($B50-1,CDM!$L$7:$T$18,2,FALSE)/12,0)+IFERROR(VLOOKUP($B50,CDM!$L$37:$O$47,2,FALSE)/24,0)+IFERROR(VLOOKUP($B50,CDM!$L$37:$O$47,2,FALSE)/2*$C50/78,0) -> 2166234.6 | F50: =D50+E50 -> 1.0575135e+08 | G50: 147698 | H50: 32307506 | I50: =IFERROR(VLOOKUP($B50-1,CDM!$L$7:$T$18,3,FALSE)/12,0)+IFERROR(VLOOKUP($B50,CDM!$L$37:$O$47,3,FALSE)/24,0)+IFERROR(VLOOKUP($B50,CDM!$L$37:$O$47,3,FALSE)/2*$C50/78,0) -> 881164.91 | J50: =H50+I50 -> 33188671 | K50: 12977 | L50: 1.1320197e+08 | M50: =IFERROR(VLOOKUP($B50-1,CDM!$L$7:$T$18,4,FALSE)/12,0)+IFERROR(VLOOKUP($B50,CDM!$L$37:$O$47,4,FALSE)/24,0)+IFERROR(VLOOKUP($B50,CDM!$L$37:$O$47,4,FALSE)/2*$C50/78,0) -> 5782077.8 | N50: =L50+M50 -> 1.1898405e+08 | O50: 264149.85 | P50: 1519 | Q50: 1076635.4 | R50: =IFERROR(VLOOKUP($B50-1,CDM!$L$7:$T$18,5,FALSE)/12,0)+IFERROR(VLOOKUP($B50,CDM!$L$37:$T$47,5,FALSE)/24,0)+IFERROR(VLOOKUP($B50,CDM!$L$37:$T$47,5,FALSE)/2*$C50/78,0) -> 94880.524 | S50: =R50+Q50 -> 1171515.9 | T50: 237.92 | U50: 6 | V50: 7627098.3 | W50: =IFERROR(VLOOKUP($B50-1,CDM!$L$7:$T$18,6,FALSE)/12,0)+IFERROR(VLOOKUP($B50,CDM!$L$37:$T$47,6,FALSE)/24,0)+IFERROR(VLOOKUP($B50,CDM!$L$37:$T$47,6,FALSE)/2*$C50/78,0) -> 640023.17 | X50: =W50+V50 -> 8267121.5 | Y50: 11801.26 | Z50: 1 | AA50: 1765612.8 | AB50: 3952.48 | AC50: 37993 | AD50: 460629.83 | AE50: 1540 | AF50: 44862.87 | AG50: 120.13 | AH50: 515 | AI50: 15400 | AJ50: =Economic!H64 -> 818746.1 | AK50: =Economic!I64 -> 92448.9 | AL50: =Economic!J64 -> 35353 | AM50: =Economic!K64 -> 84915.6 | AN50: =Economic!L64 -> 64969.2 | AO50: =Economic!M64 -> 809994 | AP50: =Economic!N64 -> 92073 | AQ50: =Economic!O64 -> 13955 | ... AS50: =Economic!Q64 -> 81653 | AT50: =Economic!D64 -> 7234.6 | AU50: =Economic!E64 -> 7207.2 | AV50: =Economic!F64 -> 269.8 | AW50: =Economic!G64 -> 267.4 | AX50: =Economic!W64 -> 8748 | AY50: =Economic!R64 -> -263.5 | AZ50: =Economic!W64 -> 8748 | BA50: =Economic!X64 -> 1492 | BB50: =Economic!Y64 -> 3688 | BC50: =Weather!C62 -> -2.900672 | BD50: =Weather!D62 -> 709.92083 | BE50: =Weather!E62 -> 0 | BF50: =Weather!F62 -> 647.92083 | BG50: =Weather!G62 -> 0 | BH50: =Weather!H62 -> 585.92083 | BI50: =Weather!I62 -> 0 | BJ50: =Weather!J62 -> 523.92083 | ... BQ50: =Weather!Q62 -> 0 | BR50: 1 | BS50: 0 | BT50: 0 | BU50: 0 | BV50: 0 | BW50: 0 | BX50: 0 | BY50: 0 | BZ50: 0 | CA50: 0 | CB50: 0 | CC50: 0 | CD50: =CD38 -> 0 | CE50: =CE38 -> 0 | CF50: =CF38 -> 0 | CG50: =CG38 -> 0 | CH50: =CH38 -> 0 | CI50: =CI38 -> 0 | CJ50: =CE50+CF50 -> 0 | CK50: =CK38 -> 0 | CL50: =CL38 -> 0 | CM50: =1+CM49 -> 49 | CN50: 1 | CO50: 0 | CP50: 0 | CQ50: 0 | CR50: 0 | CS50: =CS2 -> 31 | CT50: 20 | CU50: 1 | CV50: 0.5 | CW50: 0.25 | CX50: 0.75 | CY50: 0 | CZ50: =$CV50*BD50 -> 354.96042 | DA50: =$CV50*BE50 -> 0 | DB50: =$CV50*BF50 -> 323.96042 | DC50: =$CV50*BG50 -> 0 | DD50: =$CV50*BH50 -> 292.96042 | DE50: =$CV50*BI50 -> 0 | DF50: =$CV50*BJ50 -> 261.96042 | DG50: =$CV50*BK50 -> 0 | ... DM50: =$CV50*BQ50 -> 0 | DN50: =$CX50*BD50 -> 532.44062 | DO50: =$CX50*BE50 -> 0 | DP50: =$CX50*BF50 -> 485.94063 | DQ50: =$CX50*BG50 -> 0 | DR50: =$CX50*BH50 -> 439.44063 | DS50: =$CX50*BI50 -> 0 | DT50: =$CX50*BJ50 -> 392.94063 | DU50: =$CX50*BK50 -> 0 | ... EA50: =$CX50*BQ50 -> 0 | EB50: =F50/G50 -> 715.99714 | EC50: =EB50/CS50 -> 23.096682 | ED50: =F50/CS50 -> 3411333.7 | EE50: =J50/K50 -> 2557.4995 | EF50: =EE50/CS50 -> 82.499984 | EG50: =J50/CS50 -> 1070602.3 | EH50: =N50/P50 -> 78330.512 | EI50: =EH50/CS50 -> 2526.7907 | EJ50: =EH50/CT26 -> 3560.4778 | EK50: =N50/CS50 -> 3838195.1 | EL50: =N50/CT26 -> 5408365.8
A51: 44228 | B51: =YEAR(A51) -> 2021 | C51: =MONTH(A51) -> 2 | D51: 96139581 | E51: =IFERROR(VLOOKUP($B51-1,CDM!$L$7:$T$18,2,FALSE)/12,0)+IFERROR(VLOOKUP($B51,CDM!$L$37:$O$47,2,FALSE)/24,0)+IFERROR(VLOOKUP($B51,CDM!$L$37:$O$47,2,FALSE)/2*$C51/78,0) -> 2167296.3 | F51: =D51+E51 -> 98306877 | G51: 147947 | H51: 31143524 | I51: =IFERROR(VLOOKUP($B51-1,CDM!$L$7:$T$18,3,FALSE)/12,0)+IFERROR(VLOOKUP($B51,CDM!$L$37:$O$47,3,FALSE)/24,0)+IFERROR(VLOOKUP($B51,CDM!$L$37:$O$47,3,FALSE)/2*$C51/78,0) -> 886438.02 | J51: =H51+I51 -> 32029962 | K51: 12988 | L51: 1.0722758e+08 | M51: =IFERROR(VLOOKUP($B51-1,CDM!$L$7:$T$18,4,FALSE)/12,0)+IFERROR(VLOOKUP($B51,CDM!$L$37:$O$47,4,FALSE)/24,0)+IFERROR(VLOOKUP($B51,CDM!$L$37:$O$47,4,FALSE)/2*$C51/78,0) -> 5829698.8 | N51: =L51+M51 -> 1.1305727e+08 | O51: 269366.92 | P51: 1517 | Q51: 1081750.5 | R51: =IFERROR(VLOOKUP($B51-1,CDM!$L$7:$T$18,5,FALSE)/12,0)+IFERROR(VLOOKUP($B51,CDM!$L$37:$T$47,5,FALSE)/24,0)+IFERROR(VLOOKUP($B51,CDM!$L$37:$T$47,5,FALSE)/2*$C51/78,0) -> 94880.524 | S51: =R51+Q51 -> 1176631 | T51: 1465.75 | U51: 6 | V51: 7179009.2 | W51: =IFERROR(VLOOKUP($B51-1,CDM!$L$7:$T$18,6,FALSE)/12,0)+IFERROR(VLOOKUP($B51,CDM!$L$37:$T$47,6,FALSE)/24,0)+IFERROR(VLOOKUP($B51,CDM!$L$37:$T$47,6,FALSE)/2*$C51/78,0) -> 681880.79 | X51: =W51+V51 -> 7860890 | Y51: 12258.63 | Z51: 1 | AA51: 1485953.1 | AB51: 3954.53 | AC51: 38024 | AD51: 416400.8 | AE51: 1542 | AF51: 40818.62 | AG51: 120.02 | AH51: 515 | AI51: 15400 | AJ51: =Economic!H65 -> 818746.1 | AK51: =Economic!I65 -> 92448.9 | AL51: =Economic!J65 -> 35353 | AM51: =Economic!K65 -> 84915.6 | AN51: =Economic!L65 -> 64969.2 | AO51: =Economic!M65 -> 809994 | AP51: =Economic!N65 -> 92073 | AQ51: =Economic!O65 -> 13955 | ... AS51: =Economic!Q65 -> 81653 | AT51: =Economic!D65 -> 7209.5 | AU51: =Economic!E65 -> 7151.3 | AV51: =Economic!F65 -> 273.9 | AW51: =Economic!G65 -> 271.4 | AX51: =Economic!W65 -> 8748 | AY51: =Economic!R65 -> -298.5 | AZ51: =Economic!W65 -> 8748 | BA51: =Economic!X65 -> 1492 | BB51: =Economic!Y65 -> 3688 | BC51: =Weather!C63 -> -6.375 | BD51: =Weather!D63 -> 738.5 | BE51: =Weather!E63 -> 0 | BF51: =Weather!F63 -> 682.5 | BG51: =Weather!G63 -> 0 | BH51: =Weather!H63 -> 626.5 | BI51: =Weather!I63 -> 0 | BJ51: =Weather!J63 -> 570.5 | ... BQ51: =Weather!Q63 -> 0 | BR51: 0 | BS51: 1 | BT51: 0 | BU51: 0 | BV51: 0 | BW51: 0 | BX51: 0 | BY51: 0 | BZ51: 0 | CA51: 0 | CB51: 0 | CC51: 0 | CD51: =CD39 -> 0 | CE51: =CE39 -> 0 | CF51: =CF39 -> 0 | CG51: =CG39 -> 0 | CH51: =CH39 -> 0 | CI51: =CI39 -> 0 | CJ51: =CE51+CF51 -> 0 | CK51: =CK39 -> 0 | CL51: =CL39 -> 0 | CM51: =1+CM50 -> 50 | CN51: =CN50+1 -> 2 | CO51: 0 | CP51: 0 | CQ51: 0 | CR51: 0 | CS51: =CS3 -> 28 | CT51: 19 | CU51: 1 | CV51: 0.5 | CW51: 0.25 | CX51: 0.75 | CY51: 0 | CZ51: =$CV51*BD51 -> 369.25 | DA51: =$CV51*BE51 -> 0 | DB51: =$CV51*BF51 -> 341.25 | DC51: =$CV51*BG51 -> 0 | DD51: =$CV51*BH51 -> 313.25 | DE51: =$CV51*BI51 -> 0 | DF51: =$CV51*BJ51 -> 285.25 | DG51: =$CV51*BK51 -> 0 | ... DM51: =$CV51*BQ51 -> 0 | DN51: =$CX51*BD51 -> 553.875 | DO51: =$CX51*BE51 -> 0 | DP51: =$CX51*BF51 -> 511.875 | DQ51: =$CX51*BG51 -> 0 | DR51: =$CX51*BH51 -> 469.875 | DS51: =$CX51*BI51 -> 0 | DT51: =$CX51*BJ51 -> 427.875 | DU51: =$CX51*BK51 -> 0 | ... EA51: =$CX51*BQ51 -> 0 | EB51: =F51/G51 -> 664.47361 | EC51: =EB51/CS51 -> 23.7312 | ED51: =F51/CS51 -> 3510959.9 | EE51: =J51/K51 -> 2466.1196 | EF51: =EE51/CS51 -> 88.075701 | EG51: =J51/CS51 -> 1143927.2 | EH51: =N51/P51 -> 74526.878 | EI51: =EH51/CS51 -> 2661.6742 | EJ51: =EH51/CT27 -> 3922.4673 | EK51: =N51/CS51 -> 4037759.8 | EL51: =N51/CT27 -> 5950382.9
A52: 44256 | B52: =YEAR(A52) -> 2021 | C52: =MONTH(A52) -> 3 | D52: 89804671 | E52: =IFERROR(VLOOKUP($B52-1,CDM!$L$7:$T$18,2,FALSE)/12,0)+IFERROR(VLOOKUP($B52,CDM!$L$37:$O$47,2,FALSE)/24,0)+IFERROR(VLOOKUP($B52,CDM!$L$37:$O$47,2,FALSE)/2*$C52/78,0) -> 2168358 | F52: =D52+E52 -> 91973029 | G52: 148098 | H52: 31875895 | I52: =IFERROR(VLOOKUP($B52-1,CDM!$L$7:$T$18,3,FALSE)/12,0)+IFERROR(VLOOKUP($B52,CDM!$L$37:$O$47,3,FALSE)/24,0)+IFERROR(VLOOKUP($B52,CDM!$L$37:$O$47,3,FALSE)/2*$C52/78,0) -> 891711.14 | J52: =H52+I52 -> 32767606 | K52: 12982 | L52: 1.1493636e+08 | M52: =IFERROR(VLOOKUP($B52-1,CDM!$L$7:$T$18,4,FALSE)/12,0)+IFERROR(VLOOKUP($B52,CDM!$L$37:$O$47,4,FALSE)/24,0)+IFERROR(VLOOKUP($B52,CDM!$L$37:$O$47,4,FALSE)/2*$C52/78,0) -> 5877319.7 | N52: =L52+M52 -> 1.2081368e+08 | O52: 274246.76 | P52: 1519 | Q52: 834172.24 | R52: =IFERROR(VLOOKUP($B52-1,CDM!$L$7:$T$18,5,FALSE)/12,0)+IFERROR(VLOOKUP($B52,CDM!$L$37:$T$47,5,FALSE)/24,0)+IFERROR(VLOOKUP($B52,CDM!$L$37:$T$47,5,FALSE)/2*$C52/78,0) -> 94880.524 | S52: =R52+Q52 -> 929052.76 | T52: 1860.14 | U52: 6 | V52: 7893289.3 | W52: =IFERROR(VLOOKUP($B52-1,CDM!$L$7:$T$18,6,FALSE)/12,0)+IFERROR(VLOOKUP($B52,CDM!$L$37:$T$47,6,FALSE)/24,0)+IFERROR(VLOOKUP($B52,CDM!$L$37:$T$47,6,FALSE)/2*$C52/78,0) -> 723738.41 | X52: =W52+V52 -> 8617027.7 | Y52: 12583.54 | Z52: 1 | AA52: 1466404.7 | AB52: 3961.76 | AC52: 38097 | AD52: 460512.79 | AE52: 1544 | AF52: 44220.29 | AG52: 119.47 | AH52: 512 | AI52: 15900 | AJ52: =Economic!H66 -> 818746.1 | AK52: =Economic!I66 -> 92448.9 | AL52: =Economic!J66 -> 35353 | AM52: =Economic!K66 -> 84915.6 | AN52: =Economic!L66 -> 64969.2 | AO52: =Economic!M66 -> 809994 | AP52: =Economic!N66 -> 92073 | AQ52: =Economic!O66 -> 13955 | ... AS52: =Economic!Q66 -> 81653 | AT52: =Economic!D66 -> 7237.4 | AU52: =Economic!E66 -> 7153.7 | AV52: =Economic!F66 -> 276.5 | AW52: =Economic!G66 -> 273.7 | AX52: =Economic!W66 -> 8748 | AY52: =Economic!R66 -> -114.2 | AZ52: =Economic!W66 -> 8748 | BA52: =Economic!X66 -> 1492 | BB52: =Economic!Y66 -> 3688 | BC52: =Weather!C64 -> 3.4170699 | BD52: =Weather!D64 -> 514.07083 | BE52: =Weather!E64 -> 0 | BF52: =Weather!F64 -> 452.07083 | BG52: =Weather!G64 -> 0 | BH52: =Weather!H64 -> 390.07083 | BI52: =Weather!I64 -> 0 | BJ52: =Weather!J64 -> 328.07083 | ... BQ52: =Weather!Q64 -> 24.045833 | BR52: 0 | BS52: 0 | BT52: 1 | BU52: 0 | BV52: 0 | BW52: 0 | BX52: 0 | BY52: 0 | BZ52: 0 | CA52: 0 | CB52: 0 | CC52: 0 | CD52: =CD40 -> 1 | CE52: =CE40 -> 1 | CF52: =CF40 -> 0 | CG52: =CG40 -> 0 | CH52: =CH40 -> 1 | CI52: =CI40 -> 1 | CJ52: =CE52+CF52 -> 1 | CK52: =CK40 -> 0 | CL52: =CL40 -> 0 | CM52: =1+CM51 -> 51 | CN52: =CN51+1 -> 3 | CO52: 0 | CP52: 0 | CQ52: 0 | CR52: 0 | CS52: =CS4 -> 31 | CT52: 23 | CU52: 1 | CV52: 0.5 | CW52: 0.25 | CX52: 0.75 | CY52: 0 | CZ52: =$CV52*BD52 -> 257.03542 | DA52: =$CV52*BE52 -> 0 | DB52: =$CV52*BF52 -> 226.03542 | DC52: =$CV52*BG52 -> 0 | DD52: =$CV52*BH52 -> 195.03542 | DE52: =$CV52*BI52 -> 0 | DF52: =$CV52*BJ52 -> 164.03542 | DG52: =$CV52*BK52 -> 0 | ... DM52: =$CV52*BQ52 -> 12.022917 | DN52: =$CX52*BD52 -> 385.55313 | DO52: =$CX52*BE52 -> 0 | DP52: =$CX52*BF52 -> 339.05313 | DQ52: =$CX52*BG52 -> 0 | DR52: =$CX52*BH52 -> 292.55313 | DS52: =$CX52*BI52 -> 0 | DT52: =$CX52*BJ52 -> 246.05312 | DU52: =$CX52*BK52 -> 0 | ... EA52: =$CX52*BQ52 -> 18.034375 | EB52: =F52/G52 -> 621.02817 | EC52: =EB52/CS52 -> 20.033167 | ED52: =F52/CS52 -> 2966871.9 | EE52: =J52/K52 -> 2524.08 | EF52: =EE52/CS52 -> 81.421935 | EG52: =J52/CS52 -> 1057019.6 | EH52: =N52/P52 -> 79535.008 | EI52: =EH52/CS52 -> 2565.6454 | EJ52: =EH52/CT28 -> 3615.2276 | EK52: =N52/CS52 -> 3897215.4 | EL52: =N52/CT28 -> 5491530.8
A53: 44287 | B53: =YEAR(A53) -> 2021 | C53: =MONTH(A53) -> 4 | D53: 80811737 | E53: =IFERROR(VLOOKUP($B53-1,CDM!$L$7:$T$18,2,FALSE)/12,0)+IFERROR(VLOOKUP($B53,CDM!$L$37:$O$47,2,FALSE)/24,0)+IFERROR(VLOOKUP($B53,CDM!$L$37:$O$47,2,FALSE)/2*$C53/78,0) -> 2169419.7 | F53: =D53+E53 -> 82981157 | G53: 148249 | H53: 27629914 | I53: =IFERROR(VLOOKUP($B53-1,CDM!$L$7:$T$18,3,FALSE)/12,0)+IFERROR(VLOOKUP($B53,CDM!$L$37:$O$47,3,FALSE)/24,0)+IFERROR(VLOOKUP($B53,CDM!$L$37:$O$47,3,FALSE)/2*$C53/78,0) -> 896984.25 | J53: =H53+I53 -> 28526898 | K53: 12984 | L53: 1.0371307e+08 | M53: =IFERROR(VLOOKUP($B53-1,CDM!$L$7:$T$18,4,FALSE)/12,0)+IFERROR(VLOOKUP($B53,CDM!$L$37:$O$47,4,FALSE)/24,0)+IFERROR(VLOOKUP($B53,CDM!$L$37:$O$47,4,FALSE)/2*$C53/78,0) -> 5924940.7 | N53: =L53+M53 -> 1.0963801e+08 | O53: 273671.16 | P53: 1521 | Q53: 1275498.6 | R53: =IFERROR(VLOOKUP($B53-1,CDM!$L$7:$T$18,5,FALSE)/12,0)+IFERROR(VLOOKUP($B53,CDM!$L$37:$T$47,5,FALSE)/24,0)+IFERROR(VLOOKUP($B53,CDM!$L$37:$T$47,5,FALSE)/2*$C53/78,0) -> 94880.524 | S53: =R53+Q53 -> 1370379.1 | T53: 1333.8 | U53: 6 | V53: 7385954.2 | W53: =IFERROR(VLOOKUP($B53-1,CDM!$L$7:$T$18,6,FALSE)/12,0)+IFERROR(VLOOKUP($B53,CDM!$L$37:$T$47,6,FALSE)/24,0)+IFERROR(VLOOKUP($B53,CDM!$L$37:$T$47,6,FALSE)/2*$C53/78,0) -> 765596.02 | X53: =W53+V53 -> 8151550.2 | Y53: 14044.03 | Z53: 1 | AA53: 1271724 | AB53: 3961.76 | AC53: 38097 | AD53: 446937.37 | AE53: 1544 | AF53: 44297.32 | AG53: 119.14 | AH53: 511 | AI53: 16400 | AJ53: =Economic!H67 -> 818746.1 | AK53: =Economic!I67 -> 92448.9 | AL53: =Economic!J67 -> 35353 | AM53: =Economic!K67 -> 84915.6 | AN53: =Economic!L67 -> 64969.2 | AO53: =Economic!M67 -> 803585 | AP53: =Economic!N67 -> 90340 | AQ53: =Economic!O67 -> 13895 | ... AS53: =Economic!Q67 -> 82903 | AT53: =Economic!D67 -> 7276.1 | AU53: =Economic!E67 -> 7213.2 | AV53: =Economic!F67 -> 279.6 | AW53: =Economic!G67 -> 277.2 | AX53: =Economic!W67 -> 97874 | AY53: =Economic!R67 -> 314.5 | AZ53: =Economic!W67 -> 97874 | BA53: =Economic!X67 -> 17385 | BB53: =Economic!Y67 -> 5849 | BC53: =Weather!C65 -> 7.7619444 | BD53: =Weather!D65 -> 367.14167 | BE53: =Weather!E65 -> 0 | BF53: =Weather!F65 -> 307.14167 | BG53: =Weather!G65 -> 0 | BH53: =Weather!H65 -> 248.475 | BI53: =Weather!I65 -> 1.3333333 | BJ53: =Weather!J65 -> 195.19167 | ... BQ53: =Weather!Q65 -> 62.483333 | BR53: 0 | BS53: 0 | BT53: 0 | BU53: 1 | BV53: 0 | BW53: 0 | BX53: 0 | BY53: 0 | BZ53: 0 | CA53: 0 | CB53: 0 | CC53: 0 | CD53: =CD41 -> 1 | CE53: =CE41 -> 1 | CF53: =CF41 -> 0 | CG53: =CG41 -> 0 | CH53: =CH41 -> 1 | CI53: =CI41 -> 1 | CJ53: =CE53+CF53 -> 1 | CK53: =CK41 -> 0 | CL53: =CL41 -> 0 | CM53: =1+CM52 -> 52 | CN53: =CN52+1 -> 4 | CO53: 0 | CP53: 0 | CQ53: 0 | CR53: 0 | CS53: =CS5 -> 30 | CT53: 21 | CU53: 1 | CV53: 0.5 | CW53: 0.25 | CX53: 0.75 | CY53: 0 | CZ53: =$CV53*BD53 -> 183.57083 | DA53: =$CV53*BE53 -> 0 | DB53: =$CV53*BF53 -> 153.57083 | DC53: =$CV53*BG53 -> 0 | DD53: =$CV53*BH53 -> 124.2375 | DE53: =$CV53*BI53 -> 0.66666667 | DF53: =$CV53*BJ53 -> 97.595833 | DG53: =$CV53*BK53 -> 4.025 | ... DM53: =$CV53*BQ53 -> 31.241667 | DN53: =$CX53*BD53 -> 275.35625 | DO53: =$CX53*BE53 -> 0 | DP53: =$CX53*BF53 -> 230.35625 | DQ53: =$CX53*BG53 -> 0 | DR53: =$CX53*BH53 -> 186.35625 | DS53: =$CX53*BI53 -> 1 | DT53: =$CX53*BJ53 -> 146.39375 | DU53: =$CX53*BK53 -> 6.0375 | ... EA53: =$CX53*BQ53 -> 46.8625 | EB53: =F53/G53 -> 559.74177 | EC53: =EB53/CS53 -> 18.658059 | ED53: =F53/CS53 -> 2766038.6 | EE53: =J53/K53 -> 2197.0809 | EF53: =EE53/CS53 -> 73.236029 | EG53: =J53/CS53 -> 950896.6 | EH53: =N53/P53 -> 72082.845 | EI53: =EH53/CS53 -> 2402.7615 | EJ53: =EH53/CT29 -> 3432.5164 | EK53: =N53/CS53 -> 3654600.3 | EL53: =N53/CT29 -> 5220857.5
A54: 44317 | B54: =YEAR(A54) -> 2021 | C54: =MONTH(A54) -> 5 | D54: 89169595 | E54: =IFERROR(VLOOKUP($B54-1,CDM!$L$7:$T$18,2,FALSE)/12,0)+IFERROR(VLOOKUP($B54,CDM!$L$37:$O$47,2,FALSE)/24,0)+IFERROR(VLOOKUP($B54,CDM!$L$37:$O$47,2,FALSE)/2*$C54/78,0) -> 2170481.4 | F54: =D54+E54 -> 91340077 | G54: 148347 | H54: 28558016 | I54: =IFERROR(VLOOKUP($B54-1,CDM!$L$7:$T$18,3,FALSE)/12,0)+IFERROR(VLOOKUP($B54,CDM!$L$37:$O$47,3,FALSE)/24,0)+IFERROR(VLOOKUP($B54,CDM!$L$37:$O$47,3,FALSE)/2*$C54/78,0) -> 902257.37 | J54: =H54+I54 -> 29460274 | K54: 12989 | L54: 1.0926803e+08 | M54: =IFERROR(VLOOKUP($B54-1,CDM!$L$7:$T$18,4,FALSE)/12,0)+IFERROR(VLOOKUP($B54,CDM!$L$37:$O$47,4,FALSE)/24,0)+IFERROR(VLOOKUP($B54,CDM!$L$37:$O$47,4,FALSE)/2*$C54/78,0) -> 5972561.7 | N54: =L54+M54 -> 1.1524059e+08 | O54: 290633.75 | P54: 1522 | Q54: 1740226 | R54: =IFERROR(VLOOKUP($B54-1,CDM!$L$7:$T$18,5,FALSE)/12,0)+IFERROR(VLOOKUP($B54,CDM!$L$37:$T$47,5,FALSE)/24,0)+IFERROR(VLOOKUP($B54,CDM!$L$37:$T$47,5,FALSE)/2*$C54/78,0) -> 94880.524 | S54: =R54+Q54 -> 1835106.5 | T54: 3756.88 | U54: 6 | V54: 8278497.6 | W54: =IFERROR(VLOOKUP($B54-1,CDM!$L$7:$T$18,6,FALSE)/12,0)+IFERROR(VLOOKUP($B54,CDM!$L$37:$T$47,6,FALSE)/24,0)+IFERROR(VLOOKUP($B54,CDM!$L$37:$T$47,6,FALSE)/2*$C54/78,0) -> 807453.64 | X54: =W54+V54 -> 9085951.2 | Y54: 16827.22 | Z54: 1 | AA54: 1131121.2 | AB54: 3961.76 | AC54: 38097 | AD54: 461383.94 | AE54: 1544 | AF54: 44683.21 | AG54: 119.44 | AH54: 511 | AI54: 16400 | AJ54: =Economic!H68 -> 818746.1 | AK54: =Economic!I68 -> 92448.9 | AL54: =Economic!J68 -> 35353 | AM54: =Economic!K68 -> 84915.6 | AN54: =Economic!L68 -> 64969.2 | AO54: =Economic!M68 -> 803585 | AP54: =Economic!N68 -> 90340 | AQ54: =Economic!O68 -> 13895 | ... AS54: =Economic!Q68 -> 82903 | AT54: =Economic!D68 -> 7265.7 | AU54: =Economic!E68 -> 7247.3 | AV54: =Economic!F68 -> 280.2 | AW54: =Economic!G68 -> 278.4 | AX54: =Economic!W68 -> 97874 | AY54: =Economic!R68 -> 693.1 | AZ54: =Economic!W68 -> 97874 | BA54: =Economic!X68 -> 17385 | BB54: =Economic!Y68 -> 5849 | BC54: =Weather!C66 -> 13.140524 | BD54: =Weather!D66 -> 224.60833 | BE54: =Weather!E66 -> 11.964583 | BF54: =Weather!F66 -> 176.10417 | BG54: =Weather!G66 -> 25.460417 | BH54: =Weather!H66 -> 133.16667 | BI54: =Weather!I66 -> 44.522917 | BJ54: =Weather!J66 -> 93.4375 | ... BQ54: =Weather!Q66 -> 173.97292 | BR54: 0 | BS54: 0 | BT54: 0 | BU54: 0 | BV54: 1 | BW54: 0 | BX54: 0 | BY54: 0 | BZ54: 0 | CA54: 0 | CB54: 0 | CC54: 0 | CD54: =CD42 -> 1 | CE54: =CE42 -> 0 | CF54: =CF42 -> 0 | CG54: =CG42 -> 0 | CH54: =CH42 -> 1 | CI54: =CI42 -> 0 | CJ54: =CE54+CF54 -> 0 | CK54: =CK42 -> 1 | CL54: =CL42 -> 0 | CM54: =1+CM53 -> 53 | CN54: =CN53+1 -> 5 | CO54: 0 | CP54: 0 | CQ54: 0 | CR54: 0 | CS54: =CS6 -> 31 | CT54: 20 | CU54: 1 | CV54: 0.5 | CW54: 0.25 | CX54: 0.75 | CY54: 0 | CZ54: =$CV54*BD54 -> 112.30417 | DA54: =$CV54*BE54 -> 5.9822917 | DB54: =$CV54*BF54 -> 88.052083 | DC54: =$CV54*BG54 -> 12.730208 | DD54: =$CV54*BH54 -> 66.583333 | DE54: =$CV54*BI54 -> 22.261458 | DF54: =$CV54*BJ54 -> 46.71875 | DG54: =$CV54*BK54 -> 33.396875 | ... DM54: =$CV54*BQ54 -> 86.986458 | DN54: =$CX54*BD54 -> 168.45625 | DO54: =$CX54*BE54 -> 8.9734375 | DP54: =$CX54*BF54 -> 132.07812 | DQ54: =$CX54*BG54 -> 19.095312 | DR54: =$CX54*BH54 -> 99.875 | DS54: =$CX54*BI54 -> 33.392187 | DT54: =$CX54*BJ54 -> 70.078125 | DU54: =$CX54*BK54 -> 50.095312 | ... EA54: =$CX54*BQ54 -> 130.47969 | EB54: =F54/G54 -> 615.71907 | EC54: =EB54/CS54 -> 19.861905 | ED54: =F54/CS54 -> 2946454.1 | EE54: =J54/K54 -> 2268.094 | EF54: =EE54/CS54 -> 73.164324 | EG54: =J54/CS54 -> 950331.4 | EH54: =N54/P54 -> 75716.55 | EI54: =EH54/CS54 -> 2442.4693 | EJ54: =EH54/CT30 -> 3785.8275 | EK54: =N54/CS54 -> 3717438.3 | EL54: =N54/CT30 -> 5762029.4
A55: 44348 | B55: =YEAR(A55) -> 2021 | C55: =MONTH(A55) -> 6 | D55: 1.1318997e+08 | E55: =IFERROR(VLOOKUP($B55-1,CDM!$L$7:$T$18,2,FALSE)/12,0)+IFERROR(VLOOKUP($B55,CDM!$L$37:$O$47,2,FALSE)/24,0)+IFERROR(VLOOKUP($B55,CDM!$L$37:$O$47,2,FALSE)/2*$C55/78,0) -> 2171543.1 | F55: =D55+E55 -> 1.1536152e+08 | G55: 148573 | H55: 32834051 | I55: =IFERROR(VLOOKUP($B55-1,CDM!$L$7:$T$18,3,FALSE)/12,0)+IFERROR(VLOOKUP($B55,CDM!$L$37:$O$47,3,FALSE)/24,0)+IFERROR(VLOOKUP($B55,CDM!$L$37:$O$47,3,FALSE)/2*$C55/78,0) -> 907530.48 | J55: =H55+I55 -> 33741581 | K55: 12984 | L55: 1.2253873e+08 | M55: =IFERROR(VLOOKUP($B55-1,CDM!$L$7:$T$18,4,FALSE)/12,0)+IFERROR(VLOOKUP($B55,CDM!$L$37:$O$47,4,FALSE)/24,0)+IFERROR(VLOOKUP($B55,CDM!$L$37:$O$47,4,FALSE)/2*$C55/78,0) -> 6020182.7 | N55: =L55+M55 -> 1.2855891e+08 | O55: 316641.86 | P55: 1525 | Q55: 3847589.2 | R55: =IFERROR(VLOOKUP($B55-1,CDM!$L$7:$T$18,5,FALSE)/12,0)+IFERROR(VLOOKUP($B55,CDM!$L$37:$T$47,5,FALSE)/24,0)+IFERROR(VLOOKUP($B55,CDM!$L$37:$T$47,5,FALSE)/2*$C55/78,0) -> 94880.524 | S55: =R55+Q55 -> 3942469.7 | T55: 7643.18 | U55: 6 | V55: 10094682 | W55: =IFERROR(VLOOKUP($B55-1,CDM!$L$7:$T$18,6,FALSE)/12,0)+IFERROR(VLOOKUP($B55,CDM!$L$37:$T$47,6,FALSE)/24,0)+IFERROR(VLOOKUP($B55,CDM!$L$37:$T$47,6,FALSE)/2*$C55/78,0) -> 849311.26 | X55: =W55+V55 -> 10943993 | Y55: 19860.97 | Z55: 1 | AA55: 1028358.2 | AB55: 3931.03 | AC55: 38741 | AD55: 446836.72 | AE55: 1544 | AF55: 43325.98 | AG55: 119.37 | AH55: 510 | AI55: 16400 | AJ55: =Economic!H69 -> 818746.1 | AK55: =Economic!I69 -> 92448.9 | AL55: =Economic!J69 -> 35353 | AM55: =Economic!K69 -> 84915.6 | AN55: =Economic!L69 -> 64969.2 | AO55: =Economic!M69 -> 803585 | AP55: =Economic!N69 -> 90340 | AQ55: =Economic!O69 -> 13895 | ... AS55: =Economic!Q69 -> 82903 | AT55: =Economic!D69 -> 7250 | AU55: =Economic!E69 -> 7295.8 | AV55: =Economic!F69 -> 280.1 | AW55: =Economic!G69 -> 282.3 | AX55: =Economic!W69 -> 97874 | AY55: =Economic!R69 -> 772.6 | AZ55: =Economic!W69 -> 97874 | BA55: =Economic!X69 -> 17385 | BB55: =Economic!Y69 -> 5849 | BC55: =Weather!C67 -> 20.590972 | BD55: =Weather!D67 -> 34.541667 | BE55: =Weather!E67 -> 52.270833 | BF55: =Weather!F67 -> 15.866667 | BG55: =Weather!G67 -> 93.595833 | BH55: =Weather!H67 -> 4.7791667 | BI55: =Weather!I67 -> 142.50833 | BJ55: =Weather!J67 -> 1.1083333 | ... BQ55: =Weather!Q67 -> 377.72917 | BR55: 0 | BS55: 0 | BT55: 0 | BU55: 0 | BV55: 0 | BW55: 1 | BX55: 0 | BY55: 0 | BZ55: 0 | CA55: 0 | CB55: 0 | CC55: 0 | CD55: =CD43 -> 0 | CE55: =CE43 -> 0 | CF55: =CF43 -> 0 | CG55: =CG43 -> 0 | CH55: =CH43 -> 0 | CI55: =CI43 -> 0 | CJ55: =CE55+CF55 -> 0 | CK55: =CK43 -> 1 | CL55: =CL43 -> 0 | CM55: =1+CM54 -> 54 | CN55: =CN54+1 -> 6 | CO55: 0 | CP55: 0 | CQ55: 0 | CR55: 0 | CS55: =CS7 -> 30 | CT55: 22 | CU55: 1 | CV55: 0.5 | CW55: 0.25 | CX55: 0.75 | CY55: 0 | CZ55: =$CV55*BD55 -> 17.270833 | DA55: =$CV55*BE55 -> 26.135417 | DB55: =$CV55*BF55 -> 7.9333333 | DC55: =$CV55*BG55 -> 46.797917 | DD55: =$CV55*BH55 -> 2.3895833 | DE55: =$CV55*BI55 -> 71.254167 | DF55: =$CV55*BJ55 -> 0.55416667 | DG55: =$CV55*BK55 -> 99.41875 | ... DM55: =$CV55*BQ55 -> 188.86458 | DN55: =$CX55*BD55 -> 25.90625 | DO55: =$CX55*BE55 -> 39.203125 | DP55: =$CX55*BF55 -> 11.9 | DQ55: =$CX55*BG55 -> 70.196875 | DR55: =$CX55*BH55 -> 3.584375 | DS55: =$CX55*BI55 -> 106.88125 | DT55: =$CX55*BJ55 -> 0.83125 | DU55: =$CX55*BK55 -> 149.12813 | ... EA55: =$CX55*BQ55 -> 283.29688 | EB55: =F55/G55 -> 776.46353 | EC55: =EB55/CS55 -> 25.882118 | ED55: =F55/CS55 -> 3845383.9 | EE55: =J55/K55 -> 2598.7047 | EF55: =EE55/CS55 -> 86.623488 | EG55: =J55/CS55 -> 1124719.4 | EH55: =N55/P55 -> 84300.927 | EI55: =EH55/CS55 -> 2810.0309 | EJ55: =EH55/CT31 -> 3831.8603 | EK55: =N55/CS55 -> 4285297.1 | EL55: =N55/CT31 -> 5843587
A56: 44378 | B56: =YEAR(A56) -> 2021 | C56: =MONTH(A56) -> 7 | D56: 1.173561e+08 | E56: =IFERROR(VLOOKUP($B56-1,CDM!$L$7:$T$18,2,FALSE)/12,0)+IFERROR(VLOOKUP($B56,CDM!$L$37:$O$47,2,FALSE)/24,0)+IFERROR(VLOOKUP($B56,CDM!$L$37:$O$47,2,FALSE)/2*$C56/78,0) -> 2172604.8 | F56: =D56+E56 -> 1.195287e+08 | G56: 148627 | H56: 34908304 | I56: =IFERROR(VLOOKUP($B56-1,CDM!$L$7:$T$18,3,FALSE)/12,0)+IFERROR(VLOOKUP($B56,CDM!$L$37:$O$47,3,FALSE)/24,0)+IFERROR(VLOOKUP($B56,CDM!$L$37:$O$47,3,FALSE)/2*$C56/78,0) -> 912803.59 | J56: =H56+I56 -> 35821108 | K56: 12974 | L56: 1.2664296e+08 | M56: =IFERROR(VLOOKUP($B56-1,CDM!$L$7:$T$18,4,FALSE)/12,0)+IFERROR(VLOOKUP($B56,CDM!$L$37:$O$47,4,FALSE)/24,0)+IFERROR(VLOOKUP($B56,CDM!$L$37:$O$47,4,FALSE)/2*$C56/78,0) -> 6067803.7 | N56: =L56+M56 -> 1.3271076e+08 | O56: 318701.44 | P56: 1523 | Q56: 3314098.8 | R56: =IFERROR(VLOOKUP($B56-1,CDM!$L$7:$T$18,5,FALSE)/12,0)+IFERROR(VLOOKUP($B56,CDM!$L$37:$T$47,5,FALSE)/24,0)+IFERROR(VLOOKUP($B56,CDM!$L$37:$T$47,5,FALSE)/2*$C56/78,0) -> 94880.524 | S56: =R56+Q56 -> 3408979.3 | T56: 8882.53 | U56: 8 | V56: 10477584 | W56: =IFERROR(VLOOKUP($B56-1,CDM!$L$7:$T$18,6,FALSE)/12,0)+IFERROR(VLOOKUP($B56,CDM!$L$37:$T$47,6,FALSE)/24,0)+IFERROR(VLOOKUP($B56,CDM!$L$37:$T$47,6,FALSE)/2*$C56/78,0) -> 891168.87 | X56: =W56+V56 -> 11368753 | Y56: 19618.35 | Z56: 1 | AA56: 1091919.8 | AB56: 3931.16 | AC56: 38742 | AD56: 461478.54 | AE56: 1544 | AF56: 46088.99 | AG56: 119.35 | AH56: 509 | AI56: 16400 | AJ56: =Economic!H70 -> 818746.1 | AK56: =Economic!I70 -> 92448.9 | AL56: =Economic!J70 -> 35353 | AM56: =Economic!K70 -> 84915.6 | AN56: =Economic!L70 -> 64969.2 | AO56: =Economic!M70 -> 821006 | AP56: =Economic!N70 -> 91760 | AQ56: =Economic!O70 -> 14469 | ... AS56: =Economic!Q70 -> 85815 | AT56: =Economic!D70 -> 7317 | AU56: =Economic!E70 -> 7392.6 | AV56: =Economic!F70 -> 281.2 | AW56: =Economic!G70 -> 284.7 | AX56: =Economic!W70 -> 42712 | AY56: =Economic!R70 -> 650.6 | AZ56: =Economic!W70 -> 42712 | BA56: =Economic!X70 -> 1998 | BB56: =Economic!Y70 -> 7318 | BC56: =Weather!C68 -> 20.239583 | BD56: =Weather!D68 -> 27.74375 | BE56: =Weather!E68 -> 35.170833 | BF56: =Weather!F68 -> 6.0229167 | BG56: =Weather!G68 -> 75.45 | BH56: =Weather!H68 -> 0 | BI56: =Weather!I68 -> 131.42708 | BJ56: =Weather!J68 -> 0 | ... BQ56: =Weather!Q68 -> 379.42708 | BR56: 0 | BS56: 0 | BT56: 0 | BU56: 0 | BV56: 0 | BW56: 0 | BX56: 1 | BY56: 0 | BZ56: 0 | CA56: 0 | CB56: 0 | CC56: 0 | CD56: =CD44 -> 0 | CE56: =CE44 -> 0 | CF56: =CF44 -> 0 | CG56: =CG44 -> 0 | CH56: =CH44 -> 0 | CI56: =CI44 -> 0 | CJ56: =CE56+CF56 -> 0 | CK56: =CK44 -> 1 | CL56: =CL44 -> 1 | CM56: =1+CM55 -> 55 | CN56: =CN55+1 -> 7 | CO56: 0 | CP56: 0 | CQ56: 0 | CR56: 0 | CS56: =CS8 -> 31 | CT56: 21 | CU56: 1 | CV56: 0.5 | CW56: 0.25 | CX56: 0.75 | CY56: 0 | CZ56: =$CV56*BD56 -> 13.871875 | DA56: =$CV56*BE56 -> 17.585417 | DB56: =$CV56*BF56 -> 3.0114583 | DC56: =$CV56*BG56 -> 37.725 | DD56: =$CV56*BH56 -> 0 | DE56: =$CV56*BI56 -> 65.713542 | DF56: =$CV56*BJ56 -> 0 | DG56: =$CV56*BK56 -> 96.713542 | ... DM56: =$CV56*BQ56 -> 189.71354 | DN56: =$CX56*BD56 -> 20.807813 | DO56: =$CX56*BE56 -> 26.378125 | DP56: =$CX56*BF56 -> 4.5171875 | DQ56: =$CX56*BG56 -> 56.5875 | DR56: =$CX56*BH56 -> 0 | DS56: =$CX56*BI56 -> 98.570312 | DT56: =$CX56*BJ56 -> 0 | DU56: =$CX56*BK56 -> 145.07031 | ... EA56: =$CX56*BQ56 -> 284.57031 | EB56: =F56/G56 -> 804.2193 | EC56: =EB56/CS56 -> 25.942558 | ED56: =F56/CS56 -> 3855764.6 | EE56: =J56/K56 -> 2760.9918 | EF56: =EE56/CS56 -> 89.064252 | EG56: =J56/CS56 -> 1155519.6 | EH56: =N56/P56 -> 87137.728 | EI56: =EH56/CS56 -> 2810.8945 | EJ56: =EH56/CT32 -> 3960.8058 | EK56: =N56/CS56 -> 4280992.3 | EL56: =N56/CT32 -> 6032307.3
A57: 44409 | B57: =YEAR(A57) -> 2021 | C57: =MONTH(A57) -> 8 | D57: 1.3002588e+08 | E57: =IFERROR(VLOOKUP($B57-1,CDM!$L$7:$T$18,2,FALSE)/12,0)+IFERROR(VLOOKUP($B57,CDM!$L$37:$O$47,2,FALSE)/24,0)+IFERROR(VLOOKUP($B57,CDM!$L$37:$O$47,2,FALSE)/2*$C57/78,0) -> 2173666.6 | F57: =D57+E57 -> 1.3219954e+08 | G57: 148813 | H57: 37438471 | I57: =IFERROR(VLOOKUP($B57-1,CDM!$L$7:$T$18,3,FALSE)/12,0)+IFERROR(VLOOKUP($B57,CDM!$L$37:$O$47,3,FALSE)/24,0)+IFERROR(VLOOKUP($B57,CDM!$L$37:$O$47,3,FALSE)/2*$C57/78,0) -> 918076.71 | J57: =H57+I57 -> 38356548 | K57: 12969 | L57: 1.3483985e+08 | M57: =IFERROR(VLOOKUP($B57-1,CDM!$L$7:$T$18,4,FALSE)/12,0)+IFERROR(VLOOKUP($B57,CDM!$L$37:$O$47,4,FALSE)/24,0)+IFERROR(VLOOKUP($B57,CDM!$L$37:$O$47,4,FALSE)/2*$C57/78,0) -> 6115424.7 | N57: =L57+M57 -> 1.4095527e+08 | O57: 327254.74 | P57: 1519 | Q57: 4332116.3 | R57: =IFERROR(VLOOKUP($B57-1,CDM!$L$7:$T$18,5,FALSE)/12,0)+IFERROR(VLOOKUP($B57,CDM!$L$37:$T$47,5,FALSE)/24,0)+IFERROR(VLOOKUP($B57,CDM!$L$37:$T$47,5,FALSE)/2*$C57/78,0) -> 94880.524 | S57: =R57+Q57 -> 4426996.8 | T57: 5661.17 | U57: 8 | V57: 11603855 | W57: =IFERROR(VLOOKUP($B57-1,CDM!$L$7:$T$18,6,FALSE)/12,0)+IFERROR(VLOOKUP($B57,CDM!$L$37:$T$47,6,FALSE)/24,0)+IFERROR(VLOOKUP($B57,CDM!$L$37:$T$47,6,FALSE)/2*$C57/78,0) -> 933026.49 | X57: =W57+V57 -> 12536882 | Y57: 20663.32 | Z57: 1 | AA57: 1213718.9 | AB57: 3930.95 | AC57: 38746 | AD57: 461363.68 | AE57: 1544 | AF57: 43541.23 | AG57: 119.43 | AH57: 509 | AI57: 16400 | AJ57: =Economic!H71 -> 818746.1 | AK57: =Economic!I71 -> 92448.9 | AL57: =Economic!J71 -> 35353 | AM57: =Economic!K71 -> 84915.6 | AN57: =Economic!L71 -> 64969.2 | AO57: =Economic!M71 -> 821006 | AP57: =Economic!N71 -> 91760 | AQ57: =Economic!O71 -> 14469 | ... AS57: =Economic!Q71 -> 85815 | AT57: =Economic!D71 -> 7405.9 | AU57: =Economic!E71 -> 7474.7 | AV57: =Economic!F71 -> 283.8 | AW57: =Economic!G71 -> 288 | AX57: =Economic!W71 -> 42712 | AY57: =Economic!R71 -> 501.6 | AZ57: =Economic!W71 -> 42712 | BA57: =Economic!X71 -> 1998 | BB57: =Economic!Y71 -> 7318 | BC57: =Weather!C69 -> 21.554772 | BD57: =Weather!D69 -> 14.214583 | BE57: =Weather!E69 -> 62.4125 | BF57: =Weather!F69 -> 2.76875 | BG57: =Weather!G69 -> 112.96667 | BH57: =Weather!H69 -> 0 | BI57: =Weather!I69 -> 172.19792 | BJ57: =Weather!J69 -> 0 | ... BQ57: =Weather!Q69 -> 420.19792 | BR57: 0 | BS57: 0 | BT57: 0 | BU57: 0 | BV57: 0 | BW57: 0 | BX57: 0 | BY57: 1 | BZ57: 0 | CA57: 0 | CB57: 0 | CC57: 0 | CD57: =CD45 -> 0 | CE57: =CE45 -> 0 | CF57: =CF45 -> 0 | CG57: =CG45 -> 0 | CH57: =CH45 -> 0 | CI57: =CI45 -> 0 | CJ57: =CE57+CF57 -> 0 | CK57: =CK45 -> 1 | CL57: =CL45 -> 1 | CM57: =1+CM56 -> 56 | CN57: =CN56+1 -> 8 | CO57: 0 | CP57: 0 | CQ57: 0 | CR57: 0 | CS57: =CS9 -> 31 | CT57: 20 | CU57: 1 | CV57: 0.5 | CW57: 0.25 | CX57: 0.75 | CY57: 0 | CZ57: =$CV57*BD57 -> 7.1072917 | DA57: =$CV57*BE57 -> 31.20625 | DB57: =$CV57*BF57 -> 1.384375 | DC57: =$CV57*BG57 -> 56.483333 | DD57: =$CV57*BH57 -> 0 | DE57: =$CV57*BI57 -> 86.098958 | DF57: =$CV57*BJ57 -> 0 | DG57: =$CV57*BK57 -> 117.09896 | ... DM57: =$CV57*BQ57 -> 210.09896 | DN57: =$CX57*BD57 -> 10.660938 | DO57: =$CX57*BE57 -> 46.809375 | DP57: =$CX57*BF57 -> 2.0765625 | DQ57: =$CX57*BG57 -> 84.725 | DR57: =$CX57*BH57 -> 0 | DS57: =$CX57*BI57 -> 129.14844 | DT57: =$CX57*BJ57 -> 0 | DU57: =$CX57*BK57 -> 175.64844 | ... EA57: =$CX57*BQ57 -> 315.14844 | EB57: =F57/G57 -> 888.36017 | EC57: =EB57/CS57 -> 28.65678 | ED57: =F57/CS57 -> 4264501.4 | EE57: =J57/K57 -> 2957.5563 | EF57: =EE57/CS57 -> 95.405043 | EG57: =J57/CS57 -> 1237308 | EH57: =N57/P57 -> 92794.78 | EI57: =EH57/CS57 -> 2993.38 | EJ57: =EH57/CT33 -> 4639.739 | EK57: =N57/CS57 -> 4546944.2 | EL57: =N57/CT33 -> 7047763.5
A58: 44440 | B58: =YEAR(A58) -> 2021 | C58: =MONTH(A58) -> 9 | D58: 90483780 | E58: =IFERROR(VLOOKUP($B58-1,CDM!$L$7:$T$18,2,FALSE)/12,0)+IFERROR(VLOOKUP($B58,CDM!$L$37:$O$47,2,FALSE)/24,0)+IFERROR(VLOOKUP($B58,CDM!$L$37:$O$47,2,FALSE)/2*$C58/78,0) -> 2174728.3 | F58: =D58+E58 -> 92658509 | G58: 148932 | H58: 30892200 | I58: =IFERROR(VLOOKUP($B58-1,CDM!$L$7:$T$18,3,FALSE)/12,0)+IFERROR(VLOOKUP($B58,CDM!$L$37:$O$47,3,FALSE)/24,0)+IFERROR(VLOOKUP($B58,CDM!$L$37:$O$47,3,FALSE)/2*$C58/78,0) -> 923349.82 | J58: =H58+I58 -> 31815550 | K58: 12995 | L58: 1.162531e+08 | M58: =IFERROR(VLOOKUP($B58-1,CDM!$L$7:$T$18,4,FALSE)/12,0)+IFERROR(VLOOKUP($B58,CDM!$L$37:$O$47,4,FALSE)/24,0)+IFERROR(VLOOKUP($B58,CDM!$L$37:$O$47,4,FALSE)/2*$C58/78,0) -> 6163045.7 | N58: =L58+M58 -> 1.2241615e+08 | O58: 311104.08 | P58: 1525 | Q58: 2631646.1 | R58: =IFERROR(VLOOKUP($B58-1,CDM!$L$7:$T$18,5,FALSE)/12,0)+IFERROR(VLOOKUP($B58,CDM!$L$37:$T$47,5,FALSE)/24,0)+IFERROR(VLOOKUP($B58,CDM!$L$37:$T$47,5,FALSE)/2*$C58/78,0) -> 94880.524 | S58: =R58+Q58 -> 2726526.7 | T58: 3070.26 | U58: 8 | V58: 9774696.5 | W58: =IFERROR(VLOOKUP($B58-1,CDM!$L$7:$T$18,6,FALSE)/12,0)+IFERROR(VLOOKUP($B58,CDM!$L$37:$T$47,6,FALSE)/24,0)+IFERROR(VLOOKUP($B58,CDM!$L$37:$T$47,6,FALSE)/2*$C58/78,0) -> 974884.11 | X58: =W58+V58 -> 10749581 | Y58: 20998.67 | Z58: 1 | AA58: 1350684.9 | AB58: 3935.56 | AC58: 38817 | AD58: 447030.77 | AE58: 1542 | AF58: 43542.02 | AG58: 119.37 | AH58: 509 | AI58: 16400 | AJ58: =Economic!H72 -> 818746.1 | AK58: =Economic!I72 -> 92448.9 | AL58: =Economic!J72 -> 35353 | AM58: =Economic!K72 -> 84915.6 | AN58: =Economic!L72 -> 64969.2 | AO58: =Economic!M72 -> 821006 | AP58: =Economic!N72 -> 91760 | AQ58: =Economic!O72 -> 14469 | ... AS58: =Economic!Q72 -> 85815 | AT58: =Economic!D72 -> 7482 | AU58: =Economic!E72 -> 7507 | AV58: =Economic!F72 -> 284.2 | AW58: =Economic!G72 -> 285.4 | AX58: =Economic!W72 -> 42712 | AY58: =Economic!R72 -> 416.8 | AZ58: =Economic!W72 -> 42712 | BA58: =Economic!X72 -> 1998 | BB58: =Economic!Y72 -> 7318 | BC58: =Weather!C70 -> 16.660417 | BD58: =Weather!D70 -> 102.525 | BE58: =Weather!E70 -> 2.3375 | BF58: =Weather!F70 -> 56.3875 | BG58: =Weather!G70 -> 16.2 | BH58: =Weather!H70 -> 25.479167 | BI58: =Weather!I70 -> 45.291667 | BJ58: =Weather!J70 -> 6.8625 | ... BQ58: =Weather!Q70 -> 259.8125 | BR58: 0 | BS58: 0 | BT58: 0 | BU58: 0 | BV58: 0 | BW58: 0 | BX58: 0 | BY58: 0 | BZ58: 1 | CA58: 0 | CB58: 0 | CC58: 0 | CD58: =CD46 -> 0 | CE58: =CE46 -> 0 | CF58: =CF46 -> 1 | CG58: =CG46 -> 1 | CH58: =CH46 -> 1 | CI58: =CI46 -> 1 | CJ58: =CE58+CF58 -> 1 | CK58: =CK46 -> 0 | CL58: =CL46 -> 0 | CM58: =1+CM57 -> 57 | CN58: =CN57+1 -> 9 | CO58: 0 | CP58: 0 | CQ58: 0 | CR58: 0 | CS58: =CS10 -> 30 | CT58: 20 | CU58: 1 | CV58: 0.5 | CW58: 0.25 | CX58: 0.75 | CY58: 0 | CZ58: =$CV58*BD58 -> 51.2625 | DA58: =$CV58*BE58 -> 1.16875 | DB58: =$CV58*BF58 -> 28.19375 | DC58: =$CV58*BG58 -> 8.1 | DD58: =$CV58*BH58 -> 12.739583 | DE58: =$CV58*BI58 -> 22.645833 | DF58: =$CV58*BJ58 -> 3.43125 | DG58: =$CV58*BK58 -> 43.3375 | ... DM58: =$CV58*BQ58 -> 129.90625 | DN58: =$CX58*BD58 -> 76.89375 | DO58: =$CX58*BE58 -> 1.753125 | DP58: =$CX58*BF58 -> 42.290625 | DQ58: =$CX58*BG58 -> 12.15 | DR58: =$CX58*BH58 -> 19.109375 | DS58: =$CX58*BI58 -> 33.96875 | DT58: =$CX58*BJ58 -> 5.146875 | DU58: =$CX58*BK58 -> 65.00625 | ... EA58: =$CX58*BQ58 -> 194.85938 | EB58: =F58/G58 -> 622.15312 | EC58: =EB58/CS58 -> 20.738437 | ED58: =F58/CS58 -> 3088617 | EE58: =J58/K58 -> 2448.2917 | EF58: =EE58/CS58 -> 81.609722 | EG58: =J58/CS58 -> 1060518.3 | EH58: =N58/P58 -> 80272.882 | EI58: =EH58/CS58 -> 2675.7627 | EJ58: =EH58/CT34 -> 3822.5182 | EK58: =N58/CS58 -> 4080538.2 | EL58: =N58/CT34 -> 5829340.3
A59: 44470 | B59: =YEAR(A59) -> 2021 | C59: =MONTH(A59) -> 10 | D59: 85264986 | E59: =IFERROR(VLOOKUP($B59-1,CDM!$L$7:$T$18,2,FALSE)/12,0)+IFERROR(VLOOKUP($B59,CDM!$L$37:$O$47,2,FALSE)/24,0)+IFERROR(VLOOKUP($B59,CDM!$L$37:$O$47,2,FALSE)/2*$C59/78,0) -> 2175790 | F59: =D59+E59 -> 87440776 | G59: 149070 | H59: 29989485 | I59: =IFERROR(VLOOKUP($B59-1,CDM!$L$7:$T$18,3,FALSE)/12,0)+IFERROR(VLOOKUP($B59,CDM!$L$37:$O$47,3,FALSE)/24,0)+IFERROR(VLOOKUP($B59,CDM!$L$37:$O$47,3,FALSE)/2*$C59/78,0) -> 928622.94 | J59: =H59+I59 -> 30918107 | K59: 13003 | L59: 1.1455449e+08 | M59: =IFERROR(VLOOKUP($B59-1,CDM!$L$7:$T$18,4,FALSE)/12,0)+IFERROR(VLOOKUP($B59,CDM!$L$37:$O$47,4,FALSE)/24,0)+IFERROR(VLOOKUP($B59,CDM!$L$37:$O$47,4,FALSE)/2*$C59/78,0) -> 6210666.6 | N59: =L59+M59 -> 1.2076516e+08 | O59: 293694.37 | P59: 1522 | Q59: 2518280 | R59: =IFERROR(VLOOKUP($B59-1,CDM!$L$7:$T$18,5,FALSE)/12,0)+IFERROR(VLOOKUP($B59,CDM!$L$37:$T$47,5,FALSE)/24,0)+IFERROR(VLOOKUP($B59,CDM!$L$37:$T$47,5,FALSE)/2*$C59/78,0) -> 94880.524 | S59: =R59+Q59 -> 2613160.5 | T59: 4389.82 | U59: 8 | V59: 9339386.6 | W59: =IFERROR(VLOOKUP($B59-1,CDM!$L$7:$T$18,6,FALSE)/12,0)+IFERROR(VLOOKUP($B59,CDM!$L$37:$T$47,6,FALSE)/24,0)+IFERROR(VLOOKUP($B59,CDM!$L$37:$T$47,6,FALSE)/2*$C59/78,0) -> 1016741.7 | X59: =W59+V59 -> 10356128 | Y59: 19303.98 | Z59: 1 | AA59: 1578481.4 | AB59: 3938.03 | AC59: 38855 | AD59: 461804.87 | AE59: 1543 | AF59: 45254.93 | AG59: 119.23 | AH59: 508 | AI59: 16400 | AJ59: =Economic!H73 -> 818746.1 | AK59: =Economic!I73 -> 92448.9 | AL59: =Economic!J73 -> 35353 | AM59: =Economic!K73 -> 84915.6 | AN59: =Economic!L73 -> 64969.2 | AO59: =Economic!M73 -> 840399 | AP59: =Economic!N73 -> 95623 | AQ59: =Economic!O73 -> 15201 | ... AS59: =Economic!Q73 -> 89292 | AT59: =Economic!D73 -> 7537.7 | AU59: =Economic!E73 -> 7547.1 | AV59: =Economic!F73 -> 286.7 | AW59: =Economic!G73 -> 286.6 | AX59: =Economic!W73 -> 43086 | AY59: =Economic!R73 -> 351.1 | AZ59: =Economic!W73 -> 43086 | BA59: =Economic!X73 -> 5037 | BB59: =Economic!Y73 -> 9580 | BC59: =Weather!C71 -> 13.037097 | BD59: =Weather!D71 -> 215.85 | BE59: =Weather!E71 -> 0 | BF59: =Weather!F71 -> 158.22083 | BG59: =Weather!G71 -> 4.3708333 | BH59: =Weather!H71 -> 114.46667 | BI59: =Weather!I71 -> 22.616667 | BJ59: =Weather!J71 -> 80.245833 | ... BQ59: =Weather!Q71 -> 166.5875 | BR59: 0 | BS59: 0 | BT59: 0 | BU59: 0 | BV59: 0 | BW59: 0 | BX59: 0 | BY59: 0 | BZ59: 0 | CA59: 1 | CB59: 0 | CC59: 0 | CD59: =CD47 -> 0 | CE59: =CE47 -> 0 | CF59: =CF47 -> 1 | CG59: =CG47 -> 1 | CH59: =CH47 -> 1 | CI59: =CI47 -> 1 | CJ59: =CE59+CF59 -> 1 | CK59: =CK47 -> 0 | CL59: =CL47 -> 0 | CM59: =1+CM58 -> 58 | CN59: =CN58+1 -> 10 | CO59: 0 | CP59: 0 | CQ59: 0 | CR59: 0 | CS59: =CS11 -> 31 | CT59: 20 | CU59: 1 | CV59: 0.5 | CW59: 0.25 | CX59: 0.75 | CY59: 0 | CZ59: =$CV59*BD59 -> 107.925 | DA59: =$CV59*BE59 -> 0 | DB59: =$CV59*BF59 -> 79.110417 | DC59: =$CV59*BG59 -> 2.1854167 | DD59: =$CV59*BH59 -> 57.233333 | DE59: =$CV59*BI59 -> 11.308333 | DF59: =$CV59*BJ59 -> 40.122917 | DG59: =$CV59*BK59 -> 25.197917 | ... DM59: =$CV59*BQ59 -> 83.29375 | DN59: =$CX59*BD59 -> 161.8875 | DO59: =$CX59*BE59 -> 0 | DP59: =$CX59*BF59 -> 118.66562 | DQ59: =$CX59*BG59 -> 3.278125 | DR59: =$CX59*BH59 -> 85.85 | DS59: =$CX59*BI59 -> 16.9625 | DT59: =$CX59*BJ59 -> 60.184375 | DU59: =$CX59*BK59 -> 37.796875 | ... EA59: =$CX59*BQ59 -> 124.94062 | EB59: =F59/G59 -> 586.57527 | EC59: =EB59/CS59 -> 18.921783 | ED59: =F59/CS59 -> 2820670.2 | EE59: =J59/K59 -> 2377.7672 | EF59: =EE59/CS59 -> 76.702169 | EG59: =J59/CS59 -> 997358.31 | EH59: =N59/P59 -> 79346.36 | EI59: =EH59/CS59 -> 2559.56 | EJ59: =EH59/CT35 -> 3778.3981 | EK59: =N59/CS59 -> 3895650.3 | EL59: =N59/CT35 -> 5750721.9
A60: 44501 | B60: =YEAR(A60) -> 2021 | C60: =MONTH(A60) -> 11 | D60: 87576549 | E60: =IFERROR(VLOOKUP($B60-1,CDM!$L$7:$T$18,2,FALSE)/12,0)+IFERROR(VLOOKUP($B60,CDM!$L$37:$O$47,2,FALSE)/24,0)+IFERROR(VLOOKUP($B60,CDM!$L$37:$O$47,2,FALSE)/2*$C60/78,0) -> 2176851.7 | F60: =D60+E60 -> 89753401 | G60: 149218 | H60: 30936022 | I60: =IFERROR(VLOOKUP($B60-1,CDM!$L$7:$T$18,3,FALSE)/12,0)+IFERROR(VLOOKUP($B60,CDM!$L$37:$O$47,3,FALSE)/24,0)+IFERROR(VLOOKUP($B60,CDM!$L$37:$O$47,3,FALSE)/2*$C60/78,0) -> 933896.05 | J60: =H60+I60 -> 31869918 | K60: 13025 | L60: 1.1239256e+08 | M60: =IFERROR(VLOOKUP($B60-1,CDM!$L$7:$T$18,4,FALSE)/12,0)+IFERROR(VLOOKUP($B60,CDM!$L$37:$O$47,4,FALSE)/24,0)+IFERROR(VLOOKUP($B60,CDM!$L$37:$O$47,4,FALSE)/2*$C60/78,0) -> 6258287.6 | N60: =L60+M60 -> 1.1865085e+08 | O60: 278577.36 | P60: 1530 | Q60: 2991494.5 | R60: =IFERROR(VLOOKUP($B60-1,CDM!$L$7:$T$18,5,FALSE)/12,0)+IFERROR(VLOOKUP($B60,CDM!$L$37:$T$47,5,FALSE)/24,0)+IFERROR(VLOOKUP($B60,CDM!$L$37:$T$47,5,FALSE)/2*$C60/78,0) -> 94880.524 | S60: =R60+Q60 -> 3086375 | T60: 5997.73 | U60: 8 | V60: 7996536.3 | W60: =IFERROR(VLOOKUP($B60-1,CDM!$L$7:$T$18,6,FALSE)/12,0)+IFERROR(VLOOKUP($B60,CDM!$L$37:$T$47,6,FALSE)/24,0)+IFERROR(VLOOKUP($B60,CDM!$L$37:$T$47,6,FALSE)/2*$C60/78,0) -> 1058599.3 | X60: =W60+V60 -> 9055135.6 | Y60: 13491.76 | Z60: 1 | AA60: 1675116.4 | AB60: 3943.31 | AC60: 38888 | AD60: 446953.53 | AE60: 1542 | AF60: 43020.68 | AG60: 119.27 | AH60: 508 | AI60: 16400 | AJ60: =Economic!H74 -> 818746.1 | AK60: =Economic!I74 -> 92448.9 | AL60: =Economic!J74 -> 35353 | AM60: =Economic!K74 -> 84915.6 | AN60: =Economic!L74 -> 64969.2 | AO60: =Economic!M74 -> 840399 | AP60: =Economic!N74 -> 95623 | AQ60: =Economic!O74 -> 15201 | ... AS60: =Economic!Q74 -> 89292 | AT60: =Economic!D74 -> 7604 | AU60: =Economic!E74 -> 7604.8 | AV60: =Economic!F74 -> 290.5 | AW60: =Economic!G74 -> 288.7 | AX60: =Economic!W74 -> 43086 | AY60: =Economic!R74 -> 332.2 | AZ60: =Economic!W74 -> 43086 | BA60: =Economic!X74 -> 5037 | BB60: =Economic!Y74 -> 9580 | BC60: =Weather!C72 -> 3.0640278 | BD60: =Weather!D72 -> 508.07917 | BE60: =Weather!E72 -> 0 | BF60: =Weather!F72 -> 448.07917 | BG60: =Weather!G72 -> 0 | BH60: =Weather!H72 -> 388.07917 | BI60: =Weather!I72 -> 0 | BJ60: =Weather!J72 -> 328.07917 | ... BQ60: =Weather!Q72 -> 5.3208333 | BR60: 0 | BS60: 0 | BT60: 0 | BU60: 0 | BV60: 0 | BW60: 0 | BX60: 0 | BY60: 0 | BZ60: 0 | CA60: 0 | CB60: 1 | CC60: 0 | CD60: =CD48 -> 0 | CE60: =CE48 -> 0 | CF60: =CF48 -> 1 | CG60: =CG48 -> 0 | CH60: =CH48 -> 1 | CI60: =CI48 -> 0 | CJ60: =CE60+CF60 -> 1 | CK60: =CK48 -> 0 | CL60: =CL48 -> 0 | CM60: =1+CM59 -> 59 | CN60: =CN59+1 -> 11 | CO60: 0 | CP60: 0 | CQ60: 0 | CR60: 0 | CS60: =CS12 -> 30 | CT60: 22 | CU60: 1 | CV60: 0.5 | CW60: 0.25 | CX60: 0.75 | CY60: 0 | CZ60: =$CV60*BD60 -> 254.03958 | DA60: =$CV60*BE60 -> 0 | DB60: =$CV60*BF60 -> 224.03958 | DC60: =$CV60*BG60 -> 0 | DD60: =$CV60*BH60 -> 194.03958 | DE60: =$CV60*BI60 -> 0 | DF60: =$CV60*BJ60 -> 164.03958 | DG60: =$CV60*BK60 -> 0 | ... DM60: =$CV60*BQ60 -> 2.6604167 | DN60: =$CX60*BD60 -> 381.05937 | DO60: =$CX60*BE60 -> 0 | DP60: =$CX60*BF60 -> 336.05937 | DQ60: =$CX60*BG60 -> 0 | DR60: =$CX60*BH60 -> 291.05937 | DS60: =$CX60*BI60 -> 0 | DT60: =$CX60*BJ60 -> 246.05937 | DU60: =$CX60*BK60 -> 0 | ... EA60: =$CX60*BQ60 -> 3.990625 | EB60: =F60/G60 -> 601.49178 | EC60: =EB60/CS60 -> 20.049726 | ED60: =F60/CS60 -> 2991780 | EE60: =J60/K60 -> 2446.8267 | EF60: =EE60/CS60 -> 81.56089 | EG60: =J60/CS60 -> 1062330.6 | EH60: =N60/P60 -> 77549.575 | EI60: =EH60/CS60 -> 2584.9858 | EJ60: =EH60/CT36 -> 3692.8369 | EK60: =N60/CS60 -> 3955028.3 | EL60: =N60/CT36 -> 5650040.5
A61: 44531 | B61: =YEAR(A61) -> 2021 | C61: =MONTH(A61) -> 12 | D61: 99748024 | E61: =IFERROR(VLOOKUP($B61-1,CDM!$L$7:$T$18,2,FALSE)/12,0)+IFERROR(VLOOKUP($B61,CDM!$L$37:$O$47,2,FALSE)/24,0)+IFERROR(VLOOKUP($B61,CDM!$L$37:$O$47,2,FALSE)/2*$C61/78,0) -> 2177913.4 | F61: =D61+E61 -> 1.0192594e+08 | G61: 149578 | H61: 32965519 | I61: =IFERROR(VLOOKUP($B61-1,CDM!$L$7:$T$18,3,FALSE)/12,0)+IFERROR(VLOOKUP($B61,CDM!$L$37:$O$47,3,FALSE)/24,0)+IFERROR(VLOOKUP($B61,CDM!$L$37:$O$47,3,FALSE)/2*$C61/78,0) -> 939169.17 | J61: =H61+I61 -> 33904688 | K61: 13031 | L61: 1.0981143e+08 | M61: =IFERROR(VLOOKUP($B61-1,CDM!$L$7:$T$18,4,FALSE)/12,0)+IFERROR(VLOOKUP($B61,CDM!$L$37:$O$47,4,FALSE)/24,0)+IFERROR(VLOOKUP($B61,CDM!$L$37:$O$47,4,FALSE)/2*$C61/78,0) -> 6305908.6 | N61: =L61+M61 -> 1.1611734e+08 | O61: 278477.45 | P61: 1520 | Q61: 2429034 | R61: =IFERROR(VLOOKUP($B61-1,CDM!$L$7:$T$18,5,FALSE)/12,0)+IFERROR(VLOOKUP($B61,CDM!$L$37:$T$47,5,FALSE)/24,0)+IFERROR(VLOOKUP($B61,CDM!$L$37:$T$47,5,FALSE)/2*$C61/78,0) -> 94880.524 | S61: =R61+Q61 -> 2523914.5 | T61: 6466.81 | U61: 8 | V61: 8003919.6 | W61: =IFERROR(VLOOKUP($B61-1,CDM!$L$7:$T$18,6,FALSE)/12,0)+IFERROR(VLOOKUP($B61,CDM!$L$37:$T$47,6,FALSE)/24,0)+IFERROR(VLOOKUP($B61,CDM!$L$37:$T$47,6,FALSE)/2*$C61/78,0) -> 1100457 | X61: =W61+V61 -> 9104376.6 | Y61: 13513.71 | Z61: 1 | AA61: 1823713.3 | AB61: 3945.64 | AC61: 38932 | AD61: 462000.91 | AE61: 1543 | AF61: 45249.79 | AG61: 119.07 | AH61: 508 | AI61: 16400 | AJ61: =Economic!H75 -> 818746.1 | AK61: =Economic!I75 -> 92448.9 | AL61: =Economic!J75 -> 35353 | AM61: =Economic!K75 -> 84915.6 | AN61: =Economic!L75 -> 64969.2 | AO61: =Economic!M75 -> 840399 | AP61: =Economic!N75 -> 95623 | AQ61: =Economic!O75 -> 15201 | ... AS61: =Economic!Q75 -> 89292 | AT61: =Economic!D75 -> 7658.5 | AU61: =Economic!E75 -> 7662.8 | AV61: =Economic!F75 -> 295.5 | AW61: =Economic!G75 -> 293.4 | AX61: =Economic!W75 -> 43086 | AY61: =Economic!R75 -> 368.7 | AZ61: =Economic!W75 -> 43086 | BA61: =Economic!X75 -> 5037 | BB61: =Economic!Y75 -> 9580 | BC61: =Weather!C73 -> 0.99448925 | BD61: =Weather!D73 -> 589.17083 | BE61: =Weather!E73 -> 0 | BF61: =Weather!F73 -> 527.17083 | BG61: =Weather!G73 -> 0 | BH61: =Weather!H73 -> 465.17083 | BI61: =Weather!I73 -> 0 | BJ61: =Weather!J73 -> 403.17083 | ... BQ61: =Weather!Q73 -> 3.3791667 | BR61: 0 | BS61: 0 | BT61: 0 | BU61: 0 | BV61: 0 | BW61: 0 | BX61: 0 | BY61: 0 | BZ61: 0 | CA61: 0 | CB61: 0 | CC61: 1 | CD61: =CD49 -> 0 | CE61: =CE49 -> 0 | CF61: =CF49 -> 0 | CG61: =CG49 -> 0 | CH61: =CH49 -> 0 | CI61: =CI49 -> 0 | CJ61: =CE61+CF61 -> 0 | CK61: =CK49 -> 0 | CL61: =CL49 -> 0 | CM61: =1+CM60 -> 60 | CN61: =CN60+1 -> 12 | CO61: 0 | CP61: 0 | CQ61: 0 | CR61: 0 | CS61: =CS13 -> 31 | CT61: 21 | CU61: 1 | CV61: 0.5 | CW61: 0.25 | CX61: 0.75 | CY61: 0 | CZ61: =$CV61*BD61 -> 294.58542 | DA61: =$CV61*BE61 -> 0 | DB61: =$CV61*BF61 -> 263.58542 | DC61: =$CV61*BG61 -> 0 | DD61: =$CV61*BH61 -> 232.58542 | DE61: =$CV61*BI61 -> 0 | DF61: =$CV61*BJ61 -> 201.58542 | DG61: =$CV61*BK61 -> 0 | ... DM61: =$CV61*BQ61 -> 1.6895833 | DN61: =$CX61*BD61 -> 441.87813 | DO61: =$CX61*BE61 -> 0 | DP61: =$CX61*BF61 -> 395.37813 | DQ61: =$CX61*BG61 -> 0 | DR61: =$CX61*BH61 -> 348.87812 | DS61: =$CX61*BI61 -> 0 | DT61: =$CX61*BJ61 -> 302.37812 | DU61: =$CX61*BK61 -> 0 | ... EA61: =$CX61*BQ61 -> 2.534375 | EB61: =F61/G61 -> 681.42332 | EC61: =EB61/CS61 -> 21.981397 | ED61: =F61/CS61 -> 3287933.5 | EE61: =J61/K61 -> 2601.8485 | EF61: =EE61/CS61 -> 83.930598 | EG61: =J61/CS61 -> 1093699.6 | EH61: =N61/P61 -> 76392.988 | EI61: =EH61/CS61 -> 2464.2899 | EJ61: =EH61/CT37 -> 3637.7613 | EK61: =N61/CS61 -> 3745720.7 | EL61: =N61/CT37 -> 5529397.3
A62: 44562 | B62: =YEAR(A62) -> 2022 | C62: =MONTH(A62) -> 1 | D62: 1.1121546e+08 | E62: =IFERROR(VLOOKUP($B62-1,CDM!$L$7:$T$18,2,FALSE)/12,0)+IFERROR(VLOOKUP($B62,CDM!$L$37:$O$47,2,FALSE)/24,0)+IFERROR(VLOOKUP($B62,CDM!$L$37:$O$47,2,FALSE)/2*$C62/78,0) -> 2184976.9 | F62: =D62+E62 -> 1.1340044e+08 | G62: 149791 | H62: 36022665 | I62: =IFERROR(VLOOKUP($B62-1,CDM!$L$7:$T$18,3,FALSE)/12,0)+IFERROR(VLOOKUP($B62,CDM!$L$37:$O$47,3,FALSE)/24,0)+IFERROR(VLOOKUP($B62,CDM!$L$37:$O$47,3,FALSE)/2*$C62/78,0) -> 1049534.5 | J62: =H62+I62 -> 37072199 | K62: 13115 | L62: 1.1932607e+08 | M62: =IFERROR(VLOOKUP($B62-1,CDM!$L$7:$T$18,4,FALSE)/12,0)+IFERROR(VLOOKUP($B62,CDM!$L$37:$O$47,4,FALSE)/24,0)+IFERROR(VLOOKUP($B62,CDM!$L$37:$O$47,4,FALSE)/2*$C62/78,0) -> 6600346 | N62: =L62+M62 -> 1.2592642e+08 | O62: 275893.39 | P62: 1464 | Q62: 919985.13 | R62: =IFERROR(VLOOKUP($B62-1,CDM!$L$7:$T$18,5,FALSE)/12,0)+IFERROR(VLOOKUP($B62,CDM!$L$37:$T$47,5,FALSE)/24,0)+IFERROR(VLOOKUP($B62,CDM!$L$37:$T$47,5,FALSE)/2*$C62/78,0) -> 102074.49 | S62: =R62+Q62 -> 1022059.6 | T62: 7411.98 | U62: 8 | V62: 7907319.2 | W62: =IFERROR(VLOOKUP($B62-1,CDM!$L$7:$T$18,6,FALSE)/12,0)+IFERROR(VLOOKUP($B62,CDM!$L$37:$T$47,6,FALSE)/24,0)+IFERROR(VLOOKUP($B62,CDM!$L$37:$T$47,6,FALSE)/2*$C62/78,0) -> 1203431.8 | X62: =W62+V62 -> 9110751 | Y62: 12630.25 | Z62: 1 | AA62: 1763381 | AB62: 3947.49 | AC62: 38975 | AD62: 461745.81 | AE62: 1543 | AF62: 44311.23 | AG62: 119.08 | AH62: 506 | AI62: 16400 | AJ62: =Economic!H76 -> 854001.9 | AK62: =Economic!I76 -> 93618.5 | AL62: =Economic!J76 -> 35584.3 | AM62: =Economic!K76 -> 87698.4 | AN62: =Economic!L76 -> 71366.9 | AO62: =Economic!M76 -> 847546 | AP62: =Economic!N76 -> 95039 | AQ62: =Economic!O76 -> 14723 | ... AS62: =Economic!Q76 -> 89450 | AT62: =Economic!D76 -> 7643.6 | AU62: =Economic!E76 -> 7611.7 | AV62: =Economic!F76 -> 297.8 | AW62: =Economic!G76 -> 295.2 | AX62: =Economic!W76 -> 37552 | AY62: =Economic!R76 -> 409 | AZ62: =Economic!W76 -> 37552 | BA62: =Economic!X76 -> 2966 | BB62: =Economic!Y76 -> 7797 | BC62: =Weather!C74 -> -7.9393817 | BD62: =Weather!D74 -> 866.12083 | BE62: =Weather!E74 -> 0 | BF62: =Weather!F74 -> 804.12083 | BG62: =Weather!G74 -> 0 | BH62: =Weather!H74 -> 742.12083 | BI62: =Weather!I74 -> 0 | BJ62: =Weather!J74 -> 680.12083 | ... BQ62: =Weather!Q74 -> 0 | BR62: =BR50 -> 1 | BS62: =BS50 -> 0 | BT62: =BT50 -> 0 | BU62: =BU50 -> 0 | BV62: =BV50 -> 0 | BW62: =BW50 -> 0 | BX62: =BX50 -> 0 | BY62: =BY50 -> 0 | ... CI62: =CI50 -> 0 | CJ62: =CE62+CF62 -> 0 | CK62: =CK50 -> 0 | CL62: =CL50 -> 0 | CM62: =1+CM61 -> 61 | CN62: =CN61+1 -> 13 | CO62: 1 | CP62: 0 | CQ62: 0 | CR62: 1 | CS62: =CS14 -> 31 | CT62: 20 | CU62: 0.5 | CV62: 0.25 | CW62: 0 | CX62: 0.5 | CY62: 0 | CZ62: =$CV62*BD62 -> 216.53021 | DA62: =$CV62*BE62 -> 0 | DB62: =$CV62*BF62 -> 201.03021 | DC62: =$CV62*BG62 -> 0 | DD62: =$CV62*BH62 -> 185.53021 | DE62: =$CV62*BI62 -> 0 | DF62: =$CV62*BJ62 -> 170.03021 | DG62: =$CV62*BK62 -> 0 | ... DM62: =$CV62*BQ62 -> 0 | DN62: =$CX62*BD62 -> 433.06042 | DO62: =$CX62*BE62 -> 0 | DP62: =$CX62*BF62 -> 402.06042 | DQ62: =$CX62*BG62 -> 0 | DR62: =$CX62*BH62 -> 371.06042 | DS62: =$CX62*BI62 -> 0 | DT62: =$CX62*BJ62 -> 340.06042 | DU62: =$CX62*BK62 -> 0 | ... EA62: =$CX62*BQ62 -> 0 | EB62: =F62/G62 -> 757.05774 | EC62: =EB62/CS62 -> 24.421217 | ED62: =F62/CS62 -> 3658078.6 | EE62: =J62/K62 -> 2826.7022 | EF62: =EE62/CS62 -> 91.183942 | EG62: =J62/CS62 -> 1195877.4 | EH62: =N62/P62 -> 86015.314 | EI62: =EH62/CS62 -> 2774.6876 | EJ62: =EH62/CT38 -> 3909.787 | EK62: =N62/CS62 -> 4062142.6 | EL62: =N62/CT38 -> 5723928.2
A63: 44593 | B63: =YEAR(A63) -> 2022 | C63: =MONTH(A63) -> 2 | D63: 96084443 | E63: =IFERROR(VLOOKUP($B63-1,CDM!$L$7:$T$18,2,FALSE)/12,0)+IFERROR(VLOOKUP($B63,CDM!$L$37:$O$47,2,FALSE)/24,0)+IFERROR(VLOOKUP($B63,CDM!$L$37:$O$47,2,FALSE)/2*$C63/78,0) -> 2186697.3 | F63: =D63+E63 -> 98271141 | G63: 149936 | H63: 33037908 | I63: =IFERROR(VLOOKUP($B63-1,CDM!$L$7:$T$18,3,FALSE)/12,0)+IFERROR(VLOOKUP($B63,CDM!$L$37:$O$47,3,FALSE)/24,0)+IFERROR(VLOOKUP($B63,CDM!$L$37:$O$47,3,FALSE)/2*$C63/78,0) -> 1068116.9 | J63: =H63+I63 -> 34106025 | K63: 13129 | L63: 1.0892941e+08 | M63: =IFERROR(VLOOKUP($B63-1,CDM!$L$7:$T$18,4,FALSE)/12,0)+IFERROR(VLOOKUP($B63,CDM!$L$37:$O$47,4,FALSE)/24,0)+IFERROR(VLOOKUP($B63,CDM!$L$37:$O$47,4,FALSE)/2*$C63/78,0) -> 6674526.4 | N63: =L63+M63 -> 1.1560393e+08 | O63: 276664.75 | P63: 1453 | Q63: 1641859 | R63: =IFERROR(VLOOKUP($B63-1,CDM!$L$7:$T$18,5,FALSE)/12,0)+IFERROR(VLOOKUP($B63,CDM!$L$37:$T$47,5,FALSE)/24,0)+IFERROR(VLOOKUP($B63,CDM!$L$37:$T$47,5,FALSE)/2*$C63/78,0) -> 103033.68 | S63: =R63+Q63 -> 1744892.7 | T63: 2440.67 | U63: 8 | V63: 7378774.7 | W63: =IFERROR(VLOOKUP($B63-1,CDM!$L$7:$T$18,6,FALSE)/12,0)+IFERROR(VLOOKUP($B63,CDM!$L$37:$T$47,6,FALSE)/24,0)+IFERROR(VLOOKUP($B63,CDM!$L$37:$T$47,6,FALSE)/2*$C63/78,0) -> 1247857.4 | X63: =W63+V63 -> 8626632.1 | Y63: 13111.83 | Z63: 1 | AA63: 1483927 | AB63: 3949.14 | AC63: 39005 | AD63: 417435.08 | AE63: 1543 | AF63: 40704.1 | AG63: 118.96 | AH63: 506 | AI63: 16400 | AJ63: =Economic!H77 -> 854001.9 | AK63: =Economic!I77 -> 93618.5 | AL63: =Economic!J77 -> 35584.3 | AM63: =Economic!K77 -> 87698.4 | AN63: =Economic!L77 -> 71366.9 | AO63: =Economic!M77 -> 847546 | AP63: =Economic!N77 -> 95039 | AQ63: =Economic!O77 -> 14723 | ... AS63: =Economic!Q77 -> 89450 | AT63: =Economic!D77 -> 7668.9 | AU63: =Economic!E77 -> 7606.7 | AV63: =Economic!F77 -> 298.9 | AW63: =Economic!G77 -> 296.3 | AX63: =Economic!W77 -> 37552 | AY63: =Economic!R77 -> 459.4 | AZ63: =Economic!W77 -> 37552 | BA63: =Economic!X77 -> 2966 | BB63: =Economic!Y77 -> 7797 | BC63: =Weather!C75 -> -4.8768601 | BD63: =Weather!D75 -> 696.55208 | BE63: =Weather!E75 -> 0 | BF63: =Weather!F75 -> 640.55208 | BG63: =Weather!G75 -> 0 | BH63: =Weather!H75 -> 584.55208 | BI63: =Weather!I75 -> 0 | BJ63: =Weather!J75 -> 528.55208 | ... BQ63: =Weather!Q75 -> 0 | BR63: =BR51 -> 0 | BS63: =BS51 -> 1 | BT63: =BT51 -> 0 | BU63: =BU51 -> 0 | BV63: =BV51 -> 0 | BW63: =BW51 -> 0 | BX63: =BX51 -> 0 | BY63: =BY51 -> 0 | ... CI63: =CI51 -> 0 | CJ63: =CE63+CF63 -> 0 | CK63: =CK51 -> 0 | CL63: =CL51 -> 0 | CM63: =1+CM62 -> 62 | CN63: =CN62+1 -> 14 | CO63: =CO62+1 -> 2 | CP63: 0 | CQ63: 0 | CR63: =CR62+1 -> 2 | CS63: =CS15 -> 28 | CT63: 19 | CU63: 0.5 | CV63: 0.25 | CW63: 0 | CX63: 0.5 | CY63: 0 | CZ63: =$CV63*BD63 -> 174.13802 | DA63: =$CV63*BE63 -> 0 | DB63: =$CV63*BF63 -> 160.13802 | DC63: =$CV63*BG63 -> 0 | DD63: =$CV63*BH63 -> 146.13802 | DE63: =$CV63*BI63 -> 0 | DF63: =$CV63*BJ63 -> 132.13802 | DG63: =$CV63*BK63 -> 0 | ... DM63: =$CV63*BQ63 -> 0 | DN63: =$CX63*BD63 -> 348.27604 | DO63: =$CX63*BE63 -> 0 | DP63: =$CX63*BF63 -> 320.27604 | DQ63: =$CX63*BG63 -> 0 | DR63: =$CX63*BH63 -> 292.27604 | DS63: =$CX63*BI63 -> 0 | DT63: =$CX63*BJ63 -> 264.27604 | DU63: =$CX63*BK63 -> 0 | ... EA63: =$CX63*BQ63 -> 0 | EB63: =F63/G63 -> 655.42058 | EC63: =EB63/CS63 -> 23.407878 | ED63: =F63/CS63 -> 3509683.6 | EE63: =J63/K63 -> 2597.7626 | EF63: =EE63/CS63 -> 92.777236 | EG63: =J63/CS63 -> 1218072.3 | EH63: =N63/P63 -> 79562.239 | EI63: =EH63/CS63 -> 2841.5085 | EJ63: =EH63/CT39 -> 4187.4863 | EK63: =N63/CS63 -> 4128711.9 | EL63: =N63/CT39 -> 6084417.6
