Workbook
Name ApprovedYr: #REF!
Name BI_LDCLIST: #REF!
Name Bridge_Year: #REF!
Name BridgeYear: #REF!
Name Cash: #REF!
Name contactf: #REF!
Name CRLF: #REF!
Name CustomerAdministration: #REF!
Name EBNUMBER: #REF!
Name Fixed_Charges: #REF!
Name histdate: #REF!
Name Incr2000: #REF!
Name Last_Rebasing_Year: #REF!
Name LDC_LIST: #REF!
Name LDCLIST: #REF!
Name LDCNAMES: #REF!
Name LIMIT: #REF!
Name LossFactors: #REF!
Name man_beg_bud: #REF!
Name man_end_bud: #REF!
Name man12ACT: #REF!
Name MANBUD: #REF!
Name manCYACT: #REF!
Name manCYBUD: #REF!
Name manCYF: #REF!
Name MANEND: #REF!
Name manNYbud: #REF!
Name manpower_costs: #REF!
Name manPYACT: #REF!
Name MANSTART: #REF!
Name mat_beg_bud: #REF!
Name mat_end_bud: #REF!
Name mat12ACT: #REF!
Name MATBUD: #REF!
Name matCYACT: #REF!
Name matCYBUD: #REF!
Name matCYF: #REF!
Name MATEND: #REF!
Name material_costs: #REF!
Name matNYbud: #REF!
Name matPYACT: #REF!
Name MATSTART: #REF!
Name MidPeak: #REF!
Name MidPeakPer: #REF!
Name NonPayment: #REF!
Name OER: #REF!
Name OffPeak: #REF!
Name OffPeakPer: #REF!
Name OnPeak: #REF!
Name OnPeakPer: #REF!
Name oth_beg_bud: #REF!
Name oth_end_bud: #REF!
Name oth12ACT: #REF!
Name othCYACT: #REF!
Name othCYBUD: #REF!
Name othCYF: #REF!
Name OTHEND: #REF!
Name other_costs: #REF!
Name OTHERBUD: #REF!
Name othNYbud: #REF!

Sheet App.2-ZA_Com. Exp. (2027)
K2: File Number: | L2: EB-2025-0312
K3: Exhibit: | L3: 2A
B4: Commodity Expense | K4: Tab: | L4: 3
K5: Schedule: | L5: 1
K6: Page:
L7: Settlement Proposal
K8: Date: | L8: 46283
A12: Step 1: | B12: Commodity Pricing
B15: Forecasted Commodity Prices | C15: Table 1: Average RPP Supply Cost Summary* | G15: non-RPP | H15: RPP
B17: HOEP ($/MWh) | C17: Load-Weighted Price for RPP Consumers | G17: 54.7548 | H17: =G17 -> 54.7548
B18: Global Adjustment ($/MWh) | C18: Impact of the Global Adjustment | G18: 61.6043 | H18: =G18 -> 61.6043
B19: Adjustments ($/MWh) | H19: 10.59
B20: TOTAL ($/MWh) | C20: Average Supply Cost for RPP Consumers | H20: =SUM(H17:H19) -> 126.9491
A23: Step 2: | B23: Commodity Expense
B24: (volumes for the test year is loss adjusted)
B26: Commodity | G26: =2027& " Test Year" -> 2027 Test Year
B27: Customer | D27: Revenue | E27: Expense
B28: Class Name | C28: UoM | D28: USoA # | E28: USoA # | F28: Class A Non-RPP Volume** | H28: Class B Non-RPP Volume** | I28: Class B RPP Volume** | J28: Average HOEP | K28: Average RPP Rate | L28: Amount
B29: Residential | C29: kWh | D29: 4006 | E29: 4705 | F29: 0 | H29: 19088639 | I29: 1.5391714e+09 | J29: =+$G$17/1000 -> 0.0547548 | K29: =+$H$20/1000 -> 0.1269491 | L29: =(+F29+H29)*J29+(I29*K29) -> 1.9644162e+08
B30: Residential Seasonal | C30: kWh | D30: 4010 | E30: 4705 | F30: 0 | H30: 167600.47 | I30: 13514104 | J30: =+$G$17/1000 -> 0.0547548 | K30: =+$H$20/1000 -> 0.1269491 | L30: =(+F30+H30)*J30+(I30*K30) -> 1724780.3
B31: GS<50 | C31: kWh | D31: 4035 | E31: 4705 | F31: 47756.804 | H31: 49836360 | I31: 3.1961664e+08 | J31: =+$G$17/1000 -> 0.0547548 | K31: =+$H$20/1000 -> 0.1269491 | L31: =(+F31+H31)*J31+(I31*K31) -> 43306439
B32: GS 50 - 2,999 | C32: kWh | D32: 4010 | E32: 4705 | F32: 1.0040196e+08 | H32: 8.1078637e+08 | I32: 4.7281599e+08 | J32: =+$G$17/1000 -> 0.0547548 | K32: =+$H$20/1000 -> 0.1269491 | L32: =(+F32+H32)*J32+(I32*K32) -> 1.099155e+08
B33: GS 3,000 - 4,999 | C33: kWh | D33: 4025 | E33: 4705 | F33: 2.367697e+08 | H33: 47031024 | I33: 7732626.9 | J33: =+$G$17/1000 -> 0.0547548 | K33: =+$H$20/1000 -> 0.1269491 | L33: =(+F33+H33)*J33+(I33*K33) -> 16521102
B34: Large Use | C34: kWh | D34: 4025 | E34: 4705 | F34: 3.8615181e+08 | H34: 51715119 | I34: 0 | J34: =+$G$17/1000 -> 0.0547548 | K34: =+$H$20/1000 -> 0.1269491 | L34: =(+F34+H34)*J34+(I34*K34) -> 23975316
B35: Street Light | C35: kWh | D35: 4025 | E35: 4705 | F35: 0 | H35: 16273488 | I35: 0 | J35: =+$G$17/1000 -> 0.0547548 | K35: =+$H$20/1000 -> 0.1269491 | L35: =(+F35+H35)*J35+(I35*K35) -> 891051.59
B36: Sentinel Light | C36: kWh | D36: 4025 | E36: 4705 | F36: 0 | H36: 0 | I36: 91087.249 | J36: =+$G$17/1000 -> 0.0547548 | K36: =+$H$20/1000 -> 0.1269491 | L36: =(+F36+H36)*J36+(I36*K36) -> 11563.444
B37: USL | C37: kWh | D37: 4025 | E37: 4705 | F37: 0 | H37: 4280.0345 | I37: 6744404.5 | J37: =+$G$17/1000 -> 0.0547548 | K37: =+$H$20/1000 -> 0.1269491 | L37: =(+F37+H37)*J37+(I37*K37) -> 856430.44
C38: kWh | D38: 4025 | E38: 4705 | J38: =+$G$17/1000 -> 0.0547548 | K38: =+$H$20/1000 -> 0.1269491 | L38: =(+F38+H38)*J38+(I38*K38) -> 0
C39: kWh | D39: 4025 | E39: 4705 | J39: =+$G$17/1000 -> 0.0547548 | K39: =+$H$20/1000 -> 0.1269491 | L39: =(+F39+H39)*J39+(I39*K39) -> 0
B40: TOTAL | L40: =SUM(L29:L39) -> 3.936438e+08
B43: Class A - non-RPP Global Adjustment | G43: =2027& " Test Year" -> 2027 Test Year
B44: Customer | D44: Revenue | E44: Expense | G44: kWh Volume | K44: Hist. Avg GA/kWh *** | L44: Amount
D45: 4035 | E45: 4707 | G45: =F31 -> 47756.804 | K45: 0.030610504 | L45: =+K45*G45 -> 1461.8599
D46: 4010 | E46: 4707 | G46: =F32 -> 1.0040196e+08 | K46: =K45 -> 0.030610504 | L46: =+K46*G46 -> 3073354.8
D47: 4010 | E47: 4707 | G47: =F33 -> 2.367697e+08 | K47: =K46 -> 0.030610504 | L47: =+K47*G47 -> 7247640.1
D48: 4010 | E48: 4707 | G48: =F34 -> 3.8615181e+08 | K48: =K47 -> 0.030610504 | L48: =+K48*G48 -> 11820302
D49: 4010 | E49: 4707 | L49: =+K49*G49 -> 0
F50: =+F45+F46 -> 0 | G50: =SUM(G45:G49) -> 7.2337124e+08 | L50: =SUM(L45:L49) -> 22142758
B52: Class B - non-RPP Global Adjustment | G52: =2027& " Test Year" -> 2027 Test Year
B53: Customer | D53: Revenue | E53: Expense | L53: Amount
...

Sheet App.2-ZB_Cost of Power (2027)
A1: Cost of Power Calculation
J2: File Number: | K2: EB-2025-0312
J3: Exhibit: | K3: 2A
J4: Tab: | K4: 3
J5: Schedule: | K5: 1
J6: Page:
A7: All Volume should be loss adjusted with the exception of: | K7: Settlement Proposal
A8: 1. Volume for Electricity Commodity, Wholesale Market Services, Class A and B should loss adjusted less WMP | J8: Date: | K8: 46283
A9: 2. Low Voltage Charges - No loss adjustment for kWh
D10: =2027& " Test Year" -> 2027 Test Year | E10: RPP | H10: =D10 -> 2027 Test Year | I10: non-RPP | K10: Total
A11: Electricity Commodity | B11: Units | D11: Volume | E11: Rate | F11: $ | H11: Volume | I11: Rate | J11: $ | K11: $
A12: Class per Load Forecast
A13: Residential | D13: ='App.2-ZA_Com. Exp. (2027)'!I29 -> 1.5391714e+09 | F13: =D13*'App.2-ZA_Com. Exp. (2027)'!K29 -> 1.9539643e+08 | H13: ='App.2-ZA_Com. Exp. (2027)'!H29 -> 19088639 | J13: =H13*'App.2-ZA_Com. Exp. (2027)'!J29 -> 1045194.6
A14: Residential Seasonal | D14: ='App.2-ZA_Com. Exp. (2027)'!I30 -> 13514104 | F14: =D14*'App.2-ZA_Com. Exp. (2027)'!K30 -> 1715603.3 | H14: ='App.2-ZA_Com. Exp. (2027)'!H30 -> 167600.47 | J14: =H14*'App.2-ZA_Com. Exp. (2027)'!J30 -> 9176.9301
A15: GS<50 | D15: ='App.2-ZA_Com. Exp. (2027)'!I31 -> 3.1961664e+08 | F15: =D15*'App.2-ZA_Com. Exp. (2027)'!K31 -> 40575045 | H15: ='App.2-ZA_Com. Exp. (2027)'!H31 -> 49836360 | J15: =H15*'App.2-ZA_Com. Exp. (2027)'!J31 -> 2728779.9
A16: GS 50 - 2,999 | D16: ='App.2-ZA_Com. Exp. (2027)'!I32 -> 4.7281599e+08 | F16: =D16*'App.2-ZA_Com. Exp. (2027)'!K32 -> 60023565 | H16: ='App.2-ZA_Com. Exp. (2027)'!H32 -> 8.1078637e+08 | J16: =H16*'App.2-ZA_Com. Exp. (2027)'!J32 -> 44394446
A17: GS 3,000 - 4,999 | D17: ='App.2-ZA_Com. Exp. (2027)'!I33 -> 7732626.9 | F17: =D17*'App.2-ZA_Com. Exp. (2027)'!K33 -> 981650.03 | H17: ='App.2-ZA_Com. Exp. (2027)'!H33 -> 47031024 | J17: =H17*'App.2-ZA_Com. Exp. (2027)'!J33 -> 2575174.3
A18: Large Use | D18: ='App.2-ZA_Com. Exp. (2027)'!I34 -> 0 | F18: =D18*'App.2-ZA_Com. Exp. (2027)'!K34 -> 0 | H18: ='App.2-ZA_Com. Exp. (2027)'!H34 -> 51715119 | J18: =H18*'App.2-ZA_Com. Exp. (2027)'!J34 -> 2831651
A19: Street Light | D19: ='App.2-ZA_Com. Exp. (2027)'!I35 -> 0 | F19: =D19*'App.2-ZA_Com. Exp. (2027)'!K35 -> 0 | H19: ='App.2-ZA_Com. Exp. (2027)'!H35 -> 16273488 | J19: =H19*'App.2-ZA_Com. Exp. (2027)'!J35 -> 891051.59
A20: Sentinel Light | D20: ='App.2-ZA_Com. Exp. (2027)'!I36 -> 91087.249 | F20: =D20*'App.2-ZA_Com. Exp. (2027)'!K36 -> 11563.444 | H20: ='App.2-ZA_Com. Exp. (2027)'!H36 -> 0 | J20: =H20*'App.2-ZA_Com. Exp. (2027)'!J36 -> 0
A21: USL | D21: ='App.2-ZA_Com. Exp. (2027)'!I37 -> 6744404.5 | F21: =D21*'App.2-ZA_Com. Exp. (2027)'!K37 -> 856196.08 | H21: ='App.2-ZA_Com. Exp. (2027)'!H37 -> 4280.0345 | J21: =H21*'App.2-ZA_Com. Exp. (2027)'!J37 -> 234.35244
D22: 0 | F22: 0 | H22: ='App.2-ZA_Com. Exp. (2027)'!H38 -> 0 | J22: 0
D23: 0 | F23: 0 | H23: ='App.2-ZA_Com. Exp. (2027)'!H39 -> 0 | J23: 0
A24: SUB-TOTAL | F24: =SUM(F13:F23) -> 2.9956005e+08 | J24: =SUM(J13:J23) -> 54475708 | K24: =F24+J24 -> 3.5403576e+08
A26: Global Adjustment non-RPP | B26: Units | D26: Volume | E26: Rate | F26: $ | H26: Volume | I26: Rate | J26: $ | K26: Total
A27: Class per Load Forecast
A28: =IF(A13="","",A13 & " - Class B") -> Residential - Class B | F28: =D28*E28 -> 0 | J28: ='App.2-ZA_Com. Exp. (2027)'!L55 -> 1175942.2
A29: =IF(A14="","",A14 & " - Class B") -> Residential Seasonal - Class B | F29: =D29*E29 -> 0 | J29: ='App.2-ZA_Com. Exp. (2027)'!L56 -> 10324.909
A30: =IF(A15="","",A15 & " - Class B") -> GS<50 - Class B | F30: =D30*E30 -> 0 | J30: ='App.2-ZA_Com. Exp. (2027)'!L57 -> 3070134.1
A31: =IF(A16="","",A16 & " - Class B") -> GS 50 - 2,999 - Class B | F31: =D31*E31 -> 0 | J31: ='App.2-ZA_Com. Exp. (2027)'!L58 -> 49947927
A32: =IF(A17="","",A17 & " - Class B") -> GS 3,000 - 4,999 - Class B | F32: =D32*E32 -> 0 | J32: ='App.2-ZA_Com. Exp. (2027)'!L59 -> 2897313.3
A33: =IF(A18="","",A18 & " - Class B") -> Large Use - Class B | F33: =D33*E33 -> 0 | J33: ='App.2-ZA_Com. Exp. (2027)'!L60 -> 3185873.7
A34: =IF(A19="","",A19 & " - Class B") -> Street Light - Class B | F34: =D34*E34 -> 0 | J34: ='App.2-ZA_Com. Exp. (2027)'!L61 -> 1002516.8
A35: =IF(A20="","",A20 & " - Class B") -> Sentinel Light - Class B | F35: =D35*E35 -> 0 | J35: ='App.2-ZA_Com. Exp. (2027)'!L62 -> 0
A36: =IF(A21="","",A21 & " - Class B") -> USL - Class B | F36: =D36*E36 -> 0 | J36: ='App.2-ZA_Com. Exp. (2027)'!L63 -> 263.66853
A37: =IF(A22="","",A22 & " - Class B") | F37: =D37*E37 -> 0 | J37: 0
A38: =IF(A23="","",A23 & " - Class B") | F38: =D38*E38 -> 0 | J38: 0
F39: =D39*E39 -> 0 | J39: ='App.2-ZA_Com. Exp. (2027)'!L45 -> 1461.8599
F40: =D40*E40 -> 0 | J40: ='App.2-ZA_Com. Exp. (2027)'!L46 -> 3073354.8
F41: =D41*E41 -> 0 | J41: ='App.2-ZA_Com. Exp. (2027)'!L47 -> 7247640.1
...

Sheet App.2-ZA_Com. Exp. (2028)
K2: File Number: | L2: EB-2025-0312
K3: Exhibit: | L3: 2A
B4: Commodity Expense | K4: Tab: | L4: 3
K5: Schedule: | L5: 1
K6: Page:
L7: Settlement Proposal
K8: Date: | L8: 46283
A12: Step 1: | B12: Commodity Pricing
B15: Forecasted Commodity Prices | C15: Table 1: Average RPP Supply Cost Summary* | G15: non-RPP | H15: RPP
B17: HOEP ($/MWh) | C17: Load-Weighted Price for RPP Consumers | G17: 56.397444 | H17: =G17 -> 56.397444
B18: Global Adjustment ($/MWh) | C18: Impact of the Global Adjustment | G18: 63.452429 | H18: =G18 -> 63.452429
B19: Adjustments ($/MWh) | H19: 10.59
B20: TOTAL ($/MWh) | C20: Average Supply Cost for RPP Consumers | H20: =SUM(H17:H19) -> 130.43987
A23: Step 2: | B23: Commodity Expense
B24: (volumes for the test year is loss adjusted)
B26: Commodity | G26: =2028& " Test Year" -> 2028 Test Year
B27: Customer | D27: Revenue | E27: Expense
B28: Class Name | C28: UoM | D28: USoA # | E28: USoA # | F28: Class A Non-RPP Volume** | H28: Class B Non-RPP Volume** | I28: Class B RPP Volume** | J28: Average HOEP | K28: Average RPP Rate | L28: Amount
B29: Residential | C29: kWh | D29: 4006 | E29: 4705 | F29: 0 | H29: 19425989 | I29: 1.5663729e+09 | J29: =+$G$17/1000 -> 0.056397444 | K29: =+$H$20/1000 -> 0.13043987 | L29: =(+F29+H29)*J29+(I29*K29) -> 2.0541306e+08
B30: Residential Seasonal | C30: kWh | D30: 4010 | E30: 4705 | F30: 0 | H30: 173045.52 | I30: 13953154 | J30: =+$G$17/1000 -> 0.056397444 | K30: =+$H$20/1000 -> 0.13043987 | L30: =(+F30+H30)*J30+(I30*K30) -> 1829807
B31: GS<50 | C31: kWh | D31: 4035 | E31: 4705 | F31: 47764.144 | H31: 49844020 | I31: 3.1966576e+08 | J31: =+$G$17/1000 -> 0.056397444 | K31: =+$H$20/1000 -> 0.13043987 | L31: =(+F31+H31)*J31+(I31*K31) -> 44510931
B32: GS 50 - 2,999 | C32: kWh | D32: 4010 | E32: 4705 | F32: 1.0114997e+08 | H32: 8.1682685e+08 | I32: 4.7633854e+08 | J32: =+$G$17/1000 -> 0.056397444 | K32: =+$H$20/1000 -> 0.13043987 | L32: =(+F32+H32)*J32+(I32*K32) -> 1.1390508e+08
B33: GS 3,000 - 4,999 | C33: kWh | D33: 4025 | E33: 4705 | F33: 2.5904923e+08 | H33: 51456544 | I33: 8460250.8 | J33: =+$G$17/1000 -> 0.056397444 | K33: =+$H$20/1000 -> 0.13043987 | L33: =(+F33+H33)*J33+(I33*K33) -> 18615286
B34: Large Use | C34: kWh | D34: 4025 | E34: 4705 | F34: 4.6172951e+08 | H34: 61836811 | I34: 0 | J34: =+$G$17/1000 -> 0.056397444 | K34: =+$H$20/1000 -> 0.13043987 | L34: =(+F34+H34)*J34+(I34*K34) -> 29527802
B35: Street Light | C35: kWh | D35: 4025 | E35: 4705 | F35: 0 | H35: 16477849 | I35: 0 | J35: =+$G$17/1000 -> 0.056397444 | K35: =+$H$20/1000 -> 0.13043987 | L35: =(+F35+H35)*J35+(I35*K35) -> 929308.56
B36: Sentinel Light | C36: kWh | D36: 4025 | E36: 4705 | F36: 0 | H36: 0 | I36: 89526.142 | J36: =+$G$17/1000 -> 0.056397444 | K36: =+$H$20/1000 -> 0.13043987 | L36: =(+F36+H36)*J36+(I36*K36) -> 11677.779
B37: USL | C37: kWh | D37: 4025 | E37: 4705 | F37: 0 | H37: 4260.6876 | I37: 6713918 | J37: =+$G$17/1000 -> 0.056397444 | K37: =+$H$20/1000 -> 0.13043987 | L37: =(+F37+H37)*J37+(I37*K37) -> 876002.9
C38: kWh | D38: 4025 | E38: 4705 | J38: =+$G$17/1000 -> 0.056397444 | K38: =+$H$20/1000 -> 0.13043987 | L38: =(+F38+H38)*J38+(I38*K38) -> 0
C39: kWh | D39: 4025 | E39: 4705 | J39: =+$G$17/1000 -> 0.056397444 | K39: =+$H$20/1000 -> 0.13043987 | L39: =(+F39+H39)*J39+(I39*K39) -> 0
B40: TOTAL | L40: =SUM(L29:L39) -> 4.1561896e+08
B43: Class A - non-RPP Global Adjustment | G43: =2028& " Test Year" -> 2028 Test Year
B44: Customer | D44: Revenue | E44: Expense | G44: kWh Volume | K44: Hist. Avg GA/kWh *** | L44: Amount
D45: 4035 | E45: 4707 | G45: =F31 -> 47764.144 | K45: 0.03152882 | L45: =+K45*G45 -> 1505.9471
D46: 4010 | E46: 4707 | G46: =F32 -> 1.0114997e+08 | K46: =K45 -> 0.03152882 | L46: =+K46*G46 -> 3189139.3
D47: 4010 | E47: 4707 | G47: =F33 -> 2.5904923e+08 | K47: =K46 -> 0.03152882 | L47: =+K47*G47 -> 8167516.6
D48: 4010 | E48: 4707 | G48: =F34 -> 4.6172951e+08 | K48: =K47 -> 0.03152882 | L48: =+K48*G48 -> 14557786
D49: 4010 | E49: 4707 | L49: =+K49*G49 -> 0
F50: =+F45+F46 -> 0 | G50: =SUM(G45:G49) -> 8.2197648e+08 | L50: =SUM(L45:L49) -> 25915948
B52: Class B - non-RPP Global Adjustment | G52: =2028& " Test Year" -> 2028 Test Year
B53: Customer | D53: Revenue | E53: Expense | L53: Amount
...

Sheet App.2-ZB_Cost of Power (2028)
A1: Cost of Power Calculation
J2: File Number: | K2: EB-2025-0312
J3: Exhibit: | K3: 2A
J4: Tab: | K4: 3
J5: Schedule: | K5: 1
J6: Page:
A7: All Volume should be loss adjusted with the exception of: | K7: Settlement Proposal
A8: 1. Volume for Electricity Commodity, Wholesale Market Services, Class A and B should loss adjusted less WMP | J8: Date: | K8: 46283
A9: 2. Low Voltage Charges - No loss adjustment for kWh
D10: =2028& " Test Year" -> 2028 Test Year | E10: RPP | H10: =D10 -> 2028 Test Year | I10: non-RPP | K10: Total
A11: Electricity Commodity | B11: Units | D11: Volume | E11: Rate | F11: $ | H11: Volume | I11: Rate | J11: $ | K11: $
A12: Class per Load Forecast
A13: Residential | D13: ='App.2-ZA_Com. Exp. (2028)'!I29 -> 1.5663729e+09 | F13: =D13*'App.2-ZA_Com. Exp. (2028)'!K29 -> 2.0431749e+08 | H13: ='App.2-ZA_Com. Exp. (2028)'!H29 -> 19425989 | J13: =H13*'App.2-ZA_Com. Exp. (2028)'!J29 -> 1095576.1
A14: Residential Seasonal | D14: ='App.2-ZA_Com. Exp. (2028)'!I30 -> 13953154 | F14: =D14*'App.2-ZA_Com. Exp. (2028)'!K30 -> 1820047.7 | H14: ='App.2-ZA_Com. Exp. (2028)'!H30 -> 173045.52 | J14: =H14*'App.2-ZA_Com. Exp. (2028)'!J30 -> 9759.3252
A15: GS<50 | D15: ='App.2-ZA_Com. Exp. (2028)'!I31 -> 3.1966576e+08 | F15: =D15*'App.2-ZA_Com. Exp. (2028)'!K31 -> 41697162 | H15: ='App.2-ZA_Com. Exp. (2028)'!H31 -> 49844020 | J15: =H15*'App.2-ZA_Com. Exp. (2028)'!J31 -> 2811075.3
A16: GS 50 - 2,999 | D16: ='App.2-ZA_Com. Exp. (2028)'!I32 -> 4.7633854e+08 | F16: =D16*'App.2-ZA_Com. Exp. (2028)'!K32 -> 62133539 | H16: ='App.2-ZA_Com. Exp. (2028)'!H32 -> 8.1682685e+08 | J16: =H16*'App.2-ZA_Com. Exp. (2028)'!J32 -> 46066946
A17: GS 3,000 - 4,999 | D17: ='App.2-ZA_Com. Exp. (2028)'!I33 -> 8460250.8 | F17: =D17*'App.2-ZA_Com. Exp. (2028)'!K33 -> 1103554 | H17: ='App.2-ZA_Com. Exp. (2028)'!H33 -> 51456544 | J17: =H17*'App.2-ZA_Com. Exp. (2028)'!J33 -> 2902017.6
A18: Large Use | D18: ='App.2-ZA_Com. Exp. (2028)'!I34 -> 0 | F18: =D18*'App.2-ZA_Com. Exp. (2028)'!K34 -> 0 | H18: ='App.2-ZA_Com. Exp. (2028)'!H34 -> 61836811 | J18: =H18*'App.2-ZA_Com. Exp. (2028)'!J34 -> 3487438.1
A19: Street Light | D19: ='App.2-ZA_Com. Exp. (2028)'!I35 -> 0 | F19: =D19*'App.2-ZA_Com. Exp. (2028)'!K35 -> 0 | H19: ='App.2-ZA_Com. Exp. (2028)'!H35 -> 16477849 | J19: =H19*'App.2-ZA_Com. Exp. (2028)'!J35 -> 929308.56
A20: Sentinel Light | D20: ='App.2-ZA_Com. Exp. (2028)'!I36 -> 89526.142 | F20: =D20*'App.2-ZA_Com. Exp. (2028)'!K36 -> 11677.779 | H20: ='App.2-ZA_Com. Exp. (2028)'!H36 -> 0 | J20: =H20*'App.2-ZA_Com. Exp. (2028)'!J36 -> 0
A21: USL | D21: ='App.2-ZA_Com. Exp. (2028)'!I37 -> 6713918 | F21: =D21*'App.2-ZA_Com. Exp. (2028)'!K37 -> 875762.61 | H21: ='App.2-ZA_Com. Exp. (2028)'!H37 -> 4260.6876 | J21: =H21*'App.2-ZA_Com. Exp. (2028)'!J37 -> 240.29189
D22: 0 | F22: 0 | H22: ='App.2-ZA_Com. Exp. (2028)'!H38 -> 0 | J22: 0
D23: 0 | F23: 0 | H23: ='App.2-ZA_Com. Exp. (2028)'!H39 -> 0 | J23: 0
A24: SUB-TOTAL | F24: =SUM(F13:F23) -> 3.1195923e+08 | J24: =SUM(J13:J23) -> 57302362 | K24: =F24+J24 -> 3.6926159e+08
A26: Global Adjustment non-RPP | B26: Units | D26: Volume | E26: Rate | F26: $ | H26: Volume | I26: Rate | J26: $ | K26: Total
A27: Class per Load Forecast
A28: =IF(A13="","",A13 & " - Class B") -> Residential - Class B | F28: =D28*E28 -> 0 | J28: ='App.2-ZA_Com. Exp. (2028)'!L55 -> 1232626.2
A29: =IF(A14="","",A14 & " - Class B") -> Residential Seasonal - Class B | F29: =D29*E29 -> 0 | J29: ='App.2-ZA_Com. Exp. (2028)'!L56 -> 10980.159
A30: =IF(A15="","",A15 & " - Class B") -> GS<50 - Class B | F30: =D30*E30 -> 0 | J30: ='App.2-ZA_Com. Exp. (2028)'!L57 -> 3162724.1
A31: =IF(A16="","",A16 & " - Class B") -> GS 50 - 2,999 - Class B | F31: =D31*E31 -> 0 | J31: ='App.2-ZA_Com. Exp. (2028)'!L58 -> 51829647
A32: =IF(A17="","",A17 & " - Class B") -> GS 3,000 - 4,999 - Class B | F32: =D32*E32 -> 0 | J32: ='App.2-ZA_Com. Exp. (2028)'!L59 -> 3265042.7
A33: =IF(A18="","",A18 & " - Class B") -> Large Use - Class B | F33: =D33*E33 -> 0 | J33: ='App.2-ZA_Com. Exp. (2028)'!L60 -> 3923695.9
A34: =IF(A19="","",A19 & " - Class B") -> Street Light - Class B | F34: =D34*E34 -> 0 | J34: ='App.2-ZA_Com. Exp. (2028)'!L61 -> 1045559.5
A35: =IF(A20="","",A20 & " - Class B") -> Sentinel Light - Class B | F35: =D35*E35 -> 0 | J35: ='App.2-ZA_Com. Exp. (2028)'!L62 -> 0
A36: =IF(A21="","",A21 & " - Class B") -> USL - Class B | F36: =D36*E36 -> 0 | J36: ='App.2-ZA_Com. Exp. (2028)'!L63 -> 270.35098
A37: =IF(A22="","",A22 & " - Class B") | F37: =D37*E37 -> 0 | J37: 0
A38: =IF(A23="","",A23 & " - Class B") | F38: =D38*E38 -> 0 | J38: 0
F39: =D39*E39 -> 0 | J39: ='App.2-ZA_Com. Exp. (2028)'!L45 -> 1505.9471
F40: =D40*E40 -> 0 | J40: ='App.2-ZA_Com. Exp. (2028)'!L46 -> 3189139.3
F41: =D41*E41 -> 0 | J41: ='App.2-ZA_Com. Exp. (2028)'!L47 -> 8167516.6
...

Sheet App.2-ZA_Com. Exp. (2029)
K2: File Number: | L2: EB-2025-0312
K3: Exhibit: | L3: 2A
B4: Commodity Expense | K4: Tab: | L4: 3
K5: Schedule: | L5: 1
K6: Page:
L7: Settlement Proposal
K8: Date: | L8: 46283
A12: Step 1: | B12: Commodity Pricing
B15: Forecasted Commodity Prices | C15: Table 1: Average RPP Supply Cost Summary* | G15: non-RPP | H15: RPP
B17: HOEP ($/MWh) | C17: Load-Weighted Price for RPP Consumers | G17: 58.089367 | H17: =G17 -> 58.089367
B18: Global Adjustment ($/MWh) | C18: Impact of the Global Adjustment | G18: 65.356002 | H18: =G18 -> 65.356002
B19: Adjustments ($/MWh) | H19: 10.59
B20: TOTAL ($/MWh) | C20: Average Supply Cost for RPP Consumers | H20: =SUM(H17:H19) -> 134.03537
A23: Step 2: | B23: Commodity Expense
B24: (volumes for the test year is loss adjusted)
B26: Commodity | G26: =2029& " Test Year" -> 2029 Test Year
B27: Customer | D27: Revenue | E27: Expense
B28: Class Name | C28: UoM | D28: USoA # | E28: USoA # | F28: Class A Non-RPP Volume** | H28: Class B Non-RPP Volume** | I28: Class B RPP Volume** | J28: Average HOEP | K28: Average RPP Rate | L28: Amount
B29: Residential | C29: kWh | D29: 4006 | E29: 4705 | F29: 0 | H29: 19723802 | I29: 1.5903864e+09 | J29: =+$G$17/1000 -> 0.058089367 | K29: =+$H$20/1000 -> 0.13403537 | L29: =(+F29+H29)*J29+(I29*K29) -> 2.1431377e+08
B30: Residential Seasonal | C30: kWh | D30: 4010 | E30: 4705 | F30: 0 | H30: 177801.98 | I30: 14336681 | J30: =+$G$17/1000 -> 0.058089367 | K30: =+$H$20/1000 -> 0.13403537 | L30: =(+F30+H30)*J30+(I30*K30) -> 1931950.8
B31: GS<50 | C31: kWh | D31: 4035 | E31: 4705 | F31: 47663.807 | H31: 49739313 | I31: 3.1899425e+08 | J31: =+$G$17/1000 -> 0.058089367 | K31: =+$H$20/1000 -> 0.13403537 | L31: =(+F31+H31)*J31+(I31*K31) -> 45648605
B32: GS 50 - 2,999 | C32: kWh | D32: 4010 | E32: 4705 | F32: 1.0161616e+08 | H32: 8.2059153e+08 | I32: 4.7853394e+08 | J32: =+$G$17/1000 -> 0.058089367 | K32: =+$H$20/1000 -> 0.13403537 | L32: =(+F32+H32)*J32+(I32*K32) -> 1.1771093e+08
B33: GS 3,000 - 4,999 | C33: kWh | D33: 4025 | E33: 4705 | F33: 2.765292e+08 | H33: 54928697 | I33: 9031126.3 | J33: =+$G$17/1000 -> 0.058089367 | K33: =+$H$20/1000 -> 0.13403537 | L33: =(+F33+H33)*J33+(I33*K33) -> 20464670
B34: Large Use | C34: kWh | D34: 4025 | E34: 4705 | F34: 5.3386547e+08 | H34: 71497571 | I34: 0 | J34: =+$G$17/1000 -> 0.058089367 | K34: =+$H$20/1000 -> 0.13403537 | L34: =(+F34+H34)*J34+(I34*K34) -> 35165156
B35: Street Light | C35: kWh | D35: 4025 | E35: 4705 | F35: 0 | H35: 16684897 | I35: 0 | J35: =+$G$17/1000 -> 0.058089367 | K35: =+$H$20/1000 -> 0.13403537 | L35: =(+F35+H35)*J35+(I35*K35) -> 969215.12
B36: Sentinel Light | C36: kWh | D36: 4025 | E36: 4705 | F36: 0 | H36: 0 | I36: 87998.819 | J36: =+$G$17/1000 -> 0.058089367 | K36: =+$H$20/1000 -> 0.13403537 | L36: =(+F36+H36)*J36+(I36*K36) -> 11794.954
B37: USL | C37: kWh | D37: 4025 | E37: 4705 | F37: 0 | H37: 4241.5965 | I37: 6683834.5 | J37: =+$G$17/1000 -> 0.058089367 | K37: =+$H$20/1000 -> 0.13403537 | L37: =(+F37+H37)*J37+(I37*K37) -> 896116.62
C38: kWh | D38: 4025 | E38: 4705 | J38: =+$G$17/1000 -> 0.058089367 | K38: =+$H$20/1000 -> 0.13403537 | L38: =(+F38+H38)*J38+(I38*K38) -> 0
C39: kWh | D39: 4025 | E39: 4705 | J39: =+$G$17/1000 -> 0.058089367 | K39: =+$H$20/1000 -> 0.13403537 | L39: =(+F39+H39)*J39+(I39*K39) -> 0
B40: TOTAL | L40: =SUM(L29:L39) -> 4.3711222e+08
B43: Class A - non-RPP Global Adjustment | G43: =2029& " Test Year" -> 2029 Test Year
B44: Customer | D44: Revenue | E44: Expense | G44: kWh Volume | K44: Hist. Avg GA/kWh *** | L44: Amount
D45: 4035 | E45: 4707 | G45: =F31 -> 47663.807 | K45: 0.032474684 | L45: =+K45*G45 -> 1547.8671
D46: 4010 | E46: 4707 | G46: =F32 -> 1.0161616e+08 | K46: =K45 -> 0.032474684 | L46: =+K46*G46 -> 3299952.9
D47: 4010 | E47: 4707 | G47: =F33 -> 2.765292e+08 | K47: =K46 -> 0.032474684 | L47: =+K47*G47 -> 8980198.3
D48: 4010 | E48: 4707 | G48: =F34 -> 5.3386547e+08 | K48: =K47 -> 0.032474684 | L48: =+K48*G48 -> 17337112
D49: 4010 | E49: 4707 | L49: =+K49*G49 -> 0
F50: =+F45+F46 -> 0 | G50: =SUM(G45:G49) -> 9.1205849e+08 | L50: =SUM(L45:L49) -> 29618812
B52: Class B - non-RPP Global Adjustment | G52: =G43 -> 2029 Test Year
B53: Customer | D53: Revenue | E53: Expense | L53: Amount
...

Sheet App.2-ZB_Cost of Power (2029)
A1: Cost of Power Calculation
J2: File Number: | K2: EB-2025-0312
J3: Exhibit: | K3: 2A
J4: Tab: | K4: 3
J5: Schedule: | K5: 1
J6: Page:
A7: All Volume should be loss adjusted with the exception of: | K7: Settlement Proposal
A8: 1. Volume for Electricity Commodity, Wholesale Market Services, Class A and B should loss adjusted less WMP | J8: Date: | K8: 46283
A9: 2. Low Voltage Charges - No loss adjustment for kWh
D10: =2029& " Test Year" -> 2029 Test Year | E10: RPP | H10: =D10 -> 2029 Test Year | I10: non-RPP | K10: Total
A11: Electricity Commodity | B11: Units | D11: Volume | E11: Rate | F11: $ | H11: Volume | I11: Rate | J11: $ | K11: $
A12: Class per Load Forecast
A13: Residential | D13: ='App.2-ZA_Com. Exp. (2029)'!I29 -> 1.5903864e+09 | F13: =D13*'App.2-ZA_Com. Exp. (2029)'!K29 -> 2.1316803e+08 | H13: ='App.2-ZA_Com. Exp. (2029)'!H29 -> 19723802 | J13: =H13*'App.2-ZA_Com. Exp. (2029)'!J29 -> 1145743.2
A14: Residential Seasonal | D14: ='App.2-ZA_Com. Exp. (2029)'!I30 -> 14336681 | F14: =D14*'App.2-ZA_Com. Exp. (2029)'!K30 -> 1921622.4 | H14: ='App.2-ZA_Com. Exp. (2029)'!H30 -> 177801.98 | J14: =H14*'App.2-ZA_Com. Exp. (2029)'!J30 -> 10328.405
A15: GS<50 | D15: ='App.2-ZA_Com. Exp. (2029)'!I31 -> 3.1899425e+08 | F15: =D15*'App.2-ZA_Com. Exp. (2029)'!K31 -> 42756511 | H15: ='App.2-ZA_Com. Exp. (2029)'!H31 -> 49739313 | J15: =H15*'App.2-ZA_Com. Exp. (2029)'!J31 -> 2889325.2
A16: GS 50 - 2,999 | D16: ='App.2-ZA_Com. Exp. (2029)'!I32 -> 4.7853394e+08 | F16: =D16*'App.2-ZA_Com. Exp. (2029)'!K32 -> 64140473 | H16: ='App.2-ZA_Com. Exp. (2029)'!H32 -> 8.2059153e+08 | J16: =H16*'App.2-ZA_Com. Exp. (2029)'!J32 -> 47667643
A17: GS 3,000 - 4,999 | D17: ='App.2-ZA_Com. Exp. (2029)'!I33 -> 9031126.3 | F17: =D17*'App.2-ZA_Com. Exp. (2029)'!K33 -> 1210490.3 | H17: ='App.2-ZA_Com. Exp. (2029)'!H33 -> 54928697 | J17: =H17*'App.2-ZA_Com. Exp. (2029)'!J33 -> 3190773.2
A18: Large Use | D18: ='App.2-ZA_Com. Exp. (2029)'!I34 -> 0 | F18: =D18*'App.2-ZA_Com. Exp. (2029)'!K34 -> 0 | H18: ='App.2-ZA_Com. Exp. (2029)'!H34 -> 71497571 | J18: =H18*'App.2-ZA_Com. Exp. (2029)'!J34 -> 4153248.7
A19: Street Light | D19: ='App.2-ZA_Com. Exp. (2029)'!I35 -> 0 | F19: =D19*'App.2-ZA_Com. Exp. (2029)'!K35 -> 0 | H19: ='App.2-ZA_Com. Exp. (2029)'!H35 -> 16684897 | J19: =H19*'App.2-ZA_Com. Exp. (2029)'!J35 -> 969215.12
A20: Sentinel Light | D20: ='App.2-ZA_Com. Exp. (2029)'!I36 -> 87998.819 | F20: =D20*'App.2-ZA_Com. Exp. (2029)'!K36 -> 11794.954 | H20: ='App.2-ZA_Com. Exp. (2029)'!H36 -> 0 | J20: =H20*'App.2-ZA_Com. Exp. (2029)'!J36 -> 0
A21: USL | D21: ='App.2-ZA_Com. Exp. (2029)'!I37 -> 6683834.5 | F21: =D21*'App.2-ZA_Com. Exp. (2029)'!K37 -> 895870.23 | H21: ='App.2-ZA_Com. Exp. (2029)'!H37 -> 4241.5965 | J21: =H21*'App.2-ZA_Com. Exp. (2029)'!J37 -> 246.39166
D22: 0 | F22: 0 | H22: ='App.2-ZA_Com. Exp. (2029)'!H38 -> 0 | J22: 0
D23: 0 | F23: 0 | H23: ='App.2-ZA_Com. Exp. (2029)'!H39 -> 0 | J23: 0
A24: SUB-TOTAL | F24: =SUM(F13:F23) -> 3.2410479e+08 | J24: =SUM(J13:J23) -> 60026523 | K24: =F24+J24 -> 3.8413132e+08
A26: Global Adjustment non-RPP | B26: Units | D26: Volume | E26: Rate | F26: $ | H26: Volume | I26: Rate | J26: $ | K26: Total
A27: Class per Load Forecast
A28: =IF(A13="","",A13 & " - Class B") -> Residential - Class B | F28: =D28*E28 -> 0 | J28: ='App.2-ZA_Com. Exp. (2029)'!L55 -> 1289068.8
A29: =IF(A14="","",A14 & " - Class B") -> Residential Seasonal - Class B | F29: =D29*E29 -> 0 | J29: ='App.2-ZA_Com. Exp. (2029)'!L56 -> 11620.427
A30: =IF(A15="","",A15 & " - Class B") -> GS<50 - Class B | F30: =D30*E30 -> 0 | J30: ='App.2-ZA_Com. Exp. (2029)'!L57 -> 3250762.6
A31: =IF(A16="","",A16 & " - Class B") -> GS 50 - 2,999 - Class B | F31: =D31*E31 -> 0 | J31: ='App.2-ZA_Com. Exp. (2029)'!L58 -> 53630581
A32: =IF(A17="","",A17 & " - Class B") -> GS 3,000 - 4,999 - Class B | F32: =D32*E32 -> 0 | J32: ='App.2-ZA_Com. Exp. (2029)'!L59 -> 3589920
A33: =IF(A18="","",A18 & " - Class B") -> Large Use - Class B | F33: =D33*E33 -> 0 | J33: ='App.2-ZA_Com. Exp. (2029)'!L60 -> 4672795.4
A34: =IF(A19="","",A19 & " - Class B") -> Street Light - Class B | F34: =D34*E34 -> 0 | J34: ='App.2-ZA_Com. Exp. (2029)'!L61 -> 1090458.2
A35: =IF(A20="","",A20 & " - Class B") -> Sentinel Light - Class B | F35: =D35*E35 -> 0 | J35: ='App.2-ZA_Com. Exp. (2029)'!L62 -> 0
A36: =IF(A21="","",A21 & " - Class B") -> USL - Class B | F36: =D36*E36 -> 0 | J36: ='App.2-ZA_Com. Exp. (2029)'!L63 -> 277.21379
A37: =IF(A22="","",A22 & " - Class B") | F37: =D37*E37 -> 0 | J37: 0
A38: =IF(A23="","",A23 & " - Class B") | F38: =D38*E38 -> 0 | J38: 0
F39: =D39*E39 -> 0 | J39: ='App.2-ZA_Com. Exp. (2029)'!L45 -> 1547.8671
F40: =D40*E40 -> 0 | J40: ='App.2-ZA_Com. Exp. (2029)'!L46 -> 3299952.9
F41: =D41*E41 -> 0 | J41: ='App.2-ZA_Com. Exp. (2029)'!L47 -> 8980198.3
...

Sheet App.2-ZA_Com. Exp. (2030)
K2: File Number: | L2: EB-2025-0312
K3: Exhibit: | L3: 2A
B4: Commodity Expense | K4: Tab: | L4: 3
K5: Schedule: | L5: 1
K6: Page:
L7: Settlement Proposal
K8: Date: | L8: 46283
A12: Step 1: | B12: Commodity Pricing
B15: Forecasted Commodity Prices | C15: Table 1: Average RPP Supply Cost Summary* | G15: non-RPP | H15: RPP
B17: HOEP ($/MWh) | C17: Load-Weighted Price for RPP Consumers | G17: 59.832048 | H17: =G17 -> 59.832048
B18: Global Adjustment ($/MWh) | C18: Impact of the Global Adjustment | G18: 67.316682 | H18: =G18 -> 67.316682
B19: Adjustments ($/MWh) | H19: 10.59
B20: TOTAL ($/MWh) | C20: Average Supply Cost for RPP Consumers | H20: =SUM(H17:H19) -> 137.73873
A23: Step 2: | B23: Commodity Expense
B24: (volumes for the test year is loss adjusted)
B26: Commodity | G26: =2030& " Test Year" -> 2030 Test Year
B27: Customer | D27: Revenue | E27: Expense
B28: Class Name | C28: UoM | D28: USoA # | E28: USoA # | F28: Class A Non-RPP Volume** | H28: Class B Non-RPP Volume** | I28: Class B RPP Volume** | J28: Average HOEP | K28: Average RPP Rate | L28: Amount
B29: Residential | C29: kWh | D29: 4006 | E29: 4705 | F29: 0 | H29: 20132916 | I29: 1.6233745e+09 | J29: =+$G$17/1000 -> 0.059832048 | K29: =+$H$20/1000 -> 0.13773873 | L29: =(+F29+H29)*J29+(I29*K29) -> 2.2480614e+08
B30: Residential Seasonal | C30: kWh | D30: 4010 | E30: 4705 | F30: 0 | H30: 183621 | I30: 14805885 | J30: =+$G$17/1000 -> 0.059832048 | K30: =+$H$20/1000 -> 0.13773873 | L30: =(+F30+H30)*J30+(I30*K30) -> 2050330.3
B31: GS<50 | C31: kWh | D31: 4035 | E31: 4705 | F31: 47834.207 | H31: 49917134 | I31: 3.2013467e+08 | J31: =+$G$17/1000 -> 0.059832048 | K31: =+$H$20/1000 -> 0.13773873 | L31: =(+F31+H31)*J31+(I31*K31) -> 47084449
B32: GS 50 - 2,999 | C32: kWh | D32: 4010 | E32: 4705 | F32: 1.0211601e+08 | H32: 8.2462798e+08 | I32: 4.8088783e+08 | J32: =+$G$17/1000 -> 0.059832048 | K32: =+$H$20/1000 -> 0.13773873 | L32: =(+F32+H32)*J32+(I32*K32) -> 1.2168587e+08
B33: GS 3,000 - 4,999 | C33: kWh | D33: 4025 | E33: 4705 | F33: 2.8616447e+08 | H33: 56842610 | I33: 9345803.2 | J33: =+$G$17/1000 -> 0.059832048 | K33: =+$H$20/1000 -> 0.13773873 | L33: =(+F33+H33)*J33+(I33*K33) -> 21810095
B34: Large Use | C34: kWh | D34: 4025 | E34: 4705 | F34: 5.5967102e+08 | H34: 74953563 | I34: 0 | J34: =+$G$17/1000 -> 0.059832048 | K34: =+$H$20/1000 -> 0.13773873 | L34: =(+F34+H34)*J34+(I34*K34) -> 37970889
B35: Street Light | C35: kWh | D35: 4025 | E35: 4705 | F35: 0 | H35: 16894670 | I35: 0 | J35: =+$G$17/1000 -> 0.059832048 | K35: =+$H$20/1000 -> 0.13773873 | L35: =(+F35+H35)*J35+(I35*K35) -> 1010842.7
B36: Sentinel Light | C36: kWh | D36: 4025 | E36: 4705 | F36: 0 | H36: 0 | I36: 86504.666 | J36: =+$G$17/1000 -> 0.059832048 | K36: =+$H$20/1000 -> 0.13773873 | L36: =(+F36+H36)*J36+(I36*K36) -> 11915.043
B37: USL | C37: kWh | D37: 4025 | E37: 4705 | F37: 0 | H37: 4222.7595 | I37: 6654151.5 | J37: =+$G$17/1000 -> 0.059832048 | K37: =+$H$20/1000 -> 0.13773873 | L37: =(+F37+H37)*J37+(I37*K37) -> 916787.03
C38: kWh | D38: 4025 | E38: 4705 | J38: =+$G$17/1000 -> 0.059832048 | K38: =+$H$20/1000 -> 0.13773873 | L38: =(+F38+H38)*J38+(I38*K38) -> 0
C39: kWh | D39: 4025 | E39: 4705 | J39: =+$G$17/1000 -> 0.059832048 | K39: =+$H$20/1000 -> 0.13773873 | L39: =(+F39+H39)*J39+(I39*K39) -> 0
B40: TOTAL | L40: =SUM(L29:L39) -> 4.5734731e+08
B43: Class A - non-RPP Global Adjustment | G43: =2030& " Test Year" -> 2030 Test Year
B44: Customer | D44: Revenue | E44: Expense | G44: kWh Volume | K44: Hist. Avg GA/kWh *** | L44: Amount
D45: 4035 | E45: 4707 | G45: =F31 -> 47834.207 | K45: 0.033448925 | L45: =+K45*G45 -> 1600.0028
D46: 4010 | E46: 4707 | G46: =F32 -> 1.0211601e+08 | K46: =K45 -> 0.033448925 | L46: =+K46*G46 -> 3415670.7
D47: 4010 | E47: 4707 | G47: =F33 -> 2.8616447e+08 | K47: =K46 -> 0.033448925 | L47: =+K47*G47 -> 9571893.7
D48: 4010 | E48: 4707 | G48: =F34 -> 5.5967102e+08 | K48: =K47 -> 0.033448925 | L48: =+K48*G48 -> 18720394
D49: 4010 | E49: 4707 | L49: =+K49*G49 -> 0
F50: =+F45+F46 -> 0 | G50: =SUM(G45:G49) -> 9.4799934e+08 | L50: =SUM(L45:L49) -> 31709558
B52: Class B - non-RPP Global Adjustment | G52: =2030& " Test Year" -> 2030 Test Year
B53: Customer | D53: Revenue | E53: Expense | L53: Amount
...

Sheet App.2-ZB_Cost of Power (2030)
A1: Cost of Power Calculation
J2: File Number: | K2: EB-2025-0312
J3: Exhibit: | K3: 2A
J4: Tab: | K4: 3
J5: Schedule: | K5: 1
J6: Page:
A7: All Volume should be loss adjusted with the exception of: | K7: Settlement Proposal
A8: 1. Volume for Electricity Commodity, Wholesale Market Services, Class A and B should loss adjusted less WMP | J8: Date: | K8: 46283
A9: 2. Low Voltage Charges - No loss adjustment for kWh
D10: =2030& " Test Year" -> 2030 Test Year | E10: RPP | H10: =D10 -> 2030 Test Year | I10: non-RPP | K10: Total
A11: Electricity Commodity | B11: Units | D11: Volume | E11: Rate | F11: $ | H11: Volume | I11: Rate | J11: $ | K11: $
A12: Class per Load Forecast
A13: Residential | D13: ='App.2-ZA_Com. Exp. (2030)'!I29 -> 1.6233745e+09 | F13: =D13*'App.2-ZA_Com. Exp. (2030)'!K29 -> 2.2360154e+08 | H13: ='App.2-ZA_Com. Exp. (2030)'!H29 -> 20132916 | J13: =H13*'App.2-ZA_Com. Exp. (2030)'!J29 -> 1204593.6
A14: Residential Seasonal | D14: ='App.2-ZA_Com. Exp. (2030)'!I30 -> 14805885 | F14: =D14*'App.2-ZA_Com. Exp. (2030)'!K30 -> 2039343.8 | H14: ='App.2-ZA_Com. Exp. (2030)'!H30 -> 183621 | J14: =H14*'App.2-ZA_Com. Exp. (2030)'!J30 -> 10986.421
A15: GS<50 | D15: ='App.2-ZA_Com. Exp. (2030)'!I31 -> 3.2013467e+08 | F15: =D15*'App.2-ZA_Com. Exp. (2030)'!K31 -> 44094943 | H15: ='App.2-ZA_Com. Exp. (2030)'!H31 -> 49917134 | J15: =H15*'App.2-ZA_Com. Exp. (2030)'!J31 -> 2986644.4
A16: GS 50 - 2,999 | D16: ='App.2-ZA_Com. Exp. (2030)'!I32 -> 4.8088783e+08 | F16: =D16*'App.2-ZA_Com. Exp. (2030)'!K32 -> 66236879 | H16: ='App.2-ZA_Com. Exp. (2030)'!H32 -> 8.2462798e+08 | J16: =H16*'App.2-ZA_Com. Exp. (2030)'!J32 -> 49339181
A17: GS 3,000 - 4,999 | D17: ='App.2-ZA_Com. Exp. (2030)'!I33 -> 9345803.2 | F17: =D17*'App.2-ZA_Com. Exp. (2030)'!K33 -> 1287279.1 | H17: ='App.2-ZA_Com. Exp. (2030)'!H33 -> 56842610 | J17: =H17*'App.2-ZA_Com. Exp. (2030)'!J33 -> 3401009.8
A18: Large Use | D18: ='App.2-ZA_Com. Exp. (2030)'!I34 -> 0 | F18: =D18*'App.2-ZA_Com. Exp. (2030)'!K34 -> 0 | H18: ='App.2-ZA_Com. Exp. (2030)'!H34 -> 74953563 | J18: =H18*'App.2-ZA_Com. Exp. (2030)'!J34 -> 4484625.2
A19: Street Light | D19: ='App.2-ZA_Com. Exp. (2030)'!I35 -> 0 | F19: =D19*'App.2-ZA_Com. Exp. (2030)'!K35 -> 0 | H19: ='App.2-ZA_Com. Exp. (2030)'!H35 -> 16894670 | J19: =H19*'App.2-ZA_Com. Exp. (2030)'!J35 -> 1010842.7
A20: Sentinel Light | D20: ='App.2-ZA_Com. Exp. (2030)'!I36 -> 86504.666 | F20: =D20*'App.2-ZA_Com. Exp. (2030)'!K36 -> 11915.043 | H20: ='App.2-ZA_Com. Exp. (2030)'!H36 -> 0 | J20: =H20*'App.2-ZA_Com. Exp. (2030)'!J36 -> 0
A21: USL | D21: ='App.2-ZA_Com. Exp. (2030)'!I37 -> 6654151.5 | F21: =D21*'App.2-ZA_Com. Exp. (2030)'!K37 -> 916534.37 | H21: ='App.2-ZA_Com. Exp. (2030)'!H37 -> 4222.7595 | J21: =H21*'App.2-ZA_Com. Exp. (2030)'!J37 -> 252.65635
D22: 0 | F22: 0 | H22: ='App.2-ZA_Com. Exp. (2030)'!H38 -> 0 | J22: 0
D23: 0 | F23: 0 | H23: ='App.2-ZA_Com. Exp. (2030)'!H39 -> 0 | J23: 0
A24: SUB-TOTAL | F24: =SUM(F13:F23) -> 3.3818844e+08 | J24: =SUM(J13:J23) -> 62438136 | K24: =F24+J24 -> 4.0062657e+08
A26: Global Adjustment non-RPP | B26: Units | D26: Volume | E26: Rate | F26: $ | H26: Volume | I26: Rate | J26: $ | K26: Total
A27: Class per Load Forecast
A28: =IF(A13="","",A13 & " - Class B") -> Residential - Class B | F28: =D28*E28 -> 0 | J28: ='App.2-ZA_Com. Exp. (2030)'!L55 -> 1355281.1
A29: =IF(A14="","",A14 & " - Class B") -> Residential Seasonal - Class B | F29: =D29*E29 -> 0 | J29: ='App.2-ZA_Com. Exp. (2030)'!L56 -> 12360.756
A30: =IF(A15="","",A15 & " - Class B") -> GS<50 - Class B | F30: =D30*E30 -> 0 | J30: ='App.2-ZA_Com. Exp. (2030)'!L57 -> 3360255.8
A31: =IF(A16="","",A16 & " - Class B") -> GS 50 - 2,999 - Class B | F31: =D31*E31 -> 0 | J31: ='App.2-ZA_Com. Exp. (2030)'!L58 -> 55511219
A32: =IF(A17="","",A17 & " - Class B") -> GS 3,000 - 4,999 - Class B | F32: =D32*E32 -> 0 | J32: ='App.2-ZA_Com. Exp. (2030)'!L59 -> 3826455.9
A33: =IF(A18="","",A18 & " - Class B") -> Large Use - Class B | F33: =D33*E33 -> 0 | J33: ='App.2-ZA_Com. Exp. (2030)'!L60 -> 5045625.1
A34: =IF(A19="","",A19 & " - Class B") -> Street Light - Class B | F34: =D34*E34 -> 0 | J34: ='App.2-ZA_Com. Exp. (2030)'!L61 -> 1137293.1
A35: =IF(A20="","",A20 & " - Class B") -> Sentinel Light - Class B | F35: =D35*E35 -> 0 | J35: ='App.2-ZA_Com. Exp. (2030)'!L62 -> 0
A36: =IF(A21="","",A21 & " - Class B") -> USL - Class B | F36: =D36*E36 -> 0 | J36: ='App.2-ZA_Com. Exp. (2030)'!L63 -> 284.26216
A37: =IF(A22="","",A22 & " - Class B") | F37: =D37*E37 -> 0 | J37: 0
A38: =IF(A23="","",A23 & " - Class B") | F38: =D38*E38 -> 0 | J38: 0
F39: =D39*E39 -> 0 | J39: ='App.2-ZA_Com. Exp. (2030)'!L45 -> 1600.0028
F40: =D40*E40 -> 0 | J40: ='App.2-ZA_Com. Exp. (2030)'!L46 -> 3415670.7
F41: =D41*E41 -> 0 | J41: ='App.2-ZA_Com. Exp. (2030)'!L47 -> 9571893.7
...

Sheet App.2-ZA_Com. Exp. (2031)
K2: File Number: | L2: EB-2025-0312
K3: Exhibit: | L3: 2A
B4: Commodity Expense | K4: Tab: | L4: 3
K5: Schedule: | L5: 1
K6: Page:
L7: Settlement Proposal
K8: Date: | L8: 46283
A12: Step 1: | B12: Commodity Pricing
B15: Forecasted Commodity Prices | C15: Table 1: Average RPP Supply Cost Summary* | G15: non-RPP | H15: RPP
B17: HOEP ($/MWh) | C17: Load-Weighted Price for RPP Consumers | G17: 61.62701 | H17: =G17 -> 61.62701
B18: Global Adjustment ($/MWh) | C18: Impact of the Global Adjustment | G18: 69.336182 | H18: =G18 -> 69.336182
B19: Adjustments ($/MWh) | H19: 10.59
B20: TOTAL ($/MWh) | C20: Average Supply Cost for RPP Consumers | H20: =SUM(H17:H19) -> 141.55319
A23: Step 2: | B23: Commodity Expense
B24: (volumes for the test year is loss adjusted)
B26: Commodity | G26: 2031 Test Year
B27: Customer | D27: Revenue | E27: Expense
B28: Class Name | C28: UoM | D28: USoA # | E28: USoA # | F28: Class A Non-RPP Volume** | H28: Class B Non-RPP Volume** | I28: Class B RPP Volume** | J28: Average HOEP | K28: Average RPP Rate | L28: Amount
B29: Residential | C29: kWh | D29: 4006 | E29: 4705 | F29: 0 | H29: 20563850 | I29: 1.6581219e+09 | J29: =+$G$17/1000 -> 0.06162701 | K29: =+$H$20/1000 -> 0.14155319 | L29: =(+F29+H29)*J29+(I29*K29) -> 2.3597974e+08
B30: Residential Seasonal | C30: kWh | D30: 4010 | E30: 4705 | F30: 0 | H30: 189657.31 | I30: 15292610 | J30: =+$G$17/1000 -> 0.06162701 | K30: =+$H$20/1000 -> 0.14155319 | L30: =(+F30+H30)*J30+(I30*K30) -> 2176405.8
B31: GS<50 | C31: kWh | D31: 4035 | E31: 4705 | F31: 47972.281 | H31: 50061220 | I31: 3.2105874e+08 | J31: =+$G$17/1000 -> 0.06162701 | K31: =+$H$20/1000 -> 0.14155319 | L31: =(+F31+H31)*J31+(I31*K31) -> 48534969
B32: GS 50 - 2,999 | C32: kWh | D32: 4010 | E32: 4705 | F32: 1.0221361e+08 | H32: 8.2541617e+08 | I32: 4.8134747e+08 | J32: =+$G$17/1000 -> 0.06162701 | K32: =+$H$20/1000 -> 0.14155319 | L32: =(+F32+H32)*J32+(I32*K32) -> 1.2530332e+08
B33: GS 3,000 - 4,999 | C33: kWh | D33: 4025 | E33: 4705 | F33: 2.9605487e+08 | H33: 58807201 | I33: 9668812.4 | J33: =+$G$17/1000 -> 0.06162701 | K33: =+$H$20/1000 -> 0.14155319 | L33: =(+F33+H33)*J33+(I33*K33) -> 23237739
B34: Large Use | C34: kWh | D34: 4025 | E34: 4705 | F34: 5.6625566e+08 | H34: 75835406 | I34: 0 | J34: =+$G$17/1000 -> 0.06162701 | K34: =+$H$20/1000 -> 0.14155319 | L34: =(+F34+H34)*J34+(I34*K34) -> 39570152
B35: Street Light | C35: kWh | D35: 4025 | E35: 4705 | F35: 0 | H35: 17107206 | I35: 0 | J35: =+$G$17/1000 -> 0.06162701 | K35: =+$H$20/1000 -> 0.14155319 | L35: =(+F35+H35)*J35+(I35*K35) -> 1054265.9
B36: Sentinel Light | C36: kWh | D36: 4025 | E36: 4705 | F36: 0 | H36: 0 | I36: 85043.082 | J36: =+$G$17/1000 -> 0.06162701 | K36: =+$H$20/1000 -> 0.14155319 | L36: =(+F36+H36)*J36+(I36*K36) -> 12038.12
B37: USL | C37: kWh | D37: 4025 | E37: 4705 | F37: 0 | H37: 4204.1748 | I37: 6624866 | J37: =+$G$17/1000 -> 0.06162701 | K37: =+$H$20/1000 -> 0.14155319 | L37: =(+F37+H37)*J37+(I37*K37) -> 938030.03
C38: kWh | D38: 4025 | E38: 4705 | J38: =+$G$17/1000 -> 0.06162701 | K38: =+$H$20/1000 -> 0.14155319 | L38: =(+F38+H38)*J38+(I38*K38) -> 0
C39: kWh | D39: 4025 | E39: 4705 | J39: =+$G$17/1000 -> 0.06162701 | K39: =+$H$20/1000 -> 0.14155319 | L39: =(+F39+H39)*J39+(I39*K39) -> 0
B40: TOTAL | L40: =SUM(L29:L39) -> 4.7680666e+08
B43: Class A - non-RPP Global Adjustment | G43: 2031 Test Year
B44: Customer | D44: Revenue | E44: Expense | G44: kWh Volume | K44: Hist. Avg GA/kWh *** | L44: Amount
D45: 4035 | E45: 4707 | G45: =F31 -> 47972.281 | K45: 0.034452392 | L45: =+K45*G45 -> 1652.7599
D46: 4010 | E46: 4707 | G46: =F32 -> 1.0221361e+08 | K46: =K45 -> 0.034452392 | L46: =+K46*G46 -> 3521503.5
D47: 4010 | E47: 4707 | G47: =F33 -> 2.9605487e+08 | K47: =K46 -> 0.034452392 | L47: =+K47*G47 -> 10199798
D48: 4010 | E48: 4707 | G48: =F34 -> 5.6625566e+08 | K48: =K47 -> 0.034452392 | L48: =+K48*G48 -> 19508862
D49: 4010 | E49: 4707 | L49: =+K49*G49 -> 0
F50: =+F45+F46 -> 0 | G50: =SUM(G45:G49) -> 9.6457212e+08 | L50: =SUM(L45:L49) -> 33231817
B52: Class B - non-RPP Global Adjustment | G52: 2031 Test Year
B53: Customer | D53: Revenue | E53: Expense | L53: Amount
...

Sheet App.2-ZB_Cost of Power (2031)
A1: Cost of Power Calculation
J2: File Number: | K2: EB-2025-0312
J3: Exhibit: | K3: 2A
J4: Tab: | K4: 3
J5: Schedule: | K5: 1
J6: Page:
A7: All Volume should be loss adjusted with the exception of: | K7: Settlement Proposal
A8: 1. Volume for Electricity Commodity, Wholesale Market Services, Class A and B should loss adjusted less WMP | J8: Date: | K8: 46283
A9: 2. Low Voltage Charges - No loss adjustment for kWh
D10: 2031 Test Year | E10: RPP | H10: =D10 -> 2031 Test Year | I10: non-RPP | K10: Total
A11: Electricity Commodity | B11: Units | D11: Volume | E11: Rate | F11: $ | H11: Volume | I11: Rate | J11: $ | K11: $
A12: Class per Load Forecast
A13: Residential | D13: ='App.2-ZA_Com. Exp. (2031)'!I29 -> 1.6581219e+09 | F13: =D13*'App.2-ZA_Com. Exp. (2031)'!K29 -> 2.3471245e+08 | H13: ='App.2-ZA_Com. Exp. (2031)'!H29 -> 20563850 | J13: =H13*'App.2-ZA_Com. Exp. (2031)'!J29 -> 1267288.6
A14: Residential Seasonal | D14: ='App.2-ZA_Com. Exp. (2031)'!I30 -> 15292610 | F14: =D14*'App.2-ZA_Com. Exp. (2031)'!K30 -> 2164717.8 | H14: ='App.2-ZA_Com. Exp. (2031)'!H30 -> 189657.31 | J14: =H14*'App.2-ZA_Com. Exp. (2031)'!J30 -> 11688.013
A15: GS<50 | D15: ='App.2-ZA_Com. Exp. (2031)'!I31 -> 3.2105874e+08 | F15: =D15*'App.2-ZA_Com. Exp. (2031)'!K31 -> 45446889 | H15: ='App.2-ZA_Com. Exp. (2031)'!H31 -> 50061220 | J15: =H15*'App.2-ZA_Com. Exp. (2031)'!J31 -> 3085123.3
A16: GS 50 - 2,999 | D16: ='App.2-ZA_Com. Exp. (2031)'!I32 -> 4.8134747e+08 | F16: =D16*'App.2-ZA_Com. Exp. (2031)'!K32 -> 68136270 | H16: ='App.2-ZA_Com. Exp. (2031)'!H32 -> 8.2541617e+08 | J16: =H16*'App.2-ZA_Com. Exp. (2031)'!J32 -> 50867930
A17: GS 3,000 - 4,999 | D17: ='App.2-ZA_Com. Exp. (2031)'!I33 -> 9668812.4 | F17: =D17*'App.2-ZA_Com. Exp. (2031)'!K33 -> 1368651.3 | H17: ='App.2-ZA_Com. Exp. (2031)'!H33 -> 58807201 | J17: =H17*'App.2-ZA_Com. Exp. (2031)'!J33 -> 3624112
A18: Large Use | D18: ='App.2-ZA_Com. Exp. (2031)'!I34 -> 0 | F18: =D18*'App.2-ZA_Com. Exp. (2031)'!K34 -> 0 | H18: ='App.2-ZA_Com. Exp. (2031)'!H34 -> 75835406 | J18: =H18*'App.2-ZA_Com. Exp. (2031)'!J34 -> 4673509.3
A19: Street Light | D19: ='App.2-ZA_Com. Exp. (2031)'!I35 -> 0 | F19: =D19*'App.2-ZA_Com. Exp. (2031)'!K35 -> 0 | H19: ='App.2-ZA_Com. Exp. (2031)'!H35 -> 17107206 | J19: =H19*'App.2-ZA_Com. Exp. (2031)'!J35 -> 1054265.9
A20: Sentinel Light | D20: ='App.2-ZA_Com. Exp. (2031)'!I36 -> 85043.082 | F20: =D20*'App.2-ZA_Com. Exp. (2031)'!K36 -> 12038.12 | H20: ='App.2-ZA_Com. Exp. (2031)'!H36 -> 0 | J20: =H20*'App.2-ZA_Com. Exp. (2031)'!J36 -> 0
A21: USL | D21: ='App.2-ZA_Com. Exp. (2031)'!I37 -> 6624866 | F21: =D21*'App.2-ZA_Com. Exp. (2031)'!K37 -> 937770.94 | H21: ='App.2-ZA_Com. Exp. (2031)'!H37 -> 4204.1748 | J21: =H21*'App.2-ZA_Com. Exp. (2031)'!J37 -> 259.09072
D22: 0 | F22: 0 | H22: ='App.2-ZA_Com. Exp. (2031)'!H38 -> 0 | J22: 0
D23: 0 | F23: 0 | H23: ='App.2-ZA_Com. Exp. (2031)'!H39 -> 0 | J23: 0
A24: SUB-TOTAL | F24: =SUM(F13:F23) -> 3.5277879e+08 | J24: =SUM(J13:J23) -> 64584176 | K24: =F24+J24 -> 4.1736296e+08
A26: Global Adjustment non-RPP | B26: Units | D26: Volume | E26: Rate | F26: $ | H26: Volume | I26: Rate | J26: $ | K26: Total
A27: Class per Load Forecast
A28: =IF(A13="","",A13 & " - Class B") -> Residential - Class B | F28: =D28*E28 -> 0 | J28: ='App.2-ZA_Com. Exp. (2031)'!L55 -> 1425818.9
A29: =IF(A14="","",A14 & " - Class B") -> Residential Seasonal - Class B | F29: =D29*E29 -> 0 | J29: ='App.2-ZA_Com. Exp. (2031)'!L56 -> 13150.114
A30: =IF(A15="","",A15 & " - Class B") -> GS<50 - Class B | F30: =D30*E30 -> 0 | J30: ='App.2-ZA_Com. Exp. (2031)'!L57 -> 3471053.9
A31: =IF(A16="","",A16 & " - Class B") -> GS 50 - 2,999 - Class B | F31: =D31*E31 -> 0 | J31: ='App.2-ZA_Com. Exp. (2031)'!L58 -> 57231206
A32: =IF(A17="","",A17 & " - Class B") -> GS 3,000 - 4,999 - Class B | F32: =D32*E32 -> 0 | J32: ='App.2-ZA_Com. Exp. (2031)'!L59 -> 4077466.8
A33: =IF(A18="","",A18 & " - Class B") -> Large Use - Class B | F33: =D33*E33 -> 0 | J33: ='App.2-ZA_Com. Exp. (2031)'!L60 -> 5258137.5
A34: =IF(A19="","",A19 & " - Class B") -> Street Light - Class B | F34: =D34*E34 -> 0 | J34: ='App.2-ZA_Com. Exp. (2031)'!L61 -> 1186148.3
A35: =IF(A20="","",A20 & " - Class B") -> Sentinel Light - Class B | F35: =D35*E35 -> 0 | J35: ='App.2-ZA_Com. Exp. (2031)'!L62 -> 0
A36: =IF(A21="","",A21 & " - Class B") -> USL - Class B | F36: =D36*E36 -> 0 | J36: ='App.2-ZA_Com. Exp. (2031)'!L63 -> 291.50143
A37: =IF(A22="","",A22 & " - Class B") | F37: =D37*E37 -> 0 | J37: 0
A38: =IF(A23="","",A23 & " - Class B") | F38: =D38*E38 -> 0 | J38: 0
F39: =D39*E39 -> 0 | J39: ='App.2-ZA_Com. Exp. (2031)'!L45 -> 1652.7599
F40: =D40*E40 -> 0 | J40: ='App.2-ZA_Com. Exp. (2031)'!L46 -> 3521503.5
F41: =D41*E41 -> 0 | J41: ='App.2-ZA_Com. Exp. (2031)'!L47 -> 10199798
...
