Workbook
Name TestYear: #REF!

Sheet App.2-JA OM&A Summary Analys
N1: 0 | P1: File Number: | Q1: EB-2025-0312 | X1: Last Rebasing Year | Y1: Column
P2: Exhibit: | Q2: 4 | X2: 2010 | Y2: B | AD2: ae
P3: Tab: | Q3: 1 | X3: 2011 | Y3: D | AD3: ah
P4: Schedule: | Q4: 1 | X4: 2012 | Y4: G | AD4: ak
A5: Show RRR data | P5: Page: | X5: 2013 | Y5: J | AD5: an
A6: Yes | Q6: Settlement Proposal | X6: 2014 | Y6: M | AD6: aq
P7: Date: | Q7: 46283 | X7: 2015 | Y7: P | AD7: at
X8: 2016 | Y8: S | AD8: aw
A9: Appendix 2-JA | X9: 2017 | Y9: V | AD9: az
A10: Summary of Recoverable OM&A Expenses6
B11: 0 | C11: 2011 | D11: 2012 | E11: 2013 | F11: 2014 | G11: 2015 | H11: 2016 | I11: 2017 | J11: 2018 | K11: 2020 | L11: 2021 | M11: 2022 | N11: 2023 | O11: 2024 | P11: =BridgeYear -> #NAME? | Q11: 2026 | Z11: =C11 -> 2011 | AA11: =D11 -> 2012 | AB11: =E11 -> 2013 | AC11: =F11 -> 2014 | AD11: =G11 -> 2015 | AE11: =H11 -> 2016 | AF11: =I11 -> 2017 | AG11: =J11 -> 2018 | AH11: =#REF! -> #REF! | AI11: =K11 -> 2020 | AJ11: =L11 -> 2021 | AK11: =M11 -> 2022 | AL11: =N11 -> 2023 | AM11: =O11 -> 2024 | AN11: =P11 -> #NAME? | AP11: =Q11 -> 2026 | AR11: 2027 | AT11: 2028 | AU11: 2029 | AV11: 2030 | AW11: 2031
B12: Last Rebasing Year OEB Approved | C12: =CONCATENATE(C11," ",IF($W1=C11,"Last Rebasing Year ",""),"Actuals") -> 2011 Actuals | D12: =CONCATENATE(D11," ",IF($W1=D11,"Last Rebasing Year ",""),"Actuals") -> 2012 Actuals | E12: =CONCATENATE(E11," ",IF($W1=E11,"Last Rebasing Year ",""),"Actuals") -> 2013 Actuals | F12: =CONCATENATE(F11," ",IF($W1=F11,"Last Rebasing Year ",""),"Actuals") -> 2014 Actuals | G12: =CONCATENATE(G11," ",IF($W1=G11,"Last Rebasing Year ",""),"Actuals") -> 2015 Actuals | H12: =CONCATENATE(H11," ",IF($W1=H11,"Last Rebasing Year ",""),"Actuals") -> 2016 Actuals | I12: =CONCATENATE(I11," ",IF($W1=I11,"Last Rebasing Year ",""),"Actuals") -> 2017 Actuals | J12: =CONCATENATE(J11," ",IF($W1=J11,"Last Rebasing Year ",""),"Actuals") -> 2018 Actuals | ... O12: =CONCATENATE(O11," ",IF($W1=O11,"Last Rebasing Year ",""),"Actuals") -> 2024 Actuals | P12: =BridgeYear & " Bridge Year (Actuals)" -> #NAME? | Q12: 2026 Bridge Year | R12: 2027 Test Year | S12: 2028 Forecast | T12: 2029 Forecast | U12: 2030 Forecast | V12: 2031 Forecast | Z12: =CONCATENATE(IF($W1=Z11,"Last Rebasing Year ",""),Z11," Actuals") -> 2011 Actuals | AA12: =CONCATENATE(IF($W1=AA11,"Last Rebasing Year ",""),AA11," Actuals") -> 2012 Actuals | AB12: =CONCATENATE(IF($W1=AB11,"Last Rebasing Year ",""),AB11," Actuals") -> 2013 Actuals | AC12: =CONCATENATE(IF($W1=AC11,"Last Rebasing Year ",""),AC11," Actuals") -> 2014 Actuals | AD12: =CONCATENATE(IF($W1=AD11,"Last Rebasing Year ",""),AD11," Actuals") -> 2015 Actuals | AE12: =CONCATENATE(IF($W1=AE11,"Last Rebasing Year ",""),AE11," Actuals") -> 2016 Actuals | AF12: =CONCATENATE(IF($W1=AF11,"Last Rebasing Year ",""),AF11," Actuals") -> 2017 Actuals | AG12: =CONCATENATE(IF($W1=AG11,"Last Rebasing Year ",""),AG11," Actuals") -> 2018 Actuals | ... AM12: =CONCATENATE(IF($W1=AM11,"Last Rebasing Year ",""),AM11," Actuals") -> 2024 Actuals | AN12: 2025 Bridge Year | AO12: Variance 2025 Bridge vs. 2024 Actuals | AP12: =CONCATENATE(AP11," Bridge Year") -> 2026 Bridge Year | AQ12: =CONCATENATE("Variance ",AP11," Bridge vs. ",AP11-1," Bridge") -> Variance 2026 Bridge vs. 2025 Bridge | AR12: 2027 Test Year | AS12: =CONCATENATE("Variance ",AR11," Bridge vs. ",AR11-1," Bridge") -> Variance 2027 Bridge vs. 2026 Bridge | AT12: =AT11 -> 2028 | AU12: =AU11 -> 2029 | AV12: =AV11 -> 2030 | AW12: =AW11 -> 2031
A13: Reporting Basis | B13: MIFRS | K13: MIFRS | L13: MIFRS | M13: MIFRS | N13: MIFRS | O13: MIFRS | P13: MIFRS | Q13: MIFRS | R13: MIFRS | S13: MIFRS | T13: MIFRS | U13: MIFRS | V13: MIFRS | Y13: Operations | Z13: =C14 -> #N/A | AA13: =D14 -> #N/A | AB13: =E14 -> #N/A | AC13: =F14 -> #N/A | AD13: =G14 -> #N/A | AE13: =H14 -> #N/A | AF13: =I14 -> #N/A | AG13: =J14 -> #N/A | AH13: =#REF! -> #REF! | AI13: =K14 -> 9748687 | AJ13: =L14 -> 10180787 | AK13: =M14 -> 11638182 | AL13: =N14 -> 11348933 | AM13: =O14 -> 12992986 | AN13: =P14 -> 12109874 | AO13: =AN13-AM13 -> -883111.65 | AP13: =Q14 -> 17019714 | AQ13: =AP13-AN13 -> 4909840.3 | AR13: =R14 -> 21490436 | AS13: =AR13-AP13 -> 4470721.5 | AT13: =S14 -> 0 | AU13: =T14 -> 0 | AV13: =U14 -> 0 | AW13: =V14 -> 0
A14: Operations | C14: #N/A | D14: #N/A | E14: #N/A | F14: #N/A | G14: #N/A | H14: #N/A | I14: #N/A | J14: #N/A | K14: 9748687 | L14: 10180787 | M14: 11638182 | N14: 11348933 | O14: 12992986 | P14: 12109874 | Q14: 17019714 | R14: 21490436 | Y14: Maintenance | Z14: =C15 -> #N/A | AA14: =D15 -> #N/A | AB14: =E15 -> #N/A | AC14: =F15 -> #N/A | AD14: =G15 -> #N/A | AE14: =H15 -> #N/A | AF14: =I15 -> #N/A | AG14: =J15 -> #N/A | AH14: =#REF! -> #REF! | AI14: =K15 -> 4229032.2 | AJ14: =L15 -> 4744305.7 | AK14: =M15 -> 4068368.5 | AL14: =N15 -> 4203636.5 | AM14: =O15 -> 7443163.7 | AN14: =P15 -> 7771862.7 | AO14: =AN14-AM14 -> 328698.99 | AP14: =Q15 -> 6525246.8 | AQ14: =AP14-AN14 -> -1246615.9 | AR14: =R15 -> 7971512.8 | AS14: =AR14-AP14 -> 1446266 | AT14: =S15 -> 0 | AU14: =T15 -> 0 | AV14: =U15 -> 0 | AW14: =V15 -> 0
A15: Maintenance | C15: #N/A | D15: #N/A | E15: #N/A | F15: #N/A | G15: #N/A | H15: #N/A | I15: #N/A | J15: #N/A | K15: 4229032.2 | L15: 4744305.7 | M15: 4068368.5 | N15: 4203636.5 | O15: 7443163.7 | P15: 7771862.7 | Q15: 6525246.8 | R15: 7971512.8 | Y15: Billing and Collecting | Z15: =C19 -> #N/A | AA15: =D19 -> #N/A | AB15: =E19 -> #N/A | AC15: =F19 -> #N/A | AD15: =G19 -> #N/A | AE15: =H19 -> #N/A | AF15: =I19 -> #N/A | AG15: =J19 -> #N/A | AH15: =#REF! -> #REF! | AI15: =K19 -> 11355587 | AJ15: =L19 -> 10770334 | AK15: =M19 -> 10017119 | AL15: =N19 -> 10583609 | AM15: =O19 -> 11581087 | AN15: =P19 -> 14162786 | AO15: =AN15-AM15 -> 2581698.5 | AP15: =Q19 -> 13203354 | AQ15: =AP15-AN15 -> -959431.8 | AR15: =R19 -> 13851522 | AS15: =AR15-AP15 -> 648167.46 | AT15: =S19 -> 0 | AU15: =T19 -> 0 | AV15: =U19 -> 0 | AW15: =V19 -> 0
A16: SubTotal | B16: =SUM(B14:B15) -> 0 | C16: =SUM(C14:C15) -> #N/A | D16: =SUM(D14:D15) -> #N/A | E16: =SUM(E14:E15) -> #N/A | F16: =SUM(F14:F15) -> #N/A | G16: =SUM(G14:G15) -> #N/A | H16: =SUM(H14:H15) -> #N/A | I16: =SUM(I14:I15) -> #N/A | ... V16: =SUM(V14:V15) -> 0 | Y16: Community Relations | Z16: =C20 -> #N/A | AA16: =D20 -> #N/A | AB16: =E20 -> #N/A | AC16: =F20 -> #N/A | AD16: =G20 -> #N/A | AE16: =H20 -> #N/A | AF16: =I20 -> #N/A | AG16: =J20 -> #N/A | AH16: =#REF! -> #REF! | AI16: =K20 -> 10083.5 | AJ16: =L20 -> 209037.49 | AK16: =M20 -> 572372.72 | AL16: =N20 -> 524888.58 | AM16: =O20 -> 576712.71 | AN16: =P20 -> 732386.26 | AO16: =AN16-AM16 -> 155673.55 | AP16: =Q20 -> 906644.53 | AQ16: =AP16-AN16 -> 174258.27 | AR16: =R20 -> 973788.48 | AS16: =AR16-AP16 -> 67143.954 | AT16: =S20 -> 0 | AU16: =T20 -> 0 | AV16: =U20 -> 0 | AW16: =V20 -> 0
A17: %Change (year over year) | C17: =IFERROR((C16-B16)/B16,"") | D17: =IFERROR((D16-C16)/C16,"") | E17: =IFERROR((E16-D16)/D16,"") | F17: =IFERROR((F16-E16)/E16,"") | G17: =IFERROR((G16-F16)/F16,"") | H17: =IFERROR((H16-G16)/G16,"") | I17: =IFERROR((I16-H16)/H16,"") | J17: =IFERROR((J16-I16)/I16,"") | K17: =IFERROR((K16-#REF!)/#REF!,"") | L17: =IFERROR((L16-K16)/K16,"") -> 0.067777367 | M17: =IFERROR((M16-L16)/L16,"") -> 0.05235872 | N17: =IFERROR((N16-M16)/M16,"") -> -0.0098036705 | O17: =IFERROR((O16-N16)/N16,"") -> 0.31400472 | P17: =IFERROR((P16-O16)/O16,"") -> -0.027129018 | Q17: =IFERROR((Q16-P16)/P16,"") -> 0.18425073 | R17: =IFERROR((R16-Q16)/Q16,"") -> 0.25130589 | S17: =IFERROR((S16-R16)/R16,"") -> -1 | ... V17: =IFERROR((V16-U16)/U16,"") | Y17: Administrative and General | Z17: =C21 -> #N/A | AA17: =D21 -> #N/A | AB17: =E21 -> #N/A | AC17: =F21 -> #N/A | AD17: =G21 -> #N/A | AE17: =H21 -> #N/A | AF17: =I21 -> #N/A | AG17: =J21 -> #N/A | AH17: =#REF! -> #REF! | AI17: =K21 -> 16960746 | AJ17: =L21 -> 17011246 | AK17: =M21 -> 18622420 | AL17: =N21 -> 20001129 | AM17: =O21 -> 21006426 | AN17: =P21 -> 26248321 | AO17: =AN17-AM17 -> 5241894.5 | AP17: =Q21 -> 26436219 | AQ17: =AP17-AN17 -> 187898.75 | AR17: =R21 -> 37748329 | AS17: =AR17-AP17 -> 11312109 | AT17: =S21 -> 0 | AU17: =T21 -> 0 | AV17: =U21 -> 0 | AW17: =V21 -> 0
A18: %Change (Test Year vs Last Rebasing Year - Actual) | Q18: =IFERROR((Q16-INDEX(B16:Q16,1,MATCH(RebaseYear,B11:Q11,0)))/INDEX(B16:Q16,1,MATCH(RebaseYear,B11:Q11,0)),"") | R18: =IFERROR((R16-INDEX(C16:R16,1,MATCH(RebaseYear,C11:R11,0)))/INDEX(C16:R16,1,MATCH(RebaseYear,C11:R11,0)),"") | S18: =IFERROR((S16-INDEX(D16:S16,1,MATCH(RebaseYear,D11:S11,0)))/INDEX(D16:S16,1,MATCH(RebaseYear,D11:S11,0)),"") | T18: =IFERROR((T16-INDEX(E16:T16,1,MATCH(RebaseYear,E11:T11,0)))/INDEX(E16:T16,1,MATCH(RebaseYear,E11:T11,0)),"") | U18: =IFERROR((U16-INDEX(F16:U16,1,MATCH(RebaseYear,F11:U11,0)))/INDEX(F16:U16,1,MATCH(RebaseYear,F11:U11,0)),"") | V18: =IFERROR((V16-INDEX(G16:V16,1,MATCH(RebaseYear,G11:V11,0)))/INDEX(G16:V16,1,MATCH(RebaseYear,G11:V11,0)),"") | Y18: Total OM&A Expenses | Z18: =C25 -> #N/A | AA18: =D25 -> #N/A | AB18: =E25 -> #N/A | AC18: =F25 -> #N/A | AD18: =G25 -> #N/A | AE18: =H25 -> #N/A | AF18: =I25 -> #N/A | AG18: =J25 -> #N/A | AH18: =#REF! -> #REF! | AI18: =K25 -> 42304136 | AJ18: =L25 -> 42915710 | AK18: =M25 -> 44918463 | AL18: =N25 -> 46662196 | AM18: =O25 -> 53600375 | AN18: =P25 -> 61025229 | AO18: =AN18-AM18 -> 7424853.9 | AP18: =Q25 -> 64091179 | AQ18: =AP18-AN18 -> 3065949.6 | AR18: =R25 -> 82035587 | AS18: =AR18-AP18 -> 17944408 | AT18: =S25 -> 0 | AU18: =T25 -> 0 | AV18: =U25 -> 0 | AW18: =V25 -> 0
A19: Billing and Collecting | C19: #N/A | D19: #N/A | E19: #N/A | F19: #N/A | G19: #N/A | H19: #N/A | I19: #N/A | J19: #N/A | K19: 11355587 | L19: 10770334 | M19: 10017119 | N19: 10583609 | O19: 11581087 | P19: 14162786 | Q19: 13203354 | R19: 13851522 | Y19: Adjustments for Total non-recoverable items3
A20: Community Relations | C20: #N/A | D20: #N/A | E20: #N/A | F20: #N/A | G20: #N/A | H20: #N/A | I20: #N/A | J20: #N/A | K20: 10083.5 | L20: 209037.49 | M20: 572372.72 | N20: 524888.58 | O20: 576712.71 | P20: 732386.26 | Q20: 906644.53 | R20: 973788.48 | Y20: Total Recoverable OM&A Expenses | Z20: =IF(Z11<RebaseYear, 0, Z18-Z19) -> #NAME? | AA20: =IF(AA11<RebaseYear, 0, AA18-AA19) -> #NAME? | AB20: =IF(AB11<RebaseYear, 0, AB18-AB19) -> #NAME? | AC20: =IF(AC11<RebaseYear, 0, AC18-AC19) -> #NAME? | AD20: =IF(AD11<RebaseYear, 0, AD18-AD19) -> #NAME? | AE20: =IF(AE11<RebaseYear, 0, AE18-AE19) -> #NAME? | AF20: =IF(AF11<RebaseYear, 0, AF18-AF19) -> #NAME? | AG20: =IF(AG11<RebaseYear, 0, AG18-AG19) -> #NAME? | AH20: =IF(AH11<RebaseYear, 0, AH18-AH19) -> #REF! | AI20: =AI18-AI19 -> 42304136 | AJ20: =AJ18-AJ19 -> 42915710 | AK20: =AK18-AK19 -> 44918463 | AL20: =AL18-AL19 -> 46662196 | AM20: =AM18-AM19 -> 53600375 | AN20: =AN18-AN19 -> 61025229 | AO20: =AO18-AO19 -> 7424853.9 | AP20: =AP18-AP19 -> 64091179 | ... AW20: =AW18-AW19 -> 0
A21: Administrative and General | C21: #N/A | D21: #N/A | E21: #N/A | F21: #N/A | G21: #N/A | H21: #N/A | I21: #N/A | J21: #N/A | K21: 16960746 | L21: 17011246 | M21: 18622420 | N21: 20001129 | O21: 21006426 | P21: 26248321 | Q21: 26436219 | R21: 37748329 | Y21: Variance from previous year | AA21: =IF(AA11<=RebaseYear, 0, AA20-Z20) -> #NAME? | AB21: =IF(AB11<=RebaseYear, 0, AB20-AA20) -> #NAME? | AC21: =IF(AC11<=RebaseYear, 0, AC20-AB20) -> #NAME? | AD21: =IF(AD11<=RebaseYear, 0, AD20-AC20) -> #NAME? | AE21: =IF(AE11<=RebaseYear, 0, AE20-AD20) -> #NAME? | AF21: =IF(AF11<=RebaseYear, 0, AF20-AE20) -> #NAME? | AG21: =IF(AG11<=RebaseYear, 0, AG20-AF20) -> #NAME? | AH21: =IF(AH11<=RebaseYear, 0, AH20-AG20) -> #REF! | AJ21: =AJ20-AI20 -> 611574.13 | AK21: =AK20-AJ20 -> 2002752.9 | AL21: =AL20-AK20 -> 1743733.7 | AM21: =AM20-AL20 -> 6938179.2 | AN21: =AN20-AM20 -> 7424853.9 | AP21: =AP20-AN20 -> 3065949.6 | AR21: =AR20-AP20 -> 17944408 | AU21: =AU20-AT20 -> 0 | AV21: =AV20-AU20 -> 0 | AW21: =AW20-AV20 -> 0
A22: SubTotal | B22: =SUM(B19:B21) -> 0 | C22: =SUM(C19:C21) -> #N/A | D22: =SUM(D19:D21) -> #N/A | E22: =SUM(E19:E21) -> #N/A | F22: =SUM(F19:F21) -> #N/A | G22: =SUM(G19:G21) -> #N/A | H22: =SUM(H19:H21) -> #N/A | I22: =SUM(I19:I21) -> #N/A | ... V22: =SUM(V19:V21) -> 0 | Y22: Percent change (year over year) | AA22: =IF(AA11<=RebaseYear, "", IF(ISERROR(AA21/Z20), "", AA21/Z20)) -> #NAME? | AB22: =IF(AB11<=RebaseYear, "", IF(ISERROR(AB21/AA20), "", AB21/AA20)) -> #NAME? | AC22: =IF(AC11<=RebaseYear, "", IF(ISERROR(AC21/AB20), "", AC21/AB20)) -> #NAME? | AD22: =IF(AD11<=RebaseYear, "", IF(ISERROR(AD21/AC20), "", AD21/AC20)) -> #NAME? | AE22: =IF(AE11<=RebaseYear, "", IF(ISERROR(AE21/AD20), "", AE21/AD20)) -> #NAME? | AF22: =IF(AF11<=RebaseYear, "", IF(ISERROR(AF21/AE20), "", AF21/AE20)) -> #NAME? | AG22: =IF(AG11<=RebaseYear, "", IF(ISERROR(AG21/AF20), "", AG21/AF20)) -> #NAME? | AH22: =IF(AH11<=RebaseYear, "", IF(ISERROR(AH21/AG20), "", AH21/AG20)) -> #REF! | AJ22: =AJ21/AI20 -> 0.014456604 | AK22: =AK21/AJ20 -> 0.046667126 | AL22: =AL21/AK20 -> 0.038819978 | AM22: =AM21/AL20 -> 0.14868951 | AN22: =AN21/AM20 -> 0.13852242 | AP22: 0.05024069 | AR22: 0.27998249 | AT22: -1
A23: %Change (year over year) | C23: =IFERROR((C22-B22)/B22,"") | D23: =IFERROR((D22-C22)/C22,"") | E23: =IFERROR((E22-D22)/D22,"") | F23: =IFERROR((F22-E22)/E22,"") | G23: =IFERROR((G22-F22)/F22,"") | H23: =IFERROR((H22-G22)/G22,"") | I23: =IFERROR((I22-H22)/H22,"") | J23: =IFERROR((J22-I22)/I22,"") | K23: =IFERROR((K22-#REF!)/#REF!,"") | L23: =IFERROR((L22-K22)/K22,"") -> -0.011854619 | M23: =IFERROR((M22-L22)/L22,"") -> 0.043632268 | N23: =IFERROR((N22-M22)/M22,"") -> 0.064963759 | O23: =IFERROR((O22-N22)/N22,"") -> 0.066043833 | P23: =IFERROR((P22-O22)/O22,"") -> 0.24059861 | Q23: =IFERROR((Q22-P22)/P22,"") -> -0.014516871 | R23: =IFERROR((R22-Q22)/Q22,"") -> 0.29663483 | S23: =IFERROR((S22-R22)/R22,"") -> -1 | ... V23: =IFERROR((V22-U22)/U22,"") | Y23: Percent Change: Test year vs. Most Current Actual | AR23: =(AR20-AN20)/AN20 -> 0.34428969
A24: %Change (Test Year vs Last Rebasing Year - Actual) | Q24: =IFERROR((Q22-INDEX(B22:Q22,1,MATCH(RebaseYear,B11:Q11,0)))/INDEX(B22:Q22,1,MATCH(RebaseYear,B11:Q11,0)),"") | R24: =IFERROR((R22-INDEX(C22:R22,1,MATCH(RebaseYear,C11:R11,0)))/INDEX(C22:R22,1,MATCH(RebaseYear,C11:R11,0)),"") | S24: =IFERROR((S22-INDEX(D22:S22,1,MATCH(RebaseYear,D11:S11,0)))/INDEX(D22:S22,1,MATCH(RebaseYear,D11:S11,0)),"") | T24: =IFERROR((T22-INDEX(E22:T22,1,MATCH(RebaseYear,E11:T11,0)))/INDEX(E22:T22,1,MATCH(RebaseYear,E11:T11,0)),"") | U24: =IFERROR((U22-INDEX(F22:U22,1,MATCH(RebaseYear,F11:U11,0)))/INDEX(F22:U22,1,MATCH(RebaseYear,F11:U11,0)),"") | V24: =IFERROR((V22-INDEX(G22:V22,1,MATCH(RebaseYear,G11:V11,0)))/INDEX(G22:V22,1,MATCH(RebaseYear,G11:V11,0)),"") | Y24: Simple average of % variance for all years | AP24: =AVERAGE(AI22:AP22) -> 0.072899389 | AR24: =AVERAGE(AI22:AR22) -> 0.10248269
A25: Total | B25: =SUM(B22,B16) -> 0 | C25: =SUM(C22,C16) -> #N/A | D25: =SUM(D22,D16) -> #N/A | E25: =SUM(E22,E16) -> #N/A | F25: =SUM(F22,F16) -> #N/A | G25: =SUM(G22,G16) -> #N/A | H25: =SUM(H22,H16) -> #N/A | I25: =SUM(I22,I16) -> #N/A | ... V25: =SUM(V22,V16) -> 0 | Y25: Compound Annual Growth Rate for all years | AS25: =((AR20/AI20)^(1/7))-1 -> 0.099229804
A26: %Change (year over year) | C26: =IFERROR((C25-B25)/B25,"") | D26: =IFERROR((D25-C25)/C25,"") | E26: =IFERROR((E25-D25)/D25,"") | F26: =IFERROR((F25-E25)/E25,"") | G26: =IFERROR((G25-F25)/F25,"") | H26: =IFERROR((H25-G25)/G25,"") | I26: =IFERROR((I25-H25)/H25,"") | J26: =IFERROR((J25-I25)/I25,"") | K26: =IFERROR((K25-#REF!)/#REF!,"") | L26: =IFERROR((L25-K25)/K25,"") -> 0.014456604 | M26: =IFERROR((M25-L25)/L25,"") -> 0.046667126 | N26: =IFERROR((N25-M25)/M25,"") -> 0.038819978 | O26: =IFERROR((O25-N25)/N25,"") -> 0.14868951 | P26: =IFERROR((P25-O25)/O25,"") -> 0.13852242 | Q26: =IFERROR((Q25-P25)/P25,"") -> 0.05024069 | R26: =IFERROR((R25-Q25)/Q25,"") -> 0.27998249 | S26: =IFERROR((S25-R25)/R25,"") -> -1 | ... V26: =IFERROR((V25-U25)/U25,"")
B29: =B12 -> Last Rebasing Year OEB Approved | C29: =C12 -> 2011 Actuals | D29: =D12 -> 2012 Actuals | E29: =E12 -> 2013 Actuals | F29: =F12 -> 2014 Actuals | G29: =G12 -> 2015 Actuals | H29: =H12 -> 2016 Actuals | I29: =I12 -> 2017 Actuals | ... O29: =O12 -> 2024 Actuals | P29: 2025 Bridge Year (Actuals) | Q29: =Q12 -> 2026 Bridge Year | R29: =R12 -> 2027 Test Year | S29: =S12 -> 2028 Forecast | T29: =T12 -> 2029 Forecast | U29: =U12 -> 2030 Forecast | V29: =V12 -> 2031 Forecast
A30: Operations1 | B30: =B14 -> 0 | C30: =C14 -> #N/A | D30: =D14 -> #N/A | E30: =E14 -> #N/A | F30: =F14 -> #N/A | G30: =G14 -> #N/A | H30: =H14 -> #N/A | I30: =I14 -> #N/A | ... V30: =V14 -> 0
A31: Maintenance2 | B31: =B15 -> 0 | C31: =C15 -> #N/A | D31: =D15 -> #N/A | E31: =E15 -> #N/A | F31: =F15 -> #N/A | G31: =G15 -> #N/A | H31: =H15 -> #N/A | I31: =I15 -> #N/A | ... V31: =V15 -> 0
A32: Billing and Collecting3 | B32: =B19 -> 0 | C32: =C19 -> #N/A | D32: =D19 -> #N/A | E32: =E19 -> #N/A | F32: =F19 -> #N/A | G32: =G19 -> #N/A | H32: =H19 -> #N/A | I32: =I19 -> #N/A | ... V32: =V19 -> 0
A33: Community Relations4 | B33: =B20 -> 0 | C33: =C20 -> #N/A | D33: =D20 -> #N/A | E33: =E20 -> #N/A | F33: =F20 -> #N/A | G33: =G20 -> #N/A | H33: =H20 -> #N/A | I33: =I20 -> #N/A | ... V33: =V20 -> 0
A34: Administrative and General5 | B34: =B21 -> 0 | C34: =C21 -> #N/A | D34: =D21 -> #N/A | E34: =E21 -> #N/A | F34: =F21 -> #N/A | G34: =G21 -> #N/A | H34: =H21 -> #N/A | I34: =I21 -> #N/A | ... V34: =V21 -> 0
A35: Total | B35: =SUM(B30:B34) -> 0 | C35: =SUM(C30:C34) -> #N/A | D35: =SUM(D30:D34) -> #N/A | E35: =SUM(E30:E34) -> #N/A | F35: =SUM(F30:F34) -> #N/A | G35: =SUM(G30:G34) -> #N/A | H35: =SUM(H30:H34) -> #N/A | I35: =SUM(I30:I34) -> #N/A | ... V35: =SUM(V30:V34) -> 0
A36: %Change (year over year) | C36: =IFERROR((C35-B35)/B35,"") | D36: =IFERROR((D35-C35)/C35,"") | E36: =IFERROR((E35-D35)/D35,"") | F36: =IFERROR((F35-E35)/E35,"") | G36: =IFERROR((G35-F35)/F35,"") | H36: =IFERROR((H35-G35)/G35,"") | I36: =IFERROR((I35-H35)/H35,"") | J36: =IFERROR((J35-I35)/I35,"") | K36: =IFERROR((K35-#REF!)/#REF!,"") | L36: =IFERROR((L35-K35)/K35,"") -> 0.014456604 | M36: =IFERROR((M35-L35)/L35,"") -> 0.046667126 | N36: =IFERROR((N35-M35)/M35,"") -> 0.038819978 | O36: =IFERROR((O35-N35)/N35,"") -> 0.14868951 | P36: =IFERROR((P35-O35)/O35,"") -> 0.13852242 | Q36: =IFERROR((Q35-P35)/P35,"") -> 0.05024069 | R36: =IFERROR((R35-Q35)/Q35,"") -> 0.27998249 | S36: =IFERROR((S35-R35)/R35,"") -> -1 | ... V36: =IFERROR((V35-U35)/U35,"")
C38: =C29 -> 2011 Actuals | D38: =D29 -> 2012 Actuals | E38: =E29 -> 2013 Actuals | F38: =F29 -> 2014 Actuals | G38: =G29 -> 2015 Actuals | H38: =H29 -> 2016 Actuals | I38: =I29 -> 2017 Actuals | J38: =J29 -> 2018 Actuals | ... V38: =V29 -> 2031 Forecast
A39: Integrity Check - 2-JB: Total OM&A | C39: 0 | D39: 0 | E39: 0 | F39: 0 | G39: 0 | H39: 0 | I39: 0 | J39: 0 | K39: N/A | L39: ='App.2-JB OM&A Cost Drivers'!L49 -> 42915708 | M39: ='App.2-JB OM&A Cost Drivers'!M49 -> 44918464 | N39: ='App.2-JB OM&A Cost Drivers'!N49 -> 46662196 | O39: ='App.2-JB OM&A Cost Drivers'!O49 -> 53600376 | P39: ='App.2-JB OM&A Cost Drivers'!P49 -> 61025230 | Q39: ='App.2-JB OM&A Cost Drivers'!Q49 -> 64091179 | R39: ='App.2-JB OM&A Cost Drivers'!R49 -> 82035587 | S39: ='App.2-JB OM&A Cost Drivers'!S49 -> 1.1175871e-08 | ... V39: ='App.2-JB OM&A Cost Drivers'!V49 -> 1.1175871e-08
A40: Integrity Check - 2-JC: Total OM&A (if applicable) | C40: 0 | D40: 0 | E40: 0 | F40: 0 | G40: 0 | H40: 0 | I40: 0 | J40: 0 | K40: ='App2.-JC OM&A Programs'!L50 -> 42304136 | L40: ='App2.-JC OM&A Programs'!M50 -> 42915708 | M40: ='App2.-JC OM&A Programs'!N50 -> 44918464 | N40: ='App2.-JC OM&A Programs'!O50 -> 46662196 | O40: ='App2.-JC OM&A Programs'!P50 -> 53600376 | P40: ='App2.-JC OM&A Programs'!Q50 -> 61025231 | Q40: ='App2.-JC OM&A Programs'!R50 -> 64091179 | R40: ='App2.-JC OM&A Programs'!S50 -> 82035587 | ... V40: ='App2.-JC OM&A Programs'!W50 -> 0
A43: Note:
A45: 1 USoA included in Operations: 5005, 5010, 5012, 5014, 5015, 5016, 5017, 5020, 5025, 5030, 5035, 5040, 5045, 5050, 5055, 5060, 5065, 5070, 5075, 5085, 5090, 5095, 5096
A46: 2 USoA included in Maintenance: 5105, 5110, 5112, 5114, 5120, 5125, 5130, 5135, 5145, 5150, 5155, 5160, 5165, 5170, 5172, 5175, 5178, 5195
...

Sheet App.2-JB OM&A Cost Drivers
P1: File Number: | Q1: EB-2025-0312
P2: Exhibit:
P3: Tab:
P4: Schedule:
P5: Page:
Q6: Settlement Proposal
P7: Date: | Q7: 46283
A10: Appendix 2-JB
A11: ="Recoverable OM&A Cost Driver Table" & CHAR(185) -> Recoverable OM&A Cost Driver Table¹
B12: =C12-1 -> 2011 | C12: =D12-1 -> 2012 | D12: =E12-1 -> 2013 | E12: =F12-1 -> 2014 | F12: =G12-1 -> 2015 | G12: =H12-1 -> 2016 | H12: =I12-1 -> 2017 | I12: =J12-1 -> 2018 | ... P12: =Q12-1 -> 2025 | Q12: 2026 | R12: 2027 | S12: 2028 | T12: 2029 | U12: 2030 | V12: 2031
A13: OM&A | B13: =BridgeYear -14 & " Actuals" -> #NAME? | C13: =BridgeYear -13 & " Actuals" -> #NAME? | D13: =BridgeYear -12 & " Actuals" -> #NAME? | E13: =BridgeYear -11 & " Actuals" -> #NAME? | F13: =BridgeYear -10 & " Actuals" -> #NAME? | G13: =BridgeYear -9 & " Actuals" -> #NAME? | H13: =BridgeYear -8 & " Actuals" -> #NAME? | I13: =BridgeYear -7 & " Actuals" -> #NAME? | J13: =BridgeYear -6 & " Actuals" -> #NAME? | K13: 2020 Actuals | L13: 2021 Actuals | M13: 2022 Actuals | N13: 2023 Actuals | O13: 2024 Actuals | P13: 2025 Bridge Year (Actuals) | Q13: 2026 Bridge Year | R13: 2027 Test Year | S13: =S12 -> 2028 | T13: =T12 -> 2029 | U13: =U12 -> 2030 | V13: =V12 -> 2031
A14: Reporting Basis | K14: MIFRS | L14: MIFRS | M14: MIFRS | N14: MIFRS | O14: MIFRS | P14: MIFRS | Q14: MIFRS | R14: MIFRS | S14: MIFRS | T14: MIFRS | U14: MIFRS | V14: MIFRS
A15: Opening Balance² | C15: =B49 -> 0 | D15: =C49 -> 0 | E15: =D49 -> 0 | F15: =E49 -> 0 | G15: =F49 -> 0 | H15: =G49 -> 0 | I15: =H49 -> 0 | J15: =I49 -> 0 | K15: =J49 -> 0 | L15: ='App2.-JC OM&A Programs'!L50 -> 42304136 | M15: =L49 -> 42915708 | N15: =M49 -> 44918464 | O15: =N49 -> 46662196 | P15: =O49 -> 53600376 | Q15: =P49 -> 61025230 | R15: =Q49 -> 64091179 | S15: =R49 -> 82035587 | T15: =S49 -> 1.1175871e-08 | ... V15: =U49 -> 1.1175871e-08
A16: System Planning and Design
A17: Asset Planning & System Engineering | L17: ='App2.-JC OM&A Programs'!M16-'App2.-JC OM&A Programs'!L16 -> 4882.2924 | M17: ='App2.-JC OM&A Programs'!N16-'App2.-JC OM&A Programs'!M16 -> 105132.84 | N17: ='App2.-JC OM&A Programs'!O16-'App2.-JC OM&A Programs'!N16 -> -99933.842 | O17: ='App2.-JC OM&A Programs'!P16-'App2.-JC OM&A Programs'!O16 -> 489011 | P17: ='App2.-JC OM&A Programs'!Q16-'App2.-JC OM&A Programs'!P16 -> 340003.75 | Q17: ='App2.-JC OM&A Programs'!R16-'App2.-JC OM&A Programs'!Q16 -> -175197.45 | R17: ='App2.-JC OM&A Programs'!S16-'App2.-JC OM&A Programs'!R16 -> 416546.98 | S17: ='App2.-JC OM&A Programs'!T16-'App2.-JC OM&A Programs'!S16 -> -1535745.5 | ... V17: ='App2.-JC OM&A Programs'!W16-'App2.-JC OM&A Programs'!V16 -> 0
A18: Design Services & Connections | L18: ='App2.-JC OM&A Programs'!M17-'App2.-JC OM&A Programs'!L17 -> 57440.998 | M18: ='App2.-JC OM&A Programs'!N17-'App2.-JC OM&A Programs'!M17 -> -129395.08 | N18: ='App2.-JC OM&A Programs'!O17-'App2.-JC OM&A Programs'!N17 -> -114152.14 | O18: ='App2.-JC OM&A Programs'!P17-'App2.-JC OM&A Programs'!O17 -> 68068.377 | P18: ='App2.-JC OM&A Programs'!Q17-'App2.-JC OM&A Programs'!P17 -> 102068.67 | Q18: ='App2.-JC OM&A Programs'!R17-'App2.-JC OM&A Programs'!Q17 -> -99225.608 | R18: ='App2.-JC OM&A Programs'!S17-'App2.-JC OM&A Programs'!R17 -> 187127.5 | S18: ='App2.-JC OM&A Programs'!T17-'App2.-JC OM&A Programs'!S17 -> -1079244.9 | ... V18: ='App2.-JC OM&A Programs'!W17-'App2.-JC OM&A Programs'!V17 -> 0
A19: System Operations
A20: Control Centre | L20: ='App2.-JC OM&A Programs'!M20-'App2.-JC OM&A Programs'!L20 -> 183554.72 | M20: ='App2.-JC OM&A Programs'!N20-'App2.-JC OM&A Programs'!M20 -> 238777.13 | N20: ='App2.-JC OM&A Programs'!O20-'App2.-JC OM&A Programs'!N20 -> -207134.6 | O20: ='App2.-JC OM&A Programs'!P20-'App2.-JC OM&A Programs'!O20 -> 413584.29 | P20: ='App2.-JC OM&A Programs'!Q20-'App2.-JC OM&A Programs'!P20 -> 366163.73 | Q20: ='App2.-JC OM&A Programs'!R20-'App2.-JC OM&A Programs'!Q20 -> 2399643 | R20: ='App2.-JC OM&A Programs'!S20-'App2.-JC OM&A Programs'!R20 -> 852185 | S20: ='App2.-JC OM&A Programs'!T20-'App2.-JC OM&A Programs'!S20 -> -6000414 | ... V20: ='App2.-JC OM&A Programs'!W20-'App2.-JC OM&A Programs'!V20 -> 0
A21: Operations | L21: ='App2.-JC OM&A Programs'!M21-'App2.-JC OM&A Programs'!L21 -> 396709 | M21: ='App2.-JC OM&A Programs'!N21-'App2.-JC OM&A Programs'!M21 -> 5940.0054 | N21: ='App2.-JC OM&A Programs'!O21-'App2.-JC OM&A Programs'!N21 -> -192064 | O21: ='App2.-JC OM&A Programs'!P21-'App2.-JC OM&A Programs'!O21 -> 72023.755 | P21: ='App2.-JC OM&A Programs'!Q21-'App2.-JC OM&A Programs'!P21 -> 194085.51 | Q21: ='App2.-JC OM&A Programs'!R21-'App2.-JC OM&A Programs'!Q21 -> -27881 | R21: ='App2.-JC OM&A Programs'!S21-'App2.-JC OM&A Programs'!R21 -> 187186 | S21: ='App2.-JC OM&A Programs'!T21-'App2.-JC OM&A Programs'!S21 -> -3397216 | ... V21: ='App2.-JC OM&A Programs'!W21-'App2.-JC OM&A Programs'!V21 -> 0
A22: Sustainment
A23: Maintenance
A24: Maintenance - Distribution System | L24: ='App2.-JC OM&A Programs'!M25-'App2.-JC OM&A Programs'!L25 -> -1501872.6 | M24: ='App2.-JC OM&A Programs'!N25-'App2.-JC OM&A Programs'!M25 -> 192905.33 | N24: ='App2.-JC OM&A Programs'!O25-'App2.-JC OM&A Programs'!N25 -> -277570.53 | O24: ='App2.-JC OM&A Programs'!P25-'App2.-JC OM&A Programs'!O25 -> 564424.95 | P24: ='App2.-JC OM&A Programs'!Q25-'App2.-JC OM&A Programs'!P25 -> 1951111.3 | Q24: ='App2.-JC OM&A Programs'!R25-'App2.-JC OM&A Programs'!Q25 -> -1370936.3 | R24: ='App2.-JC OM&A Programs'!S25-'App2.-JC OM&A Programs'!R25 -> 1079623.1 | S24: ='App2.-JC OM&A Programs'!T25-'App2.-JC OM&A Programs'!S25 -> -4435978.8 | ... V24: ='App2.-JC OM&A Programs'!W25-'App2.-JC OM&A Programs'!V25 -> 0
A25: Maintenance - Substations | L25: ='App2.-JC OM&A Programs'!M26-'App2.-JC OM&A Programs'!L26 -> 64024.62 | M25: ='App2.-JC OM&A Programs'!N26-'App2.-JC OM&A Programs'!M26 -> -136221.42 | N25: ='App2.-JC OM&A Programs'!O26-'App2.-JC OM&A Programs'!N26 -> 145336.85 | O25: ='App2.-JC OM&A Programs'!P26-'App2.-JC OM&A Programs'!O26 -> 3439346.4 | P25: ='App2.-JC OM&A Programs'!Q26-'App2.-JC OM&A Programs'!P26 -> -3018963.5 | Q25: ='App2.-JC OM&A Programs'!R26-'App2.-JC OM&A Programs'!Q26 -> 425124.04 | R25: ='App2.-JC OM&A Programs'!S26-'App2.-JC OM&A Programs'!R26 -> 405606.83 | S25: ='App2.-JC OM&A Programs'!T26-'App2.-JC OM&A Programs'!S26 -> -2280084.9 | ... V25: ='App2.-JC OM&A Programs'!W26-'App2.-JC OM&A Programs'!V26 -> 0
A26: Restoration (storms, trouble calls) | L26: ='App2.-JC OM&A Programs'!M27-'App2.-JC OM&A Programs'!L27 -> 37418.63 | M26: ='App2.-JC OM&A Programs'!N27-'App2.-JC OM&A Programs'!M27 -> 84145.37 | N26: ='App2.-JC OM&A Programs'!O27-'App2.-JC OM&A Programs'!N27 -> 537956.66 | O26: ='App2.-JC OM&A Programs'!P27-'App2.-JC OM&A Programs'!O27 -> 106507.29 | P26: ='App2.-JC OM&A Programs'!Q27-'App2.-JC OM&A Programs'!P27 -> 1320055.1 | Q26: ='App2.-JC OM&A Programs'!R27-'App2.-JC OM&A Programs'!Q27 -> -1255305.1 | R26: ='App2.-JC OM&A Programs'!S27-'App2.-JC OM&A Programs'!R27 -> -162868.39 | S26: ='App2.-JC OM&A Programs'!T27-'App2.-JC OM&A Programs'!S27 -> -2325776.5 | ... V26: ='App2.-JC OM&A Programs'!W27-'App2.-JC OM&A Programs'!V27 -> 0
A27: Vegetation Management | L27: ='App2.-JC OM&A Programs'!M28-'App2.-JC OM&A Programs'!L28 -> 285954.26 | M27: ='App2.-JC OM&A Programs'!N28-'App2.-JC OM&A Programs'!M28 -> -148443.92 | N27: ='App2.-JC OM&A Programs'!O28-'App2.-JC OM&A Programs'!N28 -> 153103.78 | O27: ='App2.-JC OM&A Programs'!P28-'App2.-JC OM&A Programs'!O28 -> 280147.83 | P27: ='App2.-JC OM&A Programs'!Q28-'App2.-JC OM&A Programs'!P28 -> 110841.04 | Q27: ='App2.-JC OM&A Programs'!R28-'App2.-JC OM&A Programs'!Q28 -> 54256.397 | R27: ='App2.-JC OM&A Programs'!S28-'App2.-JC OM&A Programs'!R28 -> 708259.43 | S27: ='App2.-JC OM&A Programs'!T28-'App2.-JC OM&A Programs'!S28 -> -2479058.8 | ... V27: ='App2.-JC OM&A Programs'!W28-'App2.-JC OM&A Programs'!V28 -> 0
A28: Locates | L28: ='App2.-JC OM&A Programs'!M29-'App2.-JC OM&A Programs'!L29 -> -123816.49 | M28: ='App2.-JC OM&A Programs'!N29-'App2.-JC OM&A Programs'!M29 -> 137466.48 | N28: ='App2.-JC OM&A Programs'!O29-'App2.-JC OM&A Programs'!N29 -> 439203.58 | O28: ='App2.-JC OM&A Programs'!P29-'App2.-JC OM&A Programs'!O29 -> 203174.32 | P28: ='App2.-JC OM&A Programs'!Q29-'App2.-JC OM&A Programs'!P29 -> 324839.16 | Q28: ='App2.-JC OM&A Programs'!R29-'App2.-JC OM&A Programs'!Q29 -> -116761.04 | R28: ='App2.-JC OM&A Programs'!S29-'App2.-JC OM&A Programs'!R29 -> 82624.591 | S28: ='App2.-JC OM&A Programs'!T29-'App2.-JC OM&A Programs'!S29 -> -2177664.5 | ... V28: ='App2.-JC OM&A Programs'!W29-'App2.-JC OM&A Programs'!V29 -> 0
A29: Customer Care
A30: Billing | L30: ='App2.-JC OM&A Programs'!M32-'App2.-JC OM&A Programs'!L32 -> 283123.39 | M30: ='App2.-JC OM&A Programs'!N32-'App2.-JC OM&A Programs'!M32 -> -14809.954 | N30: ='App2.-JC OM&A Programs'!O32-'App2.-JC OM&A Programs'!N32 -> -425834.71 | O30: ='App2.-JC OM&A Programs'!P32-'App2.-JC OM&A Programs'!O32 -> 340320.4 | P30: ='App2.-JC OM&A Programs'!Q32-'App2.-JC OM&A Programs'!P32 -> 94175.939 | Q30: ='App2.-JC OM&A Programs'!R32-'App2.-JC OM&A Programs'!Q32 -> 250418.08 | R30: ='App2.-JC OM&A Programs'!S32-'App2.-JC OM&A Programs'!R32 -> 284004.92 | S30: ='App2.-JC OM&A Programs'!T32-'App2.-JC OM&A Programs'!S32 -> -3996631 | ... V30: ='App2.-JC OM&A Programs'!W32-'App2.-JC OM&A Programs'!V32 -> 0
A31: Customer Experience/Contact Centre | L31: ='App2.-JC OM&A Programs'!M33-'App2.-JC OM&A Programs'!L33 -> 173939.32 | M31: ='App2.-JC OM&A Programs'!N33-'App2.-JC OM&A Programs'!M33 -> 570015.37 | N31: ='App2.-JC OM&A Programs'!O33-'App2.-JC OM&A Programs'!N33 -> 679174.92 | O31: ='App2.-JC OM&A Programs'!P33-'App2.-JC OM&A Programs'!O33 -> 377030.93 | P31: ='App2.-JC OM&A Programs'!Q33-'App2.-JC OM&A Programs'!P33 -> -30100.608 | Q31: ='App2.-JC OM&A Programs'!R33-'App2.-JC OM&A Programs'!Q33 -> 605174.12 | R31: ='App2.-JC OM&A Programs'!S33-'App2.-JC OM&A Programs'!R33 -> 251525.71 | S31: ='App2.-JC OM&A Programs'!T33-'App2.-JC OM&A Programs'!S33 -> -5397981.8 | ... V31: ='App2.-JC OM&A Programs'!W33-'App2.-JC OM&A Programs'!V33 -> 0
A32: Payments & Collections | L32: ='App2.-JC OM&A Programs'!M34-'App2.-JC OM&A Programs'!L34 -> -1110449.3 | M32: ='App2.-JC OM&A Programs'!N34-'App2.-JC OM&A Programs'!M34 -> -920446.52 | N32: ='App2.-JC OM&A Programs'!O34-'App2.-JC OM&A Programs'!N34 -> -35238.74 | O32: ='App2.-JC OM&A Programs'!P34-'App2.-JC OM&A Programs'!O34 -> 515054.7 | P32: ='App2.-JC OM&A Programs'!Q34-'App2.-JC OM&A Programs'!P34 -> 2182580.1 | Q32: ='App2.-JC OM&A Programs'!R34-'App2.-JC OM&A Programs'!Q34 -> -1541428.2 | R32: ='App2.-JC OM&A Programs'!S34-'App2.-JC OM&A Programs'!R34 -> 59065.891 | S32: ='App2.-JC OM&A Programs'!T34-'App2.-JC OM&A Programs'!S34 -> -3292215.7 | ... V32: ='App2.-JC OM&A Programs'!W34-'App2.-JC OM&A Programs'!V34 -> 0
A33: Metering & Wholesale Settlements | L33: ='App2.-JC OM&A Programs'!M35-'App2.-JC OM&A Programs'!L35 -> -155139.07 | M33: ='App2.-JC OM&A Programs'!N35-'App2.-JC OM&A Programs'!M35 -> -266010.39 | N33: ='App2.-JC OM&A Programs'!O35-'App2.-JC OM&A Programs'!N35 -> -86574.6 | O33: ='App2.-JC OM&A Programs'!P35-'App2.-JC OM&A Programs'!O35 -> 105816.02 | P33: ='App2.-JC OM&A Programs'!Q35-'App2.-JC OM&A Programs'!P35 -> 191651.17 | Q33: ='App2.-JC OM&A Programs'!R35-'App2.-JC OM&A Programs'!Q35 -> 195031.94 | R33: ='App2.-JC OM&A Programs'!S35-'App2.-JC OM&A Programs'!R35 -> 197100.93 | S33: ='App2.-JC OM&A Programs'!T35-'App2.-JC OM&A Programs'!S35 -> -3545242.9 | ... V33: ='App2.-JC OM&A Programs'!W35-'App2.-JC OM&A Programs'!V35 -> 0
A34: Common Corporate
A35: Technology | L35: ='App2.-JC OM&A Programs'!M38-'App2.-JC OM&A Programs'!L38 -> 524632.87 | M35: ='App2.-JC OM&A Programs'!N38-'App2.-JC OM&A Programs'!M38 -> 869826.1 | N35: ='App2.-JC OM&A Programs'!O38-'App2.-JC OM&A Programs'!N38 -> 737512.31 | O35: ='App2.-JC OM&A Programs'!P38-'App2.-JC OM&A Programs'!O38 -> 356100.22 | P35: ='App2.-JC OM&A Programs'!Q38-'App2.-JC OM&A Programs'!P38 -> -45439.625 | Q35: ='App2.-JC OM&A Programs'!R38-'App2.-JC OM&A Programs'!Q38 -> 1575536.3 | R35: ='App2.-JC OM&A Programs'!S38-'App2.-JC OM&A Programs'!R38 -> 5287298.8 | S35: ='App2.-JC OM&A Programs'!T38-'App2.-JC OM&A Programs'!S38 -> -12087160 | ... V35: ='App2.-JC OM&A Programs'!W38-'App2.-JC OM&A Programs'!V38 -> 0
A36: People & Culture | L36: ='App2.-JC OM&A Programs'!M39-'App2.-JC OM&A Programs'!L39 -> 1008146.3 | M36: ='App2.-JC OM&A Programs'!N39-'App2.-JC OM&A Programs'!M39 -> -27141.52 | N36: ='App2.-JC OM&A Programs'!O39-'App2.-JC OM&A Programs'!N39 -> 1023498.7 | O36: ='App2.-JC OM&A Programs'!P39-'App2.-JC OM&A Programs'!O39 -> 778624.85 | P36: ='App2.-JC OM&A Programs'!Q39-'App2.-JC OM&A Programs'!P39 -> 26090.077 | Q36: ='App2.-JC OM&A Programs'!R39-'App2.-JC OM&A Programs'!Q39 -> 1243633.9 | R36: ='App2.-JC OM&A Programs'!S39-'App2.-JC OM&A Programs'!R39 -> 713900.17 | S36: ='App2.-JC OM&A Programs'!T39-'App2.-JC OM&A Programs'!S39 -> -6861342.1 | ... V36: ='App2.-JC OM&A Programs'!W39-'App2.-JC OM&A Programs'!V39 -> 0
A37: Finance | L37: ='App2.-JC OM&A Programs'!M40-'App2.-JC OM&A Programs'!L40 -> 242711.72 | M37: ='App2.-JC OM&A Programs'!N40-'App2.-JC OM&A Programs'!M40 -> 250438.74 | N37: ='App2.-JC OM&A Programs'!O40-'App2.-JC OM&A Programs'!N40 -> -401857.55 | O37: ='App2.-JC OM&A Programs'!P40-'App2.-JC OM&A Programs'!O40 -> 66321.933 | P37: ='App2.-JC OM&A Programs'!Q40-'App2.-JC OM&A Programs'!P40 -> 1326693.9 | Q37: ='App2.-JC OM&A Programs'!R40-'App2.-JC OM&A Programs'!Q40 -> -223664.12 | R37: ='App2.-JC OM&A Programs'!S40-'App2.-JC OM&A Programs'!R40 -> 556959.21 | S37: ='App2.-JC OM&A Programs'!T40-'App2.-JC OM&A Programs'!S40 -> -5246159.1 | ... V37: ='App2.-JC OM&A Programs'!W40-'App2.-JC OM&A Programs'!V40 -> 0
A38: Procurement & Facilities | L38: ='App2.-JC OM&A Programs'!M41-'App2.-JC OM&A Programs'!L41 -> -984842.68 | M38: ='App2.-JC OM&A Programs'!N41-'App2.-JC OM&A Programs'!M41 -> 531706.29 | N38: ='App2.-JC OM&A Programs'!O41-'App2.-JC OM&A Programs'!N41 -> -97800.91 | O38: ='App2.-JC OM&A Programs'!P41-'App2.-JC OM&A Programs'!O41 -> -48769.652 | P38: ='App2.-JC OM&A Programs'!Q41-'App2.-JC OM&A Programs'!P41 -> 363687.63 | Q38: ='App2.-JC OM&A Programs'!R41-'App2.-JC OM&A Programs'!Q41 -> -269615.81 | R38: ='App2.-JC OM&A Programs'!S41-'App2.-JC OM&A Programs'!R41 -> 917239.43 | S38: ='App2.-JC OM&A Programs'!T41-'App2.-JC OM&A Programs'!S41 -> -2176951.6 | ... V38: ='App2.-JC OM&A Programs'!W41-'App2.-JC OM&A Programs'!V41 -> 0
A39: Regulatory Affairs | L39: ='App2.-JC OM&A Programs'!M42-'App2.-JC OM&A Programs'!L42 -> 137524.31 | M39: ='App2.-JC OM&A Programs'!N42-'App2.-JC OM&A Programs'!M42 -> -176626.93 | N39: ='App2.-JC OM&A Programs'!O42-'App2.-JC OM&A Programs'!N42 -> 1675426.2 | O39: ='App2.-JC OM&A Programs'!P42-'App2.-JC OM&A Programs'!O42 -> -430785.39 | P39: ='App2.-JC OM&A Programs'!Q42-'App2.-JC OM&A Programs'!P42 -> 643016.39 | Q39: ='App2.-JC OM&A Programs'!R42-'App2.-JC OM&A Programs'!Q42 -> -162284.22 | R39: ='App2.-JC OM&A Programs'!S42-'App2.-JC OM&A Programs'!R42 -> 1959126.2 | S39: ='App2.-JC OM&A Programs'!T42-'App2.-JC OM&A Programs'!S42 -> -5125135 | ... V39: ='App2.-JC OM&A Programs'!W42-'App2.-JC OM&A Programs'!V42 -> 0
A40: Stakeholder Relations | L40: ='App2.-JC OM&A Programs'!M43-'App2.-JC OM&A Programs'!L43 -> 502162.63 | M40: ='App2.-JC OM&A Programs'!N43-'App2.-JC OM&A Programs'!M43 -> 506974.54 | N40: ='App2.-JC OM&A Programs'!O43-'App2.-JC OM&A Programs'!N43 -> -200467.55 | O40: ='App2.-JC OM&A Programs'!P43-'App2.-JC OM&A Programs'!O43 -> 127906.62 | P40: ='App2.-JC OM&A Programs'!Q43-'App2.-JC OM&A Programs'!P43 -> -18936.467 | Q40: ='App2.-JC OM&A Programs'!R43-'App2.-JC OM&A Programs'!Q43 -> 189173.25 | R40: ='App2.-JC OM&A Programs'!S43-'App2.-JC OM&A Programs'!R43 -> 197657.9 | S40: ='App2.-JC OM&A Programs'!T43-'App2.-JC OM&A Programs'!S43 -> -1706717.2 | ... V40: ='App2.-JC OM&A Programs'!W43-'App2.-JC OM&A Programs'!V43 -> 0
A41: Legal and Corporate Secretariat | L41: ='App2.-JC OM&A Programs'!M44-'App2.-JC OM&A Programs'!L44 -> 475395.4 | M41: ='App2.-JC OM&A Programs'!N44-'App2.-JC OM&A Programs'!M44 -> 394438.88 | N41: ='App2.-JC OM&A Programs'!O44-'App2.-JC OM&A Programs'!N44 -> 152975.3 | O41: ='App2.-JC OM&A Programs'!P44-'App2.-JC OM&A Programs'!O44 -> -39771.154 | P41: ='App2.-JC OM&A Programs'!Q44-'App2.-JC OM&A Programs'!P44 -> 786773.38 | Q41: ='App2.-JC OM&A Programs'!R44-'App2.-JC OM&A Programs'!Q44 -> 1569700.8 | R41: ='App2.-JC OM&A Programs'!S44-'App2.-JC OM&A Programs'!R44 -> 995209.46 | S41: ='App2.-JC OM&A Programs'!T44-'App2.-JC OM&A Programs'!S44 -> -6888866.2 | ... V41: ='App2.-JC OM&A Programs'!W44-'App2.-JC OM&A Programs'!V44 -> 0
A42: DVA Adjustments2
...

Sheet App2.-JC OM&A Programs
A1: Utilities with less than 30,000 customers have a choice to complete 2-JC or 2-JD. | R1: File Number: | S1: EB-2025-0312
R2: Exhibit: | S2: 4
R3: Tab: | S3: 1
R4: Schedule: | S4: 1
R5: Page:
S6: Settlement Proposal
R7: Date: | S7: 46283
A9: Appendix 2-JC
A10: OM&A Programs Table
B12: =RebaseYear -> #NAME? | C12: =D12-1 -> 2011 | D12: =E12-1 -> 2012 | E12: =F12-1 -> 2013 | F12: =G12-1 -> 2014 | G12: =H12-1 -> 2015 | H12: =I12-1 -> 2016 | I12: =J12-1 -> 2017 | J12: =K12-1 -> 2018 | ... Q12: =R12-1 -> 2025 | R12: 2026 | S12: 2027 | T12: 2028 | U12: 2029 | V12: 2030 | W12: 2031
A13: Programs | B13: =RebaseYear&" OEB Approved" -> #NAME? | C13: =BridgeYear-14&" Actuals" -> #NAME? | D13: =BridgeYear-13&" Actuals" -> #NAME? | E13: =BridgeYear-12&" Actuals" -> #NAME? | F13: =BridgeYear-11&" Actuals" -> #NAME? | G13: =BridgeYear-10&" Actuals" -> #NAME? | H13: =BridgeYear-9&" Actuals" -> #NAME? | I13: =BridgeYear-8&" Actuals" -> #NAME? | J13: =BridgeYear-7&" Actuals" -> #NAME? | K13: =BridgeYear-6&" Actuals" -> #NAME? | L13: 2020 Actuals | M13: 2021 Actuals | N13: 2022 Actuals | O13: 2023 Actuals | P13: 2024 Actuals | Q13: 2025 Bridge Year (Actuals) | R13: 2026 Bridge Year | S13: 2027 Test Year | T13: 2028 | U13: 2029 | V13: 2030 | W13: 2031 | X13: Variance (Test Year vs. 2024 Actuals) | Y13: Variance (Test Year vs. 2020 Actuals)
A14: Reporting Basis | L14: MIFRS | M14: MIFRS | N14: MIFRS | O14: MIFRS | P14: MIFRS | Q14: MIFRS | R14: MIFRS | S14: MIFRS | T14: MIFRS | U14: MIFRS | V14: MIFRS | W14: MIFRS
A15: System Planning and Design
A16: Asset Planning & System Engineering | L16: 455299.95 | M16: 460182.25 | N16: 565315.08 | O16: 465381.24 | P16: 954392.25 | Q16: 1294396 | R16: 1119198.6 | S16: 1535745.5 | X16: =S16-P16 -> 581353.29 | Y16: =S16-L16 -> 1080445.6
A17: Design Services & Connections | L17: 1007312.2 | M17: 1064753.2 | N17: 935358.09 | O17: 821205.95 | P17: 889274.33 | Q17: 991343 | R17: 892117.39 | S17: 1079244.9 | X17: =S17-P17 -> 189970.56 | Y17: =S17-L17 -> 71932.724
A18: Sub-Total | B18: =SUM(B16:B17) -> 0 | C18: =SUM(C16:C17) -> 0 | D18: =SUM(D16:D17) -> 0 | E18: =SUM(E16:E17) -> 0 | F18: =SUM(F16:F17) -> 0 | G18: =SUM(G16:G17) -> 0 | H18: =SUM(H16:H17) -> 0 | I18: =SUM(I16:I17) -> 0 | ... W18: =SUM(W16:W17) -> 0 | X18: =S18-P18 -> 771323.85 | Y18: =S18-L18 -> 1152378.3
A19: System Operations
A20: Control Centre | L20: 1753640.7 | M20: 1937195.4 | N20: 2175972.6 | O20: 1968838 | P20: 2382422.3 | Q20: 2748586 | R20: 5148229 | S20: 6000414 | X20: =S20-P20 -> 3617991.7 | Y20: =S20-L20 -> 4246773.3
A21: Operations | L21: 2761216.7 | M21: 3157925.7 | N21: 3163865.7 | O21: 2971801.7 | P21: 3043825.5 | Q21: 3237911 | R21: 3210030 | S21: 3397216 | X21: =S21-P21 -> 353390.51 | Y21: =S21-L21 -> 635999.27
A22: Sub-Total | B22: =SUM(B20:B21) -> 0 | C22: =SUM(C20:C21) -> 0 | D22: =SUM(D20:D21) -> 0 | E22: =SUM(E20:E21) -> 0 | F22: =SUM(F20:F21) -> 0 | G22: =SUM(G20:G21) -> 0 | H22: =SUM(H20:H21) -> 0 | I22: =SUM(I20:I21) -> 0 | ... W22: =SUM(W20:W21) -> 0 | X22: =S22-P22 -> 3971382.2 | Y22: =S22-L22 -> 4882772.6
A23: Sustainment
A24: Maintenance | L24: 4754124.6 | M24: 3316276.6 | N24: 3372960.5 | O24: 3240726.8 | P24: 7244498.2 | Q24: 6176647 | R24: 5230833.7 | S24: 6716063.7 | X24: =S24-P24 -> -528434.49 | Y24: =S24-L24 -> 1961939.1
A25: Maintenance - Distribution System | L25: 3798293.6 | M25: 2296421 | N25: 2489326.3 | O25: 2211755.8 | P25: 2776180.7 | Q25: 4727292 | R25: 3356355.7 | S25: 4435978.8 | X25: =S25-P25 -> 1659798.1 | Y25: =S25-L25 -> 637685.26
A26: Maintenance - Substations | L26: 955830.99 | M26: 1019855.6 | N26: 883634.19 | O26: 1028971 | P26: 4468317.5 | Q26: 1449354 | R26: 1874478 | S26: 2280084.9 | X26: =S26-P26 -> -2188232.6 | Y26: =S26-L26 -> 1324253.9
A27: Restoration (storms, trouble calls) | L27: 1657866.9 | M27: 1695285.6 | N27: 1779430.9 | O27: 2317387.6 | P27: 2423894.9 | Q27: 3743950 | R27: 2488644.9 | S27: 2325776.5 | X27: =S27-P27 -> -98118.351 | Y27: =S27-L27 -> 667909.6
A28: Vegetation Management | L28: 1034940 | M28: 1320894.3 | N28: 1172450.3 | O28: 1325554.1 | P28: 1605702 | Q28: 1716543 | R28: 1770799.4 | S28: 2479058.8 | X28: =S28-P28 -> 873356.87 | Y28: =S28-L28 -> 1444118.8
A29: Locates | L29: 1230933.9 | M29: 1107117.5 | N29: 1244583.9 | O29: 1683787.5 | P29: 1886961.8 | Q29: 2211801 | R29: 2095040 | S29: 2177664.5 | X29: =S29-P29 -> 290702.71 | Y29: =S29-L29 -> 946730.6
A30: Sub-Total | L30: =L24+SUM(L27:L29) -> 8677865.4 | M30: =M24+SUM(M27:M29) -> 7439573.9 | N30: =N24+SUM(N27:N29) -> 7569425.7 | O30: =O24+SUM(O27:O29) -> 8567456 | P30: =P24+SUM(P27:P29) -> 13161057 | Q30: =Q24+SUM(Q27:Q29) -> 13848941 | R30: =R24+SUM(R27:R29) -> 11585318 | S30: =S24+SUM(S27:S29) -> 13698564 | ... X30: =X24+SUM(X27:X29) -> 537506.73 | Y30: =S30-L30 -> 5020698.2
A31: Customer Care
A32: Billing | L32: 3185232.9 | M32: 3468356.3 | N32: 3453546.4 | O32: 3027711.7 | P32: 3368032.1 | Q32: 3462208 | R32: 3712626.1 | S32: 3996631 | X32: =S32-P32 -> 628598.94 | Y32: =S32-L32 -> 811398.06
A33: Customer Experience/Contact Centre | L33: 2771222.1 | M33: 2945161.4 | N33: 3515176.8 | O33: 4194351.7 | P33: 4571382.6 | Q33: 4541282 | R33: 5146456.1 | S33: 5397981.8 | X33: =S33-P33 -> 826599.22 | Y33: =S33-L33 -> 2626759.8
A34: Payments & Collections | L34: 4143077.7 | M34: 3032628.4 | N34: 2112181.9 | O34: 2076943.2 | P34: 2591997.9 | Q34: 4774578 | R34: 3233149.8 | S34: 3292215.7 | X34: =S34-P34 -> 700217.84 | Y34: =S34-L34 -> -850862
A35: Metering & Wholesale Settlements | L35: 3363366.9 | M35: 3208227.8 | N35: 2942217.4 | O35: 2855642.8 | P35: 2961458.8 | Q35: 3153110 | R35: 3348141.9 | S35: 3545242.9 | X35: =S35-P35 -> 583784.04 | Y35: =S35-L35 -> 181876
A36: Sub-Total | B36: =SUM(B32:B35) -> 0 | C36: =SUM(C32:C35) -> 0 | D36: =SUM(D32:D35) -> 0 | E36: =SUM(E32:E35) -> 0 | F36: =SUM(F32:F35) -> 0 | G36: =SUM(G32:G35) -> 0 | H36: =SUM(H32:H35) -> 0 | I36: =SUM(I32:I35) -> 0 | ... W36: =SUM(W32:W35) -> 0 | X36: =S36-P36 -> 2739200 | Y36: =S36-L36 -> 2769171.8
A37: Common Corporate
A38: Technology | L38: 2781693.1 | M38: 3306326 | N38: 4176152.1 | O38: 4913664.4 | P38: 5269764.6 | Q38: 5224325 | R38: 6799861.3 | S38: 12087160 | X38: =S38-P38 -> 6817395.5 | Y38: =S38-L38 -> 9305467
A39: People & Culture | L39: 2094589.5 | M39: 3102735.8 | N39: 3075594.3 | O39: 4099093.1 | P39: 4877717.9 | Q39: 4903808 | R39: 6147441.9 | S39: 6861342.1 | X39: =S39-P39 -> 1983624.2 | Y39: =S39-L39 -> 4766752.6
A40: Finance | L40: 3428555.2 | M40: 3671267 | N40: 3921705.7 | O40: 3519848.2 | P40: 3586170.1 | Q40: 4912864 | R40: 4689199.9 | S40: 5246159.1 | X40: =S40-P40 -> 1659989 | Y40: =S40-L40 -> 1817603.8
A41: Procurement & Facilities | L41: 1765347.3 | M41: 780504.64 | N41: 1312210.9 | O41: 1214410 | P41: 1165640.4 | Q41: 1529328 | R41: 1259712.2 | S41: 2176951.6 | X41: =S41-P41 -> 1011311.3 | Y41: =S41-L41 -> 411604.3
A42: Regulatory Affairs | L42: 1479738.4 | M42: 1617262.7 | N42: 1440635.8 | O42: 3116062 | P42: 2685276.6 | Q42: 3328293 | R42: 3166008.8 | S42: 5125135 | X42: =S42-P42 -> 2439858.4 | Y42: =S42-L42 -> 3645396.5
...
