Workbook

Sheet 2027
A1: 1 | B1: 2 | C1: 3 | D1: 4 | E1: 5 | F1: 6 | G1: 7 | H1: 8 | I1: 9 | J1: 10 | K1: 11 | L1: 12 | M1: 13 | N1: 14 | O1: 15 | P1: 16 | Q1: 17 | R1: 18 | S1: 19 | T1: 20 | U1: 21 | V1: 22 | W1: 23
A3: 2027 Rate Design
N6: Derivation of 2027 Fixed Charge | T6: Derivation of 2027 Volumetric Charge
B7: Number of Customers | C7: kWh | D7: kWs | E7: Transformer Ownership Allowance kW | F7: Revenue from 2027 CAM | G7: Allocated Cost from 2027 CAM | H7: 2027 Misc Revenue | I7: Revenue from Rates | J7: R/C Ratio from the CAM | K7: Target 2027 R/C Ratio | L7: Total Revenue to be Collected from Rates | M7: Shifted Revenue | N7: Current (2026) F/V Split for Non-Residential Classes | O7: 2027 Revenue from Fixed Charge using Current F/V Split | P7: 2027 Fixed Charge Using Current F/V Split ($/month) | Q7: Fixed Charge Ceiling ($/month) | R7: Is Current Fixed Charge higher than CAM Ceiling? | S7: 2027 Fixed Charge | T7: Revenue from Fixed Charge ($) | U7: Revenue from Volumetric Charge ($) | V7: Volumetric Charge ($/kWh) | W7: Volumetric Charge ($/kW)
F8: (A) | G8: (B) | H8: (C) | I8: (D=A-C) | J8: (E=A/B) | K8: (F) | L8: (G=BxF-C) | M8: (H=G-A+C) | N8: (I) | O8: (J=G x I) | P8: (K=J / Number of Customers / 12) | Q8: (L) | R8: (M) If I > J then "Yes" else "No" | S8: (N) If M="Yes" then fixed charge = L, else fixed charge = K | T8: (O = N x 12 x Number of Customers) | U8: (P=G-O) | V8: (Q=P/kWh) | W8: (R=[P+TOA*0.60] /kW)
A10: Residential | B10: 169425.66 | C10: 1.496169e+09 | D10: 0 | F10: 1.0075746e+08 | G10: 1.0210646e+08 | H10: 3849651.5 | I10: =F10-H10 -> 96907804 | J10: =F10/G10 -> 0.98678827 | K10: 0.98678827 | L10: =G10*K10-H10 -> 96907804 | M10: =L10-F10+H10 -> 0 | N10: 1 | O10: =L10*N10 -> 96907804 | P10: =O10/B10/12 -> 47.664859 | Q10: 34.4 | S10: =(IF(R10="Yes",Q10,P10)) -> 47.664859 | T10: =S10*B10*12 -> 96907804 | U10: =L10-T10 -> 0
A11: GS <50 | B11: 12203.988 | C11: 3.5477749e+08 | D11: 0 | F11: 16103002 | G11: 13594188 | H11: 487152.99 | I11: =F11-H11 -> 15615849 | J11: =F11/G11 -> 1.1845505 | K11: 1.1845505 | L11: =G11*K11-H11 -> 15615849 | M11: =L11-F11+H11 -> 0 | N11: 0.30636878 | O11: =(L11)*N11 -> 4784208.7 | P11: =O11/B11/12 -> 32.668342 | Q11: 27.24 | R11: =IF(P11>Q11,"Yes","No") -> Yes | S11: =(IF(R11="Yes",Q11,P11)) -> 27.24 | T11: =S11*B11*12 -> 3989239.7 | U11: =L11-T11 -> 11626610 | V11: =U11/C11 -> 0.032771554
A12: GS 50 - 2,999 kW | B12: 1516.6004 | D12: 3256264.8 | E12: 1282968.3 | F12: 23490462 | G12: 24518021 | H12: 562126.71 | I12: =F12-H12 -> 22928335 | J12: =F12/G12 -> 0.95808965 | K12: 0.95853834 | L12: =G12*K12-H12 -> 22939336 | M12: =L12-F12+H12 -> 11000.884 | N12: 0.18252504 | O12: =(L12)*N12 -> 4187003.3 | P12: =O12/B12/12 -> 230.06518 | Q12: 165.94 | R12: =IF(P12>Q12,"Yes","No") -> Yes | S12: =(IF(R12="Yes",Q12,P12)) -> 165.94 | T12: =S12*B12*12 -> 3019976.1 | U12: =L12-T12 -> 19919360 | W12: =(U12+E12*0.6)/D12 -> 6.353642
A13: GS 3,000 - 4,999 kW | B13: 12.015 | D13: 604293.44 | E13: 604293.44 | F13: 3375687 | G13: 3473955.5 | H13: 63780.94 | I13: =F13-H13 -> 3311906.1 | J13: =F13/G13 -> 0.9717128 | K13: 0.9717128 | L13: =G13*K13-H13 -> 3311906.1 | M13: =L13-F13+H13 -> -1.6007107e-10 | N13: 0.27749356 | O13: =(L13)*N13 -> 919032.6 | P13: =O13/B13/12 -> 6374.2031 | Q13: 4599.85 | R13: =IF(P13>Q13,"Yes","No") -> Yes | S13: =(IF(R13="Yes",Q13,P13)) -> 4599.85 | T13: =S13*B13*12 -> 663206.37 | U13: =L13-T13 -> 2648699.7 | W13: =(U13+E13*0.6)/D13 -> 4.9831349
A14: Large Use >5MW | B14: 5.7125 | D14: 742951.91 | E14: 742951.91 | F14: 4340169 | G14: 5030228.8 | H14: 89605.288 | I14: =F14-H14 -> 4250563.8 | J14: =F14/G14 -> 0.86281742 | K14: 0.95853834 | L14: =G14*K14-H14 -> 4732061.9 | M14: =L14-F14+H14 -> 481498.13 | N14: 0.23962297 | O14: =(L14)*N14 -> 1133910.7 | P14: =O14/B14/12 -> 16541.367 | Q14: 10722.24 | R14: =IF(P14>Q14,"Yes","No") -> Yes | S14: =(IF(R14="Yes",Q14,P14)) -> 10722.24 | T14: =S14*B14*12 -> 735009.55 | U14: =L14-T14 -> 3997052.3 | W14: =(U14+E14*0.6)/D14 -> 5.979961
A15: Street Light | B15: 45774.898 | D15: 43544.27 | F15: 1358999.3 | G15: 812366.55 | H15: 92387.053 | I15: =F15-H15 -> 1266612.3 | J15: =F15/G15 -> 1.6728893 | K15: 1.2 | L15: =G15*K15-H15 -> 882452.81 | M15: =L15-F15+H15 -> -384159.45 | N15: 0.73468022 | O15: =(L15)*N15 -> 648320.62 | P15: =O15/B15/12 -> 1.1802696 | Q15: 1.86 | R15: =IF(P15>Q15,"Yes","No") -> No | S15: =(IF(R15="Yes",Q15,P15)) -> 1.1802696 | T15: =S15*B15*12 -> 648320.62 | U15: =L15-T15 -> 234132.19 | W15: =(U15+E15*0.6)/D15 -> 5.3768771
A16: Sentinel | B16: 260.63507 | D16: 654.39889 | F16: 43353.922 | G16: 44996.685 | H16: 1892.3296 | I16: =F16-H16 -> 41461.592 | J16: =F16/G16 -> 0.96349145 | K16: 0.90501173 | L16: =G16*K16-H16 -> 38830.198 | M16: =L16-F16+H16 -> -2631.3936 | N16: 0.61754757 | O16: =(L16)*N16 -> 23979.495 | P16: =O16/B16/12 -> 7.6670083 | Q16: 14.36 | R16: =IF(P16>Q16,"Yes","No") -> No | S16: =(IF(R16="Yes",Q16,P16)) -> 7.6670083 | T16: =S16*B16*12 -> 23979.495 | U16: =L16-T16 -> 14850.704 | W16: =(U16+E16*0.6)/D16 -> 22.693657
A17: Unmetered Scattered Load | B17: 1159.133 | C17: 6479773.9 | F17: 439182.86 | G17: 277895.58 | H17: 15671.621 | I17: =F17-H17 -> 423511.24 | J17: =F17/G17 -> 1.5803881 | K17: 1.2 | L17: =G17*K17-H17 -> 317803.07 | M17: =L17-F17+H17 -> -105708.17 | N17: 0.44321757 | O17: =(L17)*N17 -> 140855.91 | P17: =O17/B17/12 -> 10.126527 | Q17: 13.29 | R17: =IF(P17>Q17,"Yes","No") -> No | S17: =(IF(R17="Yes",Q17,P17)) -> 10.126527 | T17: =S17*B17*12 -> 140855.91 | U17: =L17-T17 -> 176947.16 | V17: =U17/C17 -> 0.027307614
A18: Seasonal Residential | B18: 1546.4261 | C18: 13136538 | D18: 0 | F18: 1598849.1 | G18: 1649050.1 | H18: 58756.821 | I18: =F18-H18 -> 1540092.3 | J18: =F18/G18 -> 0.96955763 | K18: 0.96955763 | L18: =G18*K18-H18 -> 1540092.3 | M18: =L18-F18+H18 -> 0 | N18: 1 | O18: =(L18)*N18 -> 1540092.3 | P18: =O18/B18/12 -> 82.992016 | Q18: 80.77 | S18: =(IF(R18="Yes",Q18,P18)) -> 82.992016 | T18: =S18*B18*12 -> 1540092.3 | U18: =L18-T18 -> 0
A20: TOTAL | B20: =SUM(B10:B18) -> 231905.07 | C20: =SUM(C10:C18) -> 1.8705628e+09 | D20: =SUM(D10:D18) -> 4647708.9 | E20: =SUM(E10:E18) -> 2630213.7 | F20: =SUM(F10:F18) -> 1.5150716e+08 | G20: =SUM(G10:G18) -> 1.5150716e+08 | H20: =SUM(H10:H18) -> 5221025.3 | I20: =SUM(I10:I18) -> 1.4628614e+08 | J20: =F20/G20 -> 1 | K20: 1 | L20: =SUM(L10:L18) -> 1.4628614e+08 | M20: =SUM(M10:M18) -> -2.3719622e-08 | T20: =SUM(T10:T18) -> 1.0766848e+08 | U20: =SUM(U10:U18) -> 38617652

Sheet 2028
A1: 1 | B1: 2 | C1: 3 | D1: 4 | E1: 5 | F1: 6 | G1: 7 | H1: 8 | I1: 9 | J1: 10 | K1: 11 | L1: 12 | M1: 13 | N1: 14 | O1: 15 | P1: 16 | Q1: 17 | R1: 18 | S1: 19
A3: 2028 Rate Design
J6: Derivation of 2028 Fixed Charge | P6: Derivation of 2028 Volumetric Charge
B7: Number of Customers | C7: kWh | D7: kWs | E7: Transformer Ownership Allowance kW | F7: Fixed Revenue at 2027 Rates | G7: Variable Revenue at 2027 Rates | H7: Total Revenue at Status Quo 2027 Rates | I7: Allocated 2028 Revenue Requirement | J7: Current (2027) F/V Split for Non-Residential Classes | K7: 2027 Revenue from Fixed Charge using Current F/V Split | L7: 2027 Fixed Charge Using Current F/V Split ($/month) | M7: Fixed Charge Ceiling ($/month) | N7: Is Current Fixed Charge higher than CAM Ceiling? | O7: 2028 Fixed Charge | P7: Revenue from Fixed Charge ($) | Q7: Revenue from Volumetric Charge ($) | R7: Volumetric Charge ($/kWh) | S7: Volumetric Charge ($/kW)
F8: (A) | G8: (B) | H8: (C=A+B) | I8: (D=C X Def. Factor) | J8: (E) | K8: (F=D x E) | L8: (G=F / Number of Customers / 12) | M8: (H) | N8: (I) If H > L then "Yes" else "No" | O8: (J) If I="Yes" then fixed charge = H, else fixed charge = G | P8: (K = O x 12 x Number of Customers) | Q8: (L=D-K) | R8: (M=Q/kWh) | S8: (N=[Q + TOA X 0.60] /kW)
A10: Residential | B10: 171982.14 | C10: 1.5226106e+09 | D10: 0 | F10: ='2027'!S10*B10*12 -> 98370051 | G10: =+'2027'!V10*C10 -> 0 | H10: =F10+G10 -> 98370051 | I10: =H10*$I$25 -> 1.0076449e+08 | J10: =F10/H10 -> 1 | K10: =I10*J10 -> 1.0076449e+08 | L10: =K10/B10/12 -> 48.825074 | M10: 34.4 | O10: =IF(N10="Yes",M10,L10) -> 48.825074 | P10: =O10*B10*12 -> 1.0076449e+08 | Q10: =I10-P10 -> 0
A11: GS <50 | B11: 12318.379 | C11: 3.5483202e+08 | D11: 0 | F11: ='2027'!S11*B11*12 -> 4026631.6 | G11: =+'2027'!V11*C11 -> 11628397 | H11: =F11+G11 -> 15655028 | I11: =H11*$I$25 -> 16036089 | J11: =F11/H11 -> 0.25721011 | K11: =I11*J11 -> 4124644.3 | L11: =K11/B11/12 -> 27.903052 | M11: 27.24 | N11: =IF(L11>M11,"Yes","No") -> Yes | O11: =IF(N11="Yes",M11,L11) -> 27.24 | P11: =O11*B11*12 -> 4026631.6 | Q11: =I11-P11 -> 12009457 | R11: =Q11/C11 -> 0.033845472
A12: GS 50 - 2,999 kW | B12: 1528.3891 | D12: 3294405.3 | E12: 1297995.7 | F12: ='2027'!S12*B12*12 -> 3043450.7 | G12: =+'2027'!W12*D12-E12*0.6 -> 20152675 | H12: =F12+G12 -> 23196125 | I12: =H12*$I$25 -> 23760744 | J12: =F12/H12 -> 0.13120513 | K12: =I12*J12 -> 3117531.7 | L12: =K12/B12/12 -> 169.97916 | M12: 165.94 | N12: =IF(L12>M12,"Yes","No") -> Yes | O12: =IF(N12="Yes",M12,L12) -> 165.94 | P12: =O12*B12*12 -> 3043450.7 | Q12: =I12-P12 -> 20717294 | S12: =(Q12+E12*0.6)/D12 -> 6.5250292
A13: GS 3,000 - 4,999 kW | B13: 12.5125 | D13: 665751.75 | E13: 665751.75 | F13: ='2027'!S13*B13*12 -> 690667.48 | G13: =+'2027'!W13*D13-E13*0.6 -> 2918079.7 | H13: =F13+G13 -> 3608747.2 | I13: =H13*$I$25 -> 3696588.1 | J13: =F13/H13 -> 0.19138705 | K13: =I13*J13 -> 707479.08 | L13: =K13/B13/12 -> 4711.8154 | M13: 4599.85 | N13: =IF(L13>M13,"Yes","No") -> Yes | O13: =IF(N13="Yes",M13,L13) -> 4599.85 | P13: =O13*B13*12 -> 690667.48 | Q13: =I13-P13 -> 3005920.6 | S13: =(Q13+E13*0.6)/D13 -> 5.1150773
A14: Large Use >5MW | B14: 6.175 | D14: 895387.42 | E14: 895387.42 | F14: ='2027'!S14*B14*12 -> 794517.98 | G14: =+'2027'!W14*D14-E14*0.6 -> 4817149.5 | H14: =F14+G14 -> 5611667.4 | I14: =H14*$I$25 -> 5748261.6 | J14: =F14/H14 -> 0.14158323 | K14: =I14*J14 -> 813857.42 | L14: =K14/B14/12 -> 10983.231 | M14: 10722.24 | N14: =IF(L14>M14,"Yes","No") -> Yes | O14: =IF(N14="Yes",M14,L14) -> 10722.24 | P14: =O14*B14*12 -> 794517.98 | Q14: =I14-P14 -> 4953743.6 | S14: =(Q14+E14*0.6)/D14 -> 6.1325142
A15: Street Light | B15: 46311.467 | D15: 44090.904 | F15: ='2027'!S15*B15*12 -> 655920.18 | G15: =+'2027'!W15*D15 -> 237071.37 | H15: =F15+G15 -> 892991.55 | I15: =H15*$I$25 -> 914727.94 | J15: =F15/H15 -> 0.73452003 | K15: =I15*J15 -> 671885.99 | L15: =K15/B15/12 -> 1.2089986 | M15: 1.86 | N15: =IF(L15>M15,"Yes","No") -> No | O15: =IF(N15="Yes",M15,L15) -> 1.2089986 | P15: =O15*B15*12 -> 671885.99 | Q15: =I15-P15 -> 242841.95 | S15: =(Q15+E15*0.6)/D15 -> 5.5077562
A16: Sentinel | B16: 255.28817 | D16: 644.51221 | F16: ='2027'!S16*B16*12 -> 23487.558 | G16: =+'2027'!W16*D16 -> 14626.339 | H16: =F16+G16 -> 38113.897 | I16: =H16*$I$25 -> 39041.631 | J16: =F16/H16 -> 0.61624657 | K16: =I16*J16 -> 24059.271 | L16: =K16/B16/12 -> 7.8536317 | M16: 14.36 | N16: =IF(L16>M16,"Yes","No") -> No | O16: =IF(N16="Yes",M16,L16) -> 7.8536317 | P16: =O16*B16*12 -> 24059.271 | Q16: =I16-P16 -> 14982.36 | S16: =(Q16+E16*0.6)/D16 -> 23.246045
A17: Unmetered Scattered Load | B17: 1158.6445 | C17: 6450483.6 | F17: ='2027'!S17*B17*12 -> 140796.54 | G17: =+'2027'!V17*C17 -> 176147.32 | H17: =F17+G17 -> 316943.86 | I17: =H17*$I$25 -> 324658.62 | J17: =F17/H17 -> 0.44423181 | K17: =I17*J17 -> 144223.68 | L17: =K17/B17/12 -> 10.373018 | M17: 13.29 | N17: =IF(L17>M17,"Yes","No") -> No | O17: =IF(N17="Yes",M17,L17) -> 10.373018 | P17: =O17*B17*12 -> 144223.68 | Q17: =I17-P17 -> 180434.94 | R17: =Q17/C17 -> 0.027972311
A18: Seasonal Residential | B18: 1542.8997 | C18: 13563322 | D18: 0 | F18: ='2027'!S18*B18*12 -> 1536580.2 | G18: =+'2027'!V18*C18 -> 0 | H18: =F18+G18 -> 1536580.2 | I18: =H18*$I$25 -> 1573982.3 | J18: =F18/H18 -> 1 | K18: =I18*J18 -> 1573982.3 | L18: =K18/B18/12 -> 85.012133 | M18: 80.77 | O18: =IF(N18="Yes",M18,L18) -> 85.012133 | P18: =O18*B18*12 -> 1573982.3 | Q18: =I18-P18 -> 0
A20: TOTAL | B20: =SUM(B10:B18) -> 235115.89 | C20: =SUM(C10:C18) -> 1.8974564e+09 | D20: =SUM(D10:D18) -> 4900279.9 | E20: =SUM(E10:E18) -> 2859134.9 | F20: =SUM(F10:F18) -> 1.092821e+08 | G20: =SUM(G10:G18) -> 39944146 | H20: =SUM(H10:H18) -> 1.4922625e+08 | I20: =SUM(I10:I18) -> 1.5285858e+08 | P20: =SUM(P10:P18) -> 1.117339e+08 | Q20: =SUM(Q10:Q18) -> 41124674
H23: 2028 Revenue at 2027 Rates | I23: =H20 -> 1.4922625e+08
H24: 2028 Revenue Requirement | I24: 1.5285858e+08
H25: Deficiency Factor | I25: =I24/I23 -> 1.0243411

Sheet 2029
A1: 1 | B1: 2 | C1: 3 | D1: 4 | E1: 5 | F1: 6 | G1: 7 | H1: 8 | I1: 9 | J1: 10 | K1: 11 | L1: 12 | M1: 13 | N1: 14 | O1: 15 | P1: 16 | Q1: 17 | R1: 18 | S1: 19
A3: 2029 Rate Design
J6: Derivation of 2029 Fixed Charge | P6: Derivation of 2029 Volumetric Charge
B7: Number of Customers | C7: kWh | D7: kWs | E7: Transformer Ownership Allowance kW | F7: Fixed Revenue at 2028 Rates | G7: Variable Revenue at 2028 Rates | H7: Total Revenue at Status Quo 2028 Rates | I7: Allocated 2029 Revenue Requirement | J7: Current (2028) F/V Split for Non-Residential Classes | K7: 2029 Revenue from Fixed Charge using Current F/V Split | L7: 2029 Fixed Charge Using Current F/V Split ($/month) | M7: Fixed Charge Ceiling ($/month) | N7: Is Current Fixed Charge higher than CAM Ceiling? | O7: 2029 Fixed Charge | P7: Revenue from Fixed Charge ($) | Q7: Revenue from Volumetric Charge ($) | R7: Volumetric Charge ($/kWh) | S7: Volumetric Charge ($/kW)
F8: (A) | G8: (B) | H8: (C=A+B) | I8: (D=C X Def. Factor) | J8: (E) | K8: (F=D x E) | L8: (G=F / Number of Customers / 12) | M8: (H) | N8: (I) If H > L then "Yes" else "No" | O8: (J) If I="Yes" then fixed charge = H, else fixed charge = G | P8: (K = O x 12 x Number of Customers) | Q8: (L=D-K) | R8: (M=Q/kWh) | S8: (N=[Q + TOA X 0.60] /kW)
A10: Residential | B10: 174699.34 | C10: 1.5459532e+09 | D10: 0 | F10: ='2028'!O10*B10*12 -> 1.023565e+08 | G10: =+'2028'!R10*C10 -> 0 | H10: =F10+G10 -> 1.023565e+08 | I10: =H10*$I$25 -> 1.0610715e+08 | J10: =F10/H10 -> 1 | K10: =I10*J10 -> 1.0610715e+08 | L10: =K10/B10/12 -> 50.614171 | M10: 34.4 | O10: =IF(N10="Yes",M10,L10) -> 50.614171 | P10: =O10*B10*12 -> 1.0610715e+08 | Q10: =I10-P10 -> 0
A11: GS <50 | B11: 12433.866 | C11: 3.5408663e+08 | D11: 0 | F11: ='2028'!O11*B11*12 -> 4064382.1 | G11: =+'2028'!R11*C11 -> 11984229 | H11: =F11+G11 -> 16048611 | I11: =H11*$I$25 -> 16636681 | J11: =F11/H11 -> 0.25325444 | K11: =I11*J11 -> 4213313.3 | L11: =K11/B11/12 -> 28.238156 | M11: 27.24 | N11: =IF(L11>M11,"Yes","No") -> Yes | O11: =IF(N11="Yes",M11,L11) -> 27.24 | P11: =O11*B11*12 -> 4064382.1 | Q11: =I11-P11 -> 12572299 | R11: =Q11/C11 -> 0.035506279
A12: GS 50 - 2,999 kW | B12: 1537.3998 | D12: 3326120.2 | E12: 1310491.4 | F12: ='2028'!O12*B12*12 -> 3061393.4 | G12: =+'2028'!S12*D12-E12*0.6 -> 20916737 | H12: =F12+G12 -> 23978130 | I12: =H12*$I$25 -> 24856761 | J12: =F12/H12 -> 0.1276744 | K12: =I12*J12 -> 3173572.1 | L12: =K12/B12/12 -> 172.02054 | M12: 165.94 | N12: =IF(L12>M12,"Yes","No") -> Yes | O12: =IF(N12="Yes",M12,L12) -> 165.94 | P12: =O12*B12*12 -> 3061393.4 | Q12: =I12-P12 -> 21795368 | S12: =(Q12+E12*0.6)/D12 -> 6.7891901
A13: GS 3,000 - 4,999 kW | B13: 12.975 | D13: 714879.83 | E13: 714879.83 | F13: ='2028'!O13*B13*12 -> 716196.65 | G13: =+'2028'!S13*D13-E13*0.6 -> 3227737.7 | H13: =F13+G13 -> 3943934.3 | I13: =H13*$I$25 -> 4088451.9 | J13: =F13/H13 -> 0.18159447 | K13: =I13*J13 -> 742440.24 | L13: =K13/B13/12 -> 4768.4023 | M13: 4599.85 | N13: =IF(L13>M13,"Yes","No") -> Yes | O13: =IF(N13="Yes",M13,L13) -> 4599.85 | P13: =O13*B13*12 -> 716196.65 | Q13: =I13-P13 -> 3372255.3 | S13: =(Q13+E13*0.6)/D13 -> 5.3172338
A14: Large Use >5MW | B14: 6.4625 | D14: 1042834.3 | E14: 1042834.3 | F14: ='2028'!O14*B14*12 -> 831509.71 | G14: =+'2028'!S14*D14-E14*0.6 -> 5769495.7 | H14: =F14+G14 -> 6601005.4 | I14: =H14*$I$25 -> 6842886.1 | J14: =F14/H14 -> 0.12596713 | K14: =I14*J14 -> 861978.73 | L14: =K14/B14/12 -> 11115.135 | M14: 10722.24 | N14: =IF(L14>M14,"Yes","No") -> Yes | O14: =IF(N14="Yes",M14,L14) -> 10722.24 | P14: =O14*B14*12 -> 831509.71 | Q14: =I14-P14 -> 6011376.4 | S14: =(Q14+E14*0.6)/D14 -> 6.3644596
A15: Street Light | B15: 47044.245 | D15: 44644.724 | F15: ='2028'!O15*B15*12 -> 682517.13 | G15: =+'2028'!S15*D15-E15*0.6 -> 245892.26 | H15: =F15+G15 -> 928409.38 | I15: =H15*$I$25 -> 962429.1 | J15: =F15/H15 -> 0.73514674 | K15: =I15*J15 -> 707526.61 | L15: =K15/B15/12 -> 1.2533 | M15: 1.86 | N15: =IF(L15>M15,"Yes","No") -> No | O15: =IF(N15="Yes",M15,L15) -> 1.2533 | P15: =O15*B15*12 -> 707526.61 | Q15: =I15-P15 -> 254902.49 | S15: =(Q15+E15*0.6)/D15 -> 5.709577
A16: Sentinel | B16: 250.56798 | D16: 634.86173 | F16: ='2028'!O16*B16*12 -> 23614.424 | G16: =+'2028'!S16*D16-E16*0.6 -> 14758.024 | H16: =F16+G16 -> 38372.448 | I16: =H16*$I$25 -> 39778.53 | J16: =F16/H16 -> 0.6154005 | K16: =I16*J16 -> 24479.727 | L16: =K16/B16/12 -> 8.1414124 | M16: 14.36 | N16: =IF(L16>M16,"Yes","No") -> No | O16: =IF(N16="Yes",M16,L16) -> 8.1414124 | P16: =O16*B16*12 -> 24479.727 | Q16: =I16-P16 -> 15298.803 | S16: =(Q16+E16*0.6)/D16 -> 24.09785
A17: Unmetered Scattered Load | B17: 1159.3386 | C17: 6421580.5 | F17: ='2028'!O17*B17*12 -> 144310.08 | G17: =+'2028'!R17*C17 -> 179626.45 | H17: =F17+G17 -> 323936.53 | I17: =H17*$I$25 -> 335806.54 | J17: =F17/H17 -> 0.44548875 | K17: =I17*J17 -> 149598.04 | L17: =K17/B17/12 -> 10.753117 | M17: 13.29 | N17: =IF(L17>M17,"Yes","No") -> No | O17: =IF(N17="Yes",M17,L17) -> 10.753117 | P17: =O17*B17*12 -> 149598.04 | Q17: =I17-P17 -> 186208.5 | R17: =Q17/C17 -> 0.028997301
A18: Seasonal Residential | B18: 1539.3812 | C18: 13936134 | D18: 0 | F18: ='2028'!O18*B18*12 -> 1570393 | G18: =+'2028'!R18*C18 -> 0 | H18: =F18+G18 -> 1570393 | I18: =H18*$I$25 -> 1627936.9 | J18: =F18/H18 -> 1 | K18: =I18*J18 -> 1627936.9 | L18: =K18/B18/12 -> 88.127233 | M18: 80.77 | O18: =IF(N18="Yes",M18,L18) -> 88.127233 | P18: =O18*B18*12 -> 1627936.9 | Q18: =I18-P18 -> 0
A20: TOTAL | B20: =SUM(B10:B18) -> 238683.58 | C20: =SUM(C10:C18) -> 1.9203975e+09 | D20: =SUM(D10:D18) -> 5129114 | E20: =SUM(E10:E18) -> 3068205.5 | F20: =SUM(F10:F18) -> 1.1345082e+08 | G20: =SUM(G10:G18) -> 42338476 | H20: =SUM(H10:H18) -> 1.5578929e+08 | I20: =SUM(I10:I18) -> 1.6149788e+08 | P20: =SUM(P10:P18) -> 1.1729017e+08 | Q20: =SUM(Q10:Q18) -> 44207708
H23: 2029 Revenue at 2028 Rates | I23: =H20 -> 1.5578929e+08
H24: 2029 Revenue Requirement | I24: 1.6149788e+08
H25: Deficiency Factor | I25: =I24/I23 -> 1.036643

Sheet 2030
A1: 1 | B1: 2 | C1: 3 | D1: 4 | E1: 5 | F1: 6 | G1: 7 | H1: 8 | I1: 9 | J1: 10 | K1: 11 | L1: 12 | M1: 13 | N1: 14 | O1: 15 | P1: 16 | Q1: 17 | R1: 18 | S1: 19
A3: 2030 Rate Design
J6: Derivation of 2030 Fixed Charge | P6: Derivation of 2030 Volumetric Charge
B7: Number of Customers | C7: kWh | D7: kWs | E7: Transformer Ownership Allowance kW | F7: Fixed Revenue at 2029 Rates | G7: Variable Revenue at 2029 Rates | H7: Total Revenue at Status Quo 2029 Rates | I7: Allocated 2030 Revenue Requirement | J7: Current (2029) F/V Split for Non-Residential Classes | K7: 2030 Revenue from Fixed Charge using Current F/V Split | L7: 2030 Fixed Charge Using Current F/V Split ($/month) | M7: Fixed Charge Ceiling ($/month) | N7: Is Current Fixed Charge higher than CAM Ceiling? | O7: 2030 Fixed Charge | P7: Revenue from Fixed Charge ($) | Q7: Revenue from Volumetric Charge ($) | R7: Volumetric Charge ($/kWh) | S7: Volumetric Charge ($/kW)
F8: (A) | G8: (B) | H8: (C=A+B) | I8: (D=C X Def. Factor) | J8: (E) | K8: (F=D x E) | L8: (G=F / Number of Customers / 12) | M8: (H) | N8: (I) If H > L then "Yes" else "No" | O8: (J) If I="Yes" then fixed charge = H, else fixed charge = G | P8: (K = O x 12 x Number of Customers) | Q8: (L=D-K) | R8: (M=Q/kWh) | S8: (N=[Q + TOA X 0.60] /kW)
A10: Residential | B10: 177521.39 | C10: 1.5780196e+09 | D10: 0 | F10: ='2029'!O10*B10*12 -> 1.0782118e+08 | G10: =+'2029'!R10*C10 -> 0 | H10: =F10+G10 -> 1.0782118e+08 | I10: =H10*$I$25 -> 1.1265029e+08 | J10: =F10/H10 -> 1 | K10: =I10*J10 -> 1.1265029e+08 | L10: =K10/B10/12 -> 52.881089 | M10: 34.4 | O10: =IF(N10="Yes",M10,L10) -> 52.881089 | P10: =O10*B10*12 -> 1.1265029e+08 | Q10: =I10-P10 -> 0
A11: GS <50 | B11: 12550.461 | C11: 3.5535251e+08 | D11: 0 | F11: ='2029'!O11*B11*12 -> 4102494.6 | G11: =+'2029'!R11*C11 -> 12617245 | H11: =F11+G11 -> 16719740 | I11: =H11*$I$25 -> 17468587 | J11: =F11/H11 -> 0.24536833 | K11: =I11*J11 -> 4286237.9 | L11: =K11/B11/12 -> 28.46003 | M11: 27.24 | N11: =IF(L11>M11,"Yes","No") -> Yes | O11: =IF(N11="Yes",M11,L11) -> 27.24 | P11: =O11*B11*12 -> 4102494.6 | Q11: =I11-P11 -> 13366092 | R11: =Q11/C11 -> 0.037613614
A12: GS 50 - 2,999 kW | B12: 1546.1376 | D12: 3361193.4 | E12: 1324310.2 | F12: ='2029'!O12*B12*12 -> 3078792.9 | G12: =+'2029'!S12*D12-E12*0.6 -> 22025195 | H12: =F12+G12 -> 25103988 | I12: =H12*$I$25 -> 26228350 | J12: =F12/H12 -> 0.12264159 | K12: =I12*J12 -> 3216686.5 | L12: =K12/B12/12 -> 173.37215 | M12: 165.94 | N12: =IF(L12>M12,"Yes","No") -> Yes | O12: =IF(N12="Yes",M12,L12) -> 165.94 | P12: =O12*B12*12 -> 3078792.9 | Q12: =I12-P12 -> 23149557 | S12: =(Q12+E12*0.6)/D12 -> 7.1237029
A13: GS 3,000 - 4,999 kW | B13: 13.2625 | D13: 744000.61 | E13: 744000.61 | F13: ='2029'!O13*B13*12 -> 732066.13 | G13: =+'2029'!S13*D13-E13*0.6 -> 3509624.8 | H13: =F13+G13 -> 4241691 | I13: =H13*$I$25 -> 4431668.6 | J13: =F13/H13 -> 0.17258828 | K13: =I13*J13 -> 764854.04 | L13: =K13/B13/12 -> 4805.869 | M13: 4599.85 | N13: =IF(L13>M13,"Yes","No") -> Yes | O13: =IF(N13="Yes",M13,L13) -> 4599.85 | P13: =O13*B13*12 -> 732066.13 | Q13: =I13-P13 -> 3699602.5 | S13: =(Q13+E13*0.6)/D13 -> 5.5725799
A14: Large Use >5MW | B14: 6.5 | D14: 1100818 | E14: 1100818 | F14: ='2029'!O14*B14*12 -> 836334.72 | G14: =+'2029'!S14*D14-E14*0.6 -> 6345620.8 | H14: =F14+G14 -> 7181955.5 | I14: =H14*$I$25 -> 7503622.3 | J14: =F14/H14 -> 0.11644944 | K14: =I14*J14 -> 873792.64 | L14: =K14/B14/12 -> 11202.47 | M14: 10722.24 | N14: =IF(L14>M14,"Yes","No") -> Yes | O14: =IF(N14="Yes",M14,L14) -> 10722.24 | P14: =O14*B14*12 -> 836334.72 | Q14: =I14-P14 -> 6667287.6 | S14: =(Q14+E14*0.6)/D14 -> 6.6566667
A15: Street Light | B15: 47725.82 | D15: 45205.829 | F15: ='2029'!O15*B15*12 -> 717777.22 | G15: =+'2029'!S15*D15-E15*0.6 -> 258106.16 | H15: =F15+G15 -> 975883.38 | I15: =H15*$I$25 -> 1019591.4 | J15: =F15/H15 -> 0.73551536 | K15: =I15*J15 -> 749925.16 | L15: =K15/B15/12 -> 1.309433 | M15: 1.86 | N15: =IF(L15>M15,"Yes","No") -> No | O15: =IF(N15="Yes",M15,L15) -> 1.309433 | P15: =O15*B15*12 -> 749925.16 | Q15: =I15-P15 -> 269666.27 | S15: =(Q15+E15*0.6)/D15 -> 5.9652986
A16: Sentinel | B16: 246.38951 | D16: 625.44345 | F16: ='2029'!O16*B16*12 -> 24071.503 | G16: =+'2029'!S16*D16-E16*0.6 -> 15071.843 | H16: =F16+G16 -> 39143.346 | I16: =H16*$I$25 -> 40896.506 | J16: =F16/H16 -> 0.61495774 | K16: =I16*J16 -> 25149.623 | L16: =K16/B16/12 -> 8.5060515 | M16: 14.36 | N16: =IF(L16>M16,"Yes","No") -> No | O16: =IF(N16="Yes",M16,L16) -> 8.5060515 | P16: =O16*B16*12 -> 25149.623 | Q16: =I16-P16 -> 15746.883 | S16: =(Q16+E16*0.6)/D16 -> 25.177149
A17: Unmetered Scattered Load | B17: 1157.6314 | C17: 6393062.1 | F17: ='2029'!O17*B17*12 -> 149377.75 | G17: =+'2029'!R17*C17 -> 185381.55 | H17: =F17+G17 -> 334759.29 | I17: =H17*$I$25 -> 349752.56 | J17: =F17/H17 -> 0.44622435 | K17: =I17*J17 -> 156068.11 | L17: =K17/B17/12 -> 11.234729 | M17: 13.29 | N17: =IF(L17>M17,"Yes","No") -> No | O17: =IF(N17="Yes",M17,L17) -> 11.234729 | P17: =O17*B17*12 -> 156068.11 | Q17: =I17-P17 -> 193684.45 | R17: =Q17/C17 -> 0.030296037
A18: Seasonal Residential | B18: 1535.8708 | C18: 14392229 | D18: 0 | F18: ='2029'!O18*B18*12 -> 1624224.5 | G18: =+'2029'!R18*C18 -> 0 | H18: =F18+G18 -> 1624224.5 | I18: =H18*$I$25 -> 1696970.6 | J18: =F18/H18 -> 1 | K18: =I18*J18 -> 1696970.6 | L18: =K18/B18/12 -> 92.074292 | M18: 80.77 | O18: =IF(N18="Yes",M18,L18) -> 92.074292 | P18: =O18*B18*12 -> 1696970.6 | Q18: =I18-P18 -> 0
A20: TOTAL | B20: =SUM(B10:B18) -> 242303.47 | C20: =SUM(C10:C18) -> 1.9541574e+09 | D20: =SUM(D10:D18) -> 5251843.3 | E20: =SUM(E10:E18) -> 3169128.8 | F20: =SUM(F10:F18) -> 1.1908632e+08 | G20: =SUM(G10:G18) -> 44956245 | H20: =SUM(H10:H18) -> 1.6404256e+08 | I20: =SUM(I10:I18) -> 1.7138973e+08 | P20: =SUM(P10:P18) -> 1.240281e+08 | Q20: =SUM(Q10:Q18) -> 47361637
H23: 2030 Revenue at 2029 Rates | I23: =H20 -> 1.6404256e+08
H24: 2030 Revenue Requirement | I24: 1.7138973e+08
H25: Deficiency Factor | I25: =I24/I23 -> 1.0447882

Sheet 2031
A1: 1 | B1: 2 | C1: 3 | D1: 4 | E1: 5 | F1: 6 | G1: 7 | H1: 8 | I1: 9 | J1: 10 | K1: 11 | L1: 12 | M1: 13 | N1: 14 | O1: 15 | P1: 16 | Q1: 17 | R1: 18 | S1: 19
A3: 2031 Rate Design
J6: Derivation of 2031 Fixed Charge | P6: Derivation of 2031 Volumetric Charge
B7: Number of Customers | C7: kWh | D7: kWs | E7: Transformer Ownership Allowance kW | F7: Fixed Revenue at 2030 Rates | G7: Variable Revenue at 2030 Rates | H7: Total Revenue at Status Quo 2030 Rates | I7: Allocated 2031 Revenue Requirement | J7: Current (2030) F/V Split for Non-Residential Classes | K7: 2031 Revenue from Fixed Charge using Current F/V Split | L7: 2031 Fixed Charge Using Current F/V Split ($/month) | M7: Fixed Charge Ceiling ($/month) | N7: Is Current Fixed Charge higher than CAM Ceiling? | O7: 2031 Fixed Charge | P7: Revenue from Fixed Charge ($) | Q7: Revenue from Volumetric Charge ($) | R7: Volumetric Charge ($/kWh) | S7: Volumetric Charge ($/kW)
F8: (A) | G8: (B) | H8: (C=A+B) | I8: (D=C X Def. Factor) | J8: (E) | K8: (F=D x E) | L8: (G=F / Number of Customers / 12) | M8: (H) | N8: (I) If H > L then "Yes" else "No" | O8: (J) If I="Yes" then fixed charge = H, else fixed charge = G | P8: (K = O x 12 x Number of Customers) | Q8: (L=D-K) | R8: (M=Q/kWh) | S8: (N=[Q + TOA X 0.60] /kW)
A10: Residential | B10: 180168.84 | C10: 1.6117962e+09 | D10: 0 | F10: ='2030'!O10*B10*12 -> 1.1433029e+08 | G10: =+'2030'!R10*C10 -> 0 | H10: =F10+G10 -> 1.1433029e+08 | I10: =H10*$I$25 -> 1.2326346e+08 | J10: =F10/H10 -> 1 | K10: =I10*J10 -> 1.2326346e+08 | L10: =K10/B10/12 -> 57.012936 | M10: 34.4 | O10: =IF(N10="Yes",M10,L10) -> 57.012936 | P10: =O10*B10*12 -> 1.2326346e+08 | Q10: =I10-P10 -> 0
A11: GS <50 | B11: 12668.174 | C11: 3.5637823e+08 | D11: 0 | F11: ='2030'!O11*B11*12 -> 4140972.8 | G11: =+'2030'!R11*C11 -> 13404673 | H11: =F11+G11 -> 17545646 | I11: =H11*$I$25 -> 18916570 | J11: =F11/H11 -> 0.23601141 | K11: =I11*J11 -> 4464526.4 | L11: =K11/B11/12 -> 29.368389 | M11: 27.24 | N11: =IF(L11>M11,"Yes","No") -> Yes | O11: =IF(N11="Yes",M11,L11) -> 27.24 | P11: =O11*B11*12 -> 4140972.8 | Q11: =I11-P11 -> 14775597 | R11: =Q11/C11 -> 0.041460436
A12: GS 50 - 2,999 kW | B12: 1554.5779 | D12: 3383575.8 | E12: 1333128.9 | F12: ='2030'!O12*B12*12 -> 3095600 | G12: =+'2030'!S12*D12-E12*0.6 -> 23303712 | H12: =F12+G12 -> 26399312 | I12: =H12*$I$25 -> 28462013 | J12: =F12/H12 -> 0.11726063 | K12: =I12*J12 -> 3337473.7 | L12: =K12/B12/12 -> 178.90567 | M12: 165.94 | N12: =IF(L12>M12,"Yes","No") -> Yes | O12: =IF(N12="Yes",M12,L12) -> 165.94 | P12: =O12*B12*12 -> 3095600 | Q12: =I12-P12 -> 25366413 | S12: =(Q12+E12*0.6)/D12 -> 7.7333248
A13: GS 3,000 - 4,999 kW | B13: 13.3 | D13: 774616.48 | E13: 774616.48 | F13: ='2030'!O13*B13*12 -> 734136.06 | G13: =+'2030'!S13*D13-E13*0.6 -> 3851842.4 | H13: =F13+G13 -> 4585978.4 | I13: =H13*$I$25 -> 4944302.4 | J13: =F13/H13 -> 0.16008275 | K13: =I13*J13 -> 791497.55 | L13: =K13/B13/12 -> 4959.2578 | M13: 4599.85 | N13: =IF(L13>M13,"Yes","No") -> Yes | O13: =IF(N13="Yes",M13,L13) -> 4599.85 | P13: =O13*B13*12 -> 734136.06 | Q13: =I13-P13 -> 4210166.3 | S13: =(Q13+E13*0.6)/D13 -> 6.0351624
A14: Large Use >5MW | B14: 6.5 | D14: 1121410.9 | E14: 1121410.9 | F14: ='2030'!O14*B14*12 -> 836334.72 | G14: =+'2030'!S14*D14-E14*0.6 -> 6792011.8 | H14: =F14+G14 -> 7628346.5 | I14: =H14*$I$25 -> 8224385 | J14: =F14/H14 -> 0.10963512 | K14: =I14*J14 -> 901681.47 | L14: =K14/B14/12 -> 11560.019 | M14: 10722.24 | N14: =IF(L14>M14,"Yes","No") -> Yes | O14: =IF(N14="Yes",M14,L14) -> 10722.24 | P14: =O14*B14*12 -> 836334.72 | Q14: =I14-P14 -> 7388050.3 | S14: =(Q14+E14*0.6)/D14 -> 7.1881744
A15: Street Light | B15: 48428.237 | D15: 45774.32 | F15: ='2030'!O15*B15*12 -> 760962.38 | G15: =+'2030'!S15*D15-E15*0.6 -> 273057.49 | H15: =F15+G15 -> 1034019.9 | I15: =H15*$I$25 -> 1114812.7 | J15: =F15/H15 -> 0.73592627 | K15: =I15*J15 -> 820419.94 | L15: =K15/B15/12 -> 1.4117451 | M15: 1.86 | N15: =IF(L15>M15,"Yes","No") -> No | O15: =IF(N15="Yes",M15,L15) -> 1.4117451 | P15: =O15*B15*12 -> 820419.94 | Q15: =I15-P15 -> 294392.75 | S15: =(Q15+E15*0.6)/D15 -> 6.4313953
A16: Sentinel | B16: 247.70946 | D16: 616.25346 | F16: ='2030'!O16*B16*12 -> 25284.353 | G16: =+'2030'!S16*D16-E16*0.6 -> 15515.505 | H16: =F16+G16 -> 40799.859 | I16: =H16*$I$25 -> 43987.743 | J16: =F16/H16 -> 0.61971669 | K16: =I16*J16 -> 27259.938 | L16: =K16/B16/12 -> 9.1706692 | M16: 14.36 | N16: =IF(L16>M16,"Yes","No") -> No | O16: =IF(N16="Yes",M16,L16) -> 9.1706692 | P16: =O16*B16*12 -> 27259.938 | Q16: =I16-P16 -> 16727.804 | S16: =(Q16+E16*0.6)/D16 -> 27.144358
A17: Unmetered Scattered Load | B17: 1153.4392 | C17: 6364925.8 | F17: ='2030'!O17*B17*12 -> 155502.92 | G17: =+'2030'!R17*C17 -> 192832.03 | H17: =F17+G17 -> 348334.95 | I17: =H17*$I$25 -> 375552 | J17: =F17/H17 -> 0.4464178 | K17: =I17*J17 -> 167653.1 | L17: =K17/B17/12 -> 12.112551 | M17: 13.29 | N17: =IF(L17>M17,"Yes","No") -> No | O17: =IF(N17="Yes",M17,L17) -> 12.112551 | P17: =O17*B17*12 -> 167653.1 | Q17: =I17-P17 -> 207898.9 | R17: =Q17/C17 -> 0.032663209
A18: Seasonal Residential | B18: 1532.3684 | C18: 14865355 | D18: 0 | F18: ='2030'!O18*B18*12 -> 1693100.9 | G18: =+'2030'!R18*C18 -> 0 | H18: =F18+G18 -> 1693100.9 | I18: =H18*$I$25 -> 1825390.8 | J18: =F18/H18 -> 1 | K18: =I18*J18 -> 1825390.8 | L18: =K18/B18/12 -> 99.268488 | M18: 80.77 | O18: =IF(N18="Yes",M18,L18) -> 99.268488 | P18: =O18*B18*12 -> 1825390.8 | Q18: =I18-P18 -> 0
A20: TOTAL | B20: =SUM(B10:B18) -> 245773.15 | C20: =SUM(C10:C18) -> 1.9894047e+09 | D20: =SUM(D10:D18) -> 5325993.7 | E20: =SUM(E10:E18) -> 3229156.2 | F20: =SUM(F10:F18) -> 1.2577219e+08 | G20: =SUM(G10:G18) -> 47833644 | H20: =SUM(H10:H18) -> 1.7360583e+08 | I20: =SUM(I10:I18) -> 1.8717047e+08 | P20: =SUM(P10:P18) -> 1.3491122e+08 | Q20: =SUM(Q10:Q18) -> 52259246
H23: 2031 Revenue at 2030 Rates | I23: =H20 -> 1.7360583e+08
H24: 2031 Revenue Requirement | I24: 1.8717047e+08
H25: Deficiency Factor | I25: =I24/I23 -> 1.0781347
