Workbook
Name BI_LDCLIST: #REF!
Name BridgeYear: #REF!
Name contactf: #REF!
Name COS_RES_CUSTOMERS: #REF!
Name COS_RES_KWH: #REF!
Name CustomerAdministration: #REF!
Name DesRange: #REF!
Name DRP: #REF!
Name EBNUMBER: #REF!
Name Elexicon_SA: #REF!
Name fed_sb: #REF!
Name fedtax: #REF!
Name forecast_wholesale_lineplus: #REF!
Name forecast_wholesale_network: #REF!
Name G1LD: #REF!
Name Group1Desposing: #REF!
Name histdate: #REF!
Name Incr2000: #REF!
Name LDCList: OFFSET(#REF!,0,0,COUNTA(#REF!),1)
Name LDCNAME1: #REF!
Name LIMIT: #REF!
Name listdata: #REF!
Name man_beg_bud: #REF!
Name man_end_bud: #REF!
Name man12ACT: #REF!
Name MANBUD: #REF!
Name manCYACT: #REF!
Name manCYBUD: #REF!
Name manCYF: #REF!
Name MANEND: #REF!
Name manNYbud: #REF!
Name manpower_costs: #REF!
Name manPYACT: #REF!
Name MANSTART: #REF!
Name mat_beg_bud: #REF!
Name mat_end_bud: #REF!
Name mat12ACT: #REF!
Name MATBUD: #REF!
Name matCYACT: #REF!
Name matCYBUD: #REF!
Name matCYF: #REF!
Name MATEND: #REF!
Name material_costs: #REF!
Name matNYbud: #REF!
Name matPYACT: #REF!
Name MATSTART: #REF!
Name maxtax: #REF!
Name MidPeak: #REF!
Name MidPeakPer: #REF!
Name OER: #REF!
Name OffPeak: #REF!
Name OffPeakPer: #REF!
Name OnPeak: #REF!
Name OnPeakPer: #REF!
Name ontario_sb: #REF!
Name ontariotax: #REF!
Name oth_beg_bud: #REF!
Name oth_end_bud: #REF!
Name oth12ACT: #REF!
Name othCYACT: #REF!

Sheet 1. Info
AB1: Alectra Utilities Corporation-Brampton Rate Zone | AC1: 2026 RTSR Workform for Electricity Distributors
AB2: Alectra Utilities Corporation-Enersource Rate Zone | AC2: v 1.0
AB3: Alectra Utilities Corporation-Horizon Utilities Rate Zone
AB4: Alectra Utilities Corporation-PowerStream Rate Zone
AB5: Alectra Utilities Corporation-Guelph Rate Zone
AB6: Algoma Power Inc.
AB7: Atikokan Hydro Inc.
AB8: Bluewater Power Distribution Corporation
AB9: Burlington Hydro Inc.
AB10: Canadian Niagara Power Inc.
AB11: Centre Wellington Hydro Ltd.
AB12: Chapleau Public Utilities Corporation
A13: Drop-down lists are shaded blue; Input cells are shaded green. | AB13: Cooperative Hydro Embrun Inc.
AB14: E.L.K. Energy Inc.
C15: Utility Name | D15: Elexicon Energy Inc. | AB15: Elexicon Energy Inc.-Whitby Rate Zone
AB16: Elexicon Energy Inc.-Veridian Rate Zone
C17: Assigned EB Number | D17: EB-2025-0312 | AB17: Enova Power Corp.-Kitchener-Wilmot Hydro Rate Zone
AB18: Enova Power Corp.-Waterloo North Rate Zone
C19: Name and Title of Contact | D19: Erin Stevens, Director, Regulatory Affairs | AB19: Entegrus Powerlines Inc.-For Entegrus-Main Rate Zone
AB20: Entegrus Powerlines Inc.-For Former St. Thomas Energy Rate Zone
C21: Phone Number | AB21: ENWIN Utilities Ltd.
AB22: EPCOR Electricity Distribution Ontario Inc.
C23: Email Address | D23: estevens@elexiconenergy.com | AB23: ERTH Power Corporation - ERTH Power Main Rate Zone
AB24: ERTH POWER CORPORATION – GODERICH RATE ZONE
C25: Last COS Re-based Year | AB25: Espanola Regional Hydro Distribution Corporation
AB26: Essex Powerlines Corporation
C27: Test Year | D27: 2027 | AB27: Festival Hydro Inc.
AB28: Fort Frances Power Corporation
AB29: GrandBridge Energy Inc.-Brantford Power Rate Zone
AB30: GrandBridge Energy Inc.-Energy+ Rate Zone
AB31: Greater Sudbury Hydro Inc.
AB32: Grimsby Power Incorporated
AB33: Halton Hills Hydro Inc.
AB34: Hearst Power Distribution Co. Ltd.
AB35: Hydro 2000 Inc.
AB36: Hydro Hawkesbury Inc.
AB37: Hydro One Networks Inc.
AB38: Hydro One Networks Inc.-Former Orillia Power Distribution Corporation Service Area
AB39: Hydro One Networks Inc.-Former Peterborough Distribution Inc. Service Area
... AB72: Westario Power Inc.

Sheet 2. Table of Contents
D20: 1. Info | I20: 5. Historical Wholesale
D22: 2. Table of Contents | I22: 6. Current Wholesale
D24: 3. RRR Data | I24: 7. Forecast Wholesale
D26: 4. UTRs and Sub-Transmission | I26: 8. RTSR Rates to Forecast
I28: 9. LV Rates

Sheet 3. RRR Data 2027
AZ1: 1
A13: Columns E and F have been populated with data from the most recent RRR filing. Rate classes that have more than one Network or Connection charge will notice that the cells are highlighted in green and unlocked. If the data needs to be modified, please make the necessary adjustments and note the changes in your manager's summary. As well, the Loss Factor has been imported from Tab 2.
A14: EV Multiplier: | B14: 0.17
A15: Rate Class | B15: Rate Description | C15: Unit | D15: Rate | E15: Non-Loss Adjusted Metered kWh | F15: Non-Loss Adjusted Metered kW | G15: Applicable Loss Factor | H15: Loss Adjusted Billed kWh
A16: Veridian Rate Zone
A17: Residential Service Classification | B17: Retail Transmission Rate - Network Service Rate | C17: $/kWh | D17: 0.0117 | E17: 1.0760246e+09 | F17: 0 | G17: 1.0415 | H17: =E17*G17 -> 1.1206796e+09
A18: Residential Service Classification | B18: Retail Transmission Rate - Line and Transformation Connection Service Rate | C18: $/kWh | D18: 0.008 | E18: =E17 -> 1.0760246e+09 | F18: 0 | G18: =G17 -> 1.0415 | H18: =E18*G18 -> 1.1206796e+09
A19: Seasonal Residential Service Classification | B19: Retail Transmission Rate - Network Service Rate | C19: $/kWh | D19: 0.0122 | E19: 13136538 | F19: 0 | G19: 1.0415 | H19: =E19*G19 -> 13681705
A20: Seasonal Residential Service Classification | B20: Retail Transmission Rate - Line and Transformation Connection Service Rate | C20: $/kWh | D20: 0.0103 | E20: =E19 -> 13136538 | F20: 0 | G20: =G19 -> 1.0415 | H20: =E20*G20 -> 13681705
A21: General Service Less Than 50 kW Service Classification | B21: Retail Transmission Rate - Network Service Rate | C21: $/kWh | D21: 0.0107 | E21: 2.685236e+08 | F21: 0 | G21: 1.0415 | H21: =E21*G21 -> 2.7966733e+08
A22: General Service Less Than 50 kW Service Classification | B22: Retail Transmission Rate - Line and Transformation Connection Service Rate | C22: $/kWh | D22: 0.0075 | E22: =E21 -> 2.685236e+08 | F22: 0 | G22: =G21 -> 1.0415 | H22: =E22*G22 -> 2.7966733e+08
A23: General Service 50 To 2,999 kW Service Classification | B23: Retail Transmission Rate - Network Service Rate | C23: $/kW | D23: 5.2131 | E23: 9.7433197e+08 | F23: 2362640.2
A24: General Service 50 To 2,999 kW Service Classification | B24: Retail Transmission Rate - Line and Transformation Connection Service Rate | C24: $/kW | D24: 3.4745 | E24: =E23 -> 9.7433197e+08 | F24: =F23 -> 2362640.2
A25: General Service 50 To 2,999 kW Service Classification | B25: Retail Transmission Rate - Network Service Rate - EV CHARGING | C25: $/kW | D25: =D23*$B$14 -> 0.886227 | E25: 319720.34 | F25: 15376.162
A26: General Service 50 To 2,999 kW Service Classification | B26: Retail Transmission Rate - Line and Transformation Connection Service Rate - EV CHARGING | C26: $/kW | D26: =D24*$B$14 -> 0.590665 | E26: =E25 -> 319720.34 | F26: =F25 -> 15376.162
A27: General Service 3,000 To 4,999 kW Service Classification | B27: Retail Transmission Rate - Network Service Rate | C27: $/kW | D27: 5.7435 | E27: 1.7211672e+08 | F27: 391116.46
A28: General Service 3,000 To 4,999 kW Service Classification | B28: Retail Transmission Rate - Line and Transformation Connection Service Rate | C28: $/kW | D28: 3.8158 | E28: =E27 -> 1.7211672e+08 | F28: =F27 -> 391116.46
A29: General Service 3,000 To 4,999 kW Service Classification | B29: Retail Transmission Rate - Network Service Rate - EV CHARGING | C29: $/kW | D29: =D27*$B$14 -> 0.976395 | E29: 0 | F29: 0
A30: General Service 3,000 To 4,999 kW Service Classification | B30: Retail Transmission Rate - Line and Transformation Connection Service Rate - EV CHARGING | C30: $/kW | D30: =D28*$B$14 -> 0.648686 | E30: =E29 -> 0 | F30: 0
A31: Large Use Service Classification | B31: Retail Transmission Rate - Network Service Rate | C31: $/kW | D31: 5.7435 | E31: 4.3499596e+08 | F31: 742951.91
A32: Large Use Service Classification | B32: Retail Transmission Rate - Line and Transformation Connection Service Rate | C32: $/kW | D32: 3.8158 | E32: =E31 -> 4.3499596e+08 | F32: =F31 -> 742951.91
A33: Unmetered Scattered Load Service Classification | B33: Retail Transmission Rate - Network Service Rate | C33: $/kWh | D33: 0.0107 | E33: 4588884.7 | F33: 0 | G33: 1.0415 | H33: =E33*G33 -> 4779323.4
A34: Unmetered Scattered Load Service Classification | B34: Retail Transmission Rate - Line and Transformation Connection Service Rate | C34: $/kWh | D34: 0.0075 | E34: =E33 -> 4588884.7 | F34: 0 | G34: =G33 -> 1.0415 | H34: =E34*G34 -> 4779323.4
A35: Sentinel Lighting Service Classification | B35: Retail Transmission Rate - Network Service Rate | C35: $/kW | D35: 3.2516 | E35: 81257.398 | F35: 569.18082
A36: Sentinel Lighting Service Classification | B36: Retail Transmission Rate - Line and Transformation Connection Service Rate | C36: $/kW | D36: 2.1844 | E36: =E35 -> 81257.398 | F36: =F35 -> 569.18082
A37: Street Lighting Service Classification | B37: Retail Transmission Rate - Network Service Rate | C37: $/kW | D37: 3.4237 | E37: 11913244 | F37: 33229.794
A38: Street Lighting Service Classification | B38: Retail Transmission Rate - Line and Transformation Connection Service Rate | C38: $/kW | D38: 2.2826 | E38: =E37 -> 11913244 | F38: =F37 -> 33229.794
A39: Whitby Rate Zone
A40: Residential Service Classification | B40: Retail Transmission Rate - Network Service Rate | C40: $/kWh | D40: 0.0131 | E40: 4.2014444e+08 | F40: 0 | G40: =G17 -> 1.0415 | H40: =E40*G40 -> 4.3758043e+08
A41: Residential Service Classification | B41: Retail Transmission Rate - Line and Transformation Connection Service Rate | C41: $/kWh | D41: 0.0099 | E41: =E40 -> 4.2014444e+08 | F41: 0 | G41: =G18 -> 1.0415 | H41: =E41*G41 -> 4.3758043e+08
A42: General Service Less Than 50 kW Service Classification | B42: Retail Transmission Rate - Network Service Rate | C42: $/kWh | D42: 0.012 | E42: 86253887 | F42: 0 | G42: =G19 -> 1.0415 | H42: =E42*G42 -> 89833424
A43: General Service Less Than 50 kW Service Classification | B43: Retail Transmission Rate - Line and Transformation Connection Service Rate | C43: $/kWh | D43: 0.0094 | E43: =E42 -> 86253887 | F43: 0 | G43: =G20 -> 1.0415 | H43: =E43*G43 -> 89833424
A44: General Service 50 To 4,999 kW Service Classification | B44: Retail Transmission Rate - Network Service Rate | C44: $/kW | D44: 4.7407 | E44: 3.5217727e+08 | F44: 873611.38 | G44: 0 | H44: 0
A45: General Service 50 To 4,999 kW Service Classification | B45: Retail Transmission Rate - Line and Transformation Connection Service Rate | C45: $/kW | D45: 3.5517 | E45: =E44 -> 3.5217727e+08 | F45: =F44 -> 873611.38 | G45: 0 | H45: 0 | I45: 0.99848527 | J45: 0.99472005
A46: General Service 50 To 4,999 kW Service Classification | B46: Retail Transmission Rate - Network Service Rate - EV CHARGING | C46: $/kW | D46: 0.8059 | E46: 534261.96 | F46: 4637.106 | G46: 0 | H46: 0
A47: General Service 50 To 4,999 kW Service Classification | B47: Retail Transmission Rate - Line and Transformation Connection Service Rate - EV CHARGING | C47: $/kW | D47: 0.6038 | E47: =E46 -> 534261.96 | F47: =F46 -> 4637.106 | G47: 0 | H47: 0 | I47: 0.0015147278 | J47: 0.0052799476
A48: General Service 3,000 To 4,999 kW Service Classification | B48: Retail Transmission Rate - Network Service Rate | C48: $/kWh | E48: 1.1062342e+08 | F48: 213176.99
A49: General Service 3,000 To 4,999 kW Service Classification | B49: Retail Transmission Rate - Line and Transformation Connection Service Rate | C49: $/kWh | E49: =E48 -> 1.1062342e+08 | F49: =F48 -> 213176.99
A50: General Service 3,000 To 4,999 kW Service Classification | B50: Retail Transmission Rate - Network Service Rate - EV CHARGING | C50: $/kW
A51: General Service 3,000 To 4,999 kW Service Classification | B51: Retail Transmission Rate - Line and Transformation Connection Service Rate - EV CHARGING | C51: $/kW
...

Sheet 3. RRR Data 2028
AZ1: 1
A13: Columns E and F have been populated with data from the most recent RRR filing. Rate classes that have more than one Network or Connection charge will notice that the cells are highlighted in green and unlocked. If the data needs to be modified, please make the necessary adjustments and note the changes in your manager's summary. As well, the Loss Factor has been imported from Tab 2.
A14: EV Multiplier: | B14: 0.17
A15: Rate Class | B15: Rate Description | C15: Unit | D15: Rate | E15: Non-Loss Adjusted Metered kWh | F15: Non-Loss Adjusted Metered kW | G15: Applicable Loss Factor | H15: Loss Adjusted Billed kWh
A17: Residential Service Classification | B17: Retail Transmission Rate - Network Service Rate | C17: $/kWh | D17: 0.0117 | E17: 1.5226106e+09 | F17: 0 | G17: 1.0415 | H17: =E17*G17 -> 1.5857989e+09
A18: Residential Service Classification | B18: Retail Transmission Rate - Line and Transformation Connection Service Rate | C18: $/kWh | D18: 0.008 | E18: =E17 -> 1.5226106e+09 | F18: 0 | G18: =G17 -> 1.0415 | H18: =E18*G18 -> 1.5857989e+09
A19: Seasonal Residential Service Classification | B19: Retail Transmission Rate - Network Service Rate | C19: $/kWh | D19: 0.0122 | E19: 13563322 | F19: 0 | G19: 1.0415 | H19: =E19*G19 -> 14126200
A20: Seasonal Residential Service Classification | B20: Retail Transmission Rate - Line and Transformation Connection Service Rate | C20: $/kWh | D20: 0.0103 | E20: =E19 -> 13563322 | F20: 0 | G20: =G19 -> 1.0415 | H20: =E20*G20 -> 14126200
A21: General Service Less Than 50 kW Service Classification | B21: Retail Transmission Rate - Network Service Rate | C21: $/kWh | D21: 0.0107 | E21: 3.5483202e+08 | F21: 0 | G21: 1.0415 | H21: =E21*G21 -> 3.6955755e+08
A22: General Service Less Than 50 kW Service Classification | B22: Retail Transmission Rate - Line and Transformation Connection Service Rate | C22: $/kWh | D22: 0.0075 | E22: =E21 -> 3.5483202e+08 | F22: 0 | G22: =G21 -> 1.0415 | H22: =E22*G22 -> 3.6955755e+08
A23: General Service 50 To 2,999 kW Service Classification | B23: Retail Transmission Rate - Network Service Rate | C23: $/kW | D23: 5.2131 | E23: 1.3383368e+09 | F23: 3247733.9
A24: General Service 50 To 2,999 kW Service Classification | B24: Retail Transmission Rate - Line and Transformation Connection Service Rate | C24: $/kW | D24: 3.4745 | E24: =E23 -> 1.3383368e+09 | F24: =F23 -> 3247733.9
A25: General Service 50 To 2,999 kW Service Classification | B25: Retail Transmission Rate - Network Service Rate - EV CHARGING | C25: $/kW | D25: =D23*$B$14 -> 0.886227 | E25: 420130.47 | F25: 46671.434
A26: General Service 50 To 2,999 kW Service Classification | B26: Retail Transmission Rate - Line and Transformation Connection Service Rate - EV CHARGING | C26: $/kW | D26: =D24*$B$14 -> 0.590665 | E26: =E25 -> 420130.47 | F26: =F25 -> 46671.434
A27: General Service 3,000 To 4,999 kW Service Classification | B27: Retail Transmission Rate - Network Service Rate | C27: $/kW | D27: 5.7435 | E27: 3.0934539e+08 | F27: 665751.75
A28: General Service 3,000 To 4,999 kW Service Classification | B28: Retail Transmission Rate - Line and Transformation Connection Service Rate | C28: $/kW | D28: 3.8158 | E28: =E27 -> 3.0934539e+08 | F28: =F27 -> 665751.75
A29: General Service 3,000 To 4,999 kW Service Classification | B29: Retail Transmission Rate - Network Service Rate - EV CHARGING | C29: $/kW | D29: =D27*$B$14 -> 0.976395 | E29: 0 | F29: 0
A30: General Service 3,000 To 4,999 kW Service Classification | B30: Retail Transmission Rate - Line and Transformation Connection Service Rate - EV CHARGING | C30: $/kW | D30: =D28*$B$14 -> 0.648686 | E30: =E29 -> 0 | F30: 0
A31: Large Use Service Classification | B31: Retail Transmission Rate - Network Service Rate | C31: $/kW | D31: 5.7435 | E31: 5.2013344e+08 | F31: 895387.42
A32: Large Use Service Classification | B32: Retail Transmission Rate - Line and Transformation Connection Service Rate | C32: $/kW | D32: 3.8158 | E32: =E31 -> 5.2013344e+08 | F32: =F31 -> 895387.42
A33: Unmetered Scattered Load Service Classification | B33: Retail Transmission Rate - Network Service Rate | C33: $/kWh | D33: 0.0107 | E33: 6450483.6 | F33: 0 | G33: 1.0415 | H33: =E33*G33 -> 6718178.7
A34: Unmetered Scattered Load Service Classification | B34: Retail Transmission Rate - Line and Transformation Connection Service Rate | C34: $/kWh | D34: 0.0075 | E34: =E33 -> 6450483.6 | F34: 0 | G34: =G33 -> 1.0415 | H34: =E34*G34 -> 6718178.7
A35: Sentinel Lighting Service Classification | B35: Retail Transmission Rate - Network Service Rate | C35: $/kW | D35: 3.2516 | E35: 85958.85 | F35: 644.51221
A36: Sentinel Lighting Service Classification | B36: Retail Transmission Rate - Line and Transformation Connection Service Rate | C36: $/kW | D36: 2.1844 | E36: =E35 -> 85958.85 | F36: =F35 -> 644.51221
A37: Street Lighting Service Classification | B37: Retail Transmission Rate - Network Service Rate | C37: $/kW | D37: 3.4237 | E37: 15821266 | F37: 44090.904
A38: Street Lighting Service Classification | B38: Retail Transmission Rate - Line and Transformation Connection Service Rate | C38: $/kW | D38: 2.2826 | E38: =E37 -> 15821266 | F38: =F37 -> 44090.904

Sheet 3. RRR Data 2029
AZ1: 1
A13: Columns E and F have been populated with data from the most recent RRR filing. Rate classes that have more than one Network or Connection charge will notice that the cells are highlighted in green and unlocked. If the data needs to be modified, please make the necessary adjustments and note the changes in your manager's summary. As well, the Loss Factor has been imported from Tab 2.
A14: EV Multiplier: | B14: 0.17
A15: Rate Class | B15: Rate Description | C15: Unit | D15: Rate | E15: Non-Loss Adjusted Metered kWh | F15: Non-Loss Adjusted Metered kW | G15: Applicable Loss Factor | H15: Loss Adjusted Billed kWh
A17: Residential Service Classification | B17: Retail Transmission Rate - Network Service Rate | C17: $/kWh | D17: 0.0117 | E17: 1.5459532e+09 | F17: 0 | G17: 1.0415 | H17: =E17*G17 -> 1.6101102e+09
A18: Residential Service Classification | B18: Retail Transmission Rate - Line and Transformation Connection Service Rate | C18: $/kWh | D18: 0.008 | E18: =E17 -> 1.5459532e+09 | F18: 0 | G18: =G17 -> 1.0415 | H18: =E18*G18 -> 1.6101102e+09
A19: Seasonal Residential Service Classification | B19: Retail Transmission Rate - Network Service Rate | C19: $/kWh | D19: 0.0122 | E19: 13936134 | F19: 0 | G19: 1.0415 | H19: =E19*G19 -> 14514483
A20: Seasonal Residential Service Classification | B20: Retail Transmission Rate - Line and Transformation Connection Service Rate | C20: $/kWh | D20: 0.0103 | E20: =E19 -> 13936134 | F20: 0 | G20: =G19 -> 1.0415 | H20: =E20*G20 -> 14514483
A21: General Service Less Than 50 kW Service Classification | B21: Retail Transmission Rate - Network Service Rate | C21: $/kWh | D21: 0.0107 | E21: 3.5408663e+08 | F21: 0 | G21: 1.0415 | H21: =E21*G21 -> 3.6878122e+08
A22: General Service Less Than 50 kW Service Classification | B22: Retail Transmission Rate - Line and Transformation Connection Service Rate | C22: $/kWh | D22: 0.0075 | E22: =E21 -> 3.5408663e+08 | F22: 0 | G22: =G21 -> 1.0415 | H22: =E22*G22 -> 3.6878122e+08
A23: General Service 50 To 2,999 kW Service Classification | B23: Retail Transmission Rate - Network Service Rate | C23: $/kW | D23: 5.2131 | E23: 1.3441088e+09 | F23: 3295840.2
A24: General Service 50 To 2,999 kW Service Classification | B24: Retail Transmission Rate - Line and Transformation Connection Service Rate | C24: $/kW | D24: 3.4745 | E24: =E23 -> 1.3441088e+09 | F24: =F23 -> 3295840.2
A25: General Service 50 To 2,999 kW Service Classification | B25: Retail Transmission Rate - Network Service Rate - EV CHARGING | C25: $/kW | D25: =D23*$B$14 -> 0.886227 | E25: 818307.05 | F25: 30280.041
A26: General Service 50 To 2,999 kW Service Classification | B26: Retail Transmission Rate - Line and Transformation Connection Service Rate - EV CHARGING | C26: $/kW | D26: =D24*$B$14 -> 0.590665 | E26: =E25 -> 818307.05 | F26: =F25 -> 30280.041
A27: General Service 3,000 To 4,999 kW Service Classification | B27: Retail Transmission Rate - Network Service Rate | C27: $/kW | D27: 5.7435 | E27: 3.302192e+08 | F27: 714879.83
A28: General Service 3,000 To 4,999 kW Service Classification | B28: Retail Transmission Rate - Line and Transformation Connection Service Rate | C28: $/kW | D28: 3.8158 | E28: =E27 -> 3.302192e+08 | F28: =F27 -> 714879.83
A29: General Service 3,000 To 4,999 kW Service Classification | B29: Retail Transmission Rate - Network Service Rate - EV CHARGING | C29: $/kW | D29: =D27*$B$14 -> 0.976395 | E29: 0 | F29: 0
A30: General Service 3,000 To 4,999 kW Service Classification | B30: Retail Transmission Rate - Line and Transformation Connection Service Rate - EV CHARGING | C30: $/kW | D30: =D28*$B$14 -> 0.648686 | E30: =E29 -> 0 | F30: 0
A31: Large Use Service Classification | B31: Retail Transmission Rate - Network Service Rate | C31: $/kW | D31: 5.7435 | E31: 6.0139384e+08 | F31: 1042834.3
A32: Large Use Service Classification | B32: Retail Transmission Rate - Line and Transformation Connection Service Rate | C32: $/kW | D32: 3.8158 | E32: =E31 -> 6.0139384e+08 | F32: =F31 -> 1042834.3
A33: Unmetered Scattered Load Service Classification | B33: Retail Transmission Rate - Network Service Rate | C33: $/kWh | D33: 0.0107 | E33: 6421580.5 | F33: 0 | G33: 1.0415 | H33: =E33*G33 -> 6688076.1
A34: Unmetered Scattered Load Service Classification | B34: Retail Transmission Rate - Line and Transformation Connection Service Rate | C34: $/kWh | D34: 0.0075 | E34: =E33 -> 6421580.5 | F34: 0 | G34: =G33 -> 1.0415 | H34: =E34*G34 -> 6688076.1
A35: Sentinel Lighting Service Classification | B35: Retail Transmission Rate - Network Service Rate | C35: $/kW | D35: 3.2516 | E35: 84492.385 | F35: 634.86173
A36: Sentinel Lighting Service Classification | B36: Retail Transmission Rate - Line and Transformation Connection Service Rate | C36: $/kW | D36: 2.1844 | E36: =E35 -> 84492.385 | F36: =F35 -> 634.86173
A37: Street Lighting Service Classification | B37: Retail Transmission Rate - Network Service Rate | C37: $/kW | D37: 3.4237 | E37: 16020065 | F37: 44644.724
A38: Street Lighting Service Classification | B38: Retail Transmission Rate - Line and Transformation Connection Service Rate | C38: $/kW | D38: 2.2826 | E38: =E37 -> 16020065 | F38: =F37 -> 44644.724

Sheet 3. RRR Data 2030
AZ1: 1
A13: Columns E and F have been populated with data from the most recent RRR filing. Rate classes that have more than one Network or Connection charge will notice that the cells are highlighted in green and unlocked. If the data needs to be modified, please make the necessary adjustments and note the changes in your manager's summary. As well, the Loss Factor has been imported from Tab 2.
A14: EV Multiplier: | B14: 0.17
A15: Rate Class | B15: Rate Description | C15: Unit | D15: Rate | E15: Non-Loss Adjusted Metered kWh | F15: Non-Loss Adjusted Metered kW | G15: Applicable Loss Factor | H15: Loss Adjusted Billed kWh
A17: Residential Service Classification | B17: Retail Transmission Rate - Network Service Rate | C17: $/kWh | D17: 0.0117 | E17: 1.5780196e+09 | F17: 0 | G17: 1.0415 | H17: =E17*G17 -> 1.6435074e+09
A18: Residential Service Classification | B18: Retail Transmission Rate - Line and Transformation Connection Service Rate | C18: $/kWh | D18: 0.008 | E18: =E17 -> 1.5780196e+09 | F18: 0 | G18: =G17 -> 1.0415 | H18: =E18*G18 -> 1.6435074e+09
A19: Seasonal Residential Service Classification | B19: Retail Transmission Rate - Network Service Rate | C19: $/kWh | D19: 0.0122 | E19: 14392229 | F19: 0 | G19: 1.0415 | H19: =E19*G19 -> 14989506
A20: Seasonal Residential Service Classification | B20: Retail Transmission Rate - Line and Transformation Connection Service Rate | C20: $/kWh | D20: 0.0103 | E20: =E19 -> 14392229 | F20: 0 | G20: =G19 -> 1.0415 | H20: =E20*G20 -> 14989506
A21: General Service Less Than 50 kW Service Classification | B21: Retail Transmission Rate - Network Service Rate | C21: $/kWh | D21: 0.0107 | E21: 3.5535251e+08 | F21: 0 | G21: 1.0415 | H21: =E21*G21 -> 3.7009963e+08
A22: General Service Less Than 50 kW Service Classification | B22: Retail Transmission Rate - Line and Transformation Connection Service Rate | C22: $/kWh | D22: 0.0075 | E22: =E21 -> 3.5535251e+08 | F22: 0 | G22: =G21 -> 1.0415 | H22: =E22*G22 -> 3.7009963e+08
A23: General Service 50 To 2,999 kW Service Classification | B23: Retail Transmission Rate - Network Service Rate | C23: $/kW | D23: 5.2131 | E23: 1.3501452e+09 | F23: 3324315.8
A24: General Service 50 To 2,999 kW Service Classification | B24: Retail Transmission Rate - Line and Transformation Connection Service Rate | C24: $/kW | D24: 3.4745 | E24: =E23 -> 1.3501452e+09 | F24: =F23 -> 3324315.8
A25: General Service 50 To 2,999 kW Service Classification | B25: Retail Transmission Rate - Network Service Rate - EV CHARGING | C25: $/kW | D25: =D23*$B$14 -> 0.886227 | E25: 1397619.2 | F25: 36877.638
A26: General Service 50 To 2,999 kW Service Classification | B26: Retail Transmission Rate - Line and Transformation Connection Service Rate - EV CHARGING | C26: $/kW | D26: =D24*$B$14 -> 0.590665 | E26: =E25 -> 1397619.2 | F26: =F25 -> 36877.638
A27: General Service 3,000 To 4,999 kW Service Classification | B27: Retail Transmission Rate - Network Service Rate | C27: $/kW | D27: 5.7435 | E27: 3.4172522e+08 | F27: 744000.61
A28: General Service 3,000 To 4,999 kW Service Classification | B28: Retail Transmission Rate - Line and Transformation Connection Service Rate | C28: $/kW | D28: 3.8158 | E28: =E27 -> 3.4172522e+08 | F28: =F27 -> 744000.61
A29: General Service 3,000 To 4,999 kW Service Classification | B29: Retail Transmission Rate - Network Service Rate - EV CHARGING | C29: $/kW | D29: =D27*$B$14 -> 0.976395 | E29: 0 | F29: 0
A30: General Service 3,000 To 4,999 kW Service Classification | B30: Retail Transmission Rate - Line and Transformation Connection Service Rate - EV CHARGING | C30: $/kW | D30: =D28*$B$14 -> 0.648686 | E30: =E29 -> 0 | F30: 0
A31: Large Use Service Classification | B31: Retail Transmission Rate - Network Service Rate | C31: $/kW | D31: 5.7435 | E31: 6.3046353e+08 | F31: 1100818
A32: Large Use Service Classification | B32: Retail Transmission Rate - Line and Transformation Connection Service Rate | C32: $/kW | D32: 3.8158 | E32: =E31 -> 6.3046353e+08 | F32: =F31 -> 1100818
A33: Unmetered Scattered Load Service Classification | B33: Retail Transmission Rate - Network Service Rate | C33: $/kWh | D33: 0.0107 | E33: 6393062.1 | F33: 0 | G33: 1.0415 | H33: =E33*G33 -> 6658374.2
A34: Unmetered Scattered Load Service Classification | B34: Retail Transmission Rate - Line and Transformation Connection Service Rate | C34: $/kWh | D34: 0.0075 | E34: =E33 -> 6393062.1 | F34: 0 | G34: =G33 -> 1.0415 | H34: =E34*G34 -> 6658374.2
A35: Sentinel Lighting Service Classification | B35: Retail Transmission Rate - Network Service Rate | C35: $/kW | D35: 3.2516 | E35: 83057.768 | F35: 625.44345
A36: Sentinel Lighting Service Classification | B36: Retail Transmission Rate - Line and Transformation Connection Service Rate | C36: $/kW | D36: 2.1844 | E36: =E35 -> 83057.768 | F36: =F35 -> 625.44345
A37: Street Lighting Service Classification | B37: Retail Transmission Rate - Network Service Rate | C37: $/kW | D37: 3.4237 | E37: 16221479 | F37: 45205.829
A38: Street Lighting Service Classification | B38: Retail Transmission Rate - Line and Transformation Connection Service Rate | C38: $/kW | D38: 2.2826 | E38: =E37 -> 16221479 | F38: =F37 -> 45205.829

Sheet 3. RRR Data 2031
AZ1: 1
A13: Columns E and F have been populated with data from the most recent RRR filing. Rate classes that have more than one Network or Connection charge will notice that the cells are highlighted in green and unlocked. If the data needs to be modified, please make the necessary adjustments and note the changes in your manager's summary. As well, the Loss Factor has been imported from Tab 2.
A14: EV Multiplier: | B14: 0.17
A15: Rate Class | B15: Rate Description | C15: Unit | D15: Rate | E15: Non-Loss Adjusted Metered kWh | F15: Non-Loss Adjusted Metered kW | G15: Applicable Loss Factor | H15: Loss Adjusted Billed kWh
A17: Residential Service Classification | B17: Retail Transmission Rate - Network Service Rate | C17: $/kWh | D17: 0.0117 | E17: 1.6117962e+09 | F17: 0 | G17: 1.0415 | H17: =E17*G17 -> 1.6786858e+09
A18: Residential Service Classification | B18: Retail Transmission Rate - Line and Transformation Connection Service Rate | C18: $/kWh | D18: 0.008 | E18: =E17 -> 1.6117962e+09 | F18: 0 | G18: =G17 -> 1.0415 | H18: =E18*G18 -> 1.6786858e+09
A19: Seasonal Residential Service Classification | B19: Retail Transmission Rate - Network Service Rate | C19: $/kWh | D19: 0.0122 | E19: 14865355 | F19: 0 | G19: 1.0415 | H19: =E19*G19 -> 15482267
A20: Seasonal Residential Service Classification | B20: Retail Transmission Rate - Line and Transformation Connection Service Rate | C20: $/kWh | D20: 0.0103 | E20: =E19 -> 14865355 | F20: 0 | G20: =G19 -> 1.0415 | H20: =E20*G20 -> 15482267
A21: General Service Less Than 50 kW Service Classification | B21: Retail Transmission Rate - Network Service Rate | C21: $/kWh | D21: 0.0107 | E21: 3.5637823e+08 | F21: 0 | G21: 1.0415 | H21: =E21*G21 -> 3.7116793e+08
A22: General Service Less Than 50 kW Service Classification | B22: Retail Transmission Rate - Line and Transformation Connection Service Rate | C22: $/kWh | D22: 0.0075 | E22: =E21 -> 3.5637823e+08 | F22: 0 | G22: =G21 -> 1.0415 | H22: =E22*G22 -> 3.7116793e+08
A23: General Service 50 To 2,999 kW Service Classification | B23: Retail Transmission Rate - Network Service Rate | C23: $/kW | D23: 5.2131 | E23: 1.3514409e+09 | F23: 3339968.7
A24: General Service 50 To 2,999 kW Service Classification | B24: Retail Transmission Rate - Line and Transformation Connection Service Rate | C24: $/kW | D24: 3.4745 | E24: =E23 -> 1.3514409e+09 | F24: =F23 -> 3339968.7
A25: General Service 50 To 2,999 kW Service Classification | B25: Retail Transmission Rate - Network Service Rate - EV CHARGING | C25: $/kW | D25: =D23*$B$14 -> 0.886227 | E25: 1393712.6 | F25: 43607.077
A26: General Service 50 To 2,999 kW Service Classification | B26: Retail Transmission Rate - Line and Transformation Connection Service Rate - EV CHARGING | C26: $/kW | D26: =D24*$B$14 -> 0.590665 | E26: =E25 -> 1393712.6 | F26: =F25 -> 43607.077
A27: General Service 3,000 To 4,999 kW Service Classification | B27: Retail Transmission Rate - Network Service Rate | C27: $/kW | D27: 5.7435 | E27: 3.5353591e+08 | F27: 774616.48
A28: General Service 3,000 To 4,999 kW Service Classification | B28: Retail Transmission Rate - Line and Transformation Connection Service Rate | C28: $/kW | D28: 3.8158 | E28: =E27 -> 3.5353591e+08 | F28: =F27 -> 774616.48
A29: General Service 3,000 To 4,999 kW Service Classification | B29: Retail Transmission Rate - Network Service Rate - EV CHARGING | C29: $/kW | D29: =D27*$B$14 -> 0.976395 | E29: 0 | F29: 0
A30: General Service 3,000 To 4,999 kW Service Classification | B30: Retail Transmission Rate - Line and Transformation Connection Service Rate - EV CHARGING | C30: $/kW | D30: =D28*$B$14 -> 0.648686 | E30: =E29 -> 0 | F30: 0
A31: Large Use Service Classification | B31: Retail Transmission Rate - Network Service Rate | C31: $/kW | D31: 5.7435 | E31: 6.3788105e+08 | F31: 1121410.9
A32: Large Use Service Classification | B32: Retail Transmission Rate - Line and Transformation Connection Service Rate | C32: $/kW | D32: 3.8158 | E32: =E31 -> 6.3788105e+08 | F32: =F31 -> 1121410.9
A33: Unmetered Scattered Load Service Classification | B33: Retail Transmission Rate - Network Service Rate | C33: $/kWh | D33: 0.0107 | E33: 6364925.8 | F33: 0 | G33: 1.0415 | H33: =E33*G33 -> 6629070.2
A34: Unmetered Scattered Load Service Classification | B34: Retail Transmission Rate - Line and Transformation Connection Service Rate | C34: $/kWh | D34: 0.0075 | E34: =E33 -> 6364925.8 | F34: 0 | G34: =G33 -> 1.0415 | H34: =E34*G34 -> 6629070.2
A35: Sentinel Lighting Service Classification | B35: Retail Transmission Rate - Network Service Rate | C35: $/kW | D35: 3.2516 | E35: 81654.423 | F35: 616.25346
A36: Sentinel Lighting Service Classification | B36: Retail Transmission Rate - Line and Transformation Connection Service Rate | C36: $/kW | D36: 2.1844 | E36: =E35 -> 81654.423 | F36: =F35 -> 616.25346
A37: Street Lighting Service Classification | B37: Retail Transmission Rate - Network Service Rate | C37: $/kW | D37: 3.4237 | E37: 16425546 | F37: 45774.32
A38: Street Lighting Service Classification | B38: Retail Transmission Rate - Line and Transformation Connection Service Rate | C38: $/kW | D38: 2.2826 | E38: =E37 -> 16425546 | F38: =F37 -> 45774.32

Sheet 4. UTRs & Sub-Transmission
U9: HONI Revenue Requirements
U11: 2023 | V11: 2024 | W11: 2025 | X11: 2026 | Y11: 2027
T12: Revenue Requirement | U12: 1869 | V12: 2017.3 | W12: 2113 | X12: 2223.4 | Y12: 2308 | AA12: EB-2021-0110 Settlement Agreement, Attachment 1, Schedule 2.3
T14: Network | U14: 1113.4 | V14: 1202.6 | W14: 1260.2 | X14: 1326.8 | Y14: 1378
M15: Forecast UTRs | S15: RR | T15: Connection | U15: 196.1 | V15: 211.4 | W15: 221.3 | X15: 232.6 | Y15: 241.4
T16: Transformation | U16: 559.4 | V16: 603.2 | W16: 631.5 | X16: 663.9 | Y16: 688.7
B18: Uniform Transmission Rates | C18: Unit | E18: 2024 Jan to Jun | G18: 2024 Jul to Dec | I18: 2025 Jan to Jun | J18: 2025 Jul to Dec | L18: 2026 | M18: 2027 | N18: =M18+1 -> 2028 | O18: =N18+1 -> 2029 | P18: =O18+1 -> 2030 | Q18: =P18+1 -> 2031 | T18: Network | U18: 19399 | V18: 19449 | W18: 19204 | X18: 19124 | Y18: 19194
S19: MW | T19: Connection | U19: 18830 | V19: 18879 | W19: 18642 | X19: 18565 | Y19: 18633
B20: Rate Description | E20: Rate | I20: Rate | L20: Rate | T20: Transformation | U20: 16018 | V20: 16059 | W20: 15858 | X20: 15792 | Y20: 15850
AA21: Average Increases
B22: Network Service Rate | C22: kW | E22: 5.78 | G22: 6.12 | I22: 6.37 | J22: 6.37 | L22: 6.39 | M22: =L22*($AA$23) -> 6.7584756 | N22: =M22*($AA$23) -> 7.1481991 | O22: =N22*($AA$23) -> 7.5603958 | P22: =O22*($AA$23) -> 7.9963616 | Q22: =P22*($AA$23) -> 8.4574671 | T22: Network | U22: =U14/U18/12*1000 -> 4.7828926 | V22: =V14/V18/12*1000 -> 5.1527928 | W22: =W14/W18/12*1000 -> 5.4684788 | X22: =X14/X18/12*1000 -> 5.7815659 | Y22: =Y14/Y18/12*1000 -> 5.9827724
S23: UTR | V23: =V22/U22 -> 1.0773382 | W23: =W22/V22 -> 1.061265 | X23: =X22/W22 -> 1.0572531 | Y23: =Y22/X22 -> 1.0348014 | AA23: =AVERAGE(V23:Y23) -> 1.0576644
B24: Line Connection Service Rate | C24: kW | E24: 0.95 | G24: 0.95 | I24: 1 | J24: 1 | L24: 1.03 | M24: =L24*($AA$25) -> 1.0878936 | N24: =M24*($AA$25) -> 1.1490413 | O24: =N24*($AA$25) -> 1.213626 | P24: =O24*($AA$25) -> 1.2818407 | Q24: =P24*($AA$25) -> 1.3538897 | T24: Connection | U24: =U15/U19/12*1000 -> 0.86785272 | V24: =V15/V19/12*1000 -> 0.93313558 | W24: =W15/W19/12*1000 -> 0.98925366 | X24: =X15/X19/12*1000 -> 1.0440794 | Y24: =Y15/Y19/12*1000 -> 1.0796258
V25: =V24/U24 -> 1.0752234 | W25: =W24/V24 -> 1.0601392 | X25: =X24/W24 -> 1.0554213 | Y25: =Y24/X24 -> 1.0340457 | AA25: =AVERAGE(V25:Y25) -> 1.0562074
B26: Transformation Connection Service Rate | C26: kW | E26: 3.21 | G26: 3.21 | I26: 3.39 | J26: 3.39 | L26: 3.47 | M26: =L26*($AA$27) -> 3.6651792 | N26: =M26*($AA$27) -> 3.8713369 | O26: =N26*($AA$27) -> 4.0890904 | P26: =O26*($AA$27) -> 4.319092 | Q26: =P26*($AA$27) -> 4.5620306 | T26: Transformation | U26: =U16/U20/12*1000 -> 2.9102676 | V26: =V16/V20/12*1000 -> 3.1301243 | W26: =W16/W20/12*1000 -> 3.3185143 | X26: =X16/X20/12*1000 -> 3.5033561 | Y26: =Y16/Y20/12*1000 -> 3.6209253
V27: =V26/U26 -> 1.0755452 | W27: =W26/V26 -> 1.0601861 | X27: =X26/W26 -> 1.0557002 | Y27: =Y26/X26 -> 1.033559 | AA27: =AVERAGE(V27:Y27) -> 1.0562476
V28: =(V24+V26)/(U24+U26) -> 1.0754713 | W28: =(W24+W26)/(V24+V26) -> 1.0601753 | X28: =(X24+X26)/(W24+W26) -> 1.0556361 | Y28: =(Y24+Y26)/(X24+X26) -> 1.0336708 | AA28: =AVERAGE(V28:Y28) -> 1.0562384
B29: Hydro One Sub-Transmission Rates | C29: Unit | E29: 2024 | I29: 2025 | L29: 2026 | T29: Total | U29: =U24+U22+U26 -> 8.5610129 | V29: =V24+V22+V26 -> 9.2160527 | W29: =W24+W22+W26 -> 9.7762468 | X29: =X24+X22+X26 -> 10.329001 | Y29: =Y24+Y22+Y26 -> 10.683323
V30: =V29/U29 -> 1.0765143 | W30: =W29/V29 -> 1.0607846 | X30: =X29/W29 -> 1.0565406 | Y30: =Y29/X29 -> 1.0343036 | AA30: =AVERAGE(V30:Y30) -> 1.0570358
B33: Rate Description | E33: Rate | I33: Rate | L33: Rate | Z33: EB-2021-0110 Settlement Agreement, Attachment 1, Schedule 2.3
AC34: 2027 Revenue Requirement
B35: Network Service Rate | C35: kW | E35: 4.9103 | I35: 5.328 | L35: 5.4708 | M35: =L35*($AA$23) -> 5.7862705 | N35: =M35*($AA$23) -> 6.1199323 | O35: =N35*($AA$23) -> 6.4728346 | P35: =O35*($AA$23) -> 6.8460868 | Q35: =P35*($AA$23) -> 7.2408624
T36: ST Common Line Charge (Monthly $/kW) | U36: 1.5442 | V36: 1.6387 | W36: 1.7262 | X36: 1.8396 | Y36: 1.9332 | AC36: 58751624
B37: Line Connection Service Rate | C37: kW | E37: 0.6537 | I37: 0.6882 | L37: 0.7054 | M37: =L37*($AA$25) -> 0.74504871 | N37: =M37*($AA$25) -> 0.78692597 | O37: =N37*($AA$25) -> 0.83115704 | P37: =O37*($AA$25) -> 0.87787423 | Q37: =P37*($AA$25) -> 0.92721727 | V37: =V36/U36 -> 1.0611967 | W37: =W36/V36 -> 1.053396 | X37: =X36/W36 -> 1.0656934 | Y37: =Y36/X36 -> 1.0508806 | AA37: =AVERAGE(V37:Y37) -> 1.0577917
T38: LVDS Low Rate (Monthly, $/kW) | U38: 1.9296 | V38: 2.0179502 | W38: 2.1045018 | X38: 2.2113122 | Y38: 2.2981439 | AC38: 1573012.3
B39: Transformation Connection Service Rate | C39: kW | E39: 3.3041 | I39: 3.4894 | L39: 3.5764 | M39: =L39*($AA$27) -> 3.777564 | N39: =M39*($AA$27) -> 3.990043 | O39: =N39*($AA$27) -> 4.2144734 | P39: =O39*($AA$27) -> 4.4515275 | Q39: =P39*($AA$27) -> 4.7019153 | V39: =V38/U38 -> 1.0457868 | W39: =W38/V38 -> 1.0428908 | X39: =X38/W38 -> 1.0507533 | Y39: =Y38/X38 -> 1.039267 | AA39: =AVERAGE(V39:Y39) -> 1.0446745
T40: ST Specific Line Rate (Monthly, per kM) | U40: 621.87443 | V40: 652.78978 | W40: 675.59897 | X40: 709.5988 | Y40: 741.6574 | AC40: 1.048634e+09
B41: Both Line and Transformation Connection Service Rate | C41: kW | E41: 3.9578 | H41: 3.0055 | I41: 4.1776 | L41: =L37+L39 -> 4.2818 | M41: =M39+M37 -> 4.5226127 | N41: =N39+N37 -> 4.776969 | O41: =O39+O37 -> 5.0456305 | P41: =P39+P37 -> 5.3294017 | Q41: =Q39+Q37 -> 5.6291326 | V41: =V40/U40 -> 1.0497132 | W41: =W40/V40 -> 1.0349411 | X41: =X40/W40 -> 1.0503255 | Y41: =Y40/X40 -> 1.0451785 | AA41: =AVERAGE(V41:Y41) -> 1.0450396
AA43: =AA37*(AC36/($AC$36+$AC$38+$AC$40))+AA39*(AC38/($AC$36+$AC$38+$AC$40))+AA41*(AC40/($AC$36+$AC$38+$AC$40)) -> 1.0457146
B44: If needed, add extra host here. (I) | C44: Unit | E44: =E29 -> 2024 | I44: =I29 -> 2025 | L44: =L29 -> 2026
B48: Rate Description | E48: Rate | H48: Rate | L48: Rate
B50: Network Service Rate | C50: kW
B52: Line Connection Service Rate | C52: kW
B54: Transformation Connection Service Rate | C54: kW
B56: Both Line and Transformation Connection Service Rate | C56: kW | E56: =E54+E52 -> 0 | H56: =H54+H52 -> 0 | I56: =I54+I52 -> 0 | L56: =L54+L52 -> 0
B59: If needed, add extra host here. (II) | C59: Unit | E59: =E29 -> 2024 | I59: =I29 -> 2025 | L59: =L29 -> 2026
B63: Rate Description | E63: Rate | H63: Rate | L63: Rate
B65: Network Service Rate | C65: kW
B67: Line Connection Service Rate | C67: kW
B69: Transformation Connection Service Rate | C69: kW
...

Sheet 7. Forecast Wholesale 2026
B13: In the green shaded cells, enter billing detail for wholesale transmission for the same reporting period as the billing determinants on Tab 10. For Hydro One Sub-transmission Rates, if you are charged a combined Line and Transformer connection rate, please ensure that both the Line Connection and Transformation Connection columns are completed. If any of the Hydro One Sub-transmission rates (column E, I and M) are highlighted in red, please double check the billing data entered in "Units Billed" and "Amount" columns. The highlighted rates do not match the Hydro One Sub-transmission rates approved for that time period. If data has been entered correctly, please provide explanation for the discrepancy in rates.
B16: IESO | D16: Network | H16: Line Connection | L16: Transformation Connection | P16: Total Connection
B17: Month | D17: Units Billed | E17: Rate | F17: Amount | H17: Units Billed | I17: Rate | J17: Amount | L17: Units Billed | M17: Rate | N17: Amount | P17: Amount
B19: January | D19: 308424 | E19: ='4. UTRs & Sub-Transmission'!L22 -> 6.39 | F19: =D19*E19 -> 1970829.4 | H19: 159592 | I19: ='4. UTRs & Sub-Transmission'!L24 -> 1.03 | J19: =H19*I19 -> 164379.76 | L19: 328610 | M19: ='4. UTRs & Sub-Transmission'!L26 -> 3.47 | N19: =L19*M19 -> 1140276.7 | P19: =J19+N19 -> 1304656.5
B20: February | D20: 302626 | E20: =E19 -> 6.39 | F20: =D20*E20 -> 1933780.1 | H20: 167617 | I20: =I19 -> 1.03 | J20: =H20*I20 -> 172645.51 | L20: 321529 | M20: =M19 -> 3.47 | N20: =L20*M20 -> 1115705.6 | P20: =J20+N20 -> 1288351.1
B21: March | D21: 297695 | E21: =E20 -> 6.39 | F21: =D21*E21 -> 1902271 | H21: 160283 | I21: =I20 -> 1.03 | J21: =H21*I21 -> 165091.49 | L21: 306176 | M21: =M20 -> 3.47 | N21: =L21*M21 -> 1062430.7 | P21: =J21+N21 -> 1227522.2
B22: April | D22: 289672 | E22: =E21 -> 6.39 | F22: =D22*E22 -> 1851004.1 | H22: 153178 | I22: =I21 -> 1.03 | J22: =H22*I22 -> 157773.34 | L22: 291947 | M22: =M21 -> 3.47 | N22: =L22*M22 -> 1013056.1 | P22: =J22+N22 -> 1170829.4
B23: May | D23: 355733 | E23: =E22 -> 6.39 | F23: =D23*E23 -> 2273133.9 | H23: 204228 | I23: =I22 -> 1.03 | J23: =H23*I23 -> 210354.84 | L23: 366772 | M23: =M22 -> 3.47 | N23: =L23*M23 -> 1272698.8 | P23: =J23+N23 -> 1483053.7
B24: June | D24: 404915 | E24: =E23 -> 6.39 | F24: =D24*E24 -> 2587406.9 | H24: 254753 | I24: =I23 -> 1.03 | J24: =H24*I24 -> 262395.59 | L24: 437872 | M24: =M23 -> 3.47 | N24: =L24*M24 -> 1519415.8 | P24: =J24+N24 -> 1781811.4
B25: July | D25: 442987 | E25: =E24 -> 6.39 | F25: =D25*E25 -> 2830686.9 | H25: 266806 | I25: =I24 -> 1.03 | J25: =H25*I25 -> 274810.18 | L25: 454295 | M25: =M24 -> 3.47 | N25: =L25*M25 -> 1576403.7 | P25: =J25+N25 -> 1851213.8
B26: August | D26: 430747 | E26: =E25 -> 6.39 | F26: =D26*E26 -> 2752473.3 | H26: 258723 | I26: =I25 -> 1.03 | J26: =H26*I26 -> 266484.69 | L26: 447129 | M26: =M25 -> 3.47 | N26: =L26*M26 -> 1551537.6 | P26: =J26+N26 -> 1818022.3
B27: September | D27: 374467 | E27: =E26 -> 6.39 | F27: =D27*E27 -> 2392844.1 | H27: 210910 | I27: =I26 -> 1.03 | J27: =H27*I27 -> 217237.3 | L27: 375465 | M27: =M26 -> 3.47 | N27: =L27*M27 -> 1302863.6 | P27: =J27+N27 -> 1520100.9
B28: October | D28: 306696 | E28: =E27 -> 6.39 | F28: =D28*E28 -> 1959787.4 | H28: 220652 | I28: =I27 -> 1.03 | J28: =H28*I28 -> 227271.56 | L28: 321370 | M28: =M27 -> 3.47 | N28: =L28*M28 -> 1115153.9 | P28: =J28+N28 -> 1342425.5
B29: November | D29: 295211 | E29: =E28 -> 6.39 | F29: =D29*E29 -> 1886398.3 | H29: 167729 | I29: =I28 -> 1.03 | J29: =H29*I29 -> 172760.87 | L29: 276940 | M29: =M28 -> 3.47 | N29: =L29*M29 -> 960981.8 | P29: =J29+N29 -> 1133742.7
B30: December | D30: 321506 | E30: =E29 -> 6.39 | F30: =D30*E30 -> 2054423.3 | H30: 206783 | I30: =I29 -> 1.03 | J30: =H30*I30 -> 212986.49 | L30: 320450 | M30: =M29 -> 3.47 | N30: =L30*M30 -> 1111961.5 | P30: =J30+N30 -> 1324948
B32: Total | D32: =SUM(D19:D30) -> 4130679 | E32: =IF(D32<>0,F32/D32,0) -> 6.39 | F32: =SUM(F19:F30) -> 26395039 | H32: =SUM(H19:H30) -> 2431254 | I32: =IF(H32<>0,J32/H32,0) -> 1.03 | J32: =SUM(J19:J30) -> 2504191.6 | L32: =SUM(L19:L30) -> 4248555 | M32: =IF(L32<>0,N32/L32,0) -> 3.47 | N32: =SUM(N19:N30) -> 14742486 | P32: =SUM(P19:P30) -> 17246677
B34: Hydro One | D34: Network | H34: Line Connection | L34: Transformation Connection | P34: Total Connection
B36: Month | D36: Units Billed | E36: Rate | F36: Amount | H36: Units Billed | I36: Rate | J36: Amount | L36: Units Billed | M36: Rate | N36: Amount | P36: Amount
B38: January | D38: 269999.2 | E38: ='4. UTRs & Sub-Transmission'!L35 -> 5.4708 | F38: =D38*E38 -> 1477111.6 | H38: 245479.04 | I38: ='4. UTRs & Sub-Transmission'!L37 -> 0.7054 | J38: =H38*I38 -> 173160.91 | L38: 284616.3 | M38: ='4. UTRs & Sub-Transmission'!L39 -> 3.5764 | N38: =L38*M38 -> 1017901.7 | P38: =J38+N38 -> 1191062.7
B39: February | D39: 270108.28 | E39: =E38 -> 5.4708 | F39: =D39*E39 -> 1477708.4 | H39: 225108.24 | I39: =I38 -> 0.7054 | J39: =H39*I39 -> 158791.35 | L39: 271582.71 | M39: =M38 -> 3.5764 | N39: =L39*M39 -> 971288.4 | P39: =J39+N39 -> 1130079.8
B40: March | D40: 227284.39 | E40: =E39 -> 5.4708 | F40: =D40*E40 -> 1243427.4 | H40: 193849.5 | I40: =I39 -> 0.7054 | J40: =H40*I40 -> 136741.44 | L40: 231447.66 | M40: =M39 -> 3.5764 | N40: =L40*M40 -> 827749.41 | P40: =J40+N40 -> 964490.85
B41: April | D41: 200007.33 | E41: =E40 -> 5.4708 | F41: =D41*E41 -> 1094200.1 | H41: 176911.54 | I41: =I40 -> 0.7054 | J41: =H41*I41 -> 124793.4 | L41: 204117.15 | M41: =M40 -> 3.5764 | N41: =L41*M41 -> 730004.58 | P41: =J41+N41 -> 854797.98
B42: May | D42: 233673.6 | E42: =E41 -> 5.4708 | F42: =D42*E42 -> 1278381.5 | H42: 194156.34 | I42: =I41 -> 0.7054 | J42: =H42*I42 -> 136957.88 | L42: 235687.96 | M42: =M41 -> 3.5764 | N42: =L42*M42 -> 842914.42 | P42: =J42+N42 -> 979872.3
B43: June | D43: 302498.11 | E43: =E42 -> 5.4708 | F43: =D43*E43 -> 1654906.7 | H43: 263761.53 | I43: =I42 -> 0.7054 | J43: =H43*I43 -> 186057.38 | L43: 305381.54 | M43: =M42 -> 3.5764 | N43: =L43*M43 -> 1092166.5 | P43: =J43+N43 -> 1278223.9
B44: July | D44: 287240.22 | E44: =E43 -> 5.4708 | F44: =D44*E44 -> 1571433.8 | H44: 243992.88 | I44: =I43 -> 0.7054 | J44: =H44*I44 -> 172112.58 | L44: 288077.65 | M44: =M43 -> 3.5764 | N44: =L44*M44 -> 1030280.9 | P44: =J44+N44 -> 1202393.5
B45: August | D45: 314464.29 | E45: =E44 -> 5.4708 | F45: =D45*E45 -> 1720371.2 | H45: 237597.9 | I45: =I44 -> 0.7054 | J45: =H45*I45 -> 167601.56 | L45: 317936.01 | M45: =M44 -> 3.5764 | N45: =L45*M45 -> 1137066.3 | P45: =J45+N45 -> 1304667.9
B46: September | D46: 262240.34 | E46: =E45 -> 5.4708 | F46: =D46*E46 -> 1434664.5 | H46: 204463.52 | I46: =I45 -> 0.7054 | J46: =H46*I46 -> 144228.57 | L46: 263631.85 | M46: =M45 -> 3.5764 | N46: =L46*M46 -> 942852.95 | P46: =J46+N46 -> 1087081.5
B47: October | D47: 220815.19 | E47: =E46 -> 5.4708 | F47: =D47*E47 -> 1208035.7 | H47: 175311.72 | I47: =I46 -> 0.7054 | J47: =H47*I47 -> 123664.89 | L47: 223401.9 | M47: =M46 -> 3.5764 | N47: =L47*M47 -> 798974.56 | P47: =J47+N47 -> 922639.44
B48: November | D48: 240060.15 | E48: =E47 -> 5.4708 | F48: =D48*E48 -> 1313321.1 | H48: 194585.13 | I48: =I47 -> 0.7054 | J48: =H48*I48 -> 137260.35 | L48: 243629.72 | M48: =M47 -> 3.5764 | N48: =L48*M48 -> 871317.33 | P48: =J48+N48 -> 1008577.7
B49: December | D49: 247132.39 | E49: =E48 -> 5.4708 | F49: =D49*E49 -> 1352011.9 | H49: 211220.48 | I49: =I48 -> 0.7054 | J49: =H49*I49 -> 148994.93 | L49: 253175.22 | M49: =M48 -> 3.5764 | N49: =L49*M49 -> 905455.86 | P49: =J49+N49 -> 1054450.8
B51: Total | D51: =SUM(D38:D49) -> 3075523.5 | E51: =IF(D51<>0,F51/D51,0) -> 5.4708 | F51: =SUM(F38:F49) -> 16825574 | H51: =SUM(H38:H49) -> 2566437.8 | I51: =IF(H51<>0,J51/H51,0) -> 0.7054 | J51: =SUM(J38:J49) -> 1810365.2 | L51: =SUM(L38:L49) -> 3122685.7 | M51: =IF(L51<>0,N51/L51,0) -> 3.5764 | N51: =SUM(N38:N49) -> 11167973 | P51: =SUM(P38:P49) -> 12978338
B53: Add Extra Host Here (I) | D53: Network | H53: Line Connection | L53: Transformation Connection | P53: Total Connection
B54: (if needed)
B55: Month | D55: Units Billed | E55: Rate | F55: Amount | H55: Units Billed | I55: Rate | J55: Amount | L55: Units Billed | M55: Rate | N55: Amount | P55: Amount
B57: January | E57: =IF(D57<>0,F57/D57,0) -> 0 | I57: =IF(H57<>0,J57/H57,0) -> 0 | M57: =IF(L57<>0,N57/L57,0) -> 0 | P57: =J57+N57 -> 0
B58: February | E58: =IF(D58<>0,F58/D58,0) -> 0 | I58: =IF(H58<>0,J58/H58,0) -> 0 | M58: =IF(L58<>0,N58/L58,0) -> 0 | P58: =J58+N58 -> 0
B59: March | E59: =IF(D59<>0,F59/D59,0) -> 0 | I59: =IF(H59<>0,J59/H59,0) -> 0 | M59: =IF(L59<>0,N59/L59,0) -> 0 | P59: =J59+N59 -> 0
B60: April | E60: =IF(D60<>0,F60/D60,0) -> 0 | I60: =IF(H60<>0,J60/H60,0) -> 0 | M60: =IF(L60<>0,N60/L60,0) -> 0 | P60: =J60+N60 -> 0
B61: May | E61: =IF(D61<>0,F61/D61,0) -> 0 | I61: =IF(H61<>0,J61/H61,0) -> 0 | M61: =IF(L61<>0,N61/L61,0) -> 0 | P61: =J61+N61 -> 0
B62: June | E62: =IF(D62<>0,F62/D62,0) -> 0 | I62: =IF(H62<>0,J62/H62,0) -> 0 | M62: =IF(L62<>0,N62/L62,0) -> 0 | P62: =J62+N62 -> 0
...

Sheet 7. Forecast Wholesale 2027
B13: The purpose of this sheet is to calculate the expected billing when current 2025 Uniform Transmission Rates are applied against historical 2024 transmission units.
B16: IESO | D16: Network | H16: Line Connection | L16: Transformation Connection | P16: Total Connection
B18: Month | D18: Units Billed | E18: Rate | F18: Amount | H18: Units Billed | I18: Rate | J18: Amount | L18: Units Billed | M18: Rate | N18: Amount | P18: Amount
B20: January | D20: 322124.82 | E20: ='4. UTRs & Sub-Transmission'!M22 -> 6.7584756 | F20: =D20*E20 -> 2177072.7 | H20: 166681.4 | I20: ='4. UTRs & Sub-Transmission'!M24 -> 1.0878936 | J20: =H20*I20 -> 181331.63 | L20: 343207.52 | M20: ='4. UTRs & Sub-Transmission'!M26 -> 3.6651792 | N20: =L20*M20 -> 1257917.1 | P20: =J20+N20 -> 1439248.7
B21: February | D21: 316069.26 | E21: =E20 -> 6.7584756 | F21: =D21*E21 -> 2136146.4 | H21: 175062.89 | I21: =I20 -> 1.0878936 | J21: =H21*I21 -> 190449.8 | L21: 335811.97 | M21: =M20 -> 3.6651792 | N21: =L21*M21 -> 1230811.1 | P21: =J21+N21 -> 1421260.9
B22: March | D22: 310919.22 | E22: =E21 -> 6.7584756 | F22: =D22*E22 -> 2101339.9 | H22: 167403.1 | I22: =I21 -> 1.0878936 | J22: =H22*I22 -> 182116.76 | L22: 319776.96 | M22: =M21 -> 3.6651792 | N22: =L22*M22 -> 1172039.9 | P22: =J22+N22 -> 1354156.6
B23: April | D23: 302539.82 | E23: =E22 -> 6.7584756 | F23: =D23*E23 -> 2044708 | H23: 159982.48 | I23: =I22 -> 1.0878936 | J23: =H23*I23 -> 174043.92 | L23: 304915.88 | M23: =M22 -> 3.6651792 | N23: =L23*M23 -> 1117571.3 | P23: =J23+N23 -> 1291615.3
B24: May | D24: 371535.38 | E24: =E23 -> 6.7584756 | F24: =D24*E24 -> 2511012.8 | H24: 213300.22 | I24: =I23 -> 1.0878936 | J24: =H24*I24 -> 232047.95 | L24: 383064.76 | M24: =M23 -> 3.6651792 | N24: =L24*M24 -> 1404001 | P24: =J24+N24 -> 1636048.9
B25: June | D25: 422902.15 | E25: =E24 -> 6.7584756 | F25: =D25*E25 -> 2858173.8 | H25: 266069.64 | I25: =I24 -> 1.0878936 | J25: =H25*I25 -> 289455.47 | L25: 457323.16 | M25: =M24 -> 3.6651792 | N25: =L25*M25 -> 1676171.4 | P25: =J25+N25 -> 1965626.8
B26: July | D26: 462665.38 | E26: =E25 -> 6.7584756 | F26: =D26*E26 -> 3126912.7 | H26: 278658.06 | I26: =I25 -> 1.0878936 | J26: =H26*I26 -> 303150.33 | L26: 474475.71 | M26: =M25 -> 3.6651792 | N26: =L26*M26 -> 1739038.5 | P26: =J26+N26 -> 2042188.8
B27: August | D27: 449881.66 | E27: =E26 -> 6.7584756 | F27: =D27*E27 -> 3040514.2 | H27: 270216 | I27: =I26 -> 1.0878936 | J27: =H27*I27 -> 293966.27 | L27: 466991.38 | M27: =M26 -> 3.6651792 | N27: =L27*M27 -> 1711607.1 | P27: =J27+N27 -> 2005573.4
B28: September | D28: 391101.58 | E28: =E27 -> 6.7584756 | F28: =D28*E28 -> 2643250.5 | H28: 220279.05 | I28: =I27 -> 1.0878936 | J28: =H28*I28 -> 239640.18 | L28: 392143.92 | M28: =M27 -> 3.6651792 | N28: =L28*M28 -> 1437277.7 | P28: =J28+N28 -> 1676917.9
B29: October | D29: 320320.06 | E29: =E28 -> 6.7584756 | F29: =D29*E29 -> 2164875.3 | H29: 230453.81 | I29: =I28 -> 1.0878936 | J29: =H29*I29 -> 250709.23 | L29: 335645.91 | M29: =M28 -> 3.6651792 | N29: =L29*M29 -> 1230202.4 | P29: =J29+N29 -> 1480911.6
B30: November | D30: 308324.87 | E30: =E29 -> 6.7584756 | F30: =D30*E30 -> 2083806.1 | H30: 175179.86 | I30: =I29 -> 1.0878936 | J30: =H30*I30 -> 190577.06 | L30: 289242.24 | M30: =M29 -> 3.6651792 | N30: =L30*M30 -> 1060124.6 | P30: =J30+N30 -> 1250701.7
B31: December | D31: 335787.95 | E31: =E30 -> 6.7584756 | F31: =D31*E31 -> 2269414.7 | H31: 215968.72 | I31: =I30 -> 1.0878936 | J31: =H31*I31 -> 234951 | L31: 334685.04 | M31: =M30 -> 3.6651792 | N31: =L31*M31 -> 1226680.7 | P31: =J31+N31 -> 1461631.7
B33: Total | D33: =SUM(D20:D31) -> 4314172.1 | E33: =IF(D33<>0,F33/D33,0) -> 6.7584756 | F33: =SUM(F20:F31) -> 29157227 | H33: =SUM(H20:H31) -> 2539255.2 | I33: =IF(H33<>0,J33/H33,0) -> 1.0878936 | J33: =SUM(J20:J31) -> 2762439.6 | L33: =SUM(L20:L31) -> 4437284.4 | M33: =IF(L33<>0,N33/L33,0) -> 3.6651792 | N33: =SUM(N20:N31) -> 16263443 | P33: =SUM(P20:P31) -> 19025882
B35: Hydro One | D35: Network | H35: Line Connection | L35: Transformation Connection | P35: Total Connection
B37: Month | D37: Units Billed | E37: Rate | F37: Amount | H37: Units Billed | I37: Rate | J37: Amount | L37: Units Billed | M37: Rate | N37: Amount | P37: Amount
B39: January | D39: 281993.11 | E39: ='4. UTRs & Sub-Transmission'!M35 -> 5.7862705 | F39: =D39*E39 -> 1631688.4 | H39: 256383.72 | I39: ='4. UTRs & Sub-Transmission'!M37 -> 0.74504871 | J39: =H39*I39 -> 191018.36 | L39: 297259.53 | M39: ='4. UTRs & Sub-Transmission'!M39 -> 3.777564 | N39: =L39*M39 -> 1122916.9 | P39: =J39+N39 -> 1313935.3
B40: February | D40: 282107.04 | E40: =E39 -> 5.7862705 | F40: =D40*E40 -> 1632347.6 | H40: 235108 | I40: =I39 -> 0.74504871 | J40: =H40*I40 -> 175166.92 | L40: 283646.96 | M40: =M39 -> 3.777564 | N40: =L40*M40 -> 1071494.6 | P40: =J40+N40 -> 1246661.5
B41: March | D41: 237380.82 | E41: =E40 -> 5.7862705 | F41: =D41*E41 -> 1373549.6 | H41: 202460.69 | I41: =I40 -> 0.74504871 | J41: =H41*I41 -> 150843.07 | L41: 241729.03 | M41: =M40 -> 3.777564 | N41: =L41*M41 -> 913146.9 | P41: =J41+N41 -> 1063990
B42: April | D42: 208892.06 | E42: =E41 -> 5.7862705 | F42: =D42*E42 -> 1208706 | H42: 184770.31 | I42: =I41 -> 0.74504871 | J42: =H42*I42 -> 137662.88 | L42: 213184.45 | M42: =M41 -> 3.777564 | N42: =L42*M42 -> 805317.89 | P42: =J42+N42 -> 942980.77
B43: May | D43: 244053.86 | E43: =E42 -> 5.7862705 | F43: =D43*E43 -> 1412161.6 | H43: 202781.16 | I43: =I42 -> 0.74504871 | J43: =H43*I43 -> 151081.84 | L43: 246157.7 | M43: =M42 -> 3.777564 | N43: =L43*M43 -> 929876.45 | P43: =J43+N43 -> 1080958.3
B44: June | D44: 315935.69 | E44: =E43 -> 5.7862705 | F44: =D44*E44 -> 1828089.3 | H44: 275478.35 | I44: =I43 -> 0.74504871 | J44: =H44*I44 -> 205244.79 | L44: 318947.21 | M44: =M43 -> 3.777564 | N44: =L44*M44 -> 1204843.5 | P44: =J44+N44 -> 1410088.3
B45: July | D45: 300000.01 | E45: =E44 -> 5.7862705 | F45: =D45*E45 -> 1735881.2 | H45: 254831.54 | I45: =I44 -> 0.74504871 | J45: =H45*I45 -> 189861.91 | L45: 300874.64 | M45: =M44 -> 3.777564 | N45: =L45*M45 -> 1136573.2 | P45: =J45+N45 -> 1326435.1
B46: August | D46: 328433.43 | E46: =E45 -> 5.7862705 | F46: =D46*E46 -> 1900404.7 | H46: 248152.48 | I46: =I45 -> 0.74504871 | J46: =H46*I46 -> 184885.69 | L46: 332059.37 | M46: =M45 -> 3.777564 | N46: =L46*M46 -> 1254375.5 | P46: =J46+N46 -> 1439261.2
B47: September | D47: 273889.59 | E47: =E46 -> 5.7862705 | F47: =D47*E47 -> 1584799.2 | H47: 213546.2 | I47: =I46 -> 0.74504871 | J47: =H47*I47 -> 159102.32 | L47: 275342.91 | M47: =M46 -> 3.777564 | N47: =L47*M47 -> 1040125.5 | P47: =J47+N47 -> 1199227.8
B48: October | D48: 230624.25 | E48: =E47 -> 5.7862705 | F48: =D48*E48 -> 1334454.3 | H48: 183099.42 | I48: =I47 -> 0.74504871 | J48: =H48*I48 -> 136417.99 | L48: 233325.87 | M48: =M47 -> 3.777564 | N48: =L48*M48 -> 881403.39 | P48: =J48+N48 -> 1017821.4
B49: November | D49: 250724.11 | E49: =E48 -> 5.7862705 | F49: =D49*E49 -> 1450757.5 | H49: 203229 | I49: =I48 -> 0.74504871 | J49: =H49*I49 -> 151415.5 | L49: 254452.25 | M49: =M48 -> 3.777564 | N49: =L49*M49 -> 961209.64 | P49: =J49+N49 -> 1112625.1
B50: December | D50: 258110.51 | E50: =E49 -> 5.7862705 | F50: =D50*E50 -> 1493497.2 | H50: 220603.32 | I50: =I49 -> 0.74504871 | J50: =H50*I50 -> 164360.22 | L50: 264421.78 | M50: =M49 -> 3.777564 | N50: =L50*M50 -> 998870.18 | P50: =J50+N50 -> 1163230.4
B52: Total | D52: =SUM(D39:D50) -> 3212144.5 | E52: =IF(D52<>0,F52/D52,0) -> 5.7862705 | F52: =SUM(F39:F50) -> 18586337 | H52: =SUM(H39:H50) -> 2680444.2 | I52: =IF(H52<>0,J52/H52,0) -> 0.74504871 | J52: =SUM(J39:J50) -> 1997061.5 | L52: =SUM(L39:L50) -> 3261401.7 | M52: =IF(L52<>0,N52/L52,0) -> 3.777564 | N52: =SUM(N39:N50) -> 12320154 | P52: =SUM(P39:P50) -> 14317215
B54: =#REF! -> #REF! | D54: Network | H54: Line Connection | L54: Transformation Connection | P54: Total Connection
B56: Month | D56: Units Billed | E56: Rate | F56: Amount | H56: Units Billed | I56: Rate | J56: Amount | L56: Units Billed | M56: Rate | N56: Amount | P56: Amount
B58: January
B59: February
B60: March
B61: April
B62: May
B63: June
B64: July
...

Sheet 8. RTSR Rates to Forecast 2027
A13: The purpose of this table is to re-align the current RTS Network Rates to recover current wholesale network costs. | C13: By Rate Zone | I13: Elexicon
A15: Rate Class | B15: Rate Description | C15: Unit | D15: Current RTSR-Network | E15: Loss Adjusted Billed kWh | F15: Billed kW | G15: Billed Amount | H15: Billed Amount % | I15: Current Wholesale Billing | J15: Adjusted RTSR Network | K15: Harmonized % | L15: Total kWh | M15: Total kW
A16: Veridian Rate Zone
A17: Residential Service Classification | B17: Retail Transmission Rate - Network Service Rate | C17: $/kWh | D17: ='3. RRR Data 2027'!D17 -> 0.0117 | E17: ='3. RRR Data 2027'!H17 -> 1.1206796e+09 | F17: ='3. RRR Data 2027'!F17 -> 0 | G17: =IF(D17*E17=0,ROUND(D17*F17,2),ROUND(D17*E17,2)) -> 13111952 | H17: =G17/$G$38 -> 0.27715617 | I17: =K17*$I$38 -> 19017395 | J17: =IF(I17*L17=0,ROUND(I17/M17,4),ROUND(I17/L17,4)) -> 0.0122 | K17: =H17+H29 -> 0.39832375 | L17: =E17+E29 -> 1.5582601e+09 | M17: =F17+F29 -> 0
A18: Seasonal Residential Service Classification | B18: Retail Transmission Rate - Network Service Rate | C18: $/kWh | D18: ='3. RRR Data 2027'!D19 -> 0.0122 | E18: ='3. RRR Data 2027'!H19 -> 13681705 | F18: ='3. RRR Data 2027'!F19 -> 0 | G18: =IF(D18*E18=0,ROUND(D18*F18,2),ROUND(D18*E18,2)) -> 166916.8 | H18: =G18/$G$38 -> 0.0035282331 | I18: =K18*$I$38 -> 168450.42 | J18: =IF(I18*L18=0,ROUND(I18/M18,4),ROUND(I18/L18,4)) -> 0.0123 | K18: =H18 -> 0.0035282331 | L18: =E18 -> 13681705 | M18: =F18 -> 0
A19: General Service Less Than 50 kW Service Classification | B19: Retail Transmission Rate - Network Service Rate | C19: $/kWh | D19: ='3. RRR Data 2027'!D21 -> 0.0107 | E19: ='3. RRR Data 2027'!H21 -> 2.7966733e+08 | F19: ='3. RRR Data 2027'!F21 -> 0 | G19: =IF(D19*E19=0,ROUND(D19*F19,2),ROUND(D19*E19,2)) -> 2992440.5 | H19: =G19/$G$38 -> 0.063253234 | I19: =K19*$I$38 -> 4107840.5 | J19: =IF(I19*L19=0,ROUND(I19/M19,4),ROUND(I19/L19,4)) -> 0.0111 | K19: =H19+H30 -> 0.086039671 | L19: =E19+E30 -> 3.6950076e+08 | M19: =F19+F30 -> 0
A20: General Service 50 To 2,999 kW Service Classification | B20: Retail Transmission Rate - Network Service Rate | C20: $/kW | D20: ='3. RRR Data 2027'!D23 -> 5.2131 | F20: ='3. RRR Data 2027'!F23 -> 2362640.2 | G20: =IF(D20*E20=0,ROUND(D20*F20,2),ROUND(D20*E20,2)) -> 12316680 | H20: =G20/$G$38 -> 0.26034597 | I20: =K20*$I$38 -> 16609426 | J20: =IF(I20*L20=0,ROUND(I20/M20,4),ROUND(I20/L20,4)) -> 5.1323 | K20: =H20+H31 -> 0.34788828 | L20: =E20+E31 -> 0 | M20: =F20+F31 -> 3236251.6
A21: General Service 50 To 2,999 kW Service Classification | B21: Retail Transmission Rate - Network Service Rate - EV CHARGING | C21: $/kW | D21: ='3. RRR Data 2027'!D25 -> 0.886227 | F21: ='3. RRR Data 2027'!F25 -> 15376.162 | G21: =IF(D21*E21=0,ROUND(D21*F21,2),ROUND(D21*E21,2)) -> 13626.77 | H21: =G21/$G$38 -> 0.00028803824 | I21: =K21*$I$38 -> 17523.348 | J21: =IF(I21*L21=0,ROUND(I21/M21,4),ROUND(I21/L21,4)) -> 0.8756 | K21: =H21+H32 -> 0.00036703057 | L21: =E21+E32 -> 0 | M21: =F21+F32 -> 20013.268
A22: General Service 3,000 To 4,999 kW Service Classification | B22: Retail Transmission Rate - Network Service Rate | C22: $/kW | D22: ='3. RRR Data 2027'!D27 -> 5.7435 | F22: ='3. RRR Data 2027'!F27 -> 391116.46 | G22: =IF(D22*E22=0,ROUND(D22*F22,2),ROUND(D22*E22,2)) -> 2246377.4 | H22: =G22/$G$38 -> 0.047483195 | I22: =K22*$I$38 -> 3286910.5 | J22: =IF(I22*L22=0,ROUND(I22/M22,4),ROUND(I22/L22,4)) -> 5.4393 | K22: =H22+H33 -> 0.068845102 | L22: =E22+E33 -> 0 | M22: =F22+F33 -> 604293.44
