Workbook
Name BI_LDCLIST: #REF!
Name BridgeYear: #REF!
Name contactf: #REF!
Name COS_RES_CUSTOMERS: #REF!
Name COS_RES_KWH: #REF!
Name CustomerAdministration: #REF!
Name DesRange: #REF!
Name DRP: #REF!
Name EBNUMBER: #REF!
Name Elexicon_SA: #REF!
Name fed_sb: #REF!
Name fedtax: #REF!
Name forecast_wholesale_lineplus: #REF!
Name forecast_wholesale_network: #REF!
Name G1LD: #REF!
Name Group1Desposing: #REF!
Name histdate: #REF!
Name Incr2000: #REF!
Name LDCList: OFFSET(#REF!,0,0,COUNTA(#REF!),1)
Name LDCNAME1: #REF!
Name LIMIT: #REF!
Name listdata: #REF!
Name man_beg_bud: #REF!
Name man_end_bud: #REF!
Name man12ACT: #REF!
Name MANBUD: #REF!
Name manCYACT: #REF!
Name manCYBUD: #REF!
Name manCYF: #REF!
Name MANEND: #REF!
Name manNYbud: #REF!
Name manpower_costs: #REF!
Name manPYACT: #REF!
Name MANSTART: #REF!
Name mat_beg_bud: #REF!
Name mat_end_bud: #REF!
Name mat12ACT: #REF!
Name MATBUD: #REF!
Name matCYACT: #REF!
Name matCYBUD: #REF!
Name matCYF: #REF!
Name MATEND: #REF!
Name material_costs: #REF!
Name matNYbud: #REF!
Name matPYACT: #REF!
Name MATSTART: #REF!
Name maxtax: #REF!
Name MidPeak: #REF!
Name MidPeakPer: #REF!
Name OER: #REF!
Name OffPeak: #REF!
Name OffPeakPer: #REF!
Name OnPeak: #REF!
Name OnPeakPer: #REF!
Name ontario_sb: #REF!
Name ontariotax: #REF!
Name oth_beg_bud: #REF!
Name oth_end_bud: #REF!
Name oth12ACT: #REF!
Name othCYACT: #REF!

Sheet 1. Info
AB1: Alectra Utilities Corporation-Brampton Rate Zone | AC1: 2026 RTSR Workform for Electricity Distributors
AB2: Alectra Utilities Corporation-Enersource Rate Zone | AC2: v 1.0
AB3: Alectra Utilities Corporation-Horizon Utilities Rate Zone
AB4: Alectra Utilities Corporation-PowerStream Rate Zone
AB5: Alectra Utilities Corporation-Guelph Rate Zone
AB6: Algoma Power Inc.
AB7: Atikokan Hydro Inc.
AB8: Bluewater Power Distribution Corporation
AB9: Burlington Hydro Inc.
AB10: Canadian Niagara Power Inc.
AB11: Centre Wellington Hydro Ltd.
AB12: Chapleau Public Utilities Corporation
A13: Drop-down lists are shaded blue; Input cells are shaded green. | AB13: Cooperative Hydro Embrun Inc.
AB14: E.L.K. Energy Inc.
C15: Utility Name | D15: Elexicon Energy Inc. | AB15: Elexicon Energy Inc.-Whitby Rate Zone
AB16: Elexicon Energy Inc.-Veridian Rate Zone
C17: Assigned EB Number | D17: EB-2025-0312 | AB17: Enova Power Corp.-Kitchener-Wilmot Hydro Rate Zone
AB18: Enova Power Corp.-Waterloo North Rate Zone
C19: Name and Title of Contact | D19: Erin Stevens, Director, Regulatory Affairs | AB19: Entegrus Powerlines Inc.-For Entegrus-Main Rate Zone
AB20: Entegrus Powerlines Inc.-For Former St. Thomas Energy Rate Zone
C21: Phone Number | AB21: ENWIN Utilities Ltd.
AB22: EPCOR Electricity Distribution Ontario Inc.
C23: Email Address | D23: estevens@elexiconenergy.com | AB23: ERTH Power Corporation - ERTH Power Main Rate Zone
AB24: ERTH POWER CORPORATION – GODERICH RATE ZONE
C25: Last COS Re-based Year | AB25: Espanola Regional Hydro Distribution Corporation
AB26: Essex Powerlines Corporation
C27: Test Year | D27: 2027 | AB27: Festival Hydro Inc.
AB28: Fort Frances Power Corporation
AB29: GrandBridge Energy Inc.-Brantford Power Rate Zone
AB30: GrandBridge Energy Inc.-Energy+ Rate Zone
AB31: Greater Sudbury Hydro Inc.
AB32: Grimsby Power Incorporated
AB33: Halton Hills Hydro Inc.
AB34: Hearst Power Distribution Co. Ltd.
AB35: Hydro 2000 Inc.
AB36: Hydro Hawkesbury Inc.
AB37: Hydro One Networks Inc.
AB38: Hydro One Networks Inc.-Former Orillia Power Distribution Corporation Service Area
AB39: Hydro One Networks Inc.-Former Peterborough Distribution Inc. Service Area
... AB72: Westario Power Inc.

Sheet 2. Table of Contents
D20: 1. Info | I20: 5. Historical Wholesale
D22: 2. Table of Contents | I22: 6. Current Wholesale
D24: 3. RRR Data | I24: 7. Forecast Wholesale
D26: 4. UTRs and Sub-Transmission | I26: 8. RTSR Rates to Forecast
I28: 9. LV Rates

Sheet 3. RRR Data 2027
AZ1: 1
A13: Columns E and F have been populated with data from the most recent RRR filing. Rate classes that have more than one Network or Connection charge will notice that the cells are highlighted in green and unlocked. If the data needs to be modified, please make the necessary adjustments and note the changes in your manager's summary. As well, the Loss Factor has been imported from Tab 2.
A14: EV Multiplier: | B14: 0.17
A15: Rate Class | B15: Rate Description | C15: Unit | D15: Rate | E15: Non-Loss Adjusted Metered kWh | F15: Non-Loss Adjusted Metered kW | G15: Applicable Loss Factor | H15: Loss Adjusted Billed kWh
A16: Veridian Rate Zone
A17: Residential Service Classification | B17: Retail Transmission Rate - Network Service Rate | C17: $/kWh | D17: 0.0117 | E17: 1.0760246e+09 | F17: 0 | G17: 1.0415 | H17: =E17*G17 -> 1.1206796e+09
A18: Residential Service Classification | B18: Retail Transmission Rate - Line and Transformation Connection Service Rate | C18: $/kWh | D18: 0.008 | E18: =E17 -> 1.0760246e+09 | F18: 0 | G18: =G17 -> 1.0415 | H18: =E18*G18 -> 1.1206796e+09
A19: Seasonal Residential Service Classification | B19: Retail Transmission Rate - Network Service Rate | C19: $/kWh | D19: 0.0122 | E19: 13136538 | F19: 0 | G19: 1.0415 | H19: =E19*G19 -> 13681705
A20: Seasonal Residential Service Classification | B20: Retail Transmission Rate - Line and Transformation Connection Service Rate | C20: $/kWh | D20: 0.0103 | E20: =E19 -> 13136538 | F20: 0 | G20: =G19 -> 1.0415 | H20: =E20*G20 -> 13681705
A21: General Service Less Than 50 kW Service Classification | B21: Retail Transmission Rate - Network Service Rate | C21: $/kWh | D21: 0.0107 | E21: 2.685236e+08 | F21: 0 | G21: 1.0415 | H21: =E21*G21 -> 2.7966733e+08
A22: General Service Less Than 50 kW Service Classification | B22: Retail Transmission Rate - Line and Transformation Connection Service Rate | C22: $/kWh | D22: 0.0075 | E22: =E21 -> 2.685236e+08 | F22: 0 | G22: =G21 -> 1.0415 | H22: =E22*G22 -> 2.7966733e+08
A23: General Service 50 To 2,999 kW Service Classification | B23: Retail Transmission Rate - Network Service Rate | C23: $/kW | D23: 5.2131 | E23: 9.7433197e+08 | F23: 2362640.2
A24: General Service 50 To 2,999 kW Service Classification | B24: Retail Transmission Rate - Line and Transformation Connection Service Rate | C24: $/kW | D24: 3.4745 | E24: =E23 -> 9.7433197e+08 | F24: =F23 -> 2362640.2
A25: General Service 50 To 2,999 kW Service Classification | B25: Retail Transmission Rate - Network Service Rate - EV CHARGING | C25: $/kW | D25: =D23*$B$14 -> 0.886227 | E25: 319720.34 | F25: 15376.162
A26: General Service 50 To 2,999 kW Service Classification | B26: Retail Transmission Rate - Line and Transformation Connection Service Rate - EV CHARGING | C26: $/kW | D26: =D24*$B$14 -> 0.590665 | E26: =E25 -> 319720.34 | F26: =F25 -> 15376.162
A27: General Service 3,000 To 4,999 kW Service Classification | B27: Retail Transmission Rate - Network Service Rate | C27: $/kW | D27: 5.7435 | E27: 1.7211672e+08 | F27: 391116.46
A28: General Service 3,000 To 4,999 kW Service Classification | B28: Retail Transmission Rate - Line and Transformation Connection Service Rate | C28: $/kW | D28: 3.8158 | E28: =E27 -> 1.7211672e+08 | F28: =F27 -> 391116.46
A29: General Service 3,000 To 4,999 kW Service Classification | B29: Retail Transmission Rate - Network Service Rate - EV CHARGING | C29: $/kW | D29: =D27*$B$14 -> 0.976395 | E29: 0 | F29: 0
A30: General Service 3,000 To 4,999 kW Service Classification | B30: Retail Transmission Rate - Line and Transformation Connection Service Rate - EV CHARGING | C30: $/kW | D30: =D28*$B$14 -> 0.648686 | E30: =E29 -> 0 | F30: 0
A31: Large Use Service Classification | B31: Retail Transmission Rate - Network Service Rate | C31: $/kW | D31: 5.7435 | E31: 4.3499596e+08 | F31: 742951.91
A32: Large Use Service Classification | B32: Retail Transmission Rate - Line and Transformation Connection Service Rate | C32: $/kW | D32: 3.8158 | E32: =E31 -> 4.3499596e+08 | F32: =F31 -> 742951.91
A33: Unmetered Scattered Load Service Classification | B33: Retail Transmission Rate - Network Service Rate | C33: $/kWh | D33: 0.0107 | E33: 4588884.7 | F33: 0 | G33: 1.0415 | H33: =E33*G33 -> 4779323.4
A34: Unmetered Scattered Load Service Classification | B34: Retail Transmission Rate - Line and Transformation Connection Service Rate | C34: $/kWh | D34: 0.0075 | E34: =E33 -> 4588884.7 | F34: 0 | G34: =G33 -> 1.0415 | H34: =E34*G34 -> 4779323.4
A35: Sentinel Lighting Service Classification | B35: Retail Transmission Rate - Network Service Rate | C35: $/kW | D35: 3.2516 | E35: 81257.398 | F35: 569.18082
A36: Sentinel Lighting Service Classification | B36: Retail Transmission Rate - Line and Transformation Connection Service Rate | C36: $/kW | D36: 2.1844 | E36: =E35 -> 81257.398 | F36: =F35 -> 569.18082
A37: Street Lighting Service Classification | B37: Retail Transmission Rate - Network Service Rate | C37: $/kW | D37: 3.4237 | E37: 11913244 | F37: 33229.794
A38: Street Lighting Service Classification | B38: Retail Transmission Rate - Line and Transformation Connection Service Rate | C38: $/kW | D38: 2.2826 | E38: =E37 -> 11913244 | F38: =F37 -> 33229.794
A39: Whitby Rate Zone
A40: Residential Service Classification | B40: Retail Transmission Rate - Network Service Rate | C40: $/kWh | D40: 0.0131 | E40: 4.2014444e+08 | F40: 0 | G40: =G17 -> 1.0415 | H40: =E40*G40 -> 4.3758043e+08
A41: Residential Service Classification | B41: Retail Transmission Rate - Line and Transformation Connection Service Rate | C41: $/kWh | D41: 0.0099 | E41: =E40 -> 4.2014444e+08 | F41: 0 | G41: =G18 -> 1.0415 | H41: =E41*G41 -> 4.3758043e+08
A42: General Service Less Than 50 kW Service Classification | B42: Retail Transmission Rate - Network Service Rate | C42: $/kWh | D42: 0.012 | E42: 86253887 | F42: 0 | G42: =G19 -> 1.0415 | H42: =E42*G42 -> 89833424
A43: General Service Less Than 50 kW Service Classification | B43: Retail Transmission Rate - Line and Transformation Connection Service Rate | C43: $/kWh | D43: 0.0094 | E43: =E42 -> 86253887 | F43: 0 | G43: =G20 -> 1.0415 | H43: =E43*G43 -> 89833424
A44: General Service 50 To 4,999 kW Service Classification | B44: Retail Transmission Rate - Network Service Rate | C44: $/kW | D44: 4.7407 | E44: 3.5217727e+08 | F44: 873611.38 | G44: 0 | H44: 0
A45: General Service 50 To 4,999 kW Service Classification | B45: Retail Transmission Rate - Line and Transformation Connection Service Rate | C45: $/kW | D45: 3.5517 | E45: =E44 -> 3.5217727e+08 | F45: =F44 -> 873611.38 | G45: 0 | H45: 0 | I45: 0.99848527 | J45: 0.99472005
A46: General Service 50 To 4,999 kW Service Classification | B46: Retail Transmission Rate - Network Service Rate - EV CHARGING | C46: $/kW | D46: 0.8059 | E46: 534261.96 | F46: 4637.106 | G46: 0 | H46: 0
A47: General Service 50 To 4,999 kW Service Classification | B47: Retail Transmission Rate - Line and Transformation Connection Service Rate - EV CHARGING | C47: $/kW | D47: 0.6038 | E47: =E46 -> 534261.96 | F47: =F46 -> 4637.106 | G47: 0 | H47: 0 | I47: 0.0015147278 | J47: 0.0052799476
A48: General Service 3,000 To 4,999 kW Service Classification | B48: Retail Transmission Rate - Network Service Rate | C48: $/kWh | E48: 1.1062342e+08 | F48: 213176.99
A49: General Service 3,000 To 4,999 kW Service Classification | B49: Retail Transmission Rate - Line and Transformation Connection Service Rate | C49: $/kWh | E49: =E48 -> 1.1062342e+08 | F49: =F48 -> 213176.99
A50: General Service 3,000 To 4,999 kW Service Classification | B50: Retail Transmission Rate - Network Service Rate - EV CHARGING | C50: $/kW
A51: General Service 3,000 To 4,999 kW Service Classification | B51: Retail Transmission Rate - Line and Transformation Connection Service Rate - EV CHARGING | C51: $/kW
A52: Unmetered Scattered Load Service Classification | B52: Retail Transmission Rate - Network Service Rate | C52: $/kWh | D52: 0.012 | E52: 1890889.3 | F52: 0 | G52: =G33 -> 1.0415 | H52: =E52*G52 -> 1969361.2
A53: Unmetered Scattered Load Service Classification | B53: Retail Transmission Rate - Line and Transformation Connection Service Rate | C53: $/kWh | D53: 0.0094 | E53: =E52 -> 1890889.3 | F53: 0 | G53: =G34 -> 1.0415 | H53: =E53*G53 -> 1969361.2
A54: Sentinel Lighting Service Classification | B54: Retail Transmission Rate - Network Service Rate | C54: $/kW | D54: 3.5928 | E54: 6200.3548 | F54: 85.218073 | G54: 0 | H54: 0
A55: Sentinel Lighting Service Classification | B55: Retail Transmission Rate - Line and Transformation Connection Service Rate | C55: $/kW | D55: 2.8033 | E55: =E54 -> 6200.3548 | F55: =F54 -> 85.218073 | G55: 0 | H55: 0
A56: Street Lighting Service Classification | B56: Retail Transmission Rate - Network Service Rate | C56: $/kW | D56: 3.5755 | E56: 3711804.6 | F56: 10314.476 | G56: 0 | H56: 0
A57: Street Lighting Service Classification | B57: Retail Transmission Rate - Line and Transformation Connection Service Rate | C57: $/kW | D57: 2.7459 | E57: =E56 -> 3711804.6 | F57: =F56 -> 10314.476 | G57: 0 | H57: 0

Sheet 3. RRR Data 2028
AZ1: 1
A13: Columns E and F have been populated with data from the most recent RRR filing. Rate classes that have more than one Network or Connection charge will notice that the cells are highlighted in green and unlocked. If the data needs to be modified, please make the necessary adjustments and note the changes in your manager's summary. As well, the Loss Factor has been imported from Tab 2.
A14: EV Multiplier: | B14: 0.17
A15: Rate Class | B15: Rate Description | C15: Unit | D15: Rate | E15: Non-Loss Adjusted Metered kWh | F15: Non-Loss Adjusted Metered kW | G15: Applicable Loss Factor | H15: Loss Adjusted Billed kWh
A17: Residential Service Classification | B17: Retail Transmission Rate - Network Service Rate | C17: $/kWh | D17: 0.0117 | E17: 1.5226106e+09 | F17: 0 | G17: 1.0415 | H17: =E17*G17 -> 1.5857989e+09
A18: Residential Service Classification | B18: Retail Transmission Rate - Line and Transformation Connection Service Rate | C18: $/kWh | D18: 0.008 | E18: =E17 -> 1.5226106e+09 | F18: 0 | G18: =G17 -> 1.0415 | H18: =E18*G18 -> 1.5857989e+09
A19: Seasonal Residential Service Classification | B19: Retail Transmission Rate - Network Service Rate | C19: $/kWh | D19: 0.0122 | E19: 13563322 | F19: 0 | G19: 1.0415 | H19: =E19*G19 -> 14126200
A20: Seasonal Residential Service Classification | B20: Retail Transmission Rate - Line and Transformation Connection Service Rate | C20: $/kWh | D20: 0.0103 | E20: =E19 -> 13563322 | F20: 0 | G20: =G19 -> 1.0415 | H20: =E20*G20 -> 14126200
A21: General Service Less Than 50 kW Service Classification | B21: Retail Transmission Rate - Network Service Rate | C21: $/kWh | D21: 0.0107 | E21: 3.5483202e+08 | F21: 0 | G21: 1.0415 | H21: =E21*G21 -> 3.6955755e+08
A22: General Service Less Than 50 kW Service Classification | B22: Retail Transmission Rate - Line and Transformation Connection Service Rate | C22: $/kWh | D22: 0.0075 | E22: =E21 -> 3.5483202e+08 | F22: 0 | G22: =G21 -> 1.0415 | H22: =E22*G22 -> 3.6955755e+08
A23: General Service 50 To 2,999 kW Service Classification | B23: Retail Transmission Rate - Network Service Rate | C23: $/kW | D23: 5.2131 | E23: 1.3383368e+09 | F23: 3247733.9
A24: General Service 50 To 2,999 kW Service Classification | B24: Retail Transmission Rate - Line and Transformation Connection Service Rate | C24: $/kW | D24: 3.4745 | E24: =E23 -> 1.3383368e+09 | F24: =F23 -> 3247733.9
A25: General Service 50 To 2,999 kW Service Classification | B25: Retail Transmission Rate - Network Service Rate - EV CHARGING | C25: $/kW | D25: =D23*$B$14 -> 0.886227 | E25: 420130.47 | F25: 46671.434
A26: General Service 50 To 2,999 kW Service Classification | B26: Retail Transmission Rate - Line and Transformation Connection Service Rate - EV CHARGING | C26: $/kW | D26: =D24*$B$14 -> 0.590665 | E26: =E25 -> 420130.47 | F26: =F25 -> 46671.434
A27: General Service 3,000 To 4,999 kW Service Classification | B27: Retail Transmission Rate - Network Service Rate | C27: $/kW | D27: 5.7435 | E27: 3.0934539e+08 | F27: 665751.75
A28: General Service 3,000 To 4,999 kW Service Classification | B28: Retail Transmission Rate - Line and Transformation Connection Service Rate | C28: $/kW | D28: 3.8158 | E28: =E27 -> 3.0934539e+08 | F28: =F27 -> 665751.75
A29: General Service 3,000 To 4,999 kW Service Classification | B29: Retail Transmission Rate - Network Service Rate - EV CHARGING | C29: $/kW | D29: =D27*$B$14 -> 0.976395 | E29: 0 | F29: 0
A30: General Service 3,000 To 4,999 kW Service Classification | B30: Retail Transmission Rate - Line and Transformation Connection Service Rate - EV CHARGING | C30: $/kW | D30: =D28*$B$14 -> 0.648686 | E30: =E29 -> 0 | F30: 0
A31: Large Use Service Classification | B31: Retail Transmission Rate - Network Service Rate | C31: $/kW | D31: 5.7435 | E31: 5.2013344e+08 | F31: 895387.42
A32: Large Use Service Classification | B32: Retail Transmission Rate - Line and Transformation Connection Service Rate | C32: $/kW | D32: 3.8158 | E32: =E31 -> 5.2013344e+08 | F32: =F31 -> 895387.42
A33: Unmetered Scattered Load Service Classification | B33: Retail Transmission Rate - Network Service Rate | C33: $/kWh | D33: 0.0107 | E33: 6450483.6 | F33: 0 | G33: 1.0415 | H33: =E33*G33 -> 6718178.7
A34: Unmetered Scattered Load Service Classification | B34: Retail Transmission Rate - Line and Transformation Connection Service Rate | C34: $/kWh | D34: 0.0075 | E34: =E33 -> 6450483.6 | F34: 0 | G34: =G33 -> 1.0415 | H34: =E34*G34 -> 6718178.7
A35: Sentinel Lighting Service Classification | B35: Retail Transmission Rate - Network Service Rate | C35: $/kW | D35: 3.2516 | E35: 85958.85 | F35: 644.51221
A36: Sentinel Lighting Service Classification | B36: Retail Transmission Rate - Line and Transformation Connection Service Rate | C36: $/kW | D36: 2.1844 | E36: =E35 -> 85958.85 | F36: =F35 -> 644.51221
A37: Street Lighting Service Classification | B37: Retail Transmission Rate - Network Service Rate | C37: $/kW | D37: 3.4237 | E37: 15821266 | F37: 44090.904
A38: Street Lighting Service Classification | B38: Retail Transmission Rate - Line and Transformation Connection Service Rate | C38: $/kW | D38: 2.2826 | E38: =E37 -> 15821266 | F38: =F37 -> 44090.904

Sheet 3. RRR Data 2029
AZ1: 1
A13: Columns E and F have been populated with data from the most recent RRR filing. Rate classes that have more than one Network or Connection charge will notice that the cells are highlighted in green and unlocked. If the data needs to be modified, please make the necessary adjustments and note the changes in your manager's summary. As well, the Loss Factor has been imported from Tab 2.
A14: EV Multiplier: | B14: 0.17
A15: Rate Class | B15: Rate Description | C15: Unit | D15: Rate | E15: Non-Loss Adjusted Metered kWh | F15: Non-Loss Adjusted Metered kW | G15: Applicable Loss Factor | H15: Loss Adjusted Billed kWh
A17: Residential Service Classification | B17: Retail Transmission Rate - Network Service Rate | C17: $/kWh | D17: 0.0117 | E17: 1.5459532e+09 | F17: 0 | G17: 1.0415 | H17: =E17*G17 -> 1.6101102e+09
A18: Residential Service Classification | B18: Retail Transmission Rate - Line and Transformation Connection Service Rate | C18: $/kWh | D18: 0.008 | E18: =E17 -> 1.5459532e+09 | F18: 0 | G18: =G17 -> 1.0415 | H18: =E18*G18 -> 1.6101102e+09
A19: Seasonal Residential Service Classification | B19: Retail Transmission Rate - Network Service Rate | C19: $/kWh | D19: 0.0122 | E19: 13936134 | F19: 0 | G19: 1.0415 | H19: =E19*G19 -> 14514483
A20: Seasonal Residential Service Classification | B20: Retail Transmission Rate - Line and Transformation Connection Service Rate | C20: $/kWh | D20: 0.0103 | E20: =E19 -> 13936134 | F20: 0 | G20: =G19 -> 1.0415 | H20: =E20*G20 -> 14514483
A21: General Service Less Than 50 kW Service Classification | B21: Retail Transmission Rate - Network Service Rate | C21: $/kWh | D21: 0.0107 | E21: 3.5408663e+08 | F21: 0 | G21: 1.0415 | H21: =E21*G21 -> 3.6878122e+08
A22: General Service Less Than 50 kW Service Classification | B22: Retail Transmission Rate - Line and Transformation Connection Service Rate | C22: $/kWh | D22: 0.0075 | E22: =E21 -> 3.5408663e+08 | F22: 0 | G22: =G21 -> 1.0415 | H22: =E22*G22 -> 3.6878122e+08
A23: General Service 50 To 2,999 kW Service Classification | B23: Retail Transmission Rate - Network Service Rate | C23: $/kW | D23: 5.2131 | E23: 1.3441088e+09 | F23: 3295840.2
A24: General Service 50 To 2,999 kW Service Classification | B24: Retail Transmission Rate - Line and Transformation Connection Service Rate | C24: $/kW | D24: 3.4745 | E24: =E23 -> 1.3441088e+09 | F24: =F23 -> 3295840.2
A25: General Service 50 To 2,999 kW Service Classification | B25: Retail Transmission Rate - Network Service Rate - EV CHARGING | C25: $/kW | D25: =D23*$B$14 -> 0.886227 | E25: 818307.05 | F25: 30280.041
A26: General Service 50 To 2,999 kW Service Classification | B26: Retail Transmission Rate - Line and Transformation Connection Service Rate - EV CHARGING | C26: $/kW | D26: =D24*$B$14 -> 0.590665 | E26: =E25 -> 818307.05 | F26: =F25 -> 30280.041
A27: General Service 3,000 To 4,999 kW Service Classification | B27: Retail Transmission Rate - Network Service Rate | C27: $/kW | D27: 5.7435 | E27: 3.302192e+08 | F27: 714879.83
A28: General Service 3,000 To 4,999 kW Service Classification | B28: Retail Transmission Rate - Line and Transformation Connection Service Rate | C28: $/kW | D28: 3.8158 | E28: =E27 -> 3.302192e+08 | F28: =F27 -> 714879.83
A29: General Service 3,000 To 4,999 kW Service Classification | B29: Retail Transmission Rate - Network Service Rate - EV CHARGING | C29: $/kW | D29: =D27*$B$14 -> 0.976395 | E29: 0 | F29: 0
A30: General Service 3,000 To 4,999 kW Service Classification | B30: Retail Transmission Rate - Line and Transformation Connection Service Rate - EV CHARGING | C30: $/kW | D30: =D28*$B$14 -> 0.648686 | E30: =E29 -> 0 | F30: 0
A31: Large Use Service Classification | B31: Retail Transmission Rate - Network Service Rate | C31: $/kW | D31: 5.7435 | E31: 6.0139384e+08 | F31: 1042834.3
A32: Large Use Service Classification | B32: Retail Transmission Rate - Line and Transformation Connection Service Rate | C32: $/kW | D32: 3.8158 | E32: =E31 -> 6.0139384e+08 | F32: =F31 -> 1042834.3
A33: Unmetered Scattered Load Service Classification | B33: Retail Transmission Rate - Network Service Rate | C33: $/kWh | D33: 0.0107 | E33: 6421580.5 | F33: 0 | G33: 1.0415 | H33: =E33*G33 -> 6688076.1
A34: Unmetered Scattered Load Service Classification | B34: Retail Transmission Rate - Line and Transformation Connection Service Rate | C34: $/kWh | D34: 0.0075 | E34: =E33 -> 6421580.5 | F34: 0 | G34: =G33 -> 1.0415 | H34: =E34*G34 -> 6688076.1
A35: Sentinel Lighting Service Classification | B35: Retail Transmission Rate - Network Service Rate | C35: $/kW | D35: 3.2516 | E35: 84492.385 | F35: 634.86173
A36: Sentinel Lighting Service Classification | B36: Retail Transmission Rate - Line and Transformation Connection Service Rate | C36: $/kW | D36: 2.1844 | E36: =E35 -> 84492.385 | F36: =F35 -> 634.86173
A37: Street Lighting Service Classification | B37: Retail Transmission Rate - Network Service Rate | C37: $/kW | D37: 3.4237 | E37: 16020065 | F37: 44644.724
A38: Street Lighting Service Classification | B38: Retail Transmission Rate - Line and Transformation Connection Service Rate | C38: $/kW | D38: 2.2826 | E38: =E37 -> 16020065 | F38: =F37 -> 44644.724

Sheet 3. RRR Data 2030
AZ1: 1
A13: Columns E and F have been populated with data from the most recent RRR filing. Rate classes that have more than one Network or Connection charge will notice that the cells are highlighted in green and unlocked. If the data needs to be modified, please make the necessary adjustments and note the changes in your manager's summary. As well, the Loss Factor has been imported from Tab 2.
A14: EV Multiplier: | B14: 0.17
A15: Rate Class | B15: Rate Description | C15: Unit | D15: Rate | E15: Non-Loss Adjusted Metered kWh | F15: Non-Loss Adjusted Metered kW | G15: Applicable Loss Factor | H15: Loss Adjusted Billed kWh
A17: Residential Service Classification | B17: Retail Transmission Rate - Network Service Rate | C17: $/kWh | D17: 0.0117 | E17: 1.5780196e+09 | F17: 0 | G17: 1.0415 | H17: =E17*G17 -> 1.6435074e+09
A18: Residential Service Classification | B18: Retail Transmission Rate - Line and Transformation Connection Service Rate | C18: $/kWh | D18: 0.008 | E18: =E17 -> 1.5780196e+09 | F18: 0 | G18: =G17 -> 1.0415 | H18: =E18*G18 -> 1.6435074e+09
A19: Seasonal Residential Service Classification | B19: Retail Transmission Rate - Network Service Rate | C19: $/kWh | D19: 0.0122 | E19: 14392229 | F19: 0 | G19: 1.0415 | H19: =E19*G19 -> 14989506
A20: Seasonal Residential Service Classification | B20: Retail Transmission Rate - Line and Transformation Connection Service Rate | C20: $/kWh | D20: 0.0103 | E20: =E19 -> 14392229 | F20: 0 | G20: =G19 -> 1.0415 | H20: =E20*G20 -> 14989506
A21: General Service Less Than 50 kW Service Classification | B21: Retail Transmission Rate - Network Service Rate | C21: $/kWh | D21: 0.0107 | E21: 3.5535251e+08 | F21: 0 | G21: 1.0415 | H21: =E21*G21 -> 3.7009963e+08
A22: General Service Less Than 50 kW Service Classification | B22: Retail Transmission Rate - Line and Transformation Connection Service Rate | C22: $/kWh | D22: 0.0075 | E22: =E21 -> 3.5535251e+08 | F22: 0 | G22: =G21 -> 1.0415 | H22: =E22*G22 -> 3.7009963e+08
A23: General Service 50 To 2,999 kW Service Classification | B23: Retail Transmission Rate - Network Service Rate | C23: $/kW | D23: 5.2131 | E23: 1.3501452e+09 | F23: 3324315.8
A24: General Service 50 To 2,999 kW Service Classification | B24: Retail Transmission Rate - Line and Transformation Connection Service Rate | C24: $/kW | D24: 3.4745 | E24: =E23 -> 1.3501452e+09 | F24: =F23 -> 3324315.8
A25: General Service 50 To 2,999 kW Service Classification | B25: Retail Transmission Rate - Network Service Rate - EV CHARGING | C25: $/kW | D25: =D23*$B$14 -> 0.886227 | E25: 1397619.2 | F25: 36877.638
A26: General Service 50 To 2,999 kW Service Classification | B26: Retail Transmission Rate - Line and Transformation Connection Service Rate - EV CHARGING | C26: $/kW | D26: =D24*$B$14 -> 0.590665 | E26: =E25 -> 1397619.2 | F26: =F25 -> 36877.638
A27: General Service 3,000 To 4,999 kW Service Classification | B27: Retail Transmission Rate - Network Service Rate | C27: $/kW | D27: 5.7435 | E27: 3.4172522e+08 | F27: 744000.61
A28: General Service 3,000 To 4,999 kW Service Classification | B28: Retail Transmission Rate - Line and Transformation Connection Service Rate | C28: $/kW | D28: 3.8158 | E28: =E27 -> 3.4172522e+08 | F28: =F27 -> 744000.61
A29: General Service 3,000 To 4,999 kW Service Classification | B29: Retail Transmission Rate - Network Service Rate - EV CHARGING | C29: $/kW | D29: =D27*$B$14 -> 0.976395 | E29: 0 | F29: 0
A30: General Service 3,000 To 4,999 kW Service Classification | B30: Retail Transmission Rate - Line and Transformation Connection Service Rate - EV CHARGING | C30: $/kW | D30: =D28*$B$14 -> 0.648686 | E30: =E29 -> 0 | F30: 0
A31: Large Use Service Classification | B31: Retail Transmission Rate - Network Service Rate | C31: $/kW | D31: 5.7435 | E31: 6.3046353e+08 | F31: 1100818
A32: Large Use Service Classification | B32: Retail Transmission Rate - Line and Transformation Connection Service Rate | C32: $/kW | D32: 3.8158 | E32: =E31 -> 6.3046353e+08 | F32: =F31 -> 1100818
A33: Unmetered Scattered Load Service Classification | B33: Retail Transmission Rate - Network Service Rate | C33: $/kWh | D33: 0.0107 | E33: 6393062.1 | F33: 0 | G33: 1.0415 | H33: =E33*G33 -> 6658374.2
A34: Unmetered Scattered Load Service Classification | B34: Retail Transmission Rate - Line and Transformation Connection Service Rate | C34: $/kWh | D34: 0.0075 | E34: =E33 -> 6393062.1 | F34: 0 | G34: =G33 -> 1.0415 | H34: =E34*G34 -> 6658374.2
A35: Sentinel Lighting Service Classification | B35: Retail Transmission Rate - Network Service Rate | C35: $/kW | D35: 3.2516 | E35: 83057.768 | F35: 625.44345
A36: Sentinel Lighting Service Classification | B36: Retail Transmission Rate - Line and Transformation Connection Service Rate | C36: $/kW | D36: 2.1844 | E36: =E35 -> 83057.768 | F36: =F35 -> 625.44345
A37: Street Lighting Service Classification | B37: Retail Transmission Rate - Network Service Rate | C37: $/kW | D37: 3.4237 | E37: 16221479 | F37: 45205.829
A38: Street Lighting Service Classification | B38: Retail Transmission Rate - Line and Transformation Connection Service Rate | C38: $/kW | D38: 2.2826 | E38: =E37 -> 16221479 | F38: =F37 -> 45205.829

Sheet 3. RRR Data 2031
AZ1: 1
A13: Columns E and F have been populated with data from the most recent RRR filing. Rate classes that have more than one Network or Connection charge will notice that the cells are highlighted in green and unlocked. If the data needs to be modified, please make the necessary adjustments and note the changes in your manager's summary. As well, the Loss Factor has been imported from Tab 2.
A14: EV Multiplier: | B14: 0.17
A15: Rate Class | B15: Rate Description | C15: Unit | D15: Rate | E15: Non-Loss Adjusted Metered kWh | F15: Non-Loss Adjusted Metered kW | G15: Applicable Loss Factor | H15: Loss Adjusted Billed kWh
A17: Residential Service Classification | B17: Retail Transmission Rate - Network Service Rate | C17: $/kWh | D17: 0.0117 | E17: 1.6117962e+09 | F17: 0 | G17: 1.0415 | H17: =E17*G17 -> 1.6786858e+09
A18: Residential Service Classification | B18: Retail Transmission Rate - Line and Transformation Connection Service Rate | C18: $/kWh | D18: 0.008 | E18: =E17 -> 1.6117962e+09 | F18: 0 | G18: =G17 -> 1.0415 | H18: =E18*G18 -> 1.6786858e+09
A19: Seasonal Residential Service Classification | B19: Retail Transmission Rate - Network Service Rate | C19: $/kWh | D19: 0.0122 | E19: 14865355 | F19: 0 | G19: 1.0415 | H19: =E19*G19 -> 15482267
A20: Seasonal Residential Service Classification | B20: Retail Transmission Rate - Line and Transformation Connection Service Rate | C20: $/kWh | D20: 0.0103 | E20: =E19 -> 14865355 | F20: 0 | G20: =G19 -> 1.0415 | H20: =E20*G20 -> 15482267
A21: General Service Less Than 50 kW Service Classification | B21: Retail Transmission Rate - Network Service Rate | C21: $/kWh | D21: 0.0107 | E21: 3.5637823e+08 | F21: 0 | G21: 1.0415 | H21: =E21*G21 -> 3.7116793e+08
A22: General Service Less Than 50 kW Service Classification | B22: Retail Transmission Rate - Line and Transformation Connection Service Rate | C22: $/kWh | D22: 0.0075 | E22: =E21 -> 3.5637823e+08 | F22: 0 | G22: =G21 -> 1.0415 | H22: =E22*G22 -> 3.7116793e+08
A23: General Service 50 To 2,999 kW Service Classification | B23: Retail Transmission Rate - Network Service Rate | C23: $/kW | D23: 5.2131 | E23: 1.3514409e+09 | F23: 3339968.7
A24: General Service 50 To 2,999 kW Service Classification | B24: Retail Transmission Rate - Line and Transformation Connection Service Rate | C24: $/kW | D24: 3.4745 | E24: =E23 -> 1.3514409e+09 | F24: =F23 -> 3339968.7
A25: General Service 50 To 2,999 kW Service Classification | B25: Retail Transmission Rate - Network Service Rate - EV CHARGING | C25: $/kW | D25: =D23*$B$14 -> 0.886227 | E25: 1393712.6 | F25: 43607.077
A26: General Service 50 To 2,999 kW Service Classification | B26: Retail Transmission Rate - Line and Transformation Connection Service Rate - EV CHARGING | C26: $/kW | D26: =D24*$B$14 -> 0.590665 | E26: =E25 -> 1393712.6 | F26: =F25 -> 43607.077
A27: General Service 3,000 To 4,999 kW Service Classification | B27: Retail Transmission Rate - Network Service Rate | C27: $/kW | D27: 5.7435 | E27: 3.5353591e+08 | F27: 774616.48
A28: General Service 3,000 To 4,999 kW Service Classification | B28: Retail Transmission Rate - Line and Transformation Connection Service Rate | C28: $/kW | D28: 3.8158 | E28: =E27 -> 3.5353591e+08 | F28: =F27 -> 774616.48
A29: General Service 3,000 To 4,999 kW Service Classification | B29: Retail Transmission Rate - Network Service Rate - EV CHARGING | C29: $/kW | D29: =D27*$B$14 -> 0.976395 | E29: 0 | F29: 0
A30: General Service 3,000 To 4,999 kW Service Classification | B30: Retail Transmission Rate - Line and Transformation Connection Service Rate - EV CHARGING | C30: $/kW | D30: =D28*$B$14 -> 0.648686 | E30: =E29 -> 0 | F30: 0
A31: Large Use Service Classification | B31: Retail Transmission Rate - Network Service Rate | C31: $/kW | D31: 5.7435 | E31: 6.3788105e+08 | F31: 1121410.9
A32: Large Use Service Classification | B32: Retail Transmission Rate - Line and Transformation Connection Service Rate | C32: $/kW | D32: 3.8158 | E32: =E31 -> 6.3788105e+08 | F32: =F31 -> 1121410.9
A33: Unmetered Scattered Load Service Classification | B33: Retail Transmission Rate - Network Service Rate | C33: $/kWh | D33: 0.0107 | E33: 6364925.8 | F33: 0 | G33: 1.0415 | H33: =E33*G33 -> 6629070.2
A34: Unmetered Scattered Load Service Classification | B34: Retail Transmission Rate - Line and Transformation Connection Service Rate | C34: $/kWh | D34: 0.0075 | E34: =E33 -> 6364925.8 | F34: 0 | G34: =G33 -> 1.0415 | H34: =E34*G34 -> 6629070.2
A35: Sentinel Lighting Service Classification | B35: Retail Transmission Rate - Network Service Rate | C35: $/kW | D35: 3.2516 | E35: 81654.423 | F35: 616.25346
A36: Sentinel Lighting Service Classification | B36: Retail Transmission Rate - Line and Transformation Connection Service Rate | C36: $/kW | D36: 2.1844 | E36: =E35 -> 81654.423 | F36: =F35 -> 616.25346
A37: Street Lighting Service Classification | B37: Retail Transmission Rate - Network Service Rate | C37: $/kW | D37: 3.4237 | E37: 16425546 | F37: 45774.32
A38: Street Lighting Service Classification | B38: Retail Transmission Rate - Line and Transformation Connection Service Rate | C38: $/kW | D38: 2.2826 | E38: =E37 -> 16425546 | F38: =F37 -> 45774.32

Sheet 4. UTRs & Sub-Transmission
U9: HONI Revenue Requirements
U11: 2023 | V11: 2024 | W11: 2025 | X11: 2026 | Y11: 2027
T12: Revenue Requirement | U12: 1869 | V12: 2017.3 | W12: 2113 | X12: 2223.4 | Y12: 2308 | AA12: EB-2021-0110 Settlement Agreement, Attachment 1, Schedule 2.3
T14: Network | U14: 1113.4 | V14: 1202.6 | W14: 1260.2 | X14: 1326.8 | Y14: 1378
M15: Forecast UTRs | S15: RR | T15: Connection | U15: 196.1 | V15: 211.4 | W15: 221.3 | X15: 232.6 | Y15: 241.4
T16: Transformation | U16: 559.4 | V16: 603.2 | W16: 631.5 | X16: 663.9 | Y16: 688.7
B18: Uniform Transmission Rates | C18: Unit | E18: 2024 Jan to Jun | G18: 2024 Jul to Dec | I18: 2025 Jan to Jun | J18: 2025 Jul to Dec | L18: 2026 | M18: 2027 | N18: =M18+1 -> 2028 | O18: =N18+1 -> 2029 | P18: =O18+1 -> 2030 | Q18: =P18+1 -> 2031 | T18: Network | U18: 19399 | V18: 19449 | W18: 19204 | X18: 19124 | Y18: 19194
S19: MW | T19: Connection | U19: 18830 | V19: 18879 | W19: 18642 | X19: 18565 | Y19: 18633
B20: Rate Description | E20: Rate | I20: Rate | L20: Rate | T20: Transformation | U20: 16018 | V20: 16059 | W20: 15858 | X20: 15792 | Y20: 15850
AA21: Average Increases
B22: Network Service Rate | C22: kW | E22: 5.78 | G22: 6.12 | I22: 6.37 | J22: 6.37 | L22: 6.39 | M22: =L22*($AA$23) -> 6.7584756 | N22: =M22*($AA$23) -> 7.1481991 | O22: =N22*($AA$23) -> 7.5603958 | P22: =O22*($AA$23) -> 7.9963616 | Q22: =P22*($AA$23) -> 8.4574671 | T22: Network | U22: =U14/U18/12*1000 -> 4.7828926 | V22: =V14/V18/12*1000 -> 5.1527928 | W22: =W14/W18/12*1000 -> 5.4684788 | X22: =X14/X18/12*1000 -> 5.7815659 | Y22: =Y14/Y18/12*1000 -> 5.9827724
S23: UTR | V23: =V22/U22 -> 1.0773382 | W23: =W22/V22 -> 1.061265 | X23: =X22/W22 -> 1.0572531 | Y23: =Y22/X22 -> 1.0348014 | AA23: =AVERAGE(V23:Y23) -> 1.0576644
B24: Line Connection Service Rate | C24: kW | E24: 0.95 | G24: 0.95 | I24: 1 | J24: 1 | L24: 1.03 | M24: =L24*($AA$25) -> 1.0878936 | N24: =M24*($AA$25) -> 1.1490413 | O24: =N24*($AA$25) -> 1.213626 | P24: =O24*($AA$25) -> 1.2818407 | Q24: =P24*($AA$25) -> 1.3538897 | T24: Connection | U24: =U15/U19/12*1000 -> 0.86785272 | V24: =V15/V19/12*1000 -> 0.93313558 | W24: =W15/W19/12*1000 -> 0.98925366 | X24: =X15/X19/12*1000 -> 1.0440794 | Y24: =Y15/Y19/12*1000 -> 1.0796258
V25: =V24/U24 -> 1.0752234 | W25: =W24/V24 -> 1.0601392 | X25: =X24/W24 -> 1.0554213 | Y25: =Y24/X24 -> 1.0340457 | AA25: =AVERAGE(V25:Y25) -> 1.0562074
B26: Transformation Connection Service Rate | C26: kW | E26: 3.21 | G26: 3.21 | I26: 3.39 | J26: 3.39 | L26: 3.47 | M26: =L26*($AA$27) -> 3.6651792 | N26: =M26*($AA$27) -> 3.8713369 | O26: =N26*($AA$27) -> 4.0890904 | P26: =O26*($AA$27) -> 4.319092 | Q26: =P26*($AA$27) -> 4.5620306 | T26: Transformation | U26: =U16/U20/12*1000 -> 2.9102676 | V26: =V16/V20/12*1000 -> 3.1301243 | W26: =W16/W20/12*1000 -> 3.3185143 | X26: =X16/X20/12*1000 -> 3.5033561 | Y26: =Y16/Y20/12*1000 -> 3.6209253
V27: =V26/U26 -> 1.0755452 | W27: =W26/V26 -> 1.0601861 | X27: =X26/W26 -> 1.0557002 | Y27: =Y26/X26 -> 1.033559 | AA27: =AVERAGE(V27:Y27) -> 1.0562476
V28: =(V24+V26)/(U24+U26) -> 1.0754713 | W28: =(W24+W26)/(V24+V26) -> 1.0601753 | X28: =(X24+X26)/(W24+W26) -> 1.0556361 | Y28: =(Y24+Y26)/(X24+X26) -> 1.0336708 | AA28: =AVERAGE(V28:Y28) -> 1.0562384
B29: Hydro One Sub-Transmission Rates | C29: Unit | E29: 2024 | I29: 2025 | L29: 2026 | T29: Total | U29: =U24+U22+U26 -> 8.5610129 | V29: =V24+V22+V26 -> 9.2160527 | W29: =W24+W22+W26 -> 9.7762468 | X29: =X24+X22+X26 -> 10.329001 | Y29: =Y24+Y22+Y26 -> 10.683323
V30: =V29/U29 -> 1.0765143 | W30: =W29/V29 -> 1.0607846 | X30: =X29/W29 -> 1.0565406 | Y30: =Y29/X29 -> 1.0343036 | AA30: =AVERAGE(V30:Y30) -> 1.0570358
B33: Rate Description | E33: Rate | I33: Rate | L33: Rate | Z33: EB-2021-0110 Settlement Agreement, Attachment 1, Schedule 2.3
AC34: 2027 Revenue Requirement
B35: Network Service Rate | C35: kW | E35: 4.9103 | I35: 5.328 | L35: 5.4708 | M35: =L35*($AA$23) -> 5.7862705 | N35: =M35*($AA$23) -> 6.1199323 | O35: =N35*($AA$23) -> 6.4728346 | P35: =O35*($AA$23) -> 6.8460868 | Q35: =P35*($AA$23) -> 7.2408624
T36: ST Common Line Charge (Monthly $/kW) | U36: 1.5442 | V36: 1.6387 | W36: 1.7262 | X36: 1.8396 | Y36: 1.9332 | AC36: 58751624
B37: Line Connection Service Rate | C37: kW | E37: 0.6537 | I37: 0.6882 | L37: 0.7054 | M37: =L37*($AA$25) -> 0.74504871 | N37: =M37*($AA$25) -> 0.78692597 | O37: =N37*($AA$25) -> 0.83115704 | P37: =O37*($AA$25) -> 0.87787423 | Q37: =P37*($AA$25) -> 0.92721727 | V37: =V36/U36 -> 1.0611967 | W37: =W36/V36 -> 1.053396 | X37: =X36/W36 -> 1.0656934 | Y37: =Y36/X36 -> 1.0508806 | AA37: =AVERAGE(V37:Y37) -> 1.0577917
T38: LVDS Low Rate (Monthly, $/kW) | U38: 1.9296 | V38: 2.0179502 | W38: 2.1045018 | X38: 2.2113122 | Y38: 2.2981439 | AC38: 1573012.3
B39: Transformation Connection Service Rate | C39: kW | E39: 3.3041 | I39: 3.4894 | L39: 3.5764 | M39: =L39*($AA$27) -> 3.777564 | N39: =M39*($AA$27) -> 3.990043 | O39: =N39*($AA$27) -> 4.2144734 | P39: =O39*($AA$27) -> 4.4515275 | Q39: =P39*($AA$27) -> 4.7019153 | V39: =V38/U38 -> 1.0457868 | W39: =W38/V38 -> 1.0428908 | X39: =X38/W38 -> 1.0507533 | Y39: =Y38/X38 -> 1.039267 | AA39: =AVERAGE(V39:Y39) -> 1.0446745
T40: ST Specific Line Rate (Monthly, per kM) | U40: 621.87443 | V40: 652.78978 | W40: 675.59897 | X40: 709.5988 | Y40: 741.6574 | AC40: 1.048634e+09
B41: Both Line and Transformation Connection Service Rate | C41: kW | E41: 3.9578 | H41: 3.0055 | I41: 4.1776 | L41: =L37+L39 -> 4.2818 | M41: =M39+M37 -> 4.5226127 | N41: =N39+N37 -> 4.776969 | O41: =O39+O37 -> 5.0456305 | P41: =P39+P37 -> 5.3294017 | Q41: =Q39+Q37 -> 5.6291326 | V41: =V40/U40 -> 1.0497132 | W41: =W40/V40 -> 1.0349411 | X41: =X40/W40 -> 1.0503255 | Y41: =Y40/X40 -> 1.0451785 | AA41: =AVERAGE(V41:Y41) -> 1.0450396
AA43: =AA37*(AC36/($AC$36+$AC$38+$AC$40))+AA39*(AC38/($AC$36+$AC$38+$AC$40))+AA41*(AC40/($AC$36+$AC$38+$AC$40)) -> 1.0457146
B44: If needed, add extra host here. (I) | C44: Unit | E44: =E29 -> 2024 | I44: =I29 -> 2025 | L44: =L29 -> 2026
B48: Rate Description | E48: Rate | H48: Rate | L48: Rate
B50: Network Service Rate | C50: kW
B52: Line Connection Service Rate | C52: kW
B54: Transformation Connection Service Rate | C54: kW
B56: Both Line and Transformation Connection Service Rate | C56: kW | E56: =E54+E52 -> 0 | H56: =H54+H52 -> 0 | I56: =I54+I52 -> 0 | L56: =L54+L52 -> 0
B59: If needed, add extra host here. (II) | C59: Unit | E59: =E29 -> 2024 | I59: =I29 -> 2025 | L59: =L29 -> 2026
B63: Rate Description | E63: Rate | H63: Rate | L63: Rate
B65: Network Service Rate | C65: kW
B67: Line Connection Service Rate | C67: kW
B69: Transformation Connection Service Rate | C69: kW
B71: Both Line and Transformation Connection Service Rate | C71: kW | E71: =E69+E67 -> 0 | H71: =H69+H67 -> 0 | I71: =J69+J67 -> 0 | L71: =L69+L67 -> 0
E73: ="Historical " &E59 -> Historical 2024 | I73: ="Current " &I59 -> Current 2025 | L73: ="Forecast " &L59 -> Forecast 2026
B74: Low Voltage Switchgear Credit (if applicable, enter as a negative value) | C74: $

Sheet 7. Forecast Wholesale 2026
B13: In the green shaded cells, enter billing detail for wholesale transmission for the same reporting period as the billing determinants on Tab 10. For Hydro One Sub-transmission Rates, if you are charged a combined Line and Transformer connection rate, please ensure that both the Line Connection and Transformation Connection columns are completed. If any of the Hydro One Sub-transmission rates (column E, I and M) are highlighted in red, please double check the billing data entered in "Units Billed" and "Amount" columns. The highlighted rates do not match the Hydro One Sub-transmission rates approved for that time period. If data has been entered correctly, please provide explanation for the discrepancy in rates.
B16: IESO | D16: Network | H16: Line Connection | L16: Transformation Connection | P16: Total Connection
B17: Month | D17: Units Billed | E17: Rate | F17: Amount | H17: Units Billed | I17: Rate | J17: Amount | L17: Units Billed | M17: Rate | N17: Amount | P17: Amount
B19: January | D19: 308424 | E19: ='4. UTRs & Sub-Transmission'!L22 -> 6.39 | F19: =D19*E19 -> 1970829.4 | H19: 159592 | I19: ='4. UTRs & Sub-Transmission'!L24 -> 1.03 | J19: =H19*I19 -> 164379.76 | L19: 328610 | M19: ='4. UTRs & Sub-Transmission'!L26 -> 3.47 | N19: =L19*M19 -> 1140276.7 | P19: =J19+N19 -> 1304656.5
B20: February | D20: 302626 | E20: =E19 -> 6.39 | F20: =D20*E20 -> 1933780.1 | H20: 167617 | I20: =I19 -> 1.03 | J20: =H20*I20 -> 172645.51 | L20: 321529 | M20: =M19 -> 3.47 | N20: =L20*M20 -> 1115705.6 | P20: =J20+N20 -> 1288351.1
B21: March | D21: 297695 | E21: =E20 -> 6.39 | F21: =D21*E21 -> 1902271 | H21: 160283 | I21: =I20 -> 1.03 | J21: =H21*I21 -> 165091.49 | L21: 306176 | M21: =M20 -> 3.47 | N21: =L21*M21 -> 1062430.7 | P21: =J21+N21 -> 1227522.2
B22: April | D22: 289672 | E22: =E21 -> 6.39 | F22: =D22*E22 -> 1851004.1 | H22: 153178 | I22: =I21 -> 1.03 | J22: =H22*I22 -> 157773.34 | L22: 291947 | M22: =M21 -> 3.47 | N22: =L22*M22 -> 1013056.1 | P22: =J22+N22 -> 1170829.4
B23: May | D23: 355733 | E23: =E22 -> 6.39 | F23: =D23*E23 -> 2273133.9 | H23: 204228 | I23: =I22 -> 1.03 | J23: =H23*I23 -> 210354.84 | L23: 366772 | M23: =M22 -> 3.47 | N23: =L23*M23 -> 1272698.8 | P23: =J23+N23 -> 1483053.7
B24: June | D24: 404915 | E24: =E23 -> 6.39 | F24: =D24*E24 -> 2587406.9 | H24: 254753 | I24: =I23 -> 1.03 | J24: =H24*I24 -> 262395.59 | L24: 437872 | M24: =M23 -> 3.47 | N24: =L24*M24 -> 1519415.8 | P24: =J24+N24 -> 1781811.4
B25: July | D25: 442987 | E25: =E24 -> 6.39 | F25: =D25*E25 -> 2830686.9 | H25: 266806 | I25: =I24 -> 1.03 | J25: =H25*I25 -> 274810.18 | L25: 454295 | M25: =M24 -> 3.47 | N25: =L25*M25 -> 1576403.7 | P25: =J25+N25 -> 1851213.8
B26: August | D26: 430747 | E26: =E25 -> 6.39 | F26: =D26*E26 -> 2752473.3 | H26: 258723 | I26: =I25 -> 1.03 | J26: =H26*I26 -> 266484.69 | L26: 447129 | M26: =M25 -> 3.47 | N26: =L26*M26 -> 1551537.6 | P26: =J26+N26 -> 1818022.3
B27: September | D27: 374467 | E27: =E26 -> 6.39 | F27: =D27*E27 -> 2392844.1 | H27: 210910 | I27: =I26 -> 1.03 | J27: =H27*I27 -> 217237.3 | L27: 375465 | M27: =M26 -> 3.47 | N27: =L27*M27 -> 1302863.6 | P27: =J27+N27 -> 1520100.9
B28: October | D28: 306696 | E28: =E27 -> 6.39 | F28: =D28*E28 -> 1959787.4 | H28: 220652 | I28: =I27 -> 1.03 | J28: =H28*I28 -> 227271.56 | L28: 321370 | M28: =M27 -> 3.47 | N28: =L28*M28 -> 1115153.9 | P28: =J28+N28 -> 1342425.5
B29: November | D29: 295211 | E29: =E28 -> 6.39 | F29: =D29*E29 -> 1886398.3 | H29: 167729 | I29: =I28 -> 1.03 | J29: =H29*I29 -> 172760.87 | L29: 276940 | M29: =M28 -> 3.47 | N29: =L29*M29 -> 960981.8 | P29: =J29+N29 -> 1133742.7
B30: December | D30: 321506 | E30: =E29 -> 6.39 | F30: =D30*E30 -> 2054423.3 | H30: 206783 | I30: =I29 -> 1.03 | J30: =H30*I30 -> 212986.49 | L30: 320450 | M30: =M29 -> 3.47 | N30: =L30*M30 -> 1111961.5 | P30: =J30+N30 -> 1324948
B32: Total | D32: =SUM(D19:D30) -> 4130679 | E32: =IF(D32<>0,F32/D32,0) -> 6.39 | F32: =SUM(F19:F30) -> 26395039 | H32: =SUM(H19:H30) -> 2431254 | I32: =IF(H32<>0,J32/H32,0) -> 1.03 | J32: =SUM(J19:J30) -> 2504191.6 | L32: =SUM(L19:L30) -> 4248555 | M32: =IF(L32<>0,N32/L32,0) -> 3.47 | N32: =SUM(N19:N30) -> 14742486 | P32: =SUM(P19:P30) -> 17246677
B34: Hydro One | D34: Network | H34: Line Connection | L34: Transformation Connection | P34: Total Connection
B36: Month | D36: Units Billed | E36: Rate | F36: Amount | H36: Units Billed | I36: Rate | J36: Amount | L36: Units Billed | M36: Rate | N36: Amount | P36: Amount
B38: January | D38: 269999.2 | E38: ='4. UTRs & Sub-Transmission'!L35 -> 5.4708 | F38: =D38*E38 -> 1477111.6 | H38: 245479.04 | I38: ='4. UTRs & Sub-Transmission'!L37 -> 0.7054 | J38: =H38*I38 -> 173160.91 | L38: 284616.3 | M38: ='4. UTRs & Sub-Transmission'!L39 -> 3.5764 | N38: =L38*M38 -> 1017901.7 | P38: =J38+N38 -> 1191062.7
B39: February | D39: 270108.28 | E39: =E38 -> 5.4708 | F39: =D39*E39 -> 1477708.4 | H39: 225108.24 | I39: =I38 -> 0.7054 | J39: =H39*I39 -> 158791.35 | L39: 271582.71 | M39: =M38 -> 3.5764 | N39: =L39*M39 -> 971288.4 | P39: =J39+N39 -> 1130079.8
B40: March | D40: 227284.39 | E40: =E39 -> 5.4708 | F40: =D40*E40 -> 1243427.4 | H40: 193849.5 | I40: =I39 -> 0.7054 | J40: =H40*I40 -> 136741.44 | L40: 231447.66 | M40: =M39 -> 3.5764 | N40: =L40*M40 -> 827749.41 | P40: =J40+N40 -> 964490.85
B41: April | D41: 200007.33 | E41: =E40 -> 5.4708 | F41: =D41*E41 -> 1094200.1 | H41: 176911.54 | I41: =I40 -> 0.7054 | J41: =H41*I41 -> 124793.4 | L41: 204117.15 | M41: =M40 -> 3.5764 | N41: =L41*M41 -> 730004.58 | P41: =J41+N41 -> 854797.98
B42: May | D42: 233673.6 | E42: =E41 -> 5.4708 | F42: =D42*E42 -> 1278381.5 | H42: 194156.34 | I42: =I41 -> 0.7054 | J42: =H42*I42 -> 136957.88 | L42: 235687.96 | M42: =M41 -> 3.5764 | N42: =L42*M42 -> 842914.42 | P42: =J42+N42 -> 979872.3
B43: June | D43: 302498.11 | E43: =E42 -> 5.4708 | F43: =D43*E43 -> 1654906.7 | H43: 263761.53 | I43: =I42 -> 0.7054 | J43: =H43*I43 -> 186057.38 | L43: 305381.54 | M43: =M42 -> 3.5764 | N43: =L43*M43 -> 1092166.5 | P43: =J43+N43 -> 1278223.9
B44: July | D44: 287240.22 | E44: =E43 -> 5.4708 | F44: =D44*E44 -> 1571433.8 | H44: 243992.88 | I44: =I43 -> 0.7054 | J44: =H44*I44 -> 172112.58 | L44: 288077.65 | M44: =M43 -> 3.5764 | N44: =L44*M44 -> 1030280.9 | P44: =J44+N44 -> 1202393.5
B45: August | D45: 314464.29 | E45: =E44 -> 5.4708 | F45: =D45*E45 -> 1720371.2 | H45: 237597.9 | I45: =I44 -> 0.7054 | J45: =H45*I45 -> 167601.56 | L45: 317936.01 | M45: =M44 -> 3.5764 | N45: =L45*M45 -> 1137066.3 | P45: =J45+N45 -> 1304667.9
B46: September | D46: 262240.34 | E46: =E45 -> 5.4708 | F46: =D46*E46 -> 1434664.5 | H46: 204463.52 | I46: =I45 -> 0.7054 | J46: =H46*I46 -> 144228.57 | L46: 263631.85 | M46: =M45 -> 3.5764 | N46: =L46*M46 -> 942852.95 | P46: =J46+N46 -> 1087081.5
B47: October | D47: 220815.19 | E47: =E46 -> 5.4708 | F47: =D47*E47 -> 1208035.7 | H47: 175311.72 | I47: =I46 -> 0.7054 | J47: =H47*I47 -> 123664.89 | L47: 223401.9 | M47: =M46 -> 3.5764 | N47: =L47*M47 -> 798974.56 | P47: =J47+N47 -> 922639.44
B48: November | D48: 240060.15 | E48: =E47 -> 5.4708 | F48: =D48*E48 -> 1313321.1 | H48: 194585.13 | I48: =I47 -> 0.7054 | J48: =H48*I48 -> 137260.35 | L48: 243629.72 | M48: =M47 -> 3.5764 | N48: =L48*M48 -> 871317.33 | P48: =J48+N48 -> 1008577.7
B49: December | D49: 247132.39 | E49: =E48 -> 5.4708 | F49: =D49*E49 -> 1352011.9 | H49: 211220.48 | I49: =I48 -> 0.7054 | J49: =H49*I49 -> 148994.93 | L49: 253175.22 | M49: =M48 -> 3.5764 | N49: =L49*M49 -> 905455.86 | P49: =J49+N49 -> 1054450.8
B51: Total | D51: =SUM(D38:D49) -> 3075523.5 | E51: =IF(D51<>0,F51/D51,0) -> 5.4708 | F51: =SUM(F38:F49) -> 16825574 | H51: =SUM(H38:H49) -> 2566437.8 | I51: =IF(H51<>0,J51/H51,0) -> 0.7054 | J51: =SUM(J38:J49) -> 1810365.2 | L51: =SUM(L38:L49) -> 3122685.7 | M51: =IF(L51<>0,N51/L51,0) -> 3.5764 | N51: =SUM(N38:N49) -> 11167973 | P51: =SUM(P38:P49) -> 12978338
B53: Add Extra Host Here (I) | D53: Network | H53: Line Connection | L53: Transformation Connection | P53: Total Connection
B54: (if needed)
B55: Month | D55: Units Billed | E55: Rate | F55: Amount | H55: Units Billed | I55: Rate | J55: Amount | L55: Units Billed | M55: Rate | N55: Amount | P55: Amount
B57: January | E57: =IF(D57<>0,F57/D57,0) -> 0 | I57: =IF(H57<>0,J57/H57,0) -> 0 | M57: =IF(L57<>0,N57/L57,0) -> 0 | P57: =J57+N57 -> 0
B58: February | E58: =IF(D58<>0,F58/D58,0) -> 0 | I58: =IF(H58<>0,J58/H58,0) -> 0 | M58: =IF(L58<>0,N58/L58,0) -> 0 | P58: =J58+N58 -> 0
B59: March | E59: =IF(D59<>0,F59/D59,0) -> 0 | I59: =IF(H59<>0,J59/H59,0) -> 0 | M59: =IF(L59<>0,N59/L59,0) -> 0 | P59: =J59+N59 -> 0
B60: April | E60: =IF(D60<>0,F60/D60,0) -> 0 | I60: =IF(H60<>0,J60/H60,0) -> 0 | M60: =IF(L60<>0,N60/L60,0) -> 0 | P60: =J60+N60 -> 0
B61: May | E61: =IF(D61<>0,F61/D61,0) -> 0 | I61: =IF(H61<>0,J61/H61,0) -> 0 | M61: =IF(L61<>0,N61/L61,0) -> 0 | P61: =J61+N61 -> 0
B62: June | E62: =IF(D62<>0,F62/D62,0) -> 0 | I62: =IF(H62<>0,J62/H62,0) -> 0 | M62: =IF(L62<>0,N62/L62,0) -> 0 | P62: =J62+N62 -> 0
B63: July | E63: =IF(D63<>0,F63/D63,0) -> 0 | I63: =IF(H63<>0,J63/H63,0) -> 0 | M63: =IF(L63<>0,N63/L63,0) -> 0 | P63: =J63+N63 -> 0
B64: August | E64: =IF(D64<>0,F64/D64,0) -> 0 | I64: =IF(H64<>0,J64/H64,0) -> 0 | M64: =IF(L64<>0,N64/L64,0) -> 0 | P64: =J64+N64 -> 0
B65: September | E65: =IF(D65<>0,F65/D65,0) -> 0 | I65: =IF(H65<>0,J65/H65,0) -> 0 | M65: =IF(L65<>0,N65/L65,0) -> 0 | P65: =J65+N65 -> 0
B66: October | E66: =IF(D66<>0,F66/D66,0) -> 0 | I66: =IF(H66<>0,J66/H66,0) -> 0 | M66: =IF(L66<>0,N66/L66,0) -> 0 | P66: =J66+N66 -> 0
B67: November | E67: =IF(D67<>0,F67/D67,0) -> 0 | I67: =IF(H67<>0,J67/H67,0) -> 0 | M67: =IF(L67<>0,N67/L67,0) -> 0 | P67: =J67+N67 -> 0
B68: December | E68: =IF(D68<>0,F68/D68,0) -> 0 | I68: =IF(H68<>0,J68/H68,0) -> 0 | M68: =IF(L68<>0,N68/L68,0) -> 0 | P68: =J68+N68 -> 0
B70: Total | D70: =SUM(D57:D68) -> 0 | E70: =IF(D70<>0,F70/D70,0) -> 0 | F70: =SUM(F57:F68) -> 0 | H70: =SUM(H57:H68) -> 0 | I70: =IF(H70<>0,J70/H70,0) -> 0 | J70: =SUM(J57:J68) -> 0 | L70: =SUM(L57:L68) -> 0 | M70: =IF(L70<>0,N70/L70,0) -> 0 | N70: =SUM(N57:N68) -> 0 | P70: =SUM(P57:P68) -> 0
B72: Add Extra Host Here (II) | D72: Network | H72: Line Connection | L72: Transformation Connection | P72: Total Connection
B73: (if needed)
B74: Month | D74: Units Billed | E74: Rate | F74: Amount | H74: Units Billed | I74: Rate | J74: Amount | L74: Units Billed | M74: Rate | N74: Amount | P74: Amount
B76: January | E76: =IF(D76<>0,F76/D76,0) -> 0 | I76: =IF(H76<>0,J76/H76,0) -> 0 | M76: =IF(L76<>0,N76/L76,0) -> 0 | P76: =J76+N76 -> 0
B77: February | E77: =IF(D77<>0,F77/D77,0) -> 0 | I77: =IF(H77<>0,J77/H77,0) -> 0 | M77: =IF(L77<>0,N77/L77,0) -> 0 | P77: =J77+N77 -> 0
B78: March | E78: =IF(D78<>0,F78/D78,0) -> 0 | I78: =IF(H78<>0,J78/H78,0) -> 0 | M78: =IF(L78<>0,N78/L78,0) -> 0 | P78: =J78+N78 -> 0
B79: April | E79: =IF(D79<>0,F79/D79,0) -> 0 | I79: =IF(H79<>0,J79/H79,0) -> 0 | M79: =IF(L79<>0,N79/L79,0) -> 0 | P79: =J79+N79 -> 0
B80: May | E80: =IF(D80<>0,F80/D80,0) -> 0 | I80: =IF(H80<>0,J80/H80,0) -> 0 | M80: =IF(L80<>0,N80/L80,0) -> 0 | P80: =J80+N80 -> 0
B81: June | E81: =IF(D81<>0,F81/D81,0) -> 0 | I81: =IF(H81<>0,J81/H81,0) -> 0 | M81: =IF(L81<>0,N81/L81,0) -> 0 | P81: =J81+N81 -> 0
B82: July | E82: =IF(D82<>0,F82/D82,0) -> 0 | I82: =IF(H82<>0,J82/H82,0) -> 0 | M82: =IF(L82<>0,N82/L82,0) -> 0 | P82: =J82+N82 -> 0
B83: August | E83: =IF(D83<>0,F83/D83,0) -> 0 | I83: =IF(H83<>0,J83/H83,0) -> 0 | M83: =IF(L83<>0,N83/L83,0) -> 0 | P83: =J83+N83 -> 0
B84: September | E84: =IF(D84<>0,F84/D84,0) -> 0 | I84: =IF(H84<>0,J84/H84,0) -> 0 | M84: =IF(L84<>0,N84/L84,0) -> 0 | P84: =J84+N84 -> 0
B85: October | E85: =IF(D85<>0,F85/D85,0) -> 0 | I85: =IF(H85<>0,J85/H85,0) -> 0 | M85: =IF(L85<>0,N85/L85,0) -> 0 | P85: =J85+N85 -> 0
B86: November | E86: =IF(D86<>0,F86/D86,0) -> 0 | I86: =IF(H86<>0,J86/H86,0) -> 0 | M86: =IF(L86<>0,N86/L86,0) -> 0 | P86: =J86+N86 -> 0
B87: December | E87: =IF(D87<>0,F87/D87,0) -> 0 | I87: =IF(H87<>0,J87/H87,0) -> 0 | M87: =IF(L87<>0,N87/L87,0) -> 0 | P87: =J87+N87 -> 0
B89: Total | D89: =SUM(D76:D87) -> 0 | E89: =IF(D89<>0,F89/D89,0) -> 0 | F89: =SUM(F76:F87) -> 0 | H89: =SUM(H76:H87) -> 0 | I89: =IF(H89<>0,J89/H89,0) -> 0 | J89: =SUM(J76:J87) -> 0 | L89: =SUM(L76:L87) -> 0 | M89: =IF(L89<>0,N89/L89,0) -> 0 | N89: =SUM(N76:N87) -> 0 | P89: =SUM(P76:P87) -> 0
B91: Total | D91: Network | H91: Line Connection | L91: Transformation Connection | P91: Total Connection
B93: Month | D93: Units Billed | E93: Rate | F93: Amount | H93: Units Billed | I93: Rate | J93: Amount | L93: Units Billed | M93: Rate | N93: Amount | P93: Amount
B95: January | D95: =D19+D38+D57+D76 -> 578423.2 | E95: =IF(D95<>0,F95/D95,0) -> 5.9609313 | F95: =F19+F38+F57+F76 -> 3447941 | H95: =H19+H38+H57+H76 -> 405071.04 | I95: =IF(H95<>0,J95/H95,0) -> 0.8332876 | J95: =J19+J38+J57+J76 -> 337540.67 | L95: =L19+L38+L57+L76 -> 613226.3 | M95: =IF(L95<>0,N95/L95,0) -> 3.5193834 | N95: =N19+N38+N57+N76 -> 2158178.4 | P95: =J95+N95 -> 2495719.1
B96: February | D96: =D20+D39+D58+D77 -> 572734.28 | E96: =IF(D96<>0,F96/D96,0) -> 5.9564944 | F96: =F20+F39+F58+F77 -> 3411488.5 | H96: =H20+H39+H58+H77 -> 392725.24 | I96: =IF(H96<>0,J96/H96,0) -> 0.84394082 | J96: =J20+J39+J58+J77 -> 331436.86 | L96: =L20+L39+L58+L77 -> 593111.71 | M96: =IF(L96<>0,N96/L96,0) -> 3.51872 | N96: =N20+N39+N58+N77 -> 2086994 | P96: =J96+N96 -> 2418430.9
B97: March | D97: =D21+D40+D59+D78 -> 524979.39 | E97: =IF(D97<>0,F97/D97,0) -> 5.9920419 | F97: =F21+F40+F59+F78 -> 3145698.5 | H97: =H21+H40+H59+H78 -> 354132.5 | I97: =IF(H97<>0,J97/H97,0) -> 0.85231637 | J97: =J21+J40+J59+J78 -> 301832.93 | L97: =L21+L40+L59+L78 -> 537623.66 | M97: =IF(L97<>0,N97/L97,0) -> 3.5158053 | N97: =N21+N40+N59+N78 -> 1890180.1 | P97: =J97+N97 -> 2192013.1
B98: April | D98: =D22+D41+D60+D79 -> 489679.33 | E98: =IF(D98<>0,F98/D98,0) -> 6.0145569 | F98: =F22+F41+F60+F79 -> 2945204.2 | H98: =H22+H41+H60+H79 -> 330089.54 | I98: =IF(H98<>0,J98/H98,0) -> 0.85603058 | J98: =J22+J41+J60+J79 -> 282566.74 | L98: =L22+L41+L60+L79 -> 496064.15 | M98: =IF(L98<>0,N98/L98,0) -> 3.5137808 | N98: =N22+N41+N60+N79 -> 1743060.7 | P98: =J98+N98 -> 2025627.4
B99: May | D99: =D23+D42+D61+D80 -> 589406.6 | E99: =IF(D99<>0,F99/D99,0) -> 6.0255779 | F99: =F23+F42+F61+F80 -> 3551515.4 | H99: =H23+H42+H61+H80 -> 398384.34 | I99: =IF(H99<>0,J99/H99,0) -> 0.87180315 | J99: =J23+J42+J61+J80 -> 347312.72 | L99: =L23+L42+L61+L80 -> 602459.96 | M99: =IF(L99<>0,N99/L99,0) -> 3.5116247 | N99: =N23+N42+N61+N80 -> 2115613.3 | P99: =J99+N99 -> 2462926
B100: June | D100: =D24+D43+D62+D81 -> 707413.11 | E100: =IF(D100<>0,F100/D100,0) -> 5.9969393 | F100: =F24+F43+F62+F81 -> 4242313.5 | H100: =H24+H43+H62+H81 -> 518514.53 | I100: =IF(H100<>0,J100/H100,0) -> 0.86488024 | J100: =J24+J43+J62+J81 -> 448452.97 | L100: =L24+L43+L62+L81 -> 743253.54 | M100: =IF(L100<>0,N100/L100,0) -> 3.5137167 | N100: =N24+N43+N62+N81 -> 2611582.4 | P100: =J100+N100 -> 3060035.4
B101: July | D101: =D25+D44+D63+D82 -> 730227.22 | E101: =IF(D101<>0,F101/D101,0) -> 6.028426 | F101: =F25+F44+F63+F82 -> 4402120.7 | H101: =H25+H44+H63+H82 -> 510798.88 | I101: =IF(H101<>0,J101/H101,0) -> 0.87494859 | J101: =J25+J44+J63+J82 -> 446922.76 | L101: =L25+L44+L63+L82 -> 742372.65 | M101: =IF(L101<>0,N101/L101,0) -> 3.5112885 | N101: =N25+N44+N63+N82 -> 2606684.6 | P101: =J101+N101 -> 3053607.3
B102: August | D102: =D26+D45+D64+D83 -> 745211.29 | E102: =IF(D102<>0,F102/D102,0) -> 6.0021159 | F102: =F26+F45+F64+F83 -> 4472844.6 | H102: =H26+H45+H64+H83 -> 496320.9 | I102: =IF(H102<>0,J102/H102,0) -> 0.87460804 | J102: =J26+J45+J64+J83 -> 434086.25 | L102: =L26+L45+L64+L83 -> 765065.01 | M102: =IF(L102<>0,N102/L102,0) -> 3.5142164 | N102: =N26+N45+N64+N83 -> 2688604 | P102: =J102+N102 -> 3122690.2
B103: September | D103: =D27+D46+D65+D84 -> 636707.34 | E103: =IF(D103<>0,F103/D103,0) -> 6.0114095 | F103: =F27+F46+F65+F84 -> 3827508.6 | H103: =H27+H46+H65+H84 -> 415373.52 | I103: =IF(H103<>0,J103/H103,0) -> 0.87021885 | J103: =J27+J46+J65+J84 -> 361465.87 | L103: =L27+L46+L65+L84 -> 639096.85 | M103: =IF(L103<>0,N103/L103,0) -> 3.5138907 | N103: =N27+N46+N65+N84 -> 2245716.5 | P103: =J103+N103 -> 2607182.4
B104: October | D104: =D28+D47+D66+D85 -> 527511.19 | E104: =IF(D104<>0,F104/D104,0) -> 6.0052246 | F104: =F28+F47+F66+F85 -> 3167823.2 | H104: =H28+H47+H66+H85 -> 395963.72 | I104: =IF(H104<>0,J104/H104,0) -> 0.88628435 | J104: =J28+J47+J66+J85 -> 350936.45 | L104: =L28+L47+L66+L85 -> 544771.9 | M104: =IF(L104<>0,N104/L104,0) -> 3.5136329 | N104: =N28+N47+N66+N85 -> 1914128.5 | P104: =J104+N104 -> 2265064.9
B105: November | D105: =D29+D48+D67+D86 -> 535271.15 | E105: =IF(D105<>0,F105/D105,0) -> 5.9777542 | F105: =F29+F48+F67+F86 -> 3199719.4 | H105: =H29+H48+H67+H86 -> 362314.13 | I105: =IF(H105<>0,J105/H105,0) -> 0.85566969 | J105: =J29+J48+J67+J86 -> 310021.22 | L105: =L29+L48+L67+L86 -> 520569.72 | M105: =IF(L105<>0,N105/L105,0) -> 3.5197958 | N105: =N29+N48+N67+N86 -> 1832299.1 | P105: =J105+N105 -> 2142320.4
B106: December | D106: =D30+D49+D68+D87 -> 568638.39 | E106: =IF(D106<>0,F106/D106,0) -> 5.9905122 | F106: =F30+F49+F68+F87 -> 3406435.2 | H106: =H30+H49+H68+H87 -> 418003.48 | I106: =IF(H106<>0,J106/H106,0) -> 0.86597704 | J106: =J30+J49+J68+J87 -> 361981.42 | L106: =L30+L49+L68+L87 -> 573625.22 | M106: =IF(L106<>0,N106/L106,0) -> 3.5169607 | N106: =N30+N49+N68+N87 -> 2017417.4 | P106: =J106+N106 -> 2379398.8
B108: Total | D108: =SUM(D95:D106) -> 7206202.5 | E108: =IF(D108<>0,F108/D108,0) -> 5.9976961 | F108: =SUM(F95:F106) -> 43220613 | H108: =SUM(H95:H106) -> 4997691.8 | I108: =IF(H108<>0,J108/H108,0) -> 0.86330991 | J108: =SUM(J95:J106) -> 4314556.9 | L108: =SUM(L95:L106) -> 7371240.7 | M108: =IF(L108<>0,N108/L108,0) -> 3.5150743 | N108: =SUM(N95:N106) -> 25910459 | P108: =SUM(P95:P106) -> 30225016
N110: Low Voltage Switchgear Credit (if applicable) | P110: 0
N112: Total including deduction for Low Voltage Switchgear Credit | P112: =P108+P110 -> 30225016

Sheet 7. Forecast Wholesale 2027
B13: The purpose of this sheet is to calculate the expected billing when current 2025 Uniform Transmission Rates are applied against historical 2024 transmission units.
B16: IESO | D16: Network | H16: Line Connection | L16: Transformation Connection | P16: Total Connection
B18: Month | D18: Units Billed | E18: Rate | F18: Amount | H18: Units Billed | I18: Rate | J18: Amount | L18: Units Billed | M18: Rate | N18: Amount | P18: Amount
B20: January | D20: 322124.82 | E20: ='4. UTRs & Sub-Transmission'!M22 -> 6.7584756 | F20: =D20*E20 -> 2177072.7 | H20: 166681.4 | I20: ='4. UTRs & Sub-Transmission'!M24 -> 1.0878936 | J20: =H20*I20 -> 181331.63 | L20: 343207.52 | M20: ='4. UTRs & Sub-Transmission'!M26 -> 3.6651792 | N20: =L20*M20 -> 1257917.1 | P20: =J20+N20 -> 1439248.7
B21: February | D21: 316069.26 | E21: =E20 -> 6.7584756 | F21: =D21*E21 -> 2136146.4 | H21: 175062.89 | I21: =I20 -> 1.0878936 | J21: =H21*I21 -> 190449.8 | L21: 335811.97 | M21: =M20 -> 3.6651792 | N21: =L21*M21 -> 1230811.1 | P21: =J21+N21 -> 1421260.9
B22: March | D22: 310919.22 | E22: =E21 -> 6.7584756 | F22: =D22*E22 -> 2101339.9 | H22: 167403.1 | I22: =I21 -> 1.0878936 | J22: =H22*I22 -> 182116.76 | L22: 319776.96 | M22: =M21 -> 3.6651792 | N22: =L22*M22 -> 1172039.9 | P22: =J22+N22 -> 1354156.6
B23: April | D23: 302539.82 | E23: =E22 -> 6.7584756 | F23: =D23*E23 -> 2044708 | H23: 159982.48 | I23: =I22 -> 1.0878936 | J23: =H23*I23 -> 174043.92 | L23: 304915.88 | M23: =M22 -> 3.6651792 | N23: =L23*M23 -> 1117571.3 | P23: =J23+N23 -> 1291615.3
B24: May | D24: 371535.38 | E24: =E23 -> 6.7584756 | F24: =D24*E24 -> 2511012.8 | H24: 213300.22 | I24: =I23 -> 1.0878936 | J24: =H24*I24 -> 232047.95 | L24: 383064.76 | M24: =M23 -> 3.6651792 | N24: =L24*M24 -> 1404001 | P24: =J24+N24 -> 1636048.9
B25: June | D25: 422902.15 | E25: =E24 -> 6.7584756 | F25: =D25*E25 -> 2858173.8 | H25: 266069.64 | I25: =I24 -> 1.0878936 | J25: =H25*I25 -> 289455.47 | L25: 457323.16 | M25: =M24 -> 3.6651792 | N25: =L25*M25 -> 1676171.4 | P25: =J25+N25 -> 1965626.8
B26: July | D26: 462665.38 | E26: =E25 -> 6.7584756 | F26: =D26*E26 -> 3126912.7 | H26: 278658.06 | I26: =I25 -> 1.0878936 | J26: =H26*I26 -> 303150.33 | L26: 474475.71 | M26: =M25 -> 3.6651792 | N26: =L26*M26 -> 1739038.5 | P26: =J26+N26 -> 2042188.8
B27: August | D27: 449881.66 | E27: =E26 -> 6.7584756 | F27: =D27*E27 -> 3040514.2 | H27: 270216 | I27: =I26 -> 1.0878936 | J27: =H27*I27 -> 293966.27 | L27: 466991.38 | M27: =M26 -> 3.6651792 | N27: =L27*M27 -> 1711607.1 | P27: =J27+N27 -> 2005573.4
B28: September | D28: 391101.58 | E28: =E27 -> 6.7584756 | F28: =D28*E28 -> 2643250.5 | H28: 220279.05 | I28: =I27 -> 1.0878936 | J28: =H28*I28 -> 239640.18 | L28: 392143.92 | M28: =M27 -> 3.6651792 | N28: =L28*M28 -> 1437277.7 | P28: =J28+N28 -> 1676917.9
B29: October | D29: 320320.06 | E29: =E28 -> 6.7584756 | F29: =D29*E29 -> 2164875.3 | H29: 230453.81 | I29: =I28 -> 1.0878936 | J29: =H29*I29 -> 250709.23 | L29: 335645.91 | M29: =M28 -> 3.6651792 | N29: =L29*M29 -> 1230202.4 | P29: =J29+N29 -> 1480911.6
B30: November | D30: 308324.87 | E30: =E29 -> 6.7584756 | F30: =D30*E30 -> 2083806.1 | H30: 175179.86 | I30: =I29 -> 1.0878936 | J30: =H30*I30 -> 190577.06 | L30: 289242.24 | M30: =M29 -> 3.6651792 | N30: =L30*M30 -> 1060124.6 | P30: =J30+N30 -> 1250701.7
B31: December | D31: 335787.95 | E31: =E30 -> 6.7584756 | F31: =D31*E31 -> 2269414.7 | H31: 215968.72 | I31: =I30 -> 1.0878936 | J31: =H31*I31 -> 234951 | L31: 334685.04 | M31: =M30 -> 3.6651792 | N31: =L31*M31 -> 1226680.7 | P31: =J31+N31 -> 1461631.7
B33: Total | D33: =SUM(D20:D31) -> 4314172.1 | E33: =IF(D33<>0,F33/D33,0) -> 6.7584756 | F33: =SUM(F20:F31) -> 29157227 | H33: =SUM(H20:H31) -> 2539255.2 | I33: =IF(H33<>0,J33/H33,0) -> 1.0878936 | J33: =SUM(J20:J31) -> 2762439.6 | L33: =SUM(L20:L31) -> 4437284.4 | M33: =IF(L33<>0,N33/L33,0) -> 3.6651792 | N33: =SUM(N20:N31) -> 16263443 | P33: =SUM(P20:P31) -> 19025882
B35: Hydro One | D35: Network | H35: Line Connection | L35: Transformation Connection | P35: Total Connection
B37: Month | D37: Units Billed | E37: Rate | F37: Amount | H37: Units Billed | I37: Rate | J37: Amount | L37: Units Billed | M37: Rate | N37: Amount | P37: Amount
B39: January | D39: 281993.11 | E39: ='4. UTRs & Sub-Transmission'!M35 -> 5.7862705 | F39: =D39*E39 -> 1631688.4 | H39: 256383.72 | I39: ='4. UTRs & Sub-Transmission'!M37 -> 0.74504871 | J39: =H39*I39 -> 191018.36 | L39: 297259.53 | M39: ='4. UTRs & Sub-Transmission'!M39 -> 3.777564 | N39: =L39*M39 -> 1122916.9 | P39: =J39+N39 -> 1313935.3
B40: February | D40: 282107.04 | E40: =E39 -> 5.7862705 | F40: =D40*E40 -> 1632347.6 | H40: 235108 | I40: =I39 -> 0.74504871 | J40: =H40*I40 -> 175166.92 | L40: 283646.96 | M40: =M39 -> 3.777564 | N40: =L40*M40 -> 1071494.6 | P40: =J40+N40 -> 1246661.5
B41: March | D41: 237380.82 | E41: =E40 -> 5.7862705 | F41: =D41*E41 -> 1373549.6 | H41: 202460.69 | I41: =I40 -> 0.74504871 | J41: =H41*I41 -> 150843.07 | L41: 241729.03 | M41: =M40 -> 3.777564 | N41: =L41*M41 -> 913146.9 | P41: =J41+N41 -> 1063990
B42: April | D42: 208892.06 | E42: =E41 -> 5.7862705 | F42: =D42*E42 -> 1208706 | H42: 184770.31 | I42: =I41 -> 0.74504871 | J42: =H42*I42 -> 137662.88 | L42: 213184.45 | M42: =M41 -> 3.777564 | N42: =L42*M42 -> 805317.89 | P42: =J42+N42 -> 942980.77
B43: May | D43: 244053.86 | E43: =E42 -> 5.7862705 | F43: =D43*E43 -> 1412161.6 | H43: 202781.16 | I43: =I42 -> 0.74504871 | J43: =H43*I43 -> 151081.84 | L43: 246157.7 | M43: =M42 -> 3.777564 | N43: =L43*M43 -> 929876.45 | P43: =J43+N43 -> 1080958.3
B44: June | D44: 315935.69 | E44: =E43 -> 5.7862705 | F44: =D44*E44 -> 1828089.3 | H44: 275478.35 | I44: =I43 -> 0.74504871 | J44: =H44*I44 -> 205244.79 | L44: 318947.21 | M44: =M43 -> 3.777564 | N44: =L44*M44 -> 1204843.5 | P44: =J44+N44 -> 1410088.3
B45: July | D45: 300000.01 | E45: =E44 -> 5.7862705 | F45: =D45*E45 -> 1735881.2 | H45: 254831.54 | I45: =I44 -> 0.74504871 | J45: =H45*I45 -> 189861.91 | L45: 300874.64 | M45: =M44 -> 3.777564 | N45: =L45*M45 -> 1136573.2 | P45: =J45+N45 -> 1326435.1
B46: August | D46: 328433.43 | E46: =E45 -> 5.7862705 | F46: =D46*E46 -> 1900404.7 | H46: 248152.48 | I46: =I45 -> 0.74504871 | J46: =H46*I46 -> 184885.69 | L46: 332059.37 | M46: =M45 -> 3.777564 | N46: =L46*M46 -> 1254375.5 | P46: =J46+N46 -> 1439261.2
B47: September | D47: 273889.59 | E47: =E46 -> 5.7862705 | F47: =D47*E47 -> 1584799.2 | H47: 213546.2 | I47: =I46 -> 0.74504871 | J47: =H47*I47 -> 159102.32 | L47: 275342.91 | M47: =M46 -> 3.777564 | N47: =L47*M47 -> 1040125.5 | P47: =J47+N47 -> 1199227.8
B48: October | D48: 230624.25 | E48: =E47 -> 5.7862705 | F48: =D48*E48 -> 1334454.3 | H48: 183099.42 | I48: =I47 -> 0.74504871 | J48: =H48*I48 -> 136417.99 | L48: 233325.87 | M48: =M47 -> 3.777564 | N48: =L48*M48 -> 881403.39 | P48: =J48+N48 -> 1017821.4
B49: November | D49: 250724.11 | E49: =E48 -> 5.7862705 | F49: =D49*E49 -> 1450757.5 | H49: 203229 | I49: =I48 -> 0.74504871 | J49: =H49*I49 -> 151415.5 | L49: 254452.25 | M49: =M48 -> 3.777564 | N49: =L49*M49 -> 961209.64 | P49: =J49+N49 -> 1112625.1
B50: December | D50: 258110.51 | E50: =E49 -> 5.7862705 | F50: =D50*E50 -> 1493497.2 | H50: 220603.32 | I50: =I49 -> 0.74504871 | J50: =H50*I50 -> 164360.22 | L50: 264421.78 | M50: =M49 -> 3.777564 | N50: =L50*M50 -> 998870.18 | P50: =J50+N50 -> 1163230.4
B52: Total | D52: =SUM(D39:D50) -> 3212144.5 | E52: =IF(D52<>0,F52/D52,0) -> 5.7862705 | F52: =SUM(F39:F50) -> 18586337 | H52: =SUM(H39:H50) -> 2680444.2 | I52: =IF(H52<>0,J52/H52,0) -> 0.74504871 | J52: =SUM(J39:J50) -> 1997061.5 | L52: =SUM(L39:L50) -> 3261401.7 | M52: =IF(L52<>0,N52/L52,0) -> 3.777564 | N52: =SUM(N39:N50) -> 12320154 | P52: =SUM(P39:P50) -> 14317215
B54: =#REF! -> #REF! | D54: Network | H54: Line Connection | L54: Transformation Connection | P54: Total Connection
B56: Month | D56: Units Billed | E56: Rate | F56: Amount | H56: Units Billed | I56: Rate | J56: Amount | L56: Units Billed | M56: Rate | N56: Amount | P56: Amount
B58: January
B59: February
B60: March
B61: April
B62: May
B63: June
B64: July
B65: August
B66: September
B67: October
B68: November
B69: December
B71: Total | D71: =SUM(D58:D69) -> 0 | E71: =IF(D71<>0,F71/D71,0) -> 0 | F71: =SUM(F58:F69) -> 0 | H71: =SUM(H58:H69) -> 0 | I71: =IF(H71<>0,J71/H71,0) -> 0 | J71: =SUM(J58:J69) -> 0 | L71: =SUM(L58:L69) -> 0 | M71: =IF(L71<>0,N71/L71,0) -> 0 | N71: =SUM(N58:N69) -> 0 | P71: =SUM(P58:P69) -> 0
B73: =#REF! -> #REF! | D73: Network | H73: Line Connection | L73: Transformation Connection | P73: Total Connection
B75: Month | D75: Units Billed | E75: Rate | F75: Amount | H75: Units Billed | I75: Rate | J75: Amount | L75: Units Billed | M75: Rate | N75: Amount | P75: Amount
B77: January
B78: February
B79: March
B80: April
B81: May
B82: June
B83: July
B84: August
B85: September
B86: October
B87: November
B88: December
B90: Total | D90: =SUM(D77:D88) -> 0 | E90: =IF(D90<>0,F90/D90,0) -> 0 | F90: =SUM(F77:F88) -> 0 | H90: =SUM(H77:H88) -> 0 | I90: =IF(H90<>0,J90/H90,0) -> 0 | J90: =SUM(J77:J88) -> 0 | L90: =SUM(L77:L88) -> 0 | M90: =IF(L90<>0,N90/L90,0) -> 0 | N90: =SUM(N77:N88) -> 0 | P90: =SUM(P77:P88) -> 0
B92: Total | D92: Network | H92: Line Connection | L92: Transformation Connection | P92: Total Connection
B94: Month | D94: Units Billed | E94: Rate | F94: Amount | H94: Units Billed | I94: Rate | J94: Amount | L94: Units Billed | M94: Rate | N94: Amount | P94: Amount
B96: January | D96: =D20+D39+D58+D77 -> 604117.93 | E96: =IF(D96<>0,F96/D96,0) -> 6.3046649 | F96: =F20+F39+F58+F77 -> 3808761.1 | H96: =H20+H39+H58+H77 -> 423065.12 | I96: =IF(H96<>0,J96/H96,0) -> 0.88012454 | J96: =J20+J39+J58+J77 -> 372349.99 | L96: =L20+L39+L58+L77 -> 640467.06 | M96: =IF(L96<>0,N96/L96,0) -> 3.7173403 | N96: =N20+N39+N58+N77 -> 2380834 | P96: =J96+N96 -> 2753184
B97: February | D97: =D21+D40+D59+D78 -> 598176.3 | E97: =IF(D97<>0,F97/D97,0) -> 6.2999721 | F97: =F21+F40+F59+F78 -> 3768494 | H97: =H21+H40+H59+H78 -> 410170.89 | I97: =IF(H97<>0,J97/H97,0) -> 0.89137655 | J97: =J21+J40+J59+J78 -> 365616.72 | L97: =L21+L40+L59+L78 -> 619458.94 | M97: =IF(L97<>0,N97/L97,0) -> 3.7166396 | N97: =N21+N40+N59+N78 -> 2302305.6 | P97: =J97+N97 -> 2667922.3
B98: March | D98: =D22+D41+D60+D79 -> 548300.04 | E98: =IF(D98<>0,F98/D98,0) -> 6.3375694 | F98: =F22+F41+F60+F79 -> 3474889.6 | H98: =H22+H41+H60+H79 -> 369863.78 | I98: =IF(H98<>0,J98/H98,0) -> 0.90022287 | J98: =J22+J41+J60+J79 -> 332959.84 | L98: =L22+L41+L60+L79 -> 561505.99 | M98: =IF(L98<>0,N98/L98,0) -> 3.713561 | N98: =N22+N41+N60+N79 -> 2085186.8 | P98: =J98+N98 -> 2418146.6
B99: April | D99: =D23+D42+D61+D80 -> 511431.88 | E99: =IF(D99<>0,F99/D99,0) -> 6.3613828 | F99: =F23+F42+F61+F80 -> 3253413.9 | H99: =H23+H42+H61+H80 -> 344752.79 | I99: =IF(H99<>0,J99/H99,0) -> 0.90414584 | J99: =J23+J42+J61+J80 -> 311706.8 | L99: =L23+L42+L61+L80 -> 518100.33 | M99: =IF(L99<>0,N99/L99,0) -> 3.7114226 | N99: =N23+N42+N61+N80 -> 1922889.2 | P99: =J99+N99 -> 2234596
B100: May | D100: =D24+D43+D62+D81 -> 615589.24 | E100: =IF(D100<>0,F100/D100,0) -> 6.3730393 | F100: =F24+F43+F62+F81 -> 3923174.4 | H100: =H24+H43+H62+H81 -> 416081.38 | I100: =IF(H100<>0,J100/H100,0) -> 0.92080495 | J100: =J24+J43+J62+J81 -> 383129.79 | L100: =L24+L43+L62+L81 -> 629222.45 | M100: =IF(L100<>0,N100/L100,0) -> 3.7091452 | N100: =N24+N43+N62+N81 -> 2333877.4 | P100: =J100+N100 -> 2717007.2
B101: June | D101: =D25+D44+D63+D82 -> 738837.84 | E101: =IF(D101<>0,F101/D101,0) -> 6.3427493 | F101: =F25+F44+F63+F82 -> 4686263.2 | H101: =H25+H44+H63+H82 -> 541548 | I101: =IF(H101<>0,J101/H101,0) -> 0.91349292 | J101: =J25+J44+J63+J82 -> 494700.26 | L101: =L25+L44+L63+L82 -> 776270.37 | M101: =IF(L101<>0,N101/L101,0) -> 3.7113549 | N101: =N25+N44+N63+N82 -> 2881014.8 | P101: =J101+N101 -> 3375715.1
B102: July | D102: =D26+D45+D64+D83 -> 762665.39 | E102: =IF(D102<>0,F102/D102,0) -> 6.3760516 | F102: =F26+F45+F64+F83 -> 4862793.9 | H102: =H26+H45+H64+H83 -> 533489.6 | I102: =IF(H102<>0,J102/H102,0) -> 0.92412718 | J102: =J26+J45+J64+J83 -> 493012.24 | L102: =L26+L45+L64+L83 -> 775350.35 | M102: =IF(L102<>0,N102/L102,0) -> 3.7087901 | N102: =N26+N45+N64+N83 -> 2875611.7 | P102: =J102+N102 -> 3368624
B103: August | D103: =D27+D46+D65+D84 -> 778315.09 | E103: =IF(D103<>0,F103/D103,0) -> 6.3482244 | F103: =F27+F46+F65+F84 -> 4940918.8 | H103: =H27+H46+H65+H84 -> 518368.48 | I103: =IF(H103<>0,J103/H103,0) -> 0.92376749 | J103: =J27+J46+J65+J84 -> 478851.95 | L103: =L27+L46+L65+L84 -> 799050.75 | M103: =IF(L103<>0,N103/L103,0) -> 3.7118827 | N103: =N27+N46+N65+N84 -> 2965982.6 | P103: =J103+N103 -> 3444834.6
B104: September | D104: =D28+D47+D66+D85 -> 664991.17 | E104: =IF(D104<>0,F104/D104,0) -> 6.3580539 | F104: =F28+F47+F66+F85 -> 4228049.7 | H104: =H28+H47+H66+H85 -> 433825.25 | I104: =IF(H104<>0,J104/H104,0) -> 0.9191316 | J104: =J28+J47+J66+J85 -> 398742.5 | L104: =L28+L47+L66+L85 -> 667486.83 | M104: =IF(L104<>0,N104/L104,0) -> 3.7115387 | N104: =N28+N47+N66+N85 -> 2477403.2 | P104: =J104+N104 -> 2876145.7
B105: October | D105: =D29+D48+D67+D86 -> 550944.31 | E105: =IF(D105<>0,F105/D105,0) -> 6.3515124 | F105: =F29+F48+F67+F86 -> 3499329.6 | H105: =H29+H48+H67+H86 -> 413553.23 | I105: =IF(H105<>0,J105/H105,0) -> 0.9361001 | J105: =J29+J48+J67+J86 -> 387127.22 | L105: =L29+L48+L67+L86 -> 568971.77 | M105: =IF(L105<>0,N105/L105,0) -> 3.7112664 | N105: =N29+N48+N67+N86 -> 2111605.8 | P105: =J105+N105 -> 2498733
B106: November | D106: =D30+D49+D68+D87 -> 559048.98 | E106: =IF(D106<>0,F106/D106,0) -> 6.3224579 | F106: =F30+F49+F68+F87 -> 3534563.6 | H106: =H30+H49+H68+H87 -> 378408.86 | I106: =IF(H106<>0,J106/H106,0) -> 0.90376467 | J106: =J30+J49+J68+J87 -> 341992.56 | L106: =L30+L49+L68+L87 -> 543694.48 | M106: =IF(L106<>0,N106/L106,0) -> 3.717776 | N106: =N30+N49+N68+N87 -> 2021334.3 | P106: =J106+N106 -> 2363326.8
B107: December | D107: =D31+D50+D69+D88 -> 593898.46 | E107: =IF(D107<>0,F107/D107,0) -> 6.3359516 | F107: =F31+F50+F69+F88 -> 3762911.9 | H107: =H31+H50+H69+H88 -> 436572.04 | I107: =IF(H107<>0,J107/H107,0) -> 0.91465137 | J107: =J31+J50+J69+J88 -> 399311.22 | L107: =L31+L50+L69+L88 -> 599106.82 | M107: =IF(L107<>0,N107/L107,0) -> 3.7147814 | N107: =N31+N50+N69+N88 -> 2225550.8 | P107: =J107+N107 -> 2624862.1
B109: Total | D109: =SUM(D96:D107) -> 7526316.6 | E109: =IF(D109<>0,F109/D109,0) -> 6.3435497 | F109: =SUM(F96:F107) -> 47743564 | H109: =SUM(H96:H107) -> 5219699.4 | I109: =IF(H109<>0,J109/H109,0) -> 0.91183432 | J109: =SUM(J96:J107) -> 4759501.1 | L109: =SUM(L96:L107) -> 7698686.1 | M109: =IF(L109<>0,N109/L109,0) -> 3.7127889 | N109: =SUM(N96:N107) -> 28583596 | P109: =SUM(P96:P107) -> 33343098
N111: Low Voltage Switchgear Credit (if applicable) | P111: =#REF! -> #REF!
N113: Total including deduction for Low Voltage Switchgear Credit | P113: =P109+P111 -> #REF!

Sheet 8. RTSR Rates to Forecast 2027
A13: The purpose of this table is to re-align the current RTS Network Rates to recover current wholesale network costs. | C13: By Rate Zone | I13: Elexicon
A15: Rate Class | B15: Rate Description | C15: Unit | D15: Current RTSR-Network | E15: Loss Adjusted Billed kWh | F15: Billed kW | G15: Billed Amount | H15: Billed Amount % | I15: Current Wholesale Billing | J15: Adjusted RTSR Network | K15: Harmonized % | L15: Total kWh | M15: Total kW
A16: Veridian Rate Zone
A17: Residential Service Classification | B17: Retail Transmission Rate - Network Service Rate | C17: $/kWh | D17: ='3. RRR Data 2027'!D17 -> 0.0117 | E17: ='3. RRR Data 2027'!H17 -> 1.1206796e+09 | F17: ='3. RRR Data 2027'!F17 -> 0 | G17: =IF(D17*E17=0,ROUND(D17*F17,2),ROUND(D17*E17,2)) -> 13111952 | H17: =G17/$G$38 -> 0.27715617 | I17: =K17*$I$38 -> 19017395 | J17: =IF(I17*L17=0,ROUND(I17/M17,4),ROUND(I17/L17,4)) -> 0.0122 | K17: =H17+H29 -> 0.39832375 | L17: =E17+E29 -> 1.5582601e+09 | M17: =F17+F29 -> 0
A18: Seasonal Residential Service Classification | B18: Retail Transmission Rate - Network Service Rate | C18: $/kWh | D18: ='3. RRR Data 2027'!D19 -> 0.0122 | E18: ='3. RRR Data 2027'!H19 -> 13681705 | F18: ='3. RRR Data 2027'!F19 -> 0 | G18: =IF(D18*E18=0,ROUND(D18*F18,2),ROUND(D18*E18,2)) -> 166916.8 | H18: =G18/$G$38 -> 0.0035282331 | I18: =K18*$I$38 -> 168450.42 | J18: =IF(I18*L18=0,ROUND(I18/M18,4),ROUND(I18/L18,4)) -> 0.0123 | K18: =H18 -> 0.0035282331 | L18: =E18 -> 13681705 | M18: =F18 -> 0
A19: General Service Less Than 50 kW Service Classification | B19: Retail Transmission Rate - Network Service Rate | C19: $/kWh | D19: ='3. RRR Data 2027'!D21 -> 0.0107 | E19: ='3. RRR Data 2027'!H21 -> 2.7966733e+08 | F19: ='3. RRR Data 2027'!F21 -> 0 | G19: =IF(D19*E19=0,ROUND(D19*F19,2),ROUND(D19*E19,2)) -> 2992440.5 | H19: =G19/$G$38 -> 0.063253234 | I19: =K19*$I$38 -> 4107840.5 | J19: =IF(I19*L19=0,ROUND(I19/M19,4),ROUND(I19/L19,4)) -> 0.0111 | K19: =H19+H30 -> 0.086039671 | L19: =E19+E30 -> 3.6950076e+08 | M19: =F19+F30 -> 0
A20: General Service 50 To 2,999 kW Service Classification | B20: Retail Transmission Rate - Network Service Rate | C20: $/kW | D20: ='3. RRR Data 2027'!D23 -> 5.2131 | F20: ='3. RRR Data 2027'!F23 -> 2362640.2 | G20: =IF(D20*E20=0,ROUND(D20*F20,2),ROUND(D20*E20,2)) -> 12316680 | H20: =G20/$G$38 -> 0.26034597 | I20: =K20*$I$38 -> 16609426 | J20: =IF(I20*L20=0,ROUND(I20/M20,4),ROUND(I20/L20,4)) -> 5.1323 | K20: =H20+H31 -> 0.34788828 | L20: =E20+E31 -> 0 | M20: =F20+F31 -> 3236251.6
A21: General Service 50 To 2,999 kW Service Classification | B21: Retail Transmission Rate - Network Service Rate - EV CHARGING | C21: $/kW | D21: ='3. RRR Data 2027'!D25 -> 0.886227 | F21: ='3. RRR Data 2027'!F25 -> 15376.162 | G21: =IF(D21*E21=0,ROUND(D21*F21,2),ROUND(D21*E21,2)) -> 13626.77 | H21: =G21/$G$38 -> 0.00028803824 | I21: =K21*$I$38 -> 17523.348 | J21: =IF(I21*L21=0,ROUND(I21/M21,4),ROUND(I21/L21,4)) -> 0.8756 | K21: =H21+H32 -> 0.00036703057 | L21: =E21+E32 -> 0 | M21: =F21+F32 -> 20013.268
A22: General Service 3,000 To 4,999 kW Service Classification | B22: Retail Transmission Rate - Network Service Rate | C22: $/kW | D22: ='3. RRR Data 2027'!D27 -> 5.7435 | F22: ='3. RRR Data 2027'!F27 -> 391116.46 | G22: =IF(D22*E22=0,ROUND(D22*F22,2),ROUND(D22*E22,2)) -> 2246377.4 | H22: =G22/$G$38 -> 0.047483195 | I22: =K22*$I$38 -> 3286910.5 | J22: =IF(I22*L22=0,ROUND(I22/M22,4),ROUND(I22/L22,4)) -> 5.4393 | K22: =H22+H33 -> 0.068845102 | L22: =E22+E33 -> 0 | M22: =F22+F33 -> 604293.44
A23: General Service 3,000 To 4,999 kW Service Classification | B23: Retail Transmission Rate - Network Service Rate - EV CHARGING | C23: $/kW | D23: ='3. RRR Data 2027'!D29 -> 0.976395 | F23: ='3. RRR Data 2027'!F29 -> 0 | G23: =IF(D23*E23=0,ROUND(D23*F23,2),ROUND(D23*E23,2)) -> 0 | H23: =G23/$G$38 -> 0 | I23: =K23*$I$38 -> 0 | J23: =J22*0.17 -> 0.924681 | K23: =H23+H34 -> 0 | L23: =E23+E34 -> 0 | M23: =F23+F34 -> 0
A24: Large Use Service Classification | B24: Retail Transmission Rate - Network Service Rate | C24: $/kW | D24: ='3. RRR Data 2027'!D31 -> 5.7435 | F24: ='3. RRR Data 2027'!F31 -> 742951.91 | G24: =IF(D24*E24=0,ROUND(D24*F24,2),ROUND(D24*E24,2)) -> 4267144.3 | H24: =G24/$G$38 -> 0.09019751 | I24: =K24*$I$38 -> 4306350.6 | J24: =IF(I24*L24=0,ROUND(I24/M24,4),ROUND(I24/L24,4)) -> 5.7963 | K24: =H24 -> 0.09019751 | L24: =E24 -> 0 | M24: =F24 -> 742951.91
A25: Unmetered Scattered Load Service Classification | B25: Retail Transmission Rate - Network Service Rate | C25: $/kWh | D25: ='3. RRR Data 2027'!D33 -> 0.0107 | E25: ='3. RRR Data 2027'!H33 -> 4779323.4 | F25: ='3. RRR Data 2027'!F33 -> 0 | G25: =IF(D25*E25=0,ROUND(D25*F25,2),ROUND(D25*E25,2)) -> 51138.76 | H25: =G25/$G$38 -> 0.0010809545 | I25: =K25*$I$38 -> 75458.082 | J25: =IF(I25*L25=0,ROUND(I25/M25,4),ROUND(I25/L25,4)) -> 0.0112 | K25: =H25+H35 -> 0.001580487 | L25: =E25+E35 -> 6748684.5 | M25: =F25+F35 -> 0
A26: Sentinel Lighting Service Classification | B26: Retail Transmission Rate - Network Service Rate | C26: $/kW | D26: ='3. RRR Data 2027'!D35 -> 3.2516 | F26: ='3. RRR Data 2027'!F35 -> 569.18082 | G26: =IF(D26*E26=0,ROUND(D26*F26,2),ROUND(D26*E26,2)) -> 1850.75 | H26: =G26/$G$38 -> 3.9120552e-05 | I26: =K26*$I$38 -> 2176.7377 | J26: =IF(I26*L26=0,ROUND(I26/M26,4),ROUND(I26/L26,4)) -> 3.3263 | K26: =H26+H36 -> 4.5592274e-05 | L26: =E26+E36 -> 0 | M26: =F26+F36 -> 654.39889
A27: Street Lighting Service Classification | B27: Retail Transmission Rate - Network Service Rate | C27: $/kW | D27: ='3. RRR Data 2027'!D37 -> 3.4237 | F27: ='3. RRR Data 2027'!F37 -> 33229.794 | G27: =IF(D27*E27=0,ROUND(D27*F27,2),ROUND(D27*E27,2)) -> 113768.85 | H27: =G27/$G$38 -> 0.002404809 | I27: =K27*$I$38 -> 152032.41 | J27: =IF(I27*L27=0,ROUND(I27/M27,4),ROUND(I27/L27,4)) -> 3.4914 | K27: =H27+H37 -> 0.003184354 | L27: =E27+E37 -> 0 | M27: =F27+F37 -> 43544.27
A28: Whibty Rate Zone
A29: Residential Service Classification | B29: Retail Transmission Rate - Network Service Rate | C29: $/kWh | D29: ='3. RRR Data 2027'!D40 -> 0.0131 | E29: ='3. RRR Data 2027'!H40 -> 4.3758043e+08 | F29: ='3. RRR Data 2027'!F40 -> 0 | G29: =IF(D29*E29=0,ROUND(D29*F29,2),ROUND(D29*E29,2)) -> 5732303.7 | H29: =G29/$G$38 -> 0.12116757
A30: General Service Less Than 50 kW Service Classification | B30: Retail Transmission Rate - Network Service Rate | C30: $/kWh | D30: ='3. RRR Data 2027'!D42 -> 0.012 | E30: ='3. RRR Data 2027'!H42 -> 89833424 | F30: ='3. RRR Data 2027'!F42 -> 0 | G30: =IF(D30*E30=0,ROUND(D30*F30,2),ROUND(D30*E30,2)) -> 1078001.1 | H30: =G30/$G$38 -> 0.022786437
A31: General Service 50 To 4,999 kW Service Classification | B31: Retail Transmission Rate - Network Service Rate | C31: $/kW | D31: ='3. RRR Data 2027'!D44 -> 4.7407 | F31: ='3. RRR Data 2027'!F44 -> 873611.38 | G31: =IF(D31*E31=0,ROUND(D31*F31,2),ROUND(D31*E31,2)) -> 4141529.5 | H31: =G31/$G$38 -> 0.087542304
A32: General Service 50 To 4,999 kW Service Classification | B32: Retail Transmission Rate - Network Service Rate - EV CHARGING | C32: $/kW | D32: ='3. RRR Data 2027'!D46 -> 0.8059 | F32: ='3. RRR Data 2027'!F46 -> 4637.106 | G32: =IF(D32*E32=0,ROUND(D32*F32,2),ROUND(D32*E32,2)) -> 3737.04 | H32: =G32/$G$38 -> 7.8992337e-05
A33: =A20 -> General Service 50 To 2,999 kW Service Classification | B33: =B20 -> Retail Transmission Rate - Network Service Rate | C33: =C20 -> $/kW | D33: =D31 -> 4.7407 | F33: ='3. RRR Data 2027'!F48 -> 213176.99 | G33: =IF(D33*E33=0,ROUND(D33*F33,2),ROUND(D33*E33,2)) -> 1010608.1 | H33: =G33/$G$38 -> 0.021361907
A34: =A21 -> General Service 50 To 2,999 kW Service Classification | B34: =B21 -> Retail Transmission Rate - Network Service Rate - EV CHARGING | C34: =C21 -> $/kW | D34: =D32 -> 0.8059 | E34: ='3. RRR Data 2027'!H50 -> 0 | F34: ='3. RRR Data 2027'!F50 -> 0 | G34: =IF(D34*E34=0,ROUND(D34*F34,2),ROUND(D34*E34,2)) -> 0 | H34: =G34/$G$38 -> 0
A35: Unmetered Scattered Load Service Classification | B35: Retail Transmission Rate - Network Service Rate | C35: $/kWh | D35: ='3. RRR Data 2027'!D52 -> 0.012 | E35: ='3. RRR Data 2027'!H52 -> 1969361.2 | F35: ='3. RRR Data 2027'!F52 -> 0 | G35: =IF(D35*E35=0,ROUND(D35*F35,2),ROUND(D35*E35,2)) -> 23632.33 | H35: =G35/$G$38 -> 0.00049953251
A36: Sentinel Lighting Service Classification | B36: Retail Transmission Rate - Network Service Rate | C36: $/kW | D36: ='3. RRR Data 2027'!D54 -> 3.5928 | F36: ='3. RRR Data 2027'!F54 -> 85.218073 | G36: =IF(D36*E36=0,ROUND(D36*F36,2),ROUND(D36*E36,2)) -> 306.17 | H36: =G36/$G$38 -> 6.471722e-06
A37: Street Lighting Service Classification | B37: Retail Transmission Rate - Network Service Rate | C37: $/kW | D37: ='3. RRR Data 2027'!D56 -> 3.5755 | F37: ='3. RRR Data 2027'!F56 -> 10314.476 | G37: =IF(D37*E37=0,ROUND(D37*F37,2),ROUND(D37*E37,2)) -> 36879.41 | H37: =G37/$G$38 -> 0.00077954499
G38: =SUM(G17:G37) -> 47308892 | H38: =G38/$G$38 -> 1 | I38: ='7. Forecast Wholesale 2027'!F33+'7. Forecast Wholesale 2027'!F52 -> 47743564
A40: The purpose of this table is to re-align the current RTS Connection Rates to recover current wholesale connection costs.
A41: Rate Class | B41: Rate Description | C41: Unit | D41: Current RTSR-Connection | E41: Loss Adjusted Billed kWh | F41: Billed kW | G41: Billed Amount | H41: Billed Amount % | I41: Current Wholesale Billing | J41: Adjusted RTSR-Connection | K41: Harmonized % | L41: Total kWh | M41: Total kW
A42: Veridian Rate Zone
A43: Residential Service Classification | B43: Retail Transmission Rate - Line and Transformation Connection Service Rate | C43: $/kWh | D43: ='3. RRR Data 2027'!D18 -> 0.008 | E43: ='3. RRR Data 2027'!H18 -> 1.1206796e+09 | F43: ='3. RRR Data 2027'!F18 -> 0 | G43: =IF(D43*E43=0,ROUND(D43*F43,2),ROUND(D43*E43,2)) -> 8965437 | H43: =G43/$G$64 -> 0.27850397 | I43: =K43*$I$64 -> 13773215 | J43: =IF(I43*L43=0,ROUND(I43/M43,4),ROUND(I43/L43,4)) -> 0.0088 | K43: =H43+H55 -> 0.41307545 | L43: =E43+E55 -> 1.5582601e+09 | M43: =F43+F55 -> 0
A44: Seasonal Residential Service Classification | B44: Retail Transmission Rate - Line and Transformation Connection Service Rate | C44: $/kWh | D44: ='3. RRR Data 2027'!D20 -> 0.0103 | E44: ='3. RRR Data 2027'!H20 -> 13681705 | F44: ='3. RRR Data 2027'!F20 -> 0 | G44: =IF(D44*E44=0,ROUND(D44*F44,2),ROUND(D44*E44,2)) -> 140921.56 | H44: =G44/$G$64 -> 0.0043776131 | I44: =K44*$I$64 -> 145963.18 | J44: =IF(I44*L44=0,ROUND(I44/M44,4),ROUND(I44/L44,4)) -> 0.0107 | K44: =H44 -> 0.0043776131 | L44: =E44 -> 13681705 | M44: =F44 -> 0
A45: General Service Less Than 50 kW Service Classification | B45: Retail Transmission Rate - Line and Transformation Connection Service Rate | C45: $/kWh | D45: ='3. RRR Data 2027'!D22 -> 0.0075 | E45: ='3. RRR Data 2027'!H22 -> 2.7966733e+08 | F45: ='3. RRR Data 2027'!F22 -> 0 | G45: =IF(D45*E45=0,ROUND(D45*F45,2),ROUND(D45*E45,2)) -> 2097505 | H45: =G45/$G$64 -> 0.065157279 | I45: =K45*$I$64 -> 3047190.2 | J45: =IF(I45*L45=0,ROUND(I45/M45,4),ROUND(I45/L45,4)) -> 0.0082 | K45: =H45+H56 -> 0.091388936 | L45: =E45+E56 -> 3.6950076e+08 | M45: =F45+F56 -> 0
A46: General Service 50 To 2,999 kW Service Classification | B46: Retail Transmission Rate - Line and Transformation Connection Service Rate | C46: $/kW | D46: ='3. RRR Data 2027'!D24 -> 3.4745 | F46: ='3. RRR Data 2027'!F24 -> 2362640.2 | G46: =IF(D46*E46=0,ROUND(D46*F46,2),ROUND(D46*E46,2)) -> 8208993.3 | H46: =G46/$G$64 -> 0.25500567 | I46: =K46*$I$64 -> 11716491 | J46: =IF(I46*L46=0,ROUND(I46/M46,4),ROUND(I46/L46,4)) -> 3.6204 | K46: =H46+H57 -> 0.35139179 | L46: =E46+E57 -> 0 | M46: =F46+F57 -> 3236251.6
A47: General Service 50 To 2,999 kW Service Classification | B47: Retail Transmission Rate - Line and Transformation Connection Service Rate - EV CHARGING | C47: $/kW | D47: ='3. RRR Data 2027'!D26 -> 0.590665 | F47: ='3. RRR Data 2027'!F26 -> 15376.162 | G47: =IF(D47*E47=0,ROUND(D47*F47,2),ROUND(D47*E47,2)) -> 9082.16 | H47: =G47/$G$64 -> 0.00028212988 | I47: =K47*$I$64 -> 12307.133 | J47: =IF(I47*L47=0,ROUND(I47/M47,4),ROUND(I47/L47,4)) -> 0.6149 | K47: =H47+H58 -> 0.00036910586 | L47: =E47+E58 -> 0 | M47: =F47+F58 -> 20013.268
A48: General Service 3,000 To 4,999 kW Service Classification | B48: Retail Transmission Rate - Line and Transformation Connection Service Rate | C48: $/kW | D48: ='3. RRR Data 2027'!D28 -> 3.8158 | F48: ='3. RRR Data 2027'!F28 -> 391116.46 | G48: =IF(D48*E48=0,ROUND(D48*F48,2),ROUND(D48*E48,2)) -> 1492422.2 | H48: =G48/$G$64 -> 0.046360875 | I48: =K48*$I$64 -> 1545815.2 | J48: =IF(I48*L48=0,ROUND(I48/M48,4),ROUND(I48/L48,4)) -> 2.5581 | K48: =H48+H59 -> 0.046360875 | L48: =E48+E59 -> 0 | M48: =F48+F59 -> 604293.44
A49: General Service 3,000 To 4,999 kW Service Classification | B49: Retail Transmission Rate - Line and Transformation Connection Service Rate - EV CHARGING | C49: $/kW | D49: ='3. RRR Data 2027'!D30 -> 0.648686 | E49: ='3. RRR Data 2027'!H30 -> 0 | F49: ='3. RRR Data 2027'!F30 -> 0 | G49: =IF(D49*E49=0,ROUND(D49*F49,2),ROUND(D49*E49,2)) -> 0 | H49: =G49/$G$64 -> 0 | I49: =K49*$I$64 -> 0 | J49: =J48*0.17 -> 0.434877 | K49: =H49+H60 -> 0 | L49: =E49+E60 -> 0 | M49: =F49+F60 -> 0
A50: Large Use Service Classification | B50: Retail Transmission Rate - Line and Transformation Connection Service Rate | C50: $/kW | D50: ='3. RRR Data 2027'!D32 -> 3.8158 | F50: ='3. RRR Data 2027'!F32 -> 742951.91 | G50: =IF(D50*E50=0,ROUND(D50*F50,2),ROUND(D50*E50,2)) -> 2834955.9 | H50: =G50/$G$64 -> 0.088065588 | I50: =K50*$I$64 -> 2936379.5 | J50: =IF(I50*L50=0,ROUND(I50/M50,4),ROUND(I50/L50,4)) -> 3.9523 | K50: =H50 -> 0.088065588 | L50: =E50 -> 0 | M50: =F50 -> 742951.91
A51: Unmetered Scattered Load Service Classification | B51: Retail Transmission Rate - Line and Transformation Connection Service Rate | C51: $/kWh | D51: ='3. RRR Data 2027'!D34 -> 0.0075 | E51: ='3. RRR Data 2027'!H34 -> 4779323.4 | F51: ='3. RRR Data 2027'!F34 -> 0 | G51: =IF(D51*E51=0,ROUND(D51*F51,2),ROUND(D51*E51,2)) -> 35844.93 | H51: =G51/$G$64 -> 0.0011134935 | I51: =K51*$I$64 -> 56301.597 | J51: =IF(I51*L51=0,ROUND(I51/M51,4),ROUND(I51/L51,4)) -> 0.0083 | K51: =H51+H61 -> 0.0016885533 | L51: =E51+E61 -> 6748684.5 | M51: =F51+F61 -> 0
A52: Sentinel Lighting Service Classification | B52: Retail Transmission Rate - Line and Transformation Connection Service Rate | C52: $/kW | D52: ='3. RRR Data 2027'!D36 -> 2.1844 | F52: ='3. RRR Data 2027'!F36 -> 569.18082 | G52: =IF(D52*E52=0,ROUND(D52*F52,2),ROUND(D52*E52,2)) -> 1243.32 | H52: =G52/$G$64 -> 3.862272e-05 | I52: =K52*$I$64 -> 1535.2377 | J52: =IF(I52*L52=0,ROUND(I52/M52,4),ROUND(I52/L52,4)) -> 2.346 | K52: =H52+H62 -> 4.6043642e-05 | L52: =E52+E62 -> 0 | M52: =F52+F62 -> 654.39889
A53: Street Lighting Service Classification | B53: Retail Transmission Rate - Line and Transformation Connection Service Rate | C53: $/kW | D53: ='3. RRR Data 2027'!D38 -> 2.2826 | F53: ='3. RRR Data 2027'!F38 -> 33229.794 | G53: =IF(D53*E53=0,ROUND(D53*F53,2),ROUND(D53*E53,2)) -> 75850.33 | H53: =G53/$G$64 -> 0.0023562285 | I53: =K53*$I$64 -> 107899.75 | J53: =IF(I53*L53=0,ROUND(I53/M53,4),ROUND(I53/L53,4)) -> 2.4779 | K53: =H53+H63 -> 0.0032360445 | L53: =E53+E63 -> 0 | M53: =F53+F63 -> 43544.27
A54: Whibty Rate Zone
A55: Residential Service Classification | B55: Retail Transmission Rate - Line and Transformation Connection Service Rate | C55: $/kWh | D55: ='3. RRR Data 2027'!D41 -> 0.0099 | E55: ='3. RRR Data 2027'!H41 -> 4.3758043e+08 | F55: ='3. RRR Data 2027'!F41 -> 0 | G55: =IF(D55*E55=0,ROUND(D55*F55,2),ROUND(D55*E55,2)) -> 4332046.3 | H55: =G55/$G$64 -> 0.13457148
A56: General Service Less Than 50 kW Service Classification | B56: Retail Transmission Rate - Line and Transformation Connection Service Rate | C56: $/kWh | D56: ='3. RRR Data 2027'!D43 -> 0.0094 | E56: ='3. RRR Data 2027'!H43 -> 89833424 | F56: ='3. RRR Data 2027'!F43 -> 0 | G56: =IF(D56*E56=0,ROUND(D56*F56,2),ROUND(D56*E56,2)) -> 844434.18 | H56: =G56/$G$64 -> 0.026231658
A57: General Service 50 To 4,999 kW Service Classification | B57: Retail Transmission Rate - Line and Transformation Connection Service Rate | C57: $/kW | D57: ='3. RRR Data 2027'!D45 -> 3.5517 | F57: ='3. RRR Data 2027'!F45 -> 873611.38 | G57: =IF(D57*E57=0,ROUND(D57*F57,2),ROUND(D57*E57,2)) -> 3102805.5 | H57: =G57/$G$64 -> 0.096386118
A58: General Service 50 To 4,999 kW Service Classification | B58: Retail Transmission Rate - Line and Transformation Connection Service Rate - EV CHARGING | C58: $/kW | D58: ='3. RRR Data 2027'!D47 -> 0.6038 | F58: ='3. RRR Data 2027'!F47 -> 4637.106 | G58: =IF(D58*E58=0,ROUND(D58*F58,2),ROUND(D58*E58,2)) -> 2799.88 | H58: =G58/$G$64 -> 8.6975984e-05
A59: =A48 -> General Service 3,000 To 4,999 kW Service Classification | B59: =B48 -> Retail Transmission Rate - Line and Transformation Connection Service Rate | C59: =C48 -> $/kW | D59: ='3. RRR Data 2027'!D49 -> 0 | F59: ='3. RRR Data 2027'!F49 -> 213176.99 | G59: =IF(D59*E59=0,ROUND(D59*F59,2),ROUND(D59*E59,2)) -> 0 | H59: =G59/$G$64 -> 0
A60: =A49 -> General Service 3,000 To 4,999 kW Service Classification | B60: =B49 -> Retail Transmission Rate - Line and Transformation Connection Service Rate - EV CHARGING | C60: =C49 -> $/kW | D60: ='3. RRR Data 2027'!D51 -> 0 | E60: ='3. RRR Data 2027'!H51 -> 0 | F60: ='3. RRR Data 2027'!F51 -> 0 | G60: =IF(D60*E60=0,ROUND(D60*F60,2),ROUND(D60*E60,2)) -> 0 | H60: =G60/$G$64 -> 0
A61: Unmetered Scattered Load Service Classification | B61: Retail Transmission Rate - Line and Transformation Connection Service Rate | C61: $/kWh | D61: ='3. RRR Data 2027'!D53 -> 0.0094 | E61: ='3. RRR Data 2027'!H53 -> 1969361.2 | F61: ='3. RRR Data 2027'!F53 -> 0 | G61: =IF(D61*E61=0,ROUND(D61*F61,2),ROUND(D61*E61,2)) -> 18511.99 | H61: =G61/$G$64 -> 0.00057505984
A62: Sentinel Lighting Service Classification | B62: Retail Transmission Rate - Line and Transformation Connection Service Rate | C62: $/kW | D62: ='3. RRR Data 2027'!D55 -> 2.8033 | F62: ='3. RRR Data 2027'!F55 -> 85.218073 | G62: =IF(D62*E62=0,ROUND(D62*F62,2),ROUND(D62*E62,2)) -> 238.89 | H62: =G62/$G$64 -> 7.4209226e-06
A63: Street Lighting Service Classification | B63: Retail Transmission Rate - Line and Transformation Connection Service Rate | C63: $/kW | D63: ='3. RRR Data 2027'!D57 -> 2.7459 | F63: ='3. RRR Data 2027'!F57 -> 10314.476 | G63: =IF(D63*E63=0,ROUND(D63*F63,2),ROUND(D63*E63,2)) -> 28322.52 | H63: =G63/$G$64 -> 0.00087981594
G64: =SUM(G43:G63) -> 32191415 | H64: =G64/$G$64 -> 1 | I64: ='7. Forecast Wholesale 2027'!J33+'7. Forecast Wholesale 2027'!N33+'7. Forecast Wholesale 2027'!J52+'7. Forecast Wholesale 2027'!N52 -> 33343098

Sheet 7. Forecast Wholesale 2028
B13: The purpose of this sheet is to calculate the expected billing when current 2025 Uniform Transmission Rates are applied against historical 2024 transmission units.
B16: IESO | D16: Network | H16: Line Connection | L16: Transformation Connection | P16: Total Connection
B18: Month | D18: Units Billed | E18: Rate | F18: Amount | H18: Units Billed | I18: Rate | J18: Amount | L18: Units Billed | M18: Rate | N18: Amount | P18: Amount
B20: January | D20: 340140.84 | E20: ='4. UTRs & Sub-Transmission'!N22 -> 7.1481991 | F20: =D20*E20 -> 2431394.5 | H20: 176003.67 | I20: ='4. UTRs & Sub-Transmission'!N24 -> 1.1490413 | J20: =H20*I20 -> 202235.49 | L20: 362402.67 | M20: ='4. UTRs & Sub-Transmission'!N26 -> 3.8713369 | N20: =L20*M20 -> 1402982.8 | P20: =J20+N20 -> 1605218.3
B21: February | D21: 333746.6 | E21: =E20 -> 7.1481991 | F21: =D21*E21 -> 2385687.2 | H21: 184853.93 | I21: =I20 -> 1.1490413 | J21: =H21*I21 -> 212404.8 | L21: 354593.5 | M21: =M20 -> 3.8713369 | N21: =L21*M21 -> 1372750.9 | P21: =J21+N21 -> 1585155.7
B22: March | D22: 328308.52 | E22: =E21 -> 7.1481991 | F22: =D22*E22 -> 2346814.7 | H22: 176765.73 | I22: =I21 -> 1.1490413 | J22: =H22*I22 -> 203111.13 | L22: 337661.67 | M22: =M21 -> 3.8713369 | N22: =L22*M22 -> 1307202.1 | P22: =J22+N22 -> 1510313.2
B23: April | D23: 319460.48 | E23: =E22 -> 7.1481991 | F23: =D23*E23 -> 2283567.1 | H23: 168930.09 | I23: =I22 -> 1.1490413 | J23: =H23*I23 -> 194107.65 | L23: 321969.43 | M23: =M22 -> 3.8713369 | N23: =L23*M23 -> 1246452.1 | P23: =J23+N23 -> 1440559.8
B24: May | D24: 392314.87 | E24: =E23 -> 7.1481991 | F24: =D24*E24 -> 2804344.8 | H24: 225229.83 | I24: =I23 -> 1.1490413 | J24: =H24*I24 -> 258798.38 | L24: 404489.07 | M24: =M23 -> 3.8713369 | N24: =L24*M24 -> 1565913.4 | P24: =J24+N24 -> 1824711.8
B25: June | D25: 446554.51 | E25: =E24 -> 7.1481991 | F25: =D25*E25 -> 3192060.6 | H25: 280950.57 | I25: =I24 -> 1.1490413 | J25: =H25*I25 -> 322823.82 | L25: 482900.65 | M25: =M24 -> 3.8713369 | N25: =L25*M25 -> 1869471.1 | P25: =J25+N25 -> 2192294.9
B26: July | D26: 488541.65 | E26: =E25 -> 7.1481991 | F26: =D26*E26 -> 3492193 | H26: 294243.05 | I26: =I25 -> 1.1490413 | J26: =H26*I26 -> 338097.42 | L26: 501012.51 | M26: =M25 -> 3.8713369 | N26: =L26*M26 -> 1939588.2 | P26: =J26+N26 -> 2277685.6
B27: August | D27: 475042.95 | E27: =E26 -> 7.1481991 | F27: =D27*E27 -> 3395701.6 | H27: 285328.83 | I27: =I26 -> 1.1490413 | J27: =H27*I27 -> 327854.61 | L27: 493109.6 | M27: =M26 -> 3.8713369 | N27: =L27*M27 -> 1908993.4 | P27: =J27+N27 -> 2236848
B28: September | D28: 412975.39 | E28: =E27 -> 7.1481991 | F28: =D28*E28 -> 2952030.3 | H28: 232598.97 | I28: =I27 -> 1.1490413 | J28: =H28*I28 -> 267265.83 | L28: 414076.02 | M28: =M27 -> 3.8713369 | N28: =L28*M28 -> 1603027.7 | P28: =J28+N28 -> 1870293.6
B29: October | D29: 338235.14 | E29: =E28 -> 7.1481991 | F29: =D29*E29 -> 2417772.1 | H29: 243342.79 | I29: =I28 -> 1.1490413 | J29: =H29*I29 -> 279610.92 | L29: 354418.15 | M29: =M28 -> 3.8713369 | N29: =L29*M29 -> 1372072 | P29: =J29+N29 -> 1651683
B30: November | D30: 325569.08 | E30: =E29 -> 7.1481991 | F30: =D30*E30 -> 2327232.6 | H30: 184977.44 | I30: =I29 -> 1.1490413 | J30: =H30*I30 -> 212546.73 | L30: 305419.18 | M30: =M29 -> 3.8713369 | N30: =L30*M30 -> 1182380.5 | P30: =J30+N30 -> 1394927.2
B31: December | D31: 354568.13 | E31: =E30 -> 7.1481991 | F31: =D31*E31 -> 2534523.6 | H31: 228047.57 | I31: =I30 -> 1.1490413 | J31: =H31*I31 -> 262036.08 | L31: 353403.54 | M31: =M30 -> 3.8713369 | N31: =L31*M31 -> 1368144.1 | P31: =J31+N31 -> 1630180.2
B33: Total | D33: =SUM(D20:D31) -> 4555458.2 | E33: =IF(D33<>0,F33/D33,0) -> 7.1481991 | F33: =SUM(F20:F31) -> 32563322 | H33: =SUM(H20:H31) -> 2681272.5 | I33: =IF(H33<>0,J33/H33,0) -> 1.1490413 | J33: =SUM(J20:J31) -> 3080892.9 | L33: =SUM(L20:L31) -> 4685456 | M33: =IF(L33<>0,N33/L33,0) -> 3.8713369 | N33: =SUM(N20:N31) -> 18138978 | P33: =SUM(P20:P31) -> 21219871
B35: Hydro One | D35: Network | H35: Line Connection | L35: Transformation Connection | P35: Total Connection
B37: Month | D37: Units Billed | E37: Rate | F37: Amount | H37: Units Billed | I37: Rate | J37: Amount | L37: Units Billed | M37: Rate | N37: Amount | P37: Amount
B39: January | D39: 297764.62 | E39: ='4. UTRs & Sub-Transmission'!N35 -> 6.1199323 | F39: =D39*E39 -> 1822299.3 | H39: 270722.92 | I39: ='4. UTRs & Sub-Transmission'!N37 -> 0.78692597 | J39: =H39*I39 -> 213038.9 | L39: 313884.87 | M39: ='4. UTRs & Sub-Transmission'!N39 -> 3.990043 | N39: =L39*M39 -> 1252414.1 | P39: =J39+N39 -> 1465453
B40: February | D40: 297884.92 | E40: =E39 -> 6.1199323 | F40: =D40*E40 -> 1823035.5 | H40: 248257.29 | I40: =I39 -> 0.78692597 | J40: =H40*I40 -> 195360.11 | L40: 299510.97 | M40: =M39 -> 3.990043 | N40: =L40*M40 -> 1195061.6 | P40: =J40+N40 -> 1390421.8
B41: March | D41: 250657.22 | E41: =E40 -> 6.1199323 | F41: =D41*E41 -> 1534005.3 | H41: 213784.05 | I41: =I40 -> 0.78692597 | J41: =H41*I41 -> 168232.22 | L41: 255248.62 | M41: =M40 -> 3.990043 | N41: =L41*M41 -> 1018453 | P41: =J41+N41 -> 1186685.2
B42: April | D42: 220575.12 | E42: =E41 -> 6.1199323 | F42: =D42*E42 -> 1349904.8 | H42: 195104.27 | I42: =I41 -> 0.78692597 | J42: =H42*I42 -> 153532.62 | L42: 225107.58 | M42: =M41 -> 3.990043 | N42: =L42*M42 -> 898188.91 | P42: =J42+N42 -> 1051721.5
B43: May | D43: 257703.47 | E43: =E42 -> 6.1199323 | F43: =D43*E43 -> 1577127.8 | H43: 214122.44 | I43: =I42 -> 0.78692597 | J43: =H43*I43 -> 168498.51 | L43: 259924.98 | M43: =M42 -> 3.990043 | N43: =L43*M43 -> 1037111.8 | P43: =J43+N43 -> 1205610.3
B44: June | D44: 333605.56 | E44: =E43 -> 6.1199323 | F44: =D44*E44 -> 2041643.5 | H44: 290885.5 | I44: =I43 -> 0.78692597 | J44: =H44*I44 -> 228905.35 | L44: 336785.51 | M44: =M43 -> 3.990043 | N44: =L44*M44 -> 1343788.7 | P44: =J44+N44 -> 1572694
B45: July | D45: 316778.62 | E45: =E44 -> 6.1199323 | F45: =D45*E45 -> 1938663.7 | H45: 269083.93 | I45: =I44 -> 0.78692597 | J45: =H45*I45 -> 211749.14 | L45: 317702.17 | M45: =M44 -> 3.990043 | N45: =L45*M45 -> 1267645.3 | P45: =J45+N45 -> 1479394.5
B46: August | D46: 346802.29 | E46: =E45 -> 6.1199323 | F46: =D46*E46 -> 2122406.5 | H46: 262031.33 | I46: =I45 -> 0.78692597 | J46: =H46*I46 -> 206199.25 | L46: 350631.02 | M46: =M45 -> 3.990043 | N46: =L46*M46 -> 1399032.8 | P46: =J46+N46 -> 1605232.1
B47: September | D47: 289207.88 | E47: =E46 -> 6.1199323 | F47: =D47*E47 -> 1769932.6 | H47: 225489.57 | I47: =I46 -> 0.78692597 | J47: =H47*I47 -> 177443.59 | L47: 290742.48 | M47: =M46 -> 3.990043 | N47: =L47*M47 -> 1160075 | P47: =J47+N47 -> 1337518.6
B48: October | D48: 243522.76 | E48: =E47 -> 6.1199323 | F48: =D48*E48 -> 1490342.8 | H48: 193339.93 | I48: =I47 -> 0.78692597 | J48: =H48*I48 -> 152144.22 | L48: 246375.48 | M48: =M47 -> 3.990043 | N48: =L48*M48 -> 983048.74 | P48: =J48+N48 -> 1135193
B49: November | D49: 264746.78 | E49: =E48 -> 6.1199323 | F49: =D49*E49 -> 1620232.4 | H49: 214595.33 | I49: =I48 -> 0.78692597 | J49: =H49*I49 -> 168870.64 | L49: 268683.43 | M49: =M48 -> 3.990043 | N49: =L49*M49 -> 1072058.4 | P49: =J49+N49 -> 1240929.1
B50: December | D50: 272546.3 | E50: =E49 -> 6.1199323 | F50: =D50*E50 -> 1667964.9 | H50: 232941.38 | I50: =I49 -> 0.78692597 | J50: =H50*I50 -> 183307.62 | L50: 279210.54 | M50: =M49 -> 3.990043 | N50: =L50*M50 -> 1114062.1 | P50: =J50+N50 -> 1297369.7
B52: Total | D52: =SUM(D39:D50) -> 3391795.5 | E52: =IF(D52<>0,F52/D52,0) -> 6.1199323 | F52: =SUM(F39:F50) -> 20757559 | H52: =SUM(H39:H50) -> 2830357.9 | I52: =IF(H52<>0,J52/H52,0) -> 0.78692597 | J52: =SUM(J39:J50) -> 2227282.2 | L52: =SUM(L39:L50) -> 3443807.7 | M52: =IF(L52<>0,N52/L52,0) -> 3.990043 | N52: =SUM(N39:N50) -> 13740941 | P52: =SUM(P39:P50) -> 15968223
B54: =#REF! -> #REF! | D54: Network | H54: Line Connection | L54: Transformation Connection | P54: Total Connection
B56: Month | D56: Units Billed | E56: Rate | F56: Amount | H56: Units Billed | I56: Rate | J56: Amount | L56: Units Billed | M56: Rate | N56: Amount | P56: Amount
B58: January
B59: February
B60: March
B61: April
B62: May
B63: June
B64: July
B65: August
B66: September
B67: October
B68: November
B69: December
B71: Total | D71: =SUM(D58:D69) -> 0 | E71: =IF(D71<>0,F71/D71,0) -> 0 | F71: =SUM(F58:F69) -> 0 | H71: =SUM(H58:H69) -> 0 | I71: =IF(H71<>0,J71/H71,0) -> 0 | J71: =SUM(J58:J69) -> 0 | L71: =SUM(L58:L69) -> 0 | M71: =IF(L71<>0,N71/L71,0) -> 0 | N71: =SUM(N58:N69) -> 0 | P71: =SUM(P58:P69) -> 0
B73: =#REF! -> #REF! | D73: Network | H73: Line Connection | L73: Transformation Connection | P73: Total Connection
B75: Month | D75: Units Billed | E75: Rate | F75: Amount | H75: Units Billed | I75: Rate | J75: Amount | L75: Units Billed | M75: Rate | N75: Amount | P75: Amount
B77: January
B78: February
B79: March
B80: April
B81: May
B82: June
B83: July
B84: August
B85: September
B86: October
B87: November
B88: December
B90: Total | D90: =SUM(D77:D88) -> 0 | E90: =IF(D90<>0,F90/D90,0) -> 0 | F90: =SUM(F77:F88) -> 0 | H90: =SUM(H77:H88) -> 0 | I90: =IF(H90<>0,J90/H90,0) -> 0 | J90: =SUM(J77:J88) -> 0 | L90: =SUM(L77:L88) -> 0 | M90: =IF(L90<>0,N90/L90,0) -> 0 | N90: =SUM(N77:N88) -> 0 | P90: =SUM(P77:P88) -> 0
B92: Total | D92: Network | H92: Line Connection | L92: Transformation Connection | P92: Total Connection
B94: Month | D94: Units Billed | E94: Rate | F94: Amount | H94: Units Billed | I94: Rate | J94: Amount | L94: Units Billed | M94: Rate | N94: Amount | P94: Amount
B96: January | D96: =D20+D39+D58+D77 -> 637905.46 | E96: =IF(D96<>0,F96/D96,0) -> 6.6682197 | F96: =F20+F39+F58+F77 -> 4253693.8 | H96: =H20+H39+H58+H77 -> 446726.6 | I96: =IF(H96<>0,J96/H96,0) -> 0.92959406 | J96: =J20+J39+J58+J77 -> 415274.39 | L96: =L20+L39+L58+L77 -> 676287.54 | M96: =IF(L96<>0,N96/L96,0) -> 3.9264319 | N96: =N20+N39+N58+N77 -> 2655397 | P96: =J96+N96 -> 3070671.3
B97: February | D97: =D21+D40+D59+D78 -> 631631.52 | E97: =IF(D97<>0,F97/D97,0) -> 6.6632563 | F97: =F21+F40+F59+F78 -> 4208722.7 | H97: =H21+H40+H59+H78 -> 433111.22 | I97: =IF(H97<>0,J97/H97,0) -> 0.94147852 | J97: =J21+J40+J59+J78 -> 407764.91 | L97: =L21+L40+L59+L78 -> 654104.47 | M97: =IF(L97<>0,N97/L97,0) -> 3.9256918 | N97: =N21+N40+N59+N78 -> 2567812.5 | P97: =J97+N97 -> 2975577.4
B98: March | D98: =D22+D41+D60+D79 -> 578965.75 | E98: =IF(D98<>0,F98/D98,0) -> 6.7030217 | F98: =F22+F41+F60+F79 -> 3880819.9 | H98: =H22+H41+H60+H79 -> 390549.78 | I98: =IF(H98<>0,J98/H98,0) -> 0.95082207 | J98: =J22+J41+J60+J79 -> 371343.35 | L98: =L22+L41+L60+L79 -> 592910.29 | M98: =IF(L98<>0,N98/L98,0) -> 3.92244 | N98: =N22+N41+N60+N79 -> 2325655 | P98: =J98+N98 -> 2696998.4
B99: April | D99: =D23+D42+D61+D80 -> 540035.6 | E99: =IF(D99<>0,F99/D99,0) -> 6.7282081 | F99: =F23+F42+F61+F80 -> 3633471.9 | H99: =H23+H42+H61+H80 -> 364034.36 | I99: =IF(H99<>0,J99/H99,0) -> 0.95496554 | J99: =J23+J42+J61+J80 -> 347640.27 | L99: =L23+L42+L61+L80 -> 547077 | M99: =IF(L99<>0,N99/L99,0) -> 3.9201813 | N99: =N23+N42+N61+N80 -> 2144641 | P99: =J99+N99 -> 2492281.3
B100: May | D100: =D24+D43+D62+D81 -> 650018.34 | E100: =IF(D100<>0,F100/D100,0) -> 6.7405369 | F100: =F24+F43+F62+F81 -> 4381472.6 | H100: =H24+H43+H62+H81 -> 439352.27 | I100: =IF(H100<>0,J100/H100,0) -> 0.97256101 | J100: =J24+J43+J62+J81 -> 427296.89 | L100: =L24+L43+L62+L81 -> 664414.05 | M100: =IF(L100<>0,N100/L100,0) -> 3.9177758 | N100: =N24+N43+N62+N81 -> 2603025.3 | P100: =J100+N100 -> 3030322.2
B101: June | D101: =D25+D44+D63+D82 -> 780160.07 | E101: =IF(D101<>0,F101/D101,0) -> 6.7085002 | F101: =F25+F44+F63+F82 -> 5233704 | H101: =H25+H44+H63+H82 -> 571836.07 | I101: =IF(H101<>0,J101/H101,0) -> 0.964838 | J101: =J25+J44+J63+J82 -> 551729.17 | L101: =L25+L44+L63+L82 -> 819686.16 | M101: =IF(L101<>0,N101/L101,0) -> 3.9201098 | N101: =N25+N44+N63+N82 -> 3213259.7 | P101: =J101+N101 -> 3764988.9
B102: July | D102: =D26+D45+D64+D83 -> 805320.28 | E102: =IF(D102<>0,F102/D102,0) -> 6.7437228 | F102: =F26+F45+F64+F83 -> 5430856.7 | H102: =H26+H45+H64+H83 -> 563326.98 | I102: =IF(H102<>0,J102/H102,0) -> 0.97606998 | J102: =J26+J45+J64+J83 -> 549846.55 | L102: =L26+L45+L64+L83 -> 818714.68 | M102: =IF(L102<>0,N102/L102,0) -> 3.9174008 | N102: =N26+N45+N64+N83 -> 3207233.5 | P102: =J102+N102 -> 3757080.1
B103: August | D103: =D27+D46+D65+D84 -> 821845.24 | E103: =IF(D103<>0,F103/D103,0) -> 6.7142911 | F103: =F27+F46+F65+F84 -> 5518108.1 | H103: =H27+H46+H65+H84 -> 547360.16 | I103: =IF(H103<>0,J103/H103,0) -> 0.97569007 | J103: =J27+J46+J65+J84 -> 534053.87 | L103: =L27+L46+L65+L84 -> 843740.62 | M103: =IF(L103<>0,N103/L103,0) -> 3.9206672 | N103: =N27+N46+N65+N84 -> 3308026.2 | P103: =J103+N103 -> 3842080.1
B104: September | D104: =D28+D47+D66+D85 -> 702183.26 | E104: =IF(D104<>0,F104/D104,0) -> 6.7246874 | F104: =F28+F47+F66+F85 -> 4721962.9 | H104: =H28+H47+H66+H85 -> 458088.54 | I104: =IF(H104<>0,J104/H104,0) -> 0.97079361 | J104: =J28+J47+J66+J85 -> 444709.42 | L104: =L28+L47+L66+L85 -> 704818.5 | M104: =IF(L104<>0,N104/L104,0) -> 3.920304 | N104: =N28+N47+N66+N85 -> 2763102.7 | P104: =J104+N104 -> 3207812.2
B105: October | D105: =D29+D48+D67+D86 -> 581757.9 | E105: =IF(D105<>0,F105/D105,0) -> 6.7177686 | F105: =F29+F48+F67+F86 -> 3908115 | H105: =H29+H48+H67+H86 -> 436682.73 | I105: =IF(H105<>0,J105/H105,0) -> 0.98871586 | J105: =J29+J48+J67+J86 -> 431755.14 | L105: =L29+L48+L67+L86 -> 600793.62 | M105: =IF(L105<>0,N105/L105,0) -> 3.9200163 | N105: =N29+N48+N67+N86 -> 2355120.8 | P105: =J105+N105 -> 2786875.9
B106: November | D106: =D30+D49+D68+D87 -> 590315.86 | E106: =IF(D106<>0,F106/D106,0) -> 6.6870387 | F106: =F30+F49+F68+F87 -> 3947465 | H106: =H30+H49+H68+H87 -> 399572.77 | I106: =IF(H106<>0,J106/H106,0) -> 0.95456295 | J106: =J30+J49+J68+J87 -> 381417.36 | L106: =L30+L49+L68+L87 -> 574102.61 | M106: =IF(L106<>0,N106/L106,0) -> 3.926892 | N106: =N30+N49+N68+N87 -> 2254439 | P106: =J106+N106 -> 2635856.3
B107: December | D107: =D31+D50+D69+D88 -> 627114.43 | E107: =IF(D107<>0,F107/D107,0) -> 6.7013105 | F107: =F31+F50+F69+F88 -> 4202488.5 | H107: =H31+H50+H69+H88 -> 460988.95 | I107: =IF(H107<>0,J107/H107,0) -> 0.96606156 | J107: =J31+J50+J69+J88 -> 445343.7 | L107: =L31+L50+L69+L88 -> 632614.08 | M107: =IF(L107<>0,N107/L107,0) -> 3.923729 | N107: =N31+N50+N69+N88 -> 2482206.2 | P107: =J107+N107 -> 2927549.9
B109: Total | D109: =SUM(D96:D107) -> 7947253.7 | E109: =IF(D109<>0,F109/D109,0) -> 6.7093468 | F109: =SUM(F96:F107) -> 53320881 | H109: =SUM(H96:H107) -> 5511630.4 | I109: =IF(H109<>0,J109/H109,0) -> 0.96308617 | J109: =SUM(J96:J107) -> 5308175 | L109: =SUM(L96:L107) -> 8129263.6 | M109: =IF(L109<>0,N109/L109,0) -> 3.9216244 | N109: =SUM(N96:N107) -> 31879919 | P109: =SUM(P96:P107) -> 37188094
N111: Low Voltage Switchgear Credit (if applicable) | P111: =#REF! -> #REF!
N113: Total including deduction for Low Voltage Switchgear Credit | P113: =P109+P111 -> #REF!

Sheet 8. RTSR Rates to Forecast 2028
A13: The purpose of this table is to re-align the current RTS Network Rates to recover current wholesale network costs.
A15: Rate Class | B15: Rate Description | C15: Unit | D15: Current RTSR-Network | E15: Loss Adjusted Billed kWh | F15: Billed kW | G15: Billed Amount | H15: Billed Amount % | I15: Current Wholesale Billing | J15: Adjusted RTSR Network
A17: Residential Service Classification | B17: Retail Transmission Rate - Network Service Rate | C17: $/kWh | D17: ='8. RTSR Rates to Forecast 2027'!J17 -> 0.0122 | E17: ='3. RRR Data 2028'!H17 -> 1.5857989e+09 | F17: ='3. RRR Data 2028'!F17 -> 0 | G17: =IF(D17*E17=0,ROUND(D17*F17,2),ROUND(D17*E17,2)) -> 19346747 | H17: =G17/$G$28 -> 0.39183854 | I17: =H17*$I$28 -> 20893176 | J17: =IF(I17*E17=0,ROUND(I17/F17,4),ROUND(I17/E17,4)) -> 0.0132
A18: Seasonal Residential Service Classification | B18: Retail Transmission Rate - Network Service Rate | C18: $/kWh | D18: ='8. RTSR Rates to Forecast 2027'!J18 -> 0.0123 | E18: ='3. RRR Data 2028'!H19 -> 14126200 | F18: ='3. RRR Data 2028'!F19 -> 0 | G18: =IF(D18*E18=0,ROUND(D18*F18,2),ROUND(D18*E18,2)) -> 173752.26 | H18: =G18/$G$28 -> 0.0035190843 | I18: =H18*$I$28 -> 187640.67 | J18: =IF(I18*E18=0,ROUND(I18/F18,4),ROUND(I18/E18,4)) -> 0.0133
A19: General Service Less Than 50 kW Service Classification | B19: Retail Transmission Rate - Network Service Rate | C19: $/kWh | D19: ='8. RTSR Rates to Forecast 2027'!J19 -> 0.0111 | E19: ='3. RRR Data 2028'!H21 -> 3.6955755e+08 | F19: ='3. RRR Data 2028'!F21 -> 0 | G19: =IF(D19*E19=0,ROUND(D19*F19,2),ROUND(D19*E19,2)) -> 4102088.8 | H19: =G19/$G$28 -> 0.083081487 | I19: =H19*$I$28 -> 4429978.1 | J19: =IF(I19*E19=0,ROUND(I19/F19,4),ROUND(I19/E19,4)) -> 0.012
A20: General Service 50 To 2,999 kW Service Classification | B20: Retail Transmission Rate - Network Service Rate | C20: $/kW | D20: ='8. RTSR Rates to Forecast 2027'!J20 -> 5.1323 | F20: ='3. RRR Data 2028'!F23 -> 3247733.9 | G20: =IF(D20*E20=0,ROUND(D20*F20,2),ROUND(D20*E20,2)) -> 16668345 | H20: =G20/$G$28 -> 0.33759164 | I20: =H20*$I$28 -> 18000684 | J20: =IF(I20*E20=0,ROUND(I20/F20,4),ROUND(I20/E20,4)) -> 5.5425
A21: General Service 50 To 2,999 kW Service Classification | B21: Retail Transmission Rate - Network Service Rate - EV CHARGING | C21: $/kW | D21: ='8. RTSR Rates to Forecast 2027'!J21 -> 0.8756 | F21: ='3. RRR Data 2028'!F25 -> 46671.434 | G21: =IF(D21*E21=0,ROUND(D21*F21,2),ROUND(D21*E21,2)) -> 40865.51 | H21: =G21/$G$28 -> 0.00082766793 | I21: =H21*$I$28 -> 44131.983 | J21: =IF(I21*E21=0,ROUND(I21/F21,4),ROUND(I21/E21,4)) -> 0.9456
A22: General Service 3,000 To 4,999 kW Service Classification | B22: Retail Transmission Rate - Network Service Rate | C22: $/kW | D22: ='8. RTSR Rates to Forecast 2027'!J22 -> 5.4393 | F22: ='3. RRR Data 2028'!F27 -> 665751.75 | G22: =IF(D22*E22=0,ROUND(D22*F22,2),ROUND(D22*E22,2)) -> 3621223.5 | H22: =G22/$G$28 -> 0.073342301 | I22: =H22*$I$28 -> 3910676.1 | J22: =IF(I22*E22=0,ROUND(I22/F22,4),ROUND(I22/E22,4)) -> 5.8741
A23: General Service 3,000 To 4,999 kW Service Classification | B23: Retail Transmission Rate - Network Service Rate - EV CHARGING | C23: $/kW | D23: =D22*0.17 -> 0.924681 | H23: =G23/$G$28 -> 0 | I23: =H23*$I$28 -> 0 | J23: =J22*0.17 -> 0.998597
A24: Large Use Service Classification | B24: Retail Transmission Rate - Network Service Rate | C24: $/kW | D24: ='8. RTSR Rates to Forecast 2027'!J24 -> 5.7963 | F24: ='3. RRR Data 2028'!F31 -> 895387.42 | G24: =IF(D24*E24=0,ROUND(D24*F24,2),ROUND(D24*E24,2)) -> 5189934.1 | H24: =G24/$G$28 -> 0.10511412 | I24: =H24*$I$28 -> 5604777.4 | J24: =IF(I24*E24=0,ROUND(I24/F24,4),ROUND(I24/E24,4)) -> 6.2596
A25: Unmetered Scattered Load Service Classification | B25: Retail Transmission Rate - Network Service Rate | C25: $/kWh | D25: ='8. RTSR Rates to Forecast 2027'!J25 -> 0.0112 | E25: ='3. RRR Data 2028'!H33 -> 6718178.7 | F25: ='3. RRR Data 2028'!F33 -> 0 | G25: =IF(D25*E25=0,ROUND(D25*F25,2),ROUND(D25*E25,2)) -> 75243.6 | H25: =G25/$G$28 -> 0.0015239432 | I25: =H25*$I$28 -> 81257.993 | J25: =IF(I25*E25=0,ROUND(I25/F25,4),ROUND(I25/E25,4)) -> 0.0121
A26: Sentinel Lighting Service Classification | B26: Retail Transmission Rate - Network Service Rate | C26: $/kW | D26: ='8. RTSR Rates to Forecast 2027'!J26 -> 3.3263 | F26: ='3. RRR Data 2028'!F35 -> 644.51221 | G26: =IF(D26*E26=0,ROUND(D26*F26,2),ROUND(D26*E26,2)) -> 2143.84 | H26: =G26/$G$28 -> 4.3420176e-05 | I26: =H26*$I$28 -> 2315.202 | J26: =IF(I26*E26=0,ROUND(I26/F26,4),ROUND(I26/E26,4)) -> 3.5922
A27: Street Lighting Service Classification | B27: Retail Transmission Rate - Network Service Rate | C27: $/kW | D27: ='8. RTSR Rates to Forecast 2027'!J27 -> 3.4914 | F27: ='3. RRR Data 2028'!F37 -> 44090.904 | G27: =IF(D27*E27=0,ROUND(D27*F27,2),ROUND(D27*E27,2)) -> 153938.98 | H27: =G27/$G$28 -> 0.0031177968 | I27: =H27*$I$28 -> 166243.67 | J27: =IF(I27*E27=0,ROUND(I27/F27,4),ROUND(I27/E27,4)) -> 3.7705
G28: =SUM(G17:G27) -> 49374282 | H28: =G28/$G$28 -> 1 | I28: ='7. Forecast Wholesale 2028'!F33+'7. Forecast Wholesale 2028'!F52 -> 53320881
A30: The purpose of this table is to re-align the current RTS Connection Rates to recover current wholesale connection costs.
A31: Rate Class | B31: Rate Description | C31: Unit | D31: Current RTSR-Connection | E31: Loss Adjusted Billed kWh | F31: Billed kW | G31: Billed Amount | H31: Billed Amount % | I31: Current Wholesale Billing | J31: Adjusted RTSR-Connection
A33: Residential Service Classification | B33: Retail Transmission Rate - Line and Transformation Connection Service Rate | C33: $/kWh | D33: ='8. RTSR Rates to Forecast 2027'!J43 -> 0.0088 | E33: ='3. RRR Data 2028'!H18 -> 1.5857989e+09 | F33: ='3. RRR Data 2028'!F18 -> 0 | G33: =IF(D33*E33=0,ROUND(D33*F33,2),ROUND(D33*E33,2)) -> 13955031 | H33: =G33/$G$44 -> 0.40647569 | I33: =H33*$I$44 -> 15116056 | J33: =IF(I33*E33=0,ROUND(I33/F33,4),ROUND(I33/E33,4)) -> 0.0095
A34: Seasonal Residential Service Classification | B34: Retail Transmission Rate - Line and Transformation Connection Service Rate | C34: $/kWh | D34: ='8. RTSR Rates to Forecast 2027'!J44 -> 0.0107 | E34: ='3. RRR Data 2028'!H20 -> 14126200 | F34: ='3. RRR Data 2028'!F20 -> 0 | G34: =IF(D34*E34=0,ROUND(D34*F34,2),ROUND(D34*E34,2)) -> 151150.34 | H34: =G34/$G$44 -> 0.0044026373 | I34: =H34*$I$44 -> 163725.69 | J34: =IF(I34*E34=0,ROUND(I34/F34,4),ROUND(I34/E34,4)) -> 0.0116
A35: General Service Less Than 50 kW Service Classification | B35: Retail Transmission Rate - Line and Transformation Connection Service Rate | C35: $/kWh | D35: ='8. RTSR Rates to Forecast 2027'!J45 -> 0.0082 | E35: ='3. RRR Data 2028'!H22 -> 3.6955755e+08 | F35: ='3. RRR Data 2028'!F22 -> 0 | G35: =IF(D35*E35=0,ROUND(D35*F35,2),ROUND(D35*E35,2)) -> 3030371.9 | H35: =G35/$G$44 -> 0.088267274 | I35: =H35*$I$44 -> 3282491.7 | J35: =IF(I35*E35=0,ROUND(I35/F35,4),ROUND(I35/E35,4)) -> 0.0089
A36: General Service 50 To 2,999 kW Service Classification | B36: Retail Transmission Rate - Line and Transformation Connection Service Rate | C36: $/kW | D36: ='8. RTSR Rates to Forecast 2027'!J46 -> 3.6204 | F36: ='3. RRR Data 2028'!F24 -> 3247733.9 | G36: =IF(D36*E36=0,ROUND(D36*F36,2),ROUND(D36*E36,2)) -> 11758096 | H36: =G36/$G$44 -> 0.34248439 | I36: =H36*$I$44 -> 12736342 | J36: =IF(I36*E36=0,ROUND(I36/F36,4),ROUND(I36/E36,4)) -> 3.9216
A37: General Service 50 To 2,999 kW Service Classification | B37: Retail Transmission Rate - Line and Transformation Connection Service Rate - EV CHARGING | C37: $/kW | D37: ='8. RTSR Rates to Forecast 2027'!J47 -> 0.6149 | F37: ='3. RRR Data 2028'!F26 -> 46671.434 | G37: =IF(D37*E37=0,ROUND(D37*F37,2),ROUND(D37*E37,2)) -> 28698.26 | H37: =G37/$G$44 -> 0.00083590967 | I37: =H37*$I$44 -> 31085.887 | J37: =IF(I37*E37=0,ROUND(I37/F37,4),ROUND(I37/E37,4)) -> 0.6661
A38: General Service 3,000 To 4,999 kW Service Classification | B38: Retail Transmission Rate - Line and Transformation Connection Service Rate | C38: $/kW | D38: ='8. RTSR Rates to Forecast 2027'!J48 -> 2.5581 | F38: ='3. RRR Data 2028'!F28 -> 665751.75 | G38: =IF(D38*E38=0,ROUND(D38*F38,2),ROUND(D38*E38,2)) -> 1703059.6 | H38: =G38/$G$44 -> 0.049605932 | I38: =H38*$I$44 -> 1844750.1 | J38: =IF(I38*E38=0,ROUND(I38/F38,4),ROUND(I38/E38,4)) -> 2.7709
A39: General Service 3,000 To 4,999 kW Service Classification | B39: Retail Transmission Rate - Line and Transformation Connection Service Rate - EV CHARGING | C39: $/kW | D39: =D38*0.17 -> 0.434877 | H39: =G39/$G$44 -> 0 | I39: =H39*$I$44 -> 0 | J39: =J38*0.17 -> 0.471053
A40: Large Use Service Classification | B40: Retail Transmission Rate - Line and Transformation Connection Service Rate | C40: $/kW | D40: ='8. RTSR Rates to Forecast 2027'!J50 -> 3.9523 | F40: ='3. RRR Data 2028'!F32 -> 895387.42 | G40: =IF(D40*E40=0,ROUND(D40*F40,2),ROUND(D40*E40,2)) -> 3538839.7 | H40: =G40/$G$44 -> 0.10307769 | I40: =H40*$I$44 -> 3833262.8 | J40: =IF(I40*E40=0,ROUND(I40/F40,4),ROUND(I40/E40,4)) -> 4.2811
A41: Unmetered Scattered Load Service Classification | B41: Retail Transmission Rate - Line and Transformation Connection Service Rate | C41: $/kWh | D41: ='8. RTSR Rates to Forecast 2027'!J51 -> 0.0083 | E41: ='3. RRR Data 2028'!H34 -> 6718178.7 | F41: ='3. RRR Data 2028'!F34 -> 0 | G41: =IF(D41*E41=0,ROUND(D41*F41,2),ROUND(D41*E41,2)) -> 55760.88 | H41: =G41/$G$44 -> 0.0016241772 | I41: =H41*$I$44 -> 60400.053 | J41: =IF(I41*E41=0,ROUND(I41/F41,4),ROUND(I41/E41,4)) -> 0.009
A42: Sentinel Lighting Service Classification | B42: Retail Transmission Rate - Line and Transformation Connection Service Rate | C42: $/kW | D42: ='8. RTSR Rates to Forecast 2027'!J52 -> 2.346 | F42: ='3. RRR Data 2028'!F36 -> 644.51221 | G42: =IF(D42*E42=0,ROUND(D42*F42,2),ROUND(D42*E42,2)) -> 1512.03 | H42: =G42/$G$44 -> 4.4041712e-05 | I42: =H42*$I$44 -> 1637.8273 | J42: =IF(I42*E42=0,ROUND(I42/F42,4),ROUND(I42/E42,4)) -> 2.5412
A43: Street Lighting Service Classification | B43: Retail Transmission Rate - Line and Transformation Connection Service Rate | C43: $/kW | D43: ='8. RTSR Rates to Forecast 2027'!J53 -> 2.4779 | F43: ='3. RRR Data 2028'!F38 -> 44090.904 | G43: =IF(D43*E43=0,ROUND(D43*F43,2),ROUND(D43*E43,2)) -> 109252.85 | H43: =G43/$G$44 -> 0.0031822666 | I43: =H43*$I$44 -> 118342.43 | J43: =IF(I43*E43=0,ROUND(I43/F43,4),ROUND(I43/E43,4)) -> 2.6841
G44: =SUM(G33:G43) -> 34331772 | H44: =G44/$G$44 -> 1 | I44: ='7. Forecast Wholesale 2028'!P33+'7. Forecast Wholesale 2028'!P52 -> 37188094

Sheet 7. Forecast Wholesale 2029
B13: The purpose of this sheet is to calculate the expected billing when current 2025 Uniform Transmission Rates are applied against historical 2024 transmission units.
B16: IESO | D16: Network | H16: Line Connection | L16: Transformation Connection | P16: Total Connection
B18: Month | D18: Units Billed | E18: Rate | F18: Amount | H18: Units Billed | I18: Rate | J18: Amount | L18: Units Billed | M18: Rate | N18: Amount | P18: Amount
B20: January | D20: 353004.11 | E20: ='4. UTRs & Sub-Transmission'!O22 -> 7.5603958 | F20: =D20*E20 -> 2668850.8 | H20: 182659.69 | I20: ='4. UTRs & Sub-Transmission'!O24 -> 1.213626 | J20: =H20*I20 -> 221680.54 | L20: 376107.83 | M20: ='4. UTRs & Sub-Transmission'!O26 -> 4.0890904 | N20: =L20*M20 -> 1537938.9 | P20: =J20+N20 -> 1759619.4
B21: February | D21: 346368.06 | E21: =E20 -> 7.5603958 | F21: =D21*E21 -> 2618679.6 | H21: 191844.64 | I21: =I20 -> 1.213626 | J21: =H21*I21 -> 232827.63 | L21: 368003.33 | M21: =M20 -> 4.0890904 | N21: =L21*M21 -> 1504798.9 | P21: =J21+N21 -> 1737626.5
B22: March | D22: 340724.33 | E22: =E21 -> 7.5603958 | F22: =D22*E22 -> 2576010.8 | H22: 183450.57 | I22: =I21 -> 1.213626 | J22: =H22*I22 -> 222640.37 | L22: 350431.18 | M22: =M21 -> 4.0890904 | N22: =L22*M22 -> 1432944.8 | P22: =J22+N22 -> 1655585.1
B23: April | D23: 331541.67 | E23: =E22 -> 7.5603958 | F23: =D23*E23 -> 2506586.2 | H23: 175318.6 | I23: =I22 -> 1.213626 | J23: =H23*I23 -> 212771.2 | L23: 334145.5 | M23: =M22 -> 4.0890904 | N23: =L23*M23 -> 1366351.1 | P23: =J23+N23 -> 1579122.3
B24: May | D24: 407151.23 | E24: =E23 -> 7.5603958 | F24: =D24*E24 -> 3078224.5 | H24: 233747.45 | I24: =I23 -> 1.213626 | J24: =H24*I24 -> 283681.98 | L24: 419785.83 | M24: =M23 -> 4.0890904 | N24: =L24*M24 -> 1716542.2 | P24: =J24+N24 -> 2000224.2
B25: June | D25: 463442.08 | E25: =E24 -> 7.5603958 | F25: =D25*E25 -> 3503805.6 | H25: 291575.42 | I25: =I24 -> 1.213626 | J25: =H25*I25 -> 353863.5 | L25: 501162.74 | M25: =M24 -> 4.0890904 | N25: =L25*M25 -> 2049299.7 | P25: =J25+N25 -> 2403163.2
B26: July | D26: 507017.07 | E26: =E25 -> 7.5603958 | F26: =D26*E26 -> 3833249.7 | H26: 305370.58 | I26: =I25 -> 1.213626 | J26: =H26*I26 -> 370605.66 | L26: 519959.55 | M26: =M25 -> 4.0890904 | N26: =L26*M26 -> 2126161.6 | P26: =J26+N26 -> 2496767.2
B27: August | D27: 493007.88 | E27: =E26 -> 7.5603958 | F27: =D27*E27 -> 3727334.7 | H27: 296119.25 | I27: =I26 -> 1.213626 | J27: =H27*I27 -> 359378.01 | L27: 511757.76 | M27: =M26 -> 4.0890904 | N27: =L27*M27 -> 2092623.7 | P27: =J27+N27 -> 2452001.7
B28: September | D28: 428593.08 | E28: =E27 -> 7.5603958 | F28: =D28*E28 -> 3240333.3 | H28: 241395.28 | I28: =I27 -> 1.213626 | J28: =H28*I28 -> 292963.58 | L28: 429735.33 | M28: =M27 -> 4.0890904 | N28: =L28*M28 -> 1757226.6 | P28: =J28+N28 -> 2050190.2
B29: October | D29: 351026.34 | E29: =E28 -> 7.5603958 | F29: =D29*E29 -> 2653898.1 | H29: 252545.4 | I29: =I28 -> 1.213626 | J29: =H29*I29 -> 306495.66 | L29: 367821.35 | M29: =M28 -> 4.0890904 | N29: =L29*M29 -> 1504054.7 | P29: =J29+N29 -> 1810550.4
B30: November | D30: 337881.28 | E30: =E29 -> 7.5603958 | F30: =D30*E30 -> 2554516.2 | H30: 191972.83 | I30: =I29 -> 1.213626 | J30: =H30*I30 -> 232983.21 | L30: 316969.36 | M30: =M29 -> 4.0890904 | N30: =L30*M30 -> 1296116.4 | P30: =J30+N30 -> 1529099.6
B31: December | D31: 367977.01 | E31: =E30 -> 7.5603958 | F31: =D31*E31 -> 2782051.8 | H31: 236671.76 | I31: =I30 -> 1.213626 | J31: =H31*I31 -> 287230.99 | L31: 366768.37 | M31: =M30 -> 4.0890904 | N31: =L31*M31 -> 1499749 | P31: =J31+N31 -> 1786980
B33: Total | D33: =SUM(D20:D31) -> 4727734.1 | E33: =IF(D33<>0,F33/D33,0) -> 7.5603958 | F33: =SUM(F20:F31) -> 35743541 | H33: =SUM(H20:H31) -> 2782671.5 | I33: =IF(H33<>0,J33/H33,0) -> 1.213626 | J33: =SUM(J20:J31) -> 3377122.3 | L33: =SUM(L20:L31) -> 4862648.1 | M33: =IF(L33<>0,N33/L33,0) -> 4.0890904 | N33: =SUM(N20:N31) -> 19883808 | P33: =SUM(P20:P31) -> 23260930
B35: Hydro One | D35: Network | H35: Line Connection | L35: Transformation Connection | P35: Total Connection
B37: Month | D37: Units Billed | E37: Rate | F37: Amount | H37: Units Billed | I37: Rate | J37: Amount | L37: Units Billed | M37: Rate | N37: Amount | P37: Amount
B39: January | D39: 309025.33 | E39: ='4. UTRs & Sub-Transmission'!O35 -> 6.4728346 | F39: =D39*E39 -> 2000269.9 | H39: 280960.98 | I39: ='4. UTRs & Sub-Transmission'!O37 -> 0.83115704 | J39: =H39*I39 -> 233522.7 | L39: 325755.21 | M39: ='4. UTRs & Sub-Transmission'!O39 -> 4.2144734 | N39: =L39*M39 -> 1372886.7 | P39: =J39+N39 -> 1606409.4
B40: February | D40: 309150.18 | E40: =E39 -> 6.4728346 | F40: =D40*E40 -> 2001078 | H40: 257645.76 | I40: =I39 -> 0.83115704 | J40: =H40*I40 -> 214144.08 | L40: 310837.72 | M40: =M39 -> 4.2144734 | N40: =L40*M40 -> 1310017.3 | P40: =J40+N40 -> 1524161.4
B41: March | D41: 260136.45 | E41: =E40 -> 6.4728346 | F41: =D41*E41 -> 1683820.2 | H41: 221868.83 | I41: =I40 -> 0.83115704 | J41: =H41*I41 -> 184407.84 | L41: 264901.49 | M41: =M40 -> 4.2144734 | N41: =L41*M41 -> 1116420.3 | P41: =J41+N41 -> 1300828.1
B42: April | D42: 228916.72 | E42: =E41 -> 6.4728346 | F42: =D42*E42 -> 1481740.1 | H42: 202482.63 | I42: =I41 -> 0.83115704 | J42: =H42*I42 -> 168294.86 | L42: 233620.58 | M42: =M41 -> 4.2144734 | N42: =L42*M42 -> 984587.72 | P42: =J42+N42 -> 1152882.6
B43: May | D43: 267449.17 | E43: =E42 -> 6.4728346 | F43: =D43*E43 -> 1731154.2 | H43: 222220.02 | I43: =I42 -> 0.83115704 | J43: =H43*I43 -> 184699.73 | L43: 269754.69 | M43: =M42 -> 4.2144734 | N43: =L43*M43 -> 1136874 | P43: =J43+N43 -> 1321573.7
B44: June | D44: 346221.69 | E44: =E43 -> 6.4728346 | F44: =D44*E44 -> 2241035.7 | H44: 301886.06 | I44: =I43 -> 0.83115704 | J44: =H44*I44 -> 250914.72 | L44: 349521.89 | M44: =M43 -> 4.2144734 | N44: =L44*M44 -> 1473050.7 | P44: =J44+N44 -> 1723965.4
B45: July | D45: 328758.39 | E45: =E44 -> 6.4728346 | F45: =D45*E45 -> 2127998.7 | H45: 279260.01 | I45: =I44 -> 0.83115704 | J45: =H45*I45 -> 232108.93 | L45: 329716.87 | M45: =M44 -> 4.2144734 | N45: =L45*M45 -> 1389583 | P45: =J45+N45 -> 1621691.9
B46: August | D46: 359917.48 | E46: =E45 -> 6.4728346 | F46: =D46*E46 -> 2329686.3 | H46: 271940.69 | I46: =I45 -> 0.83115704 | J46: =H46*I46 -> 226025.42 | L46: 363891 | M46: =M45 -> 4.2144734 | N46: =L46*M46 -> 1533609 | P46: =J46+N46 -> 1759634.4
B47: September | D47: 300144.99 | E47: =E46 -> 6.4728346 | F47: =D47*E47 -> 1942788.9 | H47: 234017.01 | I47: =I46 -> 0.83115704 | J47: =H47*I47 -> 194504.89 | L47: 301737.63 | M47: =M46 -> 4.2144734 | N47: =L47*M47 -> 1271665.2 | P47: =J47+N47 -> 1466170.1
B48: October | D48: 252732.18 | E48: =E47 -> 6.4728346 | F48: =D48*E48 -> 1635893.6 | H48: 200651.56 | I48: =I47 -> 0.83115704 | J48: =H48*I48 -> 166772.96 | L48: 255692.78 | M48: =M47 -> 4.2144734 | N48: =L48*M48 -> 1077610.4 | P48: =J48+N48 -> 1244383.4
B49: November | D49: 274758.84 | E49: =E48 -> 6.4728346 | F49: =D49*E49 -> 1778468.5 | H49: 222710.79 | I49: =I48 -> 0.83115704 | J49: =H49*I49 -> 185107.64 | L49: 278844.36 | M49: =M48 -> 4.2144734 | N49: =L49*M49 -> 1175182.1 | P49: =J49+N49 -> 1360289.8
B50: December | D50: 282853.31 | E50: =E49 -> 6.4728346 | F50: =D50*E50 -> 1830862.7 | H50: 241750.64 | I50: =I49 -> 0.83115704 | J50: =H50*I50 -> 200932.74 | L50: 289769.58 | M50: =M49 -> 4.2144734 | N50: =L50*M50 -> 1221226.2 | P50: =J50+N50 -> 1422158.9
B52: Total | D52: =SUM(D39:D50) -> 3520064.7 | E52: =IF(D52<>0,F52/D52,0) -> 6.4728346 | F52: =SUM(F39:F50) -> 22784797 | H52: =SUM(H39:H50) -> 2937395 | I52: =IF(H52<>0,J52/H52,0) -> 0.83115704 | J52: =SUM(J39:J50) -> 2441436.5 | L52: =SUM(L39:L50) -> 3574043.8 | M52: =IF(L52<>0,N52/L52,0) -> 4.2144734 | N52: =SUM(N39:N50) -> 15062713 | P52: =SUM(P39:P50) -> 17504149
B54: =#REF! -> #REF! | D54: Network | H54: Line Connection | L54: Transformation Connection | P54: Total Connection
B56: Month | D56: Units Billed | E56: Rate | F56: Amount | H56: Units Billed | I56: Rate | J56: Amount | L56: Units Billed | M56: Rate | N56: Amount | P56: Amount
B58: January
B59: February
B60: March
B61: April
B62: May
B63: June
B64: July
B65: August
B66: September
B67: October
B68: November
B69: December
B71: Total | D71: =SUM(D58:D69) -> 0 | E71: =IF(D71<>0,F71/D71,0) -> 0 | F71: =SUM(F58:F69) -> 0 | H71: =SUM(H58:H69) -> 0 | I71: =IF(H71<>0,J71/H71,0) -> 0 | J71: =SUM(J58:J69) -> 0 | L71: =SUM(L58:L69) -> 0 | M71: =IF(L71<>0,N71/L71,0) -> 0 | N71: =SUM(N58:N69) -> 0 | P71: =SUM(P58:P69) -> 0
B73: =#REF! -> #REF! | D73: Network | H73: Line Connection | L73: Transformation Connection | P73: Total Connection
B75: Month | D75: Units Billed | E75: Rate | F75: Amount | H75: Units Billed | I75: Rate | J75: Amount | L75: Units Billed | M75: Rate | N75: Amount | P75: Amount
B77: January
B78: February
B79: March
B80: April
B81: May
B82: June
B83: July
B84: August
B85: September
B86: October
B87: November
B88: December
B90: Total | D90: =SUM(D77:D88) -> 0 | E90: =IF(D90<>0,F90/D90,0) -> 0 | F90: =SUM(F77:F88) -> 0 | H90: =SUM(H77:H88) -> 0 | I90: =IF(H90<>0,J90/H90,0) -> 0 | J90: =SUM(J77:J88) -> 0 | L90: =SUM(L77:L88) -> 0 | M90: =IF(L90<>0,N90/L90,0) -> 0 | N90: =SUM(N77:N88) -> 0 | P90: =SUM(P77:P88) -> 0
B92: Total | D92: Network | H92: Line Connection | L92: Transformation Connection | P92: Total Connection
B94: Month | D94: Units Billed | E94: Rate | F94: Amount | H94: Units Billed | I94: Rate | J94: Amount | L94: Units Billed | M94: Rate | N94: Amount | P94: Amount
B96: January | D96: =D20+D39+D58+D77 -> 662029.44 | E96: =IF(D96<>0,F96/D96,0) -> 7.0527387 | F96: =F20+F39+F58+F77 -> 4669120.7 | H96: =H20+H39+H58+H77 -> 463620.68 | I96: =IF(H96<>0,J96/H96,0) -> 0.98184414 | J96: =J20+J39+J58+J77 -> 455203.24 | L96: =L20+L39+L58+L77 -> 701863.04 | M96: =IF(L96<>0,N96/L96,0) -> 4.1472843 | N96: =N20+N39+N58+N77 -> 2910825.6 | P96: =J96+N96 -> 3366028.8
B97: February | D97: =D21+D40+D59+D78 -> 655518.24 | E97: =IF(D97<>0,F97/D97,0) -> 7.0474891 | F97: =F21+F40+F59+F78 -> 4619757.6 | H97: =H21+H40+H59+H78 -> 449490.39 | I97: =IF(H97<>0,J97/H97,0) -> 0.99439659 | J97: =J21+J40+J59+J78 -> 446971.72 | L97: =L21+L40+L59+L78 -> 678841.05 | M97: =IF(L97<>0,N97/L97,0) -> 4.1465026 | N97: =N21+N40+N59+N78 -> 2814816.2 | P97: =J97+N97 -> 3261787.9
B98: March | D98: =D22+D41+D60+D79 -> 600860.78 | E98: =IF(D98<>0,F98/D98,0) -> 7.0895475 | F98: =F22+F41+F60+F79 -> 4259831 | H98: =H22+H41+H60+H79 -> 405319.39 | I98: =IF(H98<>0,J98/H98,0) -> 1.0042653 | J98: =J22+J41+J60+J79 -> 407048.21 | L98: =L22+L41+L60+L79 -> 615332.67 | M98: =IF(L98<>0,N98/L98,0) -> 4.1430679 | N98: =N22+N41+N60+N79 -> 2549365 | P98: =J98+N98 -> 2956413.2
B99: April | D99: =D23+D42+D61+D80 -> 560458.39 | E99: =IF(D99<>0,F99/D99,0) -> 7.1161863 | F99: =F23+F42+F61+F80 -> 3988326.3 | H99: =H23+H42+H61+H80 -> 377801.23 | I99: =IF(H99<>0,J99/H99,0) -> 1.0086417 | J99: =J23+J42+J61+J80 -> 381066.06 | L99: =L23+L42+L61+L80 -> 567766.08 | M99: =IF(L99<>0,N99/L99,0) -> 4.1406821 | N99: =N23+N42+N61+N80 -> 2350938.9 | P99: =J99+N99 -> 2732004.9
B100: May | D100: =D24+D43+D62+D81 -> 674600.4 | E100: =IF(D100<>0,F100/D100,0) -> 7.129226 | F100: =F24+F43+F62+F81 -> 4809378.7 | H100: =H24+H43+H62+H81 -> 455967.47 | I100: =IF(H100<>0,J100/H100,0) -> 1.0272261 | J100: =J24+J43+J62+J81 -> 468381.71 | L100: =L24+L43+L62+L81 -> 689540.51 | M100: =IF(L100<>0,N100/L100,0) -> 4.1381414 | N100: =N24+N43+N62+N81 -> 2853416.1 | P100: =J100+N100 -> 3321797.8
B101: June | D101: =D25+D44+D63+D82 -> 809663.77 | E101: =IF(D101<>0,F101/D101,0) -> 7.0953419 | F101: =F25+F44+F63+F82 -> 5744841.3 | H101: =H25+H44+H63+H82 -> 593461.47 | I101: =IF(H101<>0,J101/H101,0) -> 1.019069 | J101: =J25+J44+J63+J82 -> 604778.22 | L101: =L25+L44+L63+L82 -> 850684.63 | M101: =IF(L101<>0,N101/L101,0) -> 4.1406067 | N101: =N25+N44+N63+N82 -> 3522350.4 | P101: =J101+N101 -> 4127128.7
B102: July | D102: =D26+D45+D64+D83 -> 835775.47 | E102: =IF(D102<>0,F102/D102,0) -> 7.1325957 | F102: =F26+F45+F64+F83 -> 5961248.5 | H102: =H26+H45+H64+H83 -> 584630.59 | I102: =IF(H102<>0,J102/H102,0) -> 1.0309323 | J102: =J26+J45+J64+J83 -> 602714.59 | L102: =L26+L45+L64+L83 -> 849676.42 | M102: =IF(L102<>0,N102/L102,0) -> 4.1377452 | N102: =N26+N45+N64+N83 -> 3515744.5 | P102: =J102+N102 -> 4118459.1
B103: August | D103: =D27+D46+D65+D84 -> 852925.36 | E103: =IF(D103<>0,F103/D103,0) -> 7.1014667 | F103: =F27+F46+F65+F84 -> 6057021 | H103: =H27+H46+H65+H84 -> 568059.94 | I103: =IF(H103<>0,J103/H103,0) -> 1.0305311 | J103: =J27+J46+J65+J84 -> 585403.43 | L103: =L27+L46+L65+L84 -> 875648.77 | M103: =IF(L103<>0,N103/L103,0) -> 4.1411955 | N103: =N27+N46+N65+N84 -> 3626232.7 | P103: =J103+N103 -> 4211636.1
B104: September | D104: =D28+D47+D66+D85 -> 728738.07 | E104: =IF(D104<>0,F104/D104,0) -> 7.1124625 | F104: =F28+F47+F66+F85 -> 5183122.2 | H104: =H28+H47+H66+H85 -> 475412.29 | I104: =IF(H104<>0,J104/H104,0) -> 1.0253594 | J104: =J28+J47+J66+J85 -> 487468.47 | L104: =L28+L47+L66+L85 -> 731472.96 | M104: =IF(L104<>0,N104/L104,0) -> 4.1408117 | N104: =N28+N47+N66+N85 -> 3028891.8 | P104: =J104+N104 -> 3516360.3
B105: October | D105: =D29+D48+D67+D86 -> 603758.53 | E105: =IF(D105<>0,F105/D105,0) -> 7.1051447 | F105: =F29+F48+F67+F86 -> 4289791.7 | H105: =H29+H48+H67+H86 -> 453196.97 | I105: =IF(H105<>0,J105/H105,0) -> 1.044289 | J105: =J29+J48+J67+J86 -> 473268.62 | L105: =L29+L48+L67+L86 -> 623514.13 | M105: =IF(L105<>0,N105/L105,0) -> 4.1405079 | N105: =N29+N48+N67+N86 -> 2581665.1 | P105: =J105+N105 -> 3054933.8
B106: November | D106: =D30+D49+D68+D87 -> 612640.12 | E106: =IF(D106<>0,F106/D106,0) -> 7.0726428 | F106: =F30+F49+F68+F87 -> 4332984.8 | H106: =H30+H49+H68+H87 -> 414683.61 | I106: =IF(H106<>0,J106/H106,0) -> 1.0082165 | J106: =J30+J49+J68+J87 -> 418090.84 | L106: =L30+L49+L68+L87 -> 595813.72 | M106: =IF(L106<>0,N106/L106,0) -> 4.1477704 | N106: =N30+N49+N68+N87 -> 2471298.5 | P106: =J106+N106 -> 2889389.4
B107: December | D107: =D31+D50+D69+D88 -> 650830.32 | E107: =IF(D107<>0,F107/D107,0) -> 7.0877376 | F107: =F31+F50+F69+F88 -> 4612914.5 | H107: =H31+H50+H69+H88 -> 478422.39 | I107: =IF(H107<>0,J107/H107,0) -> 1.0203614 | J107: =J31+J50+J69+J88 -> 488163.73 | L107: =L31+L50+L69+L88 -> 656537.95 | M107: =IF(L107<>0,N107/L107,0) -> 4.1444294 | N107: =N31+N50+N69+N88 -> 2720975.2 | P107: =J107+N107 -> 3209138.9
B109: Total | D109: =SUM(D96:D107) -> 8247798.9 | E109: =IF(D109<>0,F109/D109,0) -> 7.0962373 | F109: =SUM(F96:F107) -> 58528338 | H109: =SUM(H96:H107) -> 5720066.4 | I109: =IF(H109<>0,J109/H109,0) -> 1.0172188 | J109: =SUM(J96:J107) -> 5818558.8 | L109: =SUM(L96:L107) -> 8436691.9 | M109: =IF(L109<>0,N109/L109,0) -> 4.1422065 | N109: =SUM(N96:N107) -> 34946520 | P109: =SUM(P96:P107) -> 40765079
N111: Low Voltage Switchgear Credit (if applicable) | P111: =#REF! -> #REF!
N113: Total including deduction for Low Voltage Switchgear Credit | P113: =P109+P111 -> #REF!

Sheet 8. RTSR Rates to Forecast 2029
A13: The purpose of this table is to re-align the current RTS Network Rates to recover current wholesale network costs.
A15: Rate Class | B15: Rate Description | C15: Unit | D15: Current RTSR-Network | E15: Loss Adjusted Billed kWh | F15: Billed kW | G15: Billed Amount | H15: Billed Amount % | I15: Current Wholesale Billing | J15: Adjusted RTSR Network
A17: Residential Service Classification | B17: Retail Transmission Rate - Network Service Rate | C17: $/kWh | D17: ='8. RTSR Rates to Forecast 2028'!J17 -> 0.0132 | E17: ='3. RRR Data 2029'!H17 -> 1.6101102e+09 | F17: ='3. RRR Data 2029'!F17 -> 0 | G17: =IF(D17*E17=0,ROUND(D17*F17,2),ROUND(D17*E17,2)) -> 21253455 | H17: =G17/$G$28 -> 0.38540171 | I17: =H17*$I$28 -> 22556921 | J17: =IF(I17*E17=0,ROUND(I17/F17,4),ROUND(I17/E17,4)) -> 0.014
A18: Seasonal Residential Service Classification | B18: Retail Transmission Rate - Network Service Rate | C18: $/kWh | D18: ='8. RTSR Rates to Forecast 2028'!J18 -> 0.0133 | E18: ='3. RRR Data 2029'!H19 -> 14514483 | F18: ='3. RRR Data 2029'!F19 -> 0 | G18: =IF(D18*E18=0,ROUND(D18*F18,2),ROUND(D18*E18,2)) -> 193042.63 | H18: =G18/$G$28 -> 0.0035005583 | I18: =H18*$I$28 -> 204881.86 | J18: =IF(I18*E18=0,ROUND(I18/F18,4),ROUND(I18/E18,4)) -> 0.0141
A19: General Service Less Than 50 kW Service Classification | B19: Retail Transmission Rate - Network Service Rate | C19: $/kWh | D19: ='8. RTSR Rates to Forecast 2028'!J19 -> 0.012 | E19: ='3. RRR Data 2029'!H21 -> 3.6878122e+08 | F19: ='3. RRR Data 2029'!F21 -> 0 | G19: =IF(D19*E19=0,ROUND(D19*F19,2),ROUND(D19*E19,2)) -> 4425374.7 | H19: =G19/$G$28 -> 0.080247986 | I19: =H19*$I$28 -> 4696781.3 | J19: =IF(I19*E19=0,ROUND(I19/F19,4),ROUND(I19/E19,4)) -> 0.0127
A20: General Service 50 To 2,999 kW Service Classification | B20: Retail Transmission Rate - Network Service Rate | C20: $/kW | D20: ='8. RTSR Rates to Forecast 2028'!J20 -> 5.5425 | F20: ='3. RRR Data 2029'!F23 -> 3295840.2 | G20: =IF(D20*E20=0,ROUND(D20*F20,2),ROUND(D20*E20,2)) -> 18267194 | H20: =G20/$G$28 -> 0.33125004 | I20: =H20*$I$28 -> 19387514 | J20: =IF(I20*E20=0,ROUND(I20/F20,4),ROUND(I20/E20,4)) -> 5.8824
A21: General Service 50 To 2,999 kW Service Classification | B21: Retail Transmission Rate - Network Service Rate - EV CHARGING | C21: $/kW | D21: ='8. RTSR Rates to Forecast 2028'!J21 -> 0.9456 | F21: ='3. RRR Data 2029'!F25 -> 30280.041 | G21: =IF(D21*E21=0,ROUND(D21*F21,2),ROUND(D21*E21,2)) -> 28632.81 | H21: =G21/$G$28 -> 0.000519216 | I21: =H21*$I$28 -> 30388.85 | J21: =IF(I21*E21=0,ROUND(I21/F21,4),ROUND(I21/E21,4)) -> 1.0036
A22: General Service 3,000 To 4,999 kW Service Classification | B22: Retail Transmission Rate - Network Service Rate | C22: $/kW | D22: ='8. RTSR Rates to Forecast 2028'!J22 -> 5.8741 | F22: ='3. RRR Data 2029'!F27 -> 714879.83 | G22: =IF(D22*E22=0,ROUND(D22*F22,2),ROUND(D22*E22,2)) -> 4199275.6 | H22: =G22/$G$28 -> 0.076147995 | I22: =H22*$I$28 -> 4456815.6 | J22: =IF(I22*E22=0,ROUND(I22/F22,4),ROUND(I22/E22,4)) -> 6.2344
A23: General Service 3,000 To 4,999 kW Service Classification | B23: Retail Transmission Rate - Network Service Rate - EV CHARGING | C23: $/kW | D23: =D22*0.17 -> 0.998597 | H23: =G23/$G$28 -> 0 | I23: =H23*$I$28 -> 0 | J23: =J22*0.17 -> 1.059848
A24: Large Use Service Classification | B24: Retail Transmission Rate - Network Service Rate | C24: $/kW | D24: ='8. RTSR Rates to Forecast 2028'!J24 -> 6.2596 | F24: ='3. RRR Data 2029'!F31 -> 1042834.3 | G24: =IF(D24*E24=0,ROUND(D24*F24,2),ROUND(D24*E24,2)) -> 6527725.8 | H24: =G24/$G$28 -> 0.11837119 | I24: =H24*$I$28 -> 6928068.8 | J24: =IF(I24*E24=0,ROUND(I24/F24,4),ROUND(I24/E24,4)) -> 6.6435
A25: Unmetered Scattered Load Service Classification | B25: Retail Transmission Rate - Network Service Rate | C25: $/kWh | D25: ='8. RTSR Rates to Forecast 2028'!J25 -> 0.0121 | E25: ='3. RRR Data 2029'!H33 -> 6688076.1 | F25: ='3. RRR Data 2029'!F33 -> 0 | G25: =IF(D25*E25=0,ROUND(D25*F25,2),ROUND(D25*E25,2)) -> 80925.72 | H25: =G25/$G$28 -> 0.0014674748 | I25: =H25*$I$28 -> 85888.864 | J25: =IF(I25*E25=0,ROUND(I25/F25,4),ROUND(I25/E25,4)) -> 0.0128
A26: Sentinel Lighting Service Classification | B26: Retail Transmission Rate - Network Service Rate | C26: $/kW | D26: ='8. RTSR Rates to Forecast 2028'!J26 -> 3.5922 | F26: ='3. RRR Data 2029'!F35 -> 634.86173 | G26: =IF(D26*E26=0,ROUND(D26*F26,2),ROUND(D26*E26,2)) -> 2280.55 | H26: =G26/$G$28 -> 4.1354588e-05 | I26: =H26*$I$28 -> 2420.4153 | J26: =IF(I26*E26=0,ROUND(I26/F26,4),ROUND(I26/E26,4)) -> 3.8125
A27: Street Lighting Service Classification | B27: Retail Transmission Rate - Network Service Rate | C27: $/kW | D27: ='8. RTSR Rates to Forecast 2028'!J27 -> 3.7705 | F27: ='3. RRR Data 2029'!F37 -> 44644.724 | G27: =IF(D27*E27=0,ROUND(D27*F27,2),ROUND(D27*E27,2)) -> 168332.93 | H27: =G27/$G$28 -> 0.0030524825 | I27: =H27*$I$28 -> 178656.73 | J27: =IF(I27*E27=0,ROUND(I27/F27,4),ROUND(I27/E27,4)) -> 4.0017
G28: =SUM(G17:G27) -> 55146240 | H28: =G28/$G$28 -> 1 | I28: ='7. Forecast Wholesale 2029'!F33+'7. Forecast Wholesale 2029'!F52 -> 58528338
A30: The purpose of this table is to re-align the current RTS Connection Rates to recover current wholesale connection costs.
A31: Rate Class | B31: Rate Description | C31: Unit | D31: Current RTSR-Connection | E31: Loss Adjusted Billed kWh | F31: Billed kW | G31: Billed Amount | H31: Billed Amount % | I31: Current Wholesale Billing | J31: Adjusted RTSR-Connection
A33: Residential Service Classification | B33: Retail Transmission Rate - Line and Transformation Connection Service Rate | C33: $/kWh | D33: ='8. RTSR Rates to Forecast 2028'!J33 -> 0.0095 | E33: ='3. RRR Data 2029'!H18 -> 1.6101102e+09 | F33: ='3. RRR Data 2029'!F18 -> 0 | G33: =IF(D33*E33=0,ROUND(D33*F33,2),ROUND(D33*E33,2)) -> 15296047 | H33: =G33/$G$44 -> 0.39917991 | I33: =H33*$I$44 -> 16272601 | J33: =IF(I33*E33=0,ROUND(I33/F33,4),ROUND(I33/E33,4)) -> 0.0101
A34: Seasonal Residential Service Classification | B34: Retail Transmission Rate - Line and Transformation Connection Service Rate | C34: $/kWh | D34: ='8. RTSR Rates to Forecast 2028'!J34 -> 0.0116 | E34: ='3. RRR Data 2029'!H20 -> 14514483 | F34: ='3. RRR Data 2029'!F20 -> 0 | G34: =IF(D34*E34=0,ROUND(D34*F34,2),ROUND(D34*E34,2)) -> 168368.01 | H34: =G34/$G$44 -> 0.0043938886 | I34: =H34*$I$44 -> 179117.22 | J34: =IF(I34*E34=0,ROUND(I34/F34,4),ROUND(I34/E34,4)) -> 0.0123
A35: General Service Less Than 50 kW Service Classification | B35: Retail Transmission Rate - Line and Transformation Connection Service Rate | C35: $/kWh | D35: ='8. RTSR Rates to Forecast 2028'!J35 -> 0.0089 | E35: ='3. RRR Data 2029'!H22 -> 3.6878122e+08 | F35: ='3. RRR Data 2029'!F22 -> 0 | G35: =IF(D35*E35=0,ROUND(D35*F35,2),ROUND(D35*E35,2)) -> 3282152.9 | H35: =G35/$G$44 -> 0.085654122 | I35: =H35*$I$44 -> 3491697 | J35: =IF(I35*E35=0,ROUND(I35/F35,4),ROUND(I35/E35,4)) -> 0.0095
A36: General Service 50 To 2,999 kW Service Classification | B36: Retail Transmission Rate - Line and Transformation Connection Service Rate | C36: $/kW | D36: ='8. RTSR Rates to Forecast 2028'!J36 -> 3.9216 | F36: ='3. RRR Data 2029'!F24 -> 3295840.2 | G36: =IF(D36*E36=0,ROUND(D36*F36,2),ROUND(D36*E36,2)) -> 12924967 | H36: =G36/$G$44 -> 0.33730199 | I36: =H36*$I$44 -> 13750142 | J36: =IF(I36*E36=0,ROUND(I36/F36,4),ROUND(I36/E36,4)) -> 4.172
A37: General Service 50 To 2,999 kW Service Classification | B37: Retail Transmission Rate - Line and Transformation Connection Service Rate - EV CHARGING | C37: $/kW | D37: ='8. RTSR Rates to Forecast 2028'!J37 -> 0.6661 | F37: ='3. RRR Data 2029'!F26 -> 30280.041 | G37: =IF(D37*E37=0,ROUND(D37*F37,2),ROUND(D37*E37,2)) -> 20169.54 | H37: =G37/$G$44 -> 0.00052636312 | I37: =H37*$I$44 -> 21457.234 | J37: =IF(I37*E37=0,ROUND(I37/F37,4),ROUND(I37/E37,4)) -> 0.7086
A38: General Service 3,000 To 4,999 kW Service Classification | B38: Retail Transmission Rate - Line and Transformation Connection Service Rate | C38: $/kW | D38: ='8. RTSR Rates to Forecast 2028'!J38 -> 2.7709 | F38: ='3. RRR Data 2029'!F28 -> 714879.83 | G38: =IF(D38*E38=0,ROUND(D38*F38,2),ROUND(D38*E38,2)) -> 1980860.5 | H38: =G38/$G$44 -> 0.051694383 | I38: =H38*$I$44 -> 2107325.6 | J38: =IF(I38*E38=0,ROUND(I38/F38,4),ROUND(I38/E38,4)) -> 2.9478
A39: General Service 3,000 To 4,999 kW Service Classification | B39: Retail Transmission Rate - Line and Transformation Connection Service Rate - EV CHARGING | C39: $/kW | D39: =D38*0.17 -> 0.471053 | H39: =G39/$G$44 -> 0 | I39: =H39*$I$44 -> 0 | J39: =J38*0.17 -> 0.501126
A40: Large Use Service Classification | B40: Retail Transmission Rate - Line and Transformation Connection Service Rate | C40: $/kW | D40: ='8. RTSR Rates to Forecast 2028'!J40 -> 4.2811 | F40: ='3. RRR Data 2029'!F32 -> 1042834.3 | G40: =IF(D40*E40=0,ROUND(D40*F40,2),ROUND(D40*E40,2)) -> 4464478 | H40: =G40/$G$44 -> 0.11650918 | I40: =H40*$I$44 -> 4749506 | J40: =IF(I40*E40=0,ROUND(I40/F40,4),ROUND(I40/E40,4)) -> 4.5544
A41: Unmetered Scattered Load Service Classification | B41: Retail Transmission Rate - Line and Transformation Connection Service Rate | C41: $/kWh | D41: ='8. RTSR Rates to Forecast 2028'!J41 -> 0.009 | E41: ='3. RRR Data 2029'!H34 -> 6688076.1 | F41: ='3. RRR Data 2029'!F34 -> 0 | G41: =IF(D41*E41=0,ROUND(D41*F41,2),ROUND(D41*E41,2)) -> 60192.69 | H41: =G41/$G$44 -> 0.0015708446 | I41: =H41*$I$44 -> 64035.603 | J41: =IF(I41*E41=0,ROUND(I41/F41,4),ROUND(I41/E41,4)) -> 0.0096
A42: Sentinel Lighting Service Classification | B42: Retail Transmission Rate - Line and Transformation Connection Service Rate | C42: $/kW | D42: ='8. RTSR Rates to Forecast 2028'!J42 -> 2.5412 | F42: ='3. RRR Data 2029'!F36 -> 634.86173 | G42: =IF(D42*E42=0,ROUND(D42*F42,2),ROUND(D42*E42,2)) -> 1613.31 | H42: =G42/$G$44 -> 4.2102442e-05 | I42: =H42*$I$44 -> 1716.3094 | J42: =IF(I42*E42=0,ROUND(I42/F42,4),ROUND(I42/E42,4)) -> 2.7034
A43: Street Lighting Service Classification | B43: Retail Transmission Rate - Line and Transformation Connection Service Rate | C43: $/kW | D43: ='8. RTSR Rates to Forecast 2028'!J43 -> 2.6841 | F43: ='3. RRR Data 2029'!F38 -> 44644.724 | G43: =IF(D43*E43=0,ROUND(D43*F43,2),ROUND(D43*E43,2)) -> 119830.9 | H43: =G43/$G$44 -> 0.0031272189 | I43: =H43*$I$44 -> 127481.33 | J43: =IF(I43*E43=0,ROUND(I43/F43,4),ROUND(I43/E43,4)) -> 2.8555
G44: =SUM(G33:G43) -> 38318680 | I44: ='7. Forecast Wholesale 2029'!P33+'7. Forecast Wholesale 2029'!P52 -> 40765079

Sheet 7. Forecast Wholesale 2030
B13: The purpose of this sheet is to calculate the expected billing when current 2025 Uniform Transmission Rates are applied against historical 2024 transmission units.
B16: IESO | D16: Network | H16: Line Connection | L16: Transformation Connection | P16: Total Connection
B18: Month | D18: Units Billed | E18: Rate | F18: Amount | H18: Units Billed | I18: Rate | J18: Amount | L18: Units Billed | M18: Rate | N18: Amount | P18: Amount
B20: January | D20: 364372.17 | E20: ='4. UTRs & Sub-Transmission'!P22 -> 7.9963616 | F20: =D20*E20 -> 2913651.6 | H20: 188542.02 | I20: ='4. UTRs & Sub-Transmission'!P24 -> 1.2818407 | J20: =H20*I20 -> 241680.84 | L20: 388219.92 | M20: ='4. UTRs & Sub-Transmission'!P26 -> 4.319092 | N20: =L20*M20 -> 1676757.5 | P20: =J20+N20 -> 1918438.4
B21: February | D21: 357522.42 | E21: =E20 -> 7.9963616 | F21: =D21*E21 -> 2858878.5 | H21: 198022.76 | I21: =I20 -> 1.2818407 | J21: =H21*I21 -> 253833.64 | L21: 379854.42 | M21: =M20 -> 4.319092 | N21: =L21*M21 -> 1640626.2 | P21: =J21+N21 -> 1894459.8
B22: March | D22: 351696.93 | E22: =E21 -> 7.9963616 | F22: =D22*E22 -> 2812295.8 | H22: 189358.37 | I22: =I21 -> 1.2818407 | J22: =H22*I22 -> 242727.27 | L22: 361716.39 | M22: =M21 -> 4.319092 | N22: =L22*M22 -> 1562286.3 | P22: =J22+N22 -> 1805013.6
B23: April | D23: 342218.56 | E23: =E22 -> 7.9963616 | F23: =D23*E23 -> 2736503.3 | H23: 180964.52 | I23: =I22 -> 1.2818407 | J23: =H23*I23 -> 231967.69 | L23: 344906.24 | M23: =M22 -> 4.319092 | N23: =L23*M23 -> 1489681.8 | P23: =J23+N23 -> 1721649.5
B24: May | D24: 420263.04 | E24: =E23 -> 7.9963616 | F24: =D24*E24 -> 3360575.2 | H24: 241275 | I24: =I23 -> 1.2818407 | J24: =H24*I24 -> 309276.12 | L24: 433304.51 | M24: =M23 -> 4.319092 | N24: =L24*M24 -> 1871482 | P24: =J24+N24 -> 2180758.2
B25: June | D25: 478366.66 | E25: =E24 -> 7.9963616 | F25: =D25*E25 -> 3825192.8 | H25: 300965.24 | I25: =I24 -> 1.2818407 | J25: =H25*I25 -> 385789.51 | L25: 517302.07 | M25: =M24 -> 4.319092 | N25: =L25*M25 -> 2234275.2 | P25: =J25+N25 -> 2620064.7
B26: July | D26: 523344.93 | E26: =E25 -> 7.9963616 | F26: =D26*E26 -> 4184855.3 | H26: 315204.66 | I26: =I25 -> 1.2818407 | J26: =H26*I26 -> 404042.17 | L26: 536704.2 | M26: =M25 -> 4.319092 | N26: =L26*M26 -> 2318074.8 | P26: =J26+N26 -> 2722117
B27: August | D27: 508884.59 | E27: =E26 -> 7.9963616 | F27: =D27*E27 -> 4069225.2 | H27: 305655.4 | I27: =I26 -> 1.2818407 | J27: =H27*I27 -> 391801.55 | L27: 528238.29 | M27: =M26 -> 4.319092 | N27: =L27*M27 -> 2281509.7 | P27: =J27+N27 -> 2673311.3
B28: September | D28: 442395.39 | E28: =E27 -> 7.9963616 | F28: =D28*E28 -> 3537553.5 | H28: 249169.11 | I28: =I27 -> 1.2818407 | J28: =H28*I28 -> 319395.12 | L28: 443574.42 | M28: =M27 -> 4.319092 | N28: =L28*M28 -> 1915838.7 | P28: =J28+N28 -> 2235233.8
B29: October | D29: 362330.71 | E29: =E28 -> 7.9963616 | F29: =D29*E29 -> 2897327.4 | H29: 260678.32 | I29: =I28 -> 1.2818407 | J29: =H29*I29 -> 334148.08 | L29: 379666.58 | M29: =M28 -> 4.319092 | N29: =L29*M29 -> 1639814.9 | P29: =J29+N29 -> 1973963
B30: November | D30: 348762.33 | E30: =E29 -> 7.9963616 | F30: =D30*E30 -> 2788829.7 | H30: 198155.07 | I30: =I29 -> 1.2818407 | J30: =H30*I30 -> 254003.24 | L30: 327176.97 | M30: =M29 -> 4.319092 | N30: =L30*M30 -> 1413107.4 | P30: =J30+N30 -> 1667110.7
B31: December | D31: 379827.25 | E31: =E30 -> 7.9963616 | F31: =D31*E31 -> 3037236 | H31: 244293.48 | I31: =I30 -> 1.2818407 | J31: =H31*I31 -> 313145.33 | L31: 378579.69 | M31: =M30 -> 4.319092 | N31: =L31*M31 -> 1635120.5 | P31: =J31+N31 -> 1948265.8
B33: Total | D33: =SUM(D20:D31) -> 4879985 | E33: =IF(D33<>0,F33/D33,0) -> 7.9963616 | F33: =SUM(F20:F31) -> 39022124 | H33: =SUM(H20:H31) -> 2872283.9 | I33: =IF(H33<>0,J33/H33,0) -> 1.2818407 | J33: =SUM(J20:J31) -> 3681810.6 | L33: =SUM(L20:L31) -> 5019243.7 | M33: =IF(L33<>0,N33/L33,0) -> 4.319092 | N33: =SUM(N20:N31) -> 21678575 | P33: =SUM(P20:P31) -> 25360386
B35: Hydro One | D35: Network | H35: Line Connection | L35: Transformation Connection | P35: Total Connection
B37: Month | D37: Units Billed | E37: Rate | F37: Amount | H37: Units Billed | I37: Rate | J37: Amount | L37: Units Billed | M37: Rate | N37: Amount | P37: Amount
B39: January | D39: 318977.11 | E39: ='4. UTRs & Sub-Transmission'!P35 -> 6.8460868 | F39: =D39*E39 -> 2183745 | H39: 290008.99 | I39: ='4. UTRs & Sub-Transmission'!P37 -> 0.87787423 | J39: =H39*I39 -> 254591.41 | L39: 336245.75 | M39: ='4. UTRs & Sub-Transmission'!P39 -> 4.4515275 | N39: =L39*M39 -> 1496807.2 | P39: =J39+N39 -> 1751398.6
B40: February | D40: 319105.97 | E40: =E39 -> 6.8460868 | F40: =D40*E40 -> 2184627.2 | H40: 265942.92 | I40: =I39 -> 0.87787423 | J40: =H40*I40 -> 233464.43 | L40: 320847.87 | M40: =M39 -> 4.4515275 | N40: =L40*M40 -> 1428263.1 | P40: =J40+N40 -> 1661727.5
B41: March | D41: 268513.82 | E41: =E40 -> 6.8460868 | F41: =D41*E41 -> 1838268.9 | H41: 229013.84 | I41: =I40 -> 0.87787423 | J41: =H41*I41 -> 201045.35 | L41: 273432.31 | M41: =M40 -> 4.4515275 | N41: =L41*M41 -> 1217191.5 | P41: =J41+N41 -> 1418236.8
B42: April | D42: 236288.7 | E42: =E41 -> 6.8460868 | F42: =D42*E42 -> 1617652.9 | H42: 209003.33 | I42: =I41 -> 0.87787423 | J42: =H42*I42 -> 183478.63 | L42: 241144.04 | M42: =M41 -> 4.4515275 | N42: =L42*M42 -> 1073459.3 | P42: =J42+N42 -> 1256938
B43: May | D43: 276062.04 | E43: =E42 -> 6.8460868 | F43: =D43*E43 -> 1889944.7 | H43: 229376.34 | I43: =I42 -> 0.87787423 | J43: =H43*I43 -> 201363.58 | L43: 278441.8 | M43: =M42 -> 4.4515275 | N43: =L43*M43 -> 1239491.3 | P43: =J43+N43 -> 1440854.9
B44: June | D44: 357371.33 | E44: =E43 -> 6.8460868 | F44: =D44*E44 -> 2446595.1 | H44: 311607.92 | I44: =I43 -> 0.87787423 | J44: =H44*I44 -> 273552.56 | L44: 360777.81 | M44: =M43 -> 4.4515275 | N44: =L44*M44 -> 1606012.4 | P44: =J44+N44 -> 1879564.9
B45: July | D45: 339345.65 | E45: =E44 -> 6.8460868 | F45: =D45*E45 -> 2323189.8 | H45: 288253.24 | I45: =I44 -> 0.87787423 | J45: =H45*I45 -> 253050.09 | L45: 340334.99 | M45: =M44 -> 4.4515275 | N45: =L45*M45 -> 1515010.6 | P45: =J45+N45 -> 1768060.7
B46: August | D46: 371508.17 | E46: =E45 -> 6.8460868 | F46: =D46*E46 -> 2543377.2 | H46: 280698.21 | I46: =I45 -> 0.87787423 | J46: =H46*I46 -> 246417.72 | L46: 375609.66 | M46: =M45 -> 4.4515275 | N46: =L46*M46 -> 1672036.8 | P46: =J46+N46 -> 1918454.5
B47: September | D47: 309810.79 | E47: =E46 -> 6.8460868 | F47: =D47*E47 -> 2120991.6 | H47: 241553.24 | I47: =I46 -> 0.87787423 | J47: =H47*I47 -> 212053.37 | L47: 311454.72 | M47: =M46 -> 4.4515275 | N47: =L47*M47 -> 1386449.3 | P47: =J47+N47 -> 1598502.6
B48: October | D48: 260871.11 | E48: =E47 -> 6.8460868 | F48: =D48*E48 -> 1785946.3 | H48: 207113.3 | I48: =I47 -> 0.87787423 | J48: =H48*I48 -> 181819.43 | L48: 263927.05 | M48: =M47 -> 4.4515275 | N48: =L48*M48 -> 1174878.5 | P48: =J48+N48 -> 1356697.9
B49: November | D49: 283607.11 | E49: =E48 -> 6.8460868 | F49: =D49*E49 -> 1941598.9 | H49: 229882.91 | I49: =I48 -> 0.87787423 | J49: =H49*I49 -> 201808.28 | L49: 287824.2 | M49: =M48 -> 4.4515275 | N49: =L49*M49 -> 1281257.3 | P49: =J49+N49 -> 1483065.6
B50: December | D50: 291962.25 | E50: =E49 -> 6.8460868 | F50: =D50*E50 -> 1998798.9 | H50: 249535.92 | I50: =I49 -> 0.87787423 | J50: =H50*I50 -> 219061.15 | L50: 299101.25 | M50: =M49 -> 4.4515275 | N50: =L50*M50 -> 1331457.5 | P50: =J50+N50 -> 1550518.6
B52: Total | D52: =SUM(D39:D50) -> 3633424 | E52: =IF(D52<>0,F52/D52,0) -> 6.8460868 | F52: =SUM(F39:F50) -> 24874737 | H52: =SUM(H39:H50) -> 3031990.1 | I52: =IF(H52<>0,J52/H52,0) -> 0.87787423 | J52: =SUM(J39:J50) -> 2661706 | L52: =SUM(L39:L50) -> 3689141.5 | M52: =IF(L52<>0,N52/L52,0) -> 4.4515275 | N52: =SUM(N39:N50) -> 16422315 | P52: =SUM(P39:P50) -> 19084021
B54: =#REF! -> #REF! | D54: Network | H54: Line Connection | L54: Transformation Connection | P54: Total Connection
B56: Month | D56: Units Billed | E56: Rate | F56: Amount | H56: Units Billed | I56: Rate | J56: Amount | L56: Units Billed | M56: Rate | N56: Amount | P56: Amount
B58: January
B59: February
B60: March
B61: April
B62: May
B63: June
B64: July
B65: August
B66: September
B67: October
B68: November
B69: December
B71: Total | D71: =SUM(D58:D69) -> 0 | E71: =IF(D71<>0,F71/D71,0) -> 0 | F71: =SUM(F58:F69) -> 0 | H71: =SUM(H58:H69) -> 0 | I71: =IF(H71<>0,J71/H71,0) -> 0 | J71: =SUM(J58:J69) -> 0 | L71: =SUM(L58:L69) -> 0 | M71: =IF(L71<>0,N71/L71,0) -> 0 | N71: =SUM(N58:N69) -> 0 | P71: =SUM(P58:P69) -> 0
B73: =#REF! -> #REF! | D73: Network | H73: Line Connection | L73: Transformation Connection | P73: Total Connection
B75: Month | D75: Units Billed | E75: Rate | F75: Amount | H75: Units Billed | I75: Rate | J75: Amount | L75: Units Billed | M75: Rate | N75: Amount | P75: Amount
B77: January
B78: February
B79: March
B80: April
B81: May
B82: June
B83: July
B84: August
B85: September
B86: October
B87: November
B88: December
B90: Total | D90: =SUM(D77:D88) -> 0 | E90: =IF(D90<>0,F90/D90,0) -> 0 | F90: =SUM(F77:F88) -> 0 | H90: =SUM(H77:H88) -> 0 | I90: =IF(H90<>0,J90/H90,0) -> 0 | J90: =SUM(J77:J88) -> 0 | L90: =SUM(L77:L88) -> 0 | M90: =IF(L90<>0,N90/L90,0) -> 0 | N90: =SUM(N77:N88) -> 0 | P90: =SUM(P77:P88) -> 0
B92: Total | D92: Network | H92: Line Connection | L92: Transformation Connection | P92: Total Connection
B94: Month | D94: Units Billed | E94: Rate | F94: Amount | H94: Units Billed | I94: Rate | J94: Amount | L94: Units Billed | M94: Rate | N94: Amount | P94: Amount
B96: January | D96: =D20+D39+D58+D77 -> 683349.28 | E96: =IF(D96<>0,F96/D96,0) -> 7.4594307 | F96: =F20+F39+F58+F77 -> 5097396.6 | H96: =H20+H39+H58+H77 -> 478551.01 | I96: =IF(H96<>0,J96/H96,0) -> 1.0370311 | J96: =J20+J39+J58+J77 -> 496272.26 | L96: =L20+L39+L58+L77 -> 724465.67 | M96: =IF(L96<>0,N96/L96,0) -> 4.3805592 | N96: =N20+N39+N58+N77 -> 3173564.7 | P96: =J96+N96 -> 3669837
B97: February | D97: =D21+D40+D59+D78 -> 676628.39 | E97: =IF(D97<>0,F97/D97,0) -> 7.4538784 | F97: =F21+F40+F59+F78 -> 5043505.7 | H97: =H21+H40+H59+H78 -> 463965.67 | I97: =IF(H97<>0,J97/H97,0) -> 1.0502891 | J97: =J21+J40+J59+J78 -> 487298.07 | L97: =L21+L40+L59+L78 -> 700702.29 | M97: =IF(L97<>0,N97/L97,0) -> 4.3797335 | N97: =N21+N40+N59+N78 -> 3068889.3 | P97: =J97+N97 -> 3556187.4
B98: March | D98: =D22+D41+D60+D79 -> 620210.75 | E98: =IF(D98<>0,F98/D98,0) -> 7.498362 | F98: =F22+F41+F60+F79 -> 4650564.8 | H98: =H22+H41+H60+H79 -> 418372.2 | I98: =IF(H98<>0,J98/H98,0) -> 1.0607125 | J98: =J22+J41+J60+J79 -> 443772.61 | L98: =L22+L41+L60+L79 -> 635148.7 | M98: =IF(L98<>0,N98/L98,0) -> 4.3761056 | N98: =N22+N41+N60+N79 -> 2779477.8 | P98: =J98+N98 -> 3223250.4
B99: April | D99: =D23+D42+D61+D80 -> 578507.26 | E99: =IF(D99<>0,F99/D99,0) -> 7.526537 | F99: =F23+F42+F61+F80 -> 4354156.3 | H99: =H23+H42+H61+H80 -> 389967.85 | I99: =IF(H99<>0,J99/H99,0) -> 1.0653348 | J99: =J23+J42+J61+J80 -> 415446.33 | L99: =L23+L42+L61+L80 -> 586050.28 | M99: =IF(L99<>0,N99/L99,0) -> 4.3735857 | N99: =N23+N42+N61+N80 -> 2563141.1 | P99: =J99+N99 -> 2978587.4
B100: May | D100: =D24+D43+D62+D81 -> 696325.07 | E100: =IF(D100<>0,F100/D100,0) -> 7.5403286 | F100: =F24+F43+F62+F81 -> 5250519.9 | H100: =H24+H43+H62+H81 -> 470651.34 | I100: =IF(H100<>0,J100/H100,0) -> 1.0849639 | J100: =J24+J43+J62+J81 -> 510639.7 | L100: =L24+L43+L62+L81 -> 711746.31 | M100: =IF(L100<>0,N100/L100,0) -> 4.370902 | N100: =N24+N43+N62+N81 -> 3110973.4 | P100: =J100+N100 -> 3621613.1
B101: June | D101: =D25+D44+D63+D82 -> 835737.99 | E101: =IF(D101<>0,F101/D101,0) -> 7.5044907 | F101: =F25+F44+F63+F82 -> 6271787.9 | H101: =H25+H44+H63+H82 -> 612573.17 | I101: =IF(H101<>0,J101/H101,0) -> 1.0763483 | J101: =J25+J44+J63+J82 -> 659342.07 | L101: =L25+L44+L63+L82 -> 878079.88 | M101: =IF(L101<>0,N101/L101,0) -> 4.3735059 | N101: =N25+N44+N63+N82 -> 3840287.5 | P101: =J101+N101 -> 4499629.6
B102: July | D102: =D26+D45+D64+D83 -> 862690.58 | E102: =IF(D102<>0,F102/D102,0) -> 7.5438926 | F102: =F26+F45+F64+F83 -> 6508045.1 | H102: =H26+H45+H64+H83 -> 603457.9 | I102: =IF(H102<>0,J102/H102,0) -> 1.0888784 | J102: =J26+J45+J64+J83 -> 657092.26 | L102: =L26+L45+L64+L83 -> 877039.19 | M102: =IF(L102<>0,N102/L102,0) -> 4.3704836 | N102: =N26+N45+N64+N83 -> 3833085.4 | P102: =J102+N102 -> 4490177.6
B103: August | D103: =D27+D46+D65+D84 -> 880392.76 | E103: =IF(D103<>0,F103/D103,0) -> 7.5109686 | F103: =F27+F46+F65+F84 -> 6612602.4 | H103: =H27+H46+H65+H84 -> 586353.61 | I103: =IF(H103<>0,J103/H103,0) -> 1.0884546 | J103: =J27+J46+J65+J84 -> 638219.27 | L103: =L27+L46+L65+L84 -> 903847.95 | M103: =IF(L103<>0,N103/L103,0) -> 4.3741278 | N103: =N27+N46+N65+N84 -> 3953546.5 | P103: =J103+N103 -> 4591765.8
B104: September | D104: =D28+D47+D66+D85 -> 752206.18 | E104: =IF(D104<>0,F104/D104,0) -> 7.5225985 | F104: =F28+F47+F66+F85 -> 5658545 | H104: =H28+H47+H66+H85 -> 490722.36 | I104: =IF(H104<>0,J104/H104,0) -> 1.0829922 | J104: =J28+J47+J66+J85 -> 531448.49 | L104: =L28+L47+L66+L85 -> 755029.14 | M104: =IF(L104<>0,N104/L104,0) -> 4.3737225 | N104: =N28+N47+N66+N85 -> 3302288 | P104: =J104+N104 -> 3833736.5
B105: October | D105: =D29+D48+D67+D86 -> 623201.82 | E105: =IF(D105<>0,F105/D105,0) -> 7.5148587 | F105: =F29+F48+F67+F86 -> 4683273.7 | H105: =H29+H48+H67+H86 -> 467791.62 | I105: =IF(H105<>0,J105/H105,0) -> 1.1029858 | J105: =J29+J48+J67+J86 -> 515967.51 | L105: =L29+L48+L67+L86 -> 643593.63 | M105: =IF(L105<>0,N105/L105,0) -> 4.3734016 | N105: =N29+N48+N67+N86 -> 2814693.4 | P105: =J105+N105 -> 3330660.9
B106: November | D106: =D30+D49+D68+D87 -> 632369.44 | E106: =IF(D106<>0,F106/D106,0) -> 7.4804826 | F106: =F30+F49+F68+F87 -> 4730428.6 | H106: =H30+H49+H68+H87 -> 428037.98 | I106: =IF(H106<>0,J106/H106,0) -> 1.0648857 | J106: =J30+J49+J68+J87 -> 455811.53 | L106: =L30+L49+L68+L87 -> 615001.17 | M106: =IF(L106<>0,N106/L106,0) -> 4.3810726 | N106: =N30+N49+N68+N87 -> 2694364.8 | P106: =J106+N106 -> 3150176.3
B107: December | D107: =D31+D50+D69+D88 -> 671789.5 | E107: =IF(D107<>0,F107/D107,0) -> 7.4964478 | F107: =F31+F50+F69+F88 -> 5036035 | H107: =H31+H50+H69+H88 -> 493829.39 | I107: =IF(H107<>0,J107/H107,0) -> 1.0777132 | J107: =J31+J50+J69+J88 -> 532206.48 | L107: =L31+L50+L69+L88 -> 677680.95 | M107: =IF(L107<>0,N107/L107,0) -> 4.3775437 | N107: =N31+N50+N69+N88 -> 2966578 | P107: =J107+N107 -> 3498784.4
B109: Total | D109: =SUM(D96:D107) -> 8513409 | E109: =IF(D109<>0,F109/D109,0) -> 7.5054377 | F109: =SUM(F96:F107) -> 63896861 | H109: =SUM(H96:H107) -> 5904274.1 | I109: =IF(H109<>0,J109/H109,0) -> 1.074394 | J109: =SUM(J96:J107) -> 6343516.6 | L109: =SUM(L96:L107) -> 8708385.2 | M109: =IF(L109<>0,N109/L109,0) -> 4.3751958 | N109: =SUM(N96:N107) -> 38100890 | P109: =SUM(P96:P107) -> 44444406
N111: Low Voltage Switchgear Credit (if applicable) | P111: =#REF! -> #REF!
N113: Total including deduction for Low Voltage Switchgear Credit | P113: =P109+P111 -> #REF!

Sheet 8. RTSR Rates to Forecast 2030
A13: The purpose of this table is to re-align the current RTS Network Rates to recover current wholesale network costs.
A15: Rate Class | B15: Rate Description | C15: Unit | D15: Current RTSR-Network | E15: Loss Adjusted Billed kWh | F15: Billed kW | G15: Billed Amount | H15: Billed Amount % | I15: Current Wholesale Billing | J15: Adjusted RTSR Network
A17: Residential Service Classification | B17: Retail Transmission Rate - Network Service Rate | C17: $/kWh | D17: ='8. RTSR Rates to Forecast 2029'!J17 -> 0.014 | E17: ='3. RRR Data 2030'!H17 -> 1.6435074e+09 | F17: ='3. RRR Data 2030'!F17 -> 0 | G17: =IF(D17*E17=0,ROUND(D17*F17,2),ROUND(D17*E17,2)) -> 23009104 | H17: =G17/$G$28 -> 0.38519997 | I17: =H17*$I$28 -> 24613069 | J17: =IF(I17*E17=0,ROUND(I17/F17,4),ROUND(I17/E17,4)) -> 0.015
A18: Seasonal Residential Service Classification | B18: Retail Transmission Rate - Network Service Rate | C18: $/kWh | D18: ='8. RTSR Rates to Forecast 2029'!J18 -> 0.0141 | E18: ='3. RRR Data 2030'!H19 -> 14989506 | F18: ='3. RRR Data 2030'!F19 -> 0 | G18: =IF(D18*E18=0,ROUND(D18*F18,2),ROUND(D18*E18,2)) -> 211352.04 | H18: =G18/$G$28 -> 0.0035382864 | I18: =H18*$I$28 -> 226085.4 | J18: =IF(I18*E18=0,ROUND(I18/F18,4),ROUND(I18/E18,4)) -> 0.0151
A19: General Service Less Than 50 kW Service Classification | B19: Retail Transmission Rate - Network Service Rate | C19: $/kWh | D19: ='8. RTSR Rates to Forecast 2029'!J19 -> 0.0127 | E19: ='3. RRR Data 2030'!H21 -> 3.7009963e+08 | F19: ='3. RRR Data 2030'!F21 -> 0 | G19: =IF(D19*E19=0,ROUND(D19*F19,2),ROUND(D19*E19,2)) -> 4700265.4 | H19: =G19/$G$28 -> 0.078688075 | I19: =H19*$I$28 -> 5027921 | J19: =IF(I19*E19=0,ROUND(I19/F19,4),ROUND(I19/E19,4)) -> 0.0136
A20: General Service 50 To 2,999 kW Service Classification | B20: Retail Transmission Rate - Network Service Rate | C20: $/kW | D20: ='8. RTSR Rates to Forecast 2029'!J20 -> 5.8824 | F20: ='3. RRR Data 2030'!F23 -> 3324315.8 | G20: =IF(D20*E20=0,ROUND(D20*F20,2),ROUND(D20*E20,2)) -> 19554955 | H20: =G20/$G$28 -> 0.32737338 | I20: =H20*$I$28 -> 20918131 | J20: =IF(I20*E20=0,ROUND(I20/F20,4),ROUND(I20/E20,4)) -> 6.2925
A21: General Service 50 To 2,999 kW Service Classification | B21: Retail Transmission Rate - Network Service Rate - EV CHARGING | C21: $/kW | D21: ='8. RTSR Rates to Forecast 2029'!J21 -> 1.0036 | F21: ='3. RRR Data 2030'!F25 -> 36877.638 | G21: =IF(D21*E21=0,ROUND(D21*F21,2),ROUND(D21*E21,2)) -> 37010.4 | H21: =G21/$G$28 -> 0.00061959845 | I21: =H21*$I$28 -> 39590.396 | J21: =IF(I21*E21=0,ROUND(I21/F21,4),ROUND(I21/E21,4)) -> 1.0736
A22: General Service 3,000 To 4,999 kW Service Classification | B22: Retail Transmission Rate - Network Service Rate | C22: $/kW | D22: ='8. RTSR Rates to Forecast 2029'!J22 -> 6.2344 | F22: ='3. RRR Data 2030'!F27 -> 744000.61 | G22: =IF(D22*E22=0,ROUND(D22*F22,2),ROUND(D22*E22,2)) -> 4638397.4 | H22: =G22/$G$28 -> 0.077652331 | I22: =H22*$I$28 -> 4961740.2 | J22: =IF(I22*E22=0,ROUND(I22/F22,4),ROUND(I22/E22,4)) -> 6.669
A23: General Service 3,000 To 4,999 kW Service Classification | B23: Retail Transmission Rate - Network Service Rate - EV CHARGING | C23: $/kW | D23: ='8. RTSR Rates to Forecast 2029'!J23 -> 1.059848 | H23: =G23/$G$28 -> 0 | I23: =H23*$I$28 -> 0 | J23: =J22*0.17 -> 1.13373
A24: Large Use Service Classification | B24: Retail Transmission Rate - Network Service Rate | C24: $/kW | D24: ='8. RTSR Rates to Forecast 2029'!J24 -> 6.6435 | F24: ='3. RRR Data 2030'!F31 -> 1100818 | G24: =IF(D24*E24=0,ROUND(D24*F24,2),ROUND(D24*E24,2)) -> 7313284.2 | H24: =G24/$G$28 -> 0.12243314 | I24: =H24*$I$28 -> 7823093.5 | J24: =IF(I24*E24=0,ROUND(I24/F24,4),ROUND(I24/E24,4)) -> 7.1066
A25: Unmetered Scattered Load Service Classification | B25: Retail Transmission Rate - Network Service Rate | C25: $/kWh | D25: ='8. RTSR Rates to Forecast 2029'!J25 -> 0.0128 | E25: ='3. RRR Data 2030'!H33 -> 6658374.2 | F25: ='3. RRR Data 2030'!F33 -> 0 | G25: =IF(D25*E25=0,ROUND(D25*F25,2),ROUND(D25*E25,2)) -> 85227.19 | H25: =G25/$G$28 -> 0.0014268053 | I25: =H25*$I$28 -> 91168.38 | J25: =IF(I25*E25=0,ROUND(I25/F25,4),ROUND(I25/E25,4)) -> 0.0137
A26: Sentinel Lighting Service Classification | B26: Retail Transmission Rate - Network Service Rate | C26: $/kW | D26: ='8. RTSR Rates to Forecast 2029'!J26 -> 3.8125 | F26: ='3. RRR Data 2030'!F35 -> 625.44345 | G26: =IF(D26*E26=0,ROUND(D26*F26,2),ROUND(D26*E26,2)) -> 2384.5 | H26: =G26/$G$28 -> 3.9919388e-05 | I26: =H26*$I$28 -> 2550.7236 | J26: =IF(I26*E26=0,ROUND(I26/F26,4),ROUND(I26/E26,4)) -> 4.0783
A27: Street Lighting Service Classification | B27: Retail Transmission Rate - Network Service Rate | C27: $/kW | D27: ='8. RTSR Rates to Forecast 2029'!J27 -> 4.0017 | F27: ='3. RRR Data 2030'!F37 -> 45205.829 | G27: =IF(D27*E27=0,ROUND(D27*F27,2),ROUND(D27*E27,2)) -> 180900.17 | H27: =G27/$G$28 -> 0.0030284856 | I27: =H27*$I$28 -> 193510.73 | J27: =IF(I27*E27=0,ROUND(I27/F27,4),ROUND(I27/E27,4)) -> 4.2807
G28: =SUM(G17:G27) -> 59732880 | H28: =G28/$G$28 -> 1 | I28: ='7. Forecast Wholesale 2030'!F33+'7. Forecast Wholesale 2030'!F52 -> 63896861
A30: The purpose of this table is to re-align the current RTS Connection Rates to recover current wholesale connection costs.
A31: Rate Class | B31: Rate Description | C31: Unit | D31: Current RTSR-Connection | E31: Loss Adjusted Billed kWh | F31: Billed kW | G31: Billed Amount | H31: Billed Amount % | I31: Current Wholesale Billing | J31: Adjusted RTSR-Connection
A33: Residential Service Classification | B33: Retail Transmission Rate - Line and Transformation Connection Service Rate | C33: $/kWh | D33: ='8. RTSR Rates to Forecast 2029'!J33 -> 0.0101 | E33: ='3. RRR Data 2030'!H18 -> 1.6435074e+09 | F33: ='3. RRR Data 2030'!F18 -> 0 | G33: =IF(D33*E33=0,ROUND(D33*F33,2),ROUND(D33*E33,2)) -> 16599425 | H33: =G33/$G$44 -> 0.39905969 | I33: =H33*$I$44 -> 17735971 | J33: =IF(I33*E33=0,ROUND(I33/F33,4),ROUND(I33/E33,4)) -> 0.0108
A34: Seasonal Residential Service Classification | B34: Retail Transmission Rate - Line and Transformation Connection Service Rate | C34: $/kWh | D34: ='8. RTSR Rates to Forecast 2029'!J34 -> 0.0123 | E34: ='3. RRR Data 2030'!H20 -> 14989506 | F34: ='3. RRR Data 2030'!F20 -> 0 | G34: =IF(D34*E34=0,ROUND(D34*F34,2),ROUND(D34*E34,2)) -> 184370.93 | H34: =G34/$G$44 -> 0.0044323828 | I34: =H34*$I$44 -> 196994.62 | J34: =IF(I34*E34=0,ROUND(I34/F34,4),ROUND(I34/E34,4)) -> 0.0131
A35: General Service Less Than 50 kW Service Classification | B35: Retail Transmission Rate - Line and Transformation Connection Service Rate | C35: $/kWh | D35: ='8. RTSR Rates to Forecast 2029'!J35 -> 0.0095 | E35: ='3. RRR Data 2030'!H22 -> 3.7009963e+08 | F35: ='3. RRR Data 2030'!F22 -> 0 | G35: =IF(D35*E35=0,ROUND(D35*F35,2),ROUND(D35*E35,2)) -> 3515946.5 | H35: =G35/$G$44 -> 0.08452537 | I35: =H35*$I$44 -> 3756679.9 | J35: =IF(I35*E35=0,ROUND(I35/F35,4),ROUND(I35/E35,4)) -> 0.0102
A36: General Service 50 To 2,999 kW Service Classification | B36: Retail Transmission Rate - Line and Transformation Connection Service Rate | C36: $/kW | D36: ='8. RTSR Rates to Forecast 2029'!J36 -> 4.172 | F36: ='3. RRR Data 2030'!F24 -> 3324315.8 | G36: =IF(D36*E36=0,ROUND(D36*F36,2),ROUND(D36*E36,2)) -> 13869045 | H36: =G36/$G$44 -> 0.3334198 | I36: =H36*$I$44 -> 14818645 | J36: =IF(I36*E36=0,ROUND(I36/F36,4),ROUND(I36/E36,4)) -> 4.4577
A37: General Service 50 To 2,999 kW Service Classification | B37: Retail Transmission Rate - Line and Transformation Connection Service Rate - EV CHARGING | C37: $/kW | D37: ='8. RTSR Rates to Forecast 2029'!J37 -> 0.7086 | F37: ='3. RRR Data 2030'!F26 -> 36877.638 | G37: =IF(D37*E37=0,ROUND(D37*F37,2),ROUND(D37*E37,2)) -> 26131.49 | H37: =G37/$G$44 -> 0.000628216 | I37: =H37*$I$44 -> 27920.687 | J37: =IF(I37*E37=0,ROUND(I37/F37,4),ROUND(I37/E37,4)) -> 0.7571
A38: General Service 3,000 To 4,999 kW Service Classification | B38: Retail Transmission Rate - Line and Transformation Connection Service Rate | C38: $/kW | D38: ='8. RTSR Rates to Forecast 2029'!J38 -> 2.9478 | F38: ='3. RRR Data 2030'!F28 -> 744000.61 | G38: =IF(D38*E38=0,ROUND(D38*F38,2),ROUND(D38*E38,2)) -> 2193165 | H38: =G38/$G$44 -> 0.052724943 | I38: =H38*$I$44 -> 2343328.8 | J38: =IF(I38*E38=0,ROUND(I38/F38,4),ROUND(I38/E38,4)) -> 3.1496
A39: General Service 3,000 To 4,999 kW Service Classification | B39: Retail Transmission Rate - Line and Transformation Connection Service Rate - EV CHARGING | C39: $/kW | D39: ='8. RTSR Rates to Forecast 2029'!J39 -> 0.501126 | H39: =G39/$G$44 -> 0 | I39: =H39*$I$44 -> 0 | J39: =J38*0.17 -> 0.535432
A40: Large Use Service Classification | B40: Retail Transmission Rate - Line and Transformation Connection Service Rate | C40: $/kW | D40: ='8. RTSR Rates to Forecast 2029'!J40 -> 4.5544 | F40: ='3. RRR Data 2030'!F32 -> 1100818 | G40: =IF(D40*E40=0,ROUND(D40*F40,2),ROUND(D40*E40,2)) -> 5013565.4 | H40: =G40/$G$44 -> 0.12052899 | I40: =H40*$I$44 -> 5356839.2 | J40: =IF(I40*E40=0,ROUND(I40/F40,4),ROUND(I40/E40,4)) -> 4.8662
A41: Unmetered Scattered Load Service Classification | B41: Retail Transmission Rate - Line and Transformation Connection Service Rate | C41: $/kWh | D41: ='8. RTSR Rates to Forecast 2029'!J41 -> 0.0096 | E41: ='3. RRR Data 2030'!H34 -> 6658374.2 | F41: ='3. RRR Data 2030'!F34 -> 0 | G41: =IF(D41*E41=0,ROUND(D41*F41,2),ROUND(D41*E41,2)) -> 63920.39 | H41: =G41/$G$44 -> 0.0015366828 | I41: =H41*$I$44 -> 68296.955 | J41: =IF(I41*E41=0,ROUND(I41/F41,4),ROUND(I41/E41,4)) -> 0.0103
A42: Sentinel Lighting Service Classification | B42: Retail Transmission Rate - Line and Transformation Connection Service Rate | C42: $/kW | D42: ='8. RTSR Rates to Forecast 2029'!J42 -> 2.7034 | F42: ='3. RRR Data 2030'!F36 -> 625.44345 | G42: =IF(D42*E42=0,ROUND(D42*F42,2),ROUND(D42*E42,2)) -> 1690.82 | H42: =G42/$G$44 -> 4.0648282e-05 | I42: =H42*$I$44 -> 1806.5888 | J42: =IF(I42*E42=0,ROUND(I42/F42,4),ROUND(I42/E42,4)) -> 2.8885
A43: Street Lighting Service Classification | B43: Retail Transmission Rate - Line and Transformation Connection Service Rate | C43: $/kW | D43: ='8. RTSR Rates to Forecast 2029'!J43 -> 2.8555 | F43: ='3. RRR Data 2030'!F38 -> 45205.829 | G43: =IF(D43*E43=0,ROUND(D43*F43,2),ROUND(D43*E43,2)) -> 129085.25 | H43: =G43/$G$44 -> 0.0031032834 | I43: =H43*$I$44 -> 137923.59 | J43: =IF(I43*E43=0,ROUND(I43/F43,4),ROUND(I43/E43,4)) -> 3.051
G44: =SUM(G33:G43) -> 41596346 | I44: ='7. Forecast Wholesale 2030'!P33+'7. Forecast Wholesale 2030'!P52 -> 44444406

Sheet 7. Forecast Wholesale 2031
B13: The purpose of this sheet is to calculate the expected billing when current 2025 Uniform Transmission Rates are applied against historical 2024 transmission units.
B16: IESO | D16: Network | H16: Line Connection | L16: Transformation Connection | P16: Total Connection
B18: Month | D18: Units Billed | E18: Rate | F18: Amount | H18: Units Billed | I18: Rate | J18: Amount | L18: Units Billed | M18: Rate | N18: Amount | P18: Amount
B20: January | D20: 371390.68 | E20: ='4. UTRs & Sub-Transmission'!Q22 -> 8.4574671 | F20: =D20*E20 -> 3141024.4 | H20: 192173.7 | I20: ='4. UTRs & Sub-Transmission'!Q24 -> 1.3538897 | J20: =H20*I20 -> 260181.99 | L20: 395697.77 | M20: ='4. UTRs & Sub-Transmission'!Q26 -> 4.5620306 | N20: =L20*M20 -> 1805185.4 | P20: =J20+N20 -> 2065367.3
B21: February | D21: 364408.98 | E21: =E20 -> 8.4574671 | F21: =D21*E21 -> 3081976.9 | H21: 201837.05 | I21: =I20 -> 1.3538897 | J21: =H21*I21 -> 273265.1 | L21: 387171.14 | M21: =M20 -> 4.5620306 | N21: =L21*M21 -> 1766286.6 | P21: =J21+N21 -> 2039551.7
B22: March | D22: 358471.28 | E22: =E21 -> 8.4574671 | F22: =D22*E22 -> 3031759.1 | H22: 193005.77 | I22: =I21 -> 1.3538897 | J22: =H22*I22 -> 261308.52 | L22: 368683.73 | M22: =M21 -> 4.5620306 | N22: =L22*M22 -> 1681946.5 | P22: =J22+N22 -> 1943255
B23: April | D23: 348810.34 | E23: =E22 -> 8.4574671 | F23: =D23*E23 -> 2950051.9 | H23: 184450.24 | I23: =I22 -> 1.3538897 | J23: =H23*I23 -> 249725.28 | L23: 351549.79 | M23: =M22 -> 4.5620306 | N23: =L23*M23 -> 1603780.9 | P23: =J23+N23 -> 1853506.2
B24: May | D24: 428358.1 | E24: =E23 -> 8.4574671 | F24: =D24*E24 -> 3622824.5 | H24: 245922.42 | I24: =I23 -> 1.3538897 | J24: =H24*I24 -> 332951.82 | L24: 441650.78 | M24: =M23 -> 4.5620306 | N24: =L24*M24 -> 2014824.4 | P24: =J24+N24 -> 2347776.2
B25: June | D25: 487580.91 | E25: =E24 -> 8.4574671 | F25: =D25*E25 -> 4123699.5 | H25: 306762.41 | I25: =I24 -> 1.3538897 | J25: =H25*I25 -> 415322.46 | L25: 527266.29 | M25: =M24 -> 4.5620306 | N25: =L25*M25 -> 2405404.9 | P25: =J25+N25 -> 2820727.4
B26: July | D26: 533425.55 | E26: =E25 -> 8.4574671 | F26: =D26*E26 -> 4511429 | H26: 321276.1 | I26: =I25 -> 1.3538897 | J26: =H26*I26 -> 434972.4 | L26: 547042.15 | M26: =M25 -> 4.5620306 | N26: =L26*M26 -> 2495623 | P26: =J26+N26 -> 2930595.4
B27: August | D27: 518686.68 | E27: =E26 -> 8.4574671 | F27: =D27*E27 -> 4386775.5 | H27: 311542.91 | I27: =I26 -> 1.3538897 | J27: =H27*I27 -> 421794.73 | L27: 538413.16 | M27: =M26 -> 4.5620306 | N27: =L27*M27 -> 2456257.3 | P27: =J27+N27 -> 2878052.1
B28: September | D28: 450916.76 | E28: =E27 -> 8.4574671 | F28: =D28*E28 -> 3813613.7 | H28: 253968.59 | I28: =I27 -> 1.3538897 | J28: =H28*I28 -> 343845.45 | L28: 452118.51 | M28: =M27 -> 4.5620306 | N28: =L28*M28 -> 2062578.5 | P28: =J28+N28 -> 2406423.9
B29: October | D29: 369309.89 | E29: =E28 -> 8.4574671 | F29: =D29*E29 -> 3123426.3 | H29: 265699.48 | I29: =I28 -> 1.3538897 | J29: =H29*I29 -> 359727.78 | L29: 386979.68 | M29: =M28 -> 4.5620306 | N29: =L29*M29 -> 1765413.2 | P29: =J29+N29 -> 2125140.9
B30: November | D30: 355480.16 | E30: =E29 -> 8.4574671 | F30: =D30*E30 -> 3006461.7 | H30: 201971.92 | I30: =I29 -> 1.3538897 | J30: =H30*I30 -> 273447.7 | L30: 333479.02 | M30: =M29 -> 4.5620306 | N30: =L30*M30 -> 1521341.5 | P30: =J30+N30 -> 1794789.2
B31: December | D31: 387143.45 | E31: =E30 -> 8.4574671 | F31: =D31*E31 -> 3274253 | H31: 248999.03 | I31: =I30 -> 1.3538897 | J31: =H31*I31 -> 337117.22 | L31: 385871.86 | M31: =M30 -> 4.5620306 | N31: =L31*M31 -> 1760359.2 | P31: =J31+N31 -> 2097476.5
B33: Total | D33: =SUM(D20:D31) -> 4973982.8 | E33: =IF(D33<>0,F33/D33,0) -> 8.4574671 | F33: =SUM(F20:F31) -> 42067295 | H33: =SUM(H20:H31) -> 2927609.6 | I33: =IF(H33<>0,J33/H33,0) -> 1.3538897 | J33: =SUM(J20:J31) -> 3963660.5 | L33: =SUM(L20:L31) -> 5115923.9 | M33: =IF(L33<>0,N33/L33,0) -> 4.5620306 | N33: =SUM(N20:N31) -> 23339001 | P33: =SUM(P20:P31) -> 27302662
B35: Hydro One | D35: Network | H35: Line Connection | L35: Transformation Connection | P35: Total Connection
B37: Month | D37: Units Billed | E37: Rate | F37: Amount | H37: Units Billed | I37: Rate | J37: Amount | L37: Units Billed | M37: Rate | N37: Amount | P37: Amount
B39: January | D39: 325121.21 | E39: ='4. UTRs & Sub-Transmission'!Q35 -> 7.2408624 | F39: =D39*E39 -> 2354158 | H39: 295595.11 | I39: ='4. UTRs & Sub-Transmission'!Q37 -> 0.92721727 | J39: =H39*I39 -> 274080.89 | L39: 342722.49 | M39: ='4. UTRs & Sub-Transmission'!Q39 -> 4.7019153 | N39: =L39*M39 -> 1611452.1 | P39: =J39+N39 -> 1885533
B40: February | D40: 325252.56 | E40: =E39 -> 7.2408624 | F40: =D40*E40 -> 2355109.1 | H40: 271065.49 | I40: =I39 -> 0.92721727 | J40: =H40*I40 -> 251336.6 | L40: 327028.01 | M40: =M39 -> 4.7019153 | N40: =L40*M40 -> 1537658 | P40: =J40+N40 -> 1788994.6
B41: March | D41: 273685.91 | E41: =E40 -> 7.2408624 | F41: =D41*E41 -> 1981722 | H41: 233425.08 | I41: =I40 -> 0.92721727 | J41: =H41*I41 -> 216435.76 | L41: 278699.14 | M41: =M40 -> 4.7019153 | N41: =L41*M41 -> 1310419.8 | P41: =J41+N41 -> 1526855.5
B42: April | D42: 240840.07 | E42: =E41 -> 7.2408624 | F42: =D42*E42 -> 1743889.8 | H42: 213029.13 | I42: =I41 -> 0.92721727 | J42: =H42*I42 -> 197524.29 | L42: 245788.93 | M42: =M41 -> 4.7019153 | N42: =L42*M42 -> 1155678.8 | P42: =J42+N42 -> 1353203.1
B43: May | D43: 281379.52 | E43: =E42 -> 7.2408624 | F43: =D43*E43 -> 2037430.4 | H43: 233794.56 | I43: =I42 -> 0.92721727 | J43: =H43*I43 -> 216778.36 | L43: 283805.12 | M43: =M42 -> 4.7019153 | N43: =L43*M43 -> 1334427.7 | P43: =J43+N43 -> 1551206
B44: June | D44: 364254.98 | E44: =E43 -> 7.2408624 | F44: =D44*E44 -> 2637520.2 | H44: 317610.09 | I44: =I43 -> 0.92721727 | J44: =H44*I44 -> 294493.55 | L44: 367727.08 | M44: =M43 -> 4.7019153 | N44: =L44*M44 -> 1729021.6 | P44: =J44+N44 -> 2023515.2
B45: July | D45: 345882.1 | E45: =E44 -> 7.2408624 | F45: =D45*E45 -> 2504484.7 | H45: 293805.54 | I45: =I44 -> 0.92721727 | J45: =H45*I45 -> 272421.57 | L45: 346890.49 | M45: =M44 -> 4.7019153 | N45: =L45*M45 -> 1631049.7 | P45: =J45+N45 -> 1903471.3
B46: August | D46: 378664.13 | E46: =E45 -> 7.2408624 | F46: =D46*E46 -> 2741854.9 | H46: 286104.99 | I46: =I45 -> 0.92721727 | J46: =H46*I46 -> 265281.48 | L46: 382844.62 | M46: =M45 -> 4.7019153 | N46: =L46*M46 -> 1800103 | P46: =J46+N46 -> 2065384.5
B47: September | D47: 315778.33 | E47: =E46 -> 7.2408624 | F47: =D47*E47 -> 2286507.5 | H47: 246206.02 | I47: =I46 -> 0.92721727 | J47: =H47*I47 -> 228286.47 | L47: 317453.93 | M47: =M46 -> 4.7019153 | N47: =L47*M47 -> 1492641.5 | P47: =J47+N47 -> 1720928
B48: October | D48: 265895.98 | E48: =E47 -> 7.2408624 | F48: =D48*E48 -> 1925316.2 | H48: 211102.7 | I48: =I47 -> 0.92721727 | J48: =H48*I48 -> 195738.07 | L48: 269010.79 | M48: =M47 -> 4.7019153 | N48: =L48*M48 -> 1264865.9 | P48: =J48+N48 -> 1460604
B49: November | D49: 289069.92 | E49: =E48 -> 7.2408624 | F49: =D49*E49 -> 2093115.5 | H49: 234310.89 | I49: =I48 -> 0.92721727 | J49: =H49*I49 -> 217257.11 | L49: 293368.24 | M49: =M48 -> 4.7019153 | N49: =L49*M49 -> 1379392.6 | P49: =J49+N49 -> 1596649.7
B50: December | D50: 297586 | E50: =E49 -> 7.2408624 | F50: =D50*E50 -> 2154779.3 | H50: 254342.45 | I50: =I49 -> 0.92721727 | J50: =H50*I50 -> 235830.71 | L50: 304862.51 | M50: =M49 -> 4.7019153 | N50: =L50*M50 -> 1433437.7 | P50: =J50+N50 -> 1669268.4
B52: Total | D52: =SUM(D39:D50) -> 3703410.7 | E52: =IF(D52<>0,F52/D52,0) -> 7.2408624 | F52: =SUM(F39:F50) -> 26815887 | H52: =SUM(H39:H50) -> 3090392 | I52: =IF(H52<>0,J52/H52,0) -> 0.92721727 | J52: =SUM(J39:J50) -> 2865464.9 | L52: =SUM(L39:L50) -> 3760201.4 | M52: =IF(L52<>0,N52/L52,0) -> 4.7019153 | N52: =SUM(N39:N50) -> 17680148 | P52: =SUM(P39:P50) -> 20545613
B54: =#REF! -> #REF! | D54: Network | H54: Line Connection | L54: Transformation Connection | P54: Total Connection
B56: Month | D56: Units Billed | E56: Rate | F56: Amount | H56: Units Billed | I56: Rate | J56: Amount | L56: Units Billed | M56: Rate | N56: Amount | P56: Amount
B58: January
B59: February
B60: March
B61: April
B62: May
B63: June
B64: July
B65: August
B66: September
B67: October
B68: November
B69: December
B71: Total | D71: =SUM(D58:D69) -> 0 | E71: =IF(D71<>0,F71/D71,0) -> 0 | F71: =SUM(F58:F69) -> 0 | H71: =SUM(H58:H69) -> 0 | I71: =IF(H71<>0,J71/H71,0) -> 0 | J71: =SUM(J58:J69) -> 0 | L71: =SUM(L58:L69) -> 0 | M71: =IF(L71<>0,N71/L71,0) -> 0 | N71: =SUM(N58:N69) -> 0 | P71: =SUM(P58:P69) -> 0
B73: =#REF! -> #REF! | D73: Network | H73: Line Connection | L73: Transformation Connection | P73: Total Connection
B75: Month | D75: Units Billed | E75: Rate | F75: Amount | H75: Units Billed | I75: Rate | J75: Amount | L75: Units Billed | M75: Rate | N75: Amount | P75: Amount
B77: January
B78: February
B79: March
B80: April
B81: May
B82: June
B83: July
B84: August
B85: September
B86: October
B87: November
B88: December
B90: Total | D90: =SUM(D77:D88) -> 0 | E90: =IF(D90<>0,F90/D90,0) -> 0 | F90: =SUM(F77:F88) -> 0 | H90: =SUM(H77:H88) -> 0 | I90: =IF(H90<>0,J90/H90,0) -> 0 | J90: =SUM(J77:J88) -> 0 | L90: =SUM(L77:L88) -> 0 | M90: =IF(L90<>0,N90/L90,0) -> 0 | N90: =SUM(N77:N88) -> 0 | P90: =SUM(P77:P88) -> 0
B92: Total | D92: Network | H92: Line Connection | L92: Transformation Connection | P92: Total Connection
B94: Month | D94: Units Billed | E94: Rate | F94: Amount | H94: Units Billed | I94: Rate | J94: Amount | L94: Units Billed | M94: Rate | N94: Amount | P94: Amount
B96: January | D96: =D20+D39+D58+D77 -> 696511.89 | E96: =IF(D96<>0,F96/D96,0) -> 7.8895744 | F96: =F20+F39+F58+F77 -> 5495182.4 | H96: =H20+H39+H58+H77 -> 487768.81 | I96: =IF(H96<>0,J96/H96,0) -> 1.0953199 | J96: =J20+J39+J58+J77 -> 534262.88 | L96: =L20+L39+L58+L77 -> 738420.26 | M96: =IF(L96<>0,N96/L96,0) -> 4.6269552 | N96: =N20+N39+N58+N77 -> 3416637.5 | P96: =J96+N96 -> 3950900.3
B97: February | D97: =D21+D40+D59+D78 -> 689661.54 | E97: =IF(D97<>0,F97/D97,0) -> 7.8837019 | F97: =F21+F40+F59+F78 -> 5437086 | H97: =H21+H40+H59+H78 -> 472902.54 | I97: =IF(H97<>0,J97/H97,0) -> 1.1093231 | J97: =J21+J40+J59+J78 -> 524601.7 | L97: =L21+L40+L59+L78 -> 714199.15 | M97: =IF(L97<>0,N97/L97,0) -> 4.6260831 | N97: =N21+N40+N59+N78 -> 3303944.6 | P97: =J97+N97 -> 3828546.3
B98: March | D98: =D22+D41+D60+D79 -> 632157.19 | E98: =IF(D98<>0,F98/D98,0) -> 7.9307507 | F98: =F22+F41+F60+F79 -> 5013481.1 | H98: =H22+H41+H60+H79 -> 426430.85 | I98: =IF(H98<>0,J98/H98,0) -> 1.1203324 | J98: =J22+J41+J60+J79 -> 477744.29 | L98: =L22+L41+L60+L79 -> 647382.87 | M98: =IF(L98<>0,N98/L98,0) -> 4.6222512 | N98: =N22+N41+N60+N79 -> 2992366.2 | P98: =J98+N98 -> 3470110.5
B99: April | D99: =D23+D42+D61+D80 -> 589650.41 | E99: =IF(D99<>0,F99/D99,0) -> 7.9605503 | F99: =F23+F42+F61+F80 -> 4693941.7 | H99: =H23+H42+H61+H80 -> 397479.37 | I99: =IF(H99<>0,J99/H99,0) -> 1.1252145 | J99: =J23+J42+J61+J80 -> 447249.57 | L99: =L23+L42+L61+L80 -> 597338.73 | M99: =IF(L99<>0,N99/L99,0) -> 4.6195894 | N99: =N23+N42+N61+N80 -> 2759459.7 | P99: =J99+N99 -> 3206709.2
B100: May | D100: =D24+D43+D62+D81 -> 709737.62 | E100: =IF(D100<>0,F100/D100,0) -> 7.9751372 | F100: =F24+F43+F62+F81 -> 5660254.9 | H100: =H24+H43+H62+H81 -> 479716.98 | I100: =IF(H100<>0,J100/H100,0) -> 1.1459469 | J100: =J24+J43+J62+J81 -> 549730.18 | L100: =L24+L43+L62+L81 -> 725455.9 | M100: =IF(L100<>0,N100/L100,0) -> 4.6167548 | N100: =N24+N43+N62+N81 -> 3349252 | P100: =J100+N100 -> 3898982.2
B101: June | D101: =D25+D44+D63+D82 -> 851835.89 | E101: =IF(D101<>0,F101/D101,0) -> 7.9372327 | F101: =F25+F44+F63+F82 -> 6761219.7 | H101: =H25+H44+H63+H82 -> 624372.49 | I101: =IF(H101<>0,J101/H101,0) -> 1.136847 | J101: =J25+J44+J63+J82 -> 709816.01 | L101: =L25+L44+L63+L82 -> 894993.37 | M101: =IF(L101<>0,N101/L101,0) -> 4.6195052 | N101: =N25+N44+N63+N82 -> 4134426.5 | P101: =J101+N101 -> 4844242.6
B102: July | D102: =D26+D45+D64+D83 -> 879307.64 | E102: =IF(D102<>0,F102/D102,0) -> 7.9789067 | F102: =F26+F45+F64+F83 -> 7015913.7 | H102: =H26+H45+H64+H83 -> 615081.64 | I102: =IF(H102<>0,J102/H102,0) -> 1.1500814 | J102: =J26+J45+J64+J83 -> 707393.97 | L102: =L26+L45+L64+L83 -> 893932.64 | M102: =IF(L102<>0,N102/L102,0) -> 4.6163129 | N102: =N26+N45+N64+N83 -> 4126672.7 | P102: =J102+N102 -> 4834066.7
B103: August | D103: =D27+D46+D65+D84 -> 897350.8 | E103: =IF(D103<>0,F103/D103,0) -> 7.9440842 | F103: =F27+F46+F65+F84 -> 7128630.3 | H103: =H27+H46+H65+H84 -> 597647.9 | I103: =IF(H103<>0,J103/H103,0) -> 1.1496338 | J103: =J27+J46+J65+J84 -> 687076.21 | L103: =L27+L46+L65+L84 -> 921257.78 | M103: =IF(L103<>0,N103/L103,0) -> 4.6201621 | N103: =N27+N46+N65+N84 -> 4256360.3 | P103: =J103+N103 -> 4943436.5
B104: September | D104: =D28+D47+D66+D85 -> 766695.1 | E104: =IF(D104<>0,F104/D104,0) -> 7.9563847 | F104: =F28+F47+F66+F85 -> 6100121.2 | H104: =H28+H47+H66+H85 -> 500174.6 | I104: =IF(H104<>0,J104/H104,0) -> 1.1438644 | J104: =J28+J47+J66+J85 -> 572131.92 | L104: =L28+L47+L66+L85 -> 769572.44 | M104: =IF(L104<>0,N104/L104,0) -> 4.619734 | N104: =N28+N47+N66+N85 -> 3555220 | P104: =J104+N104 -> 4127351.9
B105: October | D105: =D29+D48+D67+D86 -> 635205.88 | E105: =IF(D105<>0,F105/D105,0) -> 7.9481986 | F105: =F29+F48+F67+F86 -> 5048742.5 | H105: =H29+H48+H67+H86 -> 476802.17 | I105: =IF(H105<>0,J105/H105,0) -> 1.1649818 | J105: =J29+J48+J67+J86 -> 555465.85 | L105: =L29+L48+L67+L86 -> 655990.47 | M105: =IF(L105<>0,N105/L105,0) -> 4.619395 | N105: =N29+N48+N67+N86 -> 3030279.1 | P105: =J105+N105 -> 3585744.9
B106: November | D106: =D30+D49+D68+D87 -> 644550.08 | E106: =IF(D106<>0,F106/D106,0) -> 7.9118402 | F106: =F30+F49+F68+F87 -> 5099577.3 | H106: =H30+H49+H68+H87 -> 436282.81 | I106: =IF(H106<>0,J106/H106,0) -> 1.1247402 | J106: =J30+J49+J68+J87 -> 490704.8 | L106: =L30+L49+L68+L87 -> 626847.26 | M106: =IF(L106<>0,N106/L106,0) -> 4.6274975 | N106: =N30+N49+N68+N87 -> 2900734.1 | P106: =J106+N106 -> 3391438.9
B107: December | D107: =D31+D50+D69+D88 -> 684729.45 | E107: =IF(D107<>0,F107/D107,0) -> 7.9287261 | F107: =F31+F50+F69+F88 -> 5429032.2 | H107: =H31+H50+H69+H88 -> 503341.49 | I107: =IF(H107<>0,J107/H107,0) -> 1.1382887 | J107: =J31+J50+J69+J88 -> 572947.94 | L107: =L31+L50+L69+L88 -> 690734.37 | M107: =IF(L107<>0,N107/L107,0) -> 4.6237701 | N107: =N31+N50+N69+N88 -> 3193797 | P107: =J107+N107 -> 3766744.9
B109: Total | D109: =SUM(D96:D107) -> 8677393.5 | E109: =IF(D109<>0,F109/D109,0) -> 7.9382343 | F109: =SUM(F96:F107) -> 68883183 | H109: =SUM(H96:H107) -> 6018001.7 | I109: =IF(H109<>0,J109/H109,0) -> 1.1347829 | J109: =SUM(J96:J107) -> 6829125.3 | L109: =SUM(L96:L107) -> 8876125.2 | M109: =IF(L109<>0,N109/L109,0) -> 4.6212901 | N109: =SUM(N96:N107) -> 41019150 | P109: =SUM(P96:P107) -> 47848275
N111: Low Voltage Switchgear Credit (if applicable)
N113: Total including deduction for Low Voltage Switchgear Credit | P113: =P109+P111 -> 47848275

Sheet 8. RTSR Rates to Forecast 2031
A13: The purpose of this table is to re-align the current RTS Network Rates to recover current wholesale network costs.
A15: Rate Class | B15: Rate Description | C15: Unit | D15: Current RTSR-Network | E15: Loss Adjusted Billed kWh | F15: Billed kW | G15: Billed Amount | H15: Billed Amount % | I15: Current Wholesale Billing | J15: Adjusted RTSR Network
A17: Residential Service Classification | B17: Retail Transmission Rate - Network Service Rate | C17: $/kWh | D17: ='8. RTSR Rates to Forecast 2030'!J17 -> 0.015 | E17: ='3. RRR Data 2031'!H17 -> 1.6786858e+09 | F17: ='3. RRR Data 2031'!F17 -> 0 | G17: =IF(D17*E17=0,ROUND(D17*F17,2),ROUND(D17*E17,2)) -> 25180286 | H17: =G17/$G$28 -> 0.38768643 | I17: =H17*$I$28 -> 26705075 | J17: =IF(I17*E17=0,ROUND(I17/F17,4),ROUND(I17/E17,4)) -> 0.0159
A18: Seasonal Residential Service Classification | B18: Retail Transmission Rate - Network Service Rate | C18: $/kWh | D18: ='8. RTSR Rates to Forecast 2030'!J18 -> 0.0151 | E18: ='3. RRR Data 2031'!H19 -> 15482267 | F18: ='3. RRR Data 2031'!F19 -> 0 | G18: =IF(D18*E18=0,ROUND(D18*F18,2),ROUND(D18*E18,2)) -> 233782.24 | H18: =G18/$G$28 -> 0.0035994111 | I18: =H18*$I$28 -> 247938.89 | J18: =IF(I18*E18=0,ROUND(I18/F18,4),ROUND(I18/E18,4)) -> 0.016
A19: General Service Less Than 50 kW Service Classification | B19: Retail Transmission Rate - Network Service Rate | C19: $/kWh | D19: ='8. RTSR Rates to Forecast 2030'!J19 -> 0.0136 | E19: ='3. RRR Data 2031'!H21 -> 3.7116793e+08 | F19: ='3. RRR Data 2031'!F21 -> 0 | G19: =IF(D19*E19=0,ROUND(D19*F19,2),ROUND(D19*E19,2)) -> 5047883.9 | H19: =G19/$G$28 -> 0.077719373 | I19: =H19*$I$28 -> 5353557.8 | J19: =IF(I19*E19=0,ROUND(I19/F19,4),ROUND(I19/E19,4)) -> 0.0144
A20: General Service 50 To 2,999 kW Service Classification | B20: Retail Transmission Rate - Network Service Rate | C20: $/kW | D20: ='8. RTSR Rates to Forecast 2030'!J20 -> 6.2925 | F20: ='3. RRR Data 2031'!F23 -> 3339968.7 | G20: =IF(D20*E20=0,ROUND(D20*F20,2),ROUND(D20*E20,2)) -> 21016753 | H20: =G20/$G$28 -> 0.3235829 | I20: =H20*$I$28 -> 22289420 | J20: =IF(I20*E20=0,ROUND(I20/F20,4),ROUND(I20/E20,4)) -> 6.6735
A21: General Service 50 To 2,999 kW Service Classification | B21: Retail Transmission Rate - Network Service Rate - EV CHARGING | C21: $/kW | D21: ='8. RTSR Rates to Forecast 2030'!J21 -> 1.0736 | F21: ='3. RRR Data 2031'!F25 -> 43607.077 | G21: =IF(D21*E21=0,ROUND(D21*F21,2),ROUND(D21*E21,2)) -> 46816.56 | H21: =G21/$G$28 -> 0.00072080773 | I21: =H21*$I$28 -> 49651.531 | J21: =IF(I21*E21=0,ROUND(I21/F21,4),ROUND(I21/E21,4)) -> 1.1386
A22: General Service 3,000 To 4,999 kW Service Classification | B22: Retail Transmission Rate - Network Service Rate | C22: $/kW | D22: ='8. RTSR Rates to Forecast 2030'!J22 -> 6.669 | F22: ='3. RRR Data 2031'!F27 -> 774616.48 | G22: =IF(D22*E22=0,ROUND(D22*F22,2),ROUND(D22*E22,2)) -> 5165917.3 | H22: =G22/$G$28 -> 0.079536667 | I22: =H22*$I$28 -> 5478738.8 | J22: =IF(I22*E22=0,ROUND(I22/F22,4),ROUND(I22/E22,4)) -> 7.0728
A23: General Service 3,000 To 4,999 kW Service Classification | B23: Retail Transmission Rate - Network Service Rate - EV CHARGING | C23: $/kW | D23: ='8. RTSR Rates to Forecast 2030'!J23 -> 1.13373 | H23: =G23/$G$28 -> 0 | I23: =H23*$I$28 -> 0 | J23: =J22*0.17 -> 1.202376
A24: Large Use Service Classification | B24: Retail Transmission Rate - Network Service Rate | C24: $/kW | D24: ='8. RTSR Rates to Forecast 2030'!J24 -> 7.1066 | F24: ='3. RRR Data 2031'!F31 -> 1121410.9 | G24: =IF(D24*E24=0,ROUND(D24*F24,2),ROUND(D24*E24,2)) -> 7969418.4 | H24: =G24/$G$28 -> 0.12270057 | I24: =H24*$I$28 -> 8452005.5 | J24: =IF(I24*E24=0,ROUND(I24/F24,4),ROUND(I24/E24,4)) -> 7.5369
A25: Unmetered Scattered Load Service Classification | B25: Retail Transmission Rate - Network Service Rate | C25: $/kWh | D25: ='8. RTSR Rates to Forecast 2030'!J25 -> 0.0137 | E25: ='3. RRR Data 2031'!H33 -> 6629070.2 | F25: ='3. RRR Data 2031'!F33 -> 0 | G25: =IF(D25*E25=0,ROUND(D25*F25,2),ROUND(D25*E25,2)) -> 90818.26 | H25: =G25/$G$28 -> 0.0013982767 | I25: =H25*$I$28 -> 96317.748 | J25: =IF(I25*E25=0,ROUND(I25/F25,4),ROUND(I25/E25,4)) -> 0.0145
A26: Sentinel Lighting Service Classification | B26: Retail Transmission Rate - Network Service Rate | C26: $/kW | D26: ='8. RTSR Rates to Forecast 2030'!J26 -> 4.0783 | F26: ='3. RRR Data 2031'!F35 -> 616.25346 | G26: =IF(D26*E26=0,ROUND(D26*F26,2),ROUND(D26*E26,2)) -> 2513.27 | H26: =G26/$G$28 -> 3.8695377e-05 | I26: =H26*$I$28 -> 2665.4607 | J26: =IF(I26*E26=0,ROUND(I26/F26,4),ROUND(I26/E26,4)) -> 4.3253
A27: Street Lighting Service Classification | B27: Retail Transmission Rate - Network Service Rate | C27: $/kW | D27: ='8. RTSR Rates to Forecast 2030'!J27 -> 4.2807 | F27: ='3. RRR Data 2031'!F37 -> 45774.32 | G27: =IF(D27*E27=0,ROUND(D27*F27,2),ROUND(D27*E27,2)) -> 195946.13 | H27: =G27/$G$28 -> 0.0030168702 | I27: =H27*$I$28 -> 207811.62 | J27: =IF(I27*E27=0,ROUND(I27/F27,4),ROUND(I27/E27,4)) -> 4.5399
G28: =SUM(G17:G27) -> 64950136 | H28: =G28/$G$28 -> 1 | I28: ='7. Forecast Wholesale 2031'!F33+'7. Forecast Wholesale 2031'!F52 -> 68883183
A30: The purpose of this table is to re-align the current RTS Connection Rates to recover current wholesale connection costs.
A31: Rate Class | B31: Rate Description | C31: Unit | D31: Current RTSR-Connection | E31: Loss Adjusted Billed kWh | F31: Billed kW | G31: Billed Amount | H31: Billed Amount % | I31: Current Wholesale Billing | J31: Adjusted RTSR-Connection
A33: Residential Service Classification | B33: Retail Transmission Rate - Line and Transformation Connection Service Rate | C33: $/kWh | D33: ='8. RTSR Rates to Forecast 2030'!J33 -> 0.0108 | E33: ='3. RRR Data 2031'!H18 -> 1.6786858e+09 | F33: ='3. RRR Data 2031'!F18 -> 0 | G33: =IF(D33*E33=0,ROUND(D33*F33,2),ROUND(D33*E33,2)) -> 18129806 | H33: =G33/$G$44 -> 0.40157644 | I33: =H33*$I$44 -> 19214740 | J33: =IF(I33*E33=0,ROUND(I33/F33,4),ROUND(I33/E33,4)) -> 0.0114
A34: Seasonal Residential Service Classification | B34: Retail Transmission Rate - Line and Transformation Connection Service Rate | C34: $/kWh | D34: ='8. RTSR Rates to Forecast 2030'!J34 -> 0.0131 | E34: ='3. RRR Data 2031'!H20 -> 15482267 | F34: ='3. RRR Data 2031'!F20 -> 0 | G34: =IF(D34*E34=0,ROUND(D34*F34,2),ROUND(D34*E34,2)) -> 202817.7 | H34: =G34/$G$44 -> 0.0044924258 | I34: =H34*$I$44 -> 214954.82 | J34: =IF(I34*E34=0,ROUND(I34/F34,4),ROUND(I34/E34,4)) -> 0.0139
A35: General Service Less Than 50 kW Service Classification | B35: Retail Transmission Rate - Line and Transformation Connection Service Rate | C35: $/kWh | D35: ='8. RTSR Rates to Forecast 2030'!J35 -> 0.0102 | E35: ='3. RRR Data 2031'!H22 -> 3.7116793e+08 | F35: ='3. RRR Data 2031'!F22 -> 0 | G35: =IF(D35*E35=0,ROUND(D35*F35,2),ROUND(D35*E35,2)) -> 3785912.9 | H35: =G35/$G$44 -> 0.083858227 | I35: =H35*$I$44 -> 4012471.5 | J35: =IF(I35*E35=0,ROUND(I35/F35,4),ROUND(I35/E35,4)) -> 0.0108
A36: General Service 50 To 2,999 kW Service Classification | B36: Retail Transmission Rate - Line and Transformation Connection Service Rate | C36: $/kW | D36: ='8. RTSR Rates to Forecast 2030'!J36 -> 4.4577 | F36: ='3. RRR Data 2031'!F24 -> 3339968.7 | G36: =IF(D36*E36=0,ROUND(D36*F36,2),ROUND(D36*E36,2)) -> 14888579 | H36: =G36/$G$44 -> 0.32978303 | I36: =H36*$I$44 -> 15779549 | J36: =IF(I36*E36=0,ROUND(I36/F36,4),ROUND(I36/E36,4)) -> 4.7245
A37: General Service 50 To 2,999 kW Service Classification | B37: Retail Transmission Rate - Line and Transformation Connection Service Rate - EV CHARGING | C37: $/kW | D37: ='8. RTSR Rates to Forecast 2030'!J37 -> 0.7571 | F37: ='3. RRR Data 2031'!F26 -> 43607.077 | G37: =IF(D37*E37=0,ROUND(D37*F37,2),ROUND(D37*E37,2)) -> 33014.92 | H37: =G37/$G$44 -> 0.00073128271 | I37: =H37*$I$44 -> 34990.616 | J37: =IF(I37*E37=0,ROUND(I37/F37,4),ROUND(I37/E37,4)) -> 0.8024
A38: General Service 3,000 To 4,999 kW Service Classification | B38: Retail Transmission Rate - Line and Transformation Connection Service Rate | C38: $/kW | D38: ='8. RTSR Rates to Forecast 2030'!J38 -> 3.1496 | F38: ='3. RRR Data 2031'!F28 -> 774616.48 | G38: =IF(D38*E38=0,ROUND(D38*F38,2),ROUND(D38*E38,2)) -> 2439732.1 | H38: =G38/$G$44 -> 0.05404023 | I38: =H38*$I$44 -> 2585731.8 | J38: =IF(I38*E38=0,ROUND(I38/F38,4),ROUND(I38/E38,4)) -> 3.3381
A39: General Service 3,000 To 4,999 kW Service Classification | B39: Retail Transmission Rate - Line and Transformation Connection Service Rate - EV CHARGING | C39: $/kW | D39: ='8. RTSR Rates to Forecast 2030'!J39 -> 0.535432 | H39: =G39/$G$44 -> 0 | I39: =H39*$I$44 -> 0 | J39: =J38*0.17 -> 0.567477
A40: Large Use Service Classification | B40: Retail Transmission Rate - Line and Transformation Connection Service Rate | C40: $/kW | D40: ='8. RTSR Rates to Forecast 2030'!J40 -> 4.8662 | F40: ='3. RRR Data 2031'!F32 -> 1121410.9 | G40: =IF(D40*E40=0,ROUND(D40*F40,2),ROUND(D40*E40,2)) -> 5457009.5 | H40: =G40/$G$44 -> 0.12087313 | I40: =H40*$I$44 -> 5783570.8 | J40: =IF(I40*E40=0,ROUND(I40/F40,4),ROUND(I40/E40,4)) -> 5.1574
A41: Unmetered Scattered Load Service Classification | B41: Retail Transmission Rate - Line and Transformation Connection Service Rate | C41: $/kWh | D41: ='8. RTSR Rates to Forecast 2030'!J41 -> 0.0103 | E41: ='3. RRR Data 2031'!H34 -> 6629070.2 | F41: ='3. RRR Data 2031'!F34 -> 0 | G41: =IF(D41*E41=0,ROUND(D41*F41,2),ROUND(D41*E41,2)) -> 68279.42 | H41: =G41/$G$44 -> 0.0015123938 | I41: =H41*$I$44 -> 72365.433 | J41: =IF(I41*E41=0,ROUND(I41/F41,4),ROUND(I41/E41,4)) -> 0.0109
A42: Sentinel Lighting Service Classification | B42: Retail Transmission Rate - Line and Transformation Connection Service Rate | C42: $/kW | D42: ='8. RTSR Rates to Forecast 2030'!J42 -> 2.8885 | F42: ='3. RRR Data 2031'!F36 -> 616.25346 | G42: =IF(D42*E42=0,ROUND(D42*F42,2),ROUND(D42*E42,2)) -> 1780.05 | H42: =G42/$G$44 -> 3.9428228e-05 | I42: =H42*$I$44 -> 1886.5727 | J42: =IF(I42*E42=0,ROUND(I42/F42,4),ROUND(I42/E42,4)) -> 3.0614
A43: Street Lighting Service Classification | B43: Retail Transmission Rate - Line and Transformation Connection Service Rate | C43: $/kW | D43: ='8. RTSR Rates to Forecast 2030'!J43 -> 3.051 | F43: ='3. RRR Data 2031'!F38 -> 45774.32 | G43: =IF(D43*E43=0,ROUND(D43*F43,2),ROUND(D43*E43,2)) -> 139657.45 | H43: =G43/$G$44 -> 0.003093422 | I43: =H43*$I$44 -> 148014.91 | J43: =IF(I43*E43=0,ROUND(I43/F43,4),ROUND(I43/E43,4)) -> 3.2336
G44: =SUM(G33:G43) -> 45146589 | I44: ='7. Forecast Wholesale 2031'!P33+'7. Forecast Wholesale 2031'!P52 -> 47848275

Sheet Forecast RTSRs
B4: Network | D4: WRZ | E4: VRZ
D5: 2026 | E5: 2026 | F5: 2027 | G5: =F5+1 -> 2028 | H5: =G5+1 -> 2029 | I5: =H5+1 -> 2030 | J5: =I5+1 -> 2031
B6: ='8. RTSR Rates to Forecast 2031'!A17 -> Residential Service Classification | C6: ='8. RTSR Rates to Forecast 2031'!B17 -> Retail Transmission Rate - Network Service Rate | D6: ='8. RTSR Rates to Forecast 2027'!D29 -> 0.0131 | E6: ='8. RTSR Rates to Forecast 2027'!D17 -> 0.0117 | F6: ='8. RTSR Rates to Forecast 2027'!J17 -> 0.0122 | G6: ='8. RTSR Rates to Forecast 2028'!J17 -> 0.0132 | H6: ='8. RTSR Rates to Forecast 2029'!J17 -> 0.014 | I6: ='8. RTSR Rates to Forecast 2030'!J17 -> 0.015 | J6: ='8. RTSR Rates to Forecast 2031'!J17 -> 0.0159
B7: ='8. RTSR Rates to Forecast 2031'!A18 -> Seasonal Residential Service Classification | C7: ='8. RTSR Rates to Forecast 2031'!B18 -> Retail Transmission Rate - Network Service Rate | E7: ='8. RTSR Rates to Forecast 2027'!D18 -> 0.0122 | F7: ='8. RTSR Rates to Forecast 2027'!J18 -> 0.0123 | G7: ='8. RTSR Rates to Forecast 2028'!J18 -> 0.0133 | H7: ='8. RTSR Rates to Forecast 2029'!J18 -> 0.0141 | I7: ='8. RTSR Rates to Forecast 2030'!J18 -> 0.0151 | J7: ='8. RTSR Rates to Forecast 2031'!J18 -> 0.016
B8: ='8. RTSR Rates to Forecast 2031'!A19 -> General Service Less Than 50 kW Service Classification | C8: ='8. RTSR Rates to Forecast 2031'!B19 -> Retail Transmission Rate - Network Service Rate | D8: ='8. RTSR Rates to Forecast 2027'!D30 -> 0.012 | E8: ='8. RTSR Rates to Forecast 2027'!D19 -> 0.0107 | F8: ='8. RTSR Rates to Forecast 2027'!J19 -> 0.0111 | G8: ='8. RTSR Rates to Forecast 2028'!J19 -> 0.012 | H8: ='8. RTSR Rates to Forecast 2029'!J19 -> 0.0127 | I8: ='8. RTSR Rates to Forecast 2030'!J19 -> 0.0136 | J8: ='8. RTSR Rates to Forecast 2031'!J19 -> 0.0144
B9: ='8. RTSR Rates to Forecast 2031'!A20 -> General Service 50 To 2,999 kW Service Classification | C9: ='8. RTSR Rates to Forecast 2031'!B20 -> Retail Transmission Rate - Network Service Rate | D9: ='8. RTSR Rates to Forecast 2027'!D31 -> 4.7407 | E9: ='8. RTSR Rates to Forecast 2027'!D20 -> 5.2131 | F9: ='8. RTSR Rates to Forecast 2027'!J20 -> 5.1323 | G9: ='8. RTSR Rates to Forecast 2028'!J20 -> 5.5425 | H9: ='8. RTSR Rates to Forecast 2029'!J20 -> 5.8824 | I9: ='8. RTSR Rates to Forecast 2030'!J20 -> 6.2925 | J9: ='8. RTSR Rates to Forecast 2031'!J20 -> 6.6735
B10: ='8. RTSR Rates to Forecast 2031'!A21 -> General Service 50 To 2,999 kW Service Classification | C10: ='8. RTSR Rates to Forecast 2031'!B21 -> Retail Transmission Rate - Network Service Rate - EV CHARGING | D10: ='8. RTSR Rates to Forecast 2027'!D32 -> 0.8059 | E10: ='8. RTSR Rates to Forecast 2027'!D21 -> 0.886227 | F10: ='8. RTSR Rates to Forecast 2027'!J21 -> 0.8756 | G10: ='8. RTSR Rates to Forecast 2028'!J21 -> 0.9456 | H10: ='8. RTSR Rates to Forecast 2029'!J21 -> 1.0036 | I10: ='8. RTSR Rates to Forecast 2030'!J21 -> 1.0736 | J10: ='8. RTSR Rates to Forecast 2031'!J21 -> 1.1386
B11: ='8. RTSR Rates to Forecast 2031'!A22 -> General Service 3,000 To 4,999 kW Service Classification | C11: ='8. RTSR Rates to Forecast 2031'!B22 -> Retail Transmission Rate - Network Service Rate | D11: ='8. RTSR Rates to Forecast 2027'!D33 -> 4.7407 | E11: ='8. RTSR Rates to Forecast 2027'!D22 -> 5.7435 | F11: ='8. RTSR Rates to Forecast 2027'!J22 -> 5.4393 | G11: ='8. RTSR Rates to Forecast 2028'!J22 -> 5.8741 | H11: ='8. RTSR Rates to Forecast 2029'!J22 -> 6.2344 | I11: ='8. RTSR Rates to Forecast 2030'!J22 -> 6.669 | J11: ='8. RTSR Rates to Forecast 2031'!J22 -> 7.0728
B12: ='8. RTSR Rates to Forecast 2031'!A23 -> General Service 3,000 To 4,999 kW Service Classification | C12: ='8. RTSR Rates to Forecast 2031'!B23 -> Retail Transmission Rate - Network Service Rate - EV CHARGING | D12: ='8. RTSR Rates to Forecast 2027'!D34 -> 0.8059 | E12: ='8. RTSR Rates to Forecast 2027'!D23 -> 0.976395 | F12: =F11*0.17 -> 0.924681 | G12: =G11*0.17 -> 0.998597 | H12: =H11*0.17 -> 1.059848 | I12: =I11*0.17 -> 1.13373 | J12: =J11*0.17 -> 1.202376
B13: ='8. RTSR Rates to Forecast 2031'!A24 -> Large Use Service Classification | C13: ='8. RTSR Rates to Forecast 2031'!B24 -> Retail Transmission Rate - Network Service Rate | E13: ='8. RTSR Rates to Forecast 2027'!D24 -> 5.7435 | F13: ='8. RTSR Rates to Forecast 2027'!J24 -> 5.7963 | G13: ='8. RTSR Rates to Forecast 2028'!J24 -> 6.2596 | H13: ='8. RTSR Rates to Forecast 2029'!J24 -> 6.6435 | I13: ='8. RTSR Rates to Forecast 2030'!J24 -> 7.1066 | J13: ='8. RTSR Rates to Forecast 2031'!J24 -> 7.5369
B14: ='8. RTSR Rates to Forecast 2031'!A25 -> Unmetered Scattered Load Service Classification | C14: ='8. RTSR Rates to Forecast 2031'!B25 -> Retail Transmission Rate - Network Service Rate | D14: ='8. RTSR Rates to Forecast 2027'!D35 -> 0.012 | E14: ='8. RTSR Rates to Forecast 2027'!D25 -> 0.0107 | F14: ='8. RTSR Rates to Forecast 2027'!J25 -> 0.0112 | G14: ='8. RTSR Rates to Forecast 2028'!J25 -> 0.0121 | H14: ='8. RTSR Rates to Forecast 2029'!J25 -> 0.0128 | I14: ='8. RTSR Rates to Forecast 2030'!J25 -> 0.0137 | J14: ='8. RTSR Rates to Forecast 2031'!J25 -> 0.0145
B15: ='8. RTSR Rates to Forecast 2031'!A26 -> Sentinel Lighting Service Classification | C15: ='8. RTSR Rates to Forecast 2031'!B26 -> Retail Transmission Rate - Network Service Rate | D15: ='8. RTSR Rates to Forecast 2027'!D36 -> 3.5928 | E15: ='8. RTSR Rates to Forecast 2027'!D26 -> 3.2516 | F15: ='8. RTSR Rates to Forecast 2027'!J26 -> 3.3263 | G15: ='8. RTSR Rates to Forecast 2028'!J26 -> 3.5922 | H15: ='8. RTSR Rates to Forecast 2029'!J26 -> 3.8125 | I15: ='8. RTSR Rates to Forecast 2030'!J26 -> 4.0783 | J15: ='8. RTSR Rates to Forecast 2031'!J26 -> 4.3253
B16: ='8. RTSR Rates to Forecast 2031'!A27 -> Street Lighting Service Classification | C16: ='8. RTSR Rates to Forecast 2031'!B27 -> Retail Transmission Rate - Network Service Rate | D16: ='8. RTSR Rates to Forecast 2027'!D37 -> 3.5755 | E16: ='8. RTSR Rates to Forecast 2027'!D27 -> 3.4237 | F16: ='8. RTSR Rates to Forecast 2027'!J27 -> 3.4914 | G16: ='8. RTSR Rates to Forecast 2028'!J27 -> 3.7705 | H16: ='8. RTSR Rates to Forecast 2029'!J27 -> 4.0017 | I16: ='8. RTSR Rates to Forecast 2030'!J27 -> 4.2807 | J16: ='8. RTSR Rates to Forecast 2031'!J27 -> 4.5399
F17: ='8. RTSR Rates to Forecast 2027'!I38 -> 47743564 | G17: ='8. RTSR Rates to Forecast 2028'!I28 -> 53320881 | H17: ='8. RTSR Rates to Forecast 2029'!I28 -> 58528338 | I17: ='8. RTSR Rates to Forecast 2030'!I28 -> 63896861 | J17: ='8. RTSR Rates to Forecast 2031'!I28 -> 68883183
