Workbook
Name MidPeak: 0.157
Name MidPeakPer: 0.18
Name OER: 0.235
Name OffPeak: 0.098
Name OffPeakPer: 0.64
Name OnPeak: 0.203
Name OnPeakPer: 0.18
Name SME: 0.42

Sheet Summary
C3: Distribution - Sub-Total A Bill Impacts
D5: Rate Class | E5: Volume | F5: kWh / kW | G5: 2027 | I5: 2028 | K5: 2029 | M5: 2030 | O5: 2031 | Q5: Average
G6: $ | H6: % | I6: $ | J6: % | K6: $ | L6: % | M6: $ | N6: % | O6: $ | P6: % | Q6: $ | R6: %
D7: ='VRZ BI (2027)'!D16 -> Residential | E7: 750 | F7: kWh | G7: ='VRZ BI (2027)'!H41 -> 10.909761 | H7: ='VRZ BI (2027)'!I41 -> 0.30440183 | I7: ='VRZ BI (2028)'!H41 -> 4.0530355 | J7: ='VRZ BI (2028)'!I41 -> 0.086696388 | K7: ='VRZ BI (2029)'!H41 -> 1.78 | L7: ='VRZ BI (2029)'!I41 -> 0.035037441 | M7: ='VRZ BI (2030)'!H41 -> 2.27 | N7: ='VRZ BI (2030)'!I41 -> 0.043170013 | O7: ='VRZ BI (2031)'!H41 -> 4.13 | P7: ='VRZ BI (2031)'!I41 -> 0.075292423 | Q7: =AVERAGE(G7,I7,K7,M7,O7) -> 4.6285594 | R7: =GEOMEAN(1+H7,1+J7,1+L7,1+N7,1+P7)-1 -> 0.10476898
D8: ='VRZ BI (2027)'!D17 -> Seasonal Residential | E8: 680 | F8: kWh | G8: ='VRZ BI (2027)'!H42 -> 14.869109 | H8: ='VRZ BI (2027)'!I42 -> 0.22829893 | I8: ='VRZ BI (2028)'!H42 -> 8.1944167 | J8: ='VRZ BI (2028)'!I42 -> 0.10243135 | K8: ='VRZ BI (2029)'!H42 -> 3.12 | L8: ='VRZ BI (2029)'!I42 -> 0.035376746 | M8: ='VRZ BI (2030)'!H42 -> 3.94 | N8: ='VRZ BI (2030)'!I42 -> 0.043148043 | O8: ='VRZ BI (2031)'!H42 -> 7.2 | P8: ='VRZ BI (2031)'!I42 -> 0.075587753 | Q8: =AVERAGE(G8,I8,K8,M8,O8) -> 7.4647052 | R8: =GEOMEAN(1+H8,1+J8,1+L8,1+N8,1+P8)-1 -> 0.094836245
D9: ='VRZ BI (2027)'!D18 -> GS <50 | E9: 2000 | F9: kWh | G9: ='VRZ BI (2027)'!H43 -> 19.298336 | H9: ='VRZ BI (2027)'!I43 -> 0.27176927 | I9: ='VRZ BI (2028)'!H43 -> 8.9064023 | J9: ='VRZ BI (2028)'!I43 -> 0.09862215 | K9: ='VRZ BI (2029)'!H43 -> 3.4 | L9: ='VRZ BI (2029)'!I43 -> 0.034269102 | M9: ='VRZ BI (2030)'!H43 -> 4.2 | N9: ='VRZ BI (2030)'!I43 -> 0.040929793 | O9: ='VRZ BI (2031)'!H43 -> 7.8 | P9: ='VRZ BI (2031)'!I43 -> 0.073023631 | Q9: =AVERAGE(G9,I9,K9,M9,O9) -> 8.7209477 | R9: =GEOMEAN(1+H9,1+J9,1+L9,1+N9,1+P9)-1 -> 0.10048516
D10: ='VRZ BI (2027)'!D19 -> GS 50 - 2,999 kW | E10: 175 | F10: kW | G10: ='VRZ BI (2027)'!H44 -> 269.41095 | H10: ='VRZ BI (2027)'!I44 -> 0.26700258 | I10: ='VRZ BI (2028)'!H44 -> 111.5114 | J10: ='VRZ BI (2028)'!I44 -> 0.087225203 | K10: ='VRZ BI (2029)'!H44 -> 46.235 | L10: ='VRZ BI (2029)'!I44 -> 0.03326397 | M10: ='VRZ BI (2030)'!H44 -> 58.5375 | N10: ='VRZ BI (2030)'!I44 -> 0.040759242 | O10: ='VRZ BI (2031)'!H44 -> 106.68 | P10: ='VRZ BI (2031)'!I44 -> 0.071371473 | Q10: =AVERAGE(G10,I10,K10,M10,O10) -> 118.47497 | R10: =GEOMEAN(1+H10,1+J10,1+L10,1+N10,1+P10)-1 -> 0.096780525
D11: ='VRZ BI (2027)'!D20 -> GS 3,000 - 4,999 kW | E11: 4000 | F11: KW | G11: ='VRZ BI (2027)'!H45 -> 4578.0934 | H11: ='VRZ BI (2027)'!I45 -> 0.22292938 | I11: ='VRZ BI (2028)'!H45 -> 1531.4663 | J11: ='VRZ BI (2028)'!I45 -> 0.060980182 | K11: ='VRZ BI (2029)'!H45 -> 808.4 | L11: ='VRZ BI (2029)'!I45 -> 0.030338934 | M11: ='VRZ BI (2030)'!H45 -> 1021.6 | N11: ='VRZ BI (2030)'!I45 -> 0.037211295 | O11: ='VRZ BI (2031)'!H45 -> 1850.4 | P11: ='VRZ BI (2031)'!I45 -> 0.064981882 | Q11: =AVERAGE(G11,I11,K11,M11,O11) -> 1957.9919 | R11: =GEOMEAN(1+H11,1+J11,1+L11,1+N11,1+P11)-1 -> 0.081084508
C12: Veridian | D12: ='VRZ BI (2027)'!D21 -> Large Use >5MW | E12: 9400 | F12: KW | G12: ='VRZ BI (2027)'!H46 -> 13798.386 | H12: ='VRZ BI (2027)'!I46 -> 0.25225849 | I12: ='VRZ BI (2028)'!H46 -> 4587.2382 | J12: ='VRZ BI (2028)'!I46 -> 0.066969155 | K12: ='VRZ BI (2029)'!H46 -> 2180.8 | L12: ='VRZ BI (2029)'!I46 -> 0.029839223 | M12: ='VRZ BI (2030)'!H46 -> 2746.68 | N12: ='VRZ BI (2030)'!I46 -> 0.036493062 | O12: ='VRZ BI (2031)'!H46 -> 4996.1 | P12: ='VRZ BI (2031)'!I46 -> 0.064042306 | Q12: =AVERAGE(G12,I12,K12,M12,O12) -> 5661.8408 | R12: =GEOMEAN(1+H12,1+J12,1+L12,1+N12,1+P12)-1 -> 0.086996423
C13: Rate Zone | D13: ='VRZ BI (2027)'!D22 -> Unmetered Scattered Load | E13: 450 | F13: kWh | G13: ='VRZ BI (2027)'!H47 -> 1.8475142 | H13: ='VRZ BI (2027)'!I47 -> 0.092352624 | I13: ='VRZ BI (2028)'!H47 -> 2.3674538 | J13: ='VRZ BI (2028)'!I47 -> 0.10833782 | K13: ='VRZ BI (2029)'!H47 -> 0.83 | L13: ='VRZ BI (2029)'!I47 -> 0.034269244 | M13: ='VRZ BI (2030)'!H47 -> 1.065 | N13: ='VRZ BI (2030)'!I47 -> 0.042515024 | O13: ='VRZ BI (2031)'!H47 -> 1.96 | P13: ='VRZ BI (2031)'!I47 -> 0.075052744 | Q13: =AVERAGE(G13,I13,K13,M13,O13) -> 1.6139936 | R13: =GEOMEAN(1+H13,1+J13,1+L13,1+N13,1+P13)-1 -> 0.070129024
D14: ='VRZ BI (2027)'!D23 -> Sentinel | E14: 0.2 | F14: KW | G14: ='VRZ BI (2027)'!H48 -> 1.7871628 | H14: ='VRZ BI (2027)'!I48 -> 0.17892527 | I14: ='VRZ BI (2028)'!H48 -> 1.1300717 | J14: ='VRZ BI (2028)'!I48 -> 0.095968186 | K14: ='VRZ BI (2029)'!H48 -> 0.46038 | L14: ='VRZ BI (2029)'!I48 -> 0.035673012 | M14: ='VRZ BI (2030)'!H48 -> 0.58584 | N14: ='VRZ BI (2030)'!I48 -> 0.04383083 | O14: ='VRZ BI (2031)'!H48 -> 1.05346 | P14: ='VRZ BI (2031)'!I48 -> 0.075507241 | Q14: =AVERAGE(G14,I14,K14,M14,O14) -> 1.0033829 | R14: =GEOMEAN(1+H14,1+J14,1+L14,1+N14,1+P14)-1 -> 0.084800979
D15: ='VRZ BI (2027)'!D24 -> Street Light | E15: 910.35058 | F15: KW | G15: ='VRZ BI (2027)'!H49 -> -1013.9046 | H15: ='VRZ BI (2027)'!I49 -> -0.056021908 | I15: ='VRZ BI (2028)'!H49 -> 2080.1842 | J15: ='VRZ BI (2028)'!I49 -> 0.12175889 | K15: ='VRZ BI (2029)'!H49 -> 609.78875 | L15: ='VRZ BI (2029)'!I49 -> 0.031818432 | M15: ='VRZ BI (2030)'!H49 -> 871.89664 | N15: ='VRZ BI (2030)'!I49 -> 0.044092132 | O15: ='VRZ BI (2031)'!H49 -> 1489.5144 | P15: ='VRZ BI (2031)'!I49 -> 0.072144292 | Q15: =AVERAGE(G15,I15,K15,M15,O15) -> 807.49588 | R15: =GEOMEAN(1+H15,1+J15,1+L15,1+N15,1+P15)-1 -> 0.041097385
D16: ='VRZ BI (2027)'!D25 -> Residential (Low) | E16: 325 | F16: kWh | G16: ='VRZ BI (2027)'!H50 -> 10.909761 | H16: ='VRZ BI (2027)'!I50 -> 0.30440183 | I16: ='VRZ BI (2028)'!H50 -> 4.0530355 | J16: ='VRZ BI (2028)'!I50 -> 0.086696388 | K16: ='VRZ BI (2029)'!H50 -> 1.78 | L16: ='VRZ BI (2029)'!I50 -> 0.035037441 | M16: ='VRZ BI (2030)'!H50 -> 2.27 | N16: ='VRZ BI (2030)'!I50 -> 0.043170013 | O16: ='VRZ BI (2031)'!H50 -> 4.13 | P16: ='VRZ BI (2031)'!I50 -> 0.075292423 | Q16: =AVERAGE(G16,I16,K16,M16,O16) -> 4.6285594 | R16: =GEOMEAN(1+H16,1+J16,1+L16,1+N16,1+P16)-1 -> 0.10476898
D17: ='VRZ BI (2027)'!D26 -> Residential (High) | E17: 1500 | F17: kWh | G17: ='VRZ BI (2027)'!H51 -> 10.909761 | H17: ='VRZ BI (2027)'!I51 -> 0.30440183 | I17: ='VRZ BI (2028)'!H51 -> 4.0530355 | J17: ='VRZ BI (2028)'!I51 -> 0.086696388 | K17: ='VRZ BI (2029)'!H51 -> 1.78 | L17: ='VRZ BI (2029)'!I51 -> 0.035037441 | M17: ='VRZ BI (2030)'!H51 -> 2.27 | N17: ='VRZ BI (2030)'!I51 -> 0.043170013 | O17: ='VRZ BI (2031)'!H51 -> 4.13 | P17: ='VRZ BI (2031)'!I51 -> 0.075292423 | Q17: =AVERAGE(G17,I17,K17,M17,O17) -> 4.6285594 | R17: =GEOMEAN(1+H17,1+J17,1+L17,1+N17,1+P17)-1 -> 0.10476898
D18: ='VRZ BI (2027)'!D27 -> Seasonal Residential (Low) | E18: 350 | F18: kWh | G18: ='VRZ BI (2027)'!H52 -> 14.869109 | H18: ='VRZ BI (2027)'!I52 -> 0.22829893 | I18: ='VRZ BI (2028)'!H52 -> 8.1944167 | J18: ='VRZ BI (2028)'!I52 -> 0.10243135 | K18: ='VRZ BI (2029)'!H52 -> 3.12 | L18: ='VRZ BI (2029)'!I52 -> 0.035376746 | M18: ='VRZ BI (2030)'!H52 -> 3.94 | N18: ='VRZ BI (2030)'!I52 -> 0.043148043 | O18: ='VRZ BI (2031)'!H52 -> 7.2 | P18: ='VRZ BI (2031)'!I52 -> 0.075587753 | Q18: =AVERAGE(G18,I18,K18,M18,O18) -> 7.4647052 | R18: =GEOMEAN(1+H18,1+J18,1+L18,1+N18,1+P18)-1 -> 0.094836245
D19: ='VRZ BI (2027)'!D28 -> Seasonal Residential (High) | E19: 1500 | F19: kWh | G19: ='VRZ BI (2027)'!H53 -> 14.869109 | H19: ='VRZ BI (2027)'!I53 -> 0.22829893 | I19: ='VRZ BI (2028)'!H53 -> 8.1944167 | J19: ='VRZ BI (2028)'!I53 -> 0.10243135 | K19: ='VRZ BI (2029)'!H53 -> 3.12 | L19: ='VRZ BI (2029)'!I53 -> 0.035376746 | M19: ='VRZ BI (2030)'!H53 -> 3.94 | N19: ='VRZ BI (2030)'!I53 -> 0.043148043 | O19: ='VRZ BI (2031)'!H53 -> 7.2 | P19: ='VRZ BI (2031)'!I53 -> 0.075587753 | Q19: =AVERAGE(G19,I19,K19,M19,O19) -> 7.4647052 | R19: =GEOMEAN(1+H19,1+J19,1+L19,1+N19,1+P19)-1 -> 0.094836245
D20: ='VRZ BI (2027)'!D29 -> GS < 50 (Low) | E20: 1000 | F20: kWh | G20: ='VRZ BI (2027)'!H54 -> 11.664168 | H20: ='VRZ BI (2027)'!I54 -> 0.24759431 | I20: ='VRZ BI (2028)'!H54 -> 4.4532012 | J20: ='VRZ BI (2028)'!I54 -> 0.075768 | K20: ='VRZ BI (2029)'!H54 -> 1.7 | L20: ='VRZ BI (2029)'!I54 -> 0.026887091 | M20: ='VRZ BI (2030)'!H54 -> 2.1 | N20: ='VRZ BI (2030)'!I54 -> 0.032343833 | O20: ='VRZ BI (2031)'!H54 -> 3.9 | P20: ='VRZ BI (2031)'!I54 -> 0.058185187 | Q20: =AVERAGE(G20,I20,K20,M20,O20) -> 4.7634738 | R20: =GEOMEAN(1+H20,1+J20,1+L20,1+N20,1+P20)-1 -> 0.085275876
D21: ='VRZ BI (2027)'!D30 -> GS < 50 (High) | E21: 5000 | F21: kWh | G21: ='VRZ BI (2027)'!H55 -> 42.20084 | H21: ='VRZ BI (2027)'!I55 -> 0.29571046 | I21: ='VRZ BI (2028)'!H55 -> 22.266006 | J21: ='VRZ BI (2028)'!I55 -> 0.12041482 | K21: ='VRZ BI (2029)'!H55 -> 8.5 | L21: ='VRZ BI (2029)'!I55 -> 0.041027751 | M21: ='VRZ BI (2030)'!H55 -> 10.5 | N21: ='VRZ BI (2030)'!I55 -> 0.048683946 | O21: ='VRZ BI (2031)'!H55 -> 19.5 | P21: ='VRZ BI (2031)'!I55 -> 0.086215722 | Q21: =AVERAGE(G21,I21,K21,M21,O21) -> 20.593369 | R21: =GEOMEAN(1+H21,1+J21,1+L21,1+N21,1+P21)-1 -> 0.11476151
D23: Rate Class | E23: Volume | F23: kWh / kW | G23: 2027 | I23: 2028 | K23: 2029 | M23: 2030 | O23: 2031 | Q23: Average
G24: $ | H24: % | I24: $ | J24: % | K24: $ | L24: % | M24: $ | N24: % | O24: $ | P24: % | Q24: $ | R24: %
D25: ='WRZ BI (2027)'!D16 -> Residential | E25: 750 | F25: kWh | G25: ='WRZ BI (2027)'!H41 -> 6.9532736 | H25: ='WRZ BI (2027)'!I41 -> 0.17630004 | I25: ='WRZ BI (2028)'!H41 -> 4.2803209 | J25: ='WRZ BI (2028)'!I41 -> 0.09226167 | K25: ='WRZ BI (2029)'!H41 -> 1.78 | L25: ='WRZ BI (2029)'!I41 -> 0.035126776 | M25: ='WRZ BI (2030)'!H41 -> 2.27 | N25: ='WRZ BI (2030)'!I41 -> 0.043276348 | O25: ='WRZ BI (2031)'!H41 -> 4.13 | P25: ='WRZ BI (2031)'!I41 -> 0.075470189 | Q25: =AVERAGE(G25,I25,K25,M25,O25) -> 3.8827189 | R25: =GEOMEAN(1+H25,1+J25,1+L25,1+N25,1+P25)-1 -> 0.083346083
D26: ='WRZ BI (2027)'!D17 -> GS <50 | E26: 2000 | F26: kWh | G26: ='WRZ BI (2027)'!H42 -> 7.6245597 | H26: ='WRZ BI (2027)'!I42 -> 0.091851098 | I26: ='WRZ BI (2028)'!H42 -> 8.2197596 | J26: ='WRZ BI (2028)'!I42 -> 0.090691228 | K26: ='WRZ BI (2029)'!H42 -> 3.4 | L26: ='WRZ BI (2029)'!I42 -> 0.034394046 | M26: ='WRZ BI (2030)'!H42 -> 4.2 | N26: ='WRZ BI (2030)'!I42 -> 0.04107406 | O26: ='WRZ BI (2031)'!H42 -> 7.8 | P26: ='WRZ BI (2031)'!I42 -> 0.073270865 | Q26: =AVERAGE(G26,I26,K26,M26,O26) -> 6.2488638 | R26: =GEOMEAN(1+H26,1+J26,1+L26,1+N26,1+P26)-1 -> 0.065978493
D27: ='WRZ BI (2027)'!D18 -> GS 50 - 2,999 kW | E27: 175 | F27: kW | G27: ='WRZ BI (2027)'!H43 -> 82.1055 | H27: ='WRZ BI (2027)'!I43 -> 0.06871817 | I27: ='WRZ BI (2028)'!H43 -> 99.541274 | J27: ='WRZ BI (2028)'!I43 -> 0.077954167 | K27: ='WRZ BI (2029)'!H43 -> 46.235 | L27: ='WRZ BI (2029)'!I43 -> 0.033589745 | M27: ='WRZ BI (2030)'!H43 -> 58.5375 | N27: ='WRZ BI (2030)'!I43 -> 0.041145451 | O27: ='WRZ BI (2031)'!H43 -> 106.68 | P27: ='WRZ BI (2031)'!I43 -> 0.072021018 | Q27: =AVERAGE(G27,I27,K27,M27,O27) -> 78.619855 | R27: =GEOMEAN(1+H27,1+J27,1+L27,1+N27,1+P27)-1 -> 0.058535134
C28: Whitby | D28: ='WRZ BI (2027)'!D19 -> GS 3,000 - 4,999 kW | E28: 4000 | F28: KW | G28: ='WRZ BI (2027)'!H44 -> 3340.0611 | H28: ='WRZ BI (2027)'!I44 -> 0.15355805 | I28: ='WRZ BI (2028)'!H44 -> 1345.8661 | J28: ='WRZ BI (2028)'!I44 -> 0.053638989 | K28: ='WRZ BI (2029)'!H44 -> 808.4 | L28: ='WRZ BI (2029)'!I44 -> 0.03057829 | M28: ='WRZ BI (2030)'!H44 -> 1021.6 | N28: ='WRZ BI (2030)'!I44 -> 0.037496159 | O28: ='WRZ BI (2031)'!H44 -> 1850.4 | P28: ='WRZ BI (2031)'!I44 -> 0.06546136 | Q28: =AVERAGE(G28,I28,K28,M28,O28) -> 1673.2654 | R28: =GEOMEAN(1+H28,1+J28,1+L28,1+N28,1+P28)-1 -> 0.067252782
C29: Rate Zone | D29: ='WRZ BI (2027)'!D20 -> Unmetered Scattered Load | E29: 450 | F29: kWh | G29: ='WRZ BI (2027)'!H45 -> -8.7954757 | H29: ='WRZ BI (2027)'!I45 -> -0.29519972 | I29: ='WRZ BI (2028)'!H45 -> 3.1393494 | J29: ='WRZ BI (2028)'!I45 -> 0.14949622 | K29: ='WRZ BI (2029)'!H45 -> 0.83 | L29: ='WRZ BI (2029)'!I45 -> 0.034384371 | M29: ='WRZ BI (2030)'!H45 -> 1.065 | N29: ='WRZ BI (2030)'!I45 -> 0.042653105 | O29: ='WRZ BI (2031)'!H45 -> 1.96 | P29: ='WRZ BI (2031)'!I45 -> 0.075286529 | Q29: =AVERAGE(G29,I29,K29,M29,O29) -> -0.36022525 | R29: =GEOMEAN(1+H29,1+J29,1+L29,1+N29,1+P29)-1 -> -0.01239354
D30: ='WRZ BI (2027)'!D21 -> Sentinel | E30: 0.2 | F30: kW | G30: ='WRZ BI (2027)'!H46 -> 2.0396957 | H30: ='WRZ BI (2027)'!I46 -> 0.21129386 | I30: ='WRZ BI (2028)'!H46 -> 1.2025315 | J30: ='WRZ BI (2028)'!I46 -> 0.10284151 | K30: ='WRZ BI (2029)'!H46 -> 0.46038 | L30: ='WRZ BI (2029)'!I46 -> 0.035700584 | M30: ='WRZ BI (2030)'!H46 -> 0.58584 | N30: ='WRZ BI (2030)'!I46 -> 0.04386354 | O30: ='WRZ BI (2031)'!H46 -> 1.05346 | P30: ='WRZ BI (2031)'!I46 -> 0.075561223 | Q30: =AVERAGE(G30,I30,K30,M30,O30) -> 1.0683814 | R30: =GEOMEAN(1+H30,1+J30,1+L30,1+N30,1+P30)-1 -> 0.092081729
D31: ='WRZ BI (2027)'!D22 -> Street Light | E31: 863.33337 | F31: KW | G31: ='WRZ BI (2027)'!H47 -> -36449.439 | H31: ='WRZ BI (2027)'!I47 -> -0.68922634 | I31: ='WRZ BI (2028)'!H47 -> 4298.1077 | J31: ='WRZ BI (2028)'!I47 -> 0.26151953 | K31: ='WRZ BI (2029)'!H47 -> 664.70067 | L31: ='WRZ BI (2029)'!I47 -> 0.032059664 | M31: ='WRZ BI (2030)'!H47 -> 956.47434 | N31: ='WRZ BI (2030)'!I47 -> 0.044699367 | O31: ='WRZ BI (2031)'!H47 -> 1628.5997 | P31: ='WRZ BI (2031)'!I47 -> 0.072853607 | Q31: =AVERAGE(G31,I31,K31,M31,O31) -> -5780.3113 | R31: =GEOMEAN(1+H31,1+J31,1+L31,1+N31,1+P31)-1 -> -0.14628098
D32: ='WRZ BI (2027)'!D23 -> Residential (Low) | E32: 325 | F32: kWh | G32: ='WRZ BI (2027)'!H48 -> 6.9532736 | H32: ='WRZ BI (2027)'!I48 -> 0.17630004 | I32: ='WRZ BI (2028)'!H48 -> 4.2803209 | J32: ='WRZ BI (2028)'!I48 -> 0.09226167 | K32: ='WRZ BI (2029)'!H48 -> 1.78 | L32: ='WRZ BI (2029)'!I48 -> 0.035126776 | M32: ='WRZ BI (2030)'!H48 -> 2.27 | N32: ='WRZ BI (2030)'!I48 -> 0.043276348 | O32: ='WRZ BI (2031)'!H48 -> 4.13 | P32: ='WRZ BI (2031)'!I48 -> 0.075470189 | Q32: =AVERAGE(G32,I32,K32,M32,O32) -> 3.8827189 | R32: =GEOMEAN(1+H32,1+J32,1+L32,1+N32,1+P32)-1 -> 0.083346083
D33: ='WRZ BI (2027)'!D24 -> Residential (High) | E33: 1500 | F33: kWh | G33: ='WRZ BI (2027)'!H49 -> 6.9532736 | H33: ='WRZ BI (2027)'!I49 -> 0.17630004 | I33: ='WRZ BI (2028)'!H49 -> 4.2803209 | J33: ='WRZ BI (2028)'!I49 -> 0.09226167 | K33: ='WRZ BI (2029)'!H49 -> 1.78 | L33: ='WRZ BI (2029)'!I49 -> 0.035126776 | M33: ='WRZ BI (2030)'!H49 -> 2.27 | N33: ='WRZ BI (2030)'!I49 -> 0.043276348 | O33: ='WRZ BI (2031)'!H49 -> 4.13 | P33: ='WRZ BI (2031)'!I49 -> 0.075470189 | Q33: =AVERAGE(G33,I33,K33,M33,O33) -> 3.8827189 | R33: =GEOMEAN(1+H33,1+J33,1+L33,1+N33,1+P33)-1 -> 0.083346083
D34: ='WRZ BI (2027)'!D25 -> GS < 50 (Low) | E34: 1000 | F34: kWh | G34: ='WRZ BI (2027)'!H50 -> 0.82727984 | H34: ='WRZ BI (2027)'!I50 -> 0.014236445 | I34: ='WRZ BI (2028)'!H50 -> 4.1098798 | J34: ='WRZ BI (2028)'!I50 -> 0.069733109 | K34: ='WRZ BI (2029)'!H50 -> 1.7 | L34: ='WRZ BI (2029)'!I50 -> 0.026963943 | M34: ='WRZ BI (2030)'!H50 -> 2.1 | N34: ='WRZ BI (2030)'!I50 -> 0.032433855 | O34: ='WRZ BI (2031)'!H50 -> 3.9 | P34: ='WRZ BI (2031)'!I50 -> 0.058342045 | Q34: =AVERAGE(G34,I34,K34,M34,O34) -> 2.5274319 | R34: =GEOMEAN(1+H34,1+J34,1+L34,1+N34,1+P34)-1 -> 0.040139589
D35: ='WRZ BI (2027)'!D26 -> GS < 50 (High) | E35: 5000 | F35: kWh | G35: ='WRZ BI (2027)'!H51 -> 28.016399 | H35: ='WRZ BI (2027)'!I51 -> 0.17764504 | I35: ='WRZ BI (2028)'!H51 -> 20.549399 | J35: ='WRZ BI (2028)'!I51 -> 0.11064339 | K35: ='WRZ BI (2029)'!H51 -> 8.5 | L35: ='WRZ BI (2029)'!I51 -> 0.041206967 | M35: ='WRZ BI (2030)'!H51 -> 10.5 | N35: ='WRZ BI (2030)'!I51 -> 0.04888819 | O35: ='WRZ BI (2031)'!H51 -> 19.5 | P35: ='WRZ BI (2031)'!I51 -> 0.086560563 | Q35: =AVERAGE(G35,I35,K35,M35,O35) -> 17.41316 | R35: =GEOMEAN(1+H35,1+J35,1+L35,1+N35,1+P35)-1 -> 0.091897442
B40: Total Bill Impacts
D42: Rate Class | E42: Volume | F42: kWh / kW | G42: 2027 | I42: 2028 | K42: 2029 | M42: 2030 | O42: 2031 | Q42: Average
G43: $ | H43: % | I43: $ | J43: % | K43: $ | L43: % | M43: $ | N43: % | O43: $ | P43: % | Q43: $ | R43: %
D44: ='VRZ BI (2027)'!D16 -> Residential | E44: 750 | F44: kWh | G44: ='VRZ BI (2027)'!N41 -> 11.927687 | H44: ='VRZ BI (2027)'!O41 -> 0.084194017 | I44: ='VRZ BI (2028)'!N41 -> 3.4519272 | J44: ='VRZ BI (2028)'!O41 -> 0.022473962 | K44: ='VRZ BI (2029)'!N41 -> 2.6189181 | L44: ='VRZ BI (2029)'!O41 -> 0.016675838 | M44: ='VRZ BI (2030)'!N41 -> 3.0596199 | N44: ='VRZ BI (2030)'!O41 -> 0.019221349 | O44: ='VRZ BI (2031)'!N41 -> 4.72657 | P44: ='VRZ BI (2031)'!O41 -> 0.029133587 | Q44: =AVERAGE(G44,I44,K44,M44,O44) -> 5.1569443 | R44: =GEOMEAN(1+H44,1+J44,1+L44,1+N44,1+P44)-1 -> 0.034037779
D45: ='VRZ BI (2027)'!D17 -> Seasonal Residential | E45: 680 | F45: kWh | G45: ='VRZ BI (2027)'!N42 -> 14.807949 | H45: ='VRZ BI (2027)'!O42 -> 0.092120308 | I45: ='VRZ BI (2028)'!N42 -> 6.3023958 | J45: ='VRZ BI (2028)'!O42 -> 0.035900101 | K45: ='VRZ BI (2029)'!N42 -> 3.7946947 | L45: ='VRZ BI (2029)'!O42 -> 0.020866469 | M45: ='VRZ BI (2030)'!N42 -> 4.5309494 | N45: ='VRZ BI (2030)'!O42 -> 0.024464232 | O45: ='VRZ BI (2031)'!N42 -> 7.4511118 | P45: ='VRZ BI (2031)'!O42 -> 0.03927052 | Q45: =AVERAGE(G45,I45,K45,M45,O45) -> 7.3774201 | R45: =GEOMEAN(1+H45,1+J45,1+L45,1+N45,1+P45)-1 -> 0.042213132
D46: ='VRZ BI (2027)'!D18 -> GS <50 | E46: 2000 | F46: kWh | G46: ='VRZ BI (2027)'!N43 -> 21.925225 | H46: ='VRZ BI (2027)'!O43 -> 0.062412755 | I46: ='VRZ BI (2028)'!N43 -> 8.5377895 | J46: ='VRZ BI (2028)'!O43 -> 0.022876072 | K46: ='VRZ BI (2029)'!N43 -> 5.3972504 | L46: ='VRZ BI (2029)'!O43 -> 0.014137921 | M46: ='VRZ BI (2030)'!N43 -> 6.118604 | N46: ='VRZ BI (2030)'!O43 -> 0.015857499 | O46: ='VRZ BI (2031)'!N43 -> 9.5326308 | P46: ='VRZ BI (2031)'!O43 -> 0.02431993 | Q46: =AVERAGE(G46,I46,K46,M46,O46) -> 10.3023 | R46: =GEOMEAN(1+H46,1+J46,1+L46,1+N46,1+P46)-1 -> 0.027770969
D47: ='VRZ BI (2027)'!D19 -> GS 50 - 2,999 kW | E47: 175 | F47: kW | G47: ='VRZ BI (2027)'!N44 -> -404.85672 | H47: ='VRZ BI (2027)'!O44 -> -0.028230136 | I47: ='VRZ BI (2028)'!N44 -> 211.75957 | J47: ='VRZ BI (2028)'!O44 -> 0.015194669 | K47: ='VRZ BI (2029)'!N44 -> 167.00705 | L47: ='VRZ BI (2029)'!O44 -> 0.011804122 | M47: ='VRZ BI (2030)'!N44 -> 183.49035 | N47: ='VRZ BI (2030)'!O44 -> 0.012873428 | O47: ='VRZ BI (2031)'!N44 -> 243.52954 | P47: ='VRZ BI (2031)'!O44 -> 0.016868538 | Q47: =AVERAGE(G47,I47,K47,M47,O47) -> 80.18596 | R47: =GEOMEAN(1+H47,1+J47,1+L47,1+N47,1+P47)-1 -> 0.005555018
D48: ='VRZ BI (2027)'!D20 -> GS 3,000 - 4,999 kW | E48: 4000 | F48: KW | G48: ='VRZ BI (2027)'!N45 -> -22031.355 | H48: ='VRZ BI (2027)'!O45 -> -0.059763192 | I48: ='VRZ BI (2028)'!N45 -> 3547.7471 | J48: ='VRZ BI (2028)'!O45 -> 0.010235474 | K48: ='VRZ BI (2029)'!N45 -> 3283.2604 | L48: ='VRZ BI (2029)'!O45 -> 0.0093764411 | M48: ='VRZ BI (2030)'!N45 -> 3583.3466 | N48: ='VRZ BI (2030)'!O45 -> 0.010185382 | O48: ='VRZ BI (2031)'!N45 -> 4639.3608 | P48: ='VRZ BI (2031)'!O45 -> 0.01305406 | Q48: =AVERAGE(G48,I48,K48,M48,O48) -> -1395.5281 | R48: =GEOMEAN(1+H48,1+J48,1+L48,1+N48,1+P48)-1 -> -0.0037935582
C49: Veridian | D49: ='VRZ BI (2027)'!D21 -> Large Use >5MW | E49: 9400 | F49: KW | G49: ='VRZ BI (2027)'!N46 -> 34304.922 | H49: ='VRZ BI (2027)'!O46 -> 0.037032665 | I49: ='VRZ BI (2028)'!N46 -> 10663.354 | J49: ='VRZ BI (2028)'!O46 -> 0.011100178 | K49: ='VRZ BI (2029)'!N46 -> 9325.1102 | L49: ='VRZ BI (2029)'!O46 -> 0.0096005447 | M49: ='VRZ BI (2030)'!N46 -> 10120.446 | N49: ='VRZ BI (2030)'!O46 -> 0.010367854 | O49: ='VRZ BI (2031)'!N46 -> 13000.486 | P49: ='VRZ BI (2031)'!O46 -> 0.013181635 | Q49: =AVERAGE(G49,I49,K49,M49,O49) -> 15482.864 | R49: =GEOMEAN(1+H49,1+J49,1+L49,1+N49,1+P49)-1 -> 0.016203311
...

Sheet WRZ BI (2027)
D14: Table 1
D15: RATE CLASSES / CATEGORIES (eg: Residential TOU, Residential Retailer) | G15: Units | H15: RPP? Non-RPP Retailer? Non-RPP Other? | I15: Current Loss Factor (eg: 1.0351) | J15: Proposed Loss Factor | K15: Consumption (kWh) | L15: Demand kW (if applicable) | M15: RTSR Demand or Demand-Interval? | N15: Billing Determinant Applied to Fixed Charge for Unmetered Classes (e.g. # of devices/connections).
B16: 1 | C16: 1 | D16: Residential | G16: kWh | H16: RPP | I16: 1.0454 | J16: 1.0415 | K16: 750 | M16: CONSUMPTION
B17: 2 | C17: 2 | D17: GS <50 | G17: kWh | H17: RPP | I17: 1.0454 | J17: 1.0415 | K17: 2000 | M17: CONSUMPTION
B18: 3 | C18: 3 | D18: GS 50 - 2,999 kW | G18: kW | H18: Non-RPP (Other) | I18: 1.0454 | J18: 1.0415 | K18: 75000 | L18: 175 | M18: DEMAND
B19: 4 | D19: GS 3,000 - 4,999 kW | G19: kW | H19: Non-RPP (Other) | I19: 1.0349 | J19: 1.0311 | K19: 2000000 | L19: 4000 | M19: DEMAND
B20: 5 | C20: 4 | D20: Unmetered Scattered Load | G20: kWh | H20: RPP | I20: 1.0454 | J20: 1.0415 | K20: 450 | M20: CONSUMPTION | N20: 1
B21: 6 | C21: 5 | D21: Sentinel | G21: kW | H21: RPP | I21: 1.0454 | J21: 1.0415 | K21: 60 | L21: 0.2 | M21: DEMAND | N21: 1
B22: 7 | C22: 6 | D22: Street Light | G22: kW | H22: Non-RPP (Other) | I22: 1.0454 | J22: 1.0415 | K22: 326077.5 | L22: 863.33337 | M22: DEMAND | N22: 14512.2
B23: 8 | C23: =IF(ISERROR(VLOOKUP(D23, D16:N35, 42, FALSE)),"", VLOOKUP(D23, D16:N35, 42, FALSE)) | D23: Residential (Low) | G23: kWh | H23: RPP | I23: 1.0454 | J23: =J22 -> 1.0415 | K23: 325 | M23: CONSUMPTION
B24: 9 | C24: =IF(ISERROR(VLOOKUP(D24, D16:N35, 42, FALSE)),"", VLOOKUP(D24, D16:N35, 42, FALSE)) | D24: Residential (High) | G24: kWh | H24: RPP | I24: 1.0454 | J24: =J23 -> 1.0415 | K24: 1500 | M24: CONSUMPTION
B25: 10 | C25: =IF(ISERROR(VLOOKUP(D25, D16:N35, 42, FALSE)),"", VLOOKUP(D25, D16:N35, 42, FALSE)) | D25: GS < 50 (Low) | G25: kWh | H25: RPP | I25: 1.0454 | J25: =J24 -> 1.0415 | K25: 1000 | M25: CONSUMPTION
B26: 11 | C26: =IF(ISERROR(VLOOKUP(D26, D16:N35, 42, FALSE)),"", VLOOKUP(D26, D16:N35, 42, FALSE)) | D26: GS < 50 (High) | G26: kWh | H26: RPP | I26: 1.0454 | J26: =J25 -> 1.0415 | K26: 5000 | M26: CONSUMPTION
B27: 12 | C27: =IF(ISERROR(VLOOKUP(D27, D16:N35, 42, FALSE)),"", VLOOKUP(D27, D16:N35, 42, FALSE)) | D27: Add additional scenarios if required | I27: 1.0454 | J27: =J26 -> 1.0415
B28: 13 | C28: =IF(ISERROR(VLOOKUP(D28, D16:N35, 42, FALSE)),"", VLOOKUP(D28, D16:N35, 42, FALSE)) | D28: Add additional scenarios if required | I28: 1.0454 | J28: =J27 -> 1.0415
B29: 14 | C29: =IF(ISERROR(VLOOKUP(D29, D16:N35, 42, FALSE)),"", VLOOKUP(D29, D16:N35, 42, FALSE)) | D29: Add additional scenarios if required | I29: 1.0454 | J29: =J28 -> 1.0415
B30: 15 | C30: =IF(ISERROR(VLOOKUP(D30, D16:N35, 42, FALSE)),"", VLOOKUP(D30, D16:N35, 42, FALSE)) | D30: Add additional scenarios if required | I30: 1.0454 | J30: =J29 -> 1.0415
B31: 16 | C31: =IF(ISERROR(VLOOKUP(D31, D16:N35, 42, FALSE)),"", VLOOKUP(D31, D16:N35, 42, FALSE)) | D31: Add additional scenarios if required | I31: 1.0454 | J31: =J30 -> 1.0415
B32: 17 | C32: =IF(ISERROR(VLOOKUP(D32, D16:N35, 42, FALSE)),"", VLOOKUP(D32, D16:N35, 42, FALSE)) | D32: Add additional scenarios if required | I32: 1.0454 | J32: =J31 -> 1.0415
B33: 18 | C33: =IF(ISERROR(VLOOKUP(D33, D16:N35, 42, FALSE)),"", VLOOKUP(D33, D16:N35, 42, FALSE)) | D33: Add additional scenarios if required | I33: 1.0454 | J33: =J32 -> 1.0415
B34: 19 | C34: =IF(ISERROR(VLOOKUP(D34, D16:N35, 42, FALSE)),"", VLOOKUP(D34, D16:N35, 42, FALSE)) | D34: Add additional scenarios if required | I34: 1.0454 | J34: =J33 -> 1.0415
B35: 20 | C35: =IF(ISERROR(VLOOKUP(D35, D16:N35, 42, FALSE)),"", VLOOKUP(D35, D16:N35, 42, FALSE)) | D35: Add additional scenarios if required | I35: 1.0454 | J35: =J34 -> 1.0415
D37: Table 2
D38: RATE CLASSES / CATEGORIES (eg: Residential TOU, Residential Retailer) | G38: Units | H38: Sub-Total | N38: Total
H39: A | J39: B | L39: C | N39: Total Bill
H40: $ | I40: % | J40: $ | K40: % | L40: $ | M40: % | N40: $ | O40: %
B41: =H16 -> RPP | C41: 1 | D41: =IF(ISBLANK(D16), "", IF(D16 = "Add additional scenarios if required", "", IF(M16="YES", D16 & " - " & H16 & " - Interval Customers", D16 & " - " &H16))) -> Residential - RPP | G41: =IF(ISBLANK(G16), "", G16) -> kWh | H41: {=IF(LEN($G41)>1, (SUMPRODUCT(--($C$64:$C$2042=$B16), --($A$64:$A$2042=$D16), --($B$64:$B$2042="ST_A"), $L$64:$L$2042)), "")} -> 6.9532736 | I41: =IF(LEN($G41)>1, (SUMPRODUCT(--($C$64:$C$2042=$B16), --($A$64:$A$2042=$D16), --($B$64:$B$2042="ST_A"), $M$64:$M$2042)), "") -> 0.17630004 | J41: =IF(LEN($G41)>1, (SUMPRODUCT(--($C$64:$C$2042=$B16), --($A$64:$A$2042=$D16), --($B$64:$B$2042="ST_B"), $L$64:$L$2042)), "") -> 6.8041125 | K41: =IF(LEN($G41)>1, (SUMPRODUCT(--($C$64:$C$2042=$B16), --($A$64:$A$2042=$D16), --($B$64:$B$2042="ST_B"), $M$64:$M$2042)), "") -> 0.15215922 | L41: =IF(LEN($G41)>1, (SUMPRODUCT(--($C$64:$C$2042=$B16), --($A$64:$A$2042=$D16), --($B$64:$B$2042="ST_C"), $L$64:$L$2042)), "") -> 6.3471525 | M41: =IF(LEN($G41)>1, (SUMPRODUCT(--($C$64:$C$2042=$B16), --($A$64:$A$2042=$D16), --($B$64:$B$2042="ST_C"), $M$64:$M$2042)), "") -> 0.10153009 | N41: {=IF(LEN($G41)>1, (SUMPRODUCT(--($C$64:$C$2042=$B16), --($A$64:$A$2042=$D16), --($B$64:$B$2042=$B41&"_TOTAL"), $L$64:$L$2042)), "")} -> 5.6649942 | O41: {=IF(LEN($G41)>1, (SUMPRODUCT(--($C$64:$C$2042=$B16), --($A$64:$A$2042=$D16), --($B$64:$B$2042=$B41&"_TOTAL"), $M$64:$M$2042)), "")} -> 0.038805898
B42: =H17 -> RPP | C42: 2 | D42: =IF(ISBLANK(D17), "", IF(D17 = "Add additional scenarios if required", "", IF(M17="YES", D17 & " - " & H17 & " - Interval Customers", D17 & " - " &H17))) -> GS <50 - RPP | G42: =IF(ISBLANK(G17), "", G17) -> kWh | H42: =IF(LEN($G42)>1, (SUMPRODUCT(--($C$64:$C$2042=$B17), --($A$64:$A$2042=$D17), --($B$64:$B$2042="ST_A"), $L$64:$L$2042)), "") -> 7.6245597 | I42: =IF(LEN($G42)>1, (SUMPRODUCT(--($C$64:$C$2042=$B17), --($A$64:$A$2042=$D17), --($B$64:$B$2042="ST_A"), $M$64:$M$2042)), "") -> 0.091851098 | J42: =IF(LEN($G42)>1, (SUMPRODUCT(--($C$64:$C$2042=$B17), --($A$64:$A$2042=$D17), --($B$64:$B$2042="ST_B"), $L$64:$L$2042)), "") -> 7.0638665 | K42: =IF(LEN($G42)>1, (SUMPRODUCT(--($C$64:$C$2042=$B17), --($A$64:$A$2042=$D17), --($B$64:$B$2042="ST_B"), $M$64:$M$2042)), "") -> 0.073269923 | L42: =IF(LEN($G42)>1, (SUMPRODUCT(--($C$64:$C$2042=$B17), --($A$64:$A$2042=$D17), --($B$64:$B$2042="ST_C"), $L$64:$L$2042)), "") -> 5.8585665 | M42: =IF(LEN($G42)>1, (SUMPRODUCT(--($C$64:$C$2042=$B17), --($A$64:$A$2042=$D17), --($B$64:$B$2042="ST_C"), $M$64:$M$2042)), "") -> 0.041752776 | N42: =IF(LEN($G42)>1, (SUMPRODUCT(--($C$64:$C$2042=$B17), --($A$64:$A$2042=$D17), --($B$64:$B$2042=$B42&"_TOTAL"), $L$64:$L$2042)), "") -> 5.201531 | O42: {=IF(LEN($G42)>1, (SUMPRODUCT(--($C$64:$C$2042=$B17), --($A$64:$A$2042=$D17), --($B$64:$B$2042=$B42&"_TOTAL"), $M$64:$M$2042)), "")} -> 0.014239276
B43: =H18 -> Non-RPP (Other) | C43: 3 | D43: =IF(ISBLANK(D18), "", IF(D18 = "Add additional scenarios if required", "", IF(M18="YES", D18 & " - " & H18 & " - Interval Customers", D18 & " - " &H18))) -> GS 50 - 2,999 kW - Non-RPP (Other) | G43: =IF(ISBLANK(G18), "", G18) -> kW | H43: {=IF(LEN($G43)>1, (SUMPRODUCT(--($C$64:$C$2042=$B18), --($A$64:$A$2042=$D18), --($B$64:$B$2042="ST_A"), $L$64:$L$2042)), "")} -> 82.1055 | I43: =IF(LEN($G43)>1, (SUMPRODUCT(--($C$64:$C$2042=$B18), --($A$64:$A$2042=$D18), --($B$64:$B$2042="ST_A"), $M$64:$M$2042)), "") -> 0.06871817 | J43: =IF(LEN($G43)>1, (SUMPRODUCT(--($C$64:$C$2042=$B18), --($A$64:$A$2042=$D18), --($B$64:$B$2042="ST_B"), $L$64:$L$2042)), "") -> 113.16255 | K43: =IF(LEN($G43)>1, (SUMPRODUCT(--($C$64:$C$2042=$B18), --($A$64:$A$2042=$D18), --($B$64:$B$2042="ST_B"), $M$64:$M$2042)), "") -> 0.090516642 | L43: =IF(LEN($G43)>1, (SUMPRODUCT(--($C$64:$C$2042=$B18), --($A$64:$A$2042=$D18), --($B$64:$B$2042="ST_C"), $L$64:$L$2042)), "") -> 304.21005 | M43: =IF(LEN($G43)>1, (SUMPRODUCT(--($C$64:$C$2042=$B18), --($A$64:$A$2042=$D18), --($B$64:$B$2042="ST_C"), $M$64:$M$2042)), "") -> 0.11357404 | N43: =IF(LEN($G43)>1, (SUMPRODUCT(--($C$64:$C$2042=$B18), --($A$64:$A$2042=$D18), --($B$64:$B$2042=$B43&"_TOTAL"), $L$64:$L$2042)), "") -> 304.39844 | O43: {=IF(LEN($G43)>1, (SUMPRODUCT(--($C$64:$C$2042=$B18), --($A$64:$A$2042=$D18), --($B$64:$B$2042=$B43&"_TOTAL"), $M$64:$M$2042)), "")} -> 0.022419799
B44: =H19 -> Non-RPP (Other) | C44: 4 | D44: =IF(ISBLANK(D19), "", IF(D19 = "Add additional scenarios if required", "", IF(M19="YES", D19 & " - " & H19 & " - Interval Customers", D19 & " - " &H19))) -> GS 3,000 - 4,999 kW - Non-RPP (Other) | G44: =IF(ISBLANK(G19), "", G19) -> kW | H44: =IF(LEN($G44)>1, (SUMPRODUCT(--($C$64:$C$2042=$B19), --($A$64:$A$2042=$D19), --($B$64:$B$2042="ST_A"), $L$64:$L$2042)), "") -> 3340.0611 | I44: =IF(LEN($G44)>1, (SUMPRODUCT(--($C$64:$C$2042=$B19), --($A$64:$A$2042=$D19), --($B$64:$B$2042="ST_A"), $M$64:$M$2042)), "") -> 0.15355805 | J44: =IF(LEN($G44)>1, (SUMPRODUCT(--($C$64:$C$2042=$B19), --($A$64:$A$2042=$D19), --($B$64:$B$2042="ST_B"), $L$64:$L$2042)), "") -> 3396.6506 | K44: =IF(LEN($G44)>1, (SUMPRODUCT(--($C$64:$C$2042=$B19), --($A$64:$A$2042=$D19), --($B$64:$B$2042="ST_B"), $M$64:$M$2042)), "") -> 0.14757312 | L44: =IF(LEN($G44)>1, (SUMPRODUCT(--($C$64:$C$2042=$B19), --($A$64:$A$2042=$D19), --($B$64:$B$2042="ST_C"), $L$64:$L$2042)), "") -> 4568.6506 | M44: =IF(LEN($G44)>1, (SUMPRODUCT(--($C$64:$C$2042=$B19), --($A$64:$A$2042=$D19), --($B$64:$B$2042="ST_C"), $M$64:$M$2042)), "") -> 0.082075013 | N44: {=IF(LEN($G44)>1, (SUMPRODUCT(--($C$64:$C$2042=$B19), --($A$64:$A$2042=$D19), --($B$64:$B$2042=$B44&"_TOTAL"), $L$64:$L$2042)), "")} -> 4139.9162 | O44: {=IF(LEN($G44)>1, (SUMPRODUCT(--($C$64:$C$2042=$B19), --($A$64:$A$2042=$D19), --($B$64:$B$2042=$B44&"_TOTAL"), $M$64:$M$2042)), "")} -> 0.012125792
B45: =H20 -> RPP | C45: 5 | D45: =IF(ISBLANK(D20), "", IF(D20 = "Add additional scenarios if required", "", IF(M20="YES", D20 & " - " & H20 & " - Interval Customers", D20 & " - " &H20))) -> Unmetered Scattered Load - RPP | G45: =IF(ISBLANK(G20), "", G20) -> kWh | H45: =IF(LEN($G45)>1, (SUMPRODUCT(--($C$64:$C$2042=$B20), --($A$64:$A$2042=$D20), --($B$64:$B$2042="ST_A"), $L$64:$L$2042)), "") -> -8.7954757 | I45: =IF(LEN($G45)>1, (SUMPRODUCT(--($C$64:$C$2042=$B20), --($A$64:$A$2042=$D20), --($B$64:$B$2042="ST_A"), $M$64:$M$2042)), "") -> -0.29519972 | J45: =IF(LEN($G45)>1, (SUMPRODUCT(--($C$64:$C$2042=$B20), --($A$64:$A$2042=$D20), --($B$64:$B$2042="ST_B"), $L$64:$L$2042)), "") -> -8.9329433 | K45: =IF(LEN($G45)>1, (SUMPRODUCT(--($C$64:$C$2042=$B20), --($A$64:$A$2042=$D20), --($B$64:$B$2042="ST_B"), $M$64:$M$2042)), "") -> -0.27418291 | L45: =IF(LEN($G45)>1, (SUMPRODUCT(--($C$64:$C$2042=$B20), --($A$64:$A$2042=$D20), --($B$64:$B$2042="ST_C"), $L$64:$L$2042)), "") -> -9.1572683 | M45: =IF(LEN($G45)>1, (SUMPRODUCT(--($C$64:$C$2042=$B20), --($A$64:$A$2042=$D20), --($B$64:$B$2042="ST_C"), $M$64:$M$2042)), "") -> -0.21567186 | N45: =IF(LEN($G45)>1, (SUMPRODUCT(--($C$64:$C$2042=$B20), --($A$64:$A$2042=$D20), --($B$64:$B$2042=$B45&"_TOTAL"), $L$64:$L$2042)), "") -> -8.2051795 | O45: {=IF(LEN($G45)>1, (SUMPRODUCT(--($C$64:$C$2042=$B20), --($A$64:$A$2042=$D20), --($B$64:$B$2042=$B45&"_TOTAL"), $M$64:$M$2042)), "")} -> -0.089080534
B46: =H21 -> RPP | C46: 6 | D46: =IF(ISBLANK(D21), "", IF(D21 = "Add additional scenarios if required", "", IF(M21="YES", D21 & " - " & H21 & " - Interval Customers", D21 & " - " &H21))) -> Sentinel - RPP | G46: =IF(ISBLANK(G21), "", G21) -> kW | H46: =IF(LEN($G46)>1, (SUMPRODUCT(--($C$64:$C$2042=$B21), --($A$64:$A$2042=$D21), --($B$64:$B$2042="ST_A"), $L$64:$L$2042)), "") -> 2.0396957 | I46: =IF(LEN($G46)>1, (SUMPRODUCT(--($C$64:$C$2042=$B21), --($A$64:$A$2042=$D21), --($B$64:$B$2042="ST_A"), $M$64:$M$2042)), "") -> 0.21129386 | J46: =IF(LEN($G46)>1, (SUMPRODUCT(--($C$64:$C$2042=$B21), --($A$64:$A$2042=$D21), --($B$64:$B$2042="ST_B"), $L$64:$L$2042)), "") -> 2.0087586 | K46: =IF(LEN($G46)>1, (SUMPRODUCT(--($C$64:$C$2042=$B21), --($A$64:$A$2042=$D21), --($B$64:$B$2042="ST_B"), $M$64:$M$2042)), "") -> 0.20216355 | L46: =IF(LEN($G46)>1, (SUMPRODUCT(--($C$64:$C$2042=$B21), --($A$64:$A$2042=$D21), --($B$64:$B$2042="ST_C"), $L$64:$L$2042)), "") -> 1.9492786 | M46: =IF(LEN($G46)>1, (SUMPRODUCT(--($C$64:$C$2042=$B21), --($A$64:$A$2042=$D21), --($B$64:$B$2042="ST_C"), $M$64:$M$2042)), "") -> 0.1741176 | N46: =IF(LEN($G46)>1, (SUMPRODUCT(--($C$64:$C$2042=$B21), --($A$64:$A$2042=$D21), --($B$64:$B$2042=$B46&"_TOTAL"), $L$64:$L$2042)), "") -> 1.7433478 | O46: {=IF(LEN($G46)>1, (SUMPRODUCT(--($C$64:$C$2042=$B21), --($A$64:$A$2042=$D21), --($B$64:$B$2042=$B46&"_TOTAL"), $M$64:$M$2042)), "")} -> 0.1000309
B47: =H22 -> Non-RPP (Other) | C47: 7 | D47: =IF(ISBLANK(D22), "", IF(D22 = "Add additional scenarios if required", "", IF(M22="YES", D22 & " - " & H22 & " - Interval Customers", D22 & " - " &H22))) -> Street Light - Non-RPP (Other) | G47: =IF(ISBLANK(G22), "", G22) -> kW | H47: =IF(LEN($G47)>1, (SUMPRODUCT(--($C$64:$C$2042=$B22), --($A$64:$A$2042=$D22), --($B$64:$B$2042="ST_A"), $L$64:$L$2042)), "") -> -36449.439 | I47: =IF(LEN($G47)>1, (SUMPRODUCT(--($C$64:$C$2042=$B22), --($A$64:$A$2042=$D22), --($B$64:$B$2042="ST_A"), $M$64:$M$2042)), "") -> -0.68922634 | J47: =IF(LEN($G47)>1, (SUMPRODUCT(--($C$64:$C$2042=$B22), --($A$64:$A$2042=$D22), --($B$64:$B$2042="ST_B"), $L$64:$L$2042)), "") -> -36428.581 | K47: =IF(LEN($G47)>1, (SUMPRODUCT(--($C$64:$C$2042=$B22), --($A$64:$A$2042=$D22), --($B$64:$B$2042="ST_B"), $M$64:$M$2042)), "") -> -0.69266978 | L47: =IF(LEN($G47)>1, (SUMPRODUCT(--($C$64:$C$2042=$B22), --($A$64:$A$2042=$D22), --($B$64:$B$2042="ST_C"), $L$64:$L$2042)), "") -> -36351.14 | M47: =IF(LEN($G47)>1, (SUMPRODUCT(--($C$64:$C$2042=$B22), --($A$64:$A$2042=$D22), --($B$64:$B$2042="ST_C"), $M$64:$M$2042)), "") -> -0.62714901 | N47: =IF(LEN($G47)>1, (SUMPRODUCT(--($C$64:$C$2042=$B22), --($A$64:$A$2042=$D22), --($B$64:$B$2042=$B47&"_TOTAL"), $L$64:$L$2042)), "") -> -41247.909 | O47: {=IF(LEN($G47)>1, (SUMPRODUCT(--($C$64:$C$2042=$B22), --($A$64:$A$2042=$D22), --($B$64:$B$2042=$B47&"_TOTAL"), $M$64:$M$2042)), "")} -> -0.35920594
B48: =H23 -> RPP | C48: 8 | D48: =IF(ISBLANK(D23), "", IF(D23 = "Add additional scenarios if required", "", IF(M23="YES", D23 & " - " & H23 & " - Interval Customers", D23 & " - " &H23))) -> Residential (Low) - RPP | G48: =IF(ISBLANK(G23), "", G23) -> kWh | H48: {=IF(LEN($G48)>1, (SUMPRODUCT(--($C$64:$C$2042=$B23), --($A$64:$A$2042=$D23), --($B$64:$B$2042="ST_A"), $L$64:$L$2042)), "")} -> 6.9532736 | I48: =IF(LEN($G48)>1, (SUMPRODUCT(--($C$64:$C$2042=$B23), --($A$64:$A$2042=$D23), --($B$64:$B$2042="ST_A"), $M$64:$M$2042)), "") -> 0.17630004 | J48: =IF(LEN($G48)>1, (SUMPRODUCT(--($C$64:$C$2042=$B23), --($A$64:$A$2042=$D23), --($B$64:$B$2042="ST_B"), $L$64:$L$2042)), "") -> 6.8595769 | K48: =IF(LEN($G48)>1, (SUMPRODUCT(--($C$64:$C$2042=$B23), --($A$64:$A$2042=$D23), --($B$64:$B$2042="ST_B"), $M$64:$M$2042)), "") -> 0.16414768 | L48: =IF(LEN($G48)>1, (SUMPRODUCT(--($C$64:$C$2042=$B23), --($A$64:$A$2042=$D23), --($B$64:$B$2042="ST_C"), $L$64:$L$2042)), "") -> 6.6615609 | M48: =IF(LEN($G48)>1, (SUMPRODUCT(--($C$64:$C$2042=$B23), --($A$64:$A$2042=$D23), --($B$64:$B$2042="ST_C"), $M$64:$M$2042)), "") -> 0.13457292 | N48: =IF(LEN($G48)>1, (SUMPRODUCT(--($C$64:$C$2042=$B23), --($A$64:$A$2042=$D23), --($B$64:$B$2042=$B48&"_TOTAL"), $L$64:$L$2042)), "") -> 5.9552906 | O48: {=IF(LEN($G48)>1, (SUMPRODUCT(--($C$64:$C$2042=$B23), --($A$64:$A$2042=$D23), --($B$64:$B$2042=$B48&"_TOTAL"), $M$64:$M$2042)), "")} -> 0.071368321
B49: =H24 -> RPP | C49: 9 | D49: =IF(ISBLANK(D24), "", IF(D24 = "Add additional scenarios if required", "", IF(M24="YES", D24 & " - " & H24 & " - Interval Customers", D24 & " - " &H24))) -> Residential (High) - RPP | G49: =IF(ISBLANK(G24), "", G24) -> kWh | H49: {=IF(LEN($G49)>1, (SUMPRODUCT(--($C$64:$C$2042=$B24), --($A$64:$A$2042=$D24), --($B$64:$B$2042="ST_A"), $L$64:$L$2042)), "")} -> 6.9532736 | I49: =IF(LEN($G49)>1, (SUMPRODUCT(--($C$64:$C$2042=$B24), --($A$64:$A$2042=$D24), --($B$64:$B$2042="ST_A"), $M$64:$M$2042)), "") -> 0.17630004 | J49: =IF(LEN($G49)>1, (SUMPRODUCT(--($C$64:$C$2042=$B24), --($A$64:$A$2042=$D24), --($B$64:$B$2042="ST_B"), $L$64:$L$2042)), "") -> 6.706234 | K49: =IF(LEN($G49)>1, (SUMPRODUCT(--($C$64:$C$2042=$B24), --($A$64:$A$2042=$D24), --($B$64:$B$2042="ST_B"), $M$64:$M$2042)), "") -> 0.13443627 | L49: =IF(LEN($G49)>1, (SUMPRODUCT(--($C$64:$C$2042=$B24), --($A$64:$A$2042=$D24), --($B$64:$B$2042="ST_C"), $L$64:$L$2042)), "") -> 5.792314 | M49: =IF(LEN($G49)>1, (SUMPRODUCT(--($C$64:$C$2042=$B24), --($A$64:$A$2042=$D24), --($B$64:$B$2042="ST_C"), $M$64:$M$2042)), "") -> 0.067762228 | N49: =IF(LEN($G49)>1, (SUMPRODUCT(--($C$64:$C$2042=$B24), --($A$64:$A$2042=$D24), --($B$64:$B$2042=$B49&"_TOTAL"), $L$64:$L$2042)), "") -> 5.1527065 | O49: {=IF(LEN($G49)>1, (SUMPRODUCT(--($C$64:$C$2042=$B24), --($A$64:$A$2042=$D24), --($B$64:$B$2042=$B49&"_TOTAL"), $M$64:$M$2042)), "")} -> 0.0201007
B50: =H25 -> RPP | C50: 10 | D50: =IF(ISBLANK(D25), "", IF(D25 = "Add additional scenarios if required", "", IF(M25="YES", D25 & " - " & H25 & " - Interval Customers", D25 & " - " &H25))) -> GS < 50 (Low) - RPP | G50: =IF(ISBLANK(G25), "", G25) -> kWh | H50: {=IF(LEN($G50)>1, (SUMPRODUCT(--($C$64:$C$2042=$B25), --($A$64:$A$2042=$D25), --($B$64:$B$2042="ST_A"), $L$64:$L$2042)), "")} -> 0.82727984 | I50: =IF(LEN($G50)>1, (SUMPRODUCT(--($C$64:$C$2042=$B25), --($A$64:$A$2042=$D25), --($B$64:$B$2042="ST_A"), $M$64:$M$2042)), "") -> 0.014236445 | J50: =IF(LEN($G50)>1, (SUMPRODUCT(--($C$64:$C$2042=$B25), --($A$64:$A$2042=$D25), --($B$64:$B$2042="ST_B"), $L$64:$L$2042)), "") -> 0.54693325 | K50: =IF(LEN($G50)>1, (SUMPRODUCT(--($C$64:$C$2042=$B25), --($A$64:$A$2042=$D25), --($B$64:$B$2042="ST_B"), $M$64:$M$2042)), "") -> 0.008411846 | L50: =IF(LEN($G50)>1, (SUMPRODUCT(--($C$64:$C$2042=$B25), --($A$64:$A$2042=$D25), --($B$64:$B$2042="ST_C"), $L$64:$L$2042)), "") -> -0.055716753 | M50: =IF(LEN($G50)>1, (SUMPRODUCT(--($C$64:$C$2042=$B25), --($A$64:$A$2042=$D25), --($B$64:$B$2042="ST_C"), $M$64:$M$2042)), "") -> -0.00064062267 | N50: =IF(LEN($G50)>1, (SUMPRODUCT(--($C$64:$C$2042=$B25), --($A$64:$A$2042=$D25), --($B$64:$B$2042=$B50&"_TOTAL"), $L$64:$L$2042)), "") -> -0.070809494 | O50: {=IF(LEN($G50)>1, (SUMPRODUCT(--($C$64:$C$2042=$B25), --($A$64:$A$2042=$D25), --($B$64:$B$2042=$B50&"_TOTAL"), $M$64:$M$2042)), "")} -> -0.00035796972
B51: =H26 -> RPP | C51: 11 | D51: =IF(ISBLANK(D26), "", IF(D26 = "Add additional scenarios if required", "", IF(M26="YES", D26 & " - " & H26 & " - Interval Customers", D26 & " - " &H26))) -> GS < 50 (High) - RPP | G51: =IF(ISBLANK(G26), "", G26) -> kWh | H51: {=IF(LEN($G51)>1, (SUMPRODUCT(--($C$64:$C$2042=$B26), --($A$64:$A$2042=$D26), --($B$64:$B$2042="ST_A"), $L$64:$L$2042)), "")} -> 28.016399 | I51: =IF(LEN($G51)>1, (SUMPRODUCT(--($C$64:$C$2042=$B26), --($A$64:$A$2042=$D26), --($B$64:$B$2042="ST_A"), $M$64:$M$2042)), "") -> 0.17764504 | J51: =IF(LEN($G51)>1, (SUMPRODUCT(--($C$64:$C$2042=$B26), --($A$64:$A$2042=$D26), --($B$64:$B$2042="ST_B"), $L$64:$L$2042)), "") -> 26.614666 | K51: =IF(LEN($G51)>1, (SUMPRODUCT(--($C$64:$C$2042=$B26), --($A$64:$A$2042=$D26), --($B$64:$B$2042="ST_B"), $M$64:$M$2042)), "") -> 0.13965306 | L51: =IF(LEN($G51)>1, (SUMPRODUCT(--($C$64:$C$2042=$B26), --($A$64:$A$2042=$D26), --($B$64:$B$2042="ST_C"), $L$64:$L$2042)), "") -> 23.601416 | M51: =IF(LEN($G51)>1, (SUMPRODUCT(--($C$64:$C$2042=$B26), --($A$64:$A$2042=$D26), --($B$64:$B$2042="ST_C"), $M$64:$M$2042)), "") -> 0.07858127 | N51: =IF(LEN($G51)>1, (SUMPRODUCT(--($C$64:$C$2042=$B26), --($A$64:$A$2042=$D26), --($B$64:$B$2042=$B51&"_TOTAL"), $L$64:$L$2042)), "") -> 21.018553 | O51: {=IF(LEN($G51)>1, (SUMPRODUCT(--($C$64:$C$2042=$B26), --($A$64:$A$2042=$D26), --($B$64:$B$2042=$B51&"_TOTAL"), $M$64:$M$2042)), "")} -> 0.024221824
B53: =H28 -> 0 | C53: 12 | D53: =IF(ISBLANK(D28), "", IF(D28 = "Add additional scenarios if required", "", IF(M28="YES", D28 & " - " & H28 & " - Interval Customers", D28 & " - " &H28))) | G53: =IF(ISBLANK(G28), "", G28) | H53: =IF(LEN($G53)>1, (SUMPRODUCT(--($C$64:$C$2042=$B28), --($A$64:$A$2042=$D28), --($B$64:$B$2042="ST_A"), $L$64:$L$2042)), "") | I53: =IF(LEN($G53)>1, (SUMPRODUCT(--($C$64:$C$2042=$B28), --($A$64:$A$2042=$D28), --($B$64:$B$2042="ST_A"), $M$64:$M$2042)), "") | J53: =IF(LEN($G53)>1, (SUMPRODUCT(--($C$64:$C$2042=$B28), --($A$64:$A$2042=$D28), --($B$64:$B$2042="ST_B"), $L$64:$L$2042)), "") | K53: =IF(LEN($G53)>1, (SUMPRODUCT(--($C$64:$C$2042=$B28), --($A$64:$A$2042=$D28), --($B$64:$B$2042="ST_B"), $M$64:$M$2042)), "") | L53: =IF(LEN($G53)>1, (SUMPRODUCT(--($C$64:$C$2042=$B28), --($A$64:$A$2042=$D28), --($B$64:$B$2042="ST_C"), $L$64:$L$2042)), "") | M53: =IF(LEN($G53)>1, (SUMPRODUCT(--($C$64:$C$2042=$B28), --($A$64:$A$2042=$D28), --($B$64:$B$2042="ST_C"), $M$64:$M$2042)), "") | N53: =IF(LEN($G53)>1, (SUMPRODUCT(--($C$64:$C$2042=$B28), --($A$64:$A$2042=$D28), --($B$64:$B$2042=$B53&"_TOTAL"), $L$64:$L$2042)), "") | O53: =IF(LEN($G53)>1, (SUMPRODUCT(--($C$66:$C$2044=$B27), --($A$66:$A$2044=$D27), --($B$66:$B$2044=$B53&"_TOTAL"), $M$66:$M$2044)), "")
B54: =H29 -> 0 | C54: 13 | D54: =IF(ISBLANK(D29), "", IF(D29 = "Add additional scenarios if required", "", IF(M29="YES", D29 & " - " & H29 & " - Interval Customers", D29 & " - " &H29))) | G54: =IF(ISBLANK(G29), "", G29) | H54: =IF(LEN($G54)>1, (SUMPRODUCT(--($C$64:$C$2042=$B29), --($A$64:$A$2042=$D29), --($B$64:$B$2042="ST_A"), $L$64:$L$2042)), "") | I54: =IF(LEN($G54)>1, (SUMPRODUCT(--($C$64:$C$2042=$B29), --($A$64:$A$2042=$D29), --($B$64:$B$2042="ST_A"), $M$64:$M$2042)), "") | J54: =IF(LEN($G54)>1, (SUMPRODUCT(--($C$64:$C$2042=$B29), --($A$64:$A$2042=$D29), --($B$64:$B$2042="ST_B"), $L$64:$L$2042)), "") | K54: =IF(LEN($G54)>1, (SUMPRODUCT(--($C$64:$C$2042=$B29), --($A$64:$A$2042=$D29), --($B$64:$B$2042="ST_B"), $M$64:$M$2042)), "") | L54: =IF(LEN($G54)>1, (SUMPRODUCT(--($C$64:$C$2042=$B29), --($A$64:$A$2042=$D29), --($B$64:$B$2042="ST_C"), $L$64:$L$2042)), "") | M54: =IF(LEN($G54)>1, (SUMPRODUCT(--($C$64:$C$2042=$B29), --($A$64:$A$2042=$D29), --($B$64:$B$2042="ST_C"), $M$64:$M$2042)), "") | N54: =IF(LEN($G54)>1, (SUMPRODUCT(--($C$64:$C$2042=$B29), --($A$64:$A$2042=$D29), --($B$64:$B$2042=$B54&"_TOTAL"), $L$64:$L$2042)), "") | O54: =IF(LEN($G54)>1, (SUMPRODUCT(--($C$66:$C$2044=$B28), --($A$66:$A$2044=$D28), --($B$66:$B$2044=$B54&"_TOTAL"), $M$66:$M$2044)), "")
B55: =H30 -> 0 | C55: 14 | D55: =IF(ISBLANK(D30), "", IF(D30 = "Add additional scenarios if required", "", IF(M30="YES", D30 & " - " & H30 & " - Interval Customers", D30 & " - " &H30))) | G55: =IF(ISBLANK(G30), "", G30) | H55: =IF(LEN($G55)>1, (SUMPRODUCT(--($C$64:$C$2042=$B30), --($A$64:$A$2042=$D30), --($B$64:$B$2042="ST_A"), $L$64:$L$2042)), "") | I55: =IF(LEN($G55)>1, (SUMPRODUCT(--($C$64:$C$2042=$B30), --($A$64:$A$2042=$D30), --($B$64:$B$2042="ST_A"), $M$64:$M$2042)), "") | J55: =IF(LEN($G55)>1, (SUMPRODUCT(--($C$64:$C$2042=$B30), --($A$64:$A$2042=$D30), --($B$64:$B$2042="ST_B"), $L$64:$L$2042)), "") | K55: =IF(LEN($G55)>1, (SUMPRODUCT(--($C$64:$C$2042=$B30), --($A$64:$A$2042=$D30), --($B$64:$B$2042="ST_B"), $M$64:$M$2042)), "") | L55: =IF(LEN($G55)>1, (SUMPRODUCT(--($C$64:$C$2042=$B30), --($A$64:$A$2042=$D30), --($B$64:$B$2042="ST_C"), $L$64:$L$2042)), "") | M55: =IF(LEN($G55)>1, (SUMPRODUCT(--($C$64:$C$2042=$B30), --($A$64:$A$2042=$D30), --($B$64:$B$2042="ST_C"), $M$64:$M$2042)), "") | N55: =IF(LEN($G55)>1, (SUMPRODUCT(--($C$64:$C$2042=$B30), --($A$64:$A$2042=$D30), --($B$64:$B$2042=$B55&"_TOTAL"), $L$64:$L$2042)), "") | O55: =IF(LEN($G55)>1, (SUMPRODUCT(--($C$66:$C$2044=$B29), --($A$66:$A$2044=$D29), --($B$66:$B$2044=$B55&"_TOTAL"), $M$66:$M$2044)), "")
...

Sheet VRZ BI (2027)
D14: Table 1
D15: RATE CLASSES / CATEGORIES (eg: Residential TOU, Residential Retailer) | G15: Units | H15: RPP? Non-RPP Retailer? Non-RPP Other? | I15: Current Loss Factor (eg: 1.0351) | J15: Proposed Loss Factor | K15: Consumption (kWh) | L15: Demand kW (if applicable) | M15: RTSR Demand or Demand-Interval? | N15: Billing Determinant Applied to Fixed Charge for Unmetered Classes (e.g. # of devices/connections).
B16: 1 | C16: 1 | D16: Residential | G16: kWh | H16: RPP | I16: 1.0482 | J16: 1.0415 | K16: 750 | M16: CONSUMPTION | AH16: 1
B17: 2 | C17: 2 | D17: Seasonal Residential | G17: kWh | H17: RPP | I17: 1.0482 | J17: 1.0415 | K17: 680 | M17: CONSUMPTION | AH17: 2
B18: 3 | C18: 3 | D18: GS <50 | G18: kWh | H18: RPP | I18: 1.0482 | J18: 1.0415 | K18: 2000 | M18: CONSUMPTION | AH18: 3
B19: 4 | C19: 4 | D19: GS 50 - 2,999 kW | G19: kW | H19: Non-RPP (Other) | I19: 1.0482 | J19: 1.0415 | K19: 75000 | L19: 175 | M19: DEMAND | AH19: 4
B20: 5 | C20: 5 | D20: GS 3,000 - 4,999 kW | G20: kW | H20: Non-RPP (Other) | I20: 1.0344 | J20: 1.0311 | K20: 2000000 | L20: 4000 | M20: DEMAND | AH20: 5
B21: 6 | C21: 6 | D21: Large Use >5MW | G21: kW | H21: Non-RPP (Other) | I21: 1.0045 | J21: 1.0066 | K21: 5650000 | L21: 9400 | M21: DEMAND | AH21: 6
B22: 7 | C22: 7 | D22: Unmetered Scattered Load | G22: kWh | H22: RPP | I22: 1.0482 | J22: 1.0415 | K22: 450 | M22: CONSUMPTION | N22: 1 | AH22: 7
B23: 8 | C23: 8 | D23: Sentinel | G23: kW | H23: RPP | I23: 1.0482 | J23: 1.0415 | K23: 60 | L23: 0.2 | M23: DEMAND | N23: 1 | AH23: 8
B24: 9 | C24: 9 | D24: Street Light | G24: kW | H24: Non-RPP (Other) | I24: 1.0482 | J24: 1.0415 | K24: 340939.97 | L24: 910.35058 | M24: DEMAND | N24: 11114.045 | AH24: 9
B25: 10 | C25: =IF(ISERROR(VLOOKUP(D25, D16:AH35, 42, FALSE)),"", VLOOKUP(D25, D16:AH35, 42, FALSE)) | D25: Residential (Low) | G25: kWh | H25: RPP | I25: 1.0482 | J25: =J24 -> 1.0415 | K25: 325 | M25: CONSUMPTION | AH25: 10
B26: 11 | C26: =IF(ISERROR(VLOOKUP(D26, D16:AH35, 42, FALSE)),"", VLOOKUP(D26, D16:AH35, 42, FALSE)) | D26: Residential (High) | G26: kWh | H26: RPP | I26: 1.0482 | J26: =J25 -> 1.0415 | K26: 1500 | M26: CONSUMPTION | AH26: 11
B27: 12 | C27: =IF(ISERROR(VLOOKUP(D27, D16:AH35, 42, FALSE)),"", VLOOKUP(D27, D16:AH35, 42, FALSE)) | D27: Seasonal Residential (Low) | G27: kWh | H27: RPP | I27: 1.0482 | J27: =J26 -> 1.0415 | K27: 350 | M27: CONSUMPTION
B28: 13 | C28: =IF(ISERROR(VLOOKUP(D28, D16:AH35, 42, FALSE)),"", VLOOKUP(D28, D16:AH35, 42, FALSE)) | D28: Seasonal Residential (High) | G28: kWh | H28: RPP | I28: 1.0482 | J28: =J27 -> 1.0415 | K28: 1500 | M28: CONSUMPTION
B29: 14 | C29: =IF(ISERROR(VLOOKUP(D29, D16:AH35, 42, FALSE)),"", VLOOKUP(D29, D16:AH35, 42, FALSE)) | D29: GS < 50 (Low) | G29: kWh | H29: RPP | I29: 1.0482 | J29: =J28 -> 1.0415 | K29: 1000 | M29: CONSUMPTION
B30: 15 | C30: =IF(ISERROR(VLOOKUP(D30, D16:AH35, 42, FALSE)),"", VLOOKUP(D30, D16:AH35, 42, FALSE)) | D30: GS < 50 (High) | G30: kWh | H30: RPP | I30: 1.0482 | J30: =J29 -> 1.0415 | K30: 5000 | M30: CONSUMPTION
B31: 16 | C31: =IF(ISERROR(VLOOKUP(D31, D16:AH35, 42, FALSE)),"", VLOOKUP(D31, D16:AH35, 42, FALSE)) | D31: Add additional scenarios if required
B32: 17 | C32: =IF(ISERROR(VLOOKUP(D32, D16:AH35, 42, FALSE)),"", VLOOKUP(D32, D16:AH35, 42, FALSE)) | D32: Add additional scenarios if required
B33: 18 | C33: =IF(ISERROR(VLOOKUP(D33, D16:AH35, 42, FALSE)),"", VLOOKUP(D33, D16:AH35, 42, FALSE)) | D33: Add additional scenarios if required
B34: 19 | C34: =IF(ISERROR(VLOOKUP(D34, D16:AH35, 42, FALSE)),"", VLOOKUP(D34, D16:AH35, 42, FALSE)) | D34: Add additional scenarios if required
B35: 20 | C35: =IF(ISERROR(VLOOKUP(D35, D16:AH35, 42, FALSE)),"", VLOOKUP(D35, D16:AH35, 42, FALSE)) | D35: Add additional scenarios if required
D37: Table 2
D38: RATE CLASSES / CATEGORIES (eg: Residential TOU, Residential Retailer) | G38: Units | H38: Sub-Total | N38: Total
H39: A | J39: B | L39: C | N39: Total Bill
H40: $ | I40: % | J40: $ | K40: % | L40: $ | M40: % | N40: $ | O40: %
B41: =H16 -> RPP | C41: 1 | D41: =IF(ISBLANK(D16), "", IF(D16 = "Add additional scenarios if required", "", IF(M16="YES", D16 & " - " & H16 & " - Interval Customers", D16 & " - " &H16))) -> Residential - RPP | G41: =IF(ISBLANK(G16), "", G16) -> kWh | H41: {=IF(LEN($G41)>1, (SUMPRODUCT(--($C$64:$C$1986=$B16), --($A$64:$A$1986=$D16), --($B$64:$B$1986="ST_A"), $L$64:$L$1986)), "")} -> 10.909761 | I41: =IF(LEN($G41)>1, (SUMPRODUCT(--($C$64:$C$1986=$B16), --($A$64:$A$1986=$D16), --($B$64:$B$1986="ST_A"), $M$64:$M$1986)), "") -> 0.30440183 | J41: =IF(LEN($G41)>1, (SUMPRODUCT(--($C$64:$C$1986=$B16), --($A$64:$A$1986=$D16), --($B$64:$B$1986="ST_B"), $L$64:$L$1986)), "") -> 11.188894 | K41: =IF(LEN($G41)>1, (SUMPRODUCT(--($C$64:$C$1986=$B16), --($A$64:$A$1986=$D16), --($B$64:$B$1986="ST_B"), $M$64:$M$1986)), "") -> 0.26320711 | L41: =IF(LEN($G41)>1, (SUMPRODUCT(--($C$64:$C$1986=$B16), --($A$64:$A$1986=$D16), --($B$64:$B$1986="ST_C"), $L$64:$L$1986)), "") -> 13.357174 | M41: =IF(LEN($G41)>1, (SUMPRODUCT(--($C$64:$C$1986=$B16), --($A$64:$A$1986=$D16), --($B$64:$B$1986="ST_C"), $M$64:$M$1986)), "") -> 0.23156354 | N41: =IF(LEN($G41)>1, (SUMPRODUCT(--($C$64:$C$1986=$B16), --($A$64:$A$1986=$D16), --($B$64:$B$1986=$B41&"_TOTAL"), $L$64:$L$1986)), "") -> 11.927687 | O41: =IF(LEN($G41)>1, (SUMPRODUCT(--($C$64:$C$1986=$B16), --($A$64:$A$1986=$D16), --($B$64:$B$1986=$B41&"_TOTAL"), $M$64:$M$1986)), "") -> 0.084194017
B42: =H17 -> RPP | C42: 2 | D42: =IF(ISBLANK(D17), "", IF(D17 = "Add additional scenarios if required", "", IF(M17="YES", D17 & " - " & H17 & " - Interval Customers", D17 & " - " &H17))) -> Seasonal Residential - RPP | G42: =IF(ISBLANK(G17), "", G17) -> kWh | H42: =IF(LEN($G42)>1, (SUMPRODUCT(--($C$64:$C$1986=$B17), --($A$64:$A$1986=$D17), --($B$64:$B$1986="ST_A"), $L$64:$L$1986)), "") -> 14.869109 | I42: =IF(LEN($G42)>1, (SUMPRODUCT(--($C$64:$C$1986=$B17), --($A$64:$A$1986=$D17), --($B$64:$B$1986="ST_A"), $M$64:$M$1986)), "") -> 0.22829893 | J42: =IF(LEN($G42)>1, (SUMPRODUCT(--($C$64:$C$1986=$B17), --($A$64:$A$1986=$D17), --($B$64:$B$1986="ST_B"), $L$64:$L$1986)), "") -> 15.115134 | K42: =IF(LEN($G42)>1, (SUMPRODUCT(--($C$64:$C$1986=$B17), --($A$64:$A$1986=$D17), --($B$64:$B$1986="ST_B"), $M$64:$M$1986)), "") -> 0.20816419 | L42: =IF(LEN($G42)>1, (SUMPRODUCT(--($C$64:$C$1986=$B17), --($A$64:$A$1986=$D17), --($B$64:$B$1986="ST_C"), $L$64:$L$1986)), "") -> 16.57253 | M42: =IF(LEN($G42)>1, (SUMPRODUCT(--($C$64:$C$1986=$B17), --($A$64:$A$1986=$D17), --($B$64:$B$1986="ST_C"), $M$64:$M$1986)), "") -> 0.18754856 | N42: =IF(LEN($G42)>1, (SUMPRODUCT(--($C$64:$C$1986=$B17), --($A$64:$A$1986=$D17), --($B$64:$B$1986=$B42&"_TOTAL"), $L$64:$L$1986)), "") -> 14.807949 | O42: =IF(LEN($G42)>1, (SUMPRODUCT(--($C$64:$C$1986=$B17), --($A$64:$A$1986=$D17), --($B$64:$B$1986=$B42&"_TOTAL"), $M$64:$M$1986)), "") -> 0.092120308
B43: =H18 -> RPP | C43: 3 | D43: =IF(ISBLANK(D18), "", IF(D18 = "Add additional scenarios if required", "", IF(M18="YES", D18 & " - " & H18 & " - Interval Customers", D18 & " - " &H18))) -> GS <50 - RPP | G43: =IF(ISBLANK(G18), "", G18) -> kWh | H43: =IF(LEN($G43)>1, (SUMPRODUCT(--($C$64:$C$1986=$B18), --($A$64:$A$1986=$D18), --($B$64:$B$1986="ST_A"), $L$64:$L$1986)), "") -> 19.298336 | I43: =IF(LEN($G43)>1, (SUMPRODUCT(--($C$64:$C$1986=$B18), --($A$64:$A$1986=$D18), --($B$64:$B$1986="ST_A"), $M$64:$M$1986)), "") -> 0.27176927 | J43: =IF(LEN($G43)>1, (SUMPRODUCT(--($C$64:$C$1986=$B18), --($A$64:$A$1986=$D18), --($B$64:$B$1986="ST_B"), $L$64:$L$1986)), "") -> 19.192279 | K43: =IF(LEN($G43)>1, (SUMPRODUCT(--($C$64:$C$1986=$B18), --($A$64:$A$1986=$D18), --($B$64:$B$1986="ST_B"), $M$64:$M$1986)), "") -> 0.2197851 | L43: =IF(LEN($G43)>1, (SUMPRODUCT(--($C$64:$C$1986=$B18), --($A$64:$A$1986=$D18), --($B$64:$B$1986="ST_C"), $L$64:$L$1986)), "") -> 24.577859 | M43: =IF(LEN($G43)>1, (SUMPRODUCT(--($C$64:$C$1986=$B18), --($A$64:$A$1986=$D18), --($B$64:$B$1986="ST_C"), $M$64:$M$1986)), "") -> 0.1971926 | N43: =IF(LEN($G43)>1, (SUMPRODUCT(--($C$64:$C$1986=$B18), --($A$64:$A$1986=$D18), --($B$64:$B$1986=$B43&"_TOTAL"), $L$64:$L$1986)), "") -> 21.925225 | O43: =IF(LEN($G43)>1, (SUMPRODUCT(--($C$64:$C$1986=$B18), --($A$64:$A$1986=$D18), --($B$64:$B$1986=$B43&"_TOTAL"), $M$64:$M$1986)), "") -> 0.062412755
B44: =H19 -> Non-RPP (Other) | C44: 4 | D44: =IF(ISBLANK(D19), "", IF(D19 = "Add additional scenarios if required", "", IF(M19="YES", D19 & " - " & H19 & " - Interval Customers", D19 & " - " &H19))) -> GS 50 - 2,999 kW - Non-RPP (Other) | G44: =IF(ISBLANK(G19), "", G19) -> kW | H44: =IF(LEN($G44)>1, (SUMPRODUCT(--($C$64:$C$1986=$B19), --($A$64:$A$1986=$D19), --($B$64:$B$1986="ST_A"), $L$64:$L$1986)), "") -> 269.41095 | I44: =IF(LEN($G44)>1, (SUMPRODUCT(--($C$64:$C$1986=$B19), --($A$64:$A$1986=$D19), --($B$64:$B$1986="ST_A"), $M$64:$M$1986)), "") -> 0.26700258 | J44: =IF(LEN($G44)>1, (SUMPRODUCT(--($C$64:$C$1986=$B19), --($A$64:$A$1986=$D19), --($B$64:$B$1986="ST_B"), $L$64:$L$1986)), "") -> -424.02258 | K44: =IF(LEN($G44)>1, (SUMPRODUCT(--($C$64:$C$1986=$B19), --($A$64:$A$1986=$D19), --($B$64:$B$1986="ST_B"), $M$64:$M$1986)), "") -> -0.23096327 | L44: =IF(LEN($G44)>1, (SUMPRODUCT(--($C$64:$C$1986=$B19), --($A$64:$A$1986=$D19), --($B$64:$B$1986="ST_C"), $L$64:$L$1986)), "") -> -298.44258 | M44: =IF(LEN($G44)>1, (SUMPRODUCT(--($C$64:$C$1986=$B19), --($A$64:$A$1986=$D19), --($B$64:$B$1986="ST_C"), $M$64:$M$1986)), "") -> -0.089630808 | N44: =IF(LEN($G44)>1, (SUMPRODUCT(--($C$64:$C$1986=$B19), --($A$64:$A$1986=$D19), --($B$64:$B$1986=$B44&"_TOTAL"), $L$64:$L$1986)), "") -> -404.85672 | O44: =IF(LEN($G44)>1, (SUMPRODUCT(--($C$64:$C$1986=$B19), --($A$64:$A$1986=$D19), --($B$64:$B$1986=$B44&"_TOTAL"), $M$64:$M$1986)), "") -> -0.028230136
B45: =H20 -> Non-RPP (Other) | C45: 5 | D45: =IF(ISBLANK(D20), "", IF(D20 = "Add additional scenarios if required", "", IF(M20="YES", D20 & " - " & H20 & " - Interval Customers", D20 & " - " &H20))) -> GS 3,000 - 4,999 kW - Non-RPP (Other) | G45: =IF(ISBLANK(G20), "", G20) -> kW | H45: =IF(LEN($G45)>1, (SUMPRODUCT(--($C$64:$C$1986=$B20), --($A$64:$A$1986=$D20), --($B$64:$B$1986="ST_A"), $L$64:$L$1986)), "") -> 4578.0934 | I45: =IF(LEN($G45)>1, (SUMPRODUCT(--($C$64:$C$1986=$B20), --($A$64:$A$1986=$D20), --($B$64:$B$1986="ST_A"), $M$64:$M$1986)), "") -> 0.22292938 | J45: =IF(LEN($G45)>1, (SUMPRODUCT(--($C$64:$C$1986=$B20), --($A$64:$A$1986=$D20), --($B$64:$B$1986="ST_B"), $L$64:$L$1986)), "") -> -14959.647 | K45: =IF(LEN($G45)>1, (SUMPRODUCT(--($C$64:$C$1986=$B20), --($A$64:$A$1986=$D20), --($B$64:$B$1986="ST_B"), $M$64:$M$1986)), "") -> -0.35357178 | L45: =IF(LEN($G45)>1, (SUMPRODUCT(--($C$64:$C$1986=$B20), --($A$64:$A$1986=$D20), --($B$64:$B$1986="ST_C"), $L$64:$L$1986)), "") -> -18710.847 | M45: =IF(LEN($G45)>1, (SUMPRODUCT(--($C$64:$C$1986=$B20), --($A$64:$A$1986=$D20), --($B$64:$B$1986="ST_C"), $M$64:$M$1986)), "") -> -0.23423439 | N45: =IF(LEN($G45)>1, (SUMPRODUCT(--($C$64:$C$1986=$B20), --($A$64:$A$1986=$D20), --($B$64:$B$1986=$B45&"_TOTAL"), $L$64:$L$1986)), "") -> -22031.355 | O45: =IF(LEN($G45)>1, (SUMPRODUCT(--($C$64:$C$1986=$B20), --($A$64:$A$1986=$D20), --($B$64:$B$1986=$B45&"_TOTAL"), $M$64:$M$1986)), "") -> -0.059763192
B46: =H21 -> Non-RPP (Other) | C46: 6 | D46: =IF(ISBLANK(D21), "", IF(D21 = "Add additional scenarios if required", "", IF(M21="YES", D21 & " - " & H21 & " - Interval Customers", D21 & " - " &H21))) -> Large Use >5MW - Non-RPP (Other) | G46: =IF(ISBLANK(G21), "", G21) -> kW | H46: =IF(LEN($G46)>1, (SUMPRODUCT(--($C$64:$C$1986=$B21), --($A$64:$A$1986=$D21), --($B$64:$B$1986="ST_A"), $L$64:$L$1986)), "") -> 13798.386 | I46: =IF(LEN($G46)>1, (SUMPRODUCT(--($C$64:$C$1986=$B21), --($A$64:$A$1986=$D21), --($B$64:$B$1986="ST_A"), $M$64:$M$1986)), "") -> 0.25225849 | J46: =IF(LEN($G46)>1, (SUMPRODUCT(--($C$64:$C$1986=$B21), --($A$64:$A$1986=$D21), --($B$64:$B$1986="ST_B"), $L$64:$L$1986)), "") -> 20356.674 | K46: =IF(LEN($G46)>1, (SUMPRODUCT(--($C$64:$C$1986=$B21), --($A$64:$A$1986=$D21), --($B$64:$B$1986="ST_B"), $M$64:$M$1986)), "") -> 0.36579387 | L46: =IF(LEN($G46)>1, (SUMPRODUCT(--($C$64:$C$1986=$B21), --($A$64:$A$1986=$D21), --($B$64:$B$1986="ST_C"), $L$64:$L$1986)), "") -> 28945.454 | M46: =IF(LEN($G46)>1, (SUMPRODUCT(--($C$64:$C$1986=$B21), --($A$64:$A$1986=$D21), --($B$64:$B$1986="ST_C"), $M$64:$M$1986)), "") -> 0.20109102 | N46: =IF(LEN($G46)>1, (SUMPRODUCT(--($C$64:$C$1986=$B21), --($A$64:$A$1986=$D21), --($B$64:$B$1986=$B46&"_TOTAL"), $L$64:$L$1986)), "") -> 34304.922 | O46: =IF(LEN($G46)>1, (SUMPRODUCT(--($C$64:$C$1986=$B21), --($A$64:$A$1986=$D21), --($B$64:$B$1986=$B46&"_TOTAL"), $M$64:$M$1986)), "") -> 0.037032665
B47: =H22 -> RPP | C47: 7 | D47: =IF(ISBLANK(D22), "", IF(D22 = "Add additional scenarios if required", "", IF(M22="YES", D22 & " - " & H22 & " - Interval Customers", D22 & " - " &H22))) -> Unmetered Scattered Load - RPP | G47: =IF(ISBLANK(G22), "", G22) -> kWh | H47: =IF(LEN($G47)>1, (SUMPRODUCT(--($C$64:$C$1986=$B22), --($A$64:$A$1986=$D22), --($B$64:$B$1986="ST_A"), $L$64:$L$1986)), "") -> 1.8475142 | I47: =IF(LEN($G47)>1, (SUMPRODUCT(--($C$64:$C$1986=$B22), --($A$64:$A$1986=$D22), --($B$64:$B$1986="ST_A"), $M$64:$M$1986)), "") -> 0.092352624 | J47: =IF(LEN($G47)>1, (SUMPRODUCT(--($C$64:$C$1986=$B22), --($A$64:$A$1986=$D22), --($B$64:$B$1986="ST_B"), $L$64:$L$1986)), "") -> 1.8358811 | K47: =IF(LEN($G47)>1, (SUMPRODUCT(--($C$64:$C$1986=$B22), --($A$64:$A$1986=$D22), --($B$64:$B$1986="ST_B"), $M$64:$M$1986)), "") -> 0.076828261 | L47: =IF(LEN($G47)>1, (SUMPRODUCT(--($C$64:$C$1986=$B22), --($A$64:$A$1986=$D22), --($B$64:$B$1986="ST_C"), $L$64:$L$1986)), "") -> 3.0945041 | M47: =IF(LEN($G47)>1, (SUMPRODUCT(--($C$64:$C$1986=$B22), --($A$64:$A$1986=$D22), --($B$64:$B$1986="ST_C"), $M$64:$M$1986)), "") -> 0.095828843 | N47: =IF(LEN($G47)>1, (SUMPRODUCT(--($C$64:$C$1986=$B22), --($A$64:$A$1986=$D22), --($B$64:$B$1986=$B47&"_TOTAL"), $L$64:$L$1986)), "") -> 2.7533906 | O47: =IF(LEN($G47)>1, (SUMPRODUCT(--($C$64:$C$1986=$B22), --($A$64:$A$1986=$D22), --($B$64:$B$1986=$B47&"_TOTAL"), $M$64:$M$1986)), "") -> 0.033166693
B48: =H23 -> RPP | C48: 8 | D48: =IF(ISBLANK(D23), "", IF(D23 = "Add additional scenarios if required", "", IF(M23="YES", D23 & " - " & H23 & " - Interval Customers", D23 & " - " &H23))) -> Sentinel - RPP | G48: =IF(ISBLANK(G23), "", G23) -> kW | H48: =IF(LEN($G48)>1, (SUMPRODUCT(--($C$64:$C$1986=$B23), --($A$64:$A$1986=$D23), --($B$64:$B$1986="ST_A"), $L$64:$L$1986)), "") -> 1.7871628 | I48: =IF(LEN($G48)>1, (SUMPRODUCT(--($C$64:$C$1986=$B23), --($A$64:$A$1986=$D23), --($B$64:$B$1986="ST_A"), $M$64:$M$1986)), "") -> 0.17892527 | J48: =IF(LEN($G48)>1, (SUMPRODUCT(--($C$64:$C$1986=$B23), --($A$64:$A$1986=$D23), --($B$64:$B$1986="ST_B"), $L$64:$L$1986)), "") -> 1.8161569 | K48: =IF(LEN($G48)>1, (SUMPRODUCT(--($C$64:$C$1986=$B23), --($A$64:$A$1986=$D23), --($B$64:$B$1986="ST_B"), $M$64:$M$1986)), "") -> 0.17009279 | L48: =IF(LEN($G48)>1, (SUMPRODUCT(--($C$64:$C$1986=$B23), --($A$64:$A$1986=$D23), --($B$64:$B$1986="ST_C"), $L$64:$L$1986)), "") -> 1.9473369 | M48: =IF(LEN($G48)>1, (SUMPRODUCT(--($C$64:$C$1986=$B23), --($A$64:$A$1986=$D23), --($B$64:$B$1986="ST_C"), $M$64:$M$1986)), "") -> 0.16579193 | N48: =IF(LEN($G48)>1, (SUMPRODUCT(--($C$64:$C$1986=$B23), --($A$64:$A$1986=$D23), --($B$64:$B$1986=$B48&"_TOTAL"), $L$64:$L$1986)), "") -> 1.7407078 | O48: =IF(LEN($G48)>1, (SUMPRODUCT(--($C$64:$C$1986=$B23), --($A$64:$A$1986=$D23), --($B$64:$B$1986=$B48&"_TOTAL"), $M$64:$M$1986)), "") -> 0.097128623
