Workbook
Name MidPeak: 0.157
Name MidPeakPer: 0.18
Name OER: 0.235
Name OffPeak: 0.098
Name OffPeakPer: 0.64
Name OnPeak: 0.203
Name OnPeakPer: 0.18
Name SME: 0.42

Sheet Summary
C3: Distribution - Sub-Total A Bill Impacts
D5: Rate Class | E5: Volume | F5: kWh / kW | G5: 2027 | I5: 2028 | K5: 2029 | M5: 2030 | O5: 2031 | Q5: Average
G6: $ | H6: % | I6: $ | J6: % | K6: $ | L6: % | M6: $ | N6: % | O6: $ | P6: % | Q6: $ | R6: %
D7: ='VRZ BI (2027)'!D16 -> Residential | E7: 750 | F7: kWh | G7: ='VRZ BI (2027)'!H41 -> 10.909761 | H7: ='VRZ BI (2027)'!I41 -> 0.30440183 | I7: ='VRZ BI (2028)'!H41 -> 4.0530355 | J7: ='VRZ BI (2028)'!I41 -> 0.086696388 | K7: ='VRZ BI (2029)'!H41 -> 1.78 | L7: ='VRZ BI (2029)'!I41 -> 0.035037441 | M7: ='VRZ BI (2030)'!H41 -> 2.27 | N7: ='VRZ BI (2030)'!I41 -> 0.043170013 | O7: ='VRZ BI (2031)'!H41 -> 4.13 | P7: ='VRZ BI (2031)'!I41 -> 0.075292423 | Q7: =AVERAGE(G7,I7,K7,M7,O7) -> 4.6285594 | R7: =GEOMEAN(1+H7,1+J7,1+L7,1+N7,1+P7)-1 -> 0.10476898
D8: ='VRZ BI (2027)'!D17 -> Seasonal Residential | E8: 680 | F8: kWh | G8: ='VRZ BI (2027)'!H42 -> 14.869109 | H8: ='VRZ BI (2027)'!I42 -> 0.22829893 | I8: ='VRZ BI (2028)'!H42 -> 8.1944167 | J8: ='VRZ BI (2028)'!I42 -> 0.10243135 | K8: ='VRZ BI (2029)'!H42 -> 3.12 | L8: ='VRZ BI (2029)'!I42 -> 0.035376746 | M8: ='VRZ BI (2030)'!H42 -> 3.94 | N8: ='VRZ BI (2030)'!I42 -> 0.043148043 | O8: ='VRZ BI (2031)'!H42 -> 7.2 | P8: ='VRZ BI (2031)'!I42 -> 0.075587753 | Q8: =AVERAGE(G8,I8,K8,M8,O8) -> 7.4647052 | R8: =GEOMEAN(1+H8,1+J8,1+L8,1+N8,1+P8)-1 -> 0.094836245
D9: ='VRZ BI (2027)'!D18 -> GS <50 | E9: 2000 | F9: kWh | G9: ='VRZ BI (2027)'!H43 -> 19.298336 | H9: ='VRZ BI (2027)'!I43 -> 0.27176927 | I9: ='VRZ BI (2028)'!H43 -> 8.9064023 | J9: ='VRZ BI (2028)'!I43 -> 0.09862215 | K9: ='VRZ BI (2029)'!H43 -> 3.4 | L9: ='VRZ BI (2029)'!I43 -> 0.034269102 | M9: ='VRZ BI (2030)'!H43 -> 4.2 | N9: ='VRZ BI (2030)'!I43 -> 0.040929793 | O9: ='VRZ BI (2031)'!H43 -> 7.8 | P9: ='VRZ BI (2031)'!I43 -> 0.073023631 | Q9: =AVERAGE(G9,I9,K9,M9,O9) -> 8.7209477 | R9: =GEOMEAN(1+H9,1+J9,1+L9,1+N9,1+P9)-1 -> 0.10048516
D10: ='VRZ BI (2027)'!D19 -> GS 50 - 2,999 kW | E10: 175 | F10: kW | G10: ='VRZ BI (2027)'!H44 -> 269.41095 | H10: ='VRZ BI (2027)'!I44 -> 0.26700258 | I10: ='VRZ BI (2028)'!H44 -> 111.5114 | J10: ='VRZ BI (2028)'!I44 -> 0.087225203 | K10: ='VRZ BI (2029)'!H44 -> 46.235 | L10: ='VRZ BI (2029)'!I44 -> 0.03326397 | M10: ='VRZ BI (2030)'!H44 -> 58.5375 | N10: ='VRZ BI (2030)'!I44 -> 0.040759242 | O10: ='VRZ BI (2031)'!H44 -> 106.68 | P10: ='VRZ BI (2031)'!I44 -> 0.071371473 | Q10: =AVERAGE(G10,I10,K10,M10,O10) -> 118.47497 | R10: =GEOMEAN(1+H10,1+J10,1+L10,1+N10,1+P10)-1 -> 0.096780525
D11: ='VRZ BI (2027)'!D20 -> GS 3,000 - 4,999 kW | E11: 4000 | F11: KW | G11: ='VRZ BI (2027)'!H45 -> 4578.0934 | H11: ='VRZ BI (2027)'!I45 -> 0.22292938 | I11: ='VRZ BI (2028)'!H45 -> 1531.4663 | J11: ='VRZ BI (2028)'!I45 -> 0.060980182 | K11: ='VRZ BI (2029)'!H45 -> 808.4 | L11: ='VRZ BI (2029)'!I45 -> 0.030338934 | M11: ='VRZ BI (2030)'!H45 -> 1021.6 | N11: ='VRZ BI (2030)'!I45 -> 0.037211295 | O11: ='VRZ BI (2031)'!H45 -> 1850.4 | P11: ='VRZ BI (2031)'!I45 -> 0.064981882 | Q11: =AVERAGE(G11,I11,K11,M11,O11) -> 1957.9919 | R11: =GEOMEAN(1+H11,1+J11,1+L11,1+N11,1+P11)-1 -> 0.081084508
C12: Veridian | D12: ='VRZ BI (2027)'!D21 -> Large Use >5MW | E12: 9400 | F12: KW | G12: ='VRZ BI (2027)'!H46 -> 13798.386 | H12: ='VRZ BI (2027)'!I46 -> 0.25225849 | I12: ='VRZ BI (2028)'!H46 -> 4587.2382 | J12: ='VRZ BI (2028)'!I46 -> 0.066969155 | K12: ='VRZ BI (2029)'!H46 -> 2180.8 | L12: ='VRZ BI (2029)'!I46 -> 0.029839223 | M12: ='VRZ BI (2030)'!H46 -> 2746.68 | N12: ='VRZ BI (2030)'!I46 -> 0.036493062 | O12: ='VRZ BI (2031)'!H46 -> 4996.1 | P12: ='VRZ BI (2031)'!I46 -> 0.064042306 | Q12: =AVERAGE(G12,I12,K12,M12,O12) -> 5661.8408 | R12: =GEOMEAN(1+H12,1+J12,1+L12,1+N12,1+P12)-1 -> 0.086996423
C13: Rate Zone | D13: ='VRZ BI (2027)'!D22 -> Unmetered Scattered Load | E13: 450 | F13: kWh | G13: ='VRZ BI (2027)'!H47 -> 1.8475142 | H13: ='VRZ BI (2027)'!I47 -> 0.092352624 | I13: ='VRZ BI (2028)'!H47 -> 2.3674538 | J13: ='VRZ BI (2028)'!I47 -> 0.10833782 | K13: ='VRZ BI (2029)'!H47 -> 0.83 | L13: ='VRZ BI (2029)'!I47 -> 0.034269244 | M13: ='VRZ BI (2030)'!H47 -> 1.065 | N13: ='VRZ BI (2030)'!I47 -> 0.042515024 | O13: ='VRZ BI (2031)'!H47 -> 1.96 | P13: ='VRZ BI (2031)'!I47 -> 0.075052744 | Q13: =AVERAGE(G13,I13,K13,M13,O13) -> 1.6139936 | R13: =GEOMEAN(1+H13,1+J13,1+L13,1+N13,1+P13)-1 -> 0.070129024
D14: ='VRZ BI (2027)'!D23 -> Sentinel | E14: 0.2 | F14: KW | G14: ='VRZ BI (2027)'!H48 -> 1.7871628 | H14: ='VRZ BI (2027)'!I48 -> 0.17892527 | I14: ='VRZ BI (2028)'!H48 -> 1.1300717 | J14: ='VRZ BI (2028)'!I48 -> 0.095968186 | K14: ='VRZ BI (2029)'!H48 -> 0.46038 | L14: ='VRZ BI (2029)'!I48 -> 0.035673012 | M14: ='VRZ BI (2030)'!H48 -> 0.58584 | N14: ='VRZ BI (2030)'!I48 -> 0.04383083 | O14: ='VRZ BI (2031)'!H48 -> 1.05346 | P14: ='VRZ BI (2031)'!I48 -> 0.075507241 | Q14: =AVERAGE(G14,I14,K14,M14,O14) -> 1.0033829 | R14: =GEOMEAN(1+H14,1+J14,1+L14,1+N14,1+P14)-1 -> 0.084800979
D15: ='VRZ BI (2027)'!D24 -> Street Light | E15: 910.35058 | F15: KW | G15: ='VRZ BI (2027)'!H49 -> -1013.9046 | H15: ='VRZ BI (2027)'!I49 -> -0.056021908 | I15: ='VRZ BI (2028)'!H49 -> 2080.1842 | J15: ='VRZ BI (2028)'!I49 -> 0.12175889 | K15: ='VRZ BI (2029)'!H49 -> 609.78875 | L15: ='VRZ BI (2029)'!I49 -> 0.031818432 | M15: ='VRZ BI (2030)'!H49 -> 871.89664 | N15: ='VRZ BI (2030)'!I49 -> 0.044092132 | O15: ='VRZ BI (2031)'!H49 -> 1489.5144 | P15: ='VRZ BI (2031)'!I49 -> 0.072144292 | Q15: =AVERAGE(G15,I15,K15,M15,O15) -> 807.49588 | R15: =GEOMEAN(1+H15,1+J15,1+L15,1+N15,1+P15)-1 -> 0.041097385
D16: ='VRZ BI (2027)'!D25 -> Residential (Low) | E16: 325 | F16: kWh | G16: ='VRZ BI (2027)'!H50 -> 10.909761 | H16: ='VRZ BI (2027)'!I50 -> 0.30440183 | I16: ='VRZ BI (2028)'!H50 -> 4.0530355 | J16: ='VRZ BI (2028)'!I50 -> 0.086696388 | K16: ='VRZ BI (2029)'!H50 -> 1.78 | L16: ='VRZ BI (2029)'!I50 -> 0.035037441 | M16: ='VRZ BI (2030)'!H50 -> 2.27 | N16: ='VRZ BI (2030)'!I50 -> 0.043170013 | O16: ='VRZ BI (2031)'!H50 -> 4.13 | P16: ='VRZ BI (2031)'!I50 -> 0.075292423 | Q16: =AVERAGE(G16,I16,K16,M16,O16) -> 4.6285594 | R16: =GEOMEAN(1+H16,1+J16,1+L16,1+N16,1+P16)-1 -> 0.10476898
D17: ='VRZ BI (2027)'!D26 -> Residential (High) | E17: 1500 | F17: kWh | G17: ='VRZ BI (2027)'!H51 -> 10.909761 | H17: ='VRZ BI (2027)'!I51 -> 0.30440183 | I17: ='VRZ BI (2028)'!H51 -> 4.0530355 | J17: ='VRZ BI (2028)'!I51 -> 0.086696388 | K17: ='VRZ BI (2029)'!H51 -> 1.78 | L17: ='VRZ BI (2029)'!I51 -> 0.035037441 | M17: ='VRZ BI (2030)'!H51 -> 2.27 | N17: ='VRZ BI (2030)'!I51 -> 0.043170013 | O17: ='VRZ BI (2031)'!H51 -> 4.13 | P17: ='VRZ BI (2031)'!I51 -> 0.075292423 | Q17: =AVERAGE(G17,I17,K17,M17,O17) -> 4.6285594 | R17: =GEOMEAN(1+H17,1+J17,1+L17,1+N17,1+P17)-1 -> 0.10476898
D18: ='VRZ BI (2027)'!D27 -> Seasonal Residential (Low) | E18: 350 | F18: kWh | G18: ='VRZ BI (2027)'!H52 -> 14.869109 | H18: ='VRZ BI (2027)'!I52 -> 0.22829893 | I18: ='VRZ BI (2028)'!H52 -> 8.1944167 | J18: ='VRZ BI (2028)'!I52 -> 0.10243135 | K18: ='VRZ BI (2029)'!H52 -> 3.12 | L18: ='VRZ BI (2029)'!I52 -> 0.035376746 | M18: ='VRZ BI (2030)'!H52 -> 3.94 | N18: ='VRZ BI (2030)'!I52 -> 0.043148043 | O18: ='VRZ BI (2031)'!H52 -> 7.2 | P18: ='VRZ BI (2031)'!I52 -> 0.075587753 | Q18: =AVERAGE(G18,I18,K18,M18,O18) -> 7.4647052 | R18: =GEOMEAN(1+H18,1+J18,1+L18,1+N18,1+P18)-1 -> 0.094836245
D19: ='VRZ BI (2027)'!D28 -> Seasonal Residential (High) | E19: 1500 | F19: kWh | G19: ='VRZ BI (2027)'!H53 -> 14.869109 | H19: ='VRZ BI (2027)'!I53 -> 0.22829893 | I19: ='VRZ BI (2028)'!H53 -> 8.1944167 | J19: ='VRZ BI (2028)'!I53 -> 0.10243135 | K19: ='VRZ BI (2029)'!H53 -> 3.12 | L19: ='VRZ BI (2029)'!I53 -> 0.035376746 | M19: ='VRZ BI (2030)'!H53 -> 3.94 | N19: ='VRZ BI (2030)'!I53 -> 0.043148043 | O19: ='VRZ BI (2031)'!H53 -> 7.2 | P19: ='VRZ BI (2031)'!I53 -> 0.075587753 | Q19: =AVERAGE(G19,I19,K19,M19,O19) -> 7.4647052 | R19: =GEOMEAN(1+H19,1+J19,1+L19,1+N19,1+P19)-1 -> 0.094836245
D20: ='VRZ BI (2027)'!D29 -> GS < 50 (Low) | E20: 1000 | F20: kWh | G20: ='VRZ BI (2027)'!H54 -> 11.664168 | H20: ='VRZ BI (2027)'!I54 -> 0.24759431 | I20: ='VRZ BI (2028)'!H54 -> 4.4532012 | J20: ='VRZ BI (2028)'!I54 -> 0.075768 | K20: ='VRZ BI (2029)'!H54 -> 1.7 | L20: ='VRZ BI (2029)'!I54 -> 0.026887091 | M20: ='VRZ BI (2030)'!H54 -> 2.1 | N20: ='VRZ BI (2030)'!I54 -> 0.032343833 | O20: ='VRZ BI (2031)'!H54 -> 3.9 | P20: ='VRZ BI (2031)'!I54 -> 0.058185187 | Q20: =AVERAGE(G20,I20,K20,M20,O20) -> 4.7634738 | R20: =GEOMEAN(1+H20,1+J20,1+L20,1+N20,1+P20)-1 -> 0.085275876
D21: ='VRZ BI (2027)'!D30 -> GS < 50 (High) | E21: 5000 | F21: kWh | G21: ='VRZ BI (2027)'!H55 -> 42.20084 | H21: ='VRZ BI (2027)'!I55 -> 0.29571046 | I21: ='VRZ BI (2028)'!H55 -> 22.266006 | J21: ='VRZ BI (2028)'!I55 -> 0.12041482 | K21: ='VRZ BI (2029)'!H55 -> 8.5 | L21: ='VRZ BI (2029)'!I55 -> 0.041027751 | M21: ='VRZ BI (2030)'!H55 -> 10.5 | N21: ='VRZ BI (2030)'!I55 -> 0.048683946 | O21: ='VRZ BI (2031)'!H55 -> 19.5 | P21: ='VRZ BI (2031)'!I55 -> 0.086215722 | Q21: =AVERAGE(G21,I21,K21,M21,O21) -> 20.593369 | R21: =GEOMEAN(1+H21,1+J21,1+L21,1+N21,1+P21)-1 -> 0.11476151
D23: Rate Class | E23: Volume | F23: kWh / kW | G23: 2027 | I23: 2028 | K23: 2029 | M23: 2030 | O23: 2031 | Q23: Average
G24: $ | H24: % | I24: $ | J24: % | K24: $ | L24: % | M24: $ | N24: % | O24: $ | P24: % | Q24: $ | R24: %
D25: ='WRZ BI (2027)'!D16 -> Residential | E25: 750 | F25: kWh | G25: ='WRZ BI (2027)'!H41 -> 6.9532736 | H25: ='WRZ BI (2027)'!I41 -> 0.17630004 | I25: ='WRZ BI (2028)'!H41 -> 4.2803209 | J25: ='WRZ BI (2028)'!I41 -> 0.09226167 | K25: ='WRZ BI (2029)'!H41 -> 1.78 | L25: ='WRZ BI (2029)'!I41 -> 0.035126776 | M25: ='WRZ BI (2030)'!H41 -> 2.27 | N25: ='WRZ BI (2030)'!I41 -> 0.043276348 | O25: ='WRZ BI (2031)'!H41 -> 4.13 | P25: ='WRZ BI (2031)'!I41 -> 0.075470189 | Q25: =AVERAGE(G25,I25,K25,M25,O25) -> 3.8827189 | R25: =GEOMEAN(1+H25,1+J25,1+L25,1+N25,1+P25)-1 -> 0.083346083
D26: ='WRZ BI (2027)'!D17 -> GS <50 | E26: 2000 | F26: kWh | G26: ='WRZ BI (2027)'!H42 -> 7.6245597 | H26: ='WRZ BI (2027)'!I42 -> 0.091851098 | I26: ='WRZ BI (2028)'!H42 -> 8.2197596 | J26: ='WRZ BI (2028)'!I42 -> 0.090691228 | K26: ='WRZ BI (2029)'!H42 -> 3.4 | L26: ='WRZ BI (2029)'!I42 -> 0.034394046 | M26: ='WRZ BI (2030)'!H42 -> 4.2 | N26: ='WRZ BI (2030)'!I42 -> 0.04107406 | O26: ='WRZ BI (2031)'!H42 -> 7.8 | P26: ='WRZ BI (2031)'!I42 -> 0.073270865 | Q26: =AVERAGE(G26,I26,K26,M26,O26) -> 6.2488638 | R26: =GEOMEAN(1+H26,1+J26,1+L26,1+N26,1+P26)-1 -> 0.065978493
D27: ='WRZ BI (2027)'!D18 -> GS 50 - 2,999 kW | E27: 175 | F27: kW | G27: ='WRZ BI (2027)'!H43 -> 82.1055 | H27: ='WRZ BI (2027)'!I43 -> 0.06871817 | I27: ='WRZ BI (2028)'!H43 -> 99.541274 | J27: ='WRZ BI (2028)'!I43 -> 0.077954167 | K27: ='WRZ BI (2029)'!H43 -> 46.235 | L27: ='WRZ BI (2029)'!I43 -> 0.033589745 | M27: ='WRZ BI (2030)'!H43 -> 58.5375 | N27: ='WRZ BI (2030)'!I43 -> 0.041145451 | O27: ='WRZ BI (2031)'!H43 -> 106.68 | P27: ='WRZ BI (2031)'!I43 -> 0.072021018 | Q27: =AVERAGE(G27,I27,K27,M27,O27) -> 78.619855 | R27: =GEOMEAN(1+H27,1+J27,1+L27,1+N27,1+P27)-1 -> 0.058535134
C28: Whitby | D28: ='WRZ BI (2027)'!D19 -> GS 3,000 - 4,999 kW | E28: 4000 | F28: KW | G28: ='WRZ BI (2027)'!H44 -> 3340.0611 | H28: ='WRZ BI (2027)'!I44 -> 0.15355805 | I28: ='WRZ BI (2028)'!H44 -> 1345.8661 | J28: ='WRZ BI (2028)'!I44 -> 0.053638989 | K28: ='WRZ BI (2029)'!H44 -> 808.4 | L28: ='WRZ BI (2029)'!I44 -> 0.03057829 | M28: ='WRZ BI (2030)'!H44 -> 1021.6 | N28: ='WRZ BI (2030)'!I44 -> 0.037496159 | O28: ='WRZ BI (2031)'!H44 -> 1850.4 | P28: ='WRZ BI (2031)'!I44 -> 0.06546136 | Q28: =AVERAGE(G28,I28,K28,M28,O28) -> 1673.2654 | R28: =GEOMEAN(1+H28,1+J28,1+L28,1+N28,1+P28)-1 -> 0.067252782
C29: Rate Zone | D29: ='WRZ BI (2027)'!D20 -> Unmetered Scattered Load | E29: 450 | F29: kWh | G29: ='WRZ BI (2027)'!H45 -> -8.7954757 | H29: ='WRZ BI (2027)'!I45 -> -0.29519972 | I29: ='WRZ BI (2028)'!H45 -> 3.1393494 | J29: ='WRZ BI (2028)'!I45 -> 0.14949622 | K29: ='WRZ BI (2029)'!H45 -> 0.83 | L29: ='WRZ BI (2029)'!I45 -> 0.034384371 | M29: ='WRZ BI (2030)'!H45 -> 1.065 | N29: ='WRZ BI (2030)'!I45 -> 0.042653105 | O29: ='WRZ BI (2031)'!H45 -> 1.96 | P29: ='WRZ BI (2031)'!I45 -> 0.075286529 | Q29: =AVERAGE(G29,I29,K29,M29,O29) -> -0.36022525 | R29: =GEOMEAN(1+H29,1+J29,1+L29,1+N29,1+P29)-1 -> -0.01239354
D30: ='WRZ BI (2027)'!D21 -> Sentinel | E30: 0.2 | F30: kW | G30: ='WRZ BI (2027)'!H46 -> 2.0396957 | H30: ='WRZ BI (2027)'!I46 -> 0.21129386 | I30: ='WRZ BI (2028)'!H46 -> 1.2025315 | J30: ='WRZ BI (2028)'!I46 -> 0.10284151 | K30: ='WRZ BI (2029)'!H46 -> 0.46038 | L30: ='WRZ BI (2029)'!I46 -> 0.035700584 | M30: ='WRZ BI (2030)'!H46 -> 0.58584 | N30: ='WRZ BI (2030)'!I46 -> 0.04386354 | O30: ='WRZ BI (2031)'!H46 -> 1.05346 | P30: ='WRZ BI (2031)'!I46 -> 0.075561223 | Q30: =AVERAGE(G30,I30,K30,M30,O30) -> 1.0683814 | R30: =GEOMEAN(1+H30,1+J30,1+L30,1+N30,1+P30)-1 -> 0.092081729
D31: ='WRZ BI (2027)'!D22 -> Street Light | E31: 863.33337 | F31: KW | G31: ='WRZ BI (2027)'!H47 -> -36449.439 | H31: ='WRZ BI (2027)'!I47 -> -0.68922634 | I31: ='WRZ BI (2028)'!H47 -> 4298.1077 | J31: ='WRZ BI (2028)'!I47 -> 0.26151953 | K31: ='WRZ BI (2029)'!H47 -> 664.70067 | L31: ='WRZ BI (2029)'!I47 -> 0.032059664 | M31: ='WRZ BI (2030)'!H47 -> 956.47434 | N31: ='WRZ BI (2030)'!I47 -> 0.044699367 | O31: ='WRZ BI (2031)'!H47 -> 1628.5997 | P31: ='WRZ BI (2031)'!I47 -> 0.072853607 | Q31: =AVERAGE(G31,I31,K31,M31,O31) -> -5780.3113 | R31: =GEOMEAN(1+H31,1+J31,1+L31,1+N31,1+P31)-1 -> -0.14628098
D32: ='WRZ BI (2027)'!D23 -> Residential (Low) | E32: 325 | F32: kWh | G32: ='WRZ BI (2027)'!H48 -> 6.9532736 | H32: ='WRZ BI (2027)'!I48 -> 0.17630004 | I32: ='WRZ BI (2028)'!H48 -> 4.2803209 | J32: ='WRZ BI (2028)'!I48 -> 0.09226167 | K32: ='WRZ BI (2029)'!H48 -> 1.78 | L32: ='WRZ BI (2029)'!I48 -> 0.035126776 | M32: ='WRZ BI (2030)'!H48 -> 2.27 | N32: ='WRZ BI (2030)'!I48 -> 0.043276348 | O32: ='WRZ BI (2031)'!H48 -> 4.13 | P32: ='WRZ BI (2031)'!I48 -> 0.075470189 | Q32: =AVERAGE(G32,I32,K32,M32,O32) -> 3.8827189 | R32: =GEOMEAN(1+H32,1+J32,1+L32,1+N32,1+P32)-1 -> 0.083346083
D33: ='WRZ BI (2027)'!D24 -> Residential (High) | E33: 1500 | F33: kWh | G33: ='WRZ BI (2027)'!H49 -> 6.9532736 | H33: ='WRZ BI (2027)'!I49 -> 0.17630004 | I33: ='WRZ BI (2028)'!H49 -> 4.2803209 | J33: ='WRZ BI (2028)'!I49 -> 0.09226167 | K33: ='WRZ BI (2029)'!H49 -> 1.78 | L33: ='WRZ BI (2029)'!I49 -> 0.035126776 | M33: ='WRZ BI (2030)'!H49 -> 2.27 | N33: ='WRZ BI (2030)'!I49 -> 0.043276348 | O33: ='WRZ BI (2031)'!H49 -> 4.13 | P33: ='WRZ BI (2031)'!I49 -> 0.075470189 | Q33: =AVERAGE(G33,I33,K33,M33,O33) -> 3.8827189 | R33: =GEOMEAN(1+H33,1+J33,1+L33,1+N33,1+P33)-1 -> 0.083346083
D34: ='WRZ BI (2027)'!D25 -> GS < 50 (Low) | E34: 1000 | F34: kWh | G34: ='WRZ BI (2027)'!H50 -> 0.82727984 | H34: ='WRZ BI (2027)'!I50 -> 0.014236445 | I34: ='WRZ BI (2028)'!H50 -> 4.1098798 | J34: ='WRZ BI (2028)'!I50 -> 0.069733109 | K34: ='WRZ BI (2029)'!H50 -> 1.7 | L34: ='WRZ BI (2029)'!I50 -> 0.026963943 | M34: ='WRZ BI (2030)'!H50 -> 2.1 | N34: ='WRZ BI (2030)'!I50 -> 0.032433855 | O34: ='WRZ BI (2031)'!H50 -> 3.9 | P34: ='WRZ BI (2031)'!I50 -> 0.058342045 | Q34: =AVERAGE(G34,I34,K34,M34,O34) -> 2.5274319 | R34: =GEOMEAN(1+H34,1+J34,1+L34,1+N34,1+P34)-1 -> 0.040139589
D35: ='WRZ BI (2027)'!D26 -> GS < 50 (High) | E35: 5000 | F35: kWh | G35: ='WRZ BI (2027)'!H51 -> 28.016399 | H35: ='WRZ BI (2027)'!I51 -> 0.17764504 | I35: ='WRZ BI (2028)'!H51 -> 20.549399 | J35: ='WRZ BI (2028)'!I51 -> 0.11064339 | K35: ='WRZ BI (2029)'!H51 -> 8.5 | L35: ='WRZ BI (2029)'!I51 -> 0.041206967 | M35: ='WRZ BI (2030)'!H51 -> 10.5 | N35: ='WRZ BI (2030)'!I51 -> 0.04888819 | O35: ='WRZ BI (2031)'!H51 -> 19.5 | P35: ='WRZ BI (2031)'!I51 -> 0.086560563 | Q35: =AVERAGE(G35,I35,K35,M35,O35) -> 17.41316 | R35: =GEOMEAN(1+H35,1+J35,1+L35,1+N35,1+P35)-1 -> 0.091897442
B40: Total Bill Impacts
D42: Rate Class | E42: Volume | F42: kWh / kW | G42: 2027 | I42: 2028 | K42: 2029 | M42: 2030 | O42: 2031 | Q42: Average
G43: $ | H43: % | I43: $ | J43: % | K43: $ | L43: % | M43: $ | N43: % | O43: $ | P43: % | Q43: $ | R43: %
D44: ='VRZ BI (2027)'!D16 -> Residential | E44: 750 | F44: kWh | G44: ='VRZ BI (2027)'!N41 -> 11.927687 | H44: ='VRZ BI (2027)'!O41 -> 0.084194017 | I44: ='VRZ BI (2028)'!N41 -> 3.4519272 | J44: ='VRZ BI (2028)'!O41 -> 0.022473962 | K44: ='VRZ BI (2029)'!N41 -> 2.6189181 | L44: ='VRZ BI (2029)'!O41 -> 0.016675838 | M44: ='VRZ BI (2030)'!N41 -> 3.0596199 | N44: ='VRZ BI (2030)'!O41 -> 0.019221349 | O44: ='VRZ BI (2031)'!N41 -> 4.72657 | P44: ='VRZ BI (2031)'!O41 -> 0.029133587 | Q44: =AVERAGE(G44,I44,K44,M44,O44) -> 5.1569443 | R44: =GEOMEAN(1+H44,1+J44,1+L44,1+N44,1+P44)-1 -> 0.034037779
D45: ='VRZ BI (2027)'!D17 -> Seasonal Residential | E45: 680 | F45: kWh | G45: ='VRZ BI (2027)'!N42 -> 14.807949 | H45: ='VRZ BI (2027)'!O42 -> 0.092120308 | I45: ='VRZ BI (2028)'!N42 -> 6.3023958 | J45: ='VRZ BI (2028)'!O42 -> 0.035900101 | K45: ='VRZ BI (2029)'!N42 -> 3.7946947 | L45: ='VRZ BI (2029)'!O42 -> 0.020866469 | M45: ='VRZ BI (2030)'!N42 -> 4.5309494 | N45: ='VRZ BI (2030)'!O42 -> 0.024464232 | O45: ='VRZ BI (2031)'!N42 -> 7.4511118 | P45: ='VRZ BI (2031)'!O42 -> 0.03927052 | Q45: =AVERAGE(G45,I45,K45,M45,O45) -> 7.3774201 | R45: =GEOMEAN(1+H45,1+J45,1+L45,1+N45,1+P45)-1 -> 0.042213132
D46: ='VRZ BI (2027)'!D18 -> GS <50 | E46: 2000 | F46: kWh | G46: ='VRZ BI (2027)'!N43 -> 21.925225 | H46: ='VRZ BI (2027)'!O43 -> 0.062412755 | I46: ='VRZ BI (2028)'!N43 -> 8.5377895 | J46: ='VRZ BI (2028)'!O43 -> 0.022876072 | K46: ='VRZ BI (2029)'!N43 -> 5.3972504 | L46: ='VRZ BI (2029)'!O43 -> 0.014137921 | M46: ='VRZ BI (2030)'!N43 -> 6.118604 | N46: ='VRZ BI (2030)'!O43 -> 0.015857499 | O46: ='VRZ BI (2031)'!N43 -> 9.5326308 | P46: ='VRZ BI (2031)'!O43 -> 0.02431993 | Q46: =AVERAGE(G46,I46,K46,M46,O46) -> 10.3023 | R46: =GEOMEAN(1+H46,1+J46,1+L46,1+N46,1+P46)-1 -> 0.027770969
D47: ='VRZ BI (2027)'!D19 -> GS 50 - 2,999 kW | E47: 175 | F47: kW | G47: ='VRZ BI (2027)'!N44 -> -404.85672 | H47: ='VRZ BI (2027)'!O44 -> -0.028230136 | I47: ='VRZ BI (2028)'!N44 -> 211.75957 | J47: ='VRZ BI (2028)'!O44 -> 0.015194669 | K47: ='VRZ BI (2029)'!N44 -> 167.00705 | L47: ='VRZ BI (2029)'!O44 -> 0.011804122 | M47: ='VRZ BI (2030)'!N44 -> 183.49035 | N47: ='VRZ BI (2030)'!O44 -> 0.012873428 | O47: ='VRZ BI (2031)'!N44 -> 243.52954 | P47: ='VRZ BI (2031)'!O44 -> 0.016868538 | Q47: =AVERAGE(G47,I47,K47,M47,O47) -> 80.18596 | R47: =GEOMEAN(1+H47,1+J47,1+L47,1+N47,1+P47)-1 -> 0.005555018
D48: ='VRZ BI (2027)'!D20 -> GS 3,000 - 4,999 kW | E48: 4000 | F48: KW | G48: ='VRZ BI (2027)'!N45 -> -22031.355 | H48: ='VRZ BI (2027)'!O45 -> -0.059763192 | I48: ='VRZ BI (2028)'!N45 -> 3547.7471 | J48: ='VRZ BI (2028)'!O45 -> 0.010235474 | K48: ='VRZ BI (2029)'!N45 -> 3283.2604 | L48: ='VRZ BI (2029)'!O45 -> 0.0093764411 | M48: ='VRZ BI (2030)'!N45 -> 3583.3466 | N48: ='VRZ BI (2030)'!O45 -> 0.010185382 | O48: ='VRZ BI (2031)'!N45 -> 4639.3608 | P48: ='VRZ BI (2031)'!O45 -> 0.01305406 | Q48: =AVERAGE(G48,I48,K48,M48,O48) -> -1395.5281 | R48: =GEOMEAN(1+H48,1+J48,1+L48,1+N48,1+P48)-1 -> -0.0037935582
C49: Veridian | D49: ='VRZ BI (2027)'!D21 -> Large Use >5MW | E49: 9400 | F49: KW | G49: ='VRZ BI (2027)'!N46 -> 34304.922 | H49: ='VRZ BI (2027)'!O46 -> 0.037032665 | I49: ='VRZ BI (2028)'!N46 -> 10663.354 | J49: ='VRZ BI (2028)'!O46 -> 0.011100178 | K49: ='VRZ BI (2029)'!N46 -> 9325.1102 | L49: ='VRZ BI (2029)'!O46 -> 0.0096005447 | M49: ='VRZ BI (2030)'!N46 -> 10120.446 | N49: ='VRZ BI (2030)'!O46 -> 0.010367854 | O49: ='VRZ BI (2031)'!N46 -> 13000.486 | P49: ='VRZ BI (2031)'!O46 -> 0.013181635 | Q49: =AVERAGE(G49,I49,K49,M49,O49) -> 15482.864 | R49: =GEOMEAN(1+H49,1+J49,1+L49,1+N49,1+P49)-1 -> 0.016203311
C50: Rate Zone | D50: ='VRZ BI (2027)'!D22 -> Unmetered Scattered Load | E50: 450 | F50: kWh | G50: ='VRZ BI (2027)'!N47 -> 2.7533906 | H50: ='VRZ BI (2027)'!O47 -> 0.033166693 | I50: ='VRZ BI (2028)'!N47 -> 1.9647148 | J50: ='VRZ BI (2028)'!O47 -> 0.022906749 | K50: ='VRZ BI (2029)'!N47 -> 1.2728625 | L50: ='VRZ BI (2029)'!O47 -> 0.014508062 | M50: ='VRZ BI (2030)'!N47 -> 1.4844061 | N50: ='VRZ BI (2030)'!O47 -> 0.016732474 | O50: ='VRZ BI (2031)'!N47 -> 2.3705982 | P50: ='VRZ BI (2031)'!O47 -> 0.026282017 | Q50: =AVERAGE(G50,I50,K50,M50,O50) -> 1.9691944 | R50: =GEOMEAN(1+H50,1+J50,1+L50,1+N50,1+P50)-1 -> 0.022697211
D51: ='VRZ BI (2027)'!D23 -> Sentinel | E51: 0.2 | F51: KW | G51: ='VRZ BI (2027)'!N48 -> 1.7407078 | H51: ='VRZ BI (2027)'!O48 -> 0.097128623 | I51: ='VRZ BI (2028)'!N48 -> 0.81936309 | J51: ='VRZ BI (2028)'!O48 -> 0.041671603 | K51: ='VRZ BI (2029)'!N48 -> 0.47939243 | L51: ='VRZ BI (2029)'!O48 -> 0.023405836 | M51: ='VRZ BI (2030)'!N48 -> 0.59318576 | N51: ='VRZ BI (2030)'!O48 -> 0.028352263 | O51: ='VRZ BI (2031)'!N48 -> 1.015009 | P51: ='VRZ BI (2031)'!O48 -> 0.04717642 | Q51: =AVERAGE(G51,I51,K51,M51,O51) -> 0.92953161 | R51: =GEOMEAN(1+H51,1+J51,1+L51,1+N51,1+P51)-1 -> 0.047224043
D52: ='VRZ BI (2027)'!D24 -> Street Light | E52: 910.35058 | F52: KW | G52: ='VRZ BI (2027)'!N49 -> -4265.5534 | H52: ='VRZ BI (2027)'!O49 -> -0.052031559 | I52: ='VRZ BI (2028)'!N49 -> 2127.1235 | J52: ='VRZ BI (2028)'!O49 -> 0.027370976 | K52: ='VRZ BI (2029)'!N49 -> 1096.399 | L52: ='VRZ BI (2029)'!O49 -> 0.013732162 | M52: ='VRZ BI (2030)'!N49 -> 1401.6981 | N52: ='VRZ BI (2030)'!O49 -> 0.017378459 | O52: ='VRZ BI (2031)'!N49 -> 2119.5652 | P52: ='VRZ BI (2031)'!O49 -> 0.0258298 | Q52: =AVERAGE(G52,I52,K52,M52,O52) -> 495.84648 | R52: =GEOMEAN(1+H52,1+J52,1+L52,1+N52,1+P52)-1 -> 0.006005718
D53: ='VRZ BI (2027)'!D25 -> Residential (Low) | E53: 325 | F53: kWh | G53: ='VRZ BI (2027)'!N50 -> 10.762492 | H53: ='VRZ BI (2027)'!O50 -> 0.13355257 | I53: ='VRZ BI (2028)'!N50 -> 2.8717963 | J53: ='VRZ BI (2028)'!O50 -> 0.031437745 | K53: ='VRZ BI (2029)'!N50 -> 2.0376212 | L53: ='VRZ BI (2029)'!O50 -> 0.021626099 | M53: ='VRZ BI (2030)'!N50 -> 2.4771036 | N53: ='VRZ BI (2030)'!O50 -> 0.025790797 | O53: ='VRZ BI (2031)'!N50 -> 4.1427786 | P53: ='VRZ BI (2031)'!O50 -> 0.042048792 | Q53: =AVERAGE(G53,I53,K53,M53,O53) -> 4.4583583 | R53: =GEOMEAN(1+H53,1+J53,1+L53,1+N53,1+P53)-1 -> 0.050085602
D54: ='VRZ BI (2027)'!D26 -> Residential (High) | E54: 1500 | F54: kWh | G54: ='VRZ BI (2027)'!N51 -> 13.983913 | H54: ='VRZ BI (2027)'!O51 -> 0.056056205 | I54: ='VRZ BI (2028)'!N51 -> 4.4756877 | J54: ='VRZ BI (2028)'!O51 -> 0.016988997 | K54: ='VRZ BI (2029)'!N51 -> 3.6447363 | L54: ='VRZ BI (2029)'!O51 -> 0.013603724 | M54: ='VRZ BI (2030)'!N51 -> 4.0875897 | N54: ='VRZ BI (2030)'!O51 -> 0.015106326 | O54: ='VRZ BI (2031)'!N51 -> 5.7567899 | P54: ='VRZ BI (2031)'!O51 -> 0.02095851 | Q54: =AVERAGE(G54,I54,K54,M54,O54) -> 6.3897433 | R54: =GEOMEAN(1+H54,1+J54,1+L54,1+N54,1+P54)-1 -> 0.02442041
D55: ='VRZ BI (2027)'!D27 -> Seasonal Residential (Low) | E55: 350 | F55: kWh | G55: ='VRZ BI (2027)'!N52 -> 14.182072 | H55: ='VRZ BI (2027)'!O52 -> 0.12628491 | I55: ='VRZ BI (2028)'!N52 -> 5.8170809 | J55: ='VRZ BI (2028)'!O52 -> 0.04599055 | K55: ='VRZ BI (2029)'!N52 -> 3.308287 | L55: ='VRZ BI (2029)'!O52 -> 0.025005694 | M55: ='VRZ BI (2030)'!N52 -> 4.043399 | N55: ='VRZ BI (2030)'!O52 -> 0.029866756 | O55: ='VRZ BI (2031)'!N52 -> 6.9623664 | P55: ='VRZ BI (2031)'!O52 -> 0.049936407 | Q55: =AVERAGE(G55,I55,K55,M55,O55) -> 6.862641 | R55: =GEOMEAN(1+H55,1+J55,1+L55,1+N55,1+P55)-1 -> 0.054797927
D56: ='VRZ BI (2027)'!D28 -> Seasonal Residential (High) | E56: 1500 | F56: kWh | G56: ='VRZ BI (2027)'!N53 -> 16.363159 | H56: ='VRZ BI (2027)'!O53 -> 0.058206884 | I56: ='VRZ BI (2028)'!N53 -> 7.5083299 | J56: ='VRZ BI (2028)'!O53 -> 0.025239454 | K56: ='VRZ BI (2029)'!N53 -> 5.0033442 | L56: ='VRZ BI (2029)'!O53 -> 0.016404828 | M56: ='VRZ BI (2030)'!N53 -> 5.7424384 | N56: ='VRZ BI (2030)'!O53 -> 0.018582935 | O56: ='VRZ BI (2031)'!N53 -> 8.6655701 | P56: ='VRZ BI (2031)'!O53 -> 0.027530791 | Q56: =AVERAGE(G56,I56,K56,M56,O56) -> 8.6565684 | R56: =GEOMEAN(1+H56,1+J56,1+L56,1+N56,1+P56)-1 -> 0.029083869
D57: ='VRZ BI (2027)'!D29 -> GS < 50 (Low) | E57: 1000 | F57: kWh | G57: ='VRZ BI (2027)'!N54 -> 12.766038 | H57: ='VRZ BI (2027)'!O54 -> 0.068511845 | I57: ='VRZ BI (2028)'!N54 -> 4.2688947 | J57: ='VRZ BI (2028)'!O54 -> 0.02144103 | K57: ='VRZ BI (2029)'!N54 -> 2.6986252 | L57: ='VRZ BI (2029)'!O54 -> 0.01326965 | M57: ='VRZ BI (2030)'!N54 -> 3.059302 | N57: ='VRZ BI (2030)'!O54 -> 0.014893322 | O57: ='VRZ BI (2031)'!N54 -> 4.7663154 | P57: ='VRZ BI (2031)'!O54 -> 0.022862915 | Q57: =AVERAGE(G57,I57,K57,M57,O57) -> 5.511835 | R57: =GEOMEAN(1+H57,1+J57,1+L57,1+N57,1+P57)-1 -> 0.027995232
D58: ='VRZ BI (2027)'!D30 -> GS < 50 (High) | E58: 5000 | F58: kWh | G58: ='VRZ BI (2027)'!N55 -> 49.402788 | H58: ='VRZ BI (2027)'!O55 -> 0.05838358 | I58: ='VRZ BI (2028)'!N55 -> 21.344474 | J58: ='VRZ BI (2028)'!O55 -> 0.023833159 | K58: ='VRZ BI (2029)'!N55 -> 13.493126 | L58: ='VRZ BI (2029)'!O55 -> 0.014715654 | M58: ='VRZ BI (2030)'!N55 -> 15.29651 | N58: ='VRZ BI (2030)'!O55 -> 0.016498349 | O58: ='VRZ BI (2031)'!N55 -> 23.831577 | P58: ='VRZ BI (2031)'!O55 -> 0.025286822 | Q58: =AVERAGE(G58,I58,K58,M58,O58) -> 24.673695 | R58: =GEOMEAN(1+H58,1+J58,1+L58,1+N58,1+P58)-1 -> 0.027622819
D60: Rate Class | E60: Volume | F60: kWh / kW | G60: 2027 | I60: 2028 | K60: 2029 | M60: 2030 | O60: 2031 | Q60: Average
G61: $ | H61: % | I61: $ | J61: % | K61: $ | L61: % | M61: $ | N61: % | O61: $ | P61: % | Q61: $ | R61: %
D62: ='WRZ BI (2027)'!D16 -> Residential | E62: 750 | F62: kWh | G62: ='WRZ BI (2027)'!N41 -> 5.6649942 | H62: ='WRZ BI (2027)'!O41 -> 0.038805898 | I62: ='WRZ BI (2028)'!N41 -> 5.1320977 | J62: ='WRZ BI (2028)'!O41 -> 0.033842214 | K62: ='WRZ BI (2029)'!N41 -> 2.6189181 | L62: ='WRZ BI (2029)'!O41 -> 0.016756729 | M62: ='WRZ BI (2030)'!N41 -> 3.0596199 | N62: ='WRZ BI (2030)'!O41 -> 0.019253857 | O62: ='WRZ BI (2031)'!N41 -> 4.72657 | P62: ='WRZ BI (2031)'!O41 -> 0.029181929 | Q62: =AVERAGE(G62,I62,K62,M62,O62) -> 4.24044 | R62: =GEOMEAN(1+H62,1+J62,1+L62,1+N62,1+P62)-1 -> 0.027533637
D63: ='WRZ BI (2027)'!D17 -> GS <50 | E63: 2000 | F63: kWh | G63: ='WRZ BI (2027)'!N42 -> 5.201531 | H63: ='WRZ BI (2027)'!O42 -> 0.014239276 | I63: ='WRZ BI (2028)'!N42 -> 10.608244 | J63: ='WRZ BI (2028)'!O42 -> 0.028632535 | K63: ='WRZ BI (2029)'!N42 -> 5.3972504 | L63: ='WRZ BI (2029)'!O42 -> 0.014210792 | M63: ='WRZ BI (2030)'!N42 -> 6.118604 | N63: ='WRZ BI (2030)'!O42 -> 0.015884365 | O63: ='WRZ BI (2031)'!N42 -> 9.5326308 | P63: ='WRZ BI (2031)'!O42 -> 0.024360489 | Q63: =AVERAGE(G63,I63,K63,M63,O63) -> 7.3716521 | R63: =GEOMEAN(1+H63,1+J63,1+L63,1+N63,1+P63)-1 -> 0.019448288
D64: ='WRZ BI (2027)'!D18 -> GS 50 - 2,999 kW | E64: 175 | F64: kW | G64: ='WRZ BI (2027)'!N43 -> 304.39844 | H64: ='WRZ BI (2027)'!O43 -> 0.022419799 | I64: ='WRZ BI (2028)'!N43 -> 246.14816 | J64: ='WRZ BI (2028)'!O43 -> 0.017731955 | K64: ='WRZ BI (2029)'!N43 -> 167.00705 | L64: ='WRZ BI (2029)'!O43 -> 0.011873123 | M64: ='WRZ BI (2030)'!N43 -> 183.49035 | N64: ='WRZ BI (2030)'!O43 -> 0.012891912 | O64: ='WRZ BI (2031)'!N43 -> 243.52954 | P64: ='WRZ BI (2031)'!O43 -> 0.01689245 | Q64: =AVERAGE(G64,I64,K64,M64,O64) -> 228.91471 | R64: =GEOMEAN(1+H64,1+J64,1+L64,1+N64,1+P64)-1 -> 0.016354863
C65: Whitby | D65: ='WRZ BI (2027)'!D19 -> GS 3,000 - 4,999 kW | E65: 4000 | F65: KW | G65: ='WRZ BI (2027)'!N44 -> 4139.9162 | H65: ='WRZ BI (2027)'!O44 -> 0.012125792 | I65: ='WRZ BI (2028)'!N44 -> 4303.9429 | J65: ='WRZ BI (2028)'!O44 -> 0.012455196 | K65: ='WRZ BI (2029)'!N44 -> 3283.2604 | L65: ='WRZ BI (2029)'!O44 -> 0.0094285128 | M65: ='WRZ BI (2030)'!N44 -> 3583.3466 | N65: ='WRZ BI (2030)'!O44 -> 0.010194152 | O65: ='WRZ BI (2031)'!N44 -> 4639.3608 | P65: ='WRZ BI (2031)'!O44 -> 0.013065186 | Q65: =AVERAGE(G65,I65,K65,M65,O65) -> 3989.9654 | R65: =GEOMEAN(1+H65,1+J65,1+L65,1+N65,1+P65)-1 -> 0.011452805
C66: Rate Zone | D66: ='WRZ BI (2027)'!D20 -> Unmetered Scattered Load | E66: 450 | F66: kWh | G66: ='WRZ BI (2027)'!N45 -> -8.2051795 | H66: ='WRZ BI (2027)'!O45 -> -0.089080534 | I66: ='WRZ BI (2028)'!N45 -> 3.6624364 | J66: ='WRZ BI (2028)'!O45 -> 0.043650059 | K66: ='WRZ BI (2029)'!N45 -> 1.2728625 | L66: ='WRZ BI (2029)'!O45 -> 0.014584785 | M66: ='WRZ BI (2030)'!N45 -> 1.4844061 | N66: ='WRZ BI (2030)'!O45 -> 0.016764203 | O66: ='WRZ BI (2031)'!N45 -> 2.3705982 | P66: ='WRZ BI (2031)'!O45 -> 0.026331033 | Q66: =AVERAGE(G66,I66,K66,M66,O66) -> 0.11702474 | R66: =GEOMEAN(1+H66,1+J66,1+L66,1+N66,1+P66)-1 -> 0.0013045457
D67: ='WRZ BI (2027)'!D21 -> Sentinel | E67: 0.2 | F67: kW | G67: ='WRZ BI (2027)'!N46 -> 1.7433478 | H67: ='WRZ BI (2027)'!O46 -> 0.1000309 | I67: ='WRZ BI (2028)'!N46 -> 1.2588795 | J67: ='WRZ BI (2028)'!O46 -> 0.065664316 | K67: ='WRZ BI (2029)'!N46 -> 0.47939243 | L67: ='WRZ BI (2029)'!O46 -> 0.023509806 | M67: ='WRZ BI (2030)'!N46 -> 0.59318576 | N67: ='WRZ BI (2030)'!O46 -> 0.028422127 | O67: ='WRZ BI (2031)'!N46 -> 1.015009 | P67: ='WRZ BI (2031)'!O46 -> 0.047289457 | Q67: =AVERAGE(G67,I67,K67,M67,O67) -> 1.0179629 | R67: =GEOMEAN(1+H67,1+J67,1+L67,1+N67,1+P67)-1 -> 0.052618727
D68: ='WRZ BI (2027)'!D22 -> Street Light | E68: 863.33337 | F68: KW | G68: ='WRZ BI (2027)'!N47 -> -41247.909 | H68: ='WRZ BI (2027)'!O47 -> -0.35920594 | I68: ='WRZ BI (2028)'!N47 -> 5882.9136 | J68: ='WRZ BI (2028)'!O47 -> 0.079949467 | K68: ='WRZ BI (2029)'!N47 -> 1137.4115 | L68: ='WRZ BI (2029)'!O47 -> 0.014361768 | M68: ='WRZ BI (2030)'!N47 -> 1475.7621 | N68: ='WRZ BI (2030)'!O47 -> 0.018370194 | O68: ='WRZ BI (2031)'!N47 -> 2254.192 | P68: ='WRZ BI (2031)'!O47 -> 0.027553871 | Q68: =AVERAGE(G68,I68,K68,M68,O68) -> -6099.5259 | R68: =GEOMEAN(1+H68,1+J68,1+L68,1+N68,1+P68)-1 -> -0.059832981
D69: ='WRZ BI (2027)'!D23 -> Residential (Low) | E69: 325 | F69: kWh | G69: ='WRZ BI (2027)'!N48 -> 5.9552906 | H69: ='WRZ BI (2027)'!O48 -> 0.071368321 | I69: ='WRZ BI (2028)'!N48 -> 4.5519667 | J69: ='WRZ BI (2028)'!O48 -> 0.050917 | K69: ='WRZ BI (2029)'!N48 -> 2.0376212 | L69: ='WRZ BI (2029)'!O48 -> 0.021737026 | M69: ='WRZ BI (2030)'!N48 -> 2.4771036 | N69: ='WRZ BI (2030)'!O48 -> 0.025863168 | O69: ='WRZ BI (2031)'!N48 -> 4.1427786 | P69: ='WRZ BI (2031)'!O48 -> 0.042163809 | Q69: =AVERAGE(G69,I69,K69,M69,O69) -> 3.8329522 | R69: =GEOMEAN(1+H69,1+J69,1+L69,1+N69,1+P69)-1 -> 0.042255883
D70: ='WRZ BI (2027)'!D24 -> Residential (High) | E70: 1500 | F70: kWh | G70: ='WRZ BI (2027)'!N49 -> 5.1527065 | H70: ='WRZ BI (2027)'!O49 -> 0.0201007 | I70: ='WRZ BI (2028)'!N49 -> 6.1558582 | J70: ='WRZ BI (2028)'!O49 -> 0.023540806 | K70: ='WRZ BI (2029)'!N49 -> 3.6447363 | L70: ='WRZ BI (2029)'!O49 -> 0.013667362 | M70: ='WRZ BI (2030)'!N49 -> 4.0875897 | N70: ='WRZ BI (2030)'!O49 -> 0.015121345 | O70: ='WRZ BI (2031)'!N49 -> 5.7567899 | P70: ='WRZ BI (2031)'!O49 -> 0.020979037 | Q70: =AVERAGE(G70,I70,K70,M70,O70) -> 4.9595361 | R70: =GEOMEAN(1+H70,1+J70,1+L70,1+N70,1+P70)-1 -> 0.018675101
D71: ='WRZ BI (2027)'!D25 -> GS < 50 (Low) | E71: 1000 | F71: kWh | G71: ='WRZ BI (2027)'!N50 -> -0.070809494 | H71: ='WRZ BI (2027)'!O50 -> -0.00035796972 | I71: ='WRZ BI (2028)'!N50 -> 5.3041221 | J71: ='WRZ BI (2028)'!O50 -> 0.026824017 | K71: ='WRZ BI (2029)'!N50 -> 2.6986252 | L71: ='WRZ BI (2029)'!O50 -> 0.013333825 | M71: ='WRZ BI (2030)'!N50 -> 3.059302 | N71: ='WRZ BI (2030)'!O50 -> 0.014917017 | O71: ='WRZ BI (2031)'!N50 -> 4.7663154 | P71: ='WRZ BI (2031)'!O50 -> 0.022898756 | Q71: =AVERAGE(G71,I71,K71,M71,O71) -> 3.151511 | R71: =GEOMEAN(1+H71,1+J71,1+L71,1+N71,1+P71)-1 -> 0.015479709
D72: ='WRZ BI (2027)'!D26 -> GS < 50 (High) | E72: 5000 | F72: kWh | G72: ='WRZ BI (2027)'!N51 -> 21.018553 | H72: ='WRZ BI (2027)'!O51 -> 0.024221824 | I72: ='WRZ BI (2028)'!N51 -> 26.52061 | J72: ='WRZ BI (2028)'!O51 -> 0.029839637 | K72: ='WRZ BI (2029)'!N51 -> 13.493126 | L72: ='WRZ BI (2029)'!O51 -> 0.014794619 | M72: ='WRZ BI (2030)'!N51 -> 15.29651 | N72: ='WRZ BI (2030)'!O51 -> 0.016527433 | O72: ='WRZ BI (2031)'!N51 -> 23.831577 | P72: ='WRZ BI (2031)'!O51 -> 0.025330673 | Q72: =AVERAGE(G72,I72,K72,M72,O72) -> 20.032075 | R72: =GEOMEAN(1+H72,1+J72,1+L72,1+N72,1+P72)-1 -> 0.022127252

Sheet WRZ BI (2027)
D14: Table 1
D15: RATE CLASSES / CATEGORIES (eg: Residential TOU, Residential Retailer) | G15: Units | H15: RPP? Non-RPP Retailer? Non-RPP Other? | I15: Current Loss Factor (eg: 1.0351) | J15: Proposed Loss Factor | K15: Consumption (kWh) | L15: Demand kW (if applicable) | M15: RTSR Demand or Demand-Interval? | N15: Billing Determinant Applied to Fixed Charge for Unmetered Classes (e.g. # of devices/connections).
B16: 1 | C16: 1 | D16: Residential | G16: kWh | H16: RPP | I16: 1.0454 | J16: 1.0415 | K16: 750 | M16: CONSUMPTION
B17: 2 | C17: 2 | D17: GS <50 | G17: kWh | H17: RPP | I17: 1.0454 | J17: 1.0415 | K17: 2000 | M17: CONSUMPTION
B18: 3 | C18: 3 | D18: GS 50 - 2,999 kW | G18: kW | H18: Non-RPP (Other) | I18: 1.0454 | J18: 1.0415 | K18: 75000 | L18: 175 | M18: DEMAND
B19: 4 | D19: GS 3,000 - 4,999 kW | G19: kW | H19: Non-RPP (Other) | I19: 1.0349 | J19: 1.0311 | K19: 2000000 | L19: 4000 | M19: DEMAND
B20: 5 | C20: 4 | D20: Unmetered Scattered Load | G20: kWh | H20: RPP | I20: 1.0454 | J20: 1.0415 | K20: 450 | M20: CONSUMPTION | N20: 1
B21: 6 | C21: 5 | D21: Sentinel | G21: kW | H21: RPP | I21: 1.0454 | J21: 1.0415 | K21: 60 | L21: 0.2 | M21: DEMAND | N21: 1
B22: 7 | C22: 6 | D22: Street Light | G22: kW | H22: Non-RPP (Other) | I22: 1.0454 | J22: 1.0415 | K22: 326077.5 | L22: 863.33337 | M22: DEMAND | N22: 14512.2
B23: 8 | C23: =IF(ISERROR(VLOOKUP(D23, D16:N35, 42, FALSE)),"", VLOOKUP(D23, D16:N35, 42, FALSE)) | D23: Residential (Low) | G23: kWh | H23: RPP | I23: 1.0454 | J23: =J22 -> 1.0415 | K23: 325 | M23: CONSUMPTION
B24: 9 | C24: =IF(ISERROR(VLOOKUP(D24, D16:N35, 42, FALSE)),"", VLOOKUP(D24, D16:N35, 42, FALSE)) | D24: Residential (High) | G24: kWh | H24: RPP | I24: 1.0454 | J24: =J23 -> 1.0415 | K24: 1500 | M24: CONSUMPTION
B25: 10 | C25: =IF(ISERROR(VLOOKUP(D25, D16:N35, 42, FALSE)),"", VLOOKUP(D25, D16:N35, 42, FALSE)) | D25: GS < 50 (Low) | G25: kWh | H25: RPP | I25: 1.0454 | J25: =J24 -> 1.0415 | K25: 1000 | M25: CONSUMPTION
B26: 11 | C26: =IF(ISERROR(VLOOKUP(D26, D16:N35, 42, FALSE)),"", VLOOKUP(D26, D16:N35, 42, FALSE)) | D26: GS < 50 (High) | G26: kWh | H26: RPP | I26: 1.0454 | J26: =J25 -> 1.0415 | K26: 5000 | M26: CONSUMPTION
B27: 12 | C27: =IF(ISERROR(VLOOKUP(D27, D16:N35, 42, FALSE)),"", VLOOKUP(D27, D16:N35, 42, FALSE)) | D27: Add additional scenarios if required | I27: 1.0454 | J27: =J26 -> 1.0415
B28: 13 | C28: =IF(ISERROR(VLOOKUP(D28, D16:N35, 42, FALSE)),"", VLOOKUP(D28, D16:N35, 42, FALSE)) | D28: Add additional scenarios if required | I28: 1.0454 | J28: =J27 -> 1.0415
B29: 14 | C29: =IF(ISERROR(VLOOKUP(D29, D16:N35, 42, FALSE)),"", VLOOKUP(D29, D16:N35, 42, FALSE)) | D29: Add additional scenarios if required | I29: 1.0454 | J29: =J28 -> 1.0415
B30: 15 | C30: =IF(ISERROR(VLOOKUP(D30, D16:N35, 42, FALSE)),"", VLOOKUP(D30, D16:N35, 42, FALSE)) | D30: Add additional scenarios if required | I30: 1.0454 | J30: =J29 -> 1.0415
B31: 16 | C31: =IF(ISERROR(VLOOKUP(D31, D16:N35, 42, FALSE)),"", VLOOKUP(D31, D16:N35, 42, FALSE)) | D31: Add additional scenarios if required | I31: 1.0454 | J31: =J30 -> 1.0415
B32: 17 | C32: =IF(ISERROR(VLOOKUP(D32, D16:N35, 42, FALSE)),"", VLOOKUP(D32, D16:N35, 42, FALSE)) | D32: Add additional scenarios if required | I32: 1.0454 | J32: =J31 -> 1.0415
B33: 18 | C33: =IF(ISERROR(VLOOKUP(D33, D16:N35, 42, FALSE)),"", VLOOKUP(D33, D16:N35, 42, FALSE)) | D33: Add additional scenarios if required | I33: 1.0454 | J33: =J32 -> 1.0415
B34: 19 | C34: =IF(ISERROR(VLOOKUP(D34, D16:N35, 42, FALSE)),"", VLOOKUP(D34, D16:N35, 42, FALSE)) | D34: Add additional scenarios if required | I34: 1.0454 | J34: =J33 -> 1.0415
B35: 20 | C35: =IF(ISERROR(VLOOKUP(D35, D16:N35, 42, FALSE)),"", VLOOKUP(D35, D16:N35, 42, FALSE)) | D35: Add additional scenarios if required | I35: 1.0454 | J35: =J34 -> 1.0415
D37: Table 2
D38: RATE CLASSES / CATEGORIES (eg: Residential TOU, Residential Retailer) | G38: Units | H38: Sub-Total | N38: Total
H39: A | J39: B | L39: C | N39: Total Bill
H40: $ | I40: % | J40: $ | K40: % | L40: $ | M40: % | N40: $ | O40: %
B41: =H16 -> RPP | C41: 1 | D41: =IF(ISBLANK(D16), "", IF(D16 = "Add additional scenarios if required", "", IF(M16="YES", D16 & " - " & H16 & " - Interval Customers", D16 & " - " &H16))) -> Residential - RPP | G41: =IF(ISBLANK(G16), "", G16) -> kWh | H41: {=IF(LEN($G41)>1, (SUMPRODUCT(--($C$64:$C$2042=$B16), --($A$64:$A$2042=$D16), --($B$64:$B$2042="ST_A"), $L$64:$L$2042)), "")} -> 6.9532736 | I41: =IF(LEN($G41)>1, (SUMPRODUCT(--($C$64:$C$2042=$B16), --($A$64:$A$2042=$D16), --($B$64:$B$2042="ST_A"), $M$64:$M$2042)), "") -> 0.17630004 | J41: =IF(LEN($G41)>1, (SUMPRODUCT(--($C$64:$C$2042=$B16), --($A$64:$A$2042=$D16), --($B$64:$B$2042="ST_B"), $L$64:$L$2042)), "") -> 6.8041125 | K41: =IF(LEN($G41)>1, (SUMPRODUCT(--($C$64:$C$2042=$B16), --($A$64:$A$2042=$D16), --($B$64:$B$2042="ST_B"), $M$64:$M$2042)), "") -> 0.15215922 | L41: =IF(LEN($G41)>1, (SUMPRODUCT(--($C$64:$C$2042=$B16), --($A$64:$A$2042=$D16), --($B$64:$B$2042="ST_C"), $L$64:$L$2042)), "") -> 6.3471525 | M41: =IF(LEN($G41)>1, (SUMPRODUCT(--($C$64:$C$2042=$B16), --($A$64:$A$2042=$D16), --($B$64:$B$2042="ST_C"), $M$64:$M$2042)), "") -> 0.10153009 | N41: {=IF(LEN($G41)>1, (SUMPRODUCT(--($C$64:$C$2042=$B16), --($A$64:$A$2042=$D16), --($B$64:$B$2042=$B41&"_TOTAL"), $L$64:$L$2042)), "")} -> 5.6649942 | O41: {=IF(LEN($G41)>1, (SUMPRODUCT(--($C$64:$C$2042=$B16), --($A$64:$A$2042=$D16), --($B$64:$B$2042=$B41&"_TOTAL"), $M$64:$M$2042)), "")} -> 0.038805898
B42: =H17 -> RPP | C42: 2 | D42: =IF(ISBLANK(D17), "", IF(D17 = "Add additional scenarios if required", "", IF(M17="YES", D17 & " - " & H17 & " - Interval Customers", D17 & " - " &H17))) -> GS <50 - RPP | G42: =IF(ISBLANK(G17), "", G17) -> kWh | H42: =IF(LEN($G42)>1, (SUMPRODUCT(--($C$64:$C$2042=$B17), --($A$64:$A$2042=$D17), --($B$64:$B$2042="ST_A"), $L$64:$L$2042)), "") -> 7.6245597 | I42: =IF(LEN($G42)>1, (SUMPRODUCT(--($C$64:$C$2042=$B17), --($A$64:$A$2042=$D17), --($B$64:$B$2042="ST_A"), $M$64:$M$2042)), "") -> 0.091851098 | J42: =IF(LEN($G42)>1, (SUMPRODUCT(--($C$64:$C$2042=$B17), --($A$64:$A$2042=$D17), --($B$64:$B$2042="ST_B"), $L$64:$L$2042)), "") -> 7.0638665 | K42: =IF(LEN($G42)>1, (SUMPRODUCT(--($C$64:$C$2042=$B17), --($A$64:$A$2042=$D17), --($B$64:$B$2042="ST_B"), $M$64:$M$2042)), "") -> 0.073269923 | L42: =IF(LEN($G42)>1, (SUMPRODUCT(--($C$64:$C$2042=$B17), --($A$64:$A$2042=$D17), --($B$64:$B$2042="ST_C"), $L$64:$L$2042)), "") -> 5.8585665 | M42: =IF(LEN($G42)>1, (SUMPRODUCT(--($C$64:$C$2042=$B17), --($A$64:$A$2042=$D17), --($B$64:$B$2042="ST_C"), $M$64:$M$2042)), "") -> 0.041752776 | N42: =IF(LEN($G42)>1, (SUMPRODUCT(--($C$64:$C$2042=$B17), --($A$64:$A$2042=$D17), --($B$64:$B$2042=$B42&"_TOTAL"), $L$64:$L$2042)), "") -> 5.201531 | O42: {=IF(LEN($G42)>1, (SUMPRODUCT(--($C$64:$C$2042=$B17), --($A$64:$A$2042=$D17), --($B$64:$B$2042=$B42&"_TOTAL"), $M$64:$M$2042)), "")} -> 0.014239276
B43: =H18 -> Non-RPP (Other) | C43: 3 | D43: =IF(ISBLANK(D18), "", IF(D18 = "Add additional scenarios if required", "", IF(M18="YES", D18 & " - " & H18 & " - Interval Customers", D18 & " - " &H18))) -> GS 50 - 2,999 kW - Non-RPP (Other) | G43: =IF(ISBLANK(G18), "", G18) -> kW | H43: {=IF(LEN($G43)>1, (SUMPRODUCT(--($C$64:$C$2042=$B18), --($A$64:$A$2042=$D18), --($B$64:$B$2042="ST_A"), $L$64:$L$2042)), "")} -> 82.1055 | I43: =IF(LEN($G43)>1, (SUMPRODUCT(--($C$64:$C$2042=$B18), --($A$64:$A$2042=$D18), --($B$64:$B$2042="ST_A"), $M$64:$M$2042)), "") -> 0.06871817 | J43: =IF(LEN($G43)>1, (SUMPRODUCT(--($C$64:$C$2042=$B18), --($A$64:$A$2042=$D18), --($B$64:$B$2042="ST_B"), $L$64:$L$2042)), "") -> 113.16255 | K43: =IF(LEN($G43)>1, (SUMPRODUCT(--($C$64:$C$2042=$B18), --($A$64:$A$2042=$D18), --($B$64:$B$2042="ST_B"), $M$64:$M$2042)), "") -> 0.090516642 | L43: =IF(LEN($G43)>1, (SUMPRODUCT(--($C$64:$C$2042=$B18), --($A$64:$A$2042=$D18), --($B$64:$B$2042="ST_C"), $L$64:$L$2042)), "") -> 304.21005 | M43: =IF(LEN($G43)>1, (SUMPRODUCT(--($C$64:$C$2042=$B18), --($A$64:$A$2042=$D18), --($B$64:$B$2042="ST_C"), $M$64:$M$2042)), "") -> 0.11357404 | N43: =IF(LEN($G43)>1, (SUMPRODUCT(--($C$64:$C$2042=$B18), --($A$64:$A$2042=$D18), --($B$64:$B$2042=$B43&"_TOTAL"), $L$64:$L$2042)), "") -> 304.39844 | O43: {=IF(LEN($G43)>1, (SUMPRODUCT(--($C$64:$C$2042=$B18), --($A$64:$A$2042=$D18), --($B$64:$B$2042=$B43&"_TOTAL"), $M$64:$M$2042)), "")} -> 0.022419799
B44: =H19 -> Non-RPP (Other) | C44: 4 | D44: =IF(ISBLANK(D19), "", IF(D19 = "Add additional scenarios if required", "", IF(M19="YES", D19 & " - " & H19 & " - Interval Customers", D19 & " - " &H19))) -> GS 3,000 - 4,999 kW - Non-RPP (Other) | G44: =IF(ISBLANK(G19), "", G19) -> kW | H44: =IF(LEN($G44)>1, (SUMPRODUCT(--($C$64:$C$2042=$B19), --($A$64:$A$2042=$D19), --($B$64:$B$2042="ST_A"), $L$64:$L$2042)), "") -> 3340.0611 | I44: =IF(LEN($G44)>1, (SUMPRODUCT(--($C$64:$C$2042=$B19), --($A$64:$A$2042=$D19), --($B$64:$B$2042="ST_A"), $M$64:$M$2042)), "") -> 0.15355805 | J44: =IF(LEN($G44)>1, (SUMPRODUCT(--($C$64:$C$2042=$B19), --($A$64:$A$2042=$D19), --($B$64:$B$2042="ST_B"), $L$64:$L$2042)), "") -> 3396.6506 | K44: =IF(LEN($G44)>1, (SUMPRODUCT(--($C$64:$C$2042=$B19), --($A$64:$A$2042=$D19), --($B$64:$B$2042="ST_B"), $M$64:$M$2042)), "") -> 0.14757312 | L44: =IF(LEN($G44)>1, (SUMPRODUCT(--($C$64:$C$2042=$B19), --($A$64:$A$2042=$D19), --($B$64:$B$2042="ST_C"), $L$64:$L$2042)), "") -> 4568.6506 | M44: =IF(LEN($G44)>1, (SUMPRODUCT(--($C$64:$C$2042=$B19), --($A$64:$A$2042=$D19), --($B$64:$B$2042="ST_C"), $M$64:$M$2042)), "") -> 0.082075013 | N44: {=IF(LEN($G44)>1, (SUMPRODUCT(--($C$64:$C$2042=$B19), --($A$64:$A$2042=$D19), --($B$64:$B$2042=$B44&"_TOTAL"), $L$64:$L$2042)), "")} -> 4139.9162 | O44: {=IF(LEN($G44)>1, (SUMPRODUCT(--($C$64:$C$2042=$B19), --($A$64:$A$2042=$D19), --($B$64:$B$2042=$B44&"_TOTAL"), $M$64:$M$2042)), "")} -> 0.012125792
B45: =H20 -> RPP | C45: 5 | D45: =IF(ISBLANK(D20), "", IF(D20 = "Add additional scenarios if required", "", IF(M20="YES", D20 & " - " & H20 & " - Interval Customers", D20 & " - " &H20))) -> Unmetered Scattered Load - RPP | G45: =IF(ISBLANK(G20), "", G20) -> kWh | H45: =IF(LEN($G45)>1, (SUMPRODUCT(--($C$64:$C$2042=$B20), --($A$64:$A$2042=$D20), --($B$64:$B$2042="ST_A"), $L$64:$L$2042)), "") -> -8.7954757 | I45: =IF(LEN($G45)>1, (SUMPRODUCT(--($C$64:$C$2042=$B20), --($A$64:$A$2042=$D20), --($B$64:$B$2042="ST_A"), $M$64:$M$2042)), "") -> -0.29519972 | J45: =IF(LEN($G45)>1, (SUMPRODUCT(--($C$64:$C$2042=$B20), --($A$64:$A$2042=$D20), --($B$64:$B$2042="ST_B"), $L$64:$L$2042)), "") -> -8.9329433 | K45: =IF(LEN($G45)>1, (SUMPRODUCT(--($C$64:$C$2042=$B20), --($A$64:$A$2042=$D20), --($B$64:$B$2042="ST_B"), $M$64:$M$2042)), "") -> -0.27418291 | L45: =IF(LEN($G45)>1, (SUMPRODUCT(--($C$64:$C$2042=$B20), --($A$64:$A$2042=$D20), --($B$64:$B$2042="ST_C"), $L$64:$L$2042)), "") -> -9.1572683 | M45: =IF(LEN($G45)>1, (SUMPRODUCT(--($C$64:$C$2042=$B20), --($A$64:$A$2042=$D20), --($B$64:$B$2042="ST_C"), $M$64:$M$2042)), "") -> -0.21567186 | N45: =IF(LEN($G45)>1, (SUMPRODUCT(--($C$64:$C$2042=$B20), --($A$64:$A$2042=$D20), --($B$64:$B$2042=$B45&"_TOTAL"), $L$64:$L$2042)), "") -> -8.2051795 | O45: {=IF(LEN($G45)>1, (SUMPRODUCT(--($C$64:$C$2042=$B20), --($A$64:$A$2042=$D20), --($B$64:$B$2042=$B45&"_TOTAL"), $M$64:$M$2042)), "")} -> -0.089080534
B46: =H21 -> RPP | C46: 6 | D46: =IF(ISBLANK(D21), "", IF(D21 = "Add additional scenarios if required", "", IF(M21="YES", D21 & " - " & H21 & " - Interval Customers", D21 & " - " &H21))) -> Sentinel - RPP | G46: =IF(ISBLANK(G21), "", G21) -> kW | H46: =IF(LEN($G46)>1, (SUMPRODUCT(--($C$64:$C$2042=$B21), --($A$64:$A$2042=$D21), --($B$64:$B$2042="ST_A"), $L$64:$L$2042)), "") -> 2.0396957 | I46: =IF(LEN($G46)>1, (SUMPRODUCT(--($C$64:$C$2042=$B21), --($A$64:$A$2042=$D21), --($B$64:$B$2042="ST_A"), $M$64:$M$2042)), "") -> 0.21129386 | J46: =IF(LEN($G46)>1, (SUMPRODUCT(--($C$64:$C$2042=$B21), --($A$64:$A$2042=$D21), --($B$64:$B$2042="ST_B"), $L$64:$L$2042)), "") -> 2.0087586 | K46: =IF(LEN($G46)>1, (SUMPRODUCT(--($C$64:$C$2042=$B21), --($A$64:$A$2042=$D21), --($B$64:$B$2042="ST_B"), $M$64:$M$2042)), "") -> 0.20216355 | L46: =IF(LEN($G46)>1, (SUMPRODUCT(--($C$64:$C$2042=$B21), --($A$64:$A$2042=$D21), --($B$64:$B$2042="ST_C"), $L$64:$L$2042)), "") -> 1.9492786 | M46: =IF(LEN($G46)>1, (SUMPRODUCT(--($C$64:$C$2042=$B21), --($A$64:$A$2042=$D21), --($B$64:$B$2042="ST_C"), $M$64:$M$2042)), "") -> 0.1741176 | N46: =IF(LEN($G46)>1, (SUMPRODUCT(--($C$64:$C$2042=$B21), --($A$64:$A$2042=$D21), --($B$64:$B$2042=$B46&"_TOTAL"), $L$64:$L$2042)), "") -> 1.7433478 | O46: {=IF(LEN($G46)>1, (SUMPRODUCT(--($C$64:$C$2042=$B21), --($A$64:$A$2042=$D21), --($B$64:$B$2042=$B46&"_TOTAL"), $M$64:$M$2042)), "")} -> 0.1000309
B47: =H22 -> Non-RPP (Other) | C47: 7 | D47: =IF(ISBLANK(D22), "", IF(D22 = "Add additional scenarios if required", "", IF(M22="YES", D22 & " - " & H22 & " - Interval Customers", D22 & " - " &H22))) -> Street Light - Non-RPP (Other) | G47: =IF(ISBLANK(G22), "", G22) -> kW | H47: =IF(LEN($G47)>1, (SUMPRODUCT(--($C$64:$C$2042=$B22), --($A$64:$A$2042=$D22), --($B$64:$B$2042="ST_A"), $L$64:$L$2042)), "") -> -36449.439 | I47: =IF(LEN($G47)>1, (SUMPRODUCT(--($C$64:$C$2042=$B22), --($A$64:$A$2042=$D22), --($B$64:$B$2042="ST_A"), $M$64:$M$2042)), "") -> -0.68922634 | J47: =IF(LEN($G47)>1, (SUMPRODUCT(--($C$64:$C$2042=$B22), --($A$64:$A$2042=$D22), --($B$64:$B$2042="ST_B"), $L$64:$L$2042)), "") -> -36428.581 | K47: =IF(LEN($G47)>1, (SUMPRODUCT(--($C$64:$C$2042=$B22), --($A$64:$A$2042=$D22), --($B$64:$B$2042="ST_B"), $M$64:$M$2042)), "") -> -0.69266978 | L47: =IF(LEN($G47)>1, (SUMPRODUCT(--($C$64:$C$2042=$B22), --($A$64:$A$2042=$D22), --($B$64:$B$2042="ST_C"), $L$64:$L$2042)), "") -> -36351.14 | M47: =IF(LEN($G47)>1, (SUMPRODUCT(--($C$64:$C$2042=$B22), --($A$64:$A$2042=$D22), --($B$64:$B$2042="ST_C"), $M$64:$M$2042)), "") -> -0.62714901 | N47: =IF(LEN($G47)>1, (SUMPRODUCT(--($C$64:$C$2042=$B22), --($A$64:$A$2042=$D22), --($B$64:$B$2042=$B47&"_TOTAL"), $L$64:$L$2042)), "") -> -41247.909 | O47: {=IF(LEN($G47)>1, (SUMPRODUCT(--($C$64:$C$2042=$B22), --($A$64:$A$2042=$D22), --($B$64:$B$2042=$B47&"_TOTAL"), $M$64:$M$2042)), "")} -> -0.35920594
B48: =H23 -> RPP | C48: 8 | D48: =IF(ISBLANK(D23), "", IF(D23 = "Add additional scenarios if required", "", IF(M23="YES", D23 & " - " & H23 & " - Interval Customers", D23 & " - " &H23))) -> Residential (Low) - RPP | G48: =IF(ISBLANK(G23), "", G23) -> kWh | H48: {=IF(LEN($G48)>1, (SUMPRODUCT(--($C$64:$C$2042=$B23), --($A$64:$A$2042=$D23), --($B$64:$B$2042="ST_A"), $L$64:$L$2042)), "")} -> 6.9532736 | I48: =IF(LEN($G48)>1, (SUMPRODUCT(--($C$64:$C$2042=$B23), --($A$64:$A$2042=$D23), --($B$64:$B$2042="ST_A"), $M$64:$M$2042)), "") -> 0.17630004 | J48: =IF(LEN($G48)>1, (SUMPRODUCT(--($C$64:$C$2042=$B23), --($A$64:$A$2042=$D23), --($B$64:$B$2042="ST_B"), $L$64:$L$2042)), "") -> 6.8595769 | K48: =IF(LEN($G48)>1, (SUMPRODUCT(--($C$64:$C$2042=$B23), --($A$64:$A$2042=$D23), --($B$64:$B$2042="ST_B"), $M$64:$M$2042)), "") -> 0.16414768 | L48: =IF(LEN($G48)>1, (SUMPRODUCT(--($C$64:$C$2042=$B23), --($A$64:$A$2042=$D23), --($B$64:$B$2042="ST_C"), $L$64:$L$2042)), "") -> 6.6615609 | M48: =IF(LEN($G48)>1, (SUMPRODUCT(--($C$64:$C$2042=$B23), --($A$64:$A$2042=$D23), --($B$64:$B$2042="ST_C"), $M$64:$M$2042)), "") -> 0.13457292 | N48: =IF(LEN($G48)>1, (SUMPRODUCT(--($C$64:$C$2042=$B23), --($A$64:$A$2042=$D23), --($B$64:$B$2042=$B48&"_TOTAL"), $L$64:$L$2042)), "") -> 5.9552906 | O48: {=IF(LEN($G48)>1, (SUMPRODUCT(--($C$64:$C$2042=$B23), --($A$64:$A$2042=$D23), --($B$64:$B$2042=$B48&"_TOTAL"), $M$64:$M$2042)), "")} -> 0.071368321
B49: =H24 -> RPP | C49: 9 | D49: =IF(ISBLANK(D24), "", IF(D24 = "Add additional scenarios if required", "", IF(M24="YES", D24 & " - " & H24 & " - Interval Customers", D24 & " - " &H24))) -> Residential (High) - RPP | G49: =IF(ISBLANK(G24), "", G24) -> kWh | H49: {=IF(LEN($G49)>1, (SUMPRODUCT(--($C$64:$C$2042=$B24), --($A$64:$A$2042=$D24), --($B$64:$B$2042="ST_A"), $L$64:$L$2042)), "")} -> 6.9532736 | I49: =IF(LEN($G49)>1, (SUMPRODUCT(--($C$64:$C$2042=$B24), --($A$64:$A$2042=$D24), --($B$64:$B$2042="ST_A"), $M$64:$M$2042)), "") -> 0.17630004 | J49: =IF(LEN($G49)>1, (SUMPRODUCT(--($C$64:$C$2042=$B24), --($A$64:$A$2042=$D24), --($B$64:$B$2042="ST_B"), $L$64:$L$2042)), "") -> 6.706234 | K49: =IF(LEN($G49)>1, (SUMPRODUCT(--($C$64:$C$2042=$B24), --($A$64:$A$2042=$D24), --($B$64:$B$2042="ST_B"), $M$64:$M$2042)), "") -> 0.13443627 | L49: =IF(LEN($G49)>1, (SUMPRODUCT(--($C$64:$C$2042=$B24), --($A$64:$A$2042=$D24), --($B$64:$B$2042="ST_C"), $L$64:$L$2042)), "") -> 5.792314 | M49: =IF(LEN($G49)>1, (SUMPRODUCT(--($C$64:$C$2042=$B24), --($A$64:$A$2042=$D24), --($B$64:$B$2042="ST_C"), $M$64:$M$2042)), "") -> 0.067762228 | N49: =IF(LEN($G49)>1, (SUMPRODUCT(--($C$64:$C$2042=$B24), --($A$64:$A$2042=$D24), --($B$64:$B$2042=$B49&"_TOTAL"), $L$64:$L$2042)), "") -> 5.1527065 | O49: {=IF(LEN($G49)>1, (SUMPRODUCT(--($C$64:$C$2042=$B24), --($A$64:$A$2042=$D24), --($B$64:$B$2042=$B49&"_TOTAL"), $M$64:$M$2042)), "")} -> 0.0201007
B50: =H25 -> RPP | C50: 10 | D50: =IF(ISBLANK(D25), "", IF(D25 = "Add additional scenarios if required", "", IF(M25="YES", D25 & " - " & H25 & " - Interval Customers", D25 & " - " &H25))) -> GS < 50 (Low) - RPP | G50: =IF(ISBLANK(G25), "", G25) -> kWh | H50: {=IF(LEN($G50)>1, (SUMPRODUCT(--($C$64:$C$2042=$B25), --($A$64:$A$2042=$D25), --($B$64:$B$2042="ST_A"), $L$64:$L$2042)), "")} -> 0.82727984 | I50: =IF(LEN($G50)>1, (SUMPRODUCT(--($C$64:$C$2042=$B25), --($A$64:$A$2042=$D25), --($B$64:$B$2042="ST_A"), $M$64:$M$2042)), "") -> 0.014236445 | J50: =IF(LEN($G50)>1, (SUMPRODUCT(--($C$64:$C$2042=$B25), --($A$64:$A$2042=$D25), --($B$64:$B$2042="ST_B"), $L$64:$L$2042)), "") -> 0.54693325 | K50: =IF(LEN($G50)>1, (SUMPRODUCT(--($C$64:$C$2042=$B25), --($A$64:$A$2042=$D25), --($B$64:$B$2042="ST_B"), $M$64:$M$2042)), "") -> 0.008411846 | L50: =IF(LEN($G50)>1, (SUMPRODUCT(--($C$64:$C$2042=$B25), --($A$64:$A$2042=$D25), --($B$64:$B$2042="ST_C"), $L$64:$L$2042)), "") -> -0.055716753 | M50: =IF(LEN($G50)>1, (SUMPRODUCT(--($C$64:$C$2042=$B25), --($A$64:$A$2042=$D25), --($B$64:$B$2042="ST_C"), $M$64:$M$2042)), "") -> -0.00064062267 | N50: =IF(LEN($G50)>1, (SUMPRODUCT(--($C$64:$C$2042=$B25), --($A$64:$A$2042=$D25), --($B$64:$B$2042=$B50&"_TOTAL"), $L$64:$L$2042)), "") -> -0.070809494 | O50: {=IF(LEN($G50)>1, (SUMPRODUCT(--($C$64:$C$2042=$B25), --($A$64:$A$2042=$D25), --($B$64:$B$2042=$B50&"_TOTAL"), $M$64:$M$2042)), "")} -> -0.00035796972
B51: =H26 -> RPP | C51: 11 | D51: =IF(ISBLANK(D26), "", IF(D26 = "Add additional scenarios if required", "", IF(M26="YES", D26 & " - " & H26 & " - Interval Customers", D26 & " - " &H26))) -> GS < 50 (High) - RPP | G51: =IF(ISBLANK(G26), "", G26) -> kWh | H51: {=IF(LEN($G51)>1, (SUMPRODUCT(--($C$64:$C$2042=$B26), --($A$64:$A$2042=$D26), --($B$64:$B$2042="ST_A"), $L$64:$L$2042)), "")} -> 28.016399 | I51: =IF(LEN($G51)>1, (SUMPRODUCT(--($C$64:$C$2042=$B26), --($A$64:$A$2042=$D26), --($B$64:$B$2042="ST_A"), $M$64:$M$2042)), "") -> 0.17764504 | J51: =IF(LEN($G51)>1, (SUMPRODUCT(--($C$64:$C$2042=$B26), --($A$64:$A$2042=$D26), --($B$64:$B$2042="ST_B"), $L$64:$L$2042)), "") -> 26.614666 | K51: =IF(LEN($G51)>1, (SUMPRODUCT(--($C$64:$C$2042=$B26), --($A$64:$A$2042=$D26), --($B$64:$B$2042="ST_B"), $M$64:$M$2042)), "") -> 0.13965306 | L51: =IF(LEN($G51)>1, (SUMPRODUCT(--($C$64:$C$2042=$B26), --($A$64:$A$2042=$D26), --($B$64:$B$2042="ST_C"), $L$64:$L$2042)), "") -> 23.601416 | M51: =IF(LEN($G51)>1, (SUMPRODUCT(--($C$64:$C$2042=$B26), --($A$64:$A$2042=$D26), --($B$64:$B$2042="ST_C"), $M$64:$M$2042)), "") -> 0.07858127 | N51: =IF(LEN($G51)>1, (SUMPRODUCT(--($C$64:$C$2042=$B26), --($A$64:$A$2042=$D26), --($B$64:$B$2042=$B51&"_TOTAL"), $L$64:$L$2042)), "") -> 21.018553 | O51: {=IF(LEN($G51)>1, (SUMPRODUCT(--($C$64:$C$2042=$B26), --($A$64:$A$2042=$D26), --($B$64:$B$2042=$B51&"_TOTAL"), $M$64:$M$2042)), "")} -> 0.024221824
B53: =H28 -> 0 | C53: 12 | D53: =IF(ISBLANK(D28), "", IF(D28 = "Add additional scenarios if required", "", IF(M28="YES", D28 & " - " & H28 & " - Interval Customers", D28 & " - " &H28))) | G53: =IF(ISBLANK(G28), "", G28) | H53: =IF(LEN($G53)>1, (SUMPRODUCT(--($C$64:$C$2042=$B28), --($A$64:$A$2042=$D28), --($B$64:$B$2042="ST_A"), $L$64:$L$2042)), "") | I53: =IF(LEN($G53)>1, (SUMPRODUCT(--($C$64:$C$2042=$B28), --($A$64:$A$2042=$D28), --($B$64:$B$2042="ST_A"), $M$64:$M$2042)), "") | J53: =IF(LEN($G53)>1, (SUMPRODUCT(--($C$64:$C$2042=$B28), --($A$64:$A$2042=$D28), --($B$64:$B$2042="ST_B"), $L$64:$L$2042)), "") | K53: =IF(LEN($G53)>1, (SUMPRODUCT(--($C$64:$C$2042=$B28), --($A$64:$A$2042=$D28), --($B$64:$B$2042="ST_B"), $M$64:$M$2042)), "") | L53: =IF(LEN($G53)>1, (SUMPRODUCT(--($C$64:$C$2042=$B28), --($A$64:$A$2042=$D28), --($B$64:$B$2042="ST_C"), $L$64:$L$2042)), "") | M53: =IF(LEN($G53)>1, (SUMPRODUCT(--($C$64:$C$2042=$B28), --($A$64:$A$2042=$D28), --($B$64:$B$2042="ST_C"), $M$64:$M$2042)), "") | N53: =IF(LEN($G53)>1, (SUMPRODUCT(--($C$64:$C$2042=$B28), --($A$64:$A$2042=$D28), --($B$64:$B$2042=$B53&"_TOTAL"), $L$64:$L$2042)), "") | O53: =IF(LEN($G53)>1, (SUMPRODUCT(--($C$66:$C$2044=$B27), --($A$66:$A$2044=$D27), --($B$66:$B$2044=$B53&"_TOTAL"), $M$66:$M$2044)), "")
B54: =H29 -> 0 | C54: 13 | D54: =IF(ISBLANK(D29), "", IF(D29 = "Add additional scenarios if required", "", IF(M29="YES", D29 & " - " & H29 & " - Interval Customers", D29 & " - " &H29))) | G54: =IF(ISBLANK(G29), "", G29) | H54: =IF(LEN($G54)>1, (SUMPRODUCT(--($C$64:$C$2042=$B29), --($A$64:$A$2042=$D29), --($B$64:$B$2042="ST_A"), $L$64:$L$2042)), "") | I54: =IF(LEN($G54)>1, (SUMPRODUCT(--($C$64:$C$2042=$B29), --($A$64:$A$2042=$D29), --($B$64:$B$2042="ST_A"), $M$64:$M$2042)), "") | J54: =IF(LEN($G54)>1, (SUMPRODUCT(--($C$64:$C$2042=$B29), --($A$64:$A$2042=$D29), --($B$64:$B$2042="ST_B"), $L$64:$L$2042)), "") | K54: =IF(LEN($G54)>1, (SUMPRODUCT(--($C$64:$C$2042=$B29), --($A$64:$A$2042=$D29), --($B$64:$B$2042="ST_B"), $M$64:$M$2042)), "") | L54: =IF(LEN($G54)>1, (SUMPRODUCT(--($C$64:$C$2042=$B29), --($A$64:$A$2042=$D29), --($B$64:$B$2042="ST_C"), $L$64:$L$2042)), "") | M54: =IF(LEN($G54)>1, (SUMPRODUCT(--($C$64:$C$2042=$B29), --($A$64:$A$2042=$D29), --($B$64:$B$2042="ST_C"), $M$64:$M$2042)), "") | N54: =IF(LEN($G54)>1, (SUMPRODUCT(--($C$64:$C$2042=$B29), --($A$64:$A$2042=$D29), --($B$64:$B$2042=$B54&"_TOTAL"), $L$64:$L$2042)), "") | O54: =IF(LEN($G54)>1, (SUMPRODUCT(--($C$66:$C$2044=$B28), --($A$66:$A$2044=$D28), --($B$66:$B$2044=$B54&"_TOTAL"), $M$66:$M$2044)), "")
B55: =H30 -> 0 | C55: 14 | D55: =IF(ISBLANK(D30), "", IF(D30 = "Add additional scenarios if required", "", IF(M30="YES", D30 & " - " & H30 & " - Interval Customers", D30 & " - " &H30))) | G55: =IF(ISBLANK(G30), "", G30) | H55: =IF(LEN($G55)>1, (SUMPRODUCT(--($C$64:$C$2042=$B30), --($A$64:$A$2042=$D30), --($B$64:$B$2042="ST_A"), $L$64:$L$2042)), "") | I55: =IF(LEN($G55)>1, (SUMPRODUCT(--($C$64:$C$2042=$B30), --($A$64:$A$2042=$D30), --($B$64:$B$2042="ST_A"), $M$64:$M$2042)), "") | J55: =IF(LEN($G55)>1, (SUMPRODUCT(--($C$64:$C$2042=$B30), --($A$64:$A$2042=$D30), --($B$64:$B$2042="ST_B"), $L$64:$L$2042)), "") | K55: =IF(LEN($G55)>1, (SUMPRODUCT(--($C$64:$C$2042=$B30), --($A$64:$A$2042=$D30), --($B$64:$B$2042="ST_B"), $M$64:$M$2042)), "") | L55: =IF(LEN($G55)>1, (SUMPRODUCT(--($C$64:$C$2042=$B30), --($A$64:$A$2042=$D30), --($B$64:$B$2042="ST_C"), $L$64:$L$2042)), "") | M55: =IF(LEN($G55)>1, (SUMPRODUCT(--($C$64:$C$2042=$B30), --($A$64:$A$2042=$D30), --($B$64:$B$2042="ST_C"), $M$64:$M$2042)), "") | N55: =IF(LEN($G55)>1, (SUMPRODUCT(--($C$64:$C$2042=$B30), --($A$64:$A$2042=$D30), --($B$64:$B$2042=$B55&"_TOTAL"), $L$64:$L$2042)), "") | O55: =IF(LEN($G55)>1, (SUMPRODUCT(--($C$66:$C$2044=$B29), --($A$66:$A$2044=$D29), --($B$66:$B$2044=$B55&"_TOTAL"), $M$66:$M$2044)), "")
B56: =H31 -> 0 | C56: 15 | D56: =IF(ISBLANK(D31), "", IF(D31 = "Add additional scenarios if required", "", IF(M31="YES", D31 & " - " & H31 & " - Interval Customers", D31 & " - " &H31))) | G56: =IF(ISBLANK(G31), "", G31) | H56: =IF(LEN($G56)>1, (SUMPRODUCT(--($C$64:$C$2042=$B31), --($A$64:$A$2042=$D31), --($B$64:$B$2042="ST_A"), $L$64:$L$2042)), "") | I56: =IF(LEN($G56)>1, (SUMPRODUCT(--($C$64:$C$2042=$B31), --($A$64:$A$2042=$D31), --($B$64:$B$2042="ST_A"), $M$64:$M$2042)), "") | J56: =IF(LEN($G56)>1, (SUMPRODUCT(--($C$64:$C$2042=$B31), --($A$64:$A$2042=$D31), --($B$64:$B$2042="ST_B"), $L$64:$L$2042)), "") | K56: =IF(LEN($G56)>1, (SUMPRODUCT(--($C$64:$C$2042=$B31), --($A$64:$A$2042=$D31), --($B$64:$B$2042="ST_B"), $M$64:$M$2042)), "") | L56: =IF(LEN($G56)>1, (SUMPRODUCT(--($C$64:$C$2042=$B31), --($A$64:$A$2042=$D31), --($B$64:$B$2042="ST_C"), $L$64:$L$2042)), "") | M56: =IF(LEN($G56)>1, (SUMPRODUCT(--($C$64:$C$2042=$B31), --($A$64:$A$2042=$D31), --($B$64:$B$2042="ST_C"), $M$64:$M$2042)), "") | N56: =IF(LEN($G56)>1, (SUMPRODUCT(--($C$64:$C$2042=$B31), --($A$64:$A$2042=$D31), --($B$64:$B$2042=$B56&"_TOTAL"), $L$64:$L$2042)), "") | O56: =IF(LEN($G56)>1, (SUMPRODUCT(--($C$66:$C$2044=$B30), --($A$66:$A$2044=$D30), --($B$66:$B$2044=$B56&"_TOTAL"), $M$66:$M$2044)), "")
B57: =H32 -> 0 | C57: 16 | D57: =IF(ISBLANK(D32), "", IF(D32 = "Add additional scenarios if required", "", IF(M32="YES", D32 & " - " & H32 & " - Interval Customers", D32 & " - " &H32))) | G57: =IF(ISBLANK(G32), "", G32) | H57: =IF(LEN($G57)>1, (SUMPRODUCT(--($C$64:$C$2042=$B32), --($A$64:$A$2042=$D32), --($B$64:$B$2042="ST_A"), $L$64:$L$2042)), "") | I57: =IF(LEN($G57)>1, (SUMPRODUCT(--($C$64:$C$2042=$B32), --($A$64:$A$2042=$D32), --($B$64:$B$2042="ST_A"), $M$64:$M$2042)), "") | J57: =IF(LEN($G57)>1, (SUMPRODUCT(--($C$64:$C$2042=$B32), --($A$64:$A$2042=$D32), --($B$64:$B$2042="ST_B"), $L$64:$L$2042)), "") | K57: =IF(LEN($G57)>1, (SUMPRODUCT(--($C$64:$C$2042=$B32), --($A$64:$A$2042=$D32), --($B$64:$B$2042="ST_B"), $M$64:$M$2042)), "") | L57: =IF(LEN($G57)>1, (SUMPRODUCT(--($C$64:$C$2042=$B32), --($A$64:$A$2042=$D32), --($B$64:$B$2042="ST_C"), $L$64:$L$2042)), "") | M57: =IF(LEN($G57)>1, (SUMPRODUCT(--($C$64:$C$2042=$B32), --($A$64:$A$2042=$D32), --($B$64:$B$2042="ST_C"), $M$64:$M$2042)), "") | N57: =IF(LEN($G57)>1, (SUMPRODUCT(--($C$64:$C$2042=$B32), --($A$64:$A$2042=$D32), --($B$64:$B$2042=$B57&"_TOTAL"), $L$64:$L$2042)), "") | O57: =IF(LEN($G57)>1, (SUMPRODUCT(--($C$66:$C$2044=$B31), --($A$66:$A$2044=$D31), --($B$66:$B$2044=$B57&"_TOTAL"), $M$66:$M$2044)), "")
B58: =H33 -> 0 | C58: 17 | D58: =IF(ISBLANK(D33), "", IF(D33 = "Add additional scenarios if required", "", IF(M33="YES", D33 & " - " & H33 & " - Interval Customers", D33 & " - " &H33))) | G58: =IF(ISBLANK(G33), "", G33) | H58: =IF(LEN($G58)>1, (SUMPRODUCT(--($C$64:$C$2042=$B33), --($A$64:$A$2042=$D33), --($B$64:$B$2042="ST_A"), $L$64:$L$2042)), "") | I58: =IF(LEN($G58)>1, (SUMPRODUCT(--($C$64:$C$2042=$B33), --($A$64:$A$2042=$D33), --($B$64:$B$2042="ST_A"), $M$64:$M$2042)), "") | J58: =IF(LEN($G58)>1, (SUMPRODUCT(--($C$64:$C$2042=$B33), --($A$64:$A$2042=$D33), --($B$64:$B$2042="ST_B"), $L$64:$L$2042)), "") | K58: =IF(LEN($G58)>1, (SUMPRODUCT(--($C$64:$C$2042=$B33), --($A$64:$A$2042=$D33), --($B$64:$B$2042="ST_B"), $M$64:$M$2042)), "") | L58: =IF(LEN($G58)>1, (SUMPRODUCT(--($C$64:$C$2042=$B33), --($A$64:$A$2042=$D33), --($B$64:$B$2042="ST_C"), $L$64:$L$2042)), "") | M58: =IF(LEN($G58)>1, (SUMPRODUCT(--($C$64:$C$2042=$B33), --($A$64:$A$2042=$D33), --($B$64:$B$2042="ST_C"), $M$64:$M$2042)), "") | N58: =IF(LEN($G58)>1, (SUMPRODUCT(--($C$64:$C$2042=$B33), --($A$64:$A$2042=$D33), --($B$64:$B$2042=$B58&"_TOTAL"), $L$64:$L$2042)), "") | O58: =IF(LEN($G58)>1, (SUMPRODUCT(--($C$66:$C$2044=$B32), --($A$66:$A$2044=$D32), --($B$66:$B$2044=$B58&"_TOTAL"), $M$66:$M$2044)), "")
B59: =H34 -> 0 | C59: 18 | D59: =IF(ISBLANK(D34), "", IF(D34 = "Add additional scenarios if required", "", IF(M34="YES", D34 & " - " & H34 & " - Interval Customers", D34 & " - " &H34))) | G59: =IF(ISBLANK(G34), "", G34) | H59: =IF(LEN($G59)>1, (SUMPRODUCT(--($C$64:$C$2042=$B34), --($A$64:$A$2042=$D34), --($B$64:$B$2042="ST_A"), $L$64:$L$2042)), "") | I59: =IF(LEN($G59)>1, (SUMPRODUCT(--($C$64:$C$2042=$B34), --($A$64:$A$2042=$D34), --($B$64:$B$2042="ST_A"), $M$64:$M$2042)), "") | J59: =IF(LEN($G59)>1, (SUMPRODUCT(--($C$64:$C$2042=$B34), --($A$64:$A$2042=$D34), --($B$64:$B$2042="ST_B"), $L$64:$L$2042)), "") | K59: =IF(LEN($G59)>1, (SUMPRODUCT(--($C$64:$C$2042=$B34), --($A$64:$A$2042=$D34), --($B$64:$B$2042="ST_B"), $M$64:$M$2042)), "") | L59: =IF(LEN($G59)>1, (SUMPRODUCT(--($C$64:$C$2042=$B34), --($A$64:$A$2042=$D34), --($B$64:$B$2042="ST_C"), $L$64:$L$2042)), "") | M59: =IF(LEN($G59)>1, (SUMPRODUCT(--($C$64:$C$2042=$B34), --($A$64:$A$2042=$D34), --($B$64:$B$2042="ST_C"), $M$64:$M$2042)), "") | N59: =IF(LEN($G59)>1, (SUMPRODUCT(--($C$64:$C$2042=$B34), --($A$64:$A$2042=$D34), --($B$64:$B$2042=$B59&"_TOTAL"), $L$64:$L$2042)), "") | O59: =IF(LEN($G59)>1, (SUMPRODUCT(--($C$66:$C$2044=$B33), --($A$66:$A$2044=$D33), --($B$66:$B$2044=$B59&"_TOTAL"), $M$66:$M$2044)), "")
B60: =H35 -> 0 | C60: 19 | D60: =IF(ISBLANK(D35), "", IF(D35 = "Add additional scenarios if required", "", IF(M35="YES", D35 & " - " & H35 & " - Interval Customers", D35 & " - " &H35))) | G60: =IF(ISBLANK(G35), "", G35) | H60: =IF(LEN($G60)>1, (SUMPRODUCT(--($C$64:$C$2042=$B35), --($A$64:$A$2042=$D35), --($B$64:$B$2042="ST_A"), $L$64:$L$2042)), "") | I60: =IF(LEN($G60)>1, (SUMPRODUCT(--($C$64:$C$2042=$B35), --($A$64:$A$2042=$D35), --($B$64:$B$2042="ST_A"), $M$64:$M$2042)), "") | J60: =IF(LEN($G60)>1, (SUMPRODUCT(--($C$64:$C$2042=$B35), --($A$64:$A$2042=$D35), --($B$64:$B$2042="ST_B"), $L$64:$L$2042)), "") | K60: =IF(LEN($G60)>1, (SUMPRODUCT(--($C$64:$C$2042=$B35), --($A$64:$A$2042=$D35), --($B$64:$B$2042="ST_B"), $M$64:$M$2042)), "") | L60: =IF(LEN($G60)>1, (SUMPRODUCT(--($C$64:$C$2042=$B35), --($A$64:$A$2042=$D35), --($B$64:$B$2042="ST_C"), $L$64:$L$2042)), "") | M60: =IF(LEN($G60)>1, (SUMPRODUCT(--($C$64:$C$2042=$B35), --($A$64:$A$2042=$D35), --($B$64:$B$2042="ST_C"), $M$64:$M$2042)), "") | N60: =IF(LEN($G60)>1, (SUMPRODUCT(--($C$64:$C$2042=$B35), --($A$64:$A$2042=$D35), --($B$64:$B$2042=$B60&"_TOTAL"), $L$64:$L$2042)), "") | O60: =IF(LEN($G60)>1, (SUMPRODUCT(--($C$66:$C$2044=$B34), --($A$66:$A$2044=$D34), --($B$66:$B$2044=$B60&"_TOTAL"), $M$66:$M$2044)), "")
O61: =IF(LEN($G61)>1, (SUMPRODUCT(--($C$66:$C$2044=$B35), --($A$66:$A$2044=$D35), --($B$66:$B$2044=$B61&"_TOTAL"), $M$66:$M$2044)), "")
D64: Customer Class: | E64: =D16 -> Residential | K64: =IF(N16="DEMAND - INTERVAL","RTSR - INTERVAL METERED","")
D65: RPP / Non-RPP: | E65: =H16 -> RPP
D66: Consumption | E66: =K16 -> 750 | F66: kWh
D67: Demand | E67: =L16 -> 0 | F67: kW
D68: Current Loss Factor | E68: =I16 -> 1.0454
D69: Proposed/Approved Loss Factor | E69: =J16 -> 1.0415
F71: Current OEB-Approved | I71: Proposed | L71: Impact
F72: Rate | G72: Volume | H72: Charge | I72: Rate | J72: Volume | K72: Charge | L72: $ Change | M72: % Change
F73: ($) | H73: ($) | I73: ($) | K73: ($)
A74: =$E64 -> Residential | D74: Monthly Service Charge | F74: 38.56 | G74: 1 | H74: =G74*F74 -> 38.56 | I74: 47.66 | J74: =G74 -> 1 | K74: =J74*I74 -> 47.66 | L74: =K74-H74 -> 9.1 | M74: =IF(ISERROR(L74/H74), "", L74/H74) -> 0.23599585
A75: =A74 -> Residential | D75: Distribution Volumetric Rate | F75: 0 | G75: =IF($E67>0, $E67, $E66) -> 750 | H75: =G75*F75 -> 0 | I75: 0 | J75: =IF($E67>0, $E67, $E66) -> 750 | K75: =J75*I75 -> 0 | L75: =K75-H75 -> 0 | M75: =IF(ISERROR(L75/H75), "", L75/H75)
A76: =A75 -> Residential | D76: RRRP Credit | F76: 0 | G76: =IF($E67>0, $E67, $E66) -> 750 | H76: 0 | I76: 0 | J76: =IF($E67>0, $E67, $E66) -> 750 | K76: 0
A77: =A76 -> Residential | D77: DRP Adjustment | F77: 0 | G77: =IF($E67>0, $E67, $E66) -> 750 | H77: 0 | I77: 0 | J77: =IF($E67>0, $E67, $E66) -> 750 | K77: 0 | L77: =K77-H77 -> 0 | M77: =IF(ISERROR(L77/H77), "", L77/H77)
A78: =A77 -> Residential | D78: Fixed Rate Riders | F78: 0.88 | G78: 1 | H78: =G78*F78 -> 0.88 | I78: -1.2667264 | J78: =G78 -> 1 | K78: =J78*I78 -> -1.2667264 | L78: =K78-H78 -> -2.1467264 | M78: =IF(ISERROR(L78/H78), "", L78/H78) -> -2.4394618
A79: =A78 -> Residential | D79: Volumetric Rate Riders | F79: 0 | G79: =IF($E67>0, $E67, $E66) -> 750 | H79: =G79*F79 -> 0 | I79: 0 | J79: =IF($E67>0, $E67, $E66) -> 750 | K79: =J79*I79 -> 0 | L79: =K79-H79 -> 0 | M79: =IF(ISERROR(L79/H79), "", L79/H79)
A80: =A79 -> Residential | B80: ST_A | C80: =B16 -> 1 | D80: Sub-Total A (excluding pass through) | H80: =SUM(H74:H79) -> 39.44 | K80: =SUM(K74:K79) -> 46.393274 | L80: =K80-H80 -> 6.9532736 | M80: =IF((H80)=0,"",(L80/H80)) -> 0.17630004
A81: =A80 -> Residential | D81: Line Losses on Cost of Power | F81: =IF((E66*12>=150000), 0, IF(E65="RPP",(F97*OffPeakPer+F98*MidPeakPer+F99*OnPeakPer),IF(E65="Non-RPP (Retailer)",F100,F101))) -> 0.12752 | G81: =IF(F81=0, 0, $E66*E68-E66) -> 34.05 | H81: =G81*F81 -> 4.342056 | I81: =IF((E66*12>=150000), 0, IF(E65="RPP",(I97*OffPeakPer+I98*MidPeakPer+I99*OnPeakPer),IF(E65="Non-RPP (Retailer)",I100,I101))) -> 0.12752 | J81: =IF(I81=0, 0, E66*E69-E66) -> 31.125 | K81: =J81*I81 -> 3.96906 | L81: =K81-H81 -> -0.372996 | M81: =IF(ISERROR(L81/H81), "", L81/H81) -> -0.085903084
A82: =A81 -> Residential | D82: Total Deferral/Variance Account Rate Riders | F82: 0 | G82: =IF($E67>0, $E67, $E66) -> 750 | H82: =G82*F82 -> 0 | I82: 0 | J82: =IF($E67>0, $E67, $E66) -> 750 | K82: =J82*I82 -> 0 | L82: =K82-H82 -> 0 | M82: =IF(ISERROR(L82/H82), "", L82/H82)
A83: =A82 -> Residential | D83: CBR Class B Rate Riders | F83: 0 | G83: =IF($E67>0, $E67, $E66) -> 750 | H83: =G83*F83 -> 0 | I83: 0 | J83: =IF($E67>0, $E67, $E66) -> 750 | K83: =J83*I83 -> 0 | L83: =K83-H83 -> 0 | M83: =IF(ISERROR(L83/H83), "", L83/H83)
A84: =A83 -> Residential | D84: GA Rate Riders | F84: 0 | G84: =E66 -> 750 | H84: =G84*F84 -> 0 | I84: 0 | J84: =E66 -> 750 | K84: =J84*I84 -> 0 | L84: =K84-H84 -> 0 | M84: =IF(ISERROR(L84/H84), "", L84/H84)
A85: =A84 -> Residential | D85: Low Voltage Service Charge | F85: 0.0011 | G85: =IF($E67>0, $E67, $E66) -> 750 | H85: =G85*F85 -> 0.825 | I85: 0.0014668234 | J85: =IF($E67>0, $E67, $E66) -> 750 | K85: =J85*I85 -> 1.1001175 | L85: =K85-H85 -> 0.27511753 | M85: =IF(ISERROR(L85/H85), "", L85/H85) -> 0.33347579
A86: =A85 -> Residential | D86: Smart Meter Entity Charge (if applicable) | F86: 0.42 | G86: 1 | H86: =G86*F86 -> 0.42 | I86: 0.42 | J86: 1 | K86: =J86*I86 -> 0.42 | L86: =K86-H86 -> 0 | M86: =IF(ISERROR(L86/H86), "", L86/H86) -> 0
A87: =A86 -> Residential | D87: Additional Fixed Rate Riders | F87: -0.31 | G87: 1 | H87: =G87*F87 -> -0.31 | I87: -0.36128264 | J87: 1 | K87: =J87*I87 -> -0.36128264 | L87: =K87-H87 -> -0.051282642 | M87: =IF(ISERROR(L87/H87), "", L87/H87) -> 0.16542788
A88: =A87 -> Residential | D88: Additional Volumetric Rate Riders | F88: 0 | G88: =IF($E67>0, $E67, $E66) -> 750 | H88: =G88*F88 -> 0 | I88: 0 | J88: =IF($E67>0, $E67, $E66) -> 750 | K88: =J88*I88 -> 0 | L88: =K88-H88 -> 0 | M88: =IF(ISERROR(L88/H88), "", L88/H88)
A89: =A88 -> Residential | B89: ST_B | C89: =B16 -> 1 | D89: Sub-Total B - Distribution (includes Sub-Total A) | H89: =SUM(H80:H88) -> 44.717056 | K89: =SUM(K80:K88) -> 51.521168 | L89: =K89-H89 -> 6.8041125 | M89: =IF((H89)=0,"",(L89/H89)) -> 0.15215922
A90: =A89 -> Residential | D90: RTSR - Network | F90: 0.013 | G90: =IF($E67>0, $E67, $E66*$E68) -> 784.05 | H90: =G90*F90 -> 10.19265 | I90: 0.0129 | J90: =IF($E67>0, $E67, $E66*$E69) -> 781.125 | K90: =J90*I90 -> 10.076513 | L90: =K90-H90 -> -0.1161375 | M90: =IF(ISERROR(L90/H90), "", L90/H90) -> -0.01139424
A91: =A90 -> Residential | D91: RTSR - Connection and/or Line and Transformation Connection | F91: 0.0097 | G91: =IF($E67>0, $E67, $E66*$E68) -> 784.05 | H91: =G91*F91 -> 7.605285 | I91: 0.0093 | J91: =IF($E67>0, $E67, $E66*$E69) -> 781.125 | K91: =J91*I91 -> 7.2644625 | L91: =K91-H91 -> -0.3408225 | M91: =IF(ISERROR(L91/H91), "", L91/H91) -> -0.044813902
A92: =A91 -> Residential | B92: ST_C | C92: =B16 -> 1 | D92: Sub-Total C - Delivery (including Sub-Total B) | H92: =SUM(H89:H91) -> 62.514991 | K92: =SUM(K89:K91) -> 68.862143 | L92: =K92-H92 -> 6.3471525 | M92: =IF((H92)=0,"",(L92/H92)) -> 0.10153009
A93: =A92 -> Residential | D93: Wholesale Market Service Charge (WMSC) | F93: 0.0045 | G93: =E66*E68 -> 784.05 | H93: =G93*F93 -> 3.528225 | I93: 0.0045 | J93: =E66*E69 -> 781.125 | K93: =J93*I93 -> 3.5150625 | L93: =K93-H93 -> -0.0131625 | M93: =IF(ISERROR(L93/H93), "", L93/H93) -> -0.0037306294
A94: =A93 -> Residential | D94: Rural and Remote Rate Protection (RRRP) | F94: 0.0015 | G94: =E66*E68 -> 784.05 | H94: =G94*F94 -> 1.176075 | I94: 0.0015 | J94: =E66*E69 -> 781.125 | K94: =J94*I94 -> 1.1716875 | L94: =K94-H94 -> -0.0043875 | M94: =IF(ISERROR(L94/H94), "", L94/H94) -> -0.0037306294
A95: =A94 -> Residential | D95: Standard Supply Service Charge | F95: 0.25 | G95: 1 | H95: =G95*F95 -> 0.25 | I95: 0.25 | J95: 1 | K95: =J95*I95 -> 0.25 | L95: =K95-H95 -> 0 | M95: =IF(ISERROR(L95/H95), "", L95/H95) -> 0
A96: =A95 -> Residential | D96: Ontario Electricity Support Program (OESP)
A97: =A96 -> Residential | B97: RPP | D97: TOU - Off Peak | F97: 0.098 | G97: =IF(AND(E66*12>=150000),OffPeakPer*E66*E68,OffPeakPer*E66) -> 480 | H97: =G97*F97 -> 47.04 | I97: 0.098 | J97: =IF(AND(E66*12>=150000),OffPeakPer*E66*E69,OffPeakPer*E66) -> 480 | K97: =J97*I97 -> 47.04 | L97: =K97-H97 -> 0 | M97: =IF(ISERROR(L97/H97), "", L97/H97) -> 0
A98: =A97 -> Residential | B98: RPP | D98: TOU - Mid Peak | F98: 0.157 | G98: =IF(AND(E66*12>=150000),MidPeakPer*E66*E68,MidPeakPer*E66) -> 135 | H98: =G98*F98 -> 21.195 | I98: 0.157 | J98: =IF(AND(E66*12>=150000),MidPeakPer*E66*E69,MidPeakPer*E66) -> 135 | K98: =J98*I98 -> 21.195 | L98: =K98-H98 -> 0 | M98: =IF(ISERROR(L98/H98), "", L98/H98) -> 0
A99: =A98 -> Residential | B99: RPP | D99: TOU - On Peak | F99: 0.203 | G99: =IF(AND(E66*12>=150000),OnPeakPer*E66*E68,OnPeakPer*E66) -> 135 | H99: =G99*F99 -> 27.405 | I99: 0.203 | J99: =IF(AND(E66*12>=150000),OnPeakPer*E66*E69,OnPeakPer*E66) -> 135 | K99: =J99*I99 -> 27.405 | L99: =K99-H99 -> 0 | M99: =IF(ISERROR(L99/H99), "", L99/H99) -> 0
A100: =A99 -> Residential | B100: Non-RPP (Retailer) | D100: Non-RPP Retailer Avg. Price | F100: 0.11308 | G100: =IF(AND(E66*12>=150000),E66*E68,E66) -> 750 | H100: =G100*F100 -> 84.81 | I100: =F100 -> 0.11308 | J100: =IF(AND(E66*12>=150000),E66*E69,E66) -> 750 | K100: =J100*I100 -> 84.81 | L100: =K100-H100 -> 0 | M100: =IF(ISERROR(L100/H100), "", L100/H100) -> 0
A101: =A100 -> Residential | B101: Non-RPP (Other) | D101: Average IESO Wholesale Market Price | F101: 0.11308 | G101: =IF(AND(E66*12>=150000),E66*E68,E66) -> 750 | H101: =G101*F101 -> 84.81 | I101: =F101 -> 0.11308 | J101: =IF(AND(E66*12>=150000),E66*E69,E66) -> 750 | K101: =J101*I101 -> 84.81 | L101: =K101-H101 -> 0 | M101: =IF(ISERROR(L101/H101), "", L101/H101) -> 0
A102: =A101 -> Residential
A103: =A102 -> Residential | B103: RPP | D103: Total Bill on TOU (before Taxes) | H103: =SUM(H93:H99,H92) -> 163.10929 | K103: =SUM(K93:K99,K92) -> 169.43889 | L103: =K103-H103 -> 6.3296025 | M103: =IF((H103)=0,"",(L103/H103)) -> 0.038805898
A104: =A103 -> Residential | B104: RPP | D104: HST | F104: 0.13 | H104: =H103*F104 -> 21.204208 | I104: 0.13 | K104: =K103*I104 -> 22.027056 | L104: =K104-H104 -> 0.82284832 | M104: =IF((H104)=0,"",(L104/H104)) -> 0.038805898
A105: =A104 -> Residential | B105: RPP | D105: Ontario Electricity Rebate | F105: 0.235 | H105: =IF(OR(ISNUMBER(SEARCH("[DGEN]", E64))=TRUE, ISNUMBER(SEARCH("STREET LIGHT", E64))=TRUE), 0, IF(AND(E66=0, E67=0),0, IF(AND(E67=0, E66*12>250000), 0, IF(AND(E66=0, E67>=50), 0, IF(E66*12<=250000, F105*H103*-1, IF(E67<50, F105*H103*-1, 0)))))) -> -38.330683 | I105: 0.235 | K105: =IF(OR(ISNUMBER(SEARCH("[DGEN]", E64))=TRUE, ISNUMBER(SEARCH("STREET LIGHT", E64))=TRUE), 0, IF(AND(E66=0, E67=0),0, IF(AND(E67=0, E66*12>250000), 0, IF(AND(E66=0, E67>=50), 0, IF(E66*12<=250000, I105*K103*-1, IF(E67<50, I105*K103*-1, 0)))))) -> -39.81814 | L105: =K105-H105 -> -1.4874566
A106: =A105 -> Residential | B106: RPP_TOTAL | C106: =B16 -> 1 | D106: Total Bill on TOU | H106: =H103+H104+H105 -> 145.98282 | K106: =K103+K104+K105 -> 151.64781 | L106: =K106-H106 -> 5.6649942 | M106: =IF((H106)=0,"",(L106/H106)) -> 0.038805898
A107: =A106 -> Residential | B107: RPP
A108: =A107 -> Residential | B108: Non-RPP (Retailer) | D108: Total Bill on Non-RPP Avg. Price | H108: =SUM(H100,H93:H96,H92) -> 152.27929 | K108: =SUM(K100,K93:K96,K92) -> 158.60889 | L108: =K108-H108 -> 6.3296025 | M108: =IF((H108)=0,"",(L108/H108)) -> 0.041565747
A109: =A108 -> Residential | B109: Non-RPP (Retailer) | D109: HST | F109: 0.13 | H109: =H108*F109 -> 19.796308 | I109: 0.13 | K109: =K108*I109 -> 20.619156 | L109: =K109-H109 -> 0.82284832 | M109: =IF((H109)=0,"",(L109/H109)) -> 0.041565747
A110: =A109 -> Residential | B110: Non-RPP (Retailer) | D110: Ontario Electricity Rebate | F110: 0.235 | H110: =IF(OR(ISNUMBER(SEARCH("[DGEN]", E64))=TRUE, ISNUMBER(SEARCH("STREET LIGHT", E64))=TRUE), 0, IF(AND(E66=0, E67=0),0, IF(AND(E67=0, E66*12>250000), 0, IF(AND(E66=0, E67>=50), 0, IF(E66*12<=250000, F110*H108*-1, IF(E67<50, F110*H108*-1, 0)))))) -> -35.785633 | I110: 0.235 | K110: =IF(OR(ISNUMBER(SEARCH("[DGEN]", E64))=TRUE, ISNUMBER(SEARCH("STREET LIGHT", E64))=TRUE), 0, IF(AND(E66=0, E67=0),0, IF(AND(E67=0, E66*12>250000), 0, IF(AND(E66=0, E67>=50), 0, IF(E66*12<=250000, I110*K108*-1, IF(E67<50, I110*K108*-1, 0)))))) -> -37.27309
A111: =A110 -> Residential | B111: Non-RPP (Retailer)_TOTAL | D111: Total Bill on Non-RPP Avg. Price | H111: =SUM(H108,H109) -> 172.0756 | K111: =SUM(K108,K109) -> 179.22805 | L111: =K111-H111 -> 7.1524508 | M111: =IF((H111)=0,"",(L111/H111)) -> 0.041565747
A112: =A111 -> Residential | B112: Non-RPP (Retailer)
A113: =A112 -> Residential | B113: Non-RPP (Other) | D113: Total Bill on Average IESO Wholesale Market Price | H113: =SUM(H101,H93:H96,H92) -> 152.27929 | K113: =SUM(K101,K93:K96,K92) -> 158.60889 | L113: =K113-H113 -> 6.3296025 | M113: =IF((H113)=0,"",(L113/H113)) -> 0.041565747
A114: =A113 -> Residential | B114: Non-RPP (Other) | D114: HST | F114: 0.13 | H114: =H113*F114 -> 19.796308 | I114: 0.13 | K114: =K113*I114 -> 20.619156 | L114: =K114-H114 -> 0.82284832 | M114: =IF((H114)=0,"",(L114/H114)) -> 0.041565747
A115: =A114 -> Residential | B115: Non-RPP (Other) | D115: Ontario Electricity Rebate | F115: 0.235 | H115: =IF(OR(ISNUMBER(SEARCH("[DGEN]", E64))=TRUE, ISNUMBER(SEARCH("STREET LIGHT", E64))=TRUE), 0, IF(AND(E66=0, E67=0),0, IF(AND(E67=0, E66*12>250000), 0, IF(AND(E66=0, E67>=50), 0, IF(E66*12<=250000, F115*H113*-1, IF(E67<50, F115*H113*-1, 0)))))) -> -35.785633 | I115: 0.235 | K115: =IF(OR(ISNUMBER(SEARCH("[DGEN]", E64))=TRUE, ISNUMBER(SEARCH("STREET LIGHT", E64))=TRUE), 0, IF(AND(E66=0, E67=0),0, IF(AND(E67=0, E66*12>250000), 0, IF(AND(E66=0, E67>=50), 0, IF(E66*12<=250000, I115*K113*-1, IF(E67<50, I115*K113*-1, 0)))))) -> -37.27309
A116: =A115 -> Residential | B116: Non-RPP (Other)_TOTAL | D116: Total Bill on Average IESO Wholesale Market Price | H116: =SUM(H113,H114) -> 172.0756 | K116: =SUM(K113,K114) -> 179.22805 | L116: =K116-H116 -> 7.1524508 | M116: =IF((H116)=0,"",(L116/H116)) -> 0.041565747
A117: =A116 -> Residential | B117: Non-RPP (Other)
D120: Customer Class: | E120: =D17 -> GS <50 | K120: =IF(N17="DEMAND - INTERVAL","RTSR - INTERVAL METERED","")
...

Sheet VRZ BI (2027)
D14: Table 1
D15: RATE CLASSES / CATEGORIES (eg: Residential TOU, Residential Retailer) | G15: Units | H15: RPP? Non-RPP Retailer? Non-RPP Other? | I15: Current Loss Factor (eg: 1.0351) | J15: Proposed Loss Factor | K15: Consumption (kWh) | L15: Demand kW (if applicable) | M15: RTSR Demand or Demand-Interval? | N15: Billing Determinant Applied to Fixed Charge for Unmetered Classes (e.g. # of devices/connections).
B16: 1 | C16: 1 | D16: Residential | G16: kWh | H16: RPP | I16: 1.0482 | J16: 1.0415 | K16: 750 | M16: CONSUMPTION | AH16: 1
B17: 2 | C17: 2 | D17: Seasonal Residential | G17: kWh | H17: RPP | I17: 1.0482 | J17: 1.0415 | K17: 680 | M17: CONSUMPTION | AH17: 2
B18: 3 | C18: 3 | D18: GS <50 | G18: kWh | H18: RPP | I18: 1.0482 | J18: 1.0415 | K18: 2000 | M18: CONSUMPTION | AH18: 3
B19: 4 | C19: 4 | D19: GS 50 - 2,999 kW | G19: kW | H19: Non-RPP (Other) | I19: 1.0482 | J19: 1.0415 | K19: 75000 | L19: 175 | M19: DEMAND | AH19: 4
B20: 5 | C20: 5 | D20: GS 3,000 - 4,999 kW | G20: kW | H20: Non-RPP (Other) | I20: 1.0344 | J20: 1.0311 | K20: 2000000 | L20: 4000 | M20: DEMAND | AH20: 5
B21: 6 | C21: 6 | D21: Large Use >5MW | G21: kW | H21: Non-RPP (Other) | I21: 1.0045 | J21: 1.0066 | K21: 5650000 | L21: 9400 | M21: DEMAND | AH21: 6
B22: 7 | C22: 7 | D22: Unmetered Scattered Load | G22: kWh | H22: RPP | I22: 1.0482 | J22: 1.0415 | K22: 450 | M22: CONSUMPTION | N22: 1 | AH22: 7
B23: 8 | C23: 8 | D23: Sentinel | G23: kW | H23: RPP | I23: 1.0482 | J23: 1.0415 | K23: 60 | L23: 0.2 | M23: DEMAND | N23: 1 | AH23: 8
B24: 9 | C24: 9 | D24: Street Light | G24: kW | H24: Non-RPP (Other) | I24: 1.0482 | J24: 1.0415 | K24: 340939.97 | L24: 910.35058 | M24: DEMAND | N24: 11114.045 | AH24: 9
B25: 10 | C25: =IF(ISERROR(VLOOKUP(D25, D16:AH35, 42, FALSE)),"", VLOOKUP(D25, D16:AH35, 42, FALSE)) | D25: Residential (Low) | G25: kWh | H25: RPP | I25: 1.0482 | J25: =J24 -> 1.0415 | K25: 325 | M25: CONSUMPTION | AH25: 10
B26: 11 | C26: =IF(ISERROR(VLOOKUP(D26, D16:AH35, 42, FALSE)),"", VLOOKUP(D26, D16:AH35, 42, FALSE)) | D26: Residential (High) | G26: kWh | H26: RPP | I26: 1.0482 | J26: =J25 -> 1.0415 | K26: 1500 | M26: CONSUMPTION | AH26: 11
B27: 12 | C27: =IF(ISERROR(VLOOKUP(D27, D16:AH35, 42, FALSE)),"", VLOOKUP(D27, D16:AH35, 42, FALSE)) | D27: Seasonal Residential (Low) | G27: kWh | H27: RPP | I27: 1.0482 | J27: =J26 -> 1.0415 | K27: 350 | M27: CONSUMPTION
B28: 13 | C28: =IF(ISERROR(VLOOKUP(D28, D16:AH35, 42, FALSE)),"", VLOOKUP(D28, D16:AH35, 42, FALSE)) | D28: Seasonal Residential (High) | G28: kWh | H28: RPP | I28: 1.0482 | J28: =J27 -> 1.0415 | K28: 1500 | M28: CONSUMPTION
B29: 14 | C29: =IF(ISERROR(VLOOKUP(D29, D16:AH35, 42, FALSE)),"", VLOOKUP(D29, D16:AH35, 42, FALSE)) | D29: GS < 50 (Low) | G29: kWh | H29: RPP | I29: 1.0482 | J29: =J28 -> 1.0415 | K29: 1000 | M29: CONSUMPTION
B30: 15 | C30: =IF(ISERROR(VLOOKUP(D30, D16:AH35, 42, FALSE)),"", VLOOKUP(D30, D16:AH35, 42, FALSE)) | D30: GS < 50 (High) | G30: kWh | H30: RPP | I30: 1.0482 | J30: =J29 -> 1.0415 | K30: 5000 | M30: CONSUMPTION
B31: 16 | C31: =IF(ISERROR(VLOOKUP(D31, D16:AH35, 42, FALSE)),"", VLOOKUP(D31, D16:AH35, 42, FALSE)) | D31: Add additional scenarios if required
B32: 17 | C32: =IF(ISERROR(VLOOKUP(D32, D16:AH35, 42, FALSE)),"", VLOOKUP(D32, D16:AH35, 42, FALSE)) | D32: Add additional scenarios if required
B33: 18 | C33: =IF(ISERROR(VLOOKUP(D33, D16:AH35, 42, FALSE)),"", VLOOKUP(D33, D16:AH35, 42, FALSE)) | D33: Add additional scenarios if required
B34: 19 | C34: =IF(ISERROR(VLOOKUP(D34, D16:AH35, 42, FALSE)),"", VLOOKUP(D34, D16:AH35, 42, FALSE)) | D34: Add additional scenarios if required
B35: 20 | C35: =IF(ISERROR(VLOOKUP(D35, D16:AH35, 42, FALSE)),"", VLOOKUP(D35, D16:AH35, 42, FALSE)) | D35: Add additional scenarios if required
D37: Table 2
D38: RATE CLASSES / CATEGORIES (eg: Residential TOU, Residential Retailer) | G38: Units | H38: Sub-Total | N38: Total
H39: A | J39: B | L39: C | N39: Total Bill
H40: $ | I40: % | J40: $ | K40: % | L40: $ | M40: % | N40: $ | O40: %
B41: =H16 -> RPP | C41: 1 | D41: =IF(ISBLANK(D16), "", IF(D16 = "Add additional scenarios if required", "", IF(M16="YES", D16 & " - " & H16 & " - Interval Customers", D16 & " - " &H16))) -> Residential - RPP | G41: =IF(ISBLANK(G16), "", G16) -> kWh | H41: {=IF(LEN($G41)>1, (SUMPRODUCT(--($C$64:$C$1986=$B16), --($A$64:$A$1986=$D16), --($B$64:$B$1986="ST_A"), $L$64:$L$1986)), "")} -> 10.909761 | I41: =IF(LEN($G41)>1, (SUMPRODUCT(--($C$64:$C$1986=$B16), --($A$64:$A$1986=$D16), --($B$64:$B$1986="ST_A"), $M$64:$M$1986)), "") -> 0.30440183 | J41: =IF(LEN($G41)>1, (SUMPRODUCT(--($C$64:$C$1986=$B16), --($A$64:$A$1986=$D16), --($B$64:$B$1986="ST_B"), $L$64:$L$1986)), "") -> 11.188894 | K41: =IF(LEN($G41)>1, (SUMPRODUCT(--($C$64:$C$1986=$B16), --($A$64:$A$1986=$D16), --($B$64:$B$1986="ST_B"), $M$64:$M$1986)), "") -> 0.26320711 | L41: =IF(LEN($G41)>1, (SUMPRODUCT(--($C$64:$C$1986=$B16), --($A$64:$A$1986=$D16), --($B$64:$B$1986="ST_C"), $L$64:$L$1986)), "") -> 13.357174 | M41: =IF(LEN($G41)>1, (SUMPRODUCT(--($C$64:$C$1986=$B16), --($A$64:$A$1986=$D16), --($B$64:$B$1986="ST_C"), $M$64:$M$1986)), "") -> 0.23156354 | N41: =IF(LEN($G41)>1, (SUMPRODUCT(--($C$64:$C$1986=$B16), --($A$64:$A$1986=$D16), --($B$64:$B$1986=$B41&"_TOTAL"), $L$64:$L$1986)), "") -> 11.927687 | O41: =IF(LEN($G41)>1, (SUMPRODUCT(--($C$64:$C$1986=$B16), --($A$64:$A$1986=$D16), --($B$64:$B$1986=$B41&"_TOTAL"), $M$64:$M$1986)), "") -> 0.084194017
B42: =H17 -> RPP | C42: 2 | D42: =IF(ISBLANK(D17), "", IF(D17 = "Add additional scenarios if required", "", IF(M17="YES", D17 & " - " & H17 & " - Interval Customers", D17 & " - " &H17))) -> Seasonal Residential - RPP | G42: =IF(ISBLANK(G17), "", G17) -> kWh | H42: =IF(LEN($G42)>1, (SUMPRODUCT(--($C$64:$C$1986=$B17), --($A$64:$A$1986=$D17), --($B$64:$B$1986="ST_A"), $L$64:$L$1986)), "") -> 14.869109 | I42: =IF(LEN($G42)>1, (SUMPRODUCT(--($C$64:$C$1986=$B17), --($A$64:$A$1986=$D17), --($B$64:$B$1986="ST_A"), $M$64:$M$1986)), "") -> 0.22829893 | J42: =IF(LEN($G42)>1, (SUMPRODUCT(--($C$64:$C$1986=$B17), --($A$64:$A$1986=$D17), --($B$64:$B$1986="ST_B"), $L$64:$L$1986)), "") -> 15.115134 | K42: =IF(LEN($G42)>1, (SUMPRODUCT(--($C$64:$C$1986=$B17), --($A$64:$A$1986=$D17), --($B$64:$B$1986="ST_B"), $M$64:$M$1986)), "") -> 0.20816419 | L42: =IF(LEN($G42)>1, (SUMPRODUCT(--($C$64:$C$1986=$B17), --($A$64:$A$1986=$D17), --($B$64:$B$1986="ST_C"), $L$64:$L$1986)), "") -> 16.57253 | M42: =IF(LEN($G42)>1, (SUMPRODUCT(--($C$64:$C$1986=$B17), --($A$64:$A$1986=$D17), --($B$64:$B$1986="ST_C"), $M$64:$M$1986)), "") -> 0.18754856 | N42: =IF(LEN($G42)>1, (SUMPRODUCT(--($C$64:$C$1986=$B17), --($A$64:$A$1986=$D17), --($B$64:$B$1986=$B42&"_TOTAL"), $L$64:$L$1986)), "") -> 14.807949 | O42: =IF(LEN($G42)>1, (SUMPRODUCT(--($C$64:$C$1986=$B17), --($A$64:$A$1986=$D17), --($B$64:$B$1986=$B42&"_TOTAL"), $M$64:$M$1986)), "") -> 0.092120308
B43: =H18 -> RPP | C43: 3 | D43: =IF(ISBLANK(D18), "", IF(D18 = "Add additional scenarios if required", "", IF(M18="YES", D18 & " - " & H18 & " - Interval Customers", D18 & " - " &H18))) -> GS <50 - RPP | G43: =IF(ISBLANK(G18), "", G18) -> kWh | H43: =IF(LEN($G43)>1, (SUMPRODUCT(--($C$64:$C$1986=$B18), --($A$64:$A$1986=$D18), --($B$64:$B$1986="ST_A"), $L$64:$L$1986)), "") -> 19.298336 | I43: =IF(LEN($G43)>1, (SUMPRODUCT(--($C$64:$C$1986=$B18), --($A$64:$A$1986=$D18), --($B$64:$B$1986="ST_A"), $M$64:$M$1986)), "") -> 0.27176927 | J43: =IF(LEN($G43)>1, (SUMPRODUCT(--($C$64:$C$1986=$B18), --($A$64:$A$1986=$D18), --($B$64:$B$1986="ST_B"), $L$64:$L$1986)), "") -> 19.192279 | K43: =IF(LEN($G43)>1, (SUMPRODUCT(--($C$64:$C$1986=$B18), --($A$64:$A$1986=$D18), --($B$64:$B$1986="ST_B"), $M$64:$M$1986)), "") -> 0.2197851 | L43: =IF(LEN($G43)>1, (SUMPRODUCT(--($C$64:$C$1986=$B18), --($A$64:$A$1986=$D18), --($B$64:$B$1986="ST_C"), $L$64:$L$1986)), "") -> 24.577859 | M43: =IF(LEN($G43)>1, (SUMPRODUCT(--($C$64:$C$1986=$B18), --($A$64:$A$1986=$D18), --($B$64:$B$1986="ST_C"), $M$64:$M$1986)), "") -> 0.1971926 | N43: =IF(LEN($G43)>1, (SUMPRODUCT(--($C$64:$C$1986=$B18), --($A$64:$A$1986=$D18), --($B$64:$B$1986=$B43&"_TOTAL"), $L$64:$L$1986)), "") -> 21.925225 | O43: =IF(LEN($G43)>1, (SUMPRODUCT(--($C$64:$C$1986=$B18), --($A$64:$A$1986=$D18), --($B$64:$B$1986=$B43&"_TOTAL"), $M$64:$M$1986)), "") -> 0.062412755
B44: =H19 -> Non-RPP (Other) | C44: 4 | D44: =IF(ISBLANK(D19), "", IF(D19 = "Add additional scenarios if required", "", IF(M19="YES", D19 & " - " & H19 & " - Interval Customers", D19 & " - " &H19))) -> GS 50 - 2,999 kW - Non-RPP (Other) | G44: =IF(ISBLANK(G19), "", G19) -> kW | H44: =IF(LEN($G44)>1, (SUMPRODUCT(--($C$64:$C$1986=$B19), --($A$64:$A$1986=$D19), --($B$64:$B$1986="ST_A"), $L$64:$L$1986)), "") -> 269.41095 | I44: =IF(LEN($G44)>1, (SUMPRODUCT(--($C$64:$C$1986=$B19), --($A$64:$A$1986=$D19), --($B$64:$B$1986="ST_A"), $M$64:$M$1986)), "") -> 0.26700258 | J44: =IF(LEN($G44)>1, (SUMPRODUCT(--($C$64:$C$1986=$B19), --($A$64:$A$1986=$D19), --($B$64:$B$1986="ST_B"), $L$64:$L$1986)), "") -> -424.02258 | K44: =IF(LEN($G44)>1, (SUMPRODUCT(--($C$64:$C$1986=$B19), --($A$64:$A$1986=$D19), --($B$64:$B$1986="ST_B"), $M$64:$M$1986)), "") -> -0.23096327 | L44: =IF(LEN($G44)>1, (SUMPRODUCT(--($C$64:$C$1986=$B19), --($A$64:$A$1986=$D19), --($B$64:$B$1986="ST_C"), $L$64:$L$1986)), "") -> -298.44258 | M44: =IF(LEN($G44)>1, (SUMPRODUCT(--($C$64:$C$1986=$B19), --($A$64:$A$1986=$D19), --($B$64:$B$1986="ST_C"), $M$64:$M$1986)), "") -> -0.089630808 | N44: =IF(LEN($G44)>1, (SUMPRODUCT(--($C$64:$C$1986=$B19), --($A$64:$A$1986=$D19), --($B$64:$B$1986=$B44&"_TOTAL"), $L$64:$L$1986)), "") -> -404.85672 | O44: =IF(LEN($G44)>1, (SUMPRODUCT(--($C$64:$C$1986=$B19), --($A$64:$A$1986=$D19), --($B$64:$B$1986=$B44&"_TOTAL"), $M$64:$M$1986)), "") -> -0.028230136
B45: =H20 -> Non-RPP (Other) | C45: 5 | D45: =IF(ISBLANK(D20), "", IF(D20 = "Add additional scenarios if required", "", IF(M20="YES", D20 & " - " & H20 & " - Interval Customers", D20 & " - " &H20))) -> GS 3,000 - 4,999 kW - Non-RPP (Other) | G45: =IF(ISBLANK(G20), "", G20) -> kW | H45: =IF(LEN($G45)>1, (SUMPRODUCT(--($C$64:$C$1986=$B20), --($A$64:$A$1986=$D20), --($B$64:$B$1986="ST_A"), $L$64:$L$1986)), "") -> 4578.0934 | I45: =IF(LEN($G45)>1, (SUMPRODUCT(--($C$64:$C$1986=$B20), --($A$64:$A$1986=$D20), --($B$64:$B$1986="ST_A"), $M$64:$M$1986)), "") -> 0.22292938 | J45: =IF(LEN($G45)>1, (SUMPRODUCT(--($C$64:$C$1986=$B20), --($A$64:$A$1986=$D20), --($B$64:$B$1986="ST_B"), $L$64:$L$1986)), "") -> -14959.647 | K45: =IF(LEN($G45)>1, (SUMPRODUCT(--($C$64:$C$1986=$B20), --($A$64:$A$1986=$D20), --($B$64:$B$1986="ST_B"), $M$64:$M$1986)), "") -> -0.35357178 | L45: =IF(LEN($G45)>1, (SUMPRODUCT(--($C$64:$C$1986=$B20), --($A$64:$A$1986=$D20), --($B$64:$B$1986="ST_C"), $L$64:$L$1986)), "") -> -18710.847 | M45: =IF(LEN($G45)>1, (SUMPRODUCT(--($C$64:$C$1986=$B20), --($A$64:$A$1986=$D20), --($B$64:$B$1986="ST_C"), $M$64:$M$1986)), "") -> -0.23423439 | N45: =IF(LEN($G45)>1, (SUMPRODUCT(--($C$64:$C$1986=$B20), --($A$64:$A$1986=$D20), --($B$64:$B$1986=$B45&"_TOTAL"), $L$64:$L$1986)), "") -> -22031.355 | O45: =IF(LEN($G45)>1, (SUMPRODUCT(--($C$64:$C$1986=$B20), --($A$64:$A$1986=$D20), --($B$64:$B$1986=$B45&"_TOTAL"), $M$64:$M$1986)), "") -> -0.059763192
B46: =H21 -> Non-RPP (Other) | C46: 6 | D46: =IF(ISBLANK(D21), "", IF(D21 = "Add additional scenarios if required", "", IF(M21="YES", D21 & " - " & H21 & " - Interval Customers", D21 & " - " &H21))) -> Large Use >5MW - Non-RPP (Other) | G46: =IF(ISBLANK(G21), "", G21) -> kW | H46: =IF(LEN($G46)>1, (SUMPRODUCT(--($C$64:$C$1986=$B21), --($A$64:$A$1986=$D21), --($B$64:$B$1986="ST_A"), $L$64:$L$1986)), "") -> 13798.386 | I46: =IF(LEN($G46)>1, (SUMPRODUCT(--($C$64:$C$1986=$B21), --($A$64:$A$1986=$D21), --($B$64:$B$1986="ST_A"), $M$64:$M$1986)), "") -> 0.25225849 | J46: =IF(LEN($G46)>1, (SUMPRODUCT(--($C$64:$C$1986=$B21), --($A$64:$A$1986=$D21), --($B$64:$B$1986="ST_B"), $L$64:$L$1986)), "") -> 20356.674 | K46: =IF(LEN($G46)>1, (SUMPRODUCT(--($C$64:$C$1986=$B21), --($A$64:$A$1986=$D21), --($B$64:$B$1986="ST_B"), $M$64:$M$1986)), "") -> 0.36579387 | L46: =IF(LEN($G46)>1, (SUMPRODUCT(--($C$64:$C$1986=$B21), --($A$64:$A$1986=$D21), --($B$64:$B$1986="ST_C"), $L$64:$L$1986)), "") -> 28945.454 | M46: =IF(LEN($G46)>1, (SUMPRODUCT(--($C$64:$C$1986=$B21), --($A$64:$A$1986=$D21), --($B$64:$B$1986="ST_C"), $M$64:$M$1986)), "") -> 0.20109102 | N46: =IF(LEN($G46)>1, (SUMPRODUCT(--($C$64:$C$1986=$B21), --($A$64:$A$1986=$D21), --($B$64:$B$1986=$B46&"_TOTAL"), $L$64:$L$1986)), "") -> 34304.922 | O46: =IF(LEN($G46)>1, (SUMPRODUCT(--($C$64:$C$1986=$B21), --($A$64:$A$1986=$D21), --($B$64:$B$1986=$B46&"_TOTAL"), $M$64:$M$1986)), "") -> 0.037032665
B47: =H22 -> RPP | C47: 7 | D47: =IF(ISBLANK(D22), "", IF(D22 = "Add additional scenarios if required", "", IF(M22="YES", D22 & " - " & H22 & " - Interval Customers", D22 & " - " &H22))) -> Unmetered Scattered Load - RPP | G47: =IF(ISBLANK(G22), "", G22) -> kWh | H47: =IF(LEN($G47)>1, (SUMPRODUCT(--($C$64:$C$1986=$B22), --($A$64:$A$1986=$D22), --($B$64:$B$1986="ST_A"), $L$64:$L$1986)), "") -> 1.8475142 | I47: =IF(LEN($G47)>1, (SUMPRODUCT(--($C$64:$C$1986=$B22), --($A$64:$A$1986=$D22), --($B$64:$B$1986="ST_A"), $M$64:$M$1986)), "") -> 0.092352624 | J47: =IF(LEN($G47)>1, (SUMPRODUCT(--($C$64:$C$1986=$B22), --($A$64:$A$1986=$D22), --($B$64:$B$1986="ST_B"), $L$64:$L$1986)), "") -> 1.8358811 | K47: =IF(LEN($G47)>1, (SUMPRODUCT(--($C$64:$C$1986=$B22), --($A$64:$A$1986=$D22), --($B$64:$B$1986="ST_B"), $M$64:$M$1986)), "") -> 0.076828261 | L47: =IF(LEN($G47)>1, (SUMPRODUCT(--($C$64:$C$1986=$B22), --($A$64:$A$1986=$D22), --($B$64:$B$1986="ST_C"), $L$64:$L$1986)), "") -> 3.0945041 | M47: =IF(LEN($G47)>1, (SUMPRODUCT(--($C$64:$C$1986=$B22), --($A$64:$A$1986=$D22), --($B$64:$B$1986="ST_C"), $M$64:$M$1986)), "") -> 0.095828843 | N47: =IF(LEN($G47)>1, (SUMPRODUCT(--($C$64:$C$1986=$B22), --($A$64:$A$1986=$D22), --($B$64:$B$1986=$B47&"_TOTAL"), $L$64:$L$1986)), "") -> 2.7533906 | O47: =IF(LEN($G47)>1, (SUMPRODUCT(--($C$64:$C$1986=$B22), --($A$64:$A$1986=$D22), --($B$64:$B$1986=$B47&"_TOTAL"), $M$64:$M$1986)), "") -> 0.033166693
B48: =H23 -> RPP | C48: 8 | D48: =IF(ISBLANK(D23), "", IF(D23 = "Add additional scenarios if required", "", IF(M23="YES", D23 & " - " & H23 & " - Interval Customers", D23 & " - " &H23))) -> Sentinel - RPP | G48: =IF(ISBLANK(G23), "", G23) -> kW | H48: =IF(LEN($G48)>1, (SUMPRODUCT(--($C$64:$C$1986=$B23), --($A$64:$A$1986=$D23), --($B$64:$B$1986="ST_A"), $L$64:$L$1986)), "") -> 1.7871628 | I48: =IF(LEN($G48)>1, (SUMPRODUCT(--($C$64:$C$1986=$B23), --($A$64:$A$1986=$D23), --($B$64:$B$1986="ST_A"), $M$64:$M$1986)), "") -> 0.17892527 | J48: =IF(LEN($G48)>1, (SUMPRODUCT(--($C$64:$C$1986=$B23), --($A$64:$A$1986=$D23), --($B$64:$B$1986="ST_B"), $L$64:$L$1986)), "") -> 1.8161569 | K48: =IF(LEN($G48)>1, (SUMPRODUCT(--($C$64:$C$1986=$B23), --($A$64:$A$1986=$D23), --($B$64:$B$1986="ST_B"), $M$64:$M$1986)), "") -> 0.17009279 | L48: =IF(LEN($G48)>1, (SUMPRODUCT(--($C$64:$C$1986=$B23), --($A$64:$A$1986=$D23), --($B$64:$B$1986="ST_C"), $L$64:$L$1986)), "") -> 1.9473369 | M48: =IF(LEN($G48)>1, (SUMPRODUCT(--($C$64:$C$1986=$B23), --($A$64:$A$1986=$D23), --($B$64:$B$1986="ST_C"), $M$64:$M$1986)), "") -> 0.16579193 | N48: =IF(LEN($G48)>1, (SUMPRODUCT(--($C$64:$C$1986=$B23), --($A$64:$A$1986=$D23), --($B$64:$B$1986=$B48&"_TOTAL"), $L$64:$L$1986)), "") -> 1.7407078 | O48: =IF(LEN($G48)>1, (SUMPRODUCT(--($C$64:$C$1986=$B23), --($A$64:$A$1986=$D23), --($B$64:$B$1986=$B48&"_TOTAL"), $M$64:$M$1986)), "") -> 0.097128623
B49: =H24 -> Non-RPP (Other) | C49: 9 | D49: =IF(ISBLANK(D24), "", IF(D24 = "Add additional scenarios if required", "", IF(M24="YES", D24 & " - " & H24 & " - Interval Customers", D24 & " - " &H24))) -> Street Light - Non-RPP (Other) | G49: =IF(ISBLANK(G24), "", G24) -> kW | H49: =IF(LEN($G49)>1, (SUMPRODUCT(--($C$64:$C$1986=$B24), --($A$64:$A$1986=$D24), --($B$64:$B$1986="ST_A"), $L$64:$L$1986)), "") -> -1013.9046 | I49: =IF(LEN($G49)>1, (SUMPRODUCT(--($C$64:$C$1986=$B24), --($A$64:$A$1986=$D24), --($B$64:$B$1986="ST_A"), $M$64:$M$1986)), "") -> -0.056021908 | J49: =IF(LEN($G49)>1, (SUMPRODUCT(--($C$64:$C$1986=$B24), --($A$64:$A$1986=$D24), --($B$64:$B$1986="ST_B"), $L$64:$L$1986)), "") -> -4143.8807 | K49: =IF(LEN($G49)>1, (SUMPRODUCT(--($C$64:$C$1986=$B24), --($A$64:$A$1986=$D24), --($B$64:$B$1986="ST_B"), $M$64:$M$1986)), "") -> -0.18644541 | L49: =IF(LEN($G49)>1, (SUMPRODUCT(--($C$64:$C$1986=$B24), --($A$64:$A$1986=$D24), --($B$64:$B$1986="ST_C"), $L$64:$L$1986)), "") -> -3502.8118 | M49: =IF(LEN($G49)>1, (SUMPRODUCT(--($C$64:$C$1986=$B24), --($A$64:$A$1986=$D24), --($B$64:$B$1986="ST_C"), $M$64:$M$1986)), "") -> -0.12816837 | N49: =IF(LEN($G49)>1, (SUMPRODUCT(--($C$64:$C$1986=$B24), --($A$64:$A$1986=$D24), --($B$64:$B$1986=$B49&"_TOTAL"), $L$64:$L$1986)), "") -> -4265.5534 | O49: =IF(LEN($G49)>1, (SUMPRODUCT(--($C$64:$C$1986=$B24), --($A$64:$A$1986=$D24), --($B$64:$B$1986=$B49&"_TOTAL"), $M$64:$M$1986)), "") -> -0.052031559
B50: =H25 -> RPP | C50: 10 | D50: =IF(ISBLANK(D25), "", IF(D25 = "Add additional scenarios if required", "", IF(M25="YES", D25 & " - " & H25 & " - Interval Customers", D25 & " - " &H25))) -> Residential (Low) - RPP | G50: =IF(ISBLANK(G25), "", G25) -> kWh | H50: =IF(LEN($G50)>1, (SUMPRODUCT(--($C$64:$C$1986=$B25), --($A$64:$A$1986=$D25), --($B$64:$B$1986="ST_A"), $L$64:$L$1986)), "") -> 10.909761 | I50: =IF(LEN($G50)>1, (SUMPRODUCT(--($C$64:$C$1986=$B25), --($A$64:$A$1986=$D25), --($B$64:$B$1986="ST_A"), $M$64:$M$1986)), "") -> 0.30440183 | J50: =IF(LEN($G50)>1, (SUMPRODUCT(--($C$64:$C$1986=$B25), --($A$64:$A$1986=$D25), --($B$64:$B$1986="ST_B"), $L$64:$L$1986)), "") -> 11.098607 | K50: =IF(LEN($G50)>1, (SUMPRODUCT(--($C$64:$C$1986=$B25), --($A$64:$A$1986=$D25), --($B$64:$B$1986="ST_B"), $M$64:$M$1986)), "") -> 0.27936767 | L50: =IF(LEN($G50)>1, (SUMPRODUCT(--($C$64:$C$1986=$B25), --($A$64:$A$1986=$D25), --($B$64:$B$1986="ST_C"), $L$64:$L$1986)), "") -> 12.038195 | M50: =IF(LEN($G50)>1, (SUMPRODUCT(--($C$64:$C$1986=$B25), --($A$64:$A$1986=$D25), --($B$64:$B$1986="ST_C"), $M$64:$M$1986)), "") -> 0.25999054 | N50: =IF(LEN($G50)>1, (SUMPRODUCT(--($C$64:$C$1986=$B25), --($A$64:$A$1986=$D25), --($B$64:$B$1986=$B50&"_TOTAL"), $L$64:$L$1986)), "") -> 10.762492 | O50: =IF(LEN($G50)>1, (SUMPRODUCT(--($C$64:$C$1986=$B25), --($A$64:$A$1986=$D25), --($B$64:$B$1986=$B50&"_TOTAL"), $M$64:$M$1986)), "") -> 0.13355257
B51: =H26 -> RPP | C51: 11 | D51: =IF(ISBLANK(D26), "", IF(D26 = "Add additional scenarios if required", "", IF(M26="YES", D26 & " - " & H26 & " - Interval Customers", D26 & " - " &H26))) -> Residential (High) - RPP | G51: =IF(ISBLANK(G26), "", G26) -> kWh | H51: =IF(LEN($G51)>1, (SUMPRODUCT(--($C$64:$C$1986=$B26), --($A$64:$A$1986=$D26), --($B$64:$B$1986="ST_A"), $L$64:$L$1986)), "") -> 10.909761 | I51: =IF(LEN($G51)>1, (SUMPRODUCT(--($C$64:$C$1986=$B26), --($A$64:$A$1986=$D26), --($B$64:$B$1986="ST_A"), $M$64:$M$1986)), "") -> 0.30440183 | J51: =IF(LEN($G51)>1, (SUMPRODUCT(--($C$64:$C$1986=$B26), --($A$64:$A$1986=$D26), --($B$64:$B$1986="ST_B"), $L$64:$L$1986)), "") -> 11.348224 | K51: =IF(LEN($G51)>1, (SUMPRODUCT(--($C$64:$C$1986=$B26), --($A$64:$A$1986=$D26), --($B$64:$B$1986="ST_B"), $M$64:$M$1986)), "") -> 0.23931456 | L51: =IF(LEN($G51)>1, (SUMPRODUCT(--($C$64:$C$1986=$B26), --($A$64:$A$1986=$D26), --($B$64:$B$1986="ST_C"), $L$64:$L$1986)), "") -> 15.684784 | M51: =IF(LEN($G51)>1, (SUMPRODUCT(--($C$64:$C$1986=$B26), --($A$64:$A$1986=$D26), --($B$64:$B$1986="ST_C"), $M$64:$M$1986)), "") -> 0.20169442 | N51: =IF(LEN($G51)>1, (SUMPRODUCT(--($C$64:$C$1986=$B26), --($A$64:$A$1986=$D26), --($B$64:$B$1986=$B51&"_TOTAL"), $L$64:$L$1986)), "") -> 13.983913 | O51: =IF(LEN($G51)>1, (SUMPRODUCT(--($C$64:$C$1986=$B26), --($A$64:$A$1986=$D26), --($B$64:$B$1986=$B51&"_TOTAL"), $M$64:$M$1986)), "") -> 0.056056205
B52: =H27 -> RPP | C52: 12 | D52: =IF(ISBLANK(D27), "", IF(D27 = "Add additional scenarios if required", "", IF(M27="YES", D27 & " - " & H27 & " - Interval Customers", D27 & " - " &H27))) -> Seasonal Residential (Low) - RPP | G52: =IF(ISBLANK(G27), "", G27) -> kWh | H52: =IF(LEN($G52)>1, (SUMPRODUCT(--($C$64:$C$1986=$B27), --($A$64:$A$1986=$D27), --($B$64:$B$1986="ST_A"), $L$64:$L$1986)), "") -> 14.869109 | I52: =IF(LEN($G52)>1, (SUMPRODUCT(--($C$64:$C$1986=$B27), --($A$64:$A$1986=$D27), --($B$64:$B$1986="ST_A"), $M$64:$M$1986)), "") -> 0.22829893 | J52: =IF(LEN($G52)>1, (SUMPRODUCT(--($C$64:$C$1986=$B27), --($A$64:$A$1986=$D27), --($B$64:$B$1986="ST_B"), $L$64:$L$1986)), "") -> 15.10983 | K52: =IF(LEN($G52)>1, (SUMPRODUCT(--($C$64:$C$1986=$B27), --($A$64:$A$1986=$D27), --($B$64:$B$1986="ST_B"), $M$64:$M$1986)), "") -> 0.21497558 | L52: =IF(LEN($G52)>1, (SUMPRODUCT(--($C$64:$C$1986=$B27), --($A$64:$A$1986=$D27), --($B$64:$B$1986="ST_C"), $L$64:$L$1986)), "") -> 15.85996 | M52: =IF(LEN($G52)>1, (SUMPRODUCT(--($C$64:$C$1986=$B27), --($A$64:$A$1986=$D27), --($B$64:$B$1986="ST_C"), $M$64:$M$1986)), "") -> 0.20231066 | N52: =IF(LEN($G52)>1, (SUMPRODUCT(--($C$64:$C$1986=$B27), --($A$64:$A$1986=$D27), --($B$64:$B$1986=$B52&"_TOTAL"), $L$64:$L$1986)), "") -> 14.182072 | O52: =IF(LEN($G52)>1, (SUMPRODUCT(--($C$64:$C$1986=$B27), --($A$64:$A$1986=$D27), --($B$64:$B$1986=$B52&"_TOTAL"), $M$64:$M$1986)), "") -> 0.12628491
B53: =H28 -> RPP | C53: 13 | D53: =IF(ISBLANK(D28), "", IF(D28 = "Add additional scenarios if required", "", IF(M28="YES", D28 & " - " & H28 & " - Interval Customers", D28 & " - " &H28))) -> Seasonal Residential (High) - RPP | G53: =IF(ISBLANK(G28), "", G28) -> kWh | H53: =IF(LEN($G53)>1, (SUMPRODUCT(--($C$64:$C$1986=$B28), --($A$64:$A$1986=$D28), --($B$64:$B$1986="ST_A"), $L$64:$L$1986)), "") -> 14.869109 | I53: =IF(LEN($G53)>1, (SUMPRODUCT(--($C$64:$C$1986=$B28), --($A$64:$A$1986=$D28), --($B$64:$B$1986="ST_A"), $M$64:$M$1986)), "") -> 0.22829893 | J53: =IF(LEN($G53)>1, (SUMPRODUCT(--($C$64:$C$1986=$B28), --($A$64:$A$1986=$D28), --($B$64:$B$1986="ST_B"), $L$64:$L$1986)), "") -> 15.128314 | K53: =IF(LEN($G53)>1, (SUMPRODUCT(--($C$64:$C$1986=$B28), --($A$64:$A$1986=$D28), --($B$64:$B$1986="ST_B"), $M$64:$M$1986)), "") -> 0.19298856 | L53: =IF(LEN($G53)>1, (SUMPRODUCT(--($C$64:$C$1986=$B28), --($A$64:$A$1986=$D28), --($B$64:$B$1986="ST_C"), $L$64:$L$1986)), "") -> 18.343159 | M53: =IF(LEN($G53)>1, (SUMPRODUCT(--($C$64:$C$1986=$B28), --($A$64:$A$1986=$D28), --($B$64:$B$1986="ST_C"), $M$64:$M$1986)), "") -> 0.16213152 | N53: =IF(LEN($G53)>1, (SUMPRODUCT(--($C$64:$C$1986=$B28), --($A$64:$A$1986=$D28), --($B$64:$B$1986=$B53&"_TOTAL"), $L$64:$L$1986)), "") -> 16.363159 | O53: =IF(LEN($G53)>1, (SUMPRODUCT(--($C$64:$C$1986=$B28), --($A$64:$A$1986=$D28), --($B$64:$B$1986=$B53&"_TOTAL"), $M$64:$M$1986)), "") -> 0.058206884
... B60: =H35 -> 0 | C60: 20 | D60: =IF(ISBLANK(D35), "", IF(D35 = "Add additional scenarios if required", "", IF(M35="YES", D35 & " - " & H35 & " - Interval Customers", D35 & " - " &H35))) | G60: =IF(ISBLANK(G35), "", G35) | H60: =IF(LEN($G60)>1, (SUMPRODUCT(--($C$64:$C$1986=$B35), --($A$64:$A$1986=$D35), --($B$64:$B$1986="ST_A"), $L$64:$L$1986)), "") | I60: =IF(LEN($G60)>1, (SUMPRODUCT(--($C$64:$C$1986=$B35), --($A$64:$A$1986=$D35), --($B$64:$B$1986="ST_A"), $M$64:$M$1986)), "") | J60: =IF(LEN($G60)>1, (SUMPRODUCT(--($C$64:$C$1986=$B35), --($A$64:$A$1986=$D35), --($B$64:$B$1986="ST_B"), $L$64:$L$1986)), "") | K60: =IF(LEN($G60)>1, (SUMPRODUCT(--($C$64:$C$1986=$B35), --($A$64:$A$1986=$D35), --($B$64:$B$1986="ST_B"), $M$64:$M$1986)), "") | L60: =IF(LEN($G60)>1, (SUMPRODUCT(--($C$64:$C$1986=$B35), --($A$64:$A$1986=$D35), --($B$64:$B$1986="ST_C"), $L$64:$L$1986)), "") | M60: =IF(LEN($G60)>1, (SUMPRODUCT(--($C$64:$C$1986=$B35), --($A$64:$A$1986=$D35), --($B$64:$B$1986="ST_C"), $M$64:$M$1986)), "") | N60: =IF(LEN($G60)>1, (SUMPRODUCT(--($C$64:$C$1986=$B35), --($A$64:$A$1986=$D35), --($B$64:$B$1986=$B60&"_TOTAL"), $L$64:$L$1986)), "") | O60: =IF(LEN($G60)>1, (SUMPRODUCT(--($C$64:$C$1986=$B35), --($A$64:$A$1986=$D35), --($B$64:$B$1986=$B60&"_TOTAL"), $M$64:$M$1986)), "")
D64: Customer Class: | E64: =D16 -> Residential | K64: =IF(N16="DEMAND - INTERVAL","RTSR - INTERVAL METERED","")
D65: RPP / Non-RPP: | E65: =H16 -> RPP
D66: Consumption | E66: =K16 -> 750 | F66: kWh
D67: Demand | E67: =L16 -> 0 | F67: kW
D68: Current Loss Factor | E68: =I16 -> 1.0482
D69: Proposed/Approved Loss Factor | E69: =J16 -> 1.0415
F71: Current OEB-Approved | I71: Proposed | L71: Impact
F72: Rate | G72: Volume | H72: Charge | I72: Rate | J72: Volume | K72: Charge | L72: $ Change | M72: % Change
F73: ($) | H73: ($) | I73: ($) | K73: ($)
A74: =$E64 -> Residential | D74: Monthly Service Charge | F74: 32.79 | G74: 1 | H74: =G74*F74 -> 32.79 | I74: 47.66 | J74: =G74 -> 1 | K74: =J74*I74 -> 47.66 | L74: =K74-H74 -> 14.87 | M74: =IF(ISERROR(L74/H74), "", L74/H74) -> 0.45349192
A75: =A74 -> Residential | D75: Distribution Volumetric Rate | F75: 0 | G75: =IF($E67>0, $E67, $E66) -> 750 | H75: =G75*F75 -> 0 | I75: 0 | J75: =IF($E67>0, $E67, $E66) -> 750 | K75: =J75*I75 -> 0 | L75: =K75-H75 -> 0 | M75: =IF(ISERROR(L75/H75), "", L75/H75)
A76: =A75 -> Residential | D76: RRRP Credit | F76: 0 | G76: =IF($E67>0, $E67, $E66) -> 750 | H76: 0 | I76: 0 | J76: =IF($E67>0, $E67, $E66) -> 750 | K76: 0
A77: =A76 -> Residential | D77: DRP Adjustment | F77: 0 | G77: =IF($E67>0, $E67, $E66) -> 750 | H77: 0 | I77: 0 | J77: =IF($E67>0, $E67, $E66) -> 750 | K77: 0 | L77: =K77-H77 -> 0 | M77: =IF(ISERROR(L77/H77), "", L77/H77)
A78: =A77 -> Residential | D78: Fixed Rate Riders | F78: 3.05 | G78: 1 | H78: =G78*F78 -> 3.05 | I78: -0.91023855 | J78: =G78 -> 1 | K78: =J78*I78 -> -0.91023855 | L78: =K78-H78 -> -3.9602386 | M78: =IF(ISERROR(L78/H78), "", L78/H78) -> -1.2984389
A79: =A78 -> Residential | D79: Volumetric Rate Riders | F79: 0 | G79: =IF($E67>0, $E67, $E66) -> 750 | H79: =G79*F79 -> 0 | I79: 0 | J79: =IF($E67>0, $E67, $E66) -> 750 | K79: =J79*I79 -> 0 | L79: =K79-H79 -> 0 | M79: =IF(ISERROR(L79/H79), "", L79/H79)
A80: =A79 -> Residential | B80: ST_A | C80: =B16 -> 1 | D80: Sub-Total A (excluding pass through) | H80: =SUM(H74:H79) -> 35.84 | K80: =SUM(K74:K79) -> 46.749761 | L80: =K80-H80 -> 10.909761 | M80: =IF((H80)=0,"",(L80/H80)) -> 0.30440183
A81: =A80 -> Residential | D81: Line Losses on Cost of Power | F81: =IF((E66*12>=150000), 0, IF(E65="RPP",(F97*OffPeakPer+F98*MidPeakPer+F99*OnPeakPer),IF(E65="Non-RPP (Retailer)",F100,F101))) -> 0.12752 | G81: =IF(F81=0, 0, $E66*E68-E66) -> 36.15 | H81: =G81*F81 -> 4.609848 | I81: =IF((E66*12>=150000), 0, IF(E65="RPP",(I97*OffPeakPer+I98*MidPeakPer+I99*OnPeakPer),IF(E65="Non-RPP (Retailer)",I100,I101))) -> 0.12752 | J81: =IF(I81=0, 0, E66*E69-E66) -> 31.125 | K81: =J81*I81 -> 3.96906 | L81: =K81-H81 -> -0.640788 | M81: =IF(ISERROR(L81/H81), "", L81/H81) -> -0.13900415
A82: =A81 -> Residential | D82: Total Deferral/Variance Account Rate Riders | F82: -0.0016 | G82: =IF($E67>0, $E67, $E66) -> 750 | H82: =G82*F82 -> -1.2 | I82: 0 | J82: =IF($E67>0, $E67, $E66) -> 750 | K82: =J82*I82 -> 0 | L82: =K82-H82 -> 1.2 | M82: =IF(ISERROR(L82/H82), "", L82/H82) -> -1
A83: =A82 -> Residential | D83: CBR Class B Rate Riders | F83: 0.0006 | G83: =IF($E67>0, $E67, $E66) -> 750 | H83: =G83*F83 -> 0.45 | I83: 0 | J83: =IF($E67>0, $E67, $E66) -> 750 | K83: =J83*I83 -> 0 | L83: =K83-H83 -> -0.45 | M83: =IF(ISERROR(L83/H83), "", L83/H83) -> -1
A84: =A83 -> Residential | D84: GA Rate Riders | F84: 0 | G84: =E66 -> 750 | H84: =G84*F84 -> 0 | I84: 0 | J84: =E66 -> 750 | K84: =J84*I84 -> 0 | L84: =K84-H84 -> 0 | M84: =IF(ISERROR(L84/H84), "", L84/H84)
A85: =A84 -> Residential | D85: Low Voltage Service Charge | F85: 0.0014 | G85: =IF($E67>0, $E67, $E66) -> 750 | H85: =G85*F85 -> 1.05 | I85: 0.0014668234 | J85: =IF($E67>0, $E67, $E66) -> 750 | K85: =J85*I85 -> 1.1001175 | L85: =K85-H85 -> 0.050117531 | M85: =IF(ISERROR(L85/H85), "", L85/H85) -> 0.047730982
A86: =A85 -> Residential | D86: Smart Meter Entity Charge (if applicable) | F86: 0.42 | G86: 1 | H86: =G86*F86 -> 0.42 | I86: 0.42 | J86: 1 | K86: =J86*I86 -> 0.42 | L86: =K86-H86 -> 0 | M86: =IF(ISERROR(L86/H86), "", L86/H86) -> 0
A87: =A86 -> Residential | D87: Additional Fixed Rate Riders | F87: 1.34 | G87: 1 | H87: =G87*F87 -> 1.34 | I87: 1.4598031 | J87: 1 | K87: =J87*I87 -> 1.4598031 | L87: =K87-H87 -> 0.11980305 | M87: =IF(ISERROR(L87/H87), "", L87/H87) -> 0.089405262
A88: =A87 -> Residential | D88: Additional Volumetric Rate Riders | F88: 0 | G88: =IF($E67>0, $E67, $E66) -> 750 | H88: =G88*F88 -> 0 | I88: 0 | J88: =IF($E67>0, $E67, $E66) -> 750 | K88: =J88*I88 -> 0 | L88: =K88-H88 -> 0 | M88: =IF(ISERROR(L88/H88), "", L88/H88)
A89: =A88 -> Residential | B89: ST_B | C89: =B16 -> 1 | D89: Sub-Total B - Distribution (includes Sub-Total A) | H89: =SUM(H80:H88) -> 42.509848 | K89: =SUM(K80:K88) -> 53.698742 | L89: =K89-H89 -> 11.188894 | M89: =IF((H89)=0,"",(L89/H89)) -> 0.26320711
A90: =A89 -> Residential | D90: RTSR - Network | F90: 0.0115 | G90: =IF($E67>0, $E67, $E66*$E68) -> 786.15 | H90: =G90*F90 -> 9.040725 | I90: 0.0129 | J90: =IF($E67>0, $E67, $E66*$E69) -> 781.125 | K90: =J90*I90 -> 10.076513 | L90: =K90-H90 -> 1.0357875 | M90: =IF(ISERROR(L90/H90), "", L90/H90) -> 0.11456907 | N90: =IF(ISERROR(ABS(M90)), "", IF(ABS(M90)>=4%, "In the manager's summary, discuss the reasoning for the change in RTSR rates", "")) -> In the manager's summary, discuss the reasoning for the change in RTSR rates
A91: =A90 -> Residential | D91: RTSR - Connection and/or Line and Transformation Connection | F91: 0.0078 | G91: =IF($E67>0, $E67, $E66*$E68) -> 786.15 | H91: =G91*F91 -> 6.13197 | I91: 0.0093 | J91: =IF($E67>0, $E67, $E66*$E69) -> 781.125 | K91: =J91*I91 -> 7.2644625 | L91: =K91-H91 -> 1.1324925 | M91: =IF(ISERROR(L91/H91), "", L91/H91) -> 0.18468657 | N91: =IF(ISERROR(ABS(M91)), "", IF(ABS(M91)>=4%, "In the manager's summary, discuss the reasoning for the change in RTSR rates", "")) -> In the manager's summary, discuss the reasoning for the change in RTSR rates
A92: =A91 -> Residential | B92: ST_C | C92: =B16 -> 1 | D92: Sub-Total C - Delivery (including Sub-Total B) | H92: =SUM(H89:H91) -> 57.682543 | K92: =SUM(K89:K91) -> 71.039717 | L92: =K92-H92 -> 13.357174 | M92: =IF((H92)=0,"",(L92/H92)) -> 0.23156354
A93: =A92 -> Residential | D93: Wholesale Market Service Charge (WMSC) | F93: 0.0045 | G93: =E66*E68 -> 786.15 | H93: =G93*F93 -> 3.537675 | I93: 0.0045 | J93: =E66*E69 -> 781.125 | K93: =J93*I93 -> 3.5150625 | L93: =K93-H93 -> -0.0226125 | M93: =IF(ISERROR(L93/H93), "", L93/H93) -> -0.0063919099
A94: =A93 -> Residential | D94: Rural and Remote Rate Protection (RRRP) | F94: 0.0015 | G94: =E66*E68 -> 786.15 | H94: =G94*F94 -> 1.179225 | I94: 0.0015 | J94: =E66*E69 -> 781.125 | K94: =J94*I94 -> 1.1716875 | L94: =K94-H94 -> -0.0075375 | M94: =IF(ISERROR(L94/H94), "", L94/H94) -> -0.0063919099
A95: =A94 -> Residential | D95: Standard Supply Service Charge | F95: 0.25 | G95: 1 | H95: =G95*F95 -> 0.25 | I95: 0.25 | J95: 1 | K95: =J95*I95 -> 0.25 | L95: =K95-H95 -> 0 | M95: =IF(ISERROR(L95/H95), "", L95/H95) -> 0
A96: =A95 -> Residential | D96: Ontario Electricity Support Program (OESP)
A97: =A96 -> Residential | B97: RPP | D97: TOU - Off Peak | F97: 0.098 | G97: =IF(AND(E66*12>=150000),OffPeakPer*E66*E68,OffPeakPer*E66) -> 480 | H97: =G97*F97 -> 47.04 | I97: =F97 -> 0.098 | J97: =IF(AND(E66*12>=150000),OffPeakPer*E66*E69,OffPeakPer*E66) -> 480 | K97: =J97*I97 -> 47.04 | L97: =K97-H97 -> 0 | M97: =IF(ISERROR(L97/H97), "", L97/H97) -> 0
A98: =A97 -> Residential | B98: RPP | D98: TOU - Mid Peak | F98: 0.157 | G98: =IF(AND(E66*12>=150000),MidPeakPer*E66*E68,MidPeakPer*E66) -> 135 | H98: =G98*F98 -> 21.195 | I98: =F98 -> 0.157 | J98: =IF(AND(E66*12>=150000),MidPeakPer*E66*E69,MidPeakPer*E66) -> 135 | K98: =J98*I98 -> 21.195 | L98: =K98-H98 -> 0 | M98: =IF(ISERROR(L98/H98), "", L98/H98) -> 0
A99: =A98 -> Residential | B99: RPP | D99: TOU - On Peak | F99: 0.203 | G99: =IF(AND(E66*12>=150000),OnPeakPer*E66*E68,OnPeakPer*E66) -> 135 | H99: =G99*F99 -> 27.405 | I99: =F99 -> 0.203 | J99: =IF(AND(E66*12>=150000),OnPeakPer*E66*E69,OnPeakPer*E66) -> 135 | K99: =J99*I99 -> 27.405 | L99: =K99-H99 -> 0 | M99: =IF(ISERROR(L99/H99), "", L99/H99) -> 0
A100: =A99 -> Residential | B100: Non-RPP (Retailer) | D100: Non-RPP Retailer Avg. Price | F100: 0.157 | G100: =IF(AND(E66*12>=150000),E66*E68,E66) -> 750 | H100: =G100*F100 -> 117.75 | I100: =F100 -> 0.157 | J100: =IF(AND(E66*12>=150000),E66*E69,E66) -> 750 | K100: =J100*I100 -> 117.75 | L100: =K100-H100 -> 0 | M100: =IF(ISERROR(L100/H100), "", L100/H100) -> 0
A101: =A100 -> Residential | B101: Non-RPP (Other) | D101: Average IESO Wholesale Market Price | F101: 0.11308 | G101: =IF(AND(E66*12>=150000),E66*E68,E66) -> 750 | H101: =G101*F101 -> 84.81 | I101: =F101 -> 0.11308 | J101: =IF(AND(E66*12>=150000),E66*E69,E66) -> 750 | K101: =J101*I101 -> 84.81 | L101: =K101-H101 -> 0 | M101: =IF(ISERROR(L101/H101), "", L101/H101) -> 0
A102: =A101 -> Residential
A103: =A102 -> Residential | B103: RPP | D103: Total Bill on TOU (before Taxes) | H103: =SUM(H93:H99,H92) -> 158.28944 | K103: =SUM(K93:K99,K92) -> 171.61647 | L103: =K103-H103 -> 13.327024 | M103: =IF((H103)=0,"",(L103/H103)) -> 0.084194017
A104: =A103 -> Residential | B104: RPP | D104: HST | F104: 0.13 | H104: =H103*F104 -> 20.577628 | I104: 0.13 | K104: =K103*I104 -> 22.310141 | L104: =K104-H104 -> 1.7325131 | M104: =IF((H104)=0,"",(L104/H104)) -> 0.084194017
A105: =A104 -> Residential | B105: RPP | D105: Ontario Electricity Rebate | F105: =OER -> 0.235 | H105: =IF(OR(ISNUMBER(SEARCH("[DGEN]", E64))=TRUE, ISNUMBER(SEARCH("STREET LIGHT", E64))=TRUE), 0, IF(AND(E66=0, E67=0),0, IF(AND(E67=0, E66*12>250000), 0, IF(AND(E66=0, E67>=50), 0, IF(E66*12<=250000, F105*H103*-1, IF(E67<50, F105*H103*-1, 0)))))) -> -37.198019 | I105: =OER -> 0.235 | K105: =IF(OR(ISNUMBER(SEARCH("[DGEN]", E64))=TRUE, ISNUMBER(SEARCH("STREET LIGHT", E64))=TRUE), 0, IF(AND(E66=0, E67=0),0, IF(AND(E67=0, E66*12>250000), 0, IF(AND(E66=0, E67>=50), 0, IF(E66*12<=250000, I105*K103*-1, IF(E67<50, I105*K103*-1, 0)))))) -> -40.32987 | L105: =K105-H105 -> -3.1318506
A106: =A105 -> Residential | B106: RPP_TOTAL | C106: =B16 -> 1 | D106: Total Bill on TOU | H106: =H103+H104+H105 -> 141.66905 | K106: =K103+K104+K105 -> 153.59674 | L106: =K106-H106 -> 11.927687 | M106: =IF((H106)=0,"",(L106/H106)) -> 0.084194017
A107: =A106 -> Residential | B107: RPP
A108: =A107 -> Residential | B108: Non-RPP (Retailer) | D108: Total Bill on Non-RPP Avg. Price | H108: =SUM(H100,H93:H96,H92) -> 180.39944 | K108: =SUM(K100,K93:K96,K92) -> 193.72647 | L108: =K108-H108 -> 13.327024 | M108: =IF((H108)=0,"",(L108/H108)) -> 0.073875084
A109: =A108 -> Residential | B109: Non-RPP (Retailer) | D109: HST | F109: 0.13 | H109: =H108*F109 -> 23.451928 | I109: 0.13 | K109: =K108*I109 -> 25.184441 | L109: =K109-H109 -> 1.7325131 | M109: =IF((H109)=0,"",(L109/H109)) -> 0.073875084
A110: =A109 -> Residential | B110: Non-RPP (Retailer) | D110: Ontario Electricity Rebate | F110: =OER -> 0.235 | H110: =IF(OR(ISNUMBER(SEARCH("[DGEN]", E64))=TRUE, ISNUMBER(SEARCH("STREET LIGHT", E64))=TRUE), 0, IF(AND(E66=0, E67=0),0, IF(AND(E67=0, E66*12>250000), 0, IF(AND(E66=0, E67>=50), 0, IF(E66*12<=250000, F110*H108*-1, IF(E67<50, F110*H108*-1, 0)))))) -> -42.393869 | I110: =OER -> 0.235 | K110: =IF(OR(ISNUMBER(SEARCH("[DGEN]", E64))=TRUE, ISNUMBER(SEARCH("STREET LIGHT", E64))=TRUE), 0, IF(AND(E66=0, E67=0),0, IF(AND(E67=0, E66*12>250000), 0, IF(AND(E66=0, E67>=50), 0, IF(E66*12<=250000, I110*K108*-1, IF(E67<50, I110*K108*-1, 0)))))) -> -45.52572
A111: =A110 -> Residential | B111: Non-RPP (Retailer)_TOTAL | D111: Total Bill on Non-RPP Avg. Price | H111: =SUM(H108,H109) -> 203.85137 | K111: =SUM(K108,K109) -> 218.91091 | L111: =K111-H111 -> 15.059537 | M111: =IF((H111)=0,"",(L111/H111)) -> 0.073875084
A112: =A111 -> Residential | B112: Non-RPP (Retailer)
A113: =A112 -> Residential | B113: Non-RPP (Other) | D113: Total Bill on Average IESO Wholesale Market Price | H113: =SUM(H101,H93:H96,H92) -> 147.45944 | K113: =SUM(K101,K93:K96,K92) -> 160.78647 | L113: =K113-H113 -> 13.327024 | M113: =IF((H113)=0,"",(L113/H113)) -> 0.090377556
A114: =A113 -> Residential | B114: Non-RPP (Other) | D114: HST | F114: 0.13 | H114: =H113*F114 -> 19.169728 | I114: 0.13 | K114: =K113*I114 -> 20.902241 | L114: =K114-H114 -> 1.7325131 | M114: =IF((H114)=0,"",(L114/H114)) -> 0.090377556
A115: =A114 -> Residential | B115: Non-RPP (Other) | D115: Ontario Electricity Rebate | F115: =OER -> 0.235 | H115: =IF(OR(ISNUMBER(SEARCH("[DGEN]", E64))=TRUE, ISNUMBER(SEARCH("STREET LIGHT", E64))=TRUE), 0, IF(AND(E66=0, E67=0),0, IF(AND(E67=0, E66*12>250000), 0, IF(AND(E66=0, E67>=50), 0, IF(E66*12<=250000, F115*H113*-1, IF(E67<50, F115*H113*-1, 0)))))) -> -34.652969 | I115: =OER -> 0.235 | K115: =IF(OR(ISNUMBER(SEARCH("[DGEN]", E64))=TRUE, ISNUMBER(SEARCH("STREET LIGHT", E64))=TRUE), 0, IF(AND(E66=0, E67=0),0, IF(AND(E67=0, E66*12>250000), 0, IF(AND(E66=0, E67>=50), 0, IF(E66*12<=250000, I115*K113*-1, IF(E67<50, I115*K113*-1, 0)))))) -> -37.78482
A116: =A115 -> Residential | B116: Non-RPP (Other)_TOTAL | D116: Total Bill on Average IESO Wholesale Market Price | H116: =SUM(H113,H114) -> 166.62917 | K116: =SUM(K113,K114) -> 181.68871 | L116: =K116-H116 -> 15.059537 | M116: =IF((H116)=0,"",(L116/H116)) -> 0.090377556
A117: =A116 -> Residential | B117: Non-RPP (Other)
D120: Customer Class: | E120: =D17 -> Seasonal Residential | K120: =IF(N17="DEMAND - INTERVAL","RTSR - INTERVAL METERED","")
D121: RPP / Non-RPP: | E121: =H17 -> RPP
D122: Consumption | E122: =K17 -> 680 | F122: kWh
D123: Demand | E123: =L17 -> 0 | F123: kW
D124: Current Loss Factor | E124: =I17 -> 1.0482
D125: Proposed/Approved Loss Factor | E125: =J17 -> 1.0415
F127: Current OEB-Approved | I127: Proposed | L127: Impact
...

Sheet WRZ BI (2028)
D14: Table 1
D15: RATE CLASSES / CATEGORIES (eg: Residential TOU, Residential Retailer) | G15: Units | H15: RPP? Non-RPP Retailer? Non-RPP Other? | I15: Current Loss Factor (eg: 1.0351) | J15: Proposed Loss Factor | K15: Consumption (kWh) | L15: Demand kW (if applicable) | M15: RTSR Demand or Demand-Interval? | N15: Billing Determinant Applied to Fixed Charge for Unmetered Classes (e.g. # of devices/connections).
B16: 1 | C16: 1 | D16: Residential | G16: kWh | H16: RPP | I16: ='WRZ BI (2027)'!J16 -> 1.0415 | J16: =I16 -> 1.0415 | K16: 750 | M16: CONSUMPTION
B17: 2 | C17: 2 | D17: GS <50 | G17: kWh | H17: RPP | I17: ='WRZ BI (2027)'!J17 -> 1.0415 | J17: =I17 -> 1.0415 | K17: 2000 | M17: CONSUMPTION
B18: 3 | C18: 3 | D18: GS 50 - 2,999 kW | G18: kW | H18: Non-RPP (Other) | I18: ='WRZ BI (2027)'!J18 -> 1.0415 | J18: =I18 -> 1.0415 | K18: 75000 | L18: 175 | M18: DEMAND
C19: 4 | D19: GS 3,000 - 4,999 kW | G19: kW | H19: Non-RPP (Other) | I19: ='WRZ BI (2027)'!J19 -> 1.0311 | J19: =I19 -> 1.0311 | K19: 2000000 | L19: 4000 | M19: DEMAND
B20: 4 | C20: 5 | D20: Unmetered Scattered Load | G20: kWh | H20: RPP | I20: ='WRZ BI (2027)'!J20 -> 1.0415 | J20: =I20 -> 1.0415 | K20: 450 | M20: CONSUMPTION | N20: 1
B21: 5 | C21: 6 | D21: Sentinel | G21: kW | H21: RPP | I21: ='WRZ BI (2027)'!J21 -> 1.0415 | J21: =I21 -> 1.0415 | K21: 60 | L21: 0.2 | M21: DEMAND | N21: 1
B22: 6 | C22: 7 | D22: Street Light | G22: kW | H22: Non-RPP (Other) | I22: ='WRZ BI (2027)'!J22 -> 1.0415 | J22: =I22 -> 1.0415 | K22: 326077.5 | L22: 863.33337 | M22: DEMAND | N22: 14512.2
B23: 7 | C23: 8 | D23: Residential (Low) | G23: kWh | H23: RPP | I23: ='WRZ BI (2027)'!J23 -> 1.0415 | J23: =J22 -> 1.0415 | K23: 325 | M23: CONSUMPTION
B24: 8 | C24: 9 | D24: Residential (High) | G24: kWh | H24: RPP | I24: ='WRZ BI (2027)'!J24 -> 1.0415 | J24: =J23 -> 1.0415 | K24: 1500 | M24: CONSUMPTION
B25: 9 | C25: 10 | D25: GS < 50 (Low) | G25: kWh | H25: RPP | I25: ='WRZ BI (2027)'!J25 -> 1.0415 | J25: =J24 -> 1.0415 | K25: 1000 | M25: CONSUMPTION
B26: 10 | C26: 11 | D26: GS < 50 (High) | G26: kWh | H26: RPP | I26: ='WRZ BI (2027)'!J26 -> 1.0415 | J26: =J25 -> 1.0415 | K26: 5000 | M26: CONSUMPTION
B27: 11 | C27: 12 | D27: Add additional scenarios if required | I27: ='WRZ BI (2027)'!J27 -> 1.0415 | J27: =I27 -> 1.0415
B28: 12 | C28: 13 | D28: Add additional scenarios if required | I28: ='WRZ BI (2027)'!J28 -> 1.0415 | J28: =I28 -> 1.0415
B29: 13 | C29: 14 | D29: Add additional scenarios if required | I29: ='WRZ BI (2027)'!J29 -> 1.0415 | J29: =I29 -> 1.0415
B30: 14 | C30: 15 | D30: Add additional scenarios if required | I30: ='WRZ BI (2027)'!J30 -> 1.0415 | J30: =I30 -> 1.0415
B31: 15 | C31: 16 | D31: Add additional scenarios if required | I31: ='WRZ BI (2027)'!J31 -> 1.0415 | J31: =I31 -> 1.0415
B32: 16 | C32: 17 | D32: Add additional scenarios if required | I32: ='WRZ BI (2027)'!J32 -> 1.0415 | J32: =I32 -> 1.0415
B33: 17 | C33: 18 | D33: Add additional scenarios if required | I33: ='WRZ BI (2027)'!J33 -> 1.0415 | J33: =I33 -> 1.0415
B34: 18 | C34: 19 | D34: Add additional scenarios if required | I34: ='WRZ BI (2027)'!J34 -> 1.0415 | J34: =I34 -> 1.0415
B35: 19 | C35: 20 | D35: Add additional scenarios if required | I35: ='WRZ BI (2027)'!J35 -> 1.0415 | J35: =I35 -> 1.0415
D37: Table 2
D38: RATE CLASSES / CATEGORIES (eg: Residential TOU, Residential Retailer) | G38: Units | H38: Sub-Total | N38: Total
H39: A | J39: B | L39: C | N39: Total Bill
H40: $ | I40: % | J40: $ | K40: % | L40: $ | M40: % | N40: $ | O40: %
B41: =H16 -> RPP | C41: 1 | D41: =IF(ISBLANK(D16), "", IF(D16 = "Add additional scenarios if required", "", IF(M16="YES", D16 & " - " & H16 & " - Interval Customers", D16 & " - " &H16))) -> Residential - RPP | G41: =IF(ISBLANK(G16), "", G16) -> kWh | H41: =IF(LEN($G41)>1, (SUMPRODUCT(--($C$64:$C$2042=$B16), --($A$64:$A$2042=$D16), --($B$64:$B$2042="ST_A"), $L$64:$L$2042)), "") -> 4.2803209 | I41: =IF(LEN($G41)>1, (SUMPRODUCT(--($C$64:$C$2042=$B16), --($A$64:$A$2042=$D16), --($B$64:$B$2042="ST_A"), $M$64:$M$2042)), "") -> 0.09226167 | J41: =IF(LEN($G41)>1, (SUMPRODUCT(--($C$64:$C$2042=$B16), --($A$64:$A$2042=$D16), --($B$64:$B$2042="ST_B"), $L$64:$L$2042)), "") -> 4.6406124 | K41: =IF(LEN($G41)>1, (SUMPRODUCT(--($C$64:$C$2042=$B16), --($A$64:$A$2042=$D16), --($B$64:$B$2042="ST_B"), $M$64:$M$2042)), "") -> 0.090071955 | L41: =IF(LEN($G41)>1, (SUMPRODUCT(--($C$64:$C$2042=$B16), --($A$64:$A$2042=$D16), --($B$64:$B$2042="ST_C"), $L$64:$L$2042)), "") -> 5.7341874 | M41: =IF(LEN($G41)>1, (SUMPRODUCT(--($C$64:$C$2042=$B16), --($A$64:$A$2042=$D16), --($B$64:$B$2042="ST_C"), $M$64:$M$2042)), "") -> 0.083270533 | N41: =IF(LEN($G41)>1, (SUMPRODUCT(--($C$64:$C$2042=$B16), --($A$64:$A$2042=$D16), --($B$64:$B$2042=$B41&"_TOTAL"), $L$64:$L$2042)), "") -> 5.1320977 | O41: =IF(LEN($G41)>1, (SUMPRODUCT(--($C$64:$C$2042=$B16), --($A$64:$A$2042=$D16), --($B$64:$B$2042=$B41&"_TOTAL"), $M$64:$M$2042)), "") -> 0.033842214
B42: =H17 -> RPP | C42: 2 | D42: =IF(ISBLANK(D17), "", IF(D17 = "Add additional scenarios if required", "", IF(M17="YES", D17 & " - " & H17 & " - Interval Customers", D17 & " - " &H17))) -> GS <50 - RPP | G42: =IF(ISBLANK(G17), "", G17) -> kWh | H42: =IF(LEN($G42)>1, (SUMPRODUCT(--($C$64:$C$2042=$B17), --($A$64:$A$2042=$D17), --($B$64:$B$2042="ST_A"), $L$64:$L$2042)), "") -> 8.2197596 | I42: =IF(LEN($G42)>1, (SUMPRODUCT(--($C$64:$C$2042=$B17), --($A$64:$A$2042=$D17), --($B$64:$B$2042="ST_A"), $M$64:$M$2042)), "") -> 0.090691228 | J42: =IF(LEN($G42)>1, (SUMPRODUCT(--($C$64:$C$2042=$B17), --($A$64:$A$2042=$D17), --($B$64:$B$2042="ST_B"), $L$64:$L$2042)), "") -> 9.1448868 | K42: =IF(LEN($G42)>1, (SUMPRODUCT(--($C$64:$C$2042=$B17), --($A$64:$A$2042=$D17), --($B$64:$B$2042="ST_B"), $M$64:$M$2042)), "") -> 0.088379721 | L42: =IF(LEN($G42)>1, (SUMPRODUCT(--($C$64:$C$2042=$B17), --($A$64:$A$2042=$D17), --($B$64:$B$2042="ST_C"), $L$64:$L$2042)), "") -> 11.852787 | M42: =IF(LEN($G42)>1, (SUMPRODUCT(--($C$64:$C$2042=$B17), --($A$64:$A$2042=$D17), --($B$64:$B$2042="ST_C"), $M$64:$M$2042)), "") -> 0.081086732 | N42: =IF(LEN($G42)>1, (SUMPRODUCT(--($C$64:$C$2042=$B17), --($A$64:$A$2042=$D17), --($B$64:$B$2042=$B42&"_TOTAL"), $L$64:$L$2042)), "") -> 10.608244 | O42: =IF(LEN($G42)>1, (SUMPRODUCT(--($C$64:$C$2042=$B17), --($A$64:$A$2042=$D17), --($B$64:$B$2042=$B42&"_TOTAL"), $M$64:$M$2042)), "") -> 0.028632535
B43: =H18 -> Non-RPP (Other) | C43: 3 | D43: =IF(ISBLANK(D18), "", IF(D18 = "Add additional scenarios if required", "", IF(M18="YES", D18 & " - " & H18 & " - Interval Customers", D18 & " - " &H18))) -> GS 50 - 2,999 kW - Non-RPP (Other) | G43: =IF(ISBLANK(G18), "", G18) -> kW | H43: =IF(LEN($G43)>1, (SUMPRODUCT(--($C$64:$C$2042=$B18), --($A$64:$A$2042=$D18), --($B$64:$B$2042="ST_A"), $L$64:$L$2042)), "") -> 99.541274 | I43: =IF(LEN($G43)>1, (SUMPRODUCT(--($C$64:$C$2042=$B18), --($A$64:$A$2042=$D18), --($B$64:$B$2042="ST_A"), $M$64:$M$2042)), "") -> 0.077954167 | J43: =IF(LEN($G43)>1, (SUMPRODUCT(--($C$64:$C$2042=$B18), --($A$64:$A$2042=$D18), --($B$64:$B$2042="ST_B"), $L$64:$L$2042)), "") -> 116.76773 | K43: =IF(LEN($G43)>1, (SUMPRODUCT(--($C$64:$C$2042=$B18), --($A$64:$A$2042=$D18), --($B$64:$B$2042="ST_B"), $M$64:$M$2042)), "") -> 0.085647807 | L43: =IF(LEN($G43)>1, (SUMPRODUCT(--($C$64:$C$2042=$B18), --($A$64:$A$2042=$D18), --($B$64:$B$2042="ST_C"), $L$64:$L$2042)), "") -> 217.83023 | M43: =IF(LEN($G43)>1, (SUMPRODUCT(--($C$64:$C$2042=$B18), --($A$64:$A$2042=$D18), --($B$64:$B$2042="ST_C"), $M$64:$M$2042)), "") -> 0.073030548 | N43: =IF(LEN($G43)>1, (SUMPRODUCT(--($C$64:$C$2042=$B18), --($A$64:$A$2042=$D18), --($B$64:$B$2042=$B43&"_TOTAL"), $L$64:$L$2042)), "") -> 246.14816 | O43: =IF(LEN($G43)>1, (SUMPRODUCT(--($C$64:$C$2042=$B18), --($A$64:$A$2042=$D18), --($B$64:$B$2042=$B43&"_TOTAL"), $M$64:$M$2042)), "") -> 0.017731955
B44: =H19 -> Non-RPP (Other) | D44: =IF(ISBLANK(D19), "", IF(D19 = "Add additional scenarios if required", "", IF(M19="YES", D19 & " - " & H19 & " - Interval Customers", D19 & " - " &H19))) -> GS 3,000 - 4,999 kW - Non-RPP (Other) | G44: =IF(ISBLANK(G19), "", G19) -> kW | H44: =IF(LEN($G44)>1, (SUMPRODUCT(--($C$64:$C$2042=$B19), --($A$64:$A$2042=$D19), --($B$64:$B$2042="ST_A"), $L$64:$L$2042)), "") -> 1345.8661 | I44: =IF(LEN($G44)>1, (SUMPRODUCT(--($C$64:$C$2042=$B19), --($A$64:$A$2042=$D19), --($B$64:$B$2042="ST_A"), $M$64:$M$2042)), "") -> 0.053638989 | J44: =IF(LEN($G44)>1, (SUMPRODUCT(--($C$64:$C$2042=$B19), --($A$64:$A$2042=$D19), --($B$64:$B$2042="ST_B"), $L$64:$L$2042)), "") -> 1709.199 | K44: =IF(LEN($G44)>1, (SUMPRODUCT(--($C$64:$C$2042=$B19), --($A$64:$A$2042=$D19), --($B$64:$B$2042="ST_B"), $M$64:$M$2042)), "") -> 0.06470959 | L44: =IF(LEN($G44)>1, (SUMPRODUCT(--($C$64:$C$2042=$B19), --($A$64:$A$2042=$D19), --($B$64:$B$2042="ST_C"), $L$64:$L$2042)), "") -> 3808.799 | M44: =IF(LEN($G44)>1, (SUMPRODUCT(--($C$64:$C$2042=$B19), --($A$64:$A$2042=$D19), --($B$64:$B$2042="ST_C"), $M$64:$M$2042)), "") -> 0.063234444 | N44: {=IF(LEN($G44)>1, (SUMPRODUCT(--($C$64:$C$2042=$B19), --($A$64:$A$2042=$D19), --($B$64:$B$2042=$B44&"_TOTAL"), $L$64:$L$2042)), "")} -> 4303.9429 | O44: =IF(LEN($G44)>1, (SUMPRODUCT(--($C$64:$C$2042=$B19), --($A$64:$A$2042=$D19), --($B$64:$B$2042=$B44&"_TOTAL"), $M$64:$M$2042)), "") -> 0.012455196
B45: =H20 -> RPP | C45: 4 | D45: =IF(ISBLANK(D20), "", IF(D20 = "Add additional scenarios if required", "", IF(M20="YES", D20 & " - " & H20 & " - Interval Customers", D20 & " - " &H20))) -> Unmetered Scattered Load - RPP | G45: =IF(ISBLANK(G20), "", G20) -> kWh | H45: =IF(LEN($G45)>1, (SUMPRODUCT(--($C$64:$C$2042=$B20), --($A$64:$A$2042=$D20), --($B$64:$B$2042="ST_A"), $L$64:$L$2042)), "") -> 3.1393494 | I45: =IF(LEN($G45)>1, (SUMPRODUCT(--($C$64:$C$2042=$B20), --($A$64:$A$2042=$D20), --($B$64:$B$2042="ST_A"), $M$64:$M$2042)), "") -> 0.14949622 | J45: =IF(LEN($G45)>1, (SUMPRODUCT(--($C$64:$C$2042=$B20), --($A$64:$A$2042=$D20), --($B$64:$B$2042="ST_B"), $L$64:$L$2042)), "") -> 3.4828302 | K45: =IF(LEN($G45)>1, (SUMPRODUCT(--($C$64:$C$2042=$B20), --($A$64:$A$2042=$D20), --($B$64:$B$2042="ST_B"), $M$64:$M$2042)), "") -> 0.14728242 | L45: =IF(LEN($G45)>1, (SUMPRODUCT(--($C$64:$C$2042=$B20), --($A$64:$A$2042=$D20), --($B$64:$B$2042="ST_C"), $L$64:$L$2042)), "") -> 4.0921077 | M45: =IF(LEN($G45)>1, (SUMPRODUCT(--($C$64:$C$2042=$B20), --($A$64:$A$2042=$D20), --($B$64:$B$2042="ST_C"), $M$64:$M$2042)), "") -> 0.12287875 | N45: =IF(LEN($G45)>1, (SUMPRODUCT(--($C$64:$C$2042=$B20), --($A$64:$A$2042=$D20), --($B$64:$B$2042=$B45&"_TOTAL"), $L$64:$L$2042)), "") -> 3.6624364 | O45: =IF(LEN($G45)>1, (SUMPRODUCT(--($C$64:$C$2042=$B20), --($A$64:$A$2042=$D20), --($B$64:$B$2042=$B45&"_TOTAL"), $M$64:$M$2042)), "") -> 0.043650059
B46: =H21 -> RPP | C46: 5 | D46: =IF(ISBLANK(D21), "", IF(D21 = "Add additional scenarios if required", "", IF(M21="YES", D21 & " - " & H21 & " - Interval Customers", D21 & " - " &H21))) -> Sentinel - RPP | G46: =IF(ISBLANK(G21), "", G21) -> kW | H46: =IF(LEN($G46)>1, (SUMPRODUCT(--($C$64:$C$2042=$B21), --($A$64:$A$2042=$D21), --($B$64:$B$2042="ST_A"), $L$64:$L$2042)), "") -> 1.2025315 | I46: =IF(LEN($G46)>1, (SUMPRODUCT(--($C$64:$C$2042=$B21), --($A$64:$A$2042=$D21), --($B$64:$B$2042="ST_A"), $M$64:$M$2042)), "") -> 0.10284151 | J46: =IF(LEN($G46)>1, (SUMPRODUCT(--($C$64:$C$2042=$B21), --($A$64:$A$2042=$D21), --($B$64:$B$2042="ST_B"), $L$64:$L$2042)), "") -> 1.3317093 | K46: =IF(LEN($G46)>1, (SUMPRODUCT(--($C$64:$C$2042=$B21), --($A$64:$A$2042=$D21), --($B$64:$B$2042="ST_B"), $M$64:$M$2042)), "") -> 0.11148616 | L46: =IF(LEN($G46)>1, (SUMPRODUCT(--($C$64:$C$2042=$B21), --($A$64:$A$2042=$D21), --($B$64:$B$2042="ST_C"), $L$64:$L$2042)), "") -> 1.4065693 | M46: =IF(LEN($G46)>1, (SUMPRODUCT(--($C$64:$C$2042=$B21), --($A$64:$A$2042=$D21), --($B$64:$B$2042="ST_C"), $M$64:$M$2042)), "") -> 0.1070085 | N46: =IF(LEN($G46)>1, (SUMPRODUCT(--($C$64:$C$2042=$B21), --($A$64:$A$2042=$D21), --($B$64:$B$2042=$B46&"_TOTAL"), $L$64:$L$2042)), "") -> 1.2588795 | O46: =IF(LEN($G46)>1, (SUMPRODUCT(--($C$64:$C$2042=$B21), --($A$64:$A$2042=$D21), --($B$64:$B$2042=$B46&"_TOTAL"), $M$64:$M$2042)), "") -> 0.065664316
B47: =H22 -> Non-RPP (Other) | C47: 6 | D47: =IF(ISBLANK(D22), "", IF(D22 = "Add additional scenarios if required", "", IF(M22="YES", D22 & " - " & H22 & " - Interval Customers", D22 & " - " &H22))) -> Street Light - Non-RPP (Other) | G47: =IF(ISBLANK(G22), "", G22) -> kW | H47: =IF(LEN($G47)>1, (SUMPRODUCT(--($C$64:$C$2042=$B22), --($A$64:$A$2042=$D22), --($B$64:$B$2042="ST_A"), $L$64:$L$2042)), "") -> 4298.1077 | I47: =IF(LEN($G47)>1, (SUMPRODUCT(--($C$64:$C$2042=$B22), --($A$64:$A$2042=$D22), --($B$64:$B$2042="ST_A"), $M$64:$M$2042)), "") -> 0.26151953 | J47: =IF(LEN($G47)>1, (SUMPRODUCT(--($C$64:$C$2042=$B22), --($A$64:$A$2042=$D22), --($B$64:$B$2042="ST_B"), $L$64:$L$2042)), "") -> 4866.0512 | K47: =IF(LEN($G47)>1, (SUMPRODUCT(--($C$64:$C$2042=$B22), --($A$64:$A$2042=$D22), --($B$64:$B$2042="ST_B"), $M$64:$M$2042)), "") -> 0.30106163 | L47: =IF(LEN($G47)>1, (SUMPRODUCT(--($C$64:$C$2042=$B22), --($A$64:$A$2042=$D22), --($B$64:$B$2042="ST_C"), $L$64:$L$2042)), "") -> 5206.1182 | M47: =IF(LEN($G47)>1, (SUMPRODUCT(--($C$64:$C$2042=$B22), --($A$64:$A$2042=$D22), --($B$64:$B$2042="ST_C"), $M$64:$M$2042)), "") -> 0.24089703 | N47: =IF(LEN($G47)>1, (SUMPRODUCT(--($C$64:$C$2042=$B22), --($A$64:$A$2042=$D22), --($B$64:$B$2042=$B47&"_TOTAL"), $L$64:$L$2042)), "") -> 5882.9136 | O47: =IF(LEN($G47)>1, (SUMPRODUCT(--($C$64:$C$2042=$B22), --($A$64:$A$2042=$D22), --($B$64:$B$2042=$B47&"_TOTAL"), $M$64:$M$2042)), "") -> 0.079949467
B48: =H23 -> RPP | C48: 7 | D48: =IF(ISBLANK(D23), "", IF(D23 = "Add additional scenarios if required", "", IF(M23="YES", D23 & " - " & H23 & " - Interval Customers", D23 & " - " &H23))) -> Residential (Low) - RPP | G48: =IF(ISBLANK(G23), "", G23) -> kWh | H48: =IF(LEN($G48)>1, (SUMPRODUCT(--($C$64:$C$2042=$B23), --($A$64:$A$2042=$D23), --($B$64:$B$2042="ST_A"), $L$64:$L$2042)), "") -> 4.2803209 | I48: =IF(LEN($G48)>1, (SUMPRODUCT(--($C$64:$C$2042=$B23), --($A$64:$A$2042=$D23), --($B$64:$B$2042="ST_A"), $M$64:$M$2042)), "") -> 0.09226167 | J48: =IF(LEN($G48)>1, (SUMPRODUCT(--($C$64:$C$2042=$B23), --($A$64:$A$2042=$D23), --($B$64:$B$2042="ST_B"), $L$64:$L$2042)), "") -> 4.6121139 | K48: =IF(LEN($G48)>1, (SUMPRODUCT(--($C$64:$C$2042=$B23), --($A$64:$A$2042=$D23), --($B$64:$B$2042="ST_B"), $M$64:$M$2042)), "") -> 0.09480459 | L48: =IF(LEN($G48)>1, (SUMPRODUCT(--($C$64:$C$2042=$B23), --($A$64:$A$2042=$D23), --($B$64:$B$2042="ST_C"), $L$64:$L$2042)), "") -> 5.0859964 | M48: =IF(LEN($G48)>1, (SUMPRODUCT(--($C$64:$C$2042=$B23), --($A$64:$A$2042=$D23), --($B$64:$B$2042="ST_C"), $M$64:$M$2042)), "") -> 0.090557684 | N48: =IF(LEN($G48)>1, (SUMPRODUCT(--($C$64:$C$2042=$B23), --($A$64:$A$2042=$D23), --($B$64:$B$2042=$B48&"_TOTAL"), $L$64:$L$2042)), "") -> 4.5519667 | O48: =IF(LEN($G48)>1, (SUMPRODUCT(--($C$64:$C$2042=$B23), --($A$64:$A$2042=$D23), --($B$64:$B$2042=$B48&"_TOTAL"), $M$64:$M$2042)), "") -> 0.050917
B49: =H24 -> RPP | C49: 8 | D49: =IF(ISBLANK(D24), "", IF(D24 = "Add additional scenarios if required", "", IF(M24="YES", D24 & " - " & H24 & " - Interval Customers", D24 & " - " &H24))) -> Residential (High) - RPP | G49: =IF(ISBLANK(G24), "", G24) -> kWh | H49: =IF(LEN($G49)>1, (SUMPRODUCT(--($C$64:$C$2042=$B24), --($A$64:$A$2042=$D24), --($B$64:$B$2042="ST_A"), $L$64:$L$2042)), "") -> 4.2803209 | I49: =IF(LEN($G49)>1, (SUMPRODUCT(--($C$64:$C$2042=$B24), --($A$64:$A$2042=$D24), --($B$64:$B$2042="ST_A"), $M$64:$M$2042)), "") -> 0.09226167 | J49: =IF(LEN($G49)>1, (SUMPRODUCT(--($C$64:$C$2042=$B24), --($A$64:$A$2042=$D24), --($B$64:$B$2042="ST_B"), $L$64:$L$2042)), "") -> 4.6909038 | K49: =IF(LEN($G49)>1, (SUMPRODUCT(--($C$64:$C$2042=$B24), --($A$64:$A$2042=$D24), --($B$64:$B$2042="ST_B"), $M$64:$M$2042)), "") -> 0.082892298 | L49: =IF(LEN($G49)>1, (SUMPRODUCT(--($C$64:$C$2042=$B24), --($A$64:$A$2042=$D24), --($B$64:$B$2042="ST_C"), $L$64:$L$2042)), "") -> 6.8780538 | M49: =IF(LEN($G49)>1, (SUMPRODUCT(--($C$64:$C$2042=$B24), --($A$64:$A$2042=$D24), --($B$64:$B$2042="ST_C"), $M$64:$M$2042)), "") -> 0.07535752 | N49: =IF(LEN($G49)>1, (SUMPRODUCT(--($C$64:$C$2042=$B24), --($A$64:$A$2042=$D24), --($B$64:$B$2042=$B49&"_TOTAL"), $L$64:$L$2042)), "") -> 6.1558582 | O49: =IF(LEN($G49)>1, (SUMPRODUCT(--($C$64:$C$2042=$B24), --($A$64:$A$2042=$D24), --($B$64:$B$2042=$B49&"_TOTAL"), $M$64:$M$2042)), "") -> 0.023540806
B50: =H25 -> RPP | C50: 9 | D50: =IF(ISBLANK(D25), "", IF(D25 = "Add additional scenarios if required", "", IF(M25="YES", D25 & " - " & H25 & " - Interval Customers", D25 & " - " &H25))) -> GS < 50 (Low) - RPP | G50: =IF(ISBLANK(G25), "", G25) -> kWh | H50: =IF(LEN($G50)>1, (SUMPRODUCT(--($C$64:$C$2042=$B25), --($A$64:$A$2042=$D25), --($B$64:$B$2042="ST_A"), $L$64:$L$2042)), "") -> 4.1098798 | I50: =IF(LEN($G50)>1, (SUMPRODUCT(--($C$64:$C$2042=$B25), --($A$64:$A$2042=$D25), --($B$64:$B$2042="ST_A"), $M$64:$M$2042)), "") -> 0.069733109 | J50: =IF(LEN($G50)>1, (SUMPRODUCT(--($C$64:$C$2042=$B25), --($A$64:$A$2042=$D25), --($B$64:$B$2042="ST_B"), $L$64:$L$2042)), "") -> 4.5724434 | K50: =IF(LEN($G50)>1, (SUMPRODUCT(--($C$64:$C$2042=$B25), --($A$64:$A$2042=$D25), --($B$64:$B$2042="ST_B"), $M$64:$M$2042)), "") -> 0.069737663 | L50: =IF(LEN($G50)>1, (SUMPRODUCT(--($C$64:$C$2042=$B25), --($A$64:$A$2042=$D25), --($B$64:$B$2042="ST_C"), $L$64:$L$2042)), "") -> 5.9263934 | M50: =IF(LEN($G50)>1, (SUMPRODUCT(--($C$64:$C$2042=$B25), --($A$64:$A$2042=$D25), --($B$64:$B$2042="ST_C"), $M$64:$M$2042)), "") -> 0.068184442 | N50: =IF(LEN($G50)>1, (SUMPRODUCT(--($C$64:$C$2042=$B25), --($A$64:$A$2042=$D25), --($B$64:$B$2042=$B50&"_TOTAL"), $L$64:$L$2042)), "") -> 5.3041221 | O50: =IF(LEN($G50)>1, (SUMPRODUCT(--($C$64:$C$2042=$B25), --($A$64:$A$2042=$D25), --($B$64:$B$2042=$B50&"_TOTAL"), $M$64:$M$2042)), "") -> 0.026824017
B51: =H26 -> RPP | C51: 10 | D51: =IF(ISBLANK(D26), "", IF(D26 = "Add additional scenarios if required", "", IF(M26="YES", D26 & " - " & H26 & " - Interval Customers", D26 & " - " &H26))) -> GS < 50 (High) - RPP | G51: =IF(ISBLANK(G26), "", G26) -> kWh | H51: =IF(LEN($G51)>1, (SUMPRODUCT(--($C$64:$C$2042=$B26), --($A$64:$A$2042=$D26), --($B$64:$B$2042="ST_A"), $L$64:$L$2042)), "") -> 20.549399 | I51: =IF(LEN($G51)>1, (SUMPRODUCT(--($C$64:$C$2042=$B26), --($A$64:$A$2042=$D26), --($B$64:$B$2042="ST_A"), $M$64:$M$2042)), "") -> 0.11064339 | J51: =IF(LEN($G51)>1, (SUMPRODUCT(--($C$64:$C$2042=$B26), --($A$64:$A$2042=$D26), --($B$64:$B$2042="ST_B"), $L$64:$L$2042)), "") -> 22.862217 | K51: =IF(LEN($G51)>1, (SUMPRODUCT(--($C$64:$C$2042=$B26), --($A$64:$A$2042=$D26), --($B$64:$B$2042="ST_B"), $M$64:$M$2042)), "") -> 0.10526285 | L51: =IF(LEN($G51)>1, (SUMPRODUCT(--($C$64:$C$2042=$B26), --($A$64:$A$2042=$D26), --($B$64:$B$2042="ST_C"), $L$64:$L$2042)), "") -> 29.631967 | M51: =IF(LEN($G51)>1, (SUMPRODUCT(--($C$64:$C$2042=$B26), --($A$64:$A$2042=$D26), --($B$64:$B$2042="ST_C"), $M$64:$M$2042)), "") -> 0.091472087 | N51: =IF(LEN($G51)>1, (SUMPRODUCT(--($C$64:$C$2042=$B26), --($A$64:$A$2042=$D26), --($B$64:$B$2042=$B51&"_TOTAL"), $L$64:$L$2042)), "") -> 26.52061 | O51: =IF(LEN($G51)>1, (SUMPRODUCT(--($C$64:$C$2042=$B26), --($A$64:$A$2042=$D26), --($B$64:$B$2042=$B51&"_TOTAL"), $M$64:$M$2042)), "") -> 0.029839637
B53: =H28 -> 0 | C53: 12 | D53: =IF(ISBLANK(D28), "", IF(D28 = "Add additional scenarios if required", "", IF(M28="YES", D28 & " - " & H28 & " - Interval Customers", D28 & " - " &H28))) | G53: =IF(ISBLANK(G28), "", G28) | H53: =IF(LEN($G53)>1, (SUMPRODUCT(--($C$64:$C$2042=$B28), --($A$64:$A$2042=$D28), --($B$64:$B$2042="ST_A"), $L$64:$L$2042)), "") | I53: =IF(LEN($G53)>1, (SUMPRODUCT(--($C$64:$C$2042=$B28), --($A$64:$A$2042=$D28), --($B$64:$B$2042="ST_A"), $M$64:$M$2042)), "") | J53: =IF(LEN($G53)>1, (SUMPRODUCT(--($C$64:$C$2042=$B28), --($A$64:$A$2042=$D28), --($B$64:$B$2042="ST_B"), $L$64:$L$2042)), "") | K53: =IF(LEN($G53)>1, (SUMPRODUCT(--($C$64:$C$2042=$B28), --($A$64:$A$2042=$D28), --($B$64:$B$2042="ST_B"), $M$64:$M$2042)), "") | L53: =IF(LEN($G53)>1, (SUMPRODUCT(--($C$64:$C$2042=$B28), --($A$64:$A$2042=$D28), --($B$64:$B$2042="ST_C"), $L$64:$L$2042)), "") | M53: =IF(LEN($G53)>1, (SUMPRODUCT(--($C$64:$C$2042=$B28), --($A$64:$A$2042=$D28), --($B$64:$B$2042="ST_C"), $M$64:$M$2042)), "") | N53: =IF(LEN($G53)>1, (SUMPRODUCT(--($C$64:$C$2042=$B28), --($A$64:$A$2042=$D28), --($B$64:$B$2042=$B53&"_TOTAL"), $L$64:$L$2042)), "") | O53: =IF(LEN($G53)>1, (SUMPRODUCT(--($C$64:$C$2042=$B28), --($A$64:$A$2042=$D28), --($B$64:$B$2042=$B53&"_TOTAL"), $M$64:$M$2042)), "")
B54: =H29 -> 0 | C54: 13 | D54: =IF(ISBLANK(D29), "", IF(D29 = "Add additional scenarios if required", "", IF(M29="YES", D29 & " - " & H29 & " - Interval Customers", D29 & " - " &H29))) | G54: =IF(ISBLANK(G29), "", G29) | H54: =IF(LEN($G54)>1, (SUMPRODUCT(--($C$64:$C$2042=$B29), --($A$64:$A$2042=$D29), --($B$64:$B$2042="ST_A"), $L$64:$L$2042)), "") | I54: =IF(LEN($G54)>1, (SUMPRODUCT(--($C$64:$C$2042=$B29), --($A$64:$A$2042=$D29), --($B$64:$B$2042="ST_A"), $M$64:$M$2042)), "") | J54: =IF(LEN($G54)>1, (SUMPRODUCT(--($C$64:$C$2042=$B29), --($A$64:$A$2042=$D29), --($B$64:$B$2042="ST_B"), $L$64:$L$2042)), "") | K54: =IF(LEN($G54)>1, (SUMPRODUCT(--($C$64:$C$2042=$B29), --($A$64:$A$2042=$D29), --($B$64:$B$2042="ST_B"), $M$64:$M$2042)), "") | L54: =IF(LEN($G54)>1, (SUMPRODUCT(--($C$64:$C$2042=$B29), --($A$64:$A$2042=$D29), --($B$64:$B$2042="ST_C"), $L$64:$L$2042)), "") | M54: =IF(LEN($G54)>1, (SUMPRODUCT(--($C$64:$C$2042=$B29), --($A$64:$A$2042=$D29), --($B$64:$B$2042="ST_C"), $M$64:$M$2042)), "") | N54: =IF(LEN($G54)>1, (SUMPRODUCT(--($C$64:$C$2042=$B29), --($A$64:$A$2042=$D29), --($B$64:$B$2042=$B54&"_TOTAL"), $L$64:$L$2042)), "") | O54: =IF(LEN($G54)>1, (SUMPRODUCT(--($C$64:$C$2042=$B29), --($A$64:$A$2042=$D29), --($B$64:$B$2042=$B54&"_TOTAL"), $M$64:$M$2042)), "")
B55: =H30 -> 0 | C55: 14 | D55: =IF(ISBLANK(D30), "", IF(D30 = "Add additional scenarios if required", "", IF(M30="YES", D30 & " - " & H30 & " - Interval Customers", D30 & " - " &H30))) | G55: =IF(ISBLANK(G30), "", G30) | H55: =IF(LEN($G55)>1, (SUMPRODUCT(--($C$64:$C$2042=$B30), --($A$64:$A$2042=$D30), --($B$64:$B$2042="ST_A"), $L$64:$L$2042)), "") | I55: =IF(LEN($G55)>1, (SUMPRODUCT(--($C$64:$C$2042=$B30), --($A$64:$A$2042=$D30), --($B$64:$B$2042="ST_A"), $M$64:$M$2042)), "") | J55: =IF(LEN($G55)>1, (SUMPRODUCT(--($C$64:$C$2042=$B30), --($A$64:$A$2042=$D30), --($B$64:$B$2042="ST_B"), $L$64:$L$2042)), "") | K55: =IF(LEN($G55)>1, (SUMPRODUCT(--($C$64:$C$2042=$B30), --($A$64:$A$2042=$D30), --($B$64:$B$2042="ST_B"), $M$64:$M$2042)), "") | L55: =IF(LEN($G55)>1, (SUMPRODUCT(--($C$64:$C$2042=$B30), --($A$64:$A$2042=$D30), --($B$64:$B$2042="ST_C"), $L$64:$L$2042)), "") | M55: =IF(LEN($G55)>1, (SUMPRODUCT(--($C$64:$C$2042=$B30), --($A$64:$A$2042=$D30), --($B$64:$B$2042="ST_C"), $M$64:$M$2042)), "") | N55: =IF(LEN($G55)>1, (SUMPRODUCT(--($C$64:$C$2042=$B30), --($A$64:$A$2042=$D30), --($B$64:$B$2042=$B55&"_TOTAL"), $L$64:$L$2042)), "") | O55: =IF(LEN($G55)>1, (SUMPRODUCT(--($C$64:$C$2042=$B30), --($A$64:$A$2042=$D30), --($B$64:$B$2042=$B55&"_TOTAL"), $M$64:$M$2042)), "")
B56: =H31 -> 0 | C56: 15 | D56: =IF(ISBLANK(D31), "", IF(D31 = "Add additional scenarios if required", "", IF(M31="YES", D31 & " - " & H31 & " - Interval Customers", D31 & " - " &H31))) | G56: =IF(ISBLANK(G31), "", G31) | H56: =IF(LEN($G56)>1, (SUMPRODUCT(--($C$64:$C$2042=$B31), --($A$64:$A$2042=$D31), --($B$64:$B$2042="ST_A"), $L$64:$L$2042)), "") | I56: =IF(LEN($G56)>1, (SUMPRODUCT(--($C$64:$C$2042=$B31), --($A$64:$A$2042=$D31), --($B$64:$B$2042="ST_A"), $M$64:$M$2042)), "") | J56: =IF(LEN($G56)>1, (SUMPRODUCT(--($C$64:$C$2042=$B31), --($A$64:$A$2042=$D31), --($B$64:$B$2042="ST_B"), $L$64:$L$2042)), "") | K56: =IF(LEN($G56)>1, (SUMPRODUCT(--($C$64:$C$2042=$B31), --($A$64:$A$2042=$D31), --($B$64:$B$2042="ST_B"), $M$64:$M$2042)), "") | L56: =IF(LEN($G56)>1, (SUMPRODUCT(--($C$64:$C$2042=$B31), --($A$64:$A$2042=$D31), --($B$64:$B$2042="ST_C"), $L$64:$L$2042)), "") | M56: =IF(LEN($G56)>1, (SUMPRODUCT(--($C$64:$C$2042=$B31), --($A$64:$A$2042=$D31), --($B$64:$B$2042="ST_C"), $M$64:$M$2042)), "") | N56: =IF(LEN($G56)>1, (SUMPRODUCT(--($C$64:$C$2042=$B31), --($A$64:$A$2042=$D31), --($B$64:$B$2042=$B56&"_TOTAL"), $L$64:$L$2042)), "") | O56: =IF(LEN($G56)>1, (SUMPRODUCT(--($C$64:$C$2042=$B31), --($A$64:$A$2042=$D31), --($B$64:$B$2042=$B56&"_TOTAL"), $M$64:$M$2042)), "")
B57: =H32 -> 0 | C57: 16 | D57: =IF(ISBLANK(D32), "", IF(D32 = "Add additional scenarios if required", "", IF(M32="YES", D32 & " - " & H32 & " - Interval Customers", D32 & " - " &H32))) | G57: =IF(ISBLANK(G32), "", G32) | H57: =IF(LEN($G57)>1, (SUMPRODUCT(--($C$64:$C$2042=$B32), --($A$64:$A$2042=$D32), --($B$64:$B$2042="ST_A"), $L$64:$L$2042)), "") | I57: =IF(LEN($G57)>1, (SUMPRODUCT(--($C$64:$C$2042=$B32), --($A$64:$A$2042=$D32), --($B$64:$B$2042="ST_A"), $M$64:$M$2042)), "") | J57: =IF(LEN($G57)>1, (SUMPRODUCT(--($C$64:$C$2042=$B32), --($A$64:$A$2042=$D32), --($B$64:$B$2042="ST_B"), $L$64:$L$2042)), "") | K57: =IF(LEN($G57)>1, (SUMPRODUCT(--($C$64:$C$2042=$B32), --($A$64:$A$2042=$D32), --($B$64:$B$2042="ST_B"), $M$64:$M$2042)), "") | L57: =IF(LEN($G57)>1, (SUMPRODUCT(--($C$64:$C$2042=$B32), --($A$64:$A$2042=$D32), --($B$64:$B$2042="ST_C"), $L$64:$L$2042)), "") | M57: =IF(LEN($G57)>1, (SUMPRODUCT(--($C$64:$C$2042=$B32), --($A$64:$A$2042=$D32), --($B$64:$B$2042="ST_C"), $M$64:$M$2042)), "") | N57: =IF(LEN($G57)>1, (SUMPRODUCT(--($C$64:$C$2042=$B32), --($A$64:$A$2042=$D32), --($B$64:$B$2042=$B57&"_TOTAL"), $L$64:$L$2042)), "") | O57: =IF(LEN($G57)>1, (SUMPRODUCT(--($C$64:$C$2042=$B32), --($A$64:$A$2042=$D32), --($B$64:$B$2042=$B57&"_TOTAL"), $M$64:$M$2042)), "")
... B60: =H35 -> 0 | C60: 19 | D60: =IF(ISBLANK(D35), "", IF(D35 = "Add additional scenarios if required", "", IF(M35="YES", D35 & " - " & H35 & " - Interval Customers", D35 & " - " &H35))) | G60: =IF(ISBLANK(G35), "", G35) | H60: =IF(LEN($G60)>1, (SUMPRODUCT(--($C$64:$C$2042=$B35), --($A$64:$A$2042=$D35), --($B$64:$B$2042="ST_A"), $L$64:$L$2042)), "") | I60: =IF(LEN($G60)>1, (SUMPRODUCT(--($C$64:$C$2042=$B35), --($A$64:$A$2042=$D35), --($B$64:$B$2042="ST_A"), $M$64:$M$2042)), "") | J60: =IF(LEN($G60)>1, (SUMPRODUCT(--($C$64:$C$2042=$B35), --($A$64:$A$2042=$D35), --($B$64:$B$2042="ST_B"), $L$64:$L$2042)), "") | K60: =IF(LEN($G60)>1, (SUMPRODUCT(--($C$64:$C$2042=$B35), --($A$64:$A$2042=$D35), --($B$64:$B$2042="ST_B"), $M$64:$M$2042)), "") | L60: =IF(LEN($G60)>1, (SUMPRODUCT(--($C$64:$C$2042=$B35), --($A$64:$A$2042=$D35), --($B$64:$B$2042="ST_C"), $L$64:$L$2042)), "") | M60: =IF(LEN($G60)>1, (SUMPRODUCT(--($C$64:$C$2042=$B35), --($A$64:$A$2042=$D35), --($B$64:$B$2042="ST_C"), $M$64:$M$2042)), "") | N60: =IF(LEN($G60)>1, (SUMPRODUCT(--($C$64:$C$2042=$B35), --($A$64:$A$2042=$D35), --($B$64:$B$2042=$B60&"_TOTAL"), $L$64:$L$2042)), "") | O60: =IF(LEN($G60)>1, (SUMPRODUCT(--($C$64:$C$2042=$B35), --($A$64:$A$2042=$D35), --($B$64:$B$2042=$B60&"_TOTAL"), $M$64:$M$2042)), "")
D64: Customer Class: | E64: =D16 -> Residential | K64: =IF(N16="DEMAND - INTERVAL","RTSR - INTERVAL METERED","")
D65: RPP / Non-RPP: | E65: =H16 -> RPP
D66: Consumption | E66: =K16 -> 750 | F66: kWh
D67: Demand | E67: =L16 -> 0 | F67: kW
D68: Current Loss Factor | E68: =I16 -> 1.0415
D69: Proposed/Approved Loss Factor | E69: =J16 -> 1.0415
F71: Current OEB-Approved | I71: Proposed | L71: Impact
F72: Rate | G72: Volume | H72: Charge | I72: Rate | J72: Volume | K72: Charge | L72: $ Change | M72: % Change
F73: ($) | H73: ($) | I73: ($) | K73: ($)
A74: =$E64 -> Residential | D74: Monthly Service Charge | F74: 47.66 | G74: 1 | H74: =G74*F74 -> 47.66 | I74: 48.83 | J74: =G74 -> 1 | K74: =J74*I74 -> 48.83 | L74: =K74-H74 -> 1.17 | M74: =IF(ISERROR(L74/H74), "", L74/H74) -> 0.024548888
A75: =A74 -> Residential | D75: Distribution Volumetric Rate | F75: 0 | G75: =IF($E67>0, $E67, $E66) -> 750 | H75: =G75*F75 -> 0 | I75: 0 | J75: =IF($E67>0, $E67, $E66) -> 750 | K75: =J75*I75 -> 0 | L75: =K75-H75 -> 0 | M75: =IF(ISERROR(L75/H75), "", L75/H75)
A76: =A75 -> Residential | D76: RRRP Credit | F76: 0 | G76: =IF($E67>0, $E67, $E66) -> 750 | H76: 0 | I76: 0 | J76: =IF($E67>0, $E67, $E66) -> 750 | K76: 0
A77: =A76 -> Residential | D77: DRP Adjustment | F77: 0 | G77: =IF($E67>0, $E67, $E66) -> 750 | H77: 0 | I77: 0 | J77: =IF($E67>0, $E67, $E66) -> 750 | K77: 0 | L77: =K77-H77 -> 0 | M77: =IF(ISERROR(L77/H77), "", L77/H77)
A78: =A77 -> Residential | D78: Fixed Rate Riders | F78: -1.2667264 | G78: 1 | H78: =G78*F78 -> -1.2667264 | I78: 1.8435945 | J78: =G78 -> 1 | K78: =J78*I78 -> 1.8435945 | L78: =K78-H78 -> 3.1103209 | M78: =IF(ISERROR(L78/H78), "", L78/H78) -> -2.4554007
A79: =A78 -> Residential | D79: Volumetric Rate Riders | F79: 0 | G79: =IF($E67>0, $E67, $E66) -> 750 | H79: =G79*F79 -> 0 | I79: 0 | J79: =IF($E67>0, $E67, $E66) -> 750 | K79: =J79*I79 -> 0 | L79: =K79-H79 -> 0 | M79: =IF(ISERROR(L79/H79), "", L79/H79)
A80: =A79 -> Residential | B80: ST_A | C80: =B16 -> 1 | D80: Sub-Total A (excluding pass through) | H80: =SUM(H74:H79) -> 46.393274 | K80: =SUM(K74:K79) -> 50.673594 | L80: =K80-H80 -> 4.2803209 | M80: =IF((H80)=0,"",(L80/H80)) -> 0.09226167
A81: =A80 -> Residential | D81: Line Losses on Cost of Power | F81: =IF((E66*12>=150000), 0, IF(E65="RPP",(F97*OffPeakPer+F98*MidPeakPer+F99*OnPeakPer),IF(E65="Non-RPP (Retailer)",F100,F101))) -> 0.12752 | G81: =IF(F81=0, 0, $E66*E68-E66) -> 31.125 | H81: =G81*F81 -> 3.96906 | I81: =IF((E66*12>=150000), 0, IF(E65="RPP",(I97*OffPeakPer+I98*MidPeakPer+I99*OnPeakPer),IF(E65="Non-RPP (Retailer)",I100,I101))) -> 0.12752 | J81: =IF(I81=0, 0, E66*E69-E66) -> 31.125 | K81: =J81*I81 -> 3.96906 | L81: =K81-H81 -> 0 | M81: =IF(ISERROR(L81/H81), "", L81/H81) -> 0
A82: =A81 -> Residential | D82: Total Deferral/Variance Account Rate Riders | F82: 0 | G82: =IF($E67>0, $E67, $E66) -> 750 | H82: =G82*F82 -> 0 | I82: 0 | J82: =IF($E67>0, $E67, $E66) -> 750 | K82: =J82*I82 -> 0 | L82: =K82-H82 -> 0 | M82: =IF(ISERROR(L82/H82), "", L82/H82)
A83: =A82 -> Residential | D83: CBR Class B Rate Riders | F83: 0 | G83: =IF($E67>0, $E67, $E66) -> 750 | H83: =G83*F83 -> 0 | I83: 0 | J83: =IF($E67>0, $E67, $E66) -> 750 | K83: =J83*I83 -> 0 | L83: =K83-H83 -> 0 | M83: =IF(ISERROR(L83/H83), "", L83/H83)
A84: =A83 -> Residential | D84: GA Rate Riders | F84: 0 | G84: =E66 -> 750 | H84: =G84*F84 -> 0 | I84: 0 | J84: =E66 -> 750 | K84: =J84*I84 -> 0 | L84: =K84-H84 -> 0 | M84: =IF(ISERROR(L84/H84), "", L84/H84)
A85: =A84 -> Residential | D85: Low Voltage Service Charge | F85: 0.0014668234 | G85: =IF($E67>0, $E67, $E66) -> 750 | H85: =G85*F85 -> 1.1001175 | I85: 0.0015338787 | J85: =IF($E67>0, $E67, $E66) -> 750 | K85: =J85*I85 -> 1.150409 | L85: =K85-H85 -> 0.050291472 | M85: =IF(ISERROR(L85/H85), "", L85/H85) -> 0.045714635
A86: =A85 -> Residential | D86: Smart Meter Entity Charge (if applicable) | F86: 0.42 | G86: 1 | H86: =G86*F86 -> 0.42 | I86: 0.42 | J86: 1 | K86: =J86*I86 -> 0.42 | L86: =K86-H86 -> 0 | M86: =IF(ISERROR(L86/H86), "", L86/H86) -> 0
A87: =A86 -> Residential | D87: Additional Fixed Rate Riders | F87: -0.36128264 | G87: 1 | H87: =G87*F87 -> -0.36128264 | I87: -0.051282642 | J87: 1 | K87: =J87*I87 -> -0.051282642 | L87: =K87-H87 -> 0.31 | M87: =IF(ISERROR(L87/H87), "", L87/H87) -> -0.85805396
A88: =A87 -> Residential | D88: Additional Volumetric Rate Riders | F88: 0 | G88: =IF($E67>0, $E67, $E66) -> 750 | H88: =G88*F88 -> 0 | I88: 0 | J88: =IF($E67>0, $E67, $E66) -> 750 | K88: =J88*I88 -> 0 | L88: =K88-H88 -> 0 | M88: =IF(ISERROR(L88/H88), "", L88/H88)
A89: =A88 -> Residential | B89: ST_B | C89: =B16 -> 1 | D89: Sub-Total B - Distribution (includes Sub-Total A) | H89: =SUM(H80:H88) -> 51.521168 | K89: =SUM(K80:K88) -> 56.161781 | L89: =K89-H89 -> 4.6406124 | M89: =IF((H89)=0,"",(L89/H89)) -> 0.090071955
A90: =A89 -> Residential | D90: RTSR - Network | F90: 0.0129 | G90: =IF($E67>0, $E67, $E66*$E68) -> 781.125 | H90: =G90*F90 -> 10.076513 | I90: 0.0137 | J90: =IF($E67>0, $E67, $E66*$E69) -> 781.125 | K90: =J90*I90 -> 10.701413 | L90: =K90-H90 -> 0.6249 | M90: =IF(ISERROR(L90/H90), "", L90/H90) -> 0.062015504
A91: =A90 -> Residential | D91: RTSR - Connection and/or Line and Transformation Connection | F91: 0.0093 | G91: =IF($E67>0, $E67, $E66*$E68) -> 781.125 | H91: =G91*F91 -> 7.2644625 | I91: 0.0099 | J91: =IF($E67>0, $E67, $E66*$E69) -> 781.125 | K91: =J91*I91 -> 7.7331375 | L91: =K91-H91 -> 0.468675 | M91: =IF(ISERROR(L91/H91), "", L91/H91) -> 0.064516129
A92: =A91 -> Residential | B92: ST_C | C92: =B16 -> 1 | D92: Sub-Total C - Delivery (including Sub-Total B) | H92: =SUM(H89:H91) -> 68.862143 | K92: =SUM(K89:K91) -> 74.596331 | L92: =K92-H92 -> 5.7341874 | M92: =IF((H92)=0,"",(L92/H92)) -> 0.083270533
A93: =A92 -> Residential | D93: Wholesale Market Service Charge (WMSC) | F93: 0.0045 | G93: =E66*E68 -> 781.125 | H93: =G93*F93 -> 3.5150625 | I93: 0.0045 | J93: =E66*E69 -> 781.125 | K93: =J93*I93 -> 3.5150625 | L93: =K93-H93 -> 0 | M93: =IF(ISERROR(L93/H93), "", L93/H93) -> 0
A94: =A93 -> Residential | D94: Rural and Remote Rate Protection (RRRP) | F94: 0.0015 | G94: =E66*E68 -> 781.125 | H94: =G94*F94 -> 1.1716875 | I94: 0.0015 | J94: =E66*E69 -> 781.125 | K94: =J94*I94 -> 1.1716875 | L94: =K94-H94 -> 0 | M94: =IF(ISERROR(L94/H94), "", L94/H94) -> 0
A95: =A94 -> Residential | D95: Standard Supply Service Charge | F95: 0.25 | G95: 1 | H95: =G95*F95 -> 0.25 | I95: 0.25 | J95: 1 | K95: =J95*I95 -> 0.25 | L95: =K95-H95 -> 0 | M95: =IF(ISERROR(L95/H95), "", L95/H95) -> 0
A96: =A95 -> Residential | D96: Ontario Electricity Support Program (OESP)
A97: =A96 -> Residential | B97: RPP | D97: TOU - Off Peak | F97: 0.098 | G97: =IF(AND(E66*12>=150000),OffPeakPer*E66*E68,OffPeakPer*E66) -> 480 | H97: =G97*F97 -> 47.04 | I97: =F97 -> 0.098 | J97: =IF(AND(E66*12>=150000),OffPeakPer*E66*E69,OffPeakPer*E66) -> 480 | K97: =J97*I97 -> 47.04 | L97: =K97-H97 -> 0 | M97: =IF(ISERROR(L97/H97), "", L97/H97) -> 0
A98: =A97 -> Residential | B98: RPP | D98: TOU - Mid Peak | F98: 0.157 | G98: =IF(AND(E66*12>=150000),MidPeakPer*E66*E68,MidPeakPer*E66) -> 135 | H98: =G98*F98 -> 21.195 | I98: =F98 -> 0.157 | J98: =IF(AND(E66*12>=150000),MidPeakPer*E66*E69,MidPeakPer*E66) -> 135 | K98: =J98*I98 -> 21.195 | L98: =K98-H98 -> 0 | M98: =IF(ISERROR(L98/H98), "", L98/H98) -> 0
A99: =A98 -> Residential | B99: RPP | D99: TOU - On Peak | F99: 0.203 | G99: =IF(AND(E66*12>=150000),OnPeakPer*E66*E68,OnPeakPer*E66) -> 135 | H99: =G99*F99 -> 27.405 | I99: =F99 -> 0.203 | J99: =IF(AND(E66*12>=150000),OnPeakPer*E66*E69,OnPeakPer*E66) -> 135 | K99: =J99*I99 -> 27.405 | L99: =K99-H99 -> 0 | M99: =IF(ISERROR(L99/H99), "", L99/H99) -> 0
A100: =A99 -> Residential | B100: Non-RPP (Retailer) | D100: Non-RPP Retailer Avg. Price | F100: 0.11308 | G100: =IF(AND(E66*12>=150000),E66*E68,E66) -> 750 | H100: =G100*F100 -> 84.81 | I100: =F100 -> 0.11308 | J100: =IF(AND(E66*12>=150000),E66*E69,E66) -> 750 | K100: =J100*I100 -> 84.81 | L100: =K100-H100 -> 0 | M100: =IF(ISERROR(L100/H100), "", L100/H100) -> 0
A101: =A100 -> Residential | B101: Non-RPP (Other) | D101: Average IESO Wholesale Market Price | F101: 0.11308 | G101: =IF(AND(E66*12>=150000),E66*E68,E66) -> 750 | H101: =G101*F101 -> 84.81 | I101: =F101 -> 0.11308 | J101: =IF(AND(E66*12>=150000),E66*E69,E66) -> 750 | K101: =J101*I101 -> 84.81 | L101: =K101-H101 -> 0 | M101: =IF(ISERROR(L101/H101), "", L101/H101) -> 0
A102: =A101 -> Residential
A103: =A102 -> Residential | B103: RPP | D103: Total Bill on TOU (before Taxes) | H103: =SUM(H93:H99,H92) -> 169.43889 | K103: =SUM(K93:K99,K92) -> 175.17308 | L103: =K103-H103 -> 5.7341874 | M103: =IF((H103)=0,"",(L103/H103)) -> 0.033842214
A104: =A103 -> Residential | B104: RPP | D104: HST | F104: 0.13 | H104: =H103*F104 -> 22.027056 | I104: 0.13 | K104: =K103*I104 -> 22.772501 | L104: =K104-H104 -> 0.74544436 | M104: =IF((H104)=0,"",(L104/H104)) -> 0.033842214
A105: =A104 -> Residential | B105: RPP | D105: Ontario Electricity Rebate | F105: 0.235 | H105: =IF(OR(ISNUMBER(SEARCH("[DGEN]", E64))=TRUE, ISNUMBER(SEARCH("STREET LIGHT", E64))=TRUE), 0, IF(AND(E66=0, E67=0),0, IF(AND(E67=0, E66*12>250000), 0, IF(AND(E66=0, E67>=50), 0, IF(E66*12<=250000, F105*H103*-1, IF(E67<50, F105*H103*-1, 0)))))) -> -39.81814 | I105: 0.235 | K105: =IF(OR(ISNUMBER(SEARCH("[DGEN]", E64))=TRUE, ISNUMBER(SEARCH("STREET LIGHT", E64))=TRUE), 0, IF(AND(E66=0, E67=0),0, IF(AND(E67=0, E66*12>250000), 0, IF(AND(E66=0, E67>=50), 0, IF(E66*12<=250000, I105*K103*-1, IF(E67<50, I105*K103*-1, 0)))))) -> -41.165674 | L105: =K105-H105 -> -1.347534
A106: =A105 -> Residential | B106: RPP_TOTAL | C106: =B16 -> 1 | D106: Total Bill on TOU | H106: =H103+H104+H105 -> 151.64781 | K106: =K103+K104+K105 -> 156.77991 | L106: =K106-H106 -> 5.1320977 | M106: =IF((H106)=0,"",(L106/H106)) -> 0.033842214
A107: =A106 -> Residential | B107: RPP
A108: =A107 -> Residential | B108: Non-RPP (Retailer) | D108: Total Bill on Non-RPP Avg. Price | H108: =SUM(H100,H93:H96,H92) -> 158.60889 | K108: =SUM(K100,K93:K96,K92) -> 164.34308 | L108: =K108-H108 -> 5.7341874 | M108: =IF((H108)=0,"",(L108/H108)) -> 0.036153
A109: =A108 -> Residential | B109: Non-RPP (Retailer) | D109: HST | F109: 0.13 | H109: =H108*F109 -> 20.619156 | I109: 0.13 | K109: =K108*I109 -> 21.364601 | L109: =K109-H109 -> 0.74544436 | M109: =IF((H109)=0,"",(L109/H109)) -> 0.036153
A110: =A109 -> Residential | B110: Non-RPP (Retailer) | D110: Ontario Electricity Rebate | F110: 0.235 | H110: =IF(OR(ISNUMBER(SEARCH("[DGEN]", E64))=TRUE, ISNUMBER(SEARCH("STREET LIGHT", E64))=TRUE), 0, IF(AND(E66=0, E67=0),0, IF(AND(E67=0, E66*12>250000), 0, IF(AND(E66=0, E67>=50), 0, IF(E66*12<=250000, F110*H108*-1, IF(E67<50, F110*H108*-1, 0)))))) -> -37.27309 | I110: 0.235 | K110: =IF(OR(ISNUMBER(SEARCH("[DGEN]", E64))=TRUE, ISNUMBER(SEARCH("STREET LIGHT", E64))=TRUE), 0, IF(AND(E66=0, E67=0),0, IF(AND(E67=0, E66*12>250000), 0, IF(AND(E66=0, E67>=50), 0, IF(E66*12<=250000, I110*K108*-1, IF(E67<50, I110*K108*-1, 0)))))) -> -38.620624
A111: =A110 -> Residential | B111: Non-RPP (Retailer)_TOTAL | D111: Total Bill on Non-RPP Avg. Price | H111: =SUM(H108,H109) -> 179.22805 | K111: =SUM(K108,K109) -> 185.70768 | L111: =K111-H111 -> 6.4796317 | M111: =IF((H111)=0,"",(L111/H111)) -> 0.036153
A112: =A111 -> Residential | B112: Non-RPP (Retailer)
A113: =A112 -> Residential | B113: Non-RPP (Other) | D113: Total Bill on Average IESO Wholesale Market Price | H113: =SUM(H101,H93:H96,H92) -> 158.60889 | K113: =SUM(K101,K93:K96,K92) -> 164.34308 | L113: =K113-H113 -> 5.7341874 | M113: =IF((H113)=0,"",(L113/H113)) -> 0.036153
A114: =A113 -> Residential | B114: Non-RPP (Other) | D114: HST | F114: 0.13 | H114: =H113*F114 -> 20.619156 | I114: 0.13 | K114: =K113*I114 -> 21.364601 | L114: =K114-H114 -> 0.74544436 | M114: =IF((H114)=0,"",(L114/H114)) -> 0.036153
A115: =A114 -> Residential | B115: Non-RPP (Other) | D115: Ontario Electricity Rebate | F115: 0.235 | H115: =IF(OR(ISNUMBER(SEARCH("[DGEN]", E64))=TRUE, ISNUMBER(SEARCH("STREET LIGHT", E64))=TRUE), 0, IF(AND(E66=0, E67=0),0, IF(AND(E67=0, E66*12>250000), 0, IF(AND(E66=0, E67>=50), 0, IF(E66*12<=250000, F115*H113*-1, IF(E67<50, F115*H113*-1, 0)))))) -> -37.27309 | I115: 0.235 | K115: =IF(OR(ISNUMBER(SEARCH("[DGEN]", E64))=TRUE, ISNUMBER(SEARCH("STREET LIGHT", E64))=TRUE), 0, IF(AND(E66=0, E67=0),0, IF(AND(E67=0, E66*12>250000), 0, IF(AND(E66=0, E67>=50), 0, IF(E66*12<=250000, I115*K113*-1, IF(E67<50, I115*K113*-1, 0)))))) -> -38.620624
A116: =A115 -> Residential | B116: Non-RPP (Other)_TOTAL | D116: Total Bill on Average IESO Wholesale Market Price | H116: =SUM(H113,H114) -> 179.22805 | K116: =SUM(K113,K114) -> 185.70768 | L116: =K116-H116 -> 6.4796317 | M116: =IF((H116)=0,"",(L116/H116)) -> 0.036153
A117: =A116 -> Residential | B117: Non-RPP (Other)
D120: Customer Class: | E120: =D17 -> GS <50 | K120: =IF(N17="DEMAND - INTERVAL","RTSR - INTERVAL METERED","")
D121: RPP / Non-RPP: | E121: =H17 -> RPP
D122: Consumption | E122: =K17 -> 2000 | F122: kWh
D123: Demand | E123: =L17 -> 0 | F123: kW
...

Sheet VRZ BI (2028)
D14: Table 1
D15: RATE CLASSES / CATEGORIES (eg: Residential TOU, Residential Retailer) | G15: Units | H15: RPP? Non-RPP Retailer? Non-RPP Other? | I15: Current Loss Factor (eg: 1.0351) | J15: Proposed Loss Factor | K15: Consumption (kWh) | L15: Demand kW (if applicable) | M15: RTSR Demand or Demand-Interval? | N15: Billing Determinant Applied to Fixed Charge for Unmetered Classes (e.g. # of devices/connections).
B16: 1 | C16: 1 | D16: Residential | G16: kWh | H16: RPP | I16: ='VRZ BI (2027)'!J16 -> 1.0415 | J16: =I16 -> 1.0415 | K16: 750 | M16: CONSUMPTION | AE16: 1
B17: 2 | C17: 2 | D17: Seasonal Residential | G17: kWh | H17: RPP | I17: ='VRZ BI (2027)'!J17 -> 1.0415 | J17: =I17 -> 1.0415 | K17: 680 | M17: CONSUMPTION | AE17: 2
B18: 3 | C18: 3 | D18: GS <50 | G18: kWh | H18: RPP | I18: ='VRZ BI (2027)'!J18 -> 1.0415 | J18: =I18 -> 1.0415 | K18: 2000 | M18: CONSUMPTION | AE18: 3
B19: 4 | C19: 4 | D19: GS 50 - 2,999 kW | G19: kW | H19: Non-RPP (Other) | I19: ='VRZ BI (2027)'!J19 -> 1.0415 | J19: =I19 -> 1.0415 | K19: 75000 | L19: 175 | M19: DEMAND | AE19: 4
B20: 5 | C20: 5 | D20: GS 3,000 - 4,999 kW | G20: kW | H20: Non-RPP (Other) | I20: ='VRZ BI (2027)'!J20 -> 1.0311 | J20: =I20 -> 1.0311 | K20: 2000000 | L20: 4000 | M20: DEMAND | AE20: 5
B21: 6 | C21: 6 | D21: Large Use >5MW | G21: kW | H21: Non-RPP (Other) | I21: ='VRZ BI (2027)'!J21 -> 1.0066 | J21: =I21 -> 1.0066 | K21: 5650000 | L21: 9400 | M21: DEMAND | AE21: 6
B22: 7 | C22: 7 | D22: Unmetered Scattered Load | G22: kWh | H22: RPP | I22: ='VRZ BI (2027)'!J22 -> 1.0415 | J22: =I22 -> 1.0415 | K22: 450 | M22: CONSUMPTION | N22: 1 | AE22: 7
B23: 8 | C23: 8 | D23: Sentinel | G23: kW | H23: RPP | I23: ='VRZ BI (2027)'!J23 -> 1.0415 | J23: =I23 -> 1.0415 | K23: 60 | L23: 0.2 | M23: DEMAND | N23: 1 | AE23: 8
B24: 9 | C24: 9 | D24: Street Light | G24: kW | H24: Non-RPP (Other) | I24: ='VRZ BI (2027)'!J24 -> 1.0415 | J24: =I24 -> 1.0415 | K24: 340939.97 | L24: 910.35058 | M24: DEMAND | N24: 11114.045 | AE24: 9
B25: 10 | C25: =IF(ISERROR(VLOOKUP(D25, D16:AE35, 42, FALSE)),"", VLOOKUP(D25, D16:AE35, 42, FALSE)) | D25: Residential (Low) | G25: kWh | H25: RPP | I25: ='VRZ BI (2027)'!J25 -> 1.0415 | J25: =J24 -> 1.0415 | K25: 325 | M25: CONSUMPTION | AE25: 10
B26: 11 | C26: =IF(ISERROR(VLOOKUP(D26, D16:AE35, 42, FALSE)),"", VLOOKUP(D26, D16:AE35, 42, FALSE)) | D26: Residential (High) | G26: kWh | H26: RPP | I26: ='VRZ BI (2027)'!J26 -> 1.0415 | J26: =J25 -> 1.0415 | K26: 1500 | M26: CONSUMPTION | AE26: 11
B27: 12 | C27: =IF(ISERROR(VLOOKUP(D27, D16:AE35, 42, FALSE)),"", VLOOKUP(D27, D16:AE35, 42, FALSE)) | D27: Seasonal Residential (Low) | G27: kWh | H27: RPP | I27: ='VRZ BI (2027)'!J27 -> 1.0415 | J27: =J26 -> 1.0415 | K27: 350 | M27: CONSUMPTION
B28: 13 | C28: =IF(ISERROR(VLOOKUP(D28, D16:AE35, 42, FALSE)),"", VLOOKUP(D28, D16:AE35, 42, FALSE)) | D28: Seasonal Residential (High) | G28: kWh | H28: RPP | I28: ='VRZ BI (2027)'!J28 -> 1.0415 | J28: =J27 -> 1.0415 | K28: 1500 | M28: CONSUMPTION
B29: 14 | C29: =IF(ISERROR(VLOOKUP(D29, D16:AE35, 42, FALSE)),"", VLOOKUP(D29, D16:AE35, 42, FALSE)) | D29: GS < 50 (Low) | G29: kWh | H29: RPP | I29: ='VRZ BI (2027)'!J29 -> 1.0415 | J29: =J28 -> 1.0415 | K29: 1000 | M29: CONSUMPTION
B30: 15 | C30: =IF(ISERROR(VLOOKUP(D30, D16:AE35, 42, FALSE)),"", VLOOKUP(D30, D16:AE35, 42, FALSE)) | D30: GS < 50 (High) | G30: kWh | H30: RPP | I30: ='VRZ BI (2027)'!J30 -> 1.0415 | J30: =J29 -> 1.0415 | K30: 5000 | M30: CONSUMPTION
B31: 16 | C31: =IF(ISERROR(VLOOKUP(D31, D16:AE35, 42, FALSE)),"", VLOOKUP(D31, D16:AE35, 42, FALSE)) | D31: Add additional scenarios if required | I31: ='VRZ BI (2027)'!J31 -> 0 | J31: =I31 -> 0
B32: 17 | C32: =IF(ISERROR(VLOOKUP(D32, D16:AE35, 42, FALSE)),"", VLOOKUP(D32, D16:AE35, 42, FALSE)) | D32: Add additional scenarios if required | I32: ='VRZ BI (2027)'!J32 -> 0 | J32: =I32 -> 0
B33: 18 | C33: =IF(ISERROR(VLOOKUP(D33, D16:AE35, 42, FALSE)),"", VLOOKUP(D33, D16:AE35, 42, FALSE)) | D33: Add additional scenarios if required | I33: ='VRZ BI (2027)'!J33 -> 0 | J33: =I33 -> 0
B34: 19 | C34: =IF(ISERROR(VLOOKUP(D34, D16:AE35, 42, FALSE)),"", VLOOKUP(D34, D16:AE35, 42, FALSE)) | D34: Add additional scenarios if required | I34: ='VRZ BI (2027)'!J34 -> 0 | J34: =I34 -> 0
B35: 20 | C35: =IF(ISERROR(VLOOKUP(D35, D16:AE35, 42, FALSE)),"", VLOOKUP(D35, D16:AE35, 42, FALSE)) | D35: Add additional scenarios if required | I35: ='VRZ BI (2027)'!J35 -> 0 | J35: =I35 -> 0
D37: Table 2
D38: RATE CLASSES / CATEGORIES (eg: Residential TOU, Residential Retailer) | G38: Units | H38: Sub-Total | N38: Total
H39: A | J39: B | L39: C | N39: Total Bill
H40: $ | I40: % | J40: $ | K40: % | L40: $ | M40: % | N40: $ | O40: %
B41: =H16 -> RPP | C41: 1 | D41: =IF(ISBLANK(D16), "", IF(D16 = "Add additional scenarios if required", "", IF(M16="YES", D16 & " - " & H16 & " - Interval Customers", D16 & " - " &H16))) -> Residential - RPP | G41: =IF(ISBLANK(G16), "", G16) -> kWh | H41: {=IF(LEN($G41)>1, (SUMPRODUCT(--($C$64:$C$1986=$B16), --($A$64:$A$1986=$D16), --($B$64:$B$1986="ST_A"), $L$64:$L$1986)), "")} -> 4.0530355 | I41: =IF(LEN($G41)>1, (SUMPRODUCT(--($C$64:$C$1986=$B16), --($A$64:$A$1986=$D16), --($B$64:$B$1986="ST_A"), $M$64:$M$1986)), "") -> 0.086696388 | J41: =IF(LEN($G41)>1, (SUMPRODUCT(--($C$64:$C$1986=$B16), --($A$64:$A$1986=$D16), --($B$64:$B$1986="ST_B"), $L$64:$L$1986)), "") -> 2.7633269 | K41: =IF(LEN($G41)>1, (SUMPRODUCT(--($C$64:$C$1986=$B16), --($A$64:$A$1986=$D16), --($B$64:$B$1986="ST_B"), $M$64:$M$1986)), "") -> 0.051459808 | L41: =IF(LEN($G41)>1, (SUMPRODUCT(--($C$64:$C$1986=$B16), --($A$64:$A$1986=$D16), --($B$64:$B$1986="ST_C"), $L$64:$L$1986)), "") -> 3.8569019 | M41: =IF(LEN($G41)>1, (SUMPRODUCT(--($C$64:$C$1986=$B16), --($A$64:$A$1986=$D16), --($B$64:$B$1986="ST_C"), $M$64:$M$1986)), "") -> 0.054292192 | N41: =IF(LEN($G41)>1, (SUMPRODUCT(--($C$64:$C$1986=$B16), --($A$64:$A$1986=$D16), --($B$64:$B$1986=$B41&"_TOTAL"), $L$64:$L$1986)), "") -> 3.4519272 | O41: =IF(LEN($G41)>1, (SUMPRODUCT(--($C$64:$C$1986=$B16), --($A$64:$A$1986=$D16), --($B$64:$B$1986=$B41&"_TOTAL"), $M$64:$M$1986)), "") -> 0.022473962
B42: =H17 -> RPP | C42: 2 | D42: =IF(ISBLANK(D17), "", IF(D17 = "Add additional scenarios if required", "", IF(M17="YES", D17 & " - " & H17 & " - Interval Customers", D17 & " - " &H17))) -> Seasonal Residential - RPP | G42: =IF(ISBLANK(G17), "", G17) -> kWh | H42: =IF(LEN($G42)>1, (SUMPRODUCT(--($C$64:$C$1986=$B17), --($A$64:$A$1986=$D17), --($B$64:$B$1986="ST_A"), $L$64:$L$1986)), "") -> 8.1944167 | I42: =IF(LEN($G42)>1, (SUMPRODUCT(--($C$64:$C$1986=$B17), --($A$64:$A$1986=$D17), --($B$64:$B$1986="ST_A"), $M$64:$M$1986)), "") -> 0.10243135 | J42: =IF(LEN($G42)>1, (SUMPRODUCT(--($C$64:$C$1986=$B17), --($A$64:$A$1986=$D17), --($B$64:$B$1986="ST_B"), $L$64:$L$1986)), "") -> 5.9794531 | K42: =IF(LEN($G42)>1, (SUMPRODUCT(--($C$64:$C$1986=$B17), --($A$64:$A$1986=$D17), --($B$64:$B$1986="ST_B"), $M$64:$M$1986)), "") -> 0.068159991 | L42: =IF(LEN($G42)>1, (SUMPRODUCT(--($C$64:$C$1986=$B17), --($A$64:$A$1986=$D17), --($B$64:$B$1986="ST_C"), $L$64:$L$1986)), "") -> 7.0417831 | M42: =IF(LEN($G42)>1, (SUMPRODUCT(--($C$64:$C$1986=$B17), --($A$64:$A$1986=$D17), --($B$64:$B$1986="ST_C"), $M$64:$M$1986)), "") -> 0.067105199 | N42: =IF(LEN($G42)>1, (SUMPRODUCT(--($C$64:$C$1986=$B17), --($A$64:$A$1986=$D17), --($B$64:$B$1986=$B42&"_TOTAL"), $L$64:$L$1986)), "") -> 6.3023958 | O42: =IF(LEN($G42)>1, (SUMPRODUCT(--($C$64:$C$1986=$B17), --($A$64:$A$1986=$D17), --($B$64:$B$1986=$B42&"_TOTAL"), $M$64:$M$1986)), "") -> 0.035900101
B43: =H18 -> RPP | C43: 3 | D43: =IF(ISBLANK(D18), "", IF(D18 = "Add additional scenarios if required", "", IF(M18="YES", D18 & " - " & H18 & " - Interval Customers", D18 & " - " &H18))) -> GS <50 - RPP | G43: =IF(ISBLANK(G18), "", G18) -> kWh | H43: =IF(LEN($G43)>1, (SUMPRODUCT(--($C$64:$C$1986=$B18), --($A$64:$A$1986=$D18), --($B$64:$B$1986="ST_A"), $L$64:$L$1986)), "") -> 8.9064023 | I43: =IF(LEN($G43)>1, (SUMPRODUCT(--($C$64:$C$1986=$B18), --($A$64:$A$1986=$D18), --($B$64:$B$1986="ST_A"), $M$64:$M$1986)), "") -> 0.09862215 | J43: =IF(LEN($G43)>1, (SUMPRODUCT(--($C$64:$C$1986=$B18), --($A$64:$A$1986=$D18), --($B$64:$B$1986="ST_B"), $L$64:$L$1986)), "") -> 6.8315296 | K43: =IF(LEN($G43)>1, (SUMPRODUCT(--($C$64:$C$1986=$B18), --($A$64:$A$1986=$D18), --($B$64:$B$1986="ST_B"), $M$64:$M$1986)), "") -> 0.06413666 | L43: =IF(LEN($G43)>1, (SUMPRODUCT(--($C$64:$C$1986=$B18), --($A$64:$A$1986=$D18), --($B$64:$B$1986="ST_C"), $L$64:$L$1986)), "") -> 9.5394296 | M43: =IF(LEN($G43)>1, (SUMPRODUCT(--($C$64:$C$1986=$B18), --($A$64:$A$1986=$D18), --($B$64:$B$1986="ST_C"), $M$64:$M$1986)), "") -> 0.063930037 | N43: =IF(LEN($G43)>1, (SUMPRODUCT(--($C$64:$C$1986=$B18), --($A$64:$A$1986=$D18), --($B$64:$B$1986=$B43&"_TOTAL"), $L$64:$L$1986)), "") -> 8.5377895 | O43: =IF(LEN($G43)>1, (SUMPRODUCT(--($C$64:$C$1986=$B18), --($A$64:$A$1986=$D18), --($B$64:$B$1986=$B43&"_TOTAL"), $M$64:$M$1986)), "") -> 0.022876072
B44: =H19 -> Non-RPP (Other) | C44: 4 | D44: =IF(ISBLANK(D19), "", IF(D19 = "Add additional scenarios if required", "", IF(M19="YES", D19 & " - " & H19 & " - Interval Customers", D19 & " - " &H19))) -> GS 50 - 2,999 kW - Non-RPP (Other) | G44: =IF(ISBLANK(G19), "", G19) -> kW | H44: =IF(LEN($G44)>1, (SUMPRODUCT(--($C$64:$C$1986=$B19), --($A$64:$A$1986=$D19), --($B$64:$B$1986="ST_A"), $L$64:$L$1986)), "") -> 111.5114 | I44: =IF(LEN($G44)>1, (SUMPRODUCT(--($C$64:$C$1986=$B19), --($A$64:$A$1986=$D19), --($B$64:$B$1986="ST_A"), $M$64:$M$1986)), "") -> 0.087225203 | J44: =IF(LEN($G44)>1, (SUMPRODUCT(--($C$64:$C$1986=$B19), --($A$64:$A$1986=$D19), --($B$64:$B$1986="ST_B"), $L$64:$L$1986)), "") -> 86.335352 | K44: =IF(LEN($G44)>1, (SUMPRODUCT(--($C$64:$C$1986=$B19), --($A$64:$A$1986=$D19), --($B$64:$B$1986="ST_B"), $M$64:$M$1986)), "") -> 0.061149867 | L44: =IF(LEN($G44)>1, (SUMPRODUCT(--($C$64:$C$1986=$B19), --($A$64:$A$1986=$D19), --($B$64:$B$1986="ST_C"), $L$64:$L$1986)), "") -> 187.39785 | M44: =IF(LEN($G44)>1, (SUMPRODUCT(--($C$64:$C$1986=$B19), --($A$64:$A$1986=$D19), --($B$64:$B$1986="ST_C"), $M$64:$M$1986)), "") -> 0.061822076 | N44: =IF(LEN($G44)>1, (SUMPRODUCT(--($C$64:$C$1986=$B19), --($A$64:$A$1986=$D19), --($B$64:$B$1986=$B44&"_TOTAL"), $L$64:$L$1986)), "") -> 211.75957 | O44: =IF(LEN($G44)>1, (SUMPRODUCT(--($C$64:$C$1986=$B19), --($A$64:$A$1986=$D19), --($B$64:$B$1986=$B44&"_TOTAL"), $M$64:$M$1986)), "") -> 0.015194669
B45: =H20 -> Non-RPP (Other) | C45: 5 | D45: =IF(ISBLANK(D20), "", IF(D20 = "Add additional scenarios if required", "", IF(M20="YES", D20 & " - " & H20 & " - Interval Customers", D20 & " - " &H20))) -> GS 3,000 - 4,999 kW - Non-RPP (Other) | G45: =IF(ISBLANK(G20), "", G20) -> kW | H45: =IF(LEN($G45)>1, (SUMPRODUCT(--($C$64:$C$1986=$B20), --($A$64:$A$1986=$D20), --($B$64:$B$1986="ST_A"), $L$64:$L$1986)), "") -> 1531.4663 | I45: =IF(LEN($G45)>1, (SUMPRODUCT(--($C$64:$C$1986=$B20), --($A$64:$A$1986=$D20), --($B$64:$B$1986="ST_A"), $M$64:$M$1986)), "") -> 0.060980182 | J45: =IF(LEN($G45)>1, (SUMPRODUCT(--($C$64:$C$1986=$B20), --($A$64:$A$1986=$D20), --($B$64:$B$1986="ST_B"), $L$64:$L$1986)), "") -> 1039.9992 | K45: =IF(LEN($G45)>1, (SUMPRODUCT(--($C$64:$C$1986=$B20), --($A$64:$A$1986=$D20), --($B$64:$B$1986="ST_B"), $M$64:$M$1986)), "") -> 0.038024976 | L45: =IF(LEN($G45)>1, (SUMPRODUCT(--($C$64:$C$1986=$B20), --($A$64:$A$1986=$D20), --($B$64:$B$1986="ST_C"), $L$64:$L$1986)), "") -> 3139.5992 | M45: =IF(LEN($G45)>1, (SUMPRODUCT(--($C$64:$C$1986=$B20), --($A$64:$A$1986=$D20), --($B$64:$B$1986="ST_C"), $M$64:$M$1986)), "") -> 0.05132578 | N45: =IF(LEN($G45)>1, (SUMPRODUCT(--($C$64:$C$1986=$B20), --($A$64:$A$1986=$D20), --($B$64:$B$1986=$B45&"_TOTAL"), $L$64:$L$1986)), "") -> 3547.7471 | O45: =IF(LEN($G45)>1, (SUMPRODUCT(--($C$64:$C$1986=$B20), --($A$64:$A$1986=$D20), --($B$64:$B$1986=$B45&"_TOTAL"), $M$64:$M$1986)), "") -> 0.010235474
B46: =H21 -> Non-RPP (Other) | C46: 6 | D46: =IF(ISBLANK(D21), "", IF(D21 = "Add additional scenarios if required", "", IF(M21="YES", D21 & " - " & H21 & " - Interval Customers", D21 & " - " &H21))) -> Large Use >5MW - Non-RPP (Other) | G46: =IF(ISBLANK(G21), "", G21) -> kW | H46: =IF(LEN($G46)>1, (SUMPRODUCT(--($C$64:$C$1986=$B21), --($A$64:$A$1986=$D21), --($B$64:$B$1986="ST_A"), $L$64:$L$1986)), "") -> 4587.2382 | I46: =IF(LEN($G46)>1, (SUMPRODUCT(--($C$64:$C$1986=$B21), --($A$64:$A$1986=$D21), --($B$64:$B$1986="ST_A"), $M$64:$M$1986)), "") -> 0.066969155 | J46: =IF(LEN($G46)>1, (SUMPRODUCT(--($C$64:$C$1986=$B21), --($A$64:$A$1986=$D21), --($B$64:$B$1986="ST_B"), $L$64:$L$1986)), "") -> 3393.3369 | K46: =IF(LEN($G46)>1, (SUMPRODUCT(--($C$64:$C$1986=$B21), --($A$64:$A$1986=$D21), --($B$64:$B$1986="ST_B"), $M$64:$M$1986)), "") -> 0.044644855 | L46: =IF(LEN($G46)>1, (SUMPRODUCT(--($C$64:$C$1986=$B21), --($A$64:$A$1986=$D21), --($B$64:$B$1986="ST_C"), $L$64:$L$1986)), "") -> 9436.5969 | M46: =IF(LEN($G46)>1, (SUMPRODUCT(--($C$64:$C$1986=$B21), --($A$64:$A$1986=$D21), --($B$64:$B$1986="ST_C"), $M$64:$M$1986)), "") -> 0.054582296 | N46: =IF(LEN($G46)>1, (SUMPRODUCT(--($C$64:$C$1986=$B21), --($A$64:$A$1986=$D21), --($B$64:$B$1986=$B46&"_TOTAL"), $L$64:$L$1986)), "") -> 10663.354 | O46: =IF(LEN($G46)>1, (SUMPRODUCT(--($C$64:$C$1986=$B21), --($A$64:$A$1986=$D21), --($B$64:$B$1986=$B46&"_TOTAL"), $M$64:$M$1986)), "") -> 0.011100178
B47: =H22 -> RPP | C47: 7 | D47: =IF(ISBLANK(D22), "", IF(D22 = "Add additional scenarios if required", "", IF(M22="YES", D22 & " - " & H22 & " - Interval Customers", D22 & " - " &H22))) -> Unmetered Scattered Load - RPP | G47: =IF(ISBLANK(G22), "", G22) -> kWh | H47: =IF(LEN($G47)>1, (SUMPRODUCT(--($C$64:$C$1986=$B22), --($A$64:$A$1986=$D22), --($B$64:$B$1986="ST_A"), $L$64:$L$1986)), "") -> 2.3674538 | I47: =IF(LEN($G47)>1, (SUMPRODUCT(--($C$64:$C$1986=$B22), --($A$64:$A$1986=$D22), --($B$64:$B$1986="ST_A"), $M$64:$M$1986)), "") -> 0.10833782 | J47: =IF(LEN($G47)>1, (SUMPRODUCT(--($C$64:$C$1986=$B22), --($A$64:$A$1986=$D22), --($B$64:$B$1986="ST_B"), $L$64:$L$1986)), "") -> 1.5859346 | K47: =IF(LEN($G47)>1, (SUMPRODUCT(--($C$64:$C$1986=$B22), --($A$64:$A$1986=$D22), --($B$64:$B$1986="ST_B"), $M$64:$M$1986)), "") -> 0.061633279 | L47: =IF(LEN($G47)>1, (SUMPRODUCT(--($C$64:$C$1986=$B22), --($A$64:$A$1986=$D22), --($B$64:$B$1986="ST_C"), $L$64:$L$1986)), "") -> 2.1952121 | M47: =IF(LEN($G47)>1, (SUMPRODUCT(--($C$64:$C$1986=$B22), --($A$64:$A$1986=$D22), --($B$64:$B$1986="ST_C"), $M$64:$M$1986)), "") -> 0.062035307 | N47: =IF(LEN($G47)>1, (SUMPRODUCT(--($C$64:$C$1986=$B22), --($A$64:$A$1986=$D22), --($B$64:$B$1986=$B47&"_TOTAL"), $L$64:$L$1986)), "") -> 1.9647148 | O47: =IF(LEN($G47)>1, (SUMPRODUCT(--($C$64:$C$1986=$B22), --($A$64:$A$1986=$D22), --($B$64:$B$1986=$B47&"_TOTAL"), $M$64:$M$1986)), "") -> 0.022906749
B48: =H23 -> RPP | C48: 8 | D48: =IF(ISBLANK(D23), "", IF(D23 = "Add additional scenarios if required", "", IF(M23="YES", D23 & " - " & H23 & " - Interval Customers", D23 & " - " &H23))) -> Sentinel - RPP | G48: =IF(ISBLANK(G23), "", G23) -> kW | H48: =IF(LEN($G48)>1, (SUMPRODUCT(--($C$64:$C$1986=$B23), --($A$64:$A$1986=$D23), --($B$64:$B$1986="ST_A"), $L$64:$L$1986)), "") -> 1.1300717 | I48: =IF(LEN($G48)>1, (SUMPRODUCT(--($C$64:$C$1986=$B23), --($A$64:$A$1986=$D23), --($B$64:$B$1986="ST_A"), $M$64:$M$1986)), "") -> 0.095968186 | J48: =IF(LEN($G48)>1, (SUMPRODUCT(--($C$64:$C$1986=$B23), --($A$64:$A$1986=$D23), --($B$64:$B$1986="ST_B"), $L$64:$L$1986)), "") -> 0.84062948 | K48: =IF(LEN($G48)>1, (SUMPRODUCT(--($C$64:$C$1986=$B23), --($A$64:$A$1986=$D23), --($B$64:$B$1986="ST_B"), $M$64:$M$1986)), "") -> 0.067284783 | L48: =IF(LEN($G48)>1, (SUMPRODUCT(--($C$64:$C$1986=$B23), --($A$64:$A$1986=$D23), --($B$64:$B$1986="ST_C"), $L$64:$L$1986)), "") -> 0.91548948 | M48: =IF(LEN($G48)>1, (SUMPRODUCT(--($C$64:$C$1986=$B23), --($A$64:$A$1986=$D23), --($B$64:$B$1986="ST_C"), $M$64:$M$1986)), "") -> 0.066858188 | N48: =IF(LEN($G48)>1, (SUMPRODUCT(--($C$64:$C$1986=$B23), --($A$64:$A$1986=$D23), --($B$64:$B$1986=$B48&"_TOTAL"), $L$64:$L$1986)), "") -> 0.81936309 | O48: =IF(LEN($G48)>1, (SUMPRODUCT(--($C$64:$C$1986=$B23), --($A$64:$A$1986=$D23), --($B$64:$B$1986=$B48&"_TOTAL"), $M$64:$M$1986)), "") -> 0.041671603
B49: =H24 -> Non-RPP (Other) | C49: 9 | D49: =IF(ISBLANK(D24), "", IF(D24 = "Add additional scenarios if required", "", IF(M24="YES", D24 & " - " & H24 & " - Interval Customers", D24 & " - " &H24))) -> Street Light - Non-RPP (Other) | G49: =IF(ISBLANK(G24), "", G24) -> kW | H49: =IF(LEN($G49)>1, (SUMPRODUCT(--($C$64:$C$1986=$B24), --($A$64:$A$1986=$D24), --($B$64:$B$1986="ST_A"), $L$64:$L$1986)), "") -> 2080.1842 | I49: =IF(LEN($G49)>1, (SUMPRODUCT(--($C$64:$C$1986=$B24), --($A$64:$A$1986=$D24), --($B$64:$B$1986="ST_A"), $M$64:$M$1986)), "") -> 0.12175889 | J49: =IF(LEN($G49)>1, (SUMPRODUCT(--($C$64:$C$1986=$B24), --($A$64:$A$1986=$D24), --($B$64:$B$1986="ST_B"), $L$64:$L$1986)), "") -> 1523.8231 | K49: =IF(LEN($G49)>1, (SUMPRODUCT(--($C$64:$C$1986=$B24), --($A$64:$A$1986=$D24), --($B$64:$B$1986="ST_B"), $M$64:$M$1986)), "") -> 0.084273747 | L49: =IF(LEN($G49)>1, (SUMPRODUCT(--($C$64:$C$1986=$B24), --($A$64:$A$1986=$D24), --($B$64:$B$1986="ST_C"), $L$64:$L$1986)), "") -> 1882.4102 | M49: =IF(LEN($G49)>1, (SUMPRODUCT(--($C$64:$C$1986=$B24), --($A$64:$A$1986=$D24), --($B$64:$B$1986="ST_C"), $M$64:$M$1986)), "") -> 0.079003386 | N49: =IF(LEN($G49)>1, (SUMPRODUCT(--($C$64:$C$1986=$B24), --($A$64:$A$1986=$D24), --($B$64:$B$1986=$B49&"_TOTAL"), $L$64:$L$1986)), "") -> 2127.1235 | O49: =IF(LEN($G49)>1, (SUMPRODUCT(--($C$64:$C$1986=$B24), --($A$64:$A$1986=$D24), --($B$64:$B$1986=$B49&"_TOTAL"), $M$64:$M$1986)), "") -> 0.027370976
B50: =H25 -> RPP | C50: 10 | D50: =IF(ISBLANK(D25), "", IF(D25 = "Add additional scenarios if required", "", IF(M25="YES", D25 & " - " & H25 & " - Interval Customers", D25 & " - " &H25))) -> Residential (Low) - RPP | G50: =IF(ISBLANK(G25), "", G25) -> kWh | H50: =IF(LEN($G50)>1, (SUMPRODUCT(--($C$64:$C$1986=$B25), --($A$64:$A$1986=$D25), --($B$64:$B$1986="ST_A"), $L$64:$L$1986)), "") -> 4.0530355 | I50: =IF(LEN($G50)>1, (SUMPRODUCT(--($C$64:$C$1986=$B25), --($A$64:$A$1986=$D25), --($B$64:$B$1986="ST_A"), $M$64:$M$1986)), "") -> 0.086696388 | J50: =IF(LEN($G50)>1, (SUMPRODUCT(--($C$64:$C$1986=$B25), --($A$64:$A$1986=$D25), --($B$64:$B$1986="ST_B"), $L$64:$L$1986)), "") -> 2.7348284 | K50: =IF(LEN($G50)>1, (SUMPRODUCT(--($C$64:$C$1986=$B25), --($A$64:$A$1986=$D25), --($B$64:$B$1986="ST_B"), $M$64:$M$1986)), "") -> 0.053807446 | L50: =IF(LEN($G50)>1, (SUMPRODUCT(--($C$64:$C$1986=$B25), --($A$64:$A$1986=$D25), --($B$64:$B$1986="ST_C"), $L$64:$L$1986)), "") -> 3.2087109 | M50: =IF(LEN($G50)>1, (SUMPRODUCT(--($C$64:$C$1986=$B25), --($A$64:$A$1986=$D25), --($B$64:$B$1986="ST_C"), $M$64:$M$1986)), "") -> 0.054999593 | N50: =IF(LEN($G50)>1, (SUMPRODUCT(--($C$64:$C$1986=$B25), --($A$64:$A$1986=$D25), --($B$64:$B$1986=$B50&"_TOTAL"), $L$64:$L$1986)), "") -> 2.8717963 | O50: =IF(LEN($G50)>1, (SUMPRODUCT(--($C$64:$C$1986=$B25), --($A$64:$A$1986=$D25), --($B$64:$B$1986=$B50&"_TOTAL"), $M$64:$M$1986)), "") -> 0.031437745
B51: =H26 -> RPP | C51: 11 | D51: =IF(ISBLANK(D26), "", IF(D26 = "Add additional scenarios if required", "", IF(M26="YES", D26 & " - " & H26 & " - Interval Customers", D26 & " - " &H26))) -> Residential (High) - RPP | G51: =IF(ISBLANK(G26), "", G26) -> kWh | H51: =IF(LEN($G51)>1, (SUMPRODUCT(--($C$64:$C$1986=$B26), --($A$64:$A$1986=$D26), --($B$64:$B$1986="ST_A"), $L$64:$L$1986)), "") -> 4.0530355 | I51: =IF(LEN($G51)>1, (SUMPRODUCT(--($C$64:$C$1986=$B26), --($A$64:$A$1986=$D26), --($B$64:$B$1986="ST_A"), $M$64:$M$1986)), "") -> 0.086696388 | J51: =IF(LEN($G51)>1, (SUMPRODUCT(--($C$64:$C$1986=$B26), --($A$64:$A$1986=$D26), --($B$64:$B$1986="ST_B"), $L$64:$L$1986)), "") -> 2.8136184 | K51: =IF(LEN($G51)>1, (SUMPRODUCT(--($C$64:$C$1986=$B26), --($A$64:$A$1986=$D26), --($B$64:$B$1986="ST_B"), $M$64:$M$1986)), "") -> 0.047876774 | L51: =IF(LEN($G51)>1, (SUMPRODUCT(--($C$64:$C$1986=$B26), --($A$64:$A$1986=$D26), --($B$64:$B$1986="ST_C"), $L$64:$L$1986)), "") -> 5.0007684 | M51: =IF(LEN($G51)>1, (SUMPRODUCT(--($C$64:$C$1986=$B26), --($A$64:$A$1986=$D26), --($B$64:$B$1986="ST_C"), $M$64:$M$1986)), "") -> 0.053512845 | N51: =IF(LEN($G51)>1, (SUMPRODUCT(--($C$64:$C$1986=$B26), --($A$64:$A$1986=$D26), --($B$64:$B$1986=$B51&"_TOTAL"), $L$64:$L$1986)), "") -> 4.4756877 | O51: =IF(LEN($G51)>1, (SUMPRODUCT(--($C$64:$C$1986=$B26), --($A$64:$A$1986=$D26), --($B$64:$B$1986=$B51&"_TOTAL"), $M$64:$M$1986)), "") -> 0.016988997
B52: =H27 -> RPP | C52: 12 | D52: =IF(ISBLANK(D27), "", IF(D27 = "Add additional scenarios if required", "", IF(M27="YES", D27 & " - " & H27 & " - Interval Customers", D27 & " - " &H27))) -> Seasonal Residential (Low) - RPP | G52: =IF(ISBLANK(G27), "", G27) -> kWh | H52: =IF(LEN($G52)>1, (SUMPRODUCT(--($C$64:$C$1986=$B27), --($A$64:$A$1986=$D27), --($B$64:$B$1986="ST_A"), $L$64:$L$1986)), "") -> 8.1944167 | I52: =IF(LEN($G52)>1, (SUMPRODUCT(--($C$64:$C$1986=$B27), --($A$64:$A$1986=$D27), --($B$64:$B$1986="ST_A"), $M$64:$M$1986)), "") -> 0.10243135 | J52: =IF(LEN($G52)>1, (SUMPRODUCT(--($C$64:$C$1986=$B27), --($A$64:$A$1986=$D27), --($B$64:$B$1986="ST_B"), $L$64:$L$1986)), "") -> 5.9527442 | K52: =IF(LEN($G52)>1, (SUMPRODUCT(--($C$64:$C$1986=$B27), --($A$64:$A$1986=$D27), --($B$64:$B$1986="ST_B"), $M$64:$M$1986)), "") -> 0.069707455 | L52: =IF(LEN($G52)>1, (SUMPRODUCT(--($C$64:$C$1986=$B27), --($A$64:$A$1986=$D27), --($B$64:$B$1986="ST_C"), $L$64:$L$1986)), "") -> 6.4995317 | M52: =IF(LEN($G52)>1, (SUMPRODUCT(--($C$64:$C$1986=$B27), --($A$64:$A$1986=$D27), --($B$64:$B$1986="ST_C"), $M$64:$M$1986)), "") -> 0.068957586 | N52: =IF(LEN($G52)>1, (SUMPRODUCT(--($C$64:$C$1986=$B27), --($A$64:$A$1986=$D27), --($B$64:$B$1986=$B52&"_TOTAL"), $L$64:$L$1986)), "") -> 5.8170809 | O52: =IF(LEN($G52)>1, (SUMPRODUCT(--($C$64:$C$1986=$B27), --($A$64:$A$1986=$D27), --($B$64:$B$1986=$B52&"_TOTAL"), $M$64:$M$1986)), "") -> 0.04599055
B53: =H28 -> RPP | C53: 13 | D53: =IF(ISBLANK(D28), "", IF(D28 = "Add additional scenarios if required", "", IF(M28="YES", D28 & " - " & H28 & " - Interval Customers", D28 & " - " &H28))) -> Seasonal Residential (High) - RPP | G53: =IF(ISBLANK(G28), "", G28) -> kWh | H53: =IF(LEN($G53)>1, (SUMPRODUCT(--($C$64:$C$1986=$B28), --($A$64:$A$1986=$D28), --($B$64:$B$1986="ST_A"), $L$64:$L$1986)), "") -> 8.1944167 | I53: =IF(LEN($G53)>1, (SUMPRODUCT(--($C$64:$C$1986=$B28), --($A$64:$A$1986=$D28), --($B$64:$B$1986="ST_A"), $M$64:$M$1986)), "") -> 0.10243135 | J53: =IF(LEN($G53)>1, (SUMPRODUCT(--($C$64:$C$1986=$B28), --($A$64:$A$1986=$D28), --($B$64:$B$1986="ST_B"), $L$64:$L$1986)), "") -> 6.0458204 | K53: =IF(LEN($G53)>1, (SUMPRODUCT(--($C$64:$C$1986=$B28), --($A$64:$A$1986=$D28), --($B$64:$B$1986="ST_B"), $M$64:$M$1986)), "") -> 0.064648728 | L53: =IF(LEN($G53)>1, (SUMPRODUCT(--($C$64:$C$1986=$B28), --($A$64:$A$1986=$D28), --($B$64:$B$1986="ST_C"), $L$64:$L$1986)), "") -> 8.3891954 | M53: =IF(LEN($G53)>1, (SUMPRODUCT(--($C$64:$C$1986=$B28), --($A$64:$A$1986=$D28), --($B$64:$B$1986="ST_C"), $M$64:$M$1986)), "") -> 0.063805535 | N53: =IF(LEN($G53)>1, (SUMPRODUCT(--($C$64:$C$1986=$B28), --($A$64:$A$1986=$D28), --($B$64:$B$1986=$B53&"_TOTAL"), $L$64:$L$1986)), "") -> 7.5083299 | O53: =IF(LEN($G53)>1, (SUMPRODUCT(--($C$64:$C$1986=$B28), --($A$64:$A$1986=$D28), --($B$64:$B$1986=$B53&"_TOTAL"), $M$64:$M$1986)), "") -> 0.025239454
... B60: =H35 -> 0 | C60: 20 | D60: =IF(ISBLANK(D35), "", IF(D35 = "Add additional scenarios if required", "", IF(M35="YES", D35 & " - " & H35 & " - Interval Customers", D35 & " - " &H35))) | G60: =IF(ISBLANK(G35), "", G35) | H60: =IF(LEN($G60)>1, (SUMPRODUCT(--($C$64:$C$1986=$B35), --($A$64:$A$1986=$D35), --($B$64:$B$1986="ST_A"), $L$64:$L$1986)), "") | I60: =IF(LEN($G60)>1, (SUMPRODUCT(--($C$64:$C$1986=$B35), --($A$64:$A$1986=$D35), --($B$64:$B$1986="ST_A"), $M$64:$M$1986)), "") | J60: =IF(LEN($G60)>1, (SUMPRODUCT(--($C$64:$C$1986=$B35), --($A$64:$A$1986=$D35), --($B$64:$B$1986="ST_B"), $L$64:$L$1986)), "") | K60: =IF(LEN($G60)>1, (SUMPRODUCT(--($C$64:$C$1986=$B35), --($A$64:$A$1986=$D35), --($B$64:$B$1986="ST_B"), $M$64:$M$1986)), "") | L60: =IF(LEN($G60)>1, (SUMPRODUCT(--($C$64:$C$1986=$B35), --($A$64:$A$1986=$D35), --($B$64:$B$1986="ST_C"), $L$64:$L$1986)), "") | M60: =IF(LEN($G60)>1, (SUMPRODUCT(--($C$64:$C$1986=$B35), --($A$64:$A$1986=$D35), --($B$64:$B$1986="ST_C"), $M$64:$M$1986)), "") | N60: =IF(LEN($G60)>1, (SUMPRODUCT(--($C$64:$C$1986=$B35), --($A$64:$A$1986=$D35), --($B$64:$B$1986=$B60&"_TOTAL"), $L$64:$L$1986)), "") | O60: =IF(LEN($G60)>1, (SUMPRODUCT(--($C$64:$C$1986=$B35), --($A$64:$A$1986=$D35), --($B$64:$B$1986=$B60&"_TOTAL"), $M$64:$M$1986)), "")
D64: Customer Class: | E64: =D16 -> Residential | K64: =IF(N16="DEMAND - INTERVAL","RTSR - INTERVAL METERED","")
D65: RPP / Non-RPP: | E65: =H16 -> RPP
D66: Consumption | E66: =K16 -> 750 | F66: kWh
D67: Demand | E67: =L16 -> 0 | F67: kW
D68: Current Loss Factor | E68: =I16 -> 1.0415
D69: Proposed/Approved Loss Factor | E69: =J16 -> 1.0415
F71: Current OEB-Approved | I71: Proposed | L71: Impact
F72: Rate | G72: Volume | H72: Charge | I72: Rate | J72: Volume | K72: Charge | L72: $ Change | M72: % Change
F73: ($) | H73: ($) | I73: ($) | K73: ($)
A74: =$E64 -> Residential | D74: Monthly Service Charge | F74: 47.66 | G74: 1 | H74: =G74*F74 -> 47.66 | I74: 48.83 | J74: =G74 -> 1 | K74: =J74*I74 -> 48.83 | L74: =K74-H74 -> 1.17 | M74: =IF(ISERROR(L74/H74), "", L74/H74) -> 0.024548888
A75: =A74 -> Residential | D75: Distribution Volumetric Rate | F75: 0 | G75: =IF($E67>0, $E67, $E66) -> 750 | H75: =G75*F75 -> 0 | I75: 0 | J75: =IF($E67>0, $E67, $E66) -> 750 | K75: =J75*I75 -> 0 | L75: =K75-H75 -> 0 | M75: =IF(ISERROR(L75/H75), "", L75/H75)
A76: =A75 -> Residential | D76: RRRP Credit | F76: 0 | G76: =IF($E67>0, $E67, $E66) -> 750 | H76: 0 | I76: 0 | J76: =IF($E67>0, $E67, $E66) -> 750 | K76: 0
A77: =A76 -> Residential | D77: DRP Adjustment | F77: 0 | G77: =IF($E67>0, $E67, $E66) -> 750 | H77: 0 | I77: 0 | J77: =IF($E67>0, $E67, $E66) -> 750 | K77: 0 | L77: =K77-H77 -> 0 | M77: =IF(ISERROR(L77/H77), "", L77/H77)
A78: =A77 -> Residential | D78: Fixed Rate Riders | F78: -0.91023855 | G78: 1 | H78: =G78*F78 -> -0.91023855 | I78: 1.9727969 | J78: =G78 -> 1 | K78: =J78*I78 -> 1.9727969 | L78: =K78-H78 -> 2.8830355 | M78: =IF(ISERROR(L78/H78), "", L78/H78) -> -3.1673405
A79: =A78 -> Residential | D79: Volumetric Rate Riders | F79: 0 | G79: =IF($E67>0, $E67, $E66) -> 750 | H79: =G79*F79 -> 0 | I79: 0 | J79: =IF($E67>0, $E67, $E66) -> 750 | K79: =J79*I79 -> 0 | L79: =K79-H79 -> 0 | M79: =IF(ISERROR(L79/H79), "", L79/H79)
A80: =A79 -> Residential | B80: ST_A | C80: =B16 -> 1 | D80: Sub-Total A (excluding pass through) | H80: =SUM(H74:H79) -> 46.749761 | K80: =SUM(K74:K79) -> 50.802797 | L80: =K80-H80 -> 4.0530355 | M80: =IF((H80)=0,"",(L80/H80)) -> 0.086696388
A81: =A80 -> Residential | D81: Line Losses on Cost of Power | F81: =IF((E66*12>=150000), 0, IF(E65="RPP",(F97*OffPeakPer+F98*MidPeakPer+F99*OnPeakPer),IF(E65="Non-RPP (Retailer)",F100,F101))) -> 0.12752 | G81: =IF(F81=0, 0, $E66*E68-E66) -> 31.125 | H81: =G81*F81 -> 3.96906 | I81: =IF((E66*12>=150000), 0, IF(E65="RPP",(I97*OffPeakPer+I98*MidPeakPer+I99*OnPeakPer),IF(E65="Non-RPP (Retailer)",I100,I101))) -> 0.12752 | J81: =IF(I81=0, 0, E66*E69-E66) -> 31.125 | K81: =J81*I81 -> 3.96906 | L81: =K81-H81 -> 0 | M81: =IF(ISERROR(L81/H81), "", L81/H81) -> 0
A82: =A81 -> Residential | D82: Total Deferral/Variance Account Rate Riders | F82: 0 | G82: =IF($E67>0, $E67, $E66) -> 750 | H82: =G82*F82 -> 0 | I82: 0 | J82: =IF($E67>0, $E67, $E66) -> 750 | K82: =J82*I82 -> 0 | L82: =K82-H82 -> 0 | M82: =IF(ISERROR(L82/H82), "", L82/H82)
A83: =A82 -> Residential | D83: CBR Class B Rate Riders | F83: 0 | G83: =IF($E67>0, $E67, $E66) -> 750 | H83: =G83*F83 -> 0 | I83: 0 | J83: =IF($E67>0, $E67, $E66) -> 750 | K83: =J83*I83 -> 0 | L83: =K83-H83 -> 0 | M83: =IF(ISERROR(L83/H83), "", L83/H83)
A84: =A83 -> Residential | D84: GA Rate Riders | F84: 0 | G84: =E66 -> 750 | H84: =G84*F84 -> 0 | I84: 0 | J84: =E66 -> 750 | K84: =J84*I84 -> 0 | L84: =K84-H84 -> 0 | M84: =IF(ISERROR(L84/H84), "", L84/H84)
A85: =A84 -> Residential | D85: Low Voltage Service Charge | F85: 0.0014668234 | G85: =IF($E67>0, $E67, $E66) -> 750 | H85: =G85*F85 -> 1.1001175 | I85: 0.0015338787 | J85: =IF($E67>0, $E67, $E66) -> 750 | K85: =J85*I85 -> 1.150409 | L85: =K85-H85 -> 0.050291472 | M85: =IF(ISERROR(L85/H85), "", L85/H85) -> 0.045714635
A86: =A85 -> Residential | D86: Smart Meter Entity Charge (if applicable) | F86: 0.42 | G86: 1 | H86: =G86*F86 -> 0.42 | I86: 0.42 | J86: 1 | K86: =J86*I86 -> 0.42 | L86: =K86-H86 -> 0 | M86: =IF(ISERROR(L86/H86), "", L86/H86) -> 0
A87: =A86 -> Residential | D87: Additional Fixed Rate Riders | F87: 1.4598031 | G87: 1 | H87: =G87*F87 -> 1.4598031 | I87: 0.11980305 | J87: 1 | K87: =J87*I87 -> 0.11980305 | L87: =K87-H87 -> -1.34 | M87: =IF(ISERROR(L87/H87), "", L87/H87) -> -0.91793205
A88: =A87 -> Residential | D88: Additional Volumetric Rate Riders | F88: 0 | G88: =IF($E67>0, $E67, $E66) -> 750 | H88: =G88*F88 -> 0 | I88: 0 | J88: =IF($E67>0, $E67, $E66) -> 750 | K88: =J88*I88 -> 0 | L88: =K88-H88 -> 0 | M88: =IF(ISERROR(L88/H88), "", L88/H88)
A89: =A88 -> Residential | B89: ST_B | C89: =B16 -> 1 | D89: Sub-Total B - Distribution (includes Sub-Total A) | H89: =SUM(H80:H88) -> 53.698742 | K89: =SUM(K80:K88) -> 56.462069 | L89: =K89-H89 -> 2.7633269 | M89: =IF((H89)=0,"",(L89/H89)) -> 0.051459808
A90: =A89 -> Residential | D90: RTSR - Network | F90: 0.0129 | G90: =IF($E67>0, $E67, $E66*$E68) -> 781.125 | H90: =G90*F90 -> 10.076513 | I90: 0.0137 | J90: =IF($E67>0, $E67, $E66*$E69) -> 781.125 | K90: =J90*I90 -> 10.701413 | L90: =K90-H90 -> 0.6249 | M90: =IF(ISERROR(L90/H90), "", L90/H90) -> 0.062015504 | N90: =IF(ISERROR(ABS(M90)), "", IF(ABS(M90)>=4%, "In the manager's summary, discuss the reasoning for the change in RTSR rates", "")) -> In the manager's summary, discuss the reasoning for the change in RTSR rates
A91: =A90 -> Residential | D91: RTSR - Connection and/or Line and Transformation Connection | F91: 0.0093 | G91: =IF($E67>0, $E67, $E66*$E68) -> 781.125 | H91: =G91*F91 -> 7.2644625 | I91: 0.0099 | J91: =IF($E67>0, $E67, $E66*$E69) -> 781.125 | K91: =J91*I91 -> 7.7331375 | L91: =K91-H91 -> 0.468675 | M91: =IF(ISERROR(L91/H91), "", L91/H91) -> 0.064516129 | N91: =IF(ISERROR(ABS(M91)), "", IF(ABS(M91)>=4%, "In the manager's summary, discuss the reasoning for the change in RTSR rates", "")) -> In the manager's summary, discuss the reasoning for the change in RTSR rates
A92: =A91 -> Residential | B92: ST_C | C92: =B16 -> 1 | D92: Sub-Total C - Delivery (including Sub-Total B) | H92: =SUM(H89:H91) -> 71.039717 | K92: =SUM(K89:K91) -> 74.896619 | L92: =K92-H92 -> 3.8569019 | M92: =IF((H92)=0,"",(L92/H92)) -> 0.054292192
A93: =A92 -> Residential | D93: Wholesale Market Service Charge (WMSC) | F93: 0.0045 | G93: =E66*E68 -> 781.125 | H93: =G93*F93 -> 3.5150625 | I93: 0.0045 | J93: =E66*E69 -> 781.125 | K93: =J93*I93 -> 3.5150625 | L93: =K93-H93 -> 0 | M93: =IF(ISERROR(L93/H93), "", L93/H93) -> 0
A94: =A93 -> Residential | D94: Rural and Remote Rate Protection (RRRP) | F94: 0.0015 | G94: =E66*E68 -> 781.125 | H94: =G94*F94 -> 1.1716875 | I94: 0.0015 | J94: =E66*E69 -> 781.125 | K94: =J94*I94 -> 1.1716875 | L94: =K94-H94 -> 0 | M94: =IF(ISERROR(L94/H94), "", L94/H94) -> 0
A95: =A94 -> Residential | D95: Standard Supply Service Charge | F95: 0.25 | G95: 1 | H95: =G95*F95 -> 0.25 | I95: 0.25 | J95: 1 | K95: =J95*I95 -> 0.25 | L95: =K95-H95 -> 0 | M95: =IF(ISERROR(L95/H95), "", L95/H95) -> 0
A96: =A95 -> Residential | D96: Ontario Electricity Support Program (OESP)
A97: =A96 -> Residential | B97: RPP | D97: TOU - Off Peak | F97: 0.098 | G97: =IF(AND(E66*12>=150000),OffPeakPer*E66*E68,OffPeakPer*E66) -> 480 | H97: =G97*F97 -> 47.04 | I97: =F97 -> 0.098 | J97: =IF(AND(E66*12>=150000),OffPeakPer*E66*E69,OffPeakPer*E66) -> 480 | K97: =J97*I97 -> 47.04 | L97: =K97-H97 -> 0 | M97: =IF(ISERROR(L97/H97), "", L97/H97) -> 0
A98: =A97 -> Residential | B98: RPP | D98: TOU - Mid Peak | F98: 0.157 | G98: =IF(AND(E66*12>=150000),MidPeakPer*E66*E68,MidPeakPer*E66) -> 135 | H98: =G98*F98 -> 21.195 | I98: =F98 -> 0.157 | J98: =IF(AND(E66*12>=150000),MidPeakPer*E66*E69,MidPeakPer*E66) -> 135 | K98: =J98*I98 -> 21.195 | L98: =K98-H98 -> 0 | M98: =IF(ISERROR(L98/H98), "", L98/H98) -> 0
A99: =A98 -> Residential | B99: RPP | D99: TOU - On Peak | F99: 0.203 | G99: =IF(AND(E66*12>=150000),OnPeakPer*E66*E68,OnPeakPer*E66) -> 135 | H99: =G99*F99 -> 27.405 | I99: =F99 -> 0.203 | J99: =IF(AND(E66*12>=150000),OnPeakPer*E66*E69,OnPeakPer*E66) -> 135 | K99: =J99*I99 -> 27.405 | L99: =K99-H99 -> 0 | M99: =IF(ISERROR(L99/H99), "", L99/H99) -> 0
A100: =A99 -> Residential | B100: Non-RPP (Retailer) | D100: Non-RPP Retailer Avg. Price | F100: 0.157 | G100: =IF(AND(E66*12>=150000),E66*E68,E66) -> 750 | H100: =G100*F100 -> 117.75 | I100: =F100 -> 0.157 | J100: =IF(AND(E66*12>=150000),E66*E69,E66) -> 750 | K100: =J100*I100 -> 117.75 | L100: =K100-H100 -> 0 | M100: =IF(ISERROR(L100/H100), "", L100/H100) -> 0
A101: =A100 -> Residential | B101: Non-RPP (Other) | D101: Average IESO Wholesale Market Price | F101: 0.11308 | G101: =IF(AND(E66*12>=150000),E66*E68,E66) -> 750 | H101: =G101*F101 -> 84.81 | I101: =F101 -> 0.11308 | J101: =IF(AND(E66*12>=150000),E66*E69,E66) -> 750 | K101: =J101*I101 -> 84.81 | L101: =K101-H101 -> 0 | M101: =IF(ISERROR(L101/H101), "", L101/H101) -> 0
A102: =A101 -> Residential
A103: =A102 -> Residential | B103: RPP | D103: Total Bill on TOU (before Taxes) | H103: =SUM(H93:H99,H92) -> 171.61647 | K103: =SUM(K93:K99,K92) -> 175.47337 | L103: =K103-H103 -> 3.8569019 | M103: =IF((H103)=0,"",(L103/H103)) -> 0.022473962
A104: =A103 -> Residential | B104: RPP | D104: HST | F104: 0.13 | H104: =H103*F104 -> 22.310141 | I104: 0.13 | K104: =K103*I104 -> 22.811538 | L104: =K104-H104 -> 0.50139725 | M104: =IF((H104)=0,"",(L104/H104)) -> 0.022473962
A105: =A104 -> Residential | B105: RPP | D105: Ontario Electricity Rebate | F105: =OER -> 0.235 | H105: =IF(OR(ISNUMBER(SEARCH("[DGEN]", E64))=TRUE, ISNUMBER(SEARCH("STREET LIGHT", E64))=TRUE), 0, IF(AND(E66=0, E67=0),0, IF(AND(E67=0, E66*12>250000), 0, IF(AND(E66=0, E67>=50), 0, IF(E66*12<=250000, F105*H103*-1, IF(E67<50, F105*H103*-1, 0)))))) -> -40.32987 | I105: =OER -> 0.235 | K105: =IF(OR(ISNUMBER(SEARCH("[DGEN]", E64))=TRUE, ISNUMBER(SEARCH("STREET LIGHT", E64))=TRUE), 0, IF(AND(E66=0, E67=0),0, IF(AND(E67=0, E66*12>250000), 0, IF(AND(E66=0, E67>=50), 0, IF(E66*12<=250000, I105*K103*-1, IF(E67<50, I105*K103*-1, 0)))))) -> -41.236242 | L105: =K105-H105 -> -0.90637195
A106: =A105 -> Residential | B106: RPP_TOTAL | C106: =B16 -> 1 | D106: Total Bill on TOU | H106: =H103+H104+H105 -> 153.59674 | K106: =K103+K104+K105 -> 157.04867 | L106: =K106-H106 -> 3.4519272 | M106: =IF((H106)=0,"",(L106/H106)) -> 0.022473962
A107: =A106 -> Residential | B107: RPP
A108: =A107 -> Residential | B108: Non-RPP (Retailer) | D108: Total Bill on Non-RPP Avg. Price | H108: =SUM(H100,H93:H96,H92) -> 193.72647 | K108: =SUM(K100,K93:K96,K92) -> 197.58337 | L108: =K108-H108 -> 3.8569019 | M108: =IF((H108)=0,"",(L108/H108)) -> 0.019909009
A109: =A108 -> Residential | B109: Non-RPP (Retailer) | D109: HST | F109: 0.13 | H109: =H108*F109 -> 25.184441 | I109: 0.13 | K109: =K108*I109 -> 25.685838 | L109: =K109-H109 -> 0.50139725 | M109: =IF((H109)=0,"",(L109/H109)) -> 0.019909009
A110: =A109 -> Residential | B110: Non-RPP (Retailer) | D110: Ontario Electricity Rebate | F110: =OER -> 0.235 | H110: =IF(OR(ISNUMBER(SEARCH("[DGEN]", E64))=TRUE, ISNUMBER(SEARCH("STREET LIGHT", E64))=TRUE), 0, IF(AND(E66=0, E67=0),0, IF(AND(E67=0, E66*12>250000), 0, IF(AND(E66=0, E67>=50), 0, IF(E66*12<=250000, F110*H108*-1, IF(E67<50, F110*H108*-1, 0)))))) -> -45.52572 | I110: =OER -> 0.235 | K110: =IF(OR(ISNUMBER(SEARCH("[DGEN]", E64))=TRUE, ISNUMBER(SEARCH("STREET LIGHT", E64))=TRUE), 0, IF(AND(E66=0, E67=0),0, IF(AND(E67=0, E66*12>250000), 0, IF(AND(E66=0, E67>=50), 0, IF(E66*12<=250000, I110*K108*-1, IF(E67<50, I110*K108*-1, 0)))))) -> -46.432092
A111: =A110 -> Residential | B111: Non-RPP (Retailer)_TOTAL | D111: Total Bill on Non-RPP Avg. Price | H111: =SUM(H108,H109) -> 218.91091 | K111: =SUM(K108,K109) -> 223.26921 | L111: =K111-H111 -> 4.3582992 | M111: =IF((H111)=0,"",(L111/H111)) -> 0.019909009
A112: =A111 -> Residential | B112: Non-RPP (Retailer)
A113: =A112 -> Residential | B113: Non-RPP (Other) | D113: Total Bill on Average IESO Wholesale Market Price | H113: =SUM(H101,H93:H96,H92) -> 160.78647 | K113: =SUM(K101,K93:K96,K92) -> 164.64337 | L113: =K113-H113 -> 3.8569019 | M113: =IF((H113)=0,"",(L113/H113)) -> 0.023987727
A114: =A113 -> Residential | B114: Non-RPP (Other) | D114: HST | F114: 0.13 | H114: =H113*F114 -> 20.902241 | I114: 0.13 | K114: =K113*I114 -> 21.403638 | L114: =K114-H114 -> 0.50139725 | M114: =IF((H114)=0,"",(L114/H114)) -> 0.023987727
A115: =A114 -> Residential | B115: Non-RPP (Other) | D115: Ontario Electricity Rebate | F115: =OER -> 0.235 | H115: =IF(OR(ISNUMBER(SEARCH("[DGEN]", E64))=TRUE, ISNUMBER(SEARCH("STREET LIGHT", E64))=TRUE), 0, IF(AND(E66=0, E67=0),0, IF(AND(E67=0, E66*12>250000), 0, IF(AND(E66=0, E67>=50), 0, IF(E66*12<=250000, F115*H113*-1, IF(E67<50, F115*H113*-1, 0)))))) -> -37.78482 | I115: =OER -> 0.235 | K115: =IF(OR(ISNUMBER(SEARCH("[DGEN]", E64))=TRUE, ISNUMBER(SEARCH("STREET LIGHT", E64))=TRUE), 0, IF(AND(E66=0, E67=0),0, IF(AND(E67=0, E66*12>250000), 0, IF(AND(E66=0, E67>=50), 0, IF(E66*12<=250000, I115*K113*-1, IF(E67<50, I115*K113*-1, 0)))))) -> -38.691192
A116: =A115 -> Residential | B116: Non-RPP (Other)_TOTAL | D116: Total Bill on Average IESO Wholesale Market Price | H116: =SUM(H113,H114) -> 181.68871 | K116: =SUM(K113,K114) -> 186.04701 | L116: =K116-H116 -> 4.3582992 | M116: =IF((H116)=0,"",(L116/H116)) -> 0.023987727
A117: =A116 -> Residential | B117: Non-RPP (Other)
D120: Customer Class: | E120: =D17 -> Seasonal Residential | K120: =IF(N17="DEMAND - INTERVAL","RTSR - INTERVAL METERED","")
D121: RPP / Non-RPP: | E121: =H17 -> RPP
D122: Consumption | E122: =K17 -> 680 | F122: kWh
D123: Demand | E123: =L17 -> 0 | F123: kW
D124: Current Loss Factor | E124: =I17 -> 1.0415
D125: Proposed/Approved Loss Factor | E125: =J17 -> 1.0415
F127: Current OEB-Approved | I127: Proposed | L127: Impact
...

Sheet WRZ BI (2029)
D14: Table 1
D15: RATE CLASSES / CATEGORIES (eg: Residential TOU, Residential Retailer) | G15: Units | H15: RPP? Non-RPP Retailer? Non-RPP Other? | I15: Current Loss Factor (eg: 1.0351) | J15: Proposed Loss Factor | K15: Consumption (kWh) | L15: Demand kW (if applicable) | M15: RTSR Demand or Demand-Interval? | N15: Billing Determinant Applied to Fixed Charge for Unmetered Classes (e.g. # of devices/connections).
B16: 1 | C16: 1 | D16: Residential | G16: kWh | H16: RPP | I16: ='WRZ BI (2027)'!J16 -> 1.0415 | J16: =I16 -> 1.0415 | K16: 750 | M16: CONSUMPTION
B17: 2 | C17: 2 | D17: GS <50 | G17: kWh | H17: RPP | I17: ='WRZ BI (2027)'!J17 -> 1.0415 | J17: =I17 -> 1.0415 | K17: 2000 | M17: CONSUMPTION
B18: 3 | C18: 3 | D18: GS 50 - 2,999 kW | G18: kW | H18: Non-RPP (Other) | I18: ='WRZ BI (2027)'!J18 -> 1.0415 | J18: =I18 -> 1.0415 | K18: 75000 | L18: 175 | M18: DEMAND
D19: GS 3,000 - 4,999 kW | G19: kW | H19: Non-RPP (Other) | I19: ='WRZ BI (2027)'!J19 -> 1.0311 | J19: =I19 -> 1.0311 | K19: 2000000 | L19: 4000 | M19: DEMAND
B20: 4 | C20: 4 | D20: Unmetered Scattered Load | G20: kWh | H20: RPP | I20: ='WRZ BI (2027)'!J20 -> 1.0415 | J20: =I20 -> 1.0415 | K20: 450 | M20: CONSUMPTION | N20: 1
B21: 5 | C21: 5 | D21: Sentinel | G21: kW | H21: RPP | I21: ='WRZ BI (2027)'!J21 -> 1.0415 | J21: =I21 -> 1.0415 | K21: 60 | L21: 0.2 | M21: DEMAND | N21: 1
B22: 6 | C22: 6 | D22: Street Light | G22: kW | H22: Non-RPP (Other) | I22: ='WRZ BI (2027)'!J22 -> 1.0415 | J22: =I22 -> 1.0415 | K22: 326077.5 | L22: 863.33337 | M22: DEMAND | N22: 14512.2
B23: 7 | C23: =IF(ISERROR(VLOOKUP(D23, D16:O35, 42, FALSE)),"", VLOOKUP(D23, D16:O35, 42, FALSE)) | D23: Residential (Low) | G23: kWh | H23: RPP | I23: ='WRZ BI (2027)'!J23 -> 1.0415 | J23: =J22 -> 1.0415 | K23: 325 | M23: CONSUMPTION
B24: 8 | C24: =IF(ISERROR(VLOOKUP(D24, D16:O35, 42, FALSE)),"", VLOOKUP(D24, D16:O35, 42, FALSE)) | D24: Residential (High) | G24: kWh | H24: RPP | I24: ='WRZ BI (2027)'!J24 -> 1.0415 | J24: =J23 -> 1.0415 | K24: 1500 | M24: CONSUMPTION
B25: 9 | C25: =IF(ISERROR(VLOOKUP(D25, D16:O35, 42, FALSE)),"", VLOOKUP(D25, D16:O35, 42, FALSE)) | D25: GS < 50 (Low) | G25: kWh | H25: RPP | I25: ='WRZ BI (2027)'!J25 -> 1.0415 | J25: =J24 -> 1.0415 | K25: 1000 | M25: CONSUMPTION
B26: 10 | C26: =IF(ISERROR(VLOOKUP(D26, D16:O35, 42, FALSE)),"", VLOOKUP(D26, D16:O35, 42, FALSE)) | D26: GS < 50 (High) | G26: kWh | H26: RPP | I26: ='WRZ BI (2027)'!J26 -> 1.0415 | J26: =J25 -> 1.0415 | K26: 5000 | M26: CONSUMPTION
B27: 11 | C27: =IF(ISERROR(VLOOKUP(D27, D16:O35, 42, FALSE)),"", VLOOKUP(D27, D16:O35, 42, FALSE)) | D27: Add additional scenarios if required | I27: ='WRZ BI (2027)'!J27 -> 1.0415 | J27: =I27 -> 1.0415
B28: 12 | C28: =IF(ISERROR(VLOOKUP(D28, D16:O35, 42, FALSE)),"", VLOOKUP(D28, D16:O35, 42, FALSE)) | D28: Add additional scenarios if required | I28: ='WRZ BI (2027)'!J28 -> 1.0415 | J28: =I28 -> 1.0415
B29: 13 | C29: =IF(ISERROR(VLOOKUP(D29, D16:O35, 42, FALSE)),"", VLOOKUP(D29, D16:O35, 42, FALSE)) | D29: Add additional scenarios if required | I29: ='WRZ BI (2027)'!J29 -> 1.0415 | J29: =I29 -> 1.0415
B30: 14 | C30: =IF(ISERROR(VLOOKUP(D30, D16:O35, 42, FALSE)),"", VLOOKUP(D30, D16:O35, 42, FALSE)) | D30: Add additional scenarios if required | I30: ='WRZ BI (2027)'!J30 -> 1.0415 | J30: =I30 -> 1.0415
B31: 15 | C31: =IF(ISERROR(VLOOKUP(D31, D16:O35, 42, FALSE)),"", VLOOKUP(D31, D16:O35, 42, FALSE)) | D31: Add additional scenarios if required | I31: ='WRZ BI (2027)'!J31 -> 1.0415 | J31: =I31 -> 1.0415
B32: 16 | C32: =IF(ISERROR(VLOOKUP(D32, D16:O35, 42, FALSE)),"", VLOOKUP(D32, D16:O35, 42, FALSE)) | D32: Add additional scenarios if required | I32: ='WRZ BI (2027)'!J32 -> 1.0415 | J32: =I32 -> 1.0415
B33: 17 | C33: =IF(ISERROR(VLOOKUP(D33, D16:O35, 42, FALSE)),"", VLOOKUP(D33, D16:O35, 42, FALSE)) | D33: Add additional scenarios if required | I33: ='WRZ BI (2027)'!J33 -> 1.0415 | J33: =I33 -> 1.0415
B34: 18 | C34: =IF(ISERROR(VLOOKUP(D34, D16:O35, 42, FALSE)),"", VLOOKUP(D34, D16:O35, 42, FALSE)) | D34: Add additional scenarios if required | I34: ='WRZ BI (2027)'!J34 -> 1.0415 | J34: =I34 -> 1.0415
B35: 19 | C35: =IF(ISERROR(VLOOKUP(D35, D16:O35, 42, FALSE)),"", VLOOKUP(D35, D16:O35, 42, FALSE)) | D35: Add additional scenarios if required | I35: ='WRZ BI (2027)'!J35 -> 1.0415 | J35: =I35 -> 1.0415
D37: Table 2
D38: RATE CLASSES / CATEGORIES (eg: Residential TOU, Residential Retailer) | G38: Units | H38: Sub-Total | N38: Total
H39: A | J39: B | L39: C | N39: Total Bill
H40: $ | I40: % | J40: $ | K40: % | L40: $ | M40: % | N40: $ | O40: %
B41: =H16 -> RPP | C41: 1 | D41: =IF(ISBLANK(D16), "", IF(D16 = "Add additional scenarios if required", "", IF(M16="YES", D16 & " - " & H16 & " - Interval Customers", D16 & " - " &H16))) -> Residential - RPP | G41: =IF(ISBLANK(G16), "", G16) -> kWh | H41: =IF(LEN($G41)>1, (SUMPRODUCT(--($C$64:$C$2042=$B16), --($A$64:$A$2042=$D16), --($B$64:$B$2042="ST_A"), $L$64:$L$2042)), "") -> 1.78 | I41: =IF(LEN($G41)>1, (SUMPRODUCT(--($C$64:$C$2042=$B16), --($A$64:$A$2042=$D16), --($B$64:$B$2042="ST_A"), $M$64:$M$2042)), "") -> 0.035126776 | J41: =IF(LEN($G41)>1, (SUMPRODUCT(--($C$64:$C$2042=$B16), --($A$64:$A$2042=$D16), --($B$64:$B$2042="ST_B"), $L$64:$L$2042)), "") -> 1.8325905 | K41: =IF(LEN($G41)>1, (SUMPRODUCT(--($C$64:$C$2042=$B16), --($A$64:$A$2042=$D16), --($B$64:$B$2042="ST_B"), $M$64:$M$2042)), "") -> 0.032630563 | L41: =IF(LEN($G41)>1, (SUMPRODUCT(--($C$64:$C$2042=$B16), --($A$64:$A$2042=$D16), --($B$64:$B$2042="ST_C"), $L$64:$L$2042)), "") -> 2.9261655 | M41: =IF(LEN($G41)>1, (SUMPRODUCT(--($C$64:$C$2042=$B16), --($A$64:$A$2042=$D16), --($B$64:$B$2042="ST_C"), $M$64:$M$2042)), "") -> 0.039226668 | N41: =IF(LEN($G41)>1, (SUMPRODUCT(--($C$64:$C$2042=$B16), --($A$64:$A$2042=$D16), --($B$64:$B$2042=$B41&"_TOTAL"), $L$64:$L$2042)), "") -> 2.6189181 | O41: =IF(LEN($G41)>1, (SUMPRODUCT(--($C$64:$C$2042=$B16), --($A$64:$A$2042=$D16), --($B$64:$B$2042=$B41&"_TOTAL"), $M$64:$M$2042)), "") -> 0.016756729
B42: =H17 -> RPP | C42: 2 | D42: =IF(ISBLANK(D17), "", IF(D17 = "Add additional scenarios if required", "", IF(M17="YES", D17 & " - " & H17 & " - Interval Customers", D17 & " - " &H17))) -> GS <50 - RPP | G42: =IF(ISBLANK(G17), "", G17) -> kWh | H42: =IF(LEN($G42)>1, (SUMPRODUCT(--($C$64:$C$2042=$B17), --($A$64:$A$2042=$D17), --($B$64:$B$2042="ST_A"), $L$64:$L$2042)), "") -> 3.4 | I42: =IF(LEN($G42)>1, (SUMPRODUCT(--($C$64:$C$2042=$B17), --($A$64:$A$2042=$D17), --($B$64:$B$2042="ST_A"), $M$64:$M$2042)), "") -> 0.034394046 | J42: =IF(LEN($G42)>1, (SUMPRODUCT(--($C$64:$C$2042=$B17), --($A$64:$A$2042=$D17), --($B$64:$B$2042="ST_B"), $L$64:$L$2042)), "") -> 3.5308474 | K42: =IF(LEN($G42)>1, (SUMPRODUCT(--($C$64:$C$2042=$B17), --($A$64:$A$2042=$D17), --($B$64:$B$2042="ST_B"), $M$64:$M$2042)), "") -> 0.031352545 | L42: =IF(LEN($G42)>1, (SUMPRODUCT(--($C$64:$C$2042=$B17), --($A$64:$A$2042=$D17), --($B$64:$B$2042="ST_C"), $L$64:$L$2042)), "") -> 6.0304474 | M42: =IF(LEN($G42)>1, (SUMPRODUCT(--($C$64:$C$2042=$B17), --($A$64:$A$2042=$D17), --($B$64:$B$2042="ST_C"), $M$64:$M$2042)), "") -> 0.038160875 | N42: =IF(LEN($G42)>1, (SUMPRODUCT(--($C$64:$C$2042=$B17), --($A$64:$A$2042=$D17), --($B$64:$B$2042=$B42&"_TOTAL"), $L$64:$L$2042)), "") -> 5.3972504 | O42: =IF(LEN($G42)>1, (SUMPRODUCT(--($C$64:$C$2042=$B17), --($A$64:$A$2042=$D17), --($B$64:$B$2042=$B42&"_TOTAL"), $M$64:$M$2042)), "") -> 0.014210792
