Workbook
Name BridgeYear: #REF!
Name EBNUMBER: #REF!
Name TestYear: #REF!

Sheet LLRVA
B2: Billed kW
O3: GS 3,000 to 4,999 kW | Q3: Large Use
B4: ='3-Staff-93-b Billed kW'!A2 -> Customer # | C4: ='3-Staff-93-b Billed kW'!C2 -> Anticipated Year | D4: ='3-Staff-93-b Billed kW'!D2 -> Anticipated Load | E4: ='3-Staff-93-b Billed kW'!E2 -> Confidence | F4: ='3-Staff-93-b Billed kW'!F2 -> 2026 | G4: ='3-Staff-93-b Billed kW'!G2 -> 2027 | H4: ='3-Staff-93-b Billed kW'!H2 -> 2028 | I4: ='3-Staff-93-b Billed kW'!I2 -> 2029 | J4: ='3-Staff-93-b Billed kW'!J2 -> 2030 | K4: ='3-Staff-93-b Billed kW'!K2 -> 2031 | N4: Year | O4: Customer Count | P4: Billed kW | Q4: Customer Count | R4: Billed kW
B5: GS 3,000 to 4,999 kW | N5: 2026 | O5: =OFFSET($F$28,0,ROW()-ROW($O$5)) -> 1.425 | P5: =OFFSET($F$12,0,ROW()-ROW($P$5)) -> 35150.85 | Q5: =OFFSET($F$32,0,ROW()-ROW($Q$5)) -> 0 | R5: =OFFSET($F$16,0,ROW()-ROW($R$5)) -> 0
B6: ='3-Staff-93-b Billed kW'!A114 -> 7 | C6: ='3-Staff-93-b Billed kW'!C114 -> 2026 | D6: ='3-Staff-93-b Billed kW'!D114 -> 3250 | E6: ='3-Staff-93-b Billed kW'!E114 -> 80 | F6: ='3-Staff-93-b Billed kW'!F114 -> 5040 | G6: ='3-Staff-93-b Billed kW'!G114 -> 14910 | H6: ='3-Staff-93-b Billed kW'!H114 -> 20790 | I6: ='3-Staff-93-b Billed kW'!I114 -> 21840 | J6: ='3-Staff-93-b Billed kW'!J114 -> 21840 | K6: ='3-Staff-93-b Billed kW'!K114 -> 21840 | N6: 2027 | O6: =OFFSET($F$28,0,ROW()-ROW($O$5)) -> 3.325 | P6: =OFFSET($F$12,0,ROW()-ROW($P$5)) -> 85688.4 | Q6: =OFFSET($F$32,0,ROW()-ROW($Q$5)) -> 0 | R6: =OFFSET($F$16,0,ROW()-ROW($R$5)) -> 0
B7: ='3-Staff-93-b Billed kW'!A115 -> 11 | C7: ='3-Staff-93-b Billed kW'!C115 -> 2026 | D7: ='3-Staff-93-b Billed kW'!D115 -> 4280 | E7: ='3-Staff-93-b Billed kW'!E115 -> 100 | F7: ='3-Staff-93-b Billed kW'!F115 -> 2520 | G7: ='3-Staff-93-b Billed kW'!G115 -> 6399.75 | H7: ='3-Staff-93-b Billed kW'!H115 -> 13492.5 | I7: ='3-Staff-93-b Billed kW'!I115 -> 22260 | J7: ='3-Staff-93-b Billed kW'!J115 -> 29389.5 | K7: ='3-Staff-93-b Billed kW'!K115 -> 34718.25 | N7: 2028 | O7: =OFFSET($F$28,0,ROW()-ROW($O$5)) -> 3.9875 | P7: =OFFSET($F$12,0,ROW()-ROW($P$5)) -> 112625.62 | Q7: =OFFSET($F$32,0,ROW()-ROW($Q$5)) -> 0.1875 | R7: =OFFSET($F$16,0,ROW()-ROW($R$5)) -> 39375
B8: ='3-Staff-93-b Billed kW'!A116 -> 14 | C8: ='3-Staff-93-b Billed kW'!C116 -> 2026 | D8: ='3-Staff-93-b Billed kW'!D116 -> 4959 | E8: ='3-Staff-93-b Billed kW'!E116 -> 100 | F8: ='3-Staff-93-b Billed kW'!F116 -> 15620.85 | G8: ='3-Staff-93-b Billed kW'!G116 -> 36448.65 | H8: ='3-Staff-93-b Billed kW'!H116 -> 41655.6 | I8: ='3-Staff-93-b Billed kW'!I116 -> 41655.6 | J8: ='3-Staff-93-b Billed kW'!J116 -> 41655.6 | K8: ='3-Staff-93-b Billed kW'!K116 -> 41655.6 | N8: 2029 | O8: =OFFSET($F$28,0,ROW()-ROW($O$5)) -> 4.425 | P8: =OFFSET($F$12,0,ROW()-ROW($P$5)) -> 135693.6 | Q8: =OFFSET($F$32,0,ROW()-ROW($Q$5)) -> 0.4375 | R8: =OFFSET($F$16,0,ROW()-ROW($R$5)) -> 115500
B9: ='3-Staff-93-b Billed kW'!A117 -> 44 | C9: ='3-Staff-93-b Billed kW'!C117 -> 2026 | D9: ='3-Staff-93-b Billed kW'!D117 -> 3800 | E9: ='3-Staff-93-b Billed kW'!E117 -> 100 | F9: ='3-Staff-93-b Billed kW'!F117 -> 11970 | G9: ='3-Staff-93-b Billed kW'!G117 -> 27930 | H9: ='3-Staff-93-b Billed kW'!H117 -> 31920 | I9: ='3-Staff-93-b Billed kW'!I117 -> 31920 | J9: ='3-Staff-93-b Billed kW'!J117 -> 31920 | K9: ='3-Staff-93-b Billed kW'!K117 -> 31920 | N9: 2030 | O9: =OFFSET($F$28,0,ROW()-ROW($O$5)) -> 4.7375 | P9: =OFFSET($F$12,0,ROW()-ROW($P$5)) -> 153603.98 | Q9: =OFFSET($F$32,0,ROW()-ROW($Q$5)) -> 0.5 | R9: =OFFSET($F$16,0,ROW()-ROW($R$5)) -> 160125
B10: ='3-Staff-93-b Billed kW'!A118 -> 45 | C10: ='3-Staff-93-b Billed kW'!C118 -> 2029 | D10: ='3-Staff-93-b Billed kW'!D118 -> 4000 | E10: ='3-Staff-93-b Billed kW'!E118 -> 50 | F10: ='3-Staff-93-b Billed kW'!F118 -> 0 | G10: ='3-Staff-93-b Billed kW'!G118 -> 0 | H10: ='3-Staff-93-b Billed kW'!H118 -> 0 | I10: ='3-Staff-93-b Billed kW'!I118 -> 6300 | J10: ='3-Staff-93-b Billed kW'!J118 -> 14700 | K10: ='3-Staff-93-b Billed kW'!K118 -> 16800 | N10: 2031 | O10: =OFFSET($F$28,0,ROW()-ROW($O$5)) -> 4.8 | P10: =OFFSET($F$12,0,ROW()-ROW($P$5)) -> 161230.65 | Q10: =OFFSET($F$32,0,ROW()-ROW($Q$5)) -> 0.5 | R10: =OFFSET($F$16,0,ROW()-ROW($R$5)) -> 168000
B11: ='3-Staff-93-b Billed kW'!A119 -> 66 | C11: ='3-Staff-93-b Billed kW'!C119 -> 2028 | D11: ='3-Staff-93-b Billed kW'!D119 -> 3404 | E11: ='3-Staff-93-b Billed kW'!E119 -> 50 | F11: ='3-Staff-93-b Billed kW'!F119 -> 0 | G11: ='3-Staff-93-b Billed kW'!G119 -> 0 | H11: ='3-Staff-93-b Billed kW'!H119 -> 4767.525 | I11: ='3-Staff-93-b Billed kW'!I119 -> 11718 | J11: ='3-Staff-93-b Billed kW'!J119 -> 14098.875 | K11: ='3-Staff-93-b Billed kW'!K119 -> 14296.8
B12: Total | F12: ='3-Staff-93-b Billed kW'!F120 -> 35150.85 | G12: ='3-Staff-93-b Billed kW'!G120 -> 85688.4 | H12: ='3-Staff-93-b Billed kW'!H120 -> 112625.62 | I12: ='3-Staff-93-b Billed kW'!I120 -> 135693.6 | J12: ='3-Staff-93-b Billed kW'!J120 -> 153603.98 | K12: ='3-Staff-93-b Billed kW'!K120 -> 161230.65
B14: Large Use
B15: ='3-Staff-93-b Billed kW'!A123 -> 24 | C15: ='3-Staff-93-b Billed kW'!C123 -> 2028 | D15: ='3-Staff-93-b Billed kW'!D123 -> 40000 | E15: ='3-Staff-93-b Billed kW'!E123 -> 50 | F15: ='3-Staff-93-b Billed kW'!F123 -> 0 | G15: ='3-Staff-93-b Billed kW'!G123 -> 0 | H15: ='3-Staff-93-b Billed kW'!H123 -> 39375 | I15: ='3-Staff-93-b Billed kW'!I123 -> 115500 | J15: ='3-Staff-93-b Billed kW'!J123 -> 160125 | K15: ='3-Staff-93-b Billed kW'!K123 -> 168000
B16: Total | F16: ='3-Staff-93-b Billed kW'!F124 -> 0 | G16: ='3-Staff-93-b Billed kW'!G124 -> 0 | H16: ='3-Staff-93-b Billed kW'!H124 -> 39375 | I16: ='3-Staff-93-b Billed kW'!I124 -> 115500 | J16: ='3-Staff-93-b Billed kW'!J124 -> 160125 | K16: ='3-Staff-93-b Billed kW'!K124 -> 168000
B18: Customer Counts
B20: ='3-Staff-93-b Counts'!A2 -> Customer # | C20: ='3-Staff-93-b Counts'!C2 -> Anticipated Year | D20: ='3-Staff-93-b Counts'!D2 -> Anticipated Load | E20: ='3-Staff-93-b Counts'!E2 -> Confidence | F20: ='3-Staff-93-b Counts'!F2 -> 2026 | G20: ='3-Staff-93-b Counts'!G2 -> 2027 | H20: ='3-Staff-93-b Counts'!H2 -> 2028 | I20: ='3-Staff-93-b Counts'!I2 -> 2029 | J20: ='3-Staff-93-b Counts'!J2 -> 2030 | K20: ='3-Staff-93-b Counts'!K2 -> 2031
B21: GS 3,000 to 4,999 kW
B22: ='3-Staff-93-b Counts'!A101 -> 7 | C22: ='3-Staff-93-b Counts'!C101 -> 2026 | D22: ='3-Staff-93-b Counts'!D101 -> 3250 | E22: ='3-Staff-93-b Counts'!E101 -> 80 | F22: ='3-Staff-93-b Counts'!F101 -> 0.3 | G22: ='3-Staff-93-b Counts'!G101 -> 0.7 | H22: ='3-Staff-93-b Counts'!H101 -> 0.8 | I22: ='3-Staff-93-b Counts'!I101 -> 0.8 | J22: ='3-Staff-93-b Counts'!J101 -> 0.8 | K22: ='3-Staff-93-b Counts'!K101 -> 0.8
B23: ='3-Staff-93-b Counts'!A102 -> 11 | C23: ='3-Staff-93-b Counts'!C102 -> 2026 | D23: ='3-Staff-93-b Counts'!D102 -> 4280 | E23: ='3-Staff-93-b Counts'!E102 -> 100 | F23: ='3-Staff-93-b Counts'!F102 -> 0.375 | G23: ='3-Staff-93-b Counts'!G102 -> 0.875 | H23: ='3-Staff-93-b Counts'!H102 -> 1 | I23: ='3-Staff-93-b Counts'!I102 -> 1 | J23: ='3-Staff-93-b Counts'!J102 -> 1 | K23: ='3-Staff-93-b Counts'!K102 -> 1
B24: ='3-Staff-93-b Counts'!A103 -> 14 | C24: ='3-Staff-93-b Counts'!C103 -> 2026 | D24: ='3-Staff-93-b Counts'!D103 -> 4959 | E24: ='3-Staff-93-b Counts'!E103 -> 100 | F24: ='3-Staff-93-b Counts'!F103 -> 0.375 | G24: ='3-Staff-93-b Counts'!G103 -> 0.875 | H24: ='3-Staff-93-b Counts'!H103 -> 1 | I24: ='3-Staff-93-b Counts'!I103 -> 1 | J24: ='3-Staff-93-b Counts'!J103 -> 1 | K24: ='3-Staff-93-b Counts'!K103 -> 1
B25: ='3-Staff-93-b Counts'!A104 -> 44 | C25: ='3-Staff-93-b Counts'!C104 -> 2025 | D25: ='3-Staff-93-b Counts'!D104 -> 3800 | E25: ='3-Staff-93-b Counts'!E104 -> 100 | F25: ='3-Staff-93-b Counts'!F104 -> 0.375 | G25: ='3-Staff-93-b Counts'!G104 -> 0.875 | H25: ='3-Staff-93-b Counts'!H104 -> 1 | I25: ='3-Staff-93-b Counts'!I104 -> 1 | J25: ='3-Staff-93-b Counts'!J104 -> 1 | K25: ='3-Staff-93-b Counts'!K104 -> 1
B26: ='3-Staff-93-b Counts'!A105 -> 45 | C26: ='3-Staff-93-b Counts'!C105 -> 2029 | D26: ='3-Staff-93-b Counts'!D105 -> 4000 | E26: ='3-Staff-93-b Counts'!E105 -> 50 | F26: ='3-Staff-93-b Counts'!F105 -> 0 | G26: ='3-Staff-93-b Counts'!G105 -> 0 | H26: ='3-Staff-93-b Counts'!H105 -> 0 | I26: ='3-Staff-93-b Counts'!I105 -> 0.1875 | J26: ='3-Staff-93-b Counts'!J105 -> 0.4375 | K26: ='3-Staff-93-b Counts'!K105 -> 0.5
B27: ='3-Staff-93-b Counts'!A106 -> 66 | C27: ='3-Staff-93-b Counts'!C106 -> 2028 | D27: ='3-Staff-93-b Counts'!D106 -> 3404 | E27: ='3-Staff-93-b Counts'!E106 -> 50 | F27: ='3-Staff-93-b Counts'!F106 -> 0 | G27: ='3-Staff-93-b Counts'!G106 -> 0 | H27: ='3-Staff-93-b Counts'!H106 -> 0.1875 | I27: ='3-Staff-93-b Counts'!I106 -> 0.4375 | J27: ='3-Staff-93-b Counts'!J106 -> 0.5 | K27: ='3-Staff-93-b Counts'!K106 -> 0.5
B28: Total | F28: ='3-Staff-93-b Counts'!F107 -> 1.425 | G28: ='3-Staff-93-b Counts'!G107 -> 3.325 | H28: ='3-Staff-93-b Counts'!H107 -> 3.9875 | I28: ='3-Staff-93-b Counts'!I107 -> 4.425 | J28: ='3-Staff-93-b Counts'!J107 -> 4.7375 | K28: ='3-Staff-93-b Counts'!K107 -> 4.8
B30: Large Use
B31: ='3-Staff-93-b Counts'!A110 -> 24 | C31: ='3-Staff-93-b Counts'!C110 -> 2028 | D31: ='3-Staff-93-b Counts'!D110 -> 40000 | E31: ='3-Staff-93-b Counts'!E110 -> 50 | F31: ='3-Staff-93-b Counts'!F110 -> 0 | G31: ='3-Staff-93-b Counts'!G110 -> 0 | H31: ='3-Staff-93-b Counts'!H110 -> 0.1875 | I31: ='3-Staff-93-b Counts'!I110 -> 0.4375 | J31: ='3-Staff-93-b Counts'!J110 -> 0.5 | K31: ='3-Staff-93-b Counts'!K110 -> 0.5
B32: Total | F32: ='3-Staff-93-b Counts'!F111 -> 0 | G32: ='3-Staff-93-b Counts'!G111 -> 0 | H32: ='3-Staff-93-b Counts'!H111 -> 0.1875 | I32: ='3-Staff-93-b Counts'!I111 -> 0.4375 | J32: ='3-Staff-93-b Counts'!J111 -> 0.5 | K32: ='3-Staff-93-b Counts'!K111 -> 0.5

Sheet 3-Staff-93-b Billed kW
A1: Revised 3-Staff-93-b | N1: Customer Details | T1: Billed kW Calculation | AZ1: Cumulative Change from 3-Staff 93-b
A2: Customer # | B2: Customer Type | C2: Anticipated Year | D2: Anticipated Load | E2: Confidence | F2: 2026 | G2: 2027 | H2: 2028 | I2: 2029 | J2: 2030 | K2: 2031 | L2: Status (Contracted, Committed or Speculative) | N2: Committed/ Non-Committed | O2: Current Rate Class | P2: Rate Class | Q2: New/ Existing | R2: New in 2025 | S2: Rate Zone | T2: Annual Anticipated Loads (Peak kW) (2026 Loads include anticipated 2025 loads that have not yet materialized for customers that connected in 2025) | Z2: Probability Adjustment (x Confidence %) | AF2: Billed Load Adjustment (x 70% x 12 months) | AL2: Connected (2025) | AM2: Connection Timing Adjustment (If connected in 2025 -> full amount , if not, 25% of previous year + 75% of current year) | AS2: Half-Year Rule & Cumulative
D3: Peak kW | E3: % | F3: Billed kW | T3: 2026 | U3: =T3+1 -> 2027 | V3: =U3+1 -> 2028 | W3: =V3+1 -> 2029 | X3: =W3+1 -> 2030 | Y3: =X3+1 -> 2031 | Z3: 2026 | AA3: =Z3+1 -> 2027 | AB3: =AA3+1 -> 2028 | AC3: =AB3+1 -> 2029 | AD3: =AC3+1 -> 2030 | AE3: =AD3+1 -> 2031 | AF3: =Z3 -> 2026 | AG3: =AA3 -> 2027 | AH3: =AB3 -> 2028 | AI3: =AC3 -> 2029 | AJ3: =AD3 -> 2030 | AK3: =AE3 -> 2031 | AM3: 2026 | AN3: =AM3+1 -> 2027 | AO3: =AN3+1 -> 2028 | AP3: =AO3+1 -> 2029 | AQ3: =AP3+1 -> 2030 | AR3: =AQ3+1 -> 2031 | AS3: =AM3 -> 2026 | AT3: =AN3 -> 2027 | AU3: =AO3 -> 2028 | AV3: =AP3 -> 2029 | AW3: =AQ3 -> 2030 | AX3: =AR3 -> 2031 | AZ3: =AS3 -> 2026 | BA3: =AT3 -> 2027 | BB3: =AU3 -> 2028 | BC3: =AV3 -> 2029 | BD3: =AW3 -> 2030 | BE3: =AX3 -> 2031 | BF3: Notes
A4: 1 | B4: Residential (Long Term Care Home) | C4: 2026 | D4: 2700 | E4: 100 | F4: =AS4 -> 11340 | G4: =AT4 -> 22680 | H4: =AU4 -> 22680 | I4: =AV4 -> 22680 | J4: =AW4 -> 22680 | K4: =AX4 -> 22680 | L4: Contracted (Energized) | N4: Committed | P4: GS 50 to 2,999 | Q4: New | R4: New in 2025 | S4: Veridian | T4: 2700 | U4: 0 | V4: 0 | W4: 0 | X4: 0 | Y4: 0 | Z4: =T4*$E4/100 -> 2700 | AA4: =U4*$E4/100 -> 0 | AB4: =V4*$E4/100 -> 0 | AC4: =W4*$E4/100 -> 0 | AD4: =X4*$E4/100 -> 0 | AE4: =Y4*$E4/100 -> 0 | AF4: =Z4*70%*12 -> 22680 | AG4: =AA4*70%*12 -> 0 | AH4: =AB4*70%*12 -> 0 | AI4: =AC4*70%*12 -> 0 | AJ4: =AD4*70%*12 -> 0 | AK4: =AE4*70%*12 -> 0 | AL4: 1 | AM4: =IF($AL4=1,AF4,AF4*0.75) -> 22680 | AN4: =IF($AL4=1,AG4,AF4*(1-0.75)+AG4*0.75) -> 0 | AO4: =IF($AL4=1,AH4,AG4*(1-0.75)+AH4*0.75) -> 0 | AP4: =IF($AL4=1,AI4,AH4*(1-0.75)+AI4*0.75) -> 0 | AQ4: =IF($AL4=1,AJ4,AI4*(1-0.75)+AJ4*0.75) -> 0 | AR4: =IF($AL4=1,AK4,AJ4*(1-0.75)+AK4*0.75) -> 0 | AS4: =AM4/2 -> 11340 | AT4: =SUM($AM4:AM4)+AN4/2 -> 22680 | AU4: =SUM($AM4:AN4)+AO4/2 -> 22680 | AV4: =SUM($AM4:AO4)+AP4/2 -> 22680 | AW4: =SUM($AM4:AP4)+AQ4/2 -> 22680 | AX4: =SUM($AM4:AQ4)+AR4/2 -> 22680 | AZ4: 0 | BA4: 0 | BB4: 0 | BC4: 0 | BD4: 0 | BE4: 0
A5: 2 | B5: Industrial | C5: 2026 | D5: 3000 | E5: 80 | F5: =AS5 -> 7560 | G5: =AT5 -> 17640 | H5: =AU5 -> 20160 | I5: =AV5 -> 20160 | J5: =AW5 -> 20160 | K5: =AX5 -> 20160 | L5: Committed (Desposit Received) | N5: Committed | O5: GS 50 to 2,999 | P5: GS 3,000 to 4,999 | Q5: Existing | S5: Veridian | T5: 3000 | U5: 0 | V5: 0 | W5: 0 | X5: 0 | Y5: 0 | Z5: =T5*$E5/100 -> 2400 | AA5: =U5*$E5/100 -> 0 | AB5: =V5*$E5/100 -> 0 | AC5: =W5*$E5/100 -> 0 | AD5: =X5*$E5/100 -> 0 | AE5: =Y5*$E5/100 -> 0 | AF5: =Z5*70%*12 -> 20160 | AG5: =AA5*70%*12 -> 0 | AH5: =AB5*70%*12 -> 0 | AI5: =AC5*70%*12 -> 0 | AJ5: =AD5*70%*12 -> 0 | AK5: =AE5*70%*12 -> 0 | AL5: 0 | AM5: =IF($AL5=1,AF5,AF5*0.75) -> 15120 | AN5: =IF($AL5=1,AG5,AF5*(1-0.75)+AG5*0.75) -> 5040 | AO5: =IF($AL5=1,AH5,AG5*(1-0.75)+AH5*0.75) -> 0 | AP5: =IF($AL5=1,AI5,AH5*(1-0.75)+AI5*0.75) -> 0 | AQ5: =IF($AL5=1,AJ5,AI5*(1-0.75)+AJ5*0.75) -> 0 | AR5: =IF($AL5=1,AK5,AJ5*(1-0.75)+AK5*0.75) -> 0 | AS5: =AM5/2 -> 7560 | AT5: =SUM($AM5:AM5)+AN5/2 -> 17640 | AU5: =SUM($AM5:AN5)+AO5/2 -> 20160 | AV5: =SUM($AM5:AO5)+AP5/2 -> 20160 | AW5: =SUM($AM5:AP5)+AQ5/2 -> 20160 | AX5: =SUM($AM5:AQ5)+AR5/2 -> 20160 | AZ5: 0 | BA5: 0 | BB5: 0 | BC5: 0 | BD5: 0 | BE5: 0
A6: 3 | B6: Industrial | C6: 2025 | D6: 6500 | E6: 100 | F6: =AS6 -> 6570 | G6: =AT6 -> 19440 | H6: =AU6 -> 38340 | I6: =AV6 -> 50940 | J6: =AW6 -> 50940 | K6: =AX6 -> 50940 | L6: Contracted (Energized) | N6: Committed | O6: GS 50 to 2,999 | P6: Large Use | Q6: Existing | S6: Veridian | T6: 1564.2857 | U6: 1500 | V6: 3000 | W6: 0 | X6: 0 | Y6: 0 | Z6: =T6*$E6/100 -> 1564.2857 | AA6: =U6*$E6/100 -> 1500 | AB6: =V6*$E6/100 -> 3000 | AC6: =W6*$E6/100 -> 0 | AD6: =X6*$E6/100 -> 0 | AE6: =Y6*$E6/100 -> 0 | AF6: =Z6*70%*12 -> 13140 | AG6: =AA6*70%*12 -> 12600 | AH6: =AB6*70%*12 -> 25200 | AI6: =AC6*70%*12 -> 0 | AJ6: =AD6*70%*12 -> 0 | AK6: =AE6*70%*12 -> 0 | AL6: 1 | AM6: =IF($AL6=1,AF6,AF6*0.75) -> 13140 | AN6: =IF($AL6=1,AG6,AF6*(1-0.75)+AG6*0.75) -> 12600 | AO6: =IF($AL6=1,AH6,AG6*(1-0.75)+AH6*0.75) -> 25200 | AP6: =IF($AL6=1,AI6,AH6*(1-0.75)+AI6*0.75) -> 0 | AQ6: =IF($AL6=1,AJ6,AI6*(1-0.75)+AJ6*0.75) -> 0 | AR6: =IF($AL6=1,AK6,AJ6*(1-0.75)+AK6*0.75) -> 0 | AS6: =AM6/2 -> 6570 | AT6: =SUM($AM6:AM6)+AN6/2 -> 19440 | AU6: =SUM($AM6:AN6)+AO6/2 -> 38340 | AV6: =SUM($AM6:AO6)+AP6/2 -> 50940 | AW6: =SUM($AM6:AP6)+AQ6/2 -> 50940 | AX6: =SUM($AM6:AQ6)+AR6/2 -> 50940 | AZ6: 0 | BA6: 0 | BB6: 0 | BC6: 0 | BD6: 0 | BE6: 0
A7: 4 | B7: Industrial | C7: 2025 | D7: 11000 | E7: 100 | F7: =AS7 -> 17154 | G7: =AT7 -> 42708 | H7: =AU7 -> 55308 | I7: =AV7 -> 59508 | J7: =AW7 -> 59508 | K7: =AX7 -> 59508 | L7: Contracted (Energized) | N7: Committed | O7: GS 50 to 2,999 | P7: Large Use | Q7: Existing | S7: Veridian | T7: 4084.2857 | U7: 2000 | V7: 1000 | W7: 0 | X7: 0 | Y7: 0 | Z7: =T7*$E7/100 -> 4084.2857 | AA7: =U7*$E7/100 -> 2000 | AB7: =V7*$E7/100 -> 1000 | AC7: =W7*$E7/100 -> 0 | AD7: =X7*$E7/100 -> 0 | AE7: =Y7*$E7/100 -> 0 | AF7: =Z7*70%*12 -> 34308 | AG7: =AA7*70%*12 -> 16800 | AH7: =AB7*70%*12 -> 8400 | AI7: =AC7*70%*12 -> 0 | AJ7: =AD7*70%*12 -> 0 | AK7: =AE7*70%*12 -> 0 | AL7: 1 | AM7: =IF($AL7=1,AF7,AF7*0.75) -> 34308 | AN7: =IF($AL7=1,AG7,AF7*(1-0.75)+AG7*0.75) -> 16800 | AO7: =IF($AL7=1,AH7,AG7*(1-0.75)+AH7*0.75) -> 8400 | AP7: =IF($AL7=1,AI7,AH7*(1-0.75)+AI7*0.75) -> 0 | AQ7: =IF($AL7=1,AJ7,AI7*(1-0.75)+AJ7*0.75) -> 0 | AR7: =IF($AL7=1,AK7,AJ7*(1-0.75)+AK7*0.75) -> 0 | AS7: =AM7/2 -> 17154 | AT7: =SUM($AM7:AM7)+AN7/2 -> 42708 | AU7: =SUM($AM7:AN7)+AO7/2 -> 55308 | AV7: =SUM($AM7:AO7)+AP7/2 -> 59508 | AW7: =SUM($AM7:AP7)+AQ7/2 -> 59508 | AX7: =SUM($AM7:AQ7)+AR7/2 -> 59508 | AZ7: 0 | BA7: 0 | BB7: 0 | BC7: 0 | BD7: 0 | BE7: 0
A8: 5 | B8: Mixed Use Residential | C8: 2026 | D8: 2100 | E8: 80 | F8: =AS8 -> 5292 | G8: =AT8 -> 12348 | H8: =AU8 -> 14112 | I8: =AV8 -> 14112 | J8: =AW8 -> 14112 | K8: =AX8 -> 14112 | L8: Committed (Desposit Received) | N8: Committed | P8: GS 50 to 2,999 | Q8: New | S8: Veridian | T8: 2100 | U8: 0 | V8: 0 | W8: 0 | X8: 0 | Y8: 0 | Z8: =T8*$E8/100 -> 1680 | AA8: =U8*$E8/100 -> 0 | AB8: =V8*$E8/100 -> 0 | AC8: =W8*$E8/100 -> 0 | AD8: =X8*$E8/100 -> 0 | AE8: =Y8*$E8/100 -> 0 | AF8: =Z8*70%*12 -> 14112 | AG8: =AA8*70%*12 -> 0 | AH8: =AB8*70%*12 -> 0 | AI8: =AC8*70%*12 -> 0 | AJ8: =AD8*70%*12 -> 0 | AK8: =AE8*70%*12 -> 0 | AL8: 0 | AM8: =IF($AL8=1,AF8,AF8*0.75) -> 10584 | AN8: =IF($AL8=1,AG8,AF8*(1-0.75)+AG8*0.75) -> 3528 | AO8: =IF($AL8=1,AH8,AG8*(1-0.75)+AH8*0.75) -> 0 | AP8: =IF($AL8=1,AI8,AH8*(1-0.75)+AI8*0.75) -> 0 | AQ8: =IF($AL8=1,AJ8,AI8*(1-0.75)+AJ8*0.75) -> 0 | AR8: =IF($AL8=1,AK8,AJ8*(1-0.75)+AK8*0.75) -> 0 | AS8: =AM8/2 -> 5292 | AT8: =SUM($AM8:AM8)+AN8/2 -> 12348 | AU8: =SUM($AM8:AN8)+AO8/2 -> 14112 | AV8: =SUM($AM8:AO8)+AP8/2 -> 14112 | AW8: =SUM($AM8:AP8)+AQ8/2 -> 14112 | AX8: =SUM($AM8:AQ8)+AR8/2 -> 14112 | AZ8: 0 | BA8: 0 | BB8: 0 | BC8: 0 | BD8: 0 | BE8: 0
A9: 6 | B9: Industrial | C9: 2026 | D9: 1943 | E9: 80 | F9: =AS9 -> 1134 | G9: =AT9 -> 4536 | H9: =AU9 -> 8694 | I9: =AV9 -> 11616.36 | J9: =AW9 -> 12852.84 | K9: =AX9 -> 13056.96 | L9: Committed (Desposit Received) | N9: Committed | P9: GS 50 to 2,999 | Q9: New | S9: Veridian | T9: 450 | U9: 750 | V9: 500 | W9: 243 | X9: 0 | Y9: 0 | Z9: =T9*$E9/100 -> 360 | AA9: =U9*$E9/100 -> 600 | AB9: =V9*$E9/100 -> 400 | AC9: =W9*$E9/100 -> 194.4 | AD9: =X9*$E9/100 -> 0 | AE9: =Y9*$E9/100 -> 0 | AF9: =Z9*70%*12 -> 3024 | AG9: =AA9*70%*12 -> 5040 | AH9: =AB9*70%*12 -> 3360 | AI9: =AC9*70%*12 -> 1632.96 | AJ9: =AD9*70%*12 -> 0 | AK9: =AE9*70%*12 -> 0 | AL9: 0 | AM9: =IF($AL9=1,AF9,AF9*0.75) -> 2268 | AN9: =IF($AL9=1,AG9,AF9*(1-0.75)+AG9*0.75) -> 4536 | AO9: =IF($AL9=1,AH9,AG9*(1-0.75)+AH9*0.75) -> 3780 | AP9: =IF($AL9=1,AI9,AH9*(1-0.75)+AI9*0.75) -> 2064.72 | AQ9: =IF($AL9=1,AJ9,AI9*(1-0.75)+AJ9*0.75) -> 408.24 | AR9: =IF($AL9=1,AK9,AJ9*(1-0.75)+AK9*0.75) -> 0 | AS9: =AM9/2 -> 1134 | AT9: =SUM($AM9:AM9)+AN9/2 -> 4536 | AU9: =SUM($AM9:AN9)+AO9/2 -> 8694 | AV9: =SUM($AM9:AO9)+AP9/2 -> 11616.36 | AW9: =SUM($AM9:AP9)+AQ9/2 -> 12852.84 | AX9: =SUM($AM9:AQ9)+AR9/2 -> 13056.96 | AZ9: 0 | BA9: 0 | BB9: 0 | BC9: 0 | BD9: 0 | BE9: 0
A10: 7 | B10: Commercial | C10: 2026 | D10: 3250 | E10: 80 | F10: =AS10 -> 5040 | G10: =AT10 -> 14910 | H10: =AU10 -> 20790 | I10: =AV10 -> 21840 | J10: =AW10 -> 21840 | K10: =AX10 -> 21840 | L10: Contracted (OTC Signed) | N10: Committed | P10: GS 3,000 to 4,999 | Q10: New | S10: Veridian | T10: 2000 | U10: 1250 | V10: 0 | W10: 0 | X10: 0 | Y10: 0 | Z10: =T10*$E10/100 -> 1600 | AA10: =U10*$E10/100 -> 1000 | AB10: =V10*$E10/100 -> 0 | AC10: =W10*$E10/100 -> 0 | AD10: =X10*$E10/100 -> 0 | AE10: =Y10*$E10/100 -> 0 | AF10: =Z10*70%*12 -> 13440 | AG10: =AA10*70%*12 -> 8400 | AH10: =AB10*70%*12 -> 0 | AI10: =AC10*70%*12 -> 0 | AJ10: =AD10*70%*12 -> 0 | AK10: =AE10*70%*12 -> 0 | AL10: 0 | AM10: =IF($AL10=1,AF10,AF10*0.75) -> 10080 | AN10: =IF($AL10=1,AG10,AF10*(1-0.75)+AG10*0.75) -> 9660 | AO10: =IF($AL10=1,AH10,AG10*(1-0.75)+AH10*0.75) -> 2100 | AP10: =IF($AL10=1,AI10,AH10*(1-0.75)+AI10*0.75) -> 0 | AQ10: =IF($AL10=1,AJ10,AI10*(1-0.75)+AJ10*0.75) -> 0 | AR10: =IF($AL10=1,AK10,AJ10*(1-0.75)+AK10*0.75) -> 0 | AS10: =AM10/2 -> 5040 | AT10: =SUM($AM10:AM10)+AN10/2 -> 14910 | AU10: =SUM($AM10:AN10)+AO10/2 -> 20790 | AV10: =SUM($AM10:AO10)+AP10/2 -> 21840 | AW10: =SUM($AM10:AP10)+AQ10/2 -> 21840 | AX10: =SUM($AM10:AQ10)+AR10/2 -> 21840 | AZ10: 5040 | BA10: 9870 | BB10: 9030 | BC10: 8400 | BD10: 8400 | BE10: 8400 | BF10: Project Advanced & Expansion volumes added after anticipated year
A11: 8 | B11: Industrial | C11: 2029 | D11: 2860 | E11: 80 | F11: =AS11 -> 0 | G11: =AT11 -> 0 | H11: =AU11 -> 0 | I11: =AV11 -> 7207.2 | J11: =AW11 -> 16816.8 | K11: =AX11 -> 19219.2 | L11: Committed (Desposit Received) | N11: Committed | P11: GS 50 to 2,999 | Q11: New | S11: Veridian | T11: 0 | U11: 0 | V11: 0 | W11: =D11 -> 2860 | X11: 0 | Y11: 0 | Z11: =T11*$E11/100 -> 0 | AA11: =U11*$E11/100 -> 0 | AB11: =V11*$E11/100 -> 0 | AC11: =W11*$E11/100 -> 2288 | AD11: =X11*$E11/100 -> 0 | AE11: =Y11*$E11/100 -> 0 | AF11: =Z11*70%*12 -> 0 | AG11: =AA11*70%*12 -> 0 | AH11: =AB11*70%*12 -> 0 | AI11: =AC11*70%*12 -> 19219.2 | AJ11: =AD11*70%*12 -> 0 | AK11: =AE11*70%*12 -> 0 | AL11: 0 | AM11: =IF($AL11=1,AF11,AF11*0.75) -> 0 | AN11: =IF($AL11=1,AG11,AF11*(1-0.75)+AG11*0.75) -> 0 | AO11: =IF($AL11=1,AH11,AG11*(1-0.75)+AH11*0.75) -> 0 | AP11: =IF($AL11=1,AI11,AH11*(1-0.75)+AI11*0.75) -> 14414.4 | AQ11: =IF($AL11=1,AJ11,AI11*(1-0.75)+AJ11*0.75) -> 4804.8 | AR11: =IF($AL11=1,AK11,AJ11*(1-0.75)+AK11*0.75) -> 0 | AS11: =AM11/2 -> 0 | AT11: =SUM($AM11:AM11)+AN11/2 -> 0 | AU11: =SUM($AM11:AN11)+AO11/2 -> 0 | AV11: =SUM($AM11:AO11)+AP11/2 -> 7207.2 | AW11: =SUM($AM11:AP11)+AQ11/2 -> 16816.8 | AX11: =SUM($AM11:AQ11)+AR11/2 -> 19219.2 | AZ11: -7207.2 | BA11: -16816.8 | BB11: -19219.2 | BC11: -12012 | BD11: -2402.4 | BE11: 0 | BF11: Project Delayed
A12: 9 | B12: High Rise Residential | C12: 2026 | D12: 1000 | E12: 100 | F12: =AS12 -> 3150 | G12: =AT12 -> 7350 | H12: =AU12 -> 8400 | I12: =AV12 -> 8400 | J12: =AW12 -> 8400 | K12: =AX12 -> 8400 | L12: Contracted (OTC Signed) | N12: Committed | P12: GS 50 to 2,999 | Q12: New | S12: Veridian | T12: 1000 | U12: 0 | V12: 0 | W12: 0 | X12: 0 | Y12: 0 | Z12: =T12*$E12/100 -> 1000 | AA12: =U12*$E12/100 -> 0 | AB12: =V12*$E12/100 -> 0 | AC12: =W12*$E12/100 -> 0 | AD12: =X12*$E12/100 -> 0 | AE12: =Y12*$E12/100 -> 0 | AF12: =Z12*70%*12 -> 8400 | AG12: =AA12*70%*12 -> 0 | AH12: =AB12*70%*12 -> 0 | AI12: =AC12*70%*12 -> 0 | AJ12: =AD12*70%*12 -> 0 | AK12: =AE12*70%*12 -> 0 | AL12: 0 | AM12: =IF($AL12=1,AF12,AF12*0.75) -> 6300 | AN12: =IF($AL12=1,AG12,AF12*(1-0.75)+AG12*0.75) -> 2100 | AO12: =IF($AL12=1,AH12,AG12*(1-0.75)+AH12*0.75) -> 0 | AP12: =IF($AL12=1,AI12,AH12*(1-0.75)+AI12*0.75) -> 0 | AQ12: =IF($AL12=1,AJ12,AI12*(1-0.75)+AJ12*0.75) -> 0 | AR12: =IF($AL12=1,AK12,AJ12*(1-0.75)+AK12*0.75) -> 0 | AS12: =AM12/2 -> 3150 | AT12: =SUM($AM12:AM12)+AN12/2 -> 7350 | AU12: =SUM($AM12:AN12)+AO12/2 -> 8400 | AV12: =SUM($AM12:AO12)+AP12/2 -> 8400 | AW12: =SUM($AM12:AP12)+AQ12/2 -> 8400 | AX12: =SUM($AM12:AQ12)+AR12/2 -> 8400 | AZ12: 3150 | BA12: 4200 | BB12: 1050 | BC12: 0 | BD12: 0 | BE12: 0 | BF12: Project Advanced
A13: 10 | B13: High Rise Residential | C13: 2025 | D13: 604 | E13: 100 | F13: =AS13 -> 2536.8 | G13: =AT13 -> 5073.6 | H13: =AU13 -> 5073.6 | I13: =AV13 -> 5073.6 | J13: =AW13 -> 5073.6 | K13: =AX13 -> 5073.6 | L13: Contracted (Energized) | N13: Committed | P13: GS 50 to 2,999 | Q13: New | R13: New in 2025 | S13: Veridian | T13: 604 | U13: 0 | V13: 0 | W13: 0 | X13: 0 | Y13: 0 | Z13: =T13*$E13/100 -> 604 | AA13: =U13*$E13/100 -> 0 | AB13: =V13*$E13/100 -> 0 | AC13: =W13*$E13/100 -> 0 | AD13: =X13*$E13/100 -> 0 | AE13: =Y13*$E13/100 -> 0 | AF13: =Z13*70%*12 -> 5073.6 | AG13: =AA13*70%*12 -> 0 | AH13: =AB13*70%*12 -> 0 | AI13: =AC13*70%*12 -> 0 | AJ13: =AD13*70%*12 -> 0 | AK13: =AE13*70%*12 -> 0 | AL13: 1 | AM13: =IF($AL13=1,AF13,AF13*0.75) -> 5073.6 | AN13: =IF($AL13=1,AG13,AF13*(1-0.75)+AG13*0.75) -> 0 | AO13: =IF($AL13=1,AH13,AG13*(1-0.75)+AH13*0.75) -> 0 | AP13: =IF($AL13=1,AI13,AH13*(1-0.75)+AI13*0.75) -> 0 | AQ13: =IF($AL13=1,AJ13,AI13*(1-0.75)+AJ13*0.75) -> 0 | AR13: =IF($AL13=1,AK13,AJ13*(1-0.75)+AK13*0.75) -> 0 | AS13: =AM13/2 -> 2536.8 | AT13: =SUM($AM13:AM13)+AN13/2 -> 5073.6 | AU13: =SUM($AM13:AN13)+AO13/2 -> 5073.6 | AV13: =SUM($AM13:AO13)+AP13/2 -> 5073.6 | AW13: =SUM($AM13:AP13)+AQ13/2 -> 5073.6 | AX13: =SUM($AM13:AQ13)+AR13/2 -> 5073.6 | AZ13: 0 | BA13: 0 | BB13: 0 | BC13: 0 | BD13: 0 | BE13: 0
A14: 11 | B14: High Rise Residential | C14: 2026 | D14: 4280 | E14: 100 | F14: =AS14 -> 2520 | G14: =AT14 -> 6399.75 | H14: =AU14 -> 13492.5 | I14: =AV14 -> 22260 | J14: =AW14 -> 29389.5 | K14: =AX14 -> 34718.25 | L14: Contracted (OTC Signed) | N14: Committed | P14: GS 3,000 to 4,999 | Q14: New | S14: Veridian | T14: 800 | U14: 165 | V14: 1765 | W14: 375 | X14: 1175 | Y14: 0 | Z14: =T14*$E14/100 -> 800 | AA14: =U14*$E14/100 -> 165 | AB14: =V14*$E14/100 -> 1765 | AC14: =W14*$E14/100 -> 375 | AD14: =X14*$E14/100 -> 1175 | AE14: =Y14*$E14/100 -> 0 | AF14: =Z14*70%*12 -> 6720 | AG14: =AA14*70%*12 -> 1386 | AH14: =AB14*70%*12 -> 14826 | AI14: =AC14*70%*12 -> 3150 | AJ14: =AD14*70%*12 -> 9870 | AK14: =AE14*70%*12 -> 0 | AL14: 0 | AM14: =IF($AL14=1,AF14,AF14*0.75) -> 5040 | AN14: =IF($AL14=1,AG14,AF14*(1-0.75)+AG14*0.75) -> 2719.5 | AO14: =IF($AL14=1,AH14,AG14*(1-0.75)+AH14*0.75) -> 11466 | AP14: =IF($AL14=1,AI14,AH14*(1-0.75)+AI14*0.75) -> 6069 | AQ14: =IF($AL14=1,AJ14,AI14*(1-0.75)+AJ14*0.75) -> 8190 | AR14: =IF($AL14=1,AK14,AJ14*(1-0.75)+AK14*0.75) -> 2467.5 | AS14: =AM14/2 -> 2520 | AT14: =SUM($AM14:AM14)+AN14/2 -> 6399.75 | AU14: =SUM($AM14:AN14)+AO14/2 -> 13492.5 | AV14: =SUM($AM14:AO14)+AP14/2 -> 22260 | AW14: =SUM($AM14:AP14)+AQ14/2 -> 29389.5 | AX14: =SUM($AM14:AQ14)+AR14/2 -> 34718.25 | AZ14: 0 | BA14: 0 | BB14: 0 | BC14: 0 | BD14: 0 | BE14: 0
A15: 12 | B15: Residential (Long Term Care Home) | C15: 2027 | D15: 2500 | E15: 80 | F15: =AS15 -> 0 | G15: =AT15 -> 6300 | H15: =AU15 -> 14700 | I15: =AV15 -> 16800 | J15: =AW15 -> 16800 | K15: =AX15 -> 16800 | L15: Committed (Desposit Received) | N15: Committed | P15: GS 50 to 2,999 | Q15: New | S15: Veridian | T15: 0 | U15: 2500 | V15: 0 | W15: 0 | X15: 0 | Y15: 0 | Z15: =T15*$E15/100 -> 0 | AA15: =U15*$E15/100 -> 2000 | AB15: =V15*$E15/100 -> 0 | AC15: =W15*$E15/100 -> 0 | AD15: =X15*$E15/100 -> 0 | AE15: =Y15*$E15/100 -> 0 | AF15: =Z15*70%*12 -> 0 | AG15: =AA15*70%*12 -> 16800 | AH15: =AB15*70%*12 -> 0 | AI15: =AC15*70%*12 -> 0 | AJ15: =AD15*70%*12 -> 0 | AK15: =AE15*70%*12 -> 0 | AL15: 0 | AM15: =IF($AL15=1,AF15,AF15*0.75) -> 0 | AN15: =IF($AL15=1,AG15,AF15*(1-0.75)+AG15*0.75) -> 12600 | AO15: =IF($AL15=1,AH15,AG15*(1-0.75)+AH15*0.75) -> 4200 | AP15: =IF($AL15=1,AI15,AH15*(1-0.75)+AI15*0.75) -> 0 | AQ15: =IF($AL15=1,AJ15,AI15*(1-0.75)+AJ15*0.75) -> 0 | AR15: =IF($AL15=1,AK15,AJ15*(1-0.75)+AK15*0.75) -> 0 | AS15: =AM15/2 -> 0 | AT15: =SUM($AM15:AM15)+AN15/2 -> 6300 | AU15: =SUM($AM15:AN15)+AO15/2 -> 14700 | AV15: =SUM($AM15:AO15)+AP15/2 -> 16800 | AW15: =SUM($AM15:AP15)+AQ15/2 -> 16800 | AX15: =SUM($AM15:AQ15)+AR15/2 -> 16800 | AZ15: -6300 | BA15: -8400 | BB15: -2100 | BC15: 0 | BD15: 0 | BE15: 0 | BF15: Project Delayed
A16: 13 | B16: High Rise Residential | C16: 2026 | D16: 3000 | E16: 100 | F16: =AS16 -> 9450 | G16: =AT16 -> 22050 | H16: =AU16 -> 25200 | I16: =AV16 -> 25200 | J16: =AW16 -> 25200 | K16: =AX16 -> 25200 | L16: Contracted (OTC Signed) | N16: Committed | P16: GS 50 to 2,999 | Q16: New | S16: Veridian | T16: 3000 | U16: 0 | V16: 0 | W16: 0 | X16: 0 | Y16: 0 | Z16: =T16*$E16/100 -> 3000 | AA16: =U16*$E16/100 -> 0 | AB16: =V16*$E16/100 -> 0 | AC16: =W16*$E16/100 -> 0 | AD16: =X16*$E16/100 -> 0 | AE16: =Y16*$E16/100 -> 0 | AF16: =Z16*70%*12 -> 25200 | AG16: =AA16*70%*12 -> 0 | AH16: =AB16*70%*12 -> 0 | AI16: =AC16*70%*12 -> 0 | AJ16: =AD16*70%*12 -> 0 | AK16: =AE16*70%*12 -> 0 | AL16: 0 | AM16: =IF($AL16=1,AF16,AF16*0.75) -> 18900 | AN16: =IF($AL16=1,AG16,AF16*(1-0.75)+AG16*0.75) -> 6300 | AO16: =IF($AL16=1,AH16,AG16*(1-0.75)+AH16*0.75) -> 0 | AP16: =IF($AL16=1,AI16,AH16*(1-0.75)+AI16*0.75) -> 0 | AQ16: =IF($AL16=1,AJ16,AI16*(1-0.75)+AJ16*0.75) -> 0 | AR16: =IF($AL16=1,AK16,AJ16*(1-0.75)+AK16*0.75) -> 0 | AS16: =AM16/2 -> 9450 | AT16: =SUM($AM16:AM16)+AN16/2 -> 22050 | AU16: =SUM($AM16:AN16)+AO16/2 -> 25200 | AV16: =SUM($AM16:AO16)+AP16/2 -> 25200 | AW16: =SUM($AM16:AP16)+AQ16/2 -> 25200 | AX16: =SUM($AM16:AQ16)+AR16/2 -> 25200 | AZ16: 0 | BA16: 0 | BB16: 0 | BC16: 0 | BD16: 0 | BE16: 0
A17: 14 | B17: Industrial | C17: 2026 | D17: 4959 | E17: 100 | F17: =AS17 -> 15620.85 | G17: =AT17 -> 36448.65 | H17: =AU17 -> 41655.6 | I17: =AV17 -> 41655.6 | J17: =AW17 -> 41655.6 | K17: =AX17 -> 41655.6 | L17: Contracted (OTC Signed) | N17: Committed | P17: GS 3,000 to 4,999 | Q17: New | S17: Veridian | T17: 4959 | U17: 0 | V17: 0 | W17: 0 | X17: 0 | Y17: 0 | Z17: =T17*$E17/100 -> 4959 | AA17: =U17*$E17/100 -> 0 | AB17: =V17*$E17/100 -> 0 | AC17: =W17*$E17/100 -> 0 | AD17: =X17*$E17/100 -> 0 | AE17: =Y17*$E17/100 -> 0 | AF17: =Z17*70%*12 -> 41655.6 | AG17: =AA17*70%*12 -> 0 | AH17: =AB17*70%*12 -> 0 | AI17: =AC17*70%*12 -> 0 | AJ17: =AD17*70%*12 -> 0 | AK17: =AE17*70%*12 -> 0 | AL17: 0 | AM17: =IF($AL17=1,AF17,AF17*0.75) -> 31241.7 | AN17: =IF($AL17=1,AG17,AF17*(1-0.75)+AG17*0.75) -> 10413.9 | AO17: =IF($AL17=1,AH17,AG17*(1-0.75)+AH17*0.75) -> 0 | AP17: =IF($AL17=1,AI17,AH17*(1-0.75)+AI17*0.75) -> 0 | AQ17: =IF($AL17=1,AJ17,AI17*(1-0.75)+AJ17*0.75) -> 0 | AR17: =IF($AL17=1,AK17,AJ17*(1-0.75)+AK17*0.75) -> 0 | AS17: =AM17/2 -> 15620.85 | AT17: =SUM($AM17:AM17)+AN17/2 -> 36448.65 | AU17: =SUM($AM17:AN17)+AO17/2 -> 41655.6 | AV17: =SUM($AM17:AO17)+AP17/2 -> 41655.6 | AW17: =SUM($AM17:AP17)+AQ17/2 -> 41655.6 | AX17: =SUM($AM17:AQ17)+AR17/2 -> 41655.6 | AZ17: 0 | BA17: 0 | BB17: 0 | BC17: 0 | BD17: 0 | BE17: 0
A18: 15 | B18: High Rise Residential | C18: 2026 | D18: 1100 | E18: 80 | F18: =AS18 -> 2268 | G18: =AT18 -> 5292 | H18: =AU18 -> 6048 | I18: =AV18 -> 6300 | J18: =AW18 -> 6888 | K18: =AX18 -> 7308 | L18: Committed (OTC in Progress) | N18: Committed | P18: GS 50 to 2,999 | Q18: New | S18: Veridian | T18: 900 | U18: 0 | V18: 0 | W18: 100 | X18: 100 | Y18: 0 | Z18: =T18*$E18/100 -> 720 | AA18: =U18*$E18/100 -> 0 | AB18: =V18*$E18/100 -> 0 | AC18: =W18*$E18/100 -> 80 | AD18: =X18*$E18/100 -> 80 | AE18: =Y18*$E18/100 -> 0 | AF18: =Z18*70%*12 -> 6048 | AG18: =AA18*70%*12 -> 0 | AH18: =AB18*70%*12 -> 0 | AI18: =AC18*70%*12 -> 672 | AJ18: =AD18*70%*12 -> 672 | AK18: =AE18*70%*12 -> 0 | AL18: 0 | AM18: =IF($AL18=1,AF18,AF18*0.75) -> 4536 | AN18: =IF($AL18=1,AG18,AF18*(1-0.75)+AG18*0.75) -> 1512 | AO18: =IF($AL18=1,AH18,AG18*(1-0.75)+AH18*0.75) -> 0 | AP18: =IF($AL18=1,AI18,AH18*(1-0.75)+AI18*0.75) -> 504 | AQ18: =IF($AL18=1,AJ18,AI18*(1-0.75)+AJ18*0.75) -> 672 | AR18: =IF($AL18=1,AK18,AJ18*(1-0.75)+AK18*0.75) -> 168 | AS18: =AM18/2 -> 2268 | AT18: =SUM($AM18:AM18)+AN18/2 -> 5292 | AU18: =SUM($AM18:AN18)+AO18/2 -> 6048 | AV18: =SUM($AM18:AO18)+AP18/2 -> 6300 | AW18: =SUM($AM18:AP18)+AQ18/2 -> 6888 | AX18: =SUM($AM18:AQ18)+AR18/2 -> 7308 | AZ18: 2268 | BA18: 5292 | BB18: 3780 | BC18: 1008 | BD18: 840 | BE18: 1008 | BF18: Project Advanced
A19: 16 | B19: Industrial | C19: 2026 | D19: 3000 | E19: 80 | F19: =AS19 -> 3780 | G19: =AT19 -> 12600 | H19: =AU19 -> 18900 | I19: =AV19 -> 20160 | J19: =AW19 -> 20160 | K19: =AX19 -> 20160 | L19: Committed (OTC in Progress) | N19: Committed | O19: GS 50 to 2,999 | P19: GS 3,000 to 4,999 | Q19: Existing | S19: Veridian | T19: 1500 | U19: 1500 | V19: 0 | W19: 0 | X19: 0 | Y19: 0 | Z19: =T19*$E19/100 -> 1200 | AA19: =U19*$E19/100 -> 1200 | AB19: =V19*$E19/100 -> 0 | AC19: =W19*$E19/100 -> 0 | AD19: =X19*$E19/100 -> 0 | AE19: =Y19*$E19/100 -> 0 | AF19: =Z19*70%*12 -> 10080 | AG19: =AA19*70%*12 -> 10080 | AH19: =AB19*70%*12 -> 0 | AI19: =AC19*70%*12 -> 0 | AJ19: =AD19*70%*12 -> 0 | AK19: =AE19*70%*12 -> 0 | AL19: 0 | AM19: =IF($AL19=1,AF19,AF19*0.75) -> 7560 | AN19: =IF($AL19=1,AG19,AF19*(1-0.75)+AG19*0.75) -> 10080 | AO19: =IF($AL19=1,AH19,AG19*(1-0.75)+AH19*0.75) -> 2520 | AP19: =IF($AL19=1,AI19,AH19*(1-0.75)+AI19*0.75) -> 0 | AQ19: =IF($AL19=1,AJ19,AI19*(1-0.75)+AJ19*0.75) -> 0 | AR19: =IF($AL19=1,AK19,AJ19*(1-0.75)+AK19*0.75) -> 0 | AS19: =AM19/2 -> 3780 | AT19: =SUM($AM19:AM19)+AN19/2 -> 12600 | AU19: =SUM($AM19:AN19)+AO19/2 -> 18900 | AV19: =SUM($AM19:AO19)+AP19/2 -> 20160 | AW19: =SUM($AM19:AP19)+AQ19/2 -> 20160 | AX19: =SUM($AM19:AQ19)+AR19/2 -> 20160 | AZ19: 0 | BA19: 0 | BB19: 0 | BC19: 0 | BD19: 0 | BE19: 0
A20: 17 | B20: Industrial | C20: 2026 | D20: 3889 | E20: 100 | F20: =AS20 -> 7333.2 | G20: =AT20 -> 20679.75 | H20: =AU20 -> 29230.95 | I20: =AV20 -> 32218.2 | J20: =AW20 -> 32667.6 | K20: =AX20 -> 32667.6 | L20: Contracted (OTC Signed) | N20: Committed | O20: GS 50 to 2,999 | P20: GS 3,000 to 4,999 | Q20: Existing | S20: Veridian | T20: 2328 | U20: 1133 | V20: 428 | W20: 0 | X20: 0 | Y20: 0 | Z20: =T20*$E20/100 -> 2328 | AA20: =U20*$E20/100 -> 1133 | AB20: =V20*$E20/100 -> 428 | AC20: =W20*$E20/100 -> 0 | AD20: =X20*$E20/100 -> 0 | AE20: =Y20*$E20/100 -> 0 | AF20: =Z20*70%*12 -> 19555.2 | AG20: =AA20*70%*12 -> 9517.2 | AH20: =AB20*70%*12 -> 3595.2 | AI20: =AC20*70%*12 -> 0 | AJ20: =AD20*70%*12 -> 0 | AK20: =AE20*70%*12 -> 0 | AL20: 0 | AM20: =IF($AL20=1,AF20,AF20*0.75) -> 14666.4 | AN20: =IF($AL20=1,AG20,AF20*(1-0.75)+AG20*0.75) -> 12026.7 | AO20: =IF($AL20=1,AH20,AG20*(1-0.75)+AH20*0.75) -> 5075.7 | AP20: =IF($AL20=1,AI20,AH20*(1-0.75)+AI20*0.75) -> 898.8 | AQ20: =IF($AL20=1,AJ20,AI20*(1-0.75)+AJ20*0.75) -> 0 | AR20: =IF($AL20=1,AK20,AJ20*(1-0.75)+AK20*0.75) -> 0 | AS20: =AM20/2 -> 7333.2 | AT20: =SUM($AM20:AM20)+AN20/2 -> 20679.75 | AU20: =SUM($AM20:AN20)+AO20/2 -> 29230.95 | AV20: =SUM($AM20:AO20)+AP20/2 -> 32218.2 | AW20: =SUM($AM20:AP20)+AQ20/2 -> 32667.6 | AX20: =SUM($AM20:AQ20)+AR20/2 -> 32667.6 | AZ20: 7333.2 | BA20: 13346.55 | BB20: 8551.2 | BC20: 2987.25 | BD20: 449.4 | BE20: 0 | BF20: Project Advanced
A21: 18 | B21: Industrial | C21: 2026 | D21: 1800 | E21: 80 | F21: =AS21 -> 4536 | G21: =AT21 -> 10584 | H21: =AU21 -> 12096 | I21: =AV21 -> 12096 | J21: =AW21 -> 12096 | K21: =AX21 -> 12096 | L21: Contracted (Energized) | N21: Committed | O21: Large Use | P21: Large Use | Q21: Existing | S21: Veridian | T21: 1800 | U21: 0 | V21: 0 | W21: 0 | X21: 0 | Y21: 0 | Z21: =T21*$E21/100 -> 1440 | AA21: =U21*$E21/100 -> 0 | AB21: =V21*$E21/100 -> 0 | AC21: =W21*$E21/100 -> 0 | AD21: =X21*$E21/100 -> 0 | AE21: =Y21*$E21/100 -> 0 | AF21: =Z21*70%*12 -> 12096 | AG21: =AA21*70%*12 -> 0 | AH21: =AB21*70%*12 -> 0 | AI21: =AC21*70%*12 -> 0 | AJ21: =AD21*70%*12 -> 0 | AK21: =AE21*70%*12 -> 0 | AL21: 0 | AM21: =IF($AL21=1,AF21,AF21*0.75) -> 9072 | AN21: =IF($AL21=1,AG21,AF21*(1-0.75)+AG21*0.75) -> 3024 | AO21: =IF($AL21=1,AH21,AG21*(1-0.75)+AH21*0.75) -> 0 | AP21: =IF($AL21=1,AI21,AH21*(1-0.75)+AI21*0.75) -> 0 | AQ21: =IF($AL21=1,AJ21,AI21*(1-0.75)+AJ21*0.75) -> 0 | AR21: =IF($AL21=1,AK21,AJ21*(1-0.75)+AK21*0.75) -> 0 | AS21: =AM21/2 -> 4536 | AT21: =SUM($AM21:AM21)+AN21/2 -> 10584 | AU21: =SUM($AM21:AN21)+AO21/2 -> 12096 | AV21: =SUM($AM21:AO21)+AP21/2 -> 12096 | AW21: =SUM($AM21:AP21)+AQ21/2 -> 12096 | AX21: =SUM($AM21:AQ21)+AR21/2 -> 12096 | AZ21: 0 | BA21: 0 | BB21: 0 | BC21: 0 | BD21: 0 | BE21: 0
A22: 19 | B22: Industrial | C22: 2026 | D22: 4000 | E22: 80 | F22: =AS22 -> 10080 | G22: =AT22 -> 23520 | H22: =AU22 -> 26880 | I22: =AV22 -> 26880 | J22: =AW22 -> 26880 | K22: =AX22 -> 26880 | L22: Committed (Deffered by Customer) | N22: Committed | O22: Large Use | P22: Large Use | Q22: Existing | S22: Veridian | T22: 4000 | U22: 0 | V22: 0 | W22: 0 | X22: 0 | Y22: 0 | Z22: =T22*$E22/100 -> 3200 | AA22: =U22*$E22/100 -> 0 | AB22: =V22*$E22/100 -> 0 | AC22: =W22*$E22/100 -> 0 | AD22: =X22*$E22/100 -> 0 | AE22: =Y22*$E22/100 -> 0 | AF22: =Z22*70%*12 -> 26880 | AG22: =AA22*70%*12 -> 0 | AH22: =AB22*70%*12 -> 0 | AI22: =AC22*70%*12 -> 0 | AJ22: =AD22*70%*12 -> 0 | AK22: =AE22*70%*12 -> 0 | AL22: 0 | AM22: =IF($AL22=1,AF22,AF22*0.75) -> 20160 | AN22: =IF($AL22=1,AG22,AF22*(1-0.75)+AG22*0.75) -> 6720 | AO22: =IF($AL22=1,AH22,AG22*(1-0.75)+AH22*0.75) -> 0 | AP22: =IF($AL22=1,AI22,AH22*(1-0.75)+AI22*0.75) -> 0 | AQ22: =IF($AL22=1,AJ22,AI22*(1-0.75)+AJ22*0.75) -> 0 | AR22: =IF($AL22=1,AK22,AJ22*(1-0.75)+AK22*0.75) -> 0 | AS22: =AM22/2 -> 10080 | AT22: =SUM($AM22:AM22)+AN22/2 -> 23520 | AU22: =SUM($AM22:AN22)+AO22/2 -> 26880 | AV22: =SUM($AM22:AO22)+AP22/2 -> 26880 | AW22: =SUM($AM22:AP22)+AQ22/2 -> 26880 | AX22: =SUM($AM22:AQ22)+AR22/2 -> 26880 | AZ22: 0 | BA22: 0 | BB22: 0 | BC22: 0 | BD22: 0 | BE22: 0
A23: 20 | B23: Industrial | C23: 2025 | D23: 2200 | E23: 100 | F23: =AS23 -> 5040 | G23: =AT23 -> 11760 | H23: =AU23 -> 15120 | I23: =AV23 -> 17640 | J23: =AW23 -> 18480 | K23: =AX23 -> 18480 | L23: Contracted (Energized) | N23: Committed | O23: GS 50 to 2,999 | P23: GS 3,000 to 4,999 | Q23: Existing | S23: Veridian | T23: 1200 | U23: 400 | V23: 400 | W23: 200 | X23: 0 | Y23: 0 | Z23: =T23*$E23/100 -> 1200 | AA23: =U23*$E23/100 -> 400 | AB23: =V23*$E23/100 -> 400 | AC23: =W23*$E23/100 -> 200 | AD23: =X23*$E23/100 -> 0 | AE23: =Y23*$E23/100 -> 0 | AF23: =Z23*70%*12 -> 10080 | AG23: =AA23*70%*12 -> 3360 | AH23: =AB23*70%*12 -> 3360 | AI23: =AC23*70%*12 -> 1680 | AJ23: =AD23*70%*12 -> 0 | AK23: =AE23*70%*12 -> 0 | AL23: 1 | AM23: =IF($AL23=1,AF23,AF23*0.75) -> 10080 | AN23: =IF($AL23=1,AG23,AF23*(1-0.75)+AG23*0.75) -> 3360 | AO23: =IF($AL23=1,AH23,AG23*(1-0.75)+AH23*0.75) -> 3360 | AP23: =IF($AL23=1,AI23,AH23*(1-0.75)+AI23*0.75) -> 1680 | AQ23: =IF($AL23=1,AJ23,AI23*(1-0.75)+AJ23*0.75) -> 0 | AR23: =IF($AL23=1,AK23,AJ23*(1-0.75)+AK23*0.75) -> 0 | AS23: =AM23/2 -> 5040 | AT23: =SUM($AM23:AM23)+AN23/2 -> 11760 | AU23: =SUM($AM23:AN23)+AO23/2 -> 15120 | AV23: =SUM($AM23:AO23)+AP23/2 -> 17640 | AW23: =SUM($AM23:AP23)+AQ23/2 -> 18480 | AX23: =SUM($AM23:AQ23)+AR23/2 -> 18480 | AZ23: 0 | BA23: 0 | BB23: 0 | BC23: 0 | BD23: 0 | BE23: 0
A24: 21 | B24: Commercial | C24: 2025 | D24: 2500 | E24: 100 | F24: =AS24 -> 6750 | G24: =AT24 -> 13500 | H24: =AU24 -> 13500 | I24: =AV24 -> 13500 | J24: =AW24 -> 13500 | K24: =AX24 -> 13500 | L24: Contracted (Energized) | N24: Committed | O24: GS 50 to 2,999 | P24: GS 3,000 to 4,999 | Q24: Existing | S24: Veridian | T24: 1607.1429 | U24: 0 | V24: 0 | W24: 0 | X24: 0 | Y24: 0 | Z24: =T24*$E24/100 -> 1607.1429 | AA24: =U24*$E24/100 -> 0 | AB24: =V24*$E24/100 -> 0 | AC24: =W24*$E24/100 -> 0 | AD24: =X24*$E24/100 -> 0 | AE24: =Y24*$E24/100 -> 0 | AF24: =Z24*70%*12 -> 13500 | AG24: =AA24*70%*12 -> 0 | AH24: =AB24*70%*12 -> 0 | AI24: =AC24*70%*12 -> 0 | AJ24: =AD24*70%*12 -> 0 | AK24: =AE24*70%*12 -> 0 | AL24: 1 | AM24: =IF($AL24=1,AF24,AF24*0.75) -> 13500 | AN24: =IF($AL24=1,AG24,AF24*(1-0.75)+AG24*0.75) -> 0 | AO24: =IF($AL24=1,AH24,AG24*(1-0.75)+AH24*0.75) -> 0 | AP24: =IF($AL24=1,AI24,AH24*(1-0.75)+AI24*0.75) -> 0 | AQ24: =IF($AL24=1,AJ24,AI24*(1-0.75)+AJ24*0.75) -> 0 | AR24: =IF($AL24=1,AK24,AJ24*(1-0.75)+AK24*0.75) -> 0 | AS24: =AM24/2 -> 6750 | AT24: =SUM($AM24:AM24)+AN24/2 -> 13500 | AU24: =SUM($AM24:AN24)+AO24/2 -> 13500 | AV24: =SUM($AM24:AO24)+AP24/2 -> 13500 | AW24: =SUM($AM24:AP24)+AQ24/2 -> 13500 | AX24: =SUM($AM24:AQ24)+AR24/2 -> 13500 | AZ24: 0 | BA24: 0 | BB24: 0 | BC24: 0 | BD24: 0 | BE24: 0
A25: 22 | B25: High Rise Residential | C25: 2027 | D25: 1350 | E25: 80 | F25: =AS25 -> 0 | G25: =AT25 -> 3402 | H25: =AU25 -> 7938 | I25: =AV25 -> 9072 | J25: =AW25 -> 9072 | K25: =AX25 -> 9072 | L25: Committed (Desposit Received) | N25: Committed | P25: GS 50 to 2,999 | Q25: New | S25: Veridian | T25: 0 | U25: 1350 | V25: 0 | W25: 0 | X25: 0 | Y25: 0 | Z25: =T25*$E25/100 -> 0 | AA25: =U25*$E25/100 -> 1080 | AB25: =V25*$E25/100 -> 0 | AC25: =W25*$E25/100 -> 0 | AD25: =X25*$E25/100 -> 0 | AE25: =Y25*$E25/100 -> 0 | AF25: =Z25*70%*12 -> 0 | AG25: =AA25*70%*12 -> 9072 | AH25: =AB25*70%*12 -> 0 | AI25: =AC25*70%*12 -> 0 | AJ25: =AD25*70%*12 -> 0 | AK25: =AE25*70%*12 -> 0 | AL25: 0 | AM25: =IF($AL25=1,AF25,AF25*0.75) -> 0 | AN25: =IF($AL25=1,AG25,AF25*(1-0.75)+AG25*0.75) -> 6804 | AO25: =IF($AL25=1,AH25,AG25*(1-0.75)+AH25*0.75) -> 2268 | AP25: =IF($AL25=1,AI25,AH25*(1-0.75)+AI25*0.75) -> 0 | AQ25: =IF($AL25=1,AJ25,AI25*(1-0.75)+AJ25*0.75) -> 0 | AR25: =IF($AL25=1,AK25,AJ25*(1-0.75)+AK25*0.75) -> 0 | AS25: =AM25/2 -> 0 | AT25: =SUM($AM25:AM25)+AN25/2 -> 3402 | AU25: =SUM($AM25:AN25)+AO25/2 -> 7938 | AV25: =SUM($AM25:AO25)+AP25/2 -> 9072 | AW25: =SUM($AM25:AP25)+AQ25/2 -> 9072 | AX25: =SUM($AM25:AQ25)+AR25/2 -> 9072 | AZ25: -3402 | BA25: -4536 | BB25: -1134 | BC25: 0 | BD25: 0 | BE25: 0 | BF25: Project Delayed
A26: 23 | B26: Commercial | C26: 2026 | D26: 1500 | E26: 80 | F26: =AS26 -> 3780 | G26: =AT26 -> 8820 | H26: =AU26 -> 10080 | I26: =AV26 -> 10080 | J26: =AW26 -> 10080 | K26: =AX26 -> 10080 | L26: Committed (OTC in Progress) | N26: Committed | P26: GS 50 to 2,999 | Q26: New | S26: Veridian | T26: 1500 | U26: 0 | V26: 0 | W26: 0 | X26: 0 | Y26: 0 | Z26: =T26*$E26/100 -> 1200 | AA26: =U26*$E26/100 -> 0 | AB26: =V26*$E26/100 -> 0 | AC26: =W26*$E26/100 -> 0 | AD26: =X26*$E26/100 -> 0 | AE26: =Y26*$E26/100 -> 0 | AF26: =Z26*70%*12 -> 10080 | AG26: =AA26*70%*12 -> 0 | AH26: =AB26*70%*12 -> 0 | AI26: =AC26*70%*12 -> 0 | AJ26: =AD26*70%*12 -> 0 | AK26: =AE26*70%*12 -> 0 | AL26: 0 | AM26: =IF($AL26=1,AF26,AF26*0.75) -> 7560 | AN26: =IF($AL26=1,AG26,AF26*(1-0.75)+AG26*0.75) -> 2520 | AO26: =IF($AL26=1,AH26,AG26*(1-0.75)+AH26*0.75) -> 0 | AP26: =IF($AL26=1,AI26,AH26*(1-0.75)+AI26*0.75) -> 0 | AQ26: =IF($AL26=1,AJ26,AI26*(1-0.75)+AJ26*0.75) -> 0 | AR26: =IF($AL26=1,AK26,AJ26*(1-0.75)+AK26*0.75) -> 0 | AS26: =AM26/2 -> 3780 | AT26: =SUM($AM26:AM26)+AN26/2 -> 8820 | AU26: =SUM($AM26:AN26)+AO26/2 -> 10080 | AV26: =SUM($AM26:AO26)+AP26/2 -> 10080 | AW26: =SUM($AM26:AP26)+AQ26/2 -> 10080 | AX26: =SUM($AM26:AQ26)+AR26/2 -> 10080 | AZ26: 0 | BA26: 0 | BB26: 0 | BC26: 0 | BD26: 0 | BE26: 0
A27: 24 | B27: Industrial | C27: 2028 | D27: 40000 | E27: 50 | F27: =AS27 -> 0 | G27: =AT27 -> 0 | H27: =AU27 -> 39375 | I27: =AV27 -> 115500 | J27: =AW27 -> 160125 | K27: =AX27 -> 168000 | L27: Committed (Mou Signed and Design Desposit Received) | N27: Committed | P27: Large Use | Q27: New | S27: Veridian | T27: 0 | U27: 0 | V27: 25000 | W27: 15000 | X27: 0 | Y27: 0 | Z27: =T27*$E27/100 -> 0 | AA27: =U27*$E27/100 -> 0 | AB27: =V27*$E27/100 -> 12500 | AC27: =W27*$E27/100 -> 7500 | AD27: =X27*$E27/100 -> 0 | AE27: =Y27*$E27/100 -> 0 | AF27: =Z27*70%*12 -> 0 | AG27: =AA27*70%*12 -> 0 | AH27: =AB27*70%*12 -> 105000 | AI27: =AC27*70%*12 -> 63000 | AJ27: =AD27*70%*12 -> 0 | AK27: =AE27*70%*12 -> 0 | AL27: 0 | AM27: =IF($AL27=1,AF27,AF27*0.75) -> 0 | AN27: =IF($AL27=1,AG27,AF27*(1-0.75)+AG27*0.75) -> 0 | AO27: =IF($AL27=1,AH27,AG27*(1-0.75)+AH27*0.75) -> 78750 | AP27: =IF($AL27=1,AI27,AH27*(1-0.75)+AI27*0.75) -> 73500 | AQ27: =IF($AL27=1,AJ27,AI27*(1-0.75)+AJ27*0.75) -> 15750 | AR27: =IF($AL27=1,AK27,AJ27*(1-0.75)+AK27*0.75) -> 0 | AS27: =AM27/2 -> 0 | AT27: =SUM($AM27:AM27)+AN27/2 -> 0 | AU27: =SUM($AM27:AN27)+AO27/2 -> 39375 | AV27: =SUM($AM27:AO27)+AP27/2 -> 115500 | AW27: =SUM($AM27:AP27)+AQ27/2 -> 160125 | AX27: =SUM($AM27:AQ27)+AR27/2 -> 168000 | AZ27: 0 | BA27: -39375 | BB27: -76125 | BC27: -44625 | BD27: -7875 | BE27: 0 | BF27: Project Delayed
A28: 25 | B28: Commercial | C28: 2026 | D28: 1700 | E28: 80 | F28: =AS28 -> 4284 | G28: =AT28 -> 9996 | H28: =AU28 -> 11424 | I28: =AV28 -> 11424 | J28: =AW28 -> 11424 | K28: =AX28 -> 11424 | L28: Committed (OTC in Progress) | N28: Committed | P28: GS 50 to 2,999 | Q28: New | S28: Veridian | T28: 1700 | U28: 0 | V28: 0 | W28: 0 | X28: 0 | Y28: 0 | Z28: =T28*$E28/100 -> 1360 | AA28: =U28*$E28/100 -> 0 | AB28: =V28*$E28/100 -> 0 | AC28: =W28*$E28/100 -> 0 | AD28: =X28*$E28/100 -> 0 | AE28: =Y28*$E28/100 -> 0 | AF28: =Z28*70%*12 -> 11424 | AG28: =AA28*70%*12 -> 0 | AH28: =AB28*70%*12 -> 0 | AI28: =AC28*70%*12 -> 0 | AJ28: =AD28*70%*12 -> 0 | AK28: =AE28*70%*12 -> 0 | AL28: 0 | AM28: =IF($AL28=1,AF28,AF28*0.75) -> 8568 | AN28: =IF($AL28=1,AG28,AF28*(1-0.75)+AG28*0.75) -> 2856 | AO28: =IF($AL28=1,AH28,AG28*(1-0.75)+AH28*0.75) -> 0 | AP28: =IF($AL28=1,AI28,AH28*(1-0.75)+AI28*0.75) -> 0 | AQ28: =IF($AL28=1,AJ28,AI28*(1-0.75)+AJ28*0.75) -> 0 | AR28: =IF($AL28=1,AK28,AJ28*(1-0.75)+AK28*0.75) -> 0 | AS28: =AM28/2 -> 4284 | AT28: =SUM($AM28:AM28)+AN28/2 -> 9996 | AU28: =SUM($AM28:AN28)+AO28/2 -> 11424 | AV28: =SUM($AM28:AO28)+AP28/2 -> 11424 | AW28: =SUM($AM28:AP28)+AQ28/2 -> 11424 | AX28: =SUM($AM28:AQ28)+AR28/2 -> 11424 | AZ28: 0 | BA28: 0 | BB28: 0 | BC28: 0 | BD28: 0 | BE28: 0
A29: 26 | B29: High Rise Residential | C29: 2026 | D29: 1050 | E29: 80 | F29: =AS29 -> 2646 | G29: =AT29 -> 6174 | H29: =AU29 -> 7056 | I29: =AV29 -> 7056 | J29: =AW29 -> 7056 | K29: =AX29 -> 7056 | L29: Committed (Desposit Received) | N29: Committed | P29: GS 50 to 2,999 | Q29: New | S29: Veridian | T29: 1050 | U29: 0 | V29: 0 | W29: 0 | X29: 0 | Y29: 0 | Z29: =T29*$E29/100 -> 840 | AA29: =U29*$E29/100 -> 0 | AB29: =V29*$E29/100 -> 0 | AC29: =W29*$E29/100 -> 0 | AD29: =X29*$E29/100 -> 0 | AE29: =Y29*$E29/100 -> 0 | AF29: =Z29*70%*12 -> 7056 | AG29: =AA29*70%*12 -> 0 | AH29: =AB29*70%*12 -> 0 | AI29: =AC29*70%*12 -> 0 | AJ29: =AD29*70%*12 -> 0 | AK29: =AE29*70%*12 -> 0 | AL29: 0 | AM29: =IF($AL29=1,AF29,AF29*0.75) -> 5292 | AN29: =IF($AL29=1,AG29,AF29*(1-0.75)+AG29*0.75) -> 1764 | AO29: =IF($AL29=1,AH29,AG29*(1-0.75)+AH29*0.75) -> 0 | AP29: =IF($AL29=1,AI29,AH29*(1-0.75)+AI29*0.75) -> 0 | AQ29: =IF($AL29=1,AJ29,AI29*(1-0.75)+AJ29*0.75) -> 0 | AR29: =IF($AL29=1,AK29,AJ29*(1-0.75)+AK29*0.75) -> 0 | AS29: =AM29/2 -> 2646 | AT29: =SUM($AM29:AM29)+AN29/2 -> 6174 | AU29: =SUM($AM29:AN29)+AO29/2 -> 7056 | AV29: =SUM($AM29:AO29)+AP29/2 -> 7056 | AW29: =SUM($AM29:AP29)+AQ29/2 -> 7056 | AX29: =SUM($AM29:AQ29)+AR29/2 -> 7056 | AZ29: 0 | BA29: 0 | BB29: 0 | BC29: 0 | BD29: 0 | BE29: 0
A30: 27 | B30: Commercial | C30: 2026 | D30: 3830 | E30: 100 | F30: =AS30 -> 3213 | G30: =AT30 -> 9651.6 | H30: =AU30 -> 17161.2 | I30: =AV30 -> 26808.6 | J30: =AW30 -> 32172 | K30: =AX30 -> 32172 | L30: Contracted (Energized) | N30: Committed | P30: GS 3,000 to 4,999 | Q30: New | R30: New in 2025 | S30: Whitby | T30: 765 | U30: 768 | V30: 1020 | W30: 1277 | X30: 0 | Y30: 0 | Z30: =T30*$E30/100 -> 765 | AA30: =U30*$E30/100 -> 768 | AB30: =V30*$E30/100 -> 1020 | AC30: =W30*$E30/100 -> 1277 | AD30: =X30*$E30/100 -> 0 | AE30: =Y30*$E30/100 -> 0 | AF30: =Z30*70%*12 -> 6426 | AG30: =AA30*70%*12 -> 6451.2 | AH30: =AB30*70%*12 -> 8568 | AI30: =AC30*70%*12 -> 10726.8 | AJ30: =AD30*70%*12 -> 0 | AK30: =AE30*70%*12 -> 0 | AL30: 1 | AM30: =IF($AL30=1,AF30,AF30*0.75) -> 6426 | AN30: =IF($AL30=1,AG30,AF30*(1-0.75)+AG30*0.75) -> 6451.2 | AO30: =IF($AL30=1,AH30,AG30*(1-0.75)+AH30*0.75) -> 8568 | AP30: =IF($AL30=1,AI30,AH30*(1-0.75)+AI30*0.75) -> 10726.8 | AQ30: =IF($AL30=1,AJ30,AI30*(1-0.75)+AJ30*0.75) -> 0 | AR30: =IF($AL30=1,AK30,AJ30*(1-0.75)+AK30*0.75) -> 0 | AS30: =AM30/2 -> 3213 | AT30: =SUM($AM30:AM30)+AN30/2 -> 9651.6 | AU30: =SUM($AM30:AN30)+AO30/2 -> 17161.2 | AV30: =SUM($AM30:AO30)+AP30/2 -> 26808.6 | AW30: =SUM($AM30:AP30)+AQ30/2 -> 32172 | AX30: =SUM($AM30:AQ30)+AR30/2 -> 32172 | AZ30: 0 | BA30: 0 | BB30: 0 | BC30: 0 | BD30: 0 | BE30: 0
A31: 28 | B31: Commercial | C31: 2026 | D31: 780 | E31: 80 | F31: =AS31 -> 1965.6 | G31: =AT31 -> 4586.4 | H31: =AU31 -> 5241.6 | I31: =AV31 -> 5241.6 | J31: =AW31 -> 5241.6 | K31: =AX31 -> 5241.6 | L31: Committed (Desposit Received) | N31: Committed | O31: GS 50 to 2,999 | P31: GS 50 to 2,999 | Q31: Existing | S31: Whitby | T31: 780 | U31: 0 | V31: 0 | W31: 0 | X31: 0 | Y31: 0 | Z31: =T31*$E31/100 -> 624 | AA31: =U31*$E31/100 -> 0 | AB31: =V31*$E31/100 -> 0 | AC31: =W31*$E31/100 -> 0 | AD31: =X31*$E31/100 -> 0 | AE31: =Y31*$E31/100 -> 0 | AF31: =Z31*70%*12 -> 5241.6 | AG31: =AA31*70%*12 -> 0 | AH31: =AB31*70%*12 -> 0 | AI31: =AC31*70%*12 -> 0 | AJ31: =AD31*70%*12 -> 0 | AK31: =AE31*70%*12 -> 0 | AL31: 0 | AM31: =IF($AL31=1,AF31,AF31*0.75) -> 3931.2 | AN31: =IF($AL31=1,AG31,AF31*(1-0.75)+AG31*0.75) -> 1310.4 | AO31: =IF($AL31=1,AH31,AG31*(1-0.75)+AH31*0.75) -> 0 | AP31: =IF($AL31=1,AI31,AH31*(1-0.75)+AI31*0.75) -> 0 | AQ31: =IF($AL31=1,AJ31,AI31*(1-0.75)+AJ31*0.75) -> 0 | AR31: =IF($AL31=1,AK31,AJ31*(1-0.75)+AK31*0.75) -> 0 | AS31: =AM31/2 -> 1965.6 | AT31: =SUM($AM31:AM31)+AN31/2 -> 4586.4 | AU31: =SUM($AM31:AN31)+AO31/2 -> 5241.6 | AV31: =SUM($AM31:AO31)+AP31/2 -> 5241.6 | AW31: =SUM($AM31:AP31)+AQ31/2 -> 5241.6 | AX31: =SUM($AM31:AQ31)+AR31/2 -> 5241.6 | AZ31: 0 | BA31: 0 | BB31: 0 | BC31: 0 | BD31: 0 | BE31: 0
A32: 29 | B32: Residential Condo | C32: 2027 | D32: 392 | E32: 80 | F32: =AS32 -> 0 | G32: =AT32 -> 987.84 | H32: =AU32 -> 2304.96 | I32: =AV32 -> 2634.24 | J32: =AW32 -> 2634.24 | K32: =AX32 -> 2634.24 | L32: Committed (Desposit Received) | N32: Committed | P32: GS 50 to 2,999 | Q32: New | S32: Whitby | T32: 0 | U32: 392 | V32: 0 | W32: 0 | X32: 0 | Y32: 0 | Z32: =T32*$E32/100 -> 0 | AA32: =U32*$E32/100 -> 313.6 | AB32: =V32*$E32/100 -> 0 | AC32: =W32*$E32/100 -> 0 | AD32: =X32*$E32/100 -> 0 | AE32: =Y32*$E32/100 -> 0 | AF32: =Z32*70%*12 -> 0 | AG32: =AA32*70%*12 -> 2634.24 | AH32: =AB32*70%*12 -> 0 | AI32: =AC32*70%*12 -> 0 | AJ32: =AD32*70%*12 -> 0 | AK32: =AE32*70%*12 -> 0 | AL32: 0 | AM32: =IF($AL32=1,AF32,AF32*0.75) -> 0 | AN32: =IF($AL32=1,AG32,AF32*(1-0.75)+AG32*0.75) -> 1975.68 | AO32: =IF($AL32=1,AH32,AG32*(1-0.75)+AH32*0.75) -> 658.56 | AP32: =IF($AL32=1,AI32,AH32*(1-0.75)+AI32*0.75) -> 0 | AQ32: =IF($AL32=1,AJ32,AI32*(1-0.75)+AJ32*0.75) -> 0 | AR32: =IF($AL32=1,AK32,AJ32*(1-0.75)+AK32*0.75) -> 0 | AS32: =AM32/2 -> 0 | AT32: =SUM($AM32:AM32)+AN32/2 -> 987.84 | AU32: =SUM($AM32:AN32)+AO32/2 -> 2304.96 | AV32: =SUM($AM32:AO32)+AP32/2 -> 2634.24 | AW32: =SUM($AM32:AP32)+AQ32/2 -> 2634.24 | AX32: =SUM($AM32:AQ32)+AR32/2 -> 2634.24 | AZ32: -987.84 | BA32: -1317.12 | BB32: -329.28 | BC32: 0 | BD32: 0 | BE32: 0 | BF32: Project Delayed
A33: 30 | B33: Industrial | C33: 2025 | D33: 1881 | E33: 100 | F33: =AS33 -> 7678.2 | G33: =AT33 -> 15356.4 | H33: =AU33 -> 15356.4 | I33: =AV33 -> 15356.4 | J33: =AW33 -> 15356.4 | K33: =AX33 -> 15356.4 | L33: Contracted (Energized) | N33: Committed | O33: GS 50 to 2,999 | P33: GS 3,000 to 4,999 | Q33: Existing | S33: Whitby | T33: 1828.1429 | U33: 0 | V33: 0 | W33: 0 | X33: 0 | Y33: 0 | Z33: =T33*$E33/100 -> 1828.1429 | AA33: =U33*$E33/100 -> 0 | AB33: =V33*$E33/100 -> 0 | AC33: =W33*$E33/100 -> 0 | AD33: =X33*$E33/100 -> 0 | AE33: =Y33*$E33/100 -> 0 | AF33: =Z33*70%*12 -> 15356.4 | AG33: =AA33*70%*12 -> 0 | AH33: =AB33*70%*12 -> 0 | AI33: =AC33*70%*12 -> 0 | AJ33: =AD33*70%*12 -> 0 | AK33: =AE33*70%*12 -> 0 | AL33: 1 | AM33: =IF($AL33=1,AF33,AF33*0.75) -> 15356.4 | AN33: =IF($AL33=1,AG33,AF33*(1-0.75)+AG33*0.75) -> 0 | AO33: =IF($AL33=1,AH33,AG33*(1-0.75)+AH33*0.75) -> 0 | AP33: =IF($AL33=1,AI33,AH33*(1-0.75)+AI33*0.75) -> 0 | AQ33: =IF($AL33=1,AJ33,AI33*(1-0.75)+AJ33*0.75) -> 0 | AR33: =IF($AL33=1,AK33,AJ33*(1-0.75)+AK33*0.75) -> 0 | AS33: =AM33/2 -> 7678.2 | AT33: =SUM($AM33:AM33)+AN33/2 -> 15356.4 | AU33: =SUM($AM33:AN33)+AO33/2 -> 15356.4 | AV33: =SUM($AM33:AO33)+AP33/2 -> 15356.4 | AW33: =SUM($AM33:AP33)+AQ33/2 -> 15356.4 | AX33: =SUM($AM33:AQ33)+AR33/2 -> 15356.4 | AZ33: 0 | BA33: 0 | BB33: 0 | BC33: 0 | BD33: 0 | BE33: 0
A34: 31 | B34: High Rise Residential | C34: 2027 | D34: 3000 | E34: 80 | F34: =AS34 -> 0 | G34: =AT34 -> 1512 | H34: =AU34 -> 3528 | I34: =AV34 -> 7056 | J34: =AW34 -> 14112 | K34: =AX34 -> 19152 | L34: Committed (OTC in Progress) | N34: Committed | P34: GS 50 to 2,999 | Q34: New | S34: Whitby | T34: 0 | U34: 600 | V34: 0 | W34: 1200 | X34: 1200 | Y34: 0 | Z34: =T34*$E34/100 -> 0 | AA34: =U34*$E34/100 -> 480 | AB34: =V34*$E34/100 -> 0 | AC34: =W34*$E34/100 -> 960 | AD34: =X34*$E34/100 -> 960 | AE34: =Y34*$E34/100 -> 0 | AF34: =Z34*70%*12 -> 0 | AG34: =AA34*70%*12 -> 4032 | AH34: =AB34*70%*12 -> 0 | AI34: =AC34*70%*12 -> 8064 | AJ34: =AD34*70%*12 -> 8064 | AK34: =AE34*70%*12 -> 0 | AL34: 0 | AM34: =IF($AL34=1,AF34,AF34*0.75) -> 0 | AN34: =IF($AL34=1,AG34,AF34*(1-0.75)+AG34*0.75) -> 3024 | AO34: =IF($AL34=1,AH34,AG34*(1-0.75)+AH34*0.75) -> 1008 | AP34: =IF($AL34=1,AI34,AH34*(1-0.75)+AI34*0.75) -> 6048 | AQ34: =IF($AL34=1,AJ34,AI34*(1-0.75)+AJ34*0.75) -> 8064 | AR34: =IF($AL34=1,AK34,AJ34*(1-0.75)+AK34*0.75) -> 2016 | AS34: =AM34/2 -> 0 | AT34: =SUM($AM34:AM34)+AN34/2 -> 1512 | AU34: =SUM($AM34:AN34)+AO34/2 -> 3528 | AV34: =SUM($AM34:AO34)+AP34/2 -> 7056 | AW34: =SUM($AM34:AP34)+AQ34/2 -> 14112 | AX34: =SUM($AM34:AQ34)+AR34/2 -> 19152 | AZ34: 0 | BA34: 0 | BB34: 0 | BC34: 0 | BD34: 0 | BE34: 0
A35: 32 | B35: Industrial | C35: 2025 | D35: 2435 | E35: 100 | F35: =AS35 -> 757.2 | G35: =AT35 -> 5743.8 | H35: =AU35 -> 11972.4 | I35: =AV35 -> 15970.8 | J35: =AW35 -> 17970 | K35: =AX35 -> 17970 | L35: Contracted (OTC Signed) | N35: Committed | P35: GS 50 to 2,999 | Q35: New | R35: New in 2025 | S35: Whitby | T35: 180.28571 | U35: 1007 | V35: 476 | W35: 476 | X35: 0 | Y35: 0 | Z35: =T35*$E35/100 -> 180.28571 | AA35: =U35*$E35/100 -> 1007 | AB35: =V35*$E35/100 -> 476 | AC35: =W35*$E35/100 -> 476 | AD35: =X35*$E35/100 -> 0 | AE35: =Y35*$E35/100 -> 0 | AF35: =Z35*70%*12 -> 1514.4 | AG35: =AA35*70%*12 -> 8458.8 | AH35: =AB35*70%*12 -> 3998.4 | AI35: =AC35*70%*12 -> 3998.4 | AJ35: =AD35*70%*12 -> 0 | AK35: =AE35*70%*12 -> 0 | AL35: 1 | AM35: =IF($AL35=1,AF35,AF35*0.75) -> 1514.4 | AN35: =IF($AL35=1,AG35,AF35*(1-0.75)+AG35*0.75) -> 8458.8 | AO35: =IF($AL35=1,AH35,AG35*(1-0.75)+AH35*0.75) -> 3998.4 | AP35: =IF($AL35=1,AI35,AH35*(1-0.75)+AI35*0.75) -> 3998.4 | AQ35: =IF($AL35=1,AJ35,AI35*(1-0.75)+AJ35*0.75) -> 0 | AR35: =IF($AL35=1,AK35,AJ35*(1-0.75)+AK35*0.75) -> 0 | AS35: =AM35/2 -> 757.2 | AT35: =SUM($AM35:AM35)+AN35/2 -> 5743.8 | AU35: =SUM($AM35:AN35)+AO35/2 -> 11972.4 | AV35: =SUM($AM35:AO35)+AP35/2 -> 15970.8 | AW35: =SUM($AM35:AP35)+AQ35/2 -> 17970 | AX35: =SUM($AM35:AQ35)+AR35/2 -> 17970 | AZ35: -1491.9 | BA35: -2452.5 | BB35: -2404.2 | BC35: -2887.2 | BD35: -3387 | BE35: -3886.8 | BF35: Connected in 2025, anticipated loads reduced
A36: 33 | B36: Industrial | C36: 2026 | D36: 1610 | E36: 50 | F36: =AS36 -> 504 | G36: =AT36 -> 3207.75 | H36: =AU36 -> 6084.75 | I36: =AV36 -> 6762 | J36: =AW36 -> 6762 | K36: =AX36 -> 6762 | L36: Speculative (Application Received) | N36: Non-Committed | P36: GS 50 to 2,999 | Q36: New | S36: Whitby | T36: 320 | U36: 1290 | V36: 0 | W36: 0 | X36: 0 | Y36: 0 | Z36: =T36*$E36/100 -> 160 | AA36: =U36*$E36/100 -> 645 | AB36: =V36*$E36/100 -> 0 | AC36: =W36*$E36/100 -> 0 | AD36: =X36*$E36/100 -> 0 | AE36: =Y36*$E36/100 -> 0 | AF36: =Z36*70%*12 -> 1344 | AG36: =AA36*70%*12 -> 5418 | AH36: =AB36*70%*12 -> 0 | AI36: =AC36*70%*12 -> 0 | AJ36: =AD36*70%*12 -> 0 | AK36: =AE36*70%*12 -> 0 | AL36: 0 | AM36: =IF($AL36=1,AF36,AF36*0.75) -> 1008 | AN36: =IF($AL36=1,AG36,AF36*(1-0.75)+AG36*0.75) -> 4399.5 | AO36: =IF($AL36=1,AH36,AG36*(1-0.75)+AH36*0.75) -> 1354.5 | AP36: =IF($AL36=1,AI36,AH36*(1-0.75)+AI36*0.75) -> 0 | AQ36: =IF($AL36=1,AJ36,AI36*(1-0.75)+AJ36*0.75) -> 0 | AR36: =IF($AL36=1,AK36,AJ36*(1-0.75)+AK36*0.75) -> 0 | AS36: =AM36/2 -> 504 | AT36: =SUM($AM36:AM36)+AN36/2 -> 3207.75 | AU36: =SUM($AM36:AN36)+AO36/2 -> 6084.75 | AV36: =SUM($AM36:AO36)+AP36/2 -> 6762 | AW36: =SUM($AM36:AP36)+AQ36/2 -> 6762 | AX36: =SUM($AM36:AQ36)+AR36/2 -> 6762 | AZ36: 0 | BA36: 0 | BB36: 0 | BC36: 0 | BD36: 0 | BE36: 0
A37: 34 | B37: High Rise Residential | C37: 2027 | D37: 1139 | E37: 50 | F37: =AS37 -> 0 | G37: =AT37 -> 756 | H37: =AU37 -> 2047.5 | I37: =AV37 -> 3431.925 | J37: =AW37 -> 4532.325 | K37: =AX37 -> 4783.8 | L37: Speculative (Application Received) | N37: Non-Committed | P37: GS 50 to 2,999 | Q37: New | S37: Whitby | T37: 0 | U37: 480 | V37: 180 | W37: 479 | X37: 0 | Y37: 0 | Z37: =T37*$E37/100 -> 0 | AA37: =U37*$E37/100 -> 240 | AB37: =V37*$E37/100 -> 90 | AC37: =W37*$E37/100 -> 239.5 | AD37: =X37*$E37/100 -> 0 | AE37: =Y37*$E37/100 -> 0 | AF37: =Z37*70%*12 -> 0 | AG37: =AA37*70%*12 -> 2016 | AH37: =AB37*70%*12 -> 756 | AI37: =AC37*70%*12 -> 2011.8 | AJ37: =AD37*70%*12 -> 0 | AK37: =AE37*70%*12 -> 0 | AL37: 0 | AM37: =IF($AL37=1,AF37,AF37*0.75) -> 0 | AN37: =IF($AL37=1,AG37,AF37*(1-0.75)+AG37*0.75) -> 1512 | AO37: =IF($AL37=1,AH37,AG37*(1-0.75)+AH37*0.75) -> 1071 | AP37: =IF($AL37=1,AI37,AH37*(1-0.75)+AI37*0.75) -> 1697.85 | AQ37: =IF($AL37=1,AJ37,AI37*(1-0.75)+AJ37*0.75) -> 502.95 | AR37: =IF($AL37=1,AK37,AJ37*(1-0.75)+AK37*0.75) -> 0 | AS37: =AM37/2 -> 0 | AT37: =SUM($AM37:AM37)+AN37/2 -> 756 | AU37: =SUM($AM37:AN37)+AO37/2 -> 2047.5 | AV37: =SUM($AM37:AO37)+AP37/2 -> 3431.925 | AW37: =SUM($AM37:AP37)+AQ37/2 -> 4532.325 | AX37: =SUM($AM37:AQ37)+AR37/2 -> 4783.8 | AZ37: 0 | BA37: 0 | BB37: 0 | BC37: 0 | BD37: 0 | BE37: 0
A38: 35 | B38: High Rise Residential | C38: 2027 | D38: 2038 | E38: 50 | F38: =AS38 -> 0 | G38: =AT38 -> 756 | H38: =AU38 -> 3087 | I38: =AV38 -> 5668.425 | J38: =AW38 -> 7428.75 | K38: =AX38 -> 8371.125 | L38: Speculative (Application Received) | N38: Non-Committed | P38: GS 50 to 2,999 | Q38: New | S38: Whitby | T38: 0 | U38: 480 | V38: 840 | W38: 359 | X38: 359 | Y38: 0 | Z38: =T38*$E38/100 -> 0 | AA38: =U38*$E38/100 -> 240 | AB38: =V38*$E38/100 -> 420 | AC38: =W38*$E38/100 -> 179.5 | AD38: =X38*$E38/100 -> 179.5 | AE38: =Y38*$E38/100 -> 0 | AF38: =Z38*70%*12 -> 0 | AG38: =AA38*70%*12 -> 2016 | AH38: =AB38*70%*12 -> 3528 | AI38: =AC38*70%*12 -> 1507.8 | AJ38: =AD38*70%*12 -> 1507.8 | AK38: =AE38*70%*12 -> 0 | AL38: 0 | AM38: =IF($AL38=1,AF38,AF38*0.75) -> 0 | AN38: =IF($AL38=1,AG38,AF38*(1-0.75)+AG38*0.75) -> 1512 | AO38: =IF($AL38=1,AH38,AG38*(1-0.75)+AH38*0.75) -> 3150 | AP38: =IF($AL38=1,AI38,AH38*(1-0.75)+AI38*0.75) -> 2012.85 | AQ38: =IF($AL38=1,AJ38,AI38*(1-0.75)+AJ38*0.75) -> 1507.8 | AR38: =IF($AL38=1,AK38,AJ38*(1-0.75)+AK38*0.75) -> 376.95 | AS38: =AM38/2 -> 0 | AT38: =SUM($AM38:AM38)+AN38/2 -> 756 | AU38: =SUM($AM38:AN38)+AO38/2 -> 3087 | AV38: =SUM($AM38:AO38)+AP38/2 -> 5668.425 | AW38: =SUM($AM38:AP38)+AQ38/2 -> 7428.75 | AX38: =SUM($AM38:AQ38)+AR38/2 -> 8371.125 | AZ38: 0 | BA38: 0 | BB38: 0 | BC38: 0 | BD38: 0 | BE38: 0
A39: 36 | B39: Mixed Use Residential | C39: 2026 | D39: 1125 | E39: 80 | F39: =AS39 -> 2835 | G39: =AT39 -> 6615 | H39: =AU39 -> 7560 | I39: =AV39 -> 7560 | J39: =AW39 -> 7560 | K39: =AX39 -> 7560 | L39: Committed (OTC in Progress) | N39: Committed | P39: GS 50 to 2,999 | Q39: New | S39: Whitby | T39: 1125 | U39: 0 | V39: 0 | W39: 0 | X39: 0 | Y39: 0 | Z39: =T39*$E39/100 -> 900 | AA39: =U39*$E39/100 -> 0 | AB39: =V39*$E39/100 -> 0 | AC39: =W39*$E39/100 -> 0 | AD39: =X39*$E39/100 -> 0 | AE39: =Y39*$E39/100 -> 0 | AF39: =Z39*70%*12 -> 7560 | AG39: =AA39*70%*12 -> 0 | AH39: =AB39*70%*12 -> 0 | AI39: =AC39*70%*12 -> 0 | AJ39: =AD39*70%*12 -> 0 | AK39: =AE39*70%*12 -> 0 | AL39: 0 | AM39: =IF($AL39=1,AF39,AF39*0.75) -> 5670 | AN39: =IF($AL39=1,AG39,AF39*(1-0.75)+AG39*0.75) -> 1890 | AO39: =IF($AL39=1,AH39,AG39*(1-0.75)+AH39*0.75) -> 0 | AP39: =IF($AL39=1,AI39,AH39*(1-0.75)+AI39*0.75) -> 0 | AQ39: =IF($AL39=1,AJ39,AI39*(1-0.75)+AJ39*0.75) -> 0 | AR39: =IF($AL39=1,AK39,AJ39*(1-0.75)+AK39*0.75) -> 0 | AS39: =AM39/2 -> 2835 | AT39: =SUM($AM39:AM39)+AN39/2 -> 6615 | AU39: =SUM($AM39:AN39)+AO39/2 -> 7560 | AV39: =SUM($AM39:AO39)+AP39/2 -> 7560 | AW39: =SUM($AM39:AP39)+AQ39/2 -> 7560 | AX39: =SUM($AM39:AQ39)+AR39/2 -> 7560 | AZ39: 0 | BA39: 0 | BB39: 0 | BC39: 0 | BD39: 0 | BE39: 0
A40: 37 | B40: Commercial | C40: 2030 | D40: 1000 | E40: 50 | F40: =AS40 -> 0 | G40: =AT40 -> 0 | H40: =AU40 -> 0 | I40: =AV40 -> 0 | J40: =AW40 -> 787.5 | K40: =AX40 -> 2625 | L40: Contracted (OTC Signed) | N40: Committed | P40: GS 50 to 2,999 | Q40: New | S40: Whitby | T40: 0 | U40: 0 | V40: 0 | W40: 0 | X40: 500 | Y40: 500 | Z40: =T40*$E40/100 -> 0 | AA40: =U40*$E40/100 -> 0 | AB40: =V40*$E40/100 -> 0 | AC40: =W40*$E40/100 -> 0 | AD40: =X40*$E40/100 -> 250 | AE40: =Y40*$E40/100 -> 250 | AF40: =Z40*70%*12 -> 0 | AG40: =AA40*70%*12 -> 0 | AH40: =AB40*70%*12 -> 0 | AI40: =AC40*70%*12 -> 0 | AJ40: =AD40*70%*12 -> 2100 | AK40: =AE40*70%*12 -> 2100 | AL40: 0 | AM40: =IF($AL40=1,AF40,AF40*0.75) -> 0 | AN40: =IF($AL40=1,AG40,AF40*(1-0.75)+AG40*0.75) -> 0 | AO40: =IF($AL40=1,AH40,AG40*(1-0.75)+AH40*0.75) -> 0 | AP40: =IF($AL40=1,AI40,AH40*(1-0.75)+AI40*0.75) -> 0 | AQ40: =IF($AL40=1,AJ40,AI40*(1-0.75)+AJ40*0.75) -> 1575 | AR40: =IF($AL40=1,AK40,AJ40*(1-0.75)+AK40*0.75) -> 2100 | AS40: =AM40/2 -> 0 | AT40: =SUM($AM40:AM40)+AN40/2 -> 0 | AU40: =SUM($AM40:AN40)+AO40/2 -> 0 | AV40: =SUM($AM40:AO40)+AP40/2 -> 0 | AW40: =SUM($AM40:AP40)+AQ40/2 -> 787.5 | AX40: =SUM($AM40:AQ40)+AR40/2 -> 2625 | AZ40: 0 | BA40: 0 | BB40: 0 | BC40: 0 | BD40: 0 | BE40: 0
A41: 38 | B41: Commercial | C41: 2028 | D41: 1500 | E41: 80 | F41: =AS41 -> 0 | G41: =AT41 -> 0 | H41: =AU41 -> 1260 | I41: =AV41 -> 5460 | J41: =AW41 -> 9240 | K41: =AX41 -> 10080 | L41: Contracted (OTC Signed) | N41: Committed | P41: GS 50 to 2,999 | Q41: New | S41: Whitby | T41: 0 | U41: 0 | V41: 500 | W41: 1000 | X41: 0 | Y41: 0 | Z41: =T41*$E41/100 -> 0 | AA41: =U41*$E41/100 -> 0 | AB41: =V41*$E41/100 -> 400 | AC41: =W41*$E41/100 -> 800 | AD41: =X41*$E41/100 -> 0 | AE41: =Y41*$E41/100 -> 0 | AF41: =Z41*70%*12 -> 0 | AG41: =AA41*70%*12 -> 0 | AH41: =AB41*70%*12 -> 3360 | AI41: =AC41*70%*12 -> 6720 | AJ41: =AD41*70%*12 -> 0 | AK41: =AE41*70%*12 -> 0 | AL41: 0 | AM41: =IF($AL41=1,AF41,AF41*0.75) -> 0 | AN41: =IF($AL41=1,AG41,AF41*(1-0.75)+AG41*0.75) -> 0 | AO41: =IF($AL41=1,AH41,AG41*(1-0.75)+AH41*0.75) -> 2520 | AP41: =IF($AL41=1,AI41,AH41*(1-0.75)+AI41*0.75) -> 5880 | AQ41: =IF($AL41=1,AJ41,AI41*(1-0.75)+AJ41*0.75) -> 1680 | AR41: =IF($AL41=1,AK41,AJ41*(1-0.75)+AK41*0.75) -> 0 | AS41: =AM41/2 -> 0 | AT41: =SUM($AM41:AM41)+AN41/2 -> 0 | AU41: =SUM($AM41:AN41)+AO41/2 -> 1260 | AV41: =SUM($AM41:AO41)+AP41/2 -> 5460 | AW41: =SUM($AM41:AP41)+AQ41/2 -> 9240 | AX41: =SUM($AM41:AQ41)+AR41/2 -> 10080 | AZ41: 0 | BA41: 0 | BB41: 0 | BC41: 0 | BD41: 0 | BE41: 0
A42: 39 | B42: Commercial | C42: 2029 | D42: 500 | E42: 50 | F42: =AS42 -> 0 | G42: =AT42 -> 0 | H42: =AU42 -> 0 | I42: =AV42 -> 787.5 | J42: =AW42 -> 1837.5 | K42: =AX42 -> 2100 | L42: Contracted (OTC Signed) | N42: Committed | P42: GS 50 to 2,999 | Q42: New | S42: Whitby | T42: 0 | U42: 0 | V42: 0 | W42: 500 | X42: 0 | Y42: 0 | Z42: =T42*$E42/100 -> 0 | AA42: =U42*$E42/100 -> 0 | AB42: =V42*$E42/100 -> 0 | AC42: =W42*$E42/100 -> 250 | AD42: =X42*$E42/100 -> 0 | AE42: =Y42*$E42/100 -> 0 | AF42: =Z42*70%*12 -> 0 | AG42: =AA42*70%*12 -> 0 | AH42: =AB42*70%*12 -> 0 | AI42: =AC42*70%*12 -> 2100 | AJ42: =AD42*70%*12 -> 0 | AK42: =AE42*70%*12 -> 0 | AL42: 0 | AM42: =IF($AL42=1,AF42,AF42*0.75) -> 0 | AN42: =IF($AL42=1,AG42,AF42*(1-0.75)+AG42*0.75) -> 0 | AO42: =IF($AL42=1,AH42,AG42*(1-0.75)+AH42*0.75) -> 0 | AP42: =IF($AL42=1,AI42,AH42*(1-0.75)+AI42*0.75) -> 1575 | AQ42: =IF($AL42=1,AJ42,AI42*(1-0.75)+AJ42*0.75) -> 525 | AR42: =IF($AL42=1,AK42,AJ42*(1-0.75)+AK42*0.75) -> 0 | AS42: =AM42/2 -> 0 | AT42: =SUM($AM42:AM42)+AN42/2 -> 0 | AU42: =SUM($AM42:AN42)+AO42/2 -> 0 | AV42: =SUM($AM42:AO42)+AP42/2 -> 787.5 | AW42: =SUM($AM42:AP42)+AQ42/2 -> 1837.5 | AX42: =SUM($AM42:AQ42)+AR42/2 -> 2100 | AZ42: 0 | BA42: 0 | BB42: 0 | BC42: 0 | BD42: 0 | BE42: 0
A43: 40 | B43: Commercial | C43: 2027 | D43: 1000 | E43: 50 | F43: =AS43 -> 0 | G43: =AT43 -> 1575 | H43: =AU43 -> 3675 | I43: =AV43 -> 4200 | J43: =AW43 -> 4200 | K43: =AX43 -> 4200 | L43: Contracted (OTC Signed) | N43: Committed | P43: GS 50 to 2,999 | Q43: New | S43: Whitby | T43: 0 | U43: 1000 | V43: 0 | W43: 0 | X43: 0 | Y43: 0 | Z43: =T43*$E43/100 -> 0 | AA43: =U43*$E43/100 -> 500 | AB43: =V43*$E43/100 -> 0 | AC43: =W43*$E43/100 -> 0 | AD43: =X43*$E43/100 -> 0 | AE43: =Y43*$E43/100 -> 0 | AF43: =Z43*70%*12 -> 0 | AG43: =AA43*70%*12 -> 4200 | AH43: =AB43*70%*12 -> 0 | AI43: =AC43*70%*12 -> 0 | AJ43: =AD43*70%*12 -> 0 | AK43: =AE43*70%*12 -> 0 | AL43: 0 | AM43: =IF($AL43=1,AF43,AF43*0.75) -> 0 | AN43: =IF($AL43=1,AG43,AF43*(1-0.75)+AG43*0.75) -> 3150 | AO43: =IF($AL43=1,AH43,AG43*(1-0.75)+AH43*0.75) -> 1050 | AP43: =IF($AL43=1,AI43,AH43*(1-0.75)+AI43*0.75) -> 0 | AQ43: =IF($AL43=1,AJ43,AI43*(1-0.75)+AJ43*0.75) -> 0 | AR43: =IF($AL43=1,AK43,AJ43*(1-0.75)+AK43*0.75) -> 0 | AS43: =AM43/2 -> 0 | AT43: =SUM($AM43:AM43)+AN43/2 -> 1575 | AU43: =SUM($AM43:AN43)+AO43/2 -> 3675 | AV43: =SUM($AM43:AO43)+AP43/2 -> 4200 | AW43: =SUM($AM43:AP43)+AQ43/2 -> 4200 | AX43: =SUM($AM43:AQ43)+AR43/2 -> 4200 | AZ43: 0 | BA43: 0 | BB43: 0 | BC43: 0 | BD43: 0 | BE43: 0
A44: 41 | B44: Commercial | C44: 2025 | D44: 800 | E44: 100 | F44: =AS44 -> 2550 | G44: =AT44 -> 5100 | H44: =AU44 -> 5100 | I44: =AV44 -> 5100 | J44: =AW44 -> 5100 | K44: =AX44 -> 5100 | L44: Contracted (OTC Signed) | N44: Committed | O44: GS 50 to 2,999 | P44: GS 50 to 2,999 | Q44: Existing | S44: Whitby | T44: 607.14286 | U44: 0 | V44: 0 | W44: 0 | X44: 0 | Y44: 0 | Z44: =T44*$E44/100 -> 607.14286 | AA44: =U44*$E44/100 -> 0 | AB44: =V44*$E44/100 -> 0 | AC44: =W44*$E44/100 -> 0 | AD44: =X44*$E44/100 -> 0 | AE44: =Y44*$E44/100 -> 0 | AF44: =Z44*70%*12 -> 5100 | AG44: =AA44*70%*12 -> 0 | AH44: =AB44*70%*12 -> 0 | AI44: =AC44*70%*12 -> 0 | AJ44: =AD44*70%*12 -> 0 | AK44: =AE44*70%*12 -> 0 | AL44: 1 | AM44: =IF($AL44=1,AF44,AF44*0.75) -> 5100 | AN44: =IF($AL44=1,AG44,AF44*(1-0.75)+AG44*0.75) -> 0 | AO44: =IF($AL44=1,AH44,AG44*(1-0.75)+AH44*0.75) -> 0 | AP44: =IF($AL44=1,AI44,AH44*(1-0.75)+AI44*0.75) -> 0 | AQ44: =IF($AL44=1,AJ44,AI44*(1-0.75)+AJ44*0.75) -> 0 | AR44: =IF($AL44=1,AK44,AJ44*(1-0.75)+AK44*0.75) -> 0 | AS44: =AM44/2 -> 2550 | AT44: =SUM($AM44:AM44)+AN44/2 -> 5100 | AU44: =SUM($AM44:AN44)+AO44/2 -> 5100 | AV44: =SUM($AM44:AO44)+AP44/2 -> 5100 | AW44: =SUM($AM44:AP44)+AQ44/2 -> 5100 | AX44: =SUM($AM44:AQ44)+AR44/2 -> 5100 | AZ44: 0 | BA44: 0 | BB44: 0 | BC44: 0 | BD44: 0 | BE44: 0
A45: 42 | B45: Commercial | C45: 2027 | D45: 1500 | E45: 50 | F45: =AS45 -> 0 | G45: =AT45 -> 2362.5 | H45: =AU45 -> 5512.5 | I45: =AV45 -> 6300 | J45: =AW45 -> 6300 | K45: =AX45 -> 6300 | L45: Contracted (OTC Signed) | N45: Committed | P45: GS 50 to 2,999 | Q45: New | S45: Whitby | T45: 0 | U45: 1500 | V45: 0 | W45: 0 | X45: 0 | Y45: 0 | Z45: =T45*$E45/100 -> 0 | AA45: =U45*$E45/100 -> 750 | AB45: =V45*$E45/100 -> 0 | AC45: =W45*$E45/100 -> 0 | AD45: =X45*$E45/100 -> 0 | AE45: =Y45*$E45/100 -> 0 | AF45: =Z45*70%*12 -> 0 | AG45: =AA45*70%*12 -> 6300 | AH45: =AB45*70%*12 -> 0 | AI45: =AC45*70%*12 -> 0 | AJ45: =AD45*70%*12 -> 0 | AK45: =AE45*70%*12 -> 0 | AL45: 0 | AM45: =IF($AL45=1,AF45,AF45*0.75) -> 0 | AN45: =IF($AL45=1,AG45,AF45*(1-0.75)+AG45*0.75) -> 4725 | AO45: =IF($AL45=1,AH45,AG45*(1-0.75)+AH45*0.75) -> 1575 | AP45: =IF($AL45=1,AI45,AH45*(1-0.75)+AI45*0.75) -> 0 | AQ45: =IF($AL45=1,AJ45,AI45*(1-0.75)+AJ45*0.75) -> 0 | AR45: =IF($AL45=1,AK45,AJ45*(1-0.75)+AK45*0.75) -> 0 | AS45: =AM45/2 -> 0 | AT45: =SUM($AM45:AM45)+AN45/2 -> 2362.5 | AU45: =SUM($AM45:AN45)+AO45/2 -> 5512.5 | AV45: =SUM($AM45:AO45)+AP45/2 -> 6300 | AW45: =SUM($AM45:AP45)+AQ45/2 -> 6300 | AX45: =SUM($AM45:AQ45)+AR45/2 -> 6300 | AZ45: 0 | BA45: 0 | BB45: 0 | BC45: 0 | BD45: 0 | BE45: 0
A46: 43 | B46: High Rise Residential | C46: 2028 | D46: 4808 | E46: 50 | F46: =AS46 -> 0 | G46: =AT46 -> 0 | H46: =AU46 -> 1915.2 | I46: =AV46 -> 6691.125 | J46: =AW46 -> 10300.5 | K46: =AX46 -> 12639.375 | L46: Speculative (Application Received) | N46: Non-Committed | P46: GS 50 to 2,999 | Q46: New | S46: Whitby | T46: 0 | U46: 0 | V46: 1216 | W46: 1411 | X46: 5 | Y46: 1008 | Z46: =T46*$E46/100 -> 0 | AA46: =U46*$E46/100 -> 0 | AB46: =V46*$E46/100 -> 608 | AC46: =W46*$E46/100 -> 705.5 | AD46: =X46*$E46/100 -> 2.5 | AE46: =Y46*$E46/100 -> 504 | AF46: =Z46*70%*12 -> 0 | AG46: =AA46*70%*12 -> 0 | AH46: =AB46*70%*12 -> 5107.2 | AI46: =AC46*70%*12 -> 5926.2 | AJ46: =AD46*70%*12 -> 21 | AK46: =AE46*70%*12 -> 4233.6 | AL46: 0 | AM46: =IF($AL46=1,AF46,AF46*0.75) -> 0 | AN46: =IF($AL46=1,AG46,AF46*(1-0.75)+AG46*0.75) -> 0 | AO46: =IF($AL46=1,AH46,AG46*(1-0.75)+AH46*0.75) -> 3830.4 | AP46: =IF($AL46=1,AI46,AH46*(1-0.75)+AI46*0.75) -> 5721.45 | AQ46: =IF($AL46=1,AJ46,AI46*(1-0.75)+AJ46*0.75) -> 1497.3 | AR46: =IF($AL46=1,AK46,AJ46*(1-0.75)+AK46*0.75) -> 3180.45 | AS46: =AM46/2 -> 0 | AT46: =SUM($AM46:AM46)+AN46/2 -> 0 | AU46: =SUM($AM46:AN46)+AO46/2 -> 1915.2 | AV46: =SUM($AM46:AO46)+AP46/2 -> 6691.125 | AW46: =SUM($AM46:AP46)+AQ46/2 -> 10300.5 | AX46: =SUM($AM46:AQ46)+AR46/2 -> 12639.375 | AZ46: 0 | BA46: 0 | BB46: 0 | BC46: 0 | BD46: 0 | BE46: 0
A47: 44 | B47: Industrial | C47: 2026 | D47: 3800 | E47: 100 | F47: =AS47 -> 11970 | G47: =AT47 -> 27930 | H47: =AU47 -> 31920 | I47: =AV47 -> 31920 | J47: =AW47 -> 31920 | K47: =AX47 -> 31920 | L47: Contracted (OTC Signed) | N47: Committed | P47: GS 3,000 to 4,999 | Q47: New | S47: Whitby | T47: 3800 | U47: 0 | V47: 0 | W47: 0 | X47: 0 | Y47: 0 | Z47: =T47*$E47/100 -> 3800 | AA47: =U47*$E47/100 -> 0 | AB47: =V47*$E47/100 -> 0 | AC47: =W47*$E47/100 -> 0 | AD47: =X47*$E47/100 -> 0 | AE47: =Y47*$E47/100 -> 0 | AF47: =Z47*70%*12 -> 31920 | AG47: =AA47*70%*12 -> 0 | AH47: =AB47*70%*12 -> 0 | AI47: =AC47*70%*12 -> 0 | AJ47: =AD47*70%*12 -> 0 | AK47: =AE47*70%*12 -> 0 | AL47: 0 | AM47: =IF($AL47=1,AF47,AF47*0.75) -> 23940 | AN47: =IF($AL47=1,AG47,AF47*(1-0.75)+AG47*0.75) -> 7980 | AO47: =IF($AL47=1,AH47,AG47*(1-0.75)+AH47*0.75) -> 0 | AP47: =IF($AL47=1,AI47,AH47*(1-0.75)+AI47*0.75) -> 0 | AQ47: =IF($AL47=1,AJ47,AI47*(1-0.75)+AJ47*0.75) -> 0 | AR47: =IF($AL47=1,AK47,AJ47*(1-0.75)+AK47*0.75) -> 0 | AS47: =AM47/2 -> 11970 | AT47: =SUM($AM47:AM47)+AN47/2 -> 27930 | AU47: =SUM($AM47:AN47)+AO47/2 -> 31920 | AV47: =SUM($AM47:AO47)+AP47/2 -> 31920 | AW47: =SUM($AM47:AP47)+AQ47/2 -> 31920 | AX47: =SUM($AM47:AQ47)+AR47/2 -> 31920 | AZ47: 0 | BA47: 0 | BB47: 0 | BC47: 0 | BD47: 0 | BE47: 0
A48: 45 | B48: Industrial | C48: 2029 | D48: 4000 | E48: 50 | F48: =AS48 -> 0 | G48: =AT48 -> 0 | H48: =AU48 -> 0 | I48: =AV48 -> 6300 | J48: =AW48 -> 14700 | K48: =AX48 -> 16800 | L48: Committed (OTC in Progress) | N48: Committed | P48: GS 3,000 to 4,999 | Q48: New | S48: Whitby | T48: 0 | U48: 0 | V48: 0 | W48: 4000 | X48: 0 | Y48: 0 | Z48: =T48*$E48/100 -> 0 | AA48: =U48*$E48/100 -> 0 | AB48: =V48*$E48/100 -> 0 | AC48: =W48*$E48/100 -> 2000 | AD48: =X48*$E48/100 -> 0 | AE48: =Y48*$E48/100 -> 0 | AF48: =Z48*70%*12 -> 0 | AG48: =AA48*70%*12 -> 0 | AH48: =AB48*70%*12 -> 0 | AI48: =AC48*70%*12 -> 16800 | AJ48: =AD48*70%*12 -> 0 | AK48: =AE48*70%*12 -> 0 | AL48: 0 | AM48: =IF($AL48=1,AF48,AF48*0.75) -> 0 | AN48: =IF($AL48=1,AG48,AF48*(1-0.75)+AG48*0.75) -> 0 | AO48: =IF($AL48=1,AH48,AG48*(1-0.75)+AH48*0.75) -> 0 | AP48: =IF($AL48=1,AI48,AH48*(1-0.75)+AI48*0.75) -> 12600 | AQ48: =IF($AL48=1,AJ48,AI48*(1-0.75)+AJ48*0.75) -> 4200 | AR48: =IF($AL48=1,AK48,AJ48*(1-0.75)+AK48*0.75) -> 0 | AS48: =AM48/2 -> 0 | AT48: =SUM($AM48:AM48)+AN48/2 -> 0 | AU48: =SUM($AM48:AN48)+AO48/2 -> 0 | AV48: =SUM($AM48:AO48)+AP48/2 -> 6300 | AW48: =SUM($AM48:AP48)+AQ48/2 -> 14700 | AX48: =SUM($AM48:AQ48)+AR48/2 -> 16800 | AZ48: -6300 | BA48: -14700 | BB48: -16800 | BC48: -10500 | BD48: -2100 | BE48: 0 | BF48: Project Delayed
A49: 46 | B49: Industrial | C49: 2026 | D49: 2788 | E49: 50 | F49: =AS49 -> 877.275 | G49: =AT49 -> 5560.8 | H49: =AU49 -> 10538.325 | I49: =AV49 -> 11709.6 | J49: =AW49 -> 11709.6 | K49: =AX49 -> 11709.6 | L49: Speculative (Application Received) | N49: Non-Committed | P49: GS 50 to 2,999 | Q49: New | S49: Whitby | T49: 557 | U49: 2231 | V49: 0 | W49: 0 | X49: 0 | Y49: 0 | Z49: =T49*$E49/100 -> 278.5 | AA49: =U49*$E49/100 -> 1115.5 | AB49: =V49*$E49/100 -> 0 | AC49: =W49*$E49/100 -> 0 | AD49: =X49*$E49/100 -> 0 | AE49: =Y49*$E49/100 -> 0 | AF49: =Z49*70%*12 -> 2339.4 | AG49: =AA49*70%*12 -> 9370.2 | AH49: =AB49*70%*12 -> 0 | AI49: =AC49*70%*12 -> 0 | AJ49: =AD49*70%*12 -> 0 | AK49: =AE49*70%*12 -> 0 | AL49: 0 | AM49: =IF($AL49=1,AF49,AF49*0.75) -> 1754.55 | AN49: =IF($AL49=1,AG49,AF49*(1-0.75)+AG49*0.75) -> 7612.5 | AO49: =IF($AL49=1,AH49,AG49*(1-0.75)+AH49*0.75) -> 2342.55 | AP49: =IF($AL49=1,AI49,AH49*(1-0.75)+AI49*0.75) -> 0 | AQ49: =IF($AL49=1,AJ49,AI49*(1-0.75)+AJ49*0.75) -> 0 | AR49: =IF($AL49=1,AK49,AJ49*(1-0.75)+AK49*0.75) -> 0 | AS49: =AM49/2 -> 877.275 | AT49: =SUM($AM49:AM49)+AN49/2 -> 5560.8 | AU49: =SUM($AM49:AN49)+AO49/2 -> 10538.325 | AV49: =SUM($AM49:AO49)+AP49/2 -> 11709.6 | AW49: =SUM($AM49:AP49)+AQ49/2 -> 11709.6 | AX49: =SUM($AM49:AQ49)+AR49/2 -> 11709.6 | AZ49: 0 | BA49: 0 | BB49: 0 | BC49: 0 | BD49: 0 | BE49: 0
A50: 47 | B50: Commercial | C50: 2026 | D50: 903 | E50: 80 | F50: =AS50 -> 2275.56 | G50: =AT50 -> 5309.64 | H50: =AU50 -> 6068.16 | I50: =AV50 -> 6068.16 | J50: =AW50 -> 6068.16 | K50: =AX50 -> 6068.16 | L50: Committed (OTC in Progress) | N50: Committed | P50: GS 50 to 2,999 | Q50: New | S50: Whitby | T50: 903 | U50: 0 | V50: 0 | W50: 0 | X50: 0 | Y50: 0 | Z50: =T50*$E50/100 -> 722.4 | AA50: =U50*$E50/100 -> 0 | AB50: =V50*$E50/100 -> 0 | AC50: =W50*$E50/100 -> 0 | AD50: =X50*$E50/100 -> 0 | AE50: =Y50*$E50/100 -> 0 | AF50: =Z50*70%*12 -> 6068.16 | AG50: =AA50*70%*12 -> 0 | AH50: =AB50*70%*12 -> 0 | AI50: =AC50*70%*12 -> 0 | AJ50: =AD50*70%*12 -> 0 | AK50: =AE50*70%*12 -> 0 | AL50: 0 | AM50: =IF($AL50=1,AF50,AF50*0.75) -> 4551.12 | AN50: =IF($AL50=1,AG50,AF50*(1-0.75)+AG50*0.75) -> 1517.04 | AO50: =IF($AL50=1,AH50,AG50*(1-0.75)+AH50*0.75) -> 0 | AP50: =IF($AL50=1,AI50,AH50*(1-0.75)+AI50*0.75) -> 0 | AQ50: =IF($AL50=1,AJ50,AI50*(1-0.75)+AJ50*0.75) -> 0 | AR50: =IF($AL50=1,AK50,AJ50*(1-0.75)+AK50*0.75) -> 0 | AS50: =AM50/2 -> 2275.56 | AT50: =SUM($AM50:AM50)+AN50/2 -> 5309.64 | AU50: =SUM($AM50:AN50)+AO50/2 -> 6068.16 | AV50: =SUM($AM50:AO50)+AP50/2 -> 6068.16 | AW50: =SUM($AM50:AP50)+AQ50/2 -> 6068.16 | AX50: =SUM($AM50:AQ50)+AR50/2 -> 6068.16 | AZ50: 0 | BA50: 0 | BB50: 0 | BC50: 0 | BD50: 0 | BE50: 0
A51: 48 | B51: Commercial | C51: 2026 | D51: 750 | E51: 50 | F51: =AS51 -> 1181.25 | G51: =AT51 -> 2756.25 | H51: =AU51 -> 3150 | I51: =AV51 -> 3150 | J51: =AW51 -> 3150 | K51: =AX51 -> 3150 | L51: Committed (Deposit Received) | N51: Committed | P51: GS 50 to 2,999 | Q51: New | S51: Whitby | T51: 750 | U51: 0 | V51: 0 | W51: 0 | X51: 0 | Y51: 0 | Z51: =T51*$E51/100 -> 375 | AA51: =U51*$E51/100 -> 0 | AB51: =V51*$E51/100 -> 0 | AC51: =W51*$E51/100 -> 0 | AD51: =X51*$E51/100 -> 0 | AE51: =Y51*$E51/100 -> 0 | AF51: =Z51*70%*12 -> 3150 | AG51: =AA51*70%*12 -> 0 | AH51: =AB51*70%*12 -> 0 | AI51: =AC51*70%*12 -> 0 | AJ51: =AD51*70%*12 -> 0 | AK51: =AE51*70%*12 -> 0 | AL51: 0 | AM51: =IF($AL51=1,AF51,AF51*0.75) -> 2362.5 | AN51: =IF($AL51=1,AG51,AF51*(1-0.75)+AG51*0.75) -> 787.5 | AO51: =IF($AL51=1,AH51,AG51*(1-0.75)+AH51*0.75) -> 0 | AP51: =IF($AL51=1,AI51,AH51*(1-0.75)+AI51*0.75) -> 0 | AQ51: =IF($AL51=1,AJ51,AI51*(1-0.75)+AJ51*0.75) -> 0 | AR51: =IF($AL51=1,AK51,AJ51*(1-0.75)+AK51*0.75) -> 0 | AS51: =AM51/2 -> 1181.25 | AT51: =SUM($AM51:AM51)+AN51/2 -> 2756.25 | AU51: =SUM($AM51:AN51)+AO51/2 -> 3150 | AV51: =SUM($AM51:AO51)+AP51/2 -> 3150 | AW51: =SUM($AM51:AP51)+AQ51/2 -> 3150 | AX51: =SUM($AM51:AQ51)+AR51/2 -> 3150 | AZ51: 0 | BA51: 0 | BB51: 0 | BC51: 0 | BD51: 0 | BE51: 0
A52: 49 | B52: Industrial | C52: 2026 | D52: 1000 | E52: 80 | F52: =AS52 -> 2520 | G52: =AT52 -> 5880 | H52: =AU52 -> 6720 | I52: =AV52 -> 6720 | J52: =AW52 -> 6720 | K52: =AX52 -> 6720 | L52: Committed (Deposit Received) | N52: Committed | P52: GS 50 to 2,999 | Q52: New | S52: Whitby | T52: 1000 | U52: 0 | V52: 0 | W52: 0 | X52: 0 | Y52: 0 | Z52: =T52*$E52/100 -> 800 | AA52: =U52*$E52/100 -> 0 | AB52: =V52*$E52/100 -> 0 | AC52: =W52*$E52/100 -> 0 | AD52: =X52*$E52/100 -> 0 | AE52: =Y52*$E52/100 -> 0 | AF52: =Z52*70%*12 -> 6720 | AG52: =AA52*70%*12 -> 0 | AH52: =AB52*70%*12 -> 0 | AI52: =AC52*70%*12 -> 0 | AJ52: =AD52*70%*12 -> 0 | AK52: =AE52*70%*12 -> 0 | AL52: 0 | AM52: =IF($AL52=1,AF52,AF52*0.75) -> 5040 | AN52: =IF($AL52=1,AG52,AF52*(1-0.75)+AG52*0.75) -> 1680 | AO52: =IF($AL52=1,AH52,AG52*(1-0.75)+AH52*0.75) -> 0 | AP52: =IF($AL52=1,AI52,AH52*(1-0.75)+AI52*0.75) -> 0 | AQ52: =IF($AL52=1,AJ52,AI52*(1-0.75)+AJ52*0.75) -> 0 | AR52: =IF($AL52=1,AK52,AJ52*(1-0.75)+AK52*0.75) -> 0 | AS52: =AM52/2 -> 2520 | AT52: =SUM($AM52:AM52)+AN52/2 -> 5880 | AU52: =SUM($AM52:AN52)+AO52/2 -> 6720 | AV52: =SUM($AM52:AO52)+AP52/2 -> 6720 | AW52: =SUM($AM52:AP52)+AQ52/2 -> 6720 | AX52: =SUM($AM52:AQ52)+AR52/2 -> 6720 | AZ52: 0 | BA52: 0 | BB52: 0 | BC52: 0 | BD52: 0 | BE52: 0
A53: 50 | B53: Industrial | C53: 2027 | D53: 2000 | E53: 80 | F53: =AS53 -> 0 | G53: =AT53 -> 5040 | H53: =AU53 -> 11760 | I53: =AV53 -> 13440 | J53: =AW53 -> 13440 | K53: =AX53 -> 13440 | L53: Committed (Deposit Received) | N53: Committed | O53: GS 50 to 2,999 | P53: GS 3,000 to 4,999 | Q53: Existing | S53: Whitby | T53: 0 | U53: 2000 | V53: 0 | W53: 0 | X53: 0 | Y53: 0 | Z53: =T53*$E53/100 -> 0 | AA53: =U53*$E53/100 -> 1600 | AB53: =V53*$E53/100 -> 0 | AC53: =W53*$E53/100 -> 0 | AD53: =X53*$E53/100 -> 0 | AE53: =Y53*$E53/100 -> 0 | AF53: =Z53*70%*12 -> 0 | AG53: =AA53*70%*12 -> 13440 | AH53: =AB53*70%*12 -> 0 | AI53: =AC53*70%*12 -> 0 | AJ53: =AD53*70%*12 -> 0 | AK53: =AE53*70%*12 -> 0 | AL53: 0 | AM53: =IF($AL53=1,AF53,AF53*0.75) -> 0 | AN53: =IF($AL53=1,AG53,AF53*(1-0.75)+AG53*0.75) -> 10080 | AO53: =IF($AL53=1,AH53,AG53*(1-0.75)+AH53*0.75) -> 3360 | AP53: =IF($AL53=1,AI53,AH53*(1-0.75)+AI53*0.75) -> 0 | AQ53: =IF($AL53=1,AJ53,AI53*(1-0.75)+AJ53*0.75) -> 0 | AR53: =IF($AL53=1,AK53,AJ53*(1-0.75)+AK53*0.75) -> 0 | AS53: =AM53/2 -> 0 | AT53: =SUM($AM53:AM53)+AN53/2 -> 5040 | AU53: =SUM($AM53:AN53)+AO53/2 -> 11760 | AV53: =SUM($AM53:AO53)+AP53/2 -> 13440 | AW53: =SUM($AM53:AP53)+AQ53/2 -> 13440 | AX53: =SUM($AM53:AQ53)+AR53/2 -> 13440 | AZ53: -5040 | BA53: -6720 | BB53: -1680 | BC53: 0 | BD53: 0 | BE53: 0 | BF53: Project Delayed
A54: 51 | B54: Industrial | C54: 2027 | D54: 13178 | E54: 50 | F54: =AS54 -> 0 | G54: =AT54 -> 9002.7 | H54: =AU54 -> 32758.95 | I54: =AV54 -> 51430.05 | J54: =AW54 -> 55347.6 | K54: =AX54 -> 55347.6 | L54: Speculative (Application Received) | N54: Non-Committed | P54: Large Use | Q54: New | S54: Whitby | T54: 0 | U54: 5716 | V54: 7462 | W54: 0 | X54: 0 | Y54: 0 | Z54: =T54*$E54/100 -> 0 | AA54: =U54*$E54/100 -> 2858 | AB54: =V54*$E54/100 -> 3731 | AC54: =W54*$E54/100 -> 0 | AD54: =X54*$E54/100 -> 0 | AE54: =Y54*$E54/100 -> 0 | AF54: =Z54*70%*12 -> 0 | AG54: =AA54*70%*12 -> 24007.2 | AH54: =AB54*70%*12 -> 31340.4 | AI54: =AC54*70%*12 -> 0 | AJ54: =AD54*70%*12 -> 0 | AK54: =AE54*70%*12 -> 0 | AL54: 0 | AM54: =IF($AL54=1,AF54,AF54*0.75) -> 0 | AN54: =IF($AL54=1,AG54,AF54*(1-0.75)+AG54*0.75) -> 18005.4 | AO54: =IF($AL54=1,AH54,AG54*(1-0.75)+AH54*0.75) -> 29507.1 | AP54: =IF($AL54=1,AI54,AH54*(1-0.75)+AI54*0.75) -> 7835.1 | AQ54: =IF($AL54=1,AJ54,AI54*(1-0.75)+AJ54*0.75) -> 0 | AR54: =IF($AL54=1,AK54,AJ54*(1-0.75)+AK54*0.75) -> 0 | AS54: =AM54/2 -> 0 | AT54: =SUM($AM54:AM54)+AN54/2 -> 9002.7 | AU54: =SUM($AM54:AN54)+AO54/2 -> 32758.95 | AV54: =SUM($AM54:AO54)+AP54/2 -> 51430.05 | AW54: =SUM($AM54:AP54)+AQ54/2 -> 55347.6 | AX54: =SUM($AM54:AQ54)+AR54/2 -> 55347.6 | AZ54: -9002.7 | BA54: -23756.25 | BB54: -18671.1 | BC54: -3917.55 | BD54: 0 | BE54: 0 | BF54: Project Delayed
A55: 52 | B55: Industrial | C55: 2027 | D55: 1000 | E55: 80 | F55: =AS55 -> 0 | G55: =AT55 -> 2520 | H55: =AU55 -> 5880 | I55: =AV55 -> 6720 | J55: =AW55 -> 6720 | K55: =AX55 -> 6720 | L55: Committed (OTC in Progress) | N55: Committed | P55: GS 50 to 2,999 | Q55: New | S55: Whitby | T55: 0 | U55: 1000 | V55: 0 | W55: 0 | X55: 0 | Y55: 0 | Z55: =T55*$E55/100 -> 0 | AA55: =U55*$E55/100 -> 800 | AB55: =V55*$E55/100 -> 0 | AC55: =W55*$E55/100 -> 0 | AD55: =X55*$E55/100 -> 0 | AE55: =Y55*$E55/100 -> 0 | AF55: =Z55*70%*12 -> 0 | AG55: =AA55*70%*12 -> 6720 | AH55: =AB55*70%*12 -> 0 | AI55: =AC55*70%*12 -> 0 | AJ55: =AD55*70%*12 -> 0 | AK55: =AE55*70%*12 -> 0 | AL55: 0 | AM55: =IF($AL55=1,AF55,AF55*0.75) -> 0 | AN55: =IF($AL55=1,AG55,AF55*(1-0.75)+AG55*0.75) -> 5040 | AO55: =IF($AL55=1,AH55,AG55*(1-0.75)+AH55*0.75) -> 1680 | AP55: =IF($AL55=1,AI55,AH55*(1-0.75)+AI55*0.75) -> 0 | AQ55: =IF($AL55=1,AJ55,AI55*(1-0.75)+AJ55*0.75) -> 0 | AR55: =IF($AL55=1,AK55,AJ55*(1-0.75)+AK55*0.75) -> 0 | AS55: =AM55/2 -> 0 | AT55: =SUM($AM55:AM55)+AN55/2 -> 2520 | AU55: =SUM($AM55:AN55)+AO55/2 -> 5880 | AV55: =SUM($AM55:AO55)+AP55/2 -> 6720 | AW55: =SUM($AM55:AP55)+AQ55/2 -> 6720 | AX55: =SUM($AM55:AQ55)+AR55/2 -> 6720 | AZ55: -2520 | BA55: -3360 | BB55: -840 | BC55: 0 | BD55: 0 | BE55: 0 | BF55: Project Delayed
A56: 53 | B56: Industrial | C56: 2026 | D56: 1950 | E56: 50 | F56: =AS56 -> 3071.25 | G56: =AT56 -> 7166.25 | H56: =AU56 -> 8190 | I56: =AV56 -> 8190 | J56: =AW56 -> 8190 | K56: =AX56 -> 8190 | L56: Speculative (Application Received) | N56: Non-Committed | P56: GS 50 to 2,999 | Q56: New | S56: Whitby | T56: 1950 | U56: 0 | V56: 0 | W56: 0 | X56: 0 | Y56: 0 | Z56: =T56*$E56/100 -> 975 | AA56: =U56*$E56/100 -> 0 | AB56: =V56*$E56/100 -> 0 | AC56: =W56*$E56/100 -> 0 | AD56: =X56*$E56/100 -> 0 | AE56: =Y56*$E56/100 -> 0 | AF56: =Z56*70%*12 -> 8190 | AG56: =AA56*70%*12 -> 0 | AH56: =AB56*70%*12 -> 0 | AI56: =AC56*70%*12 -> 0 | AJ56: =AD56*70%*12 -> 0 | AK56: =AE56*70%*12 -> 0 | AL56: 0 | AM56: =IF($AL56=1,AF56,AF56*0.75) -> 6142.5 | AN56: =IF($AL56=1,AG56,AF56*(1-0.75)+AG56*0.75) -> 2047.5 | AO56: =IF($AL56=1,AH56,AG56*(1-0.75)+AH56*0.75) -> 0 | AP56: =IF($AL56=1,AI56,AH56*(1-0.75)+AI56*0.75) -> 0 | AQ56: =IF($AL56=1,AJ56,AI56*(1-0.75)+AJ56*0.75) -> 0 | AR56: =IF($AL56=1,AK56,AJ56*(1-0.75)+AK56*0.75) -> 0 | AS56: =AM56/2 -> 3071.25 | AT56: =SUM($AM56:AM56)+AN56/2 -> 7166.25 | AU56: =SUM($AM56:AN56)+AO56/2 -> 8190 | AV56: =SUM($AM56:AO56)+AP56/2 -> 8190 | AW56: =SUM($AM56:AP56)+AQ56/2 -> 8190 | AX56: =SUM($AM56:AQ56)+AR56/2 -> 8190 | AZ56: 0 | BA56: 0 | BB56: 0 | BC56: 0 | BD56: 0 | BE56: 0
A57: 54 | B57: Commercial | C57: 2031 | D57: 3200 | E57: 80 | F57: =AS57 -> 0 | G57: =AT57 -> 0 | H57: =AU57 -> 0 | I57: =AV57 -> 0 | J57: =AW57 -> 0 | K57: =AX57 -> 8064 | L57: Committed (Deposit Received) | N57: Committed | O57: GS 50 to 2,999 | P57: GS 3,000 to 4,999 | Q57: Existing | S57: Whitby | T57: 0 | U57: 0 | V57: 0 | W57: 0 | X57: 0 | Y57: 3200 | Z57: =T57*$E57/100 -> 0 | AA57: =U57*$E57/100 -> 0 | AB57: =V57*$E57/100 -> 0 | AC57: =W57*$E57/100 -> 0 | AD57: =X57*$E57/100 -> 0 | AE57: =Y57*$E57/100 -> 2560 | AF57: =Z57*70%*12 -> 0 | AG57: =AA57*70%*12 -> 0 | AH57: =AB57*70%*12 -> 0 | AI57: =AC57*70%*12 -> 0 | AJ57: =AD57*70%*12 -> 0 | AK57: =AE57*70%*12 -> 21504 | AL57: 0 | AM57: =IF($AL57=1,AF57,AF57*0.75) -> 0 | AN57: =IF($AL57=1,AG57,AF57*(1-0.75)+AG57*0.75) -> 0 | AO57: =IF($AL57=1,AH57,AG57*(1-0.75)+AH57*0.75) -> 0 | AP57: =IF($AL57=1,AI57,AH57*(1-0.75)+AI57*0.75) -> 0 | AQ57: =IF($AL57=1,AJ57,AI57*(1-0.75)+AJ57*0.75) -> 0 | AR57: =IF($AL57=1,AK57,AJ57*(1-0.75)+AK57*0.75) -> 16128 | AS57: =AM57/2 -> 0 | AT57: =SUM($AM57:AM57)+AN57/2 -> 0 | AU57: =SUM($AM57:AN57)+AO57/2 -> 0 | AV57: =SUM($AM57:AO57)+AP57/2 -> 0 | AW57: =SUM($AM57:AP57)+AQ57/2 -> 0 | AX57: =SUM($AM57:AQ57)+AR57/2 -> 8064 | AZ57: 0 | BA57: 0 | BB57: 0 | BC57: 0 | BD57: -8064 | BE57: -10752 | BF57: Project Delayed
A58: 55 | B58: Commercial | C58: 2026 | D58: 1100 | E58: 80 | F58: =AS58 -> 2772 | G58: =AT58 -> 6468 | H58: =AU58 -> 7392 | I58: =AV58 -> 7392 | J58: =AW58 -> 7392 | K58: =AX58 -> 7392 | L58: Committed (OTC in Progress) | N58: Committed | P58: GS 50 to 2,999 | Q58: New | S58: Whitby | T58: 1100 | U58: 0 | V58: 0 | W58: 0 | X58: 0 | Y58: 0 | Z58: =T58*$E58/100 -> 880 | AA58: =U58*$E58/100 -> 0 | AB58: =V58*$E58/100 -> 0 | AC58: =W58*$E58/100 -> 0 | AD58: =X58*$E58/100 -> 0 | AE58: =Y58*$E58/100 -> 0 | AF58: =Z58*70%*12 -> 7392 | AG58: =AA58*70%*12 -> 0 | AH58: =AB58*70%*12 -> 0 | AI58: =AC58*70%*12 -> 0 | AJ58: =AD58*70%*12 -> 0 | AK58: =AE58*70%*12 -> 0 | AL58: 0 | AM58: =IF($AL58=1,AF58,AF58*0.75) -> 5544 | AN58: =IF($AL58=1,AG58,AF58*(1-0.75)+AG58*0.75) -> 1848 | AO58: =IF($AL58=1,AH58,AG58*(1-0.75)+AH58*0.75) -> 0 | AP58: =IF($AL58=1,AI58,AH58*(1-0.75)+AI58*0.75) -> 0 | AQ58: =IF($AL58=1,AJ58,AI58*(1-0.75)+AJ58*0.75) -> 0 | AR58: =IF($AL58=1,AK58,AJ58*(1-0.75)+AK58*0.75) -> 0 | AS58: =AM58/2 -> 2772 | AT58: =SUM($AM58:AM58)+AN58/2 -> 6468 | AU58: =SUM($AM58:AN58)+AO58/2 -> 7392 | AV58: =SUM($AM58:AO58)+AP58/2 -> 7392 | AW58: =SUM($AM58:AP58)+AQ58/2 -> 7392 | AX58: =SUM($AM58:AQ58)+AR58/2 -> 7392 | AZ58: 0 | BA58: 0 | BB58: 0 | BC58: 0 | BD58: 0 | BE58: 0
A59: 56 | B59: Commercial | C59: 2026 | D59: 1000 | E59: 80 | F59: =AS59 -> 2520 | G59: =AT59 -> 5880 | H59: =AU59 -> 6720 | I59: =AV59 -> 6720 | J59: =AW59 -> 6720 | K59: =AX59 -> 6720 | L59: Speculative (Application Received) | N59: Non-Committed | O59: GS 50 to 2,999 | P59: GS 50 to 2,999 | Q59: Existing | S59: Whitby | T59: 1000 | U59: 0 | V59: 0 | W59: 0 | X59: 0 | Y59: 0 | Z59: =T59*$E59/100 -> 800 | AA59: =U59*$E59/100 -> 0 | AB59: =V59*$E59/100 -> 0 | AC59: =W59*$E59/100 -> 0 | AD59: =X59*$E59/100 -> 0 | AE59: =Y59*$E59/100 -> 0 | AF59: =Z59*70%*12 -> 6720 | AG59: =AA59*70%*12 -> 0 | AH59: =AB59*70%*12 -> 0 | AI59: =AC59*70%*12 -> 0 | AJ59: =AD59*70%*12 -> 0 | AK59: =AE59*70%*12 -> 0 | AL59: 0 | AM59: =IF($AL59=1,AF59,AF59*0.75) -> 5040 | AN59: =IF($AL59=1,AG59,AF59*(1-0.75)+AG59*0.75) -> 1680 | AO59: =IF($AL59=1,AH59,AG59*(1-0.75)+AH59*0.75) -> 0 | AP59: =IF($AL59=1,AI59,AH59*(1-0.75)+AI59*0.75) -> 0 | AQ59: =IF($AL59=1,AJ59,AI59*(1-0.75)+AJ59*0.75) -> 0 | AR59: =IF($AL59=1,AK59,AJ59*(1-0.75)+AK59*0.75) -> 0 | AS59: =AM59/2 -> 2520 | AT59: =SUM($AM59:AM59)+AN59/2 -> 5880 | AU59: =SUM($AM59:AN59)+AO59/2 -> 6720 | AV59: =SUM($AM59:AO59)+AP59/2 -> 6720 | AW59: =SUM($AM59:AP59)+AQ59/2 -> 6720 | AX59: =SUM($AM59:AQ59)+AR59/2 -> 6720 | AZ59: 0 | BA59: 0 | BB59: 0 | BC59: 0 | BD59: 0 | BE59: 0
A60: 57 | B60: Residential Condo | C60: 2026 | D60: 1500 | E60: 80 | F60: =AS60 -> 3780 | G60: =AT60 -> 8820 | H60: =AU60 -> 10080 | I60: =AV60 -> 10080 | J60: =AW60 -> 10080 | K60: =AX60 -> 10080 | L60: Committed (OTC in Progress) | N60: Committed | P60: GS 50 to 2,999 | Q60: New | S60: Whitby | T60: 1500 | U60: 0 | V60: 0 | W60: 0 | X60: 0 | Y60: 0 | Z60: =T60*$E60/100 -> 1200 | AA60: =U60*$E60/100 -> 0 | AB60: =V60*$E60/100 -> 0 | AC60: =W60*$E60/100 -> 0 | AD60: =X60*$E60/100 -> 0 | AE60: =Y60*$E60/100 -> 0 | AF60: =Z60*70%*12 -> 10080 | AG60: =AA60*70%*12 -> 0 | AH60: =AB60*70%*12 -> 0 | AI60: =AC60*70%*12 -> 0 | AJ60: =AD60*70%*12 -> 0 | AK60: =AE60*70%*12 -> 0 | AL60: 0 | AM60: =IF($AL60=1,AF60,AF60*0.75) -> 7560 | AN60: =IF($AL60=1,AG60,AF60*(1-0.75)+AG60*0.75) -> 2520 | AO60: =IF($AL60=1,AH60,AG60*(1-0.75)+AH60*0.75) -> 0 | AP60: =IF($AL60=1,AI60,AH60*(1-0.75)+AI60*0.75) -> 0 | AQ60: =IF($AL60=1,AJ60,AI60*(1-0.75)+AJ60*0.75) -> 0 | AR60: =IF($AL60=1,AK60,AJ60*(1-0.75)+AK60*0.75) -> 0 | AS60: =AM60/2 -> 3780 | AT60: =SUM($AM60:AM60)+AN60/2 -> 8820 | AU60: =SUM($AM60:AN60)+AO60/2 -> 10080 | AV60: =SUM($AM60:AO60)+AP60/2 -> 10080 | AW60: =SUM($AM60:AP60)+AQ60/2 -> 10080 | AX60: =SUM($AM60:AQ60)+AR60/2 -> 10080 | AZ60: 0 | BA60: 0 | BB60: 0 | BC60: 0 | BD60: 0 | BE60: 0
A61: 58 | B61: Industrial | C61: 2026 | D61: 1350 | E61: 80 | F61: =AS61 -> 3402 | G61: =AT61 -> 7938 | H61: =AU61 -> 9072 | I61: =AV61 -> 9072 | J61: =AW61 -> 9072 | K61: =AX61 -> 9072 | L61: Committed (Deposit Received) | N61: Committed | O61: GS 50 to 2,999 | P61: GS 50 to 2,999 | Q61: Existing | S61: Whitby | T61: 1350 | U61: 0 | V61: 0 | W61: 0 | X61: 0 | Y61: 0 | Z61: =T61*$E61/100 -> 1080 | AA61: =U61*$E61/100 -> 0 | AB61: =V61*$E61/100 -> 0 | AC61: =W61*$E61/100 -> 0 | AD61: =X61*$E61/100 -> 0 | AE61: =Y61*$E61/100 -> 0 | AF61: =Z61*70%*12 -> 9072 | AG61: =AA61*70%*12 -> 0 | AH61: =AB61*70%*12 -> 0 | AI61: =AC61*70%*12 -> 0 | AJ61: =AD61*70%*12 -> 0 | AK61: =AE61*70%*12 -> 0 | AL61: 0 | AM61: =IF($AL61=1,AF61,AF61*0.75) -> 6804 | AN61: =IF($AL61=1,AG61,AF61*(1-0.75)+AG61*0.75) -> 2268 | AO61: =IF($AL61=1,AH61,AG61*(1-0.75)+AH61*0.75) -> 0 | AP61: =IF($AL61=1,AI61,AH61*(1-0.75)+AI61*0.75) -> 0 | AQ61: =IF($AL61=1,AJ61,AI61*(1-0.75)+AJ61*0.75) -> 0 | AR61: =IF($AL61=1,AK61,AJ61*(1-0.75)+AK61*0.75) -> 0 | AS61: =AM61/2 -> 3402 | AT61: =SUM($AM61:AM61)+AN61/2 -> 7938 | AU61: =SUM($AM61:AN61)+AO61/2 -> 9072 | AV61: =SUM($AM61:AO61)+AP61/2 -> 9072 | AW61: =SUM($AM61:AP61)+AQ61/2 -> 9072 | AX61: =SUM($AM61:AQ61)+AR61/2 -> 9072 | AZ61: 0 | BA61: 0 | BB61: 0 | BC61: 0 | BD61: 0 | BE61: 0
A62: 59 | B62: Residential Condo | C62: 2026 | D62: 731 | E62: 50 | F62: =AS62 -> 1151.325 | G62: =AT62 -> 2686.425 | H62: =AU62 -> 3070.2 | I62: =AV62 -> 3070.2 | J62: =AW62 -> 3070.2 | K62: =AX62 -> 3070.2 | L62: Speculative (Application Received) | N62: Non-Committed | P62: GS 50 to 2,999 | Q62: New | S62: Veridian | T62: 731 | U62: 0 | V62: 0 | W62: 0 | X62: 0 | Y62: 0 | Z62: =T62*$E62/100 -> 365.5 | AA62: =U62*$E62/100 -> 0 | AB62: =V62*$E62/100 -> 0 | AC62: =W62*$E62/100 -> 0 | AD62: =X62*$E62/100 -> 0 | AE62: =Y62*$E62/100 -> 0 | AF62: =Z62*70%*12 -> 3070.2 | AG62: =AA62*70%*12 -> 0 | AH62: =AB62*70%*12 -> 0 | AI62: =AC62*70%*12 -> 0 | AJ62: =AD62*70%*12 -> 0 | AK62: =AE62*70%*12 -> 0 | AL62: 0 | AM62: =IF($AL62=1,AF62,AF62*0.75) -> 2302.65 | AN62: =IF($AL62=1,AG62,AF62*(1-0.75)+AG62*0.75) -> 767.55 | AO62: =IF($AL62=1,AH62,AG62*(1-0.75)+AH62*0.75) -> 0 | AP62: =IF($AL62=1,AI62,AH62*(1-0.75)+AI62*0.75) -> 0 | AQ62: =IF($AL62=1,AJ62,AI62*(1-0.75)+AJ62*0.75) -> 0 | AR62: =IF($AL62=1,AK62,AJ62*(1-0.75)+AK62*0.75) -> 0 | AS62: =AM62/2 -> 1151.325 | AT62: =SUM($AM62:AM62)+AN62/2 -> 2686.425 | AU62: =SUM($AM62:AN62)+AO62/2 -> 3070.2 | AV62: =SUM($AM62:AO62)+AP62/2 -> 3070.2 | AW62: =SUM($AM62:AP62)+AQ62/2 -> 3070.2 | AX62: =SUM($AM62:AQ62)+AR62/2 -> 3070.2 | AZ62: 0 | BA62: 0 | BB62: 0 | BC62: 0 | BD62: 0 | BE62: 0
A63: 60 | B63: Residential Condo | C63: 2026 | D63: 977 | E63: 50 | F63: =AS63 -> 1538.775 | G63: =AT63 -> 3590.475 | H63: =AU63 -> 4103.4 | I63: =AV63 -> 4103.4 | J63: =AW63 -> 4103.4 | K63: =AX63 -> 4103.4 | L63: Speculative (Application Received) | N63: Non-Committed | O63: GS 50 to 2,999 | P63: GS 50 to 2,999 | Q63: Existing | S63: Veridian | T63: 977 | U63: 0 | V63: 0 | W63: 0 | X63: 0 | Y63: 0 | Z63: =T63*$E63/100 -> 488.5 | AA63: =U63*$E63/100 -> 0 | AB63: =V63*$E63/100 -> 0 | AC63: =W63*$E63/100 -> 0 | AD63: =X63*$E63/100 -> 0 | AE63: =Y63*$E63/100 -> 0 | AF63: =Z63*70%*12 -> 4103.4 | AG63: =AA63*70%*12 -> 0 | AH63: =AB63*70%*12 -> 0 | AI63: =AC63*70%*12 -> 0 | AJ63: =AD63*70%*12 -> 0 | AK63: =AE63*70%*12 -> 0 | AL63: 0 | AM63: =IF($AL63=1,AF63,AF63*0.75) -> 3077.55 | AN63: =IF($AL63=1,AG63,AF63*(1-0.75)+AG63*0.75) -> 1025.85 | AO63: =IF($AL63=1,AH63,AG63*(1-0.75)+AH63*0.75) -> 0 | AP63: =IF($AL63=1,AI63,AH63*(1-0.75)+AI63*0.75) -> 0 | AQ63: =IF($AL63=1,AJ63,AI63*(1-0.75)+AJ63*0.75) -> 0 | AR63: =IF($AL63=1,AK63,AJ63*(1-0.75)+AK63*0.75) -> 0 | AS63: =AM63/2 -> 1538.775 | AT63: =SUM($AM63:AM63)+AN63/2 -> 3590.475 | AU63: =SUM($AM63:AN63)+AO63/2 -> 4103.4 | AV63: =SUM($AM63:AO63)+AP63/2 -> 4103.4 | AW63: =SUM($AM63:AP63)+AQ63/2 -> 4103.4 | AX63: =SUM($AM63:AQ63)+AR63/2 -> 4103.4 | AZ63: 0 | BA63: 0 | BB63: 0 | BC63: 0 | BD63: 0 | BE63: 0
A64: 61 | B64: Hospital | C64: 2027 | D64: 4000 | E64: 80 | F64: =AS64 -> 0 | G64: =AT64 -> 10080 | H64: =AU64 -> 23520 | I64: =AV64 -> 26880 | J64: =AW64 -> 26880 | K64: =AX64 -> 26880 | L64: Committed (Deposit Received) | N64: Committed | O64: GS 50 to 2,999 | P64: Large Use | Q64: Existing | S64: Veridian | T64: 0 | U64: 4000 | V64: 0 | W64: 0 | X64: 0 | Y64: 0 | Z64: =T64*$E64/100 -> 0 | AA64: =U64*$E64/100 -> 3200 | AB64: =V64*$E64/100 -> 0 | AC64: =W64*$E64/100 -> 0 | AD64: =X64*$E64/100 -> 0 | AE64: =Y64*$E64/100 -> 0 | AF64: =Z64*70%*12 -> 0 | AG64: =AA64*70%*12 -> 26880 | AH64: =AB64*70%*12 -> 0 | AI64: =AC64*70%*12 -> 0 | AJ64: =AD64*70%*12 -> 0 | AK64: =AE64*70%*12 -> 0 | AL64: 0 | AM64: =IF($AL64=1,AF64,AF64*0.75) -> 0 | AN64: =IF($AL64=1,AG64,AF64*(1-0.75)+AG64*0.75) -> 20160 | AO64: =IF($AL64=1,AH64,AG64*(1-0.75)+AH64*0.75) -> 6720 | AP64: =IF($AL64=1,AI64,AH64*(1-0.75)+AI64*0.75) -> 0 | AQ64: =IF($AL64=1,AJ64,AI64*(1-0.75)+AJ64*0.75) -> 0 | AR64: =IF($AL64=1,AK64,AJ64*(1-0.75)+AK64*0.75) -> 0 | AS64: =AM64/2 -> 0 | AT64: =SUM($AM64:AM64)+AN64/2 -> 10080 | AU64: =SUM($AM64:AN64)+AO64/2 -> 23520 | AV64: =SUM($AM64:AO64)+AP64/2 -> 26880 | AW64: =SUM($AM64:AP64)+AQ64/2 -> 26880 | AX64: =SUM($AM64:AQ64)+AR64/2 -> 26880 | AZ64: 0 | BA64: 0 | BB64: 0 | BC64: 0 | BD64: 0 | BE64: 0
A65: 62 | B65: Industrial | C65: 2025 | D65: 3200 | E65: 100 | F65: =AS65 -> 13103.4 | G65: =AT65 -> 26206.8 | H65: =AU65 -> 26206.8 | I65: =AV65 -> 26206.8 | J65: =AW65 -> 26206.8 | K65: =AX65 -> 26206.8 | L65: Contracted (Energized) | N65: Committed | O65: GS 50 to 2,999 | P65: Large Use | Q65: Existing | S65: Veridian | T65: 3119.8571 | U65: 0 | V65: 0 | W65: 0 | X65: 0 | Y65: 0 | Z65: =T65*$E65/100 -> 3119.8571 | AA65: =U65*$E65/100 -> 0 | AB65: =V65*$E65/100 -> 0 | AC65: =W65*$E65/100 -> 0 | AD65: =X65*$E65/100 -> 0 | AE65: =Y65*$E65/100 -> 0 | AF65: =Z65*70%*12 -> 26206.8 | AG65: =AA65*70%*12 -> 0 | AH65: =AB65*70%*12 -> 0 | AI65: =AC65*70%*12 -> 0 | AJ65: =AD65*70%*12 -> 0 | AK65: =AE65*70%*12 -> 0 | AL65: 1 | AM65: =IF($AL65=1,AF65,AF65*0.75) -> 26206.8 | AN65: =IF($AL65=1,AG65,AF65*(1-0.75)+AG65*0.75) -> 0 | AO65: =IF($AL65=1,AH65,AG65*(1-0.75)+AH65*0.75) -> 0 | AP65: =IF($AL65=1,AI65,AH65*(1-0.75)+AI65*0.75) -> 0 | AQ65: =IF($AL65=1,AJ65,AI65*(1-0.75)+AJ65*0.75) -> 0 | AR65: =IF($AL65=1,AK65,AJ65*(1-0.75)+AK65*0.75) -> 0 | AS65: =AM65/2 -> 13103.4 | AT65: =SUM($AM65:AM65)+AN65/2 -> 26206.8 | AU65: =SUM($AM65:AN65)+AO65/2 -> 26206.8 | AV65: =SUM($AM65:AO65)+AP65/2 -> 26206.8 | AW65: =SUM($AM65:AP65)+AQ65/2 -> 26206.8 | AX65: =SUM($AM65:AQ65)+AR65/2 -> 26206.8 | AZ65: 0 | BA65: 0 | BB65: 0 | BC65: 0 | BD65: 0 | BE65: 0
A66: 63 | B66: Industrial | C66: 2025 | D66: 8500 | E66: 100 | F66: =AS66 -> 0 | G66: =AT66 -> 7350 | H66: =AU66 -> 26250 | I66: =AV66 -> 37800 | J66: =AW66 -> 37800 | K66: =AX66 -> 37800 | L66: Contracted (Energized) | N66: Committed | O66: Large Use | P66: Large Use | Q66: Existing | S66: Veridian | T66: 0 | U66: 1750 | V66: 2750 | W66: 0 | X66: 0 | Y66: 0 | Z66: =T66*$E66/100 -> 0 | AA66: =U66*$E66/100 -> 1750 | AB66: =V66*$E66/100 -> 2750 | AC66: =W66*$E66/100 -> 0 | AD66: =X66*$E66/100 -> 0 | AE66: =Y66*$E66/100 -> 0 | AF66: =Z66*70%*12 -> 0 | AG66: =AA66*70%*12 -> 14700 | AH66: =AB66*70%*12 -> 23100 | AI66: =AC66*70%*12 -> 0 | AJ66: =AD66*70%*12 -> 0 | AK66: =AE66*70%*12 -> 0 | AL66: 1 | AM66: =IF($AL66=1,AF66,AF66*0.75) -> 0 | AN66: =IF($AL66=1,AG66,AF66*(1-0.75)+AG66*0.75) -> 14700 | AO66: =IF($AL66=1,AH66,AG66*(1-0.75)+AH66*0.75) -> 23100 | AP66: =IF($AL66=1,AI66,AH66*(1-0.75)+AI66*0.75) -> 0 | AQ66: =IF($AL66=1,AJ66,AI66*(1-0.75)+AJ66*0.75) -> 0 | AR66: =IF($AL66=1,AK66,AJ66*(1-0.75)+AK66*0.75) -> 0 | AS66: =AM66/2 -> 0 | AT66: =SUM($AM66:AM66)+AN66/2 -> 7350 | AU66: =SUM($AM66:AN66)+AO66/2 -> 26250 | AV66: =SUM($AM66:AO66)+AP66/2 -> 37800 | AW66: =SUM($AM66:AP66)+AQ66/2 -> 37800 | AX66: =SUM($AM66:AQ66)+AR66/2 -> 37800 | AZ66: 0 | BA66: 0 | BB66: 0 | BC66: 0 | BD66: 0 | BE66: 0
A67: 64 | B67: Industrial | C67: 2025 | D67: 2800 | E67: 100 | F67: =AS67 -> 6240 | G67: =AT67 -> 12480 | H67: =AU67 -> 12480 | I67: =AV67 -> 12480 | J67: =AW67 -> 12480 | K67: =AX67 -> 12480 | L67: Contracted (Energized) | N67: Committed | O67: GS 50 to 2,999 | P67: GS 3,000 to 4,999 | Q67: Existing | S67: Veridian | T67: 1485.7143 | U67: 0 | V67: 0 | W67: 0 | X67: 0 | Y67: 0 | Z67: =T67*$E67/100 -> 1485.7143 | AA67: =U67*$E67/100 -> 0 | AB67: =V67*$E67/100 -> 0 | AC67: =W67*$E67/100 -> 0 | AD67: =X67*$E67/100 -> 0 | AE67: =Y67*$E67/100 -> 0 | AF67: =Z67*70%*12 -> 12480 | AG67: =AA67*70%*12 -> 0 | AH67: =AB67*70%*12 -> 0 | AI67: =AC67*70%*12 -> 0 | AJ67: =AD67*70%*12 -> 0 | AK67: =AE67*70%*12 -> 0 | AL67: 1 | AM67: =IF($AL67=1,AF67,AF67*0.75) -> 12480 | AN67: =IF($AL67=1,AG67,AF67*(1-0.75)+AG67*0.75) -> 0 | AO67: =IF($AL67=1,AH67,AG67*(1-0.75)+AH67*0.75) -> 0 | AP67: =IF($AL67=1,AI67,AH67*(1-0.75)+AI67*0.75) -> 0 | AQ67: =IF($AL67=1,AJ67,AI67*(1-0.75)+AJ67*0.75) -> 0 | AR67: =IF($AL67=1,AK67,AJ67*(1-0.75)+AK67*0.75) -> 0 | AS67: =AM67/2 -> 6240 | AT67: =SUM($AM67:AM67)+AN67/2 -> 12480 | AU67: =SUM($AM67:AN67)+AO67/2 -> 12480 | AV67: =SUM($AM67:AO67)+AP67/2 -> 12480 | AW67: =SUM($AM67:AP67)+AQ67/2 -> 12480 | AX67: =SUM($AM67:AQ67)+AR67/2 -> 12480 | AZ67: 0 | BA67: 0 | BB67: 0 | BC67: 0 | BD67: 0 | BE67: 0
A68: 65 | B68: Commercial | C68: 2026 | D68: 960 | E68: 80 | F68: =AS68 -> 2419.2 | G68: =AT68 -> 5644.8 | H68: =AU68 -> 6451.2 | I68: =AV68 -> 6451.2 | J68: =AW68 -> 6451.2 | K68: =AX68 -> 6451.2 | L68: Committed (OTC in Progress) | N68: Committed | P68: GS 50 to 2,999 | Q68: New | S68: Veridian | T68: 960 | U68: 0 | V68: 0 | W68: 0 | X68: 0 | Y68: 0 | Z68: =T68*$E68/100 -> 768 | AA68: =U68*$E68/100 -> 0 | AB68: =V68*$E68/100 -> 0 | AC68: =W68*$E68/100 -> 0 | AD68: =X68*$E68/100 -> 0 | AE68: =Y68*$E68/100 -> 0 | AF68: =Z68*70%*12 -> 6451.2 | AG68: =AA68*70%*12 -> 0 | AH68: =AB68*70%*12 -> 0 | AI68: =AC68*70%*12 -> 0 | AJ68: =AD68*70%*12 -> 0 | AK68: =AE68*70%*12 -> 0 | AL68: 0 | AM68: =IF($AL68=1,AF68,AF68*0.75) -> 4838.4 | AN68: =IF($AL68=1,AG68,AF68*(1-0.75)+AG68*0.75) -> 1612.8 | AO68: =IF($AL68=1,AH68,AG68*(1-0.75)+AH68*0.75) -> 0 | AP68: =IF($AL68=1,AI68,AH68*(1-0.75)+AI68*0.75) -> 0 | AQ68: =IF($AL68=1,AJ68,AI68*(1-0.75)+AJ68*0.75) -> 0 | AR68: =IF($AL68=1,AK68,AJ68*(1-0.75)+AK68*0.75) -> 0 | AS68: =AM68/2 -> 2419.2 | AT68: =SUM($AM68:AM68)+AN68/2 -> 5644.8 | AU68: =SUM($AM68:AN68)+AO68/2 -> 6451.2 | AV68: =SUM($AM68:AO68)+AP68/2 -> 6451.2 | AW68: =SUM($AM68:AP68)+AQ68/2 -> 6451.2 | AX68: =SUM($AM68:AQ68)+AR68/2 -> 6451.2 | AZ68: 0 | BA68: 0 | BB68: 0 | BC68: 0 | BD68: 0 | BE68: 0
A69: 66 | B69: Industrial | C69: 2028 | D69: 3404 | E69: 50 | F69: =AS69 -> 0 | G69: =AT69 -> 0 | H69: =AU69 -> 4767.525 | I69: =AV69 -> 11718 | J69: =AW69 -> 14098.875 | K69: =AX69 -> 14296.8 | L69: Speculative (Application Received) | N69: Non-Committed | P69: GS 3,000 to 4,999 | Q69: New | S69: Veridian | T69: 0 | U69: 0 | V69: 3027 | W69: 377 | X69: 0 | Y69: 0 | Z69: =T69*$E69/100 -> 0 | AA69: =U69*$E69/100 -> 0 | AB69: =V69*$E69/100 -> 1513.5 | AC69: =W69*$E69/100 -> 188.5 | AD69: =X69*$E69/100 -> 0 | AE69: =Y69*$E69/100 -> 0 | AF69: =Z69*70%*12 -> 0 | AG69: =AA69*70%*12 -> 0 | AH69: =AB69*70%*12 -> 12713.4 | AI69: =AC69*70%*12 -> 1583.4 | AJ69: =AD69*70%*12 -> 0 | AK69: =AE69*70%*12 -> 0 | AL69: 0 | AM69: =IF($AL69=1,AF69,AF69*0.75) -> 0 | AN69: =IF($AL69=1,AG69,AF69*(1-0.75)+AG69*0.75) -> 0 | AO69: =IF($AL69=1,AH69,AG69*(1-0.75)+AH69*0.75) -> 9535.05 | AP69: =IF($AL69=1,AI69,AH69*(1-0.75)+AI69*0.75) -> 4365.9 | AQ69: =IF($AL69=1,AJ69,AI69*(1-0.75)+AJ69*0.75) -> 395.85 | AR69: =IF($AL69=1,AK69,AJ69*(1-0.75)+AK69*0.75) -> 0 | AS69: =AM69/2 -> 0 | AT69: =SUM($AM69:AM69)+AN69/2 -> 0 | AU69: =SUM($AM69:AN69)+AO69/2 -> 4767.525 | AV69: =SUM($AM69:AO69)+AP69/2 -> 11718 | AW69: =SUM($AM69:AP69)+AQ69/2 -> 14098.875 | AX69: =SUM($AM69:AQ69)+AR69/2 -> 14296.8 | AZ69: 0 | BA69: 0 | BB69: 0 | BC69: 0 | BD69: 0 | BE69: 0
A70: 67 | B70: Industrial | C70: 2028 | D70: 2000 | E70: 50 | F70: =AS70 -> 0 | G70: =AT70 -> 0 | H70: =AU70 -> 3150 | I70: =AV70 -> 7350 | J70: =AW70 -> 8400 | K70: =AX70 -> 8400 | L70: Speculative (Application Received) | N70: Non-Committed | O70: GS 50 to 2,999 | P70: GS 3,000 to 4,999 | Q70: Existing | S70: Veridian | T70: 0 | U70: 0 | V70: 2000 | W70: 0 | X70: 0 | Y70: 0 | Z70: =T70*$E70/100 -> 0 | AA70: =U70*$E70/100 -> 0 | AB70: =V70*$E70/100 -> 1000 | AC70: =W70*$E70/100 -> 0 | AD70: =X70*$E70/100 -> 0 | AE70: =Y70*$E70/100 -> 0 | AF70: =Z70*70%*12 -> 0 | AG70: =AA70*70%*12 -> 0 | AH70: =AB70*70%*12 -> 8400 | AI70: =AC70*70%*12 -> 0 | AJ70: =AD70*70%*12 -> 0 | AK70: =AE70*70%*12 -> 0 | AL70: 0 | AM70: =IF($AL70=1,AF70,AF70*0.75) -> 0 | AN70: =IF($AL70=1,AG70,AF70*(1-0.75)+AG70*0.75) -> 0 | AO70: =IF($AL70=1,AH70,AG70*(1-0.75)+AH70*0.75) -> 6300 | AP70: =IF($AL70=1,AI70,AH70*(1-0.75)+AI70*0.75) -> 2100 | AQ70: =IF($AL70=1,AJ70,AI70*(1-0.75)+AJ70*0.75) -> 0 | AR70: =IF($AL70=1,AK70,AJ70*(1-0.75)+AK70*0.75) -> 0 | AS70: =AM70/2 -> 0 | AT70: =SUM($AM70:AM70)+AN70/2 -> 0 | AU70: =SUM($AM70:AN70)+AO70/2 -> 3150 | AV70: =SUM($AM70:AO70)+AP70/2 -> 7350 | AW70: =SUM($AM70:AP70)+AQ70/2 -> 8400 | AX70: =SUM($AM70:AQ70)+AR70/2 -> 8400 | AZ70: 0 | BA70: 0 | BB70: 0 | BC70: 0 | BD70: 0 | BE70: 0
A71: 68 | B71: Industrial | C71: 2026 | D71: 13044 | E71: 50 | F71: =AS71 -> 13940.325 | G71: =AT71 -> 39131.4 | H71: =AU71 -> 52583.475 | I71: =AV71 -> 54784.8 | J71: =AW71 -> 54784.8 | K71: =AX71 -> 54784.8 | L71: Speculative (Application Received) | N71: Non-Committed | O71: GS 50 to 2,999 | P71: Large Use | Q71: Existing | S71: Veridian | T71: 8851 | U71: 4193 | V71: 0 | W71: 0 | X71: 0 | Y71: 0 | Z71: =T71*$E71/100 -> 4425.5 | AA71: =U71*$E71/100 -> 2096.5 | AB71: =V71*$E71/100 -> 0 | AC71: =W71*$E71/100 -> 0 | AD71: =X71*$E71/100 -> 0 | AE71: =Y71*$E71/100 -> 0 | AF71: =Z71*70%*12 -> 37174.2 | AG71: =AA71*70%*12 -> 17610.6 | AH71: =AB71*70%*12 -> 0 | AI71: =AC71*70%*12 -> 0 | AJ71: =AD71*70%*12 -> 0 | AK71: =AE71*70%*12 -> 0 | AL71: 0 | AM71: =IF($AL71=1,AF71,AF71*0.75) -> 27880.65 | AN71: =IF($AL71=1,AG71,AF71*(1-0.75)+AG71*0.75) -> 22501.5 | AO71: =IF($AL71=1,AH71,AG71*(1-0.75)+AH71*0.75) -> 4402.65 | AP71: =IF($AL71=1,AI71,AH71*(1-0.75)+AI71*0.75) -> 0 | AQ71: =IF($AL71=1,AJ71,AI71*(1-0.75)+AJ71*0.75) -> 0 | AR71: =IF($AL71=1,AK71,AJ71*(1-0.75)+AK71*0.75) -> 0 | AS71: =AM71/2 -> 13940.325 | AT71: =SUM($AM71:AM71)+AN71/2 -> 39131.4 | AU71: =SUM($AM71:AN71)+AO71/2 -> 52583.475 | AV71: =SUM($AM71:AO71)+AP71/2 -> 54784.8 | AW71: =SUM($AM71:AP71)+AQ71/2 -> 54784.8 | AX71: =SUM($AM71:AQ71)+AR71/2 -> 54784.8 | AZ71: 0 | BA71: 0 | BB71: 0 | BC71: 0 | BD71: 0 | BE71: 0
A72: 69 | B72: Hospital | C72: 2031 | D72: 4500 | E72: 80 | F72: =AS72 -> 0 | G72: =AT72 -> 0 | H72: =AU72 -> 0 | I72: =AV72 -> 0 | J72: =AW72 -> 0 | K72: =AX72 -> 7560 | L72: Committed (Deposit Received) | N72: Committed | O72: GS 50 to 2,999 | P72: GS 3,000 to 4,999 | Q72: Existing | S72: Veridian | T72: 0 | U72: 0 | V72: 0 | W72: 0 | X72: 0 | Y72: 3000 | Z72: =T72*$E72/100 -> 0 | AA72: =U72*$E72/100 -> 0 | AB72: =V72*$E72/100 -> 0 | AC72: =W72*$E72/100 -> 0 | AD72: =X72*$E72/100 -> 0 | AE72: =Y72*$E72/100 -> 2400 | AF72: =Z72*70%*12 -> 0 | AG72: =AA72*70%*12 -> 0 | AH72: =AB72*70%*12 -> 0 | AI72: =AC72*70%*12 -> 0 | AJ72: =AD72*70%*12 -> 0 | AK72: =AE72*70%*12 -> 20160 | AL72: 0 | AM72: =IF($AL72=1,AF72,AF72*0.75) -> 0 | AN72: =IF($AL72=1,AG72,AF72*(1-0.75)+AG72*0.75) -> 0 | AO72: =IF($AL72=1,AH72,AG72*(1-0.75)+AH72*0.75) -> 0 | AP72: =IF($AL72=1,AI72,AH72*(1-0.75)+AI72*0.75) -> 0 | AQ72: =IF($AL72=1,AJ72,AI72*(1-0.75)+AJ72*0.75) -> 0 | AR72: =IF($AL72=1,AK72,AJ72*(1-0.75)+AK72*0.75) -> 15120 | AS72: =AM72/2 -> 0 | AT72: =SUM($AM72:AM72)+AN72/2 -> 0 | AU72: =SUM($AM72:AN72)+AO72/2 -> 0 | AV72: =SUM($AM72:AO72)+AP72/2 -> 0 | AW72: =SUM($AM72:AP72)+AQ72/2 -> 0 | AX72: =SUM($AM72:AQ72)+AR72/2 -> 7560 | AZ72: 0 | BA72: 0 | BB72: 0 | BC72: 0 | BD72: 0 | BE72: 0
A73: 70 | B73: Commercial | C73: 2026 | D73: 2800 | E73: 50 | F73: =AS73 -> 4410 | G73: =AT73 -> 10290 | H73: =AU73 -> 11760 | I73: =AV73 -> 11760 | J73: =AW73 -> 11760 | K73: =AX73 -> 11760 | L73: Speculative (Application Received) | N73: Non-Committed | O73: GS 50 to 2,999 | P73: GS 3,000 to 4,999 | Q73: Existing | S73: Veridian | T73: 2800 | U73: 0 | V73: 0 | W73: 0 | X73: 0 | Y73: 0 | Z73: =T73*$E73/100 -> 1400 | AA73: =U73*$E73/100 -> 0 | AB73: =V73*$E73/100 -> 0 | AC73: =W73*$E73/100 -> 0 | AD73: =X73*$E73/100 -> 0 | AE73: =Y73*$E73/100 -> 0 | AF73: =Z73*70%*12 -> 11760 | AG73: =AA73*70%*12 -> 0 | AH73: =AB73*70%*12 -> 0 | AI73: =AC73*70%*12 -> 0 | AJ73: =AD73*70%*12 -> 0 | AK73: =AE73*70%*12 -> 0 | AL73: 0 | AM73: =IF($AL73=1,AF73,AF73*0.75) -> 8820 | AN73: =IF($AL73=1,AG73,AF73*(1-0.75)+AG73*0.75) -> 2940 | AO73: =IF($AL73=1,AH73,AG73*(1-0.75)+AH73*0.75) -> 0 | AP73: =IF($AL73=1,AI73,AH73*(1-0.75)+AI73*0.75) -> 0 | AQ73: =IF($AL73=1,AJ73,AI73*(1-0.75)+AJ73*0.75) -> 0 | AR73: =IF($AL73=1,AK73,AJ73*(1-0.75)+AK73*0.75) -> 0 | AS73: =AM73/2 -> 4410 | AT73: =SUM($AM73:AM73)+AN73/2 -> 10290 | AU73: =SUM($AM73:AN73)+AO73/2 -> 11760 | AV73: =SUM($AM73:AO73)+AP73/2 -> 11760 | AW73: =SUM($AM73:AP73)+AQ73/2 -> 11760 | AX73: =SUM($AM73:AQ73)+AR73/2 -> 11760 | AZ73: 0 | BA73: 0 | BB73: 0 | BC73: 0 | BD73: 0 | BE73: 0
A74: 71 | B74: Mixed Use Residential | C74: 2026 | D74: 916 | E74: 50 | F74: =AS74 -> 1442.7 | G74: =AT74 -> 3366.3 | H74: =AU74 -> 3847.2 | I74: =AV74 -> 3847.2 | J74: =AW74 -> 3847.2 | K74: =AX74 -> 3847.2 | L74: Committed (OTC in Progress) | N74: Committed | P74: GS 50 to 2,999 | Q74: New | S74: Veridian | T74: 916 | U74: 0 | V74: 0 | W74: 0 | X74: 0 | Y74: 0 | Z74: =T74*$E74/100 -> 458 | AA74: =U74*$E74/100 -> 0 | AB74: =V74*$E74/100 -> 0 | AC74: =W74*$E74/100 -> 0 | AD74: =X74*$E74/100 -> 0 | AE74: =Y74*$E74/100 -> 0 | AF74: =Z74*70%*12 -> 3847.2 | AG74: =AA74*70%*12 -> 0 | AH74: =AB74*70%*12 -> 0 | AI74: =AC74*70%*12 -> 0 | AJ74: =AD74*70%*12 -> 0 | AK74: =AE74*70%*12 -> 0 | AL74: 0 | AM74: =IF($AL74=1,AF74,AF74*0.75) -> 2885.4 | AN74: =IF($AL74=1,AG74,AF74*(1-0.75)+AG74*0.75) -> 961.8 | AO74: =IF($AL74=1,AH74,AG74*(1-0.75)+AH74*0.75) -> 0 | AP74: =IF($AL74=1,AI74,AH74*(1-0.75)+AI74*0.75) -> 0 | AQ74: =IF($AL74=1,AJ74,AI74*(1-0.75)+AJ74*0.75) -> 0 | AR74: =IF($AL74=1,AK74,AJ74*(1-0.75)+AK74*0.75) -> 0 | AS74: =AM74/2 -> 1442.7 | AT74: =SUM($AM74:AM74)+AN74/2 -> 3366.3 | AU74: =SUM($AM74:AN74)+AO74/2 -> 3847.2 | AV74: =SUM($AM74:AO74)+AP74/2 -> 3847.2 | AW74: =SUM($AM74:AP74)+AQ74/2 -> 3847.2 | AX74: =SUM($AM74:AQ74)+AR74/2 -> 3847.2 | AZ74: 0 | BA74: 0 | BB74: 0 | BC74: 0 | BD74: 0 | BE74: 0
A75: 72 | B75: Commercial | C75: 2026 | D75: 917 | E75: 50 | F75: =AS75 -> 1444.275 | G75: =AT75 -> 3369.975 | H75: =AU75 -> 3851.4 | I75: =AV75 -> 3851.4 | J75: =AW75 -> 3851.4 | K75: =AX75 -> 3851.4 | L75: Speculative (Application Received) | N75: Non-Committed | P75: GS 50 to 2,999 | Q75: New | S75: Veridian | T75: 917 | U75: 0 | V75: 0 | W75: 0 | X75: 0 | Y75: 0 | Z75: =T75*$E75/100 -> 458.5 | AA75: =U75*$E75/100 -> 0 | AB75: =V75*$E75/100 -> 0 | AC75: =W75*$E75/100 -> 0 | AD75: =X75*$E75/100 -> 0 | AE75: =Y75*$E75/100 -> 0 | AF75: =Z75*70%*12 -> 3851.4 | AG75: =AA75*70%*12 -> 0 | AH75: =AB75*70%*12 -> 0 | AI75: =AC75*70%*12 -> 0 | AJ75: =AD75*70%*12 -> 0 | AK75: =AE75*70%*12 -> 0 | AL75: 0 | AM75: =IF($AL75=1,AF75,AF75*0.75) -> 2888.55 | AN75: =IF($AL75=1,AG75,AF75*(1-0.75)+AG75*0.75) -> 962.85 | AO75: =IF($AL75=1,AH75,AG75*(1-0.75)+AH75*0.75) -> 0 | AP75: =IF($AL75=1,AI75,AH75*(1-0.75)+AI75*0.75) -> 0 | AQ75: =IF($AL75=1,AJ75,AI75*(1-0.75)+AJ75*0.75) -> 0 | AR75: =IF($AL75=1,AK75,AJ75*(1-0.75)+AK75*0.75) -> 0 | AS75: =AM75/2 -> 1444.275 | AT75: =SUM($AM75:AM75)+AN75/2 -> 3369.975 | AU75: =SUM($AM75:AN75)+AO75/2 -> 3851.4 | AV75: =SUM($AM75:AO75)+AP75/2 -> 3851.4 | AW75: =SUM($AM75:AP75)+AQ75/2 -> 3851.4 | AX75: =SUM($AM75:AQ75)+AR75/2 -> 3851.4 | AZ75: 0 | BA75: 0 | BB75: 0 | BC75: 0 | BD75: 0 | BE75: 0
F77: =SUM(F4:F75) -> 237427.19 | G77: =SUM(G4:G75) -> 626889.86 | H77: =SUM(H4:H75) -> 910350.79 | I77: =SUM(I4:I75) -> 1123622.4 | J77: =SUM(J4:J75) -> 1230355 | K77: =SUM(K4:K75) -> 1276019.9 | T77: =SUM(T4:T75) -> 84119.857 | U77: =SUM(U4:U75) -> 40955 | V77: =SUM(V4:V75) -> 51564 | W77: =SUM(W4:W75) -> 29857 | X77: =SUM(X4:X75) -> 3339 | Y77: =SUM(Y4:Y75) -> 7708 | Z77: =SUM(Z4:Z75) -> 68791.757 | AA77: =SUM(AA4:AA75) -> 29441.6 | ... AX77: =SUM(AX4:AX75) -> 1276019.9 | AZ77: =SUM(AZ4:AZ75) -> -24460.44 | BA77: =SUM(BA4:BA75) -> -88725.12 | BB77: =SUM(BB4:BB75) -> -116891.58 | BC77: =SUM(BC4:BC75) -> -61546.5 | BD77: =SUM(BD4:BD75) -> -14139 | BE77: =SUM(BE4:BE75) -> -5230.8
A79: Sub-Totals
F81: =F2 -> 2026 | G81: =G2 -> 2027 | H81: =H2 -> 2028 | I81: =I2 -> 2029 | J81: =J2 -> 2030 | K81: =K2 -> 2031
B82: GS 50 to 2,999 | C82: Veridian | F82: =SUMIFS(F$4:F$75,$P$4:$P$75,$B82,$S$4:$S$75,$C82) -> 53877.075 | G82: =SUMIFS(G$4:G$75,$P$4:$P$75,$B82,$S$4:$S$75,$C82) -> 132679.58 | H82: =SUMIFS(H$4:H$75,$P$4:$P$75,$B82,$S$4:$S$75,$C82) -> 162729 | I82: =SUMIFS(I$4:I$75,$P$4:$P$75,$B82,$S$4:$S$75,$C82) -> 176344.56 | J82: =SUMIFS(J$4:J$75,$P$4:$P$75,$B82,$S$4:$S$75,$C82) -> 187778.64 | K82: =SUMIFS(K$4:K$75,$P$4:$P$75,$B82,$S$4:$S$75,$C82) -> 190805.16 | N82: GS 50 to 2,999 | P82: Veridian | T82: =SUMIFS(T$4:T$75,$P$4:$P$75,$B82,$S$4:$S$75,$C82) -> 19505 | U82: =SUMIFS(U$4:U$75,$P$4:$P$75,$B82,$S$4:$S$75,$C82) -> 4600 | V82: =SUMIFS(V$4:V$75,$P$4:$P$75,$B82,$S$4:$S$75,$C82) -> 500 | W82: =SUMIFS(W$4:W$75,$P$4:$P$75,$B82,$S$4:$S$75,$C82) -> 3203 | X82: =SUMIFS(X$4:X$75,$P$4:$P$75,$B82,$S$4:$S$75,$C82) -> 100 | Y82: =SUMIFS(Y$4:Y$75,$P$4:$P$75,$B82,$S$4:$S$75,$C82) -> 0 | Z82: =SUMIFS(Z$4:Z$75,$P$4:$P$75,$B82,$S$4:$S$75,$C82) -> 16002.5 | AA82: =SUMIFS(AA$4:AA$75,$P$4:$P$75,$B82,$S$4:$S$75,$C82) -> 3680 | ... AK82: =SUMIFS(AK$4:AK$75,$P$4:$P$75,$B82,$S$4:$S$75,$C82) -> 0 | AM82: =SUMIFS(AM$4:AM$75,$P$4:$P$75,$B82,$S$4:$S$75,$C82) -> 107754.15 | AN82: =SUMIFS(AN$4:AN$75,$P$4:$P$75,$B82,$S$4:$S$75,$C82) -> 49850.85 | AO82: =SUMIFS(AO$4:AO$75,$P$4:$P$75,$B82,$S$4:$S$75,$C82) -> 10248 | AP82: =SUMIFS(AP$4:AP$75,$P$4:$P$75,$B82,$S$4:$S$75,$C82) -> 16983.12 | AQ82: =SUMIFS(AQ$4:AQ$75,$P$4:$P$75,$B82,$S$4:$S$75,$C82) -> 5885.04 | AR82: =SUMIFS(AR$4:AR$75,$P$4:$P$75,$B82,$S$4:$S$75,$C82) -> 168 | AS82: =SUMIFS(AS$4:AS$75,$P$4:$P$75,$B82,$S$4:$S$75,$C82) -> 53877.075 | AT82: =SUMIFS(AT$4:AT$75,$P$4:$P$75,$B82,$S$4:$S$75,$C82) -> 132679.58 | ... AX82: =SUMIFS(AX$4:AX$75,$P$4:$P$75,$B82,$S$4:$S$75,$C82) -> 190805.16 | AZ82: =SUMIFS(AZ$4:AZ$75,$P$4:$P$75,$B82,$S$4:$S$75,$C82) -> -11491.2 | BA82: =SUMIFS(BA$4:BA$75,$P$4:$P$75,$B82,$S$4:$S$75,$C82) -> -20260.8 | BB82: =SUMIFS(BB$4:BB$75,$P$4:$P$75,$B82,$S$4:$S$75,$C82) -> -17623.2 | BC82: =SUMIFS(BC$4:BC$75,$P$4:$P$75,$B82,$S$4:$S$75,$C82) -> -11004 | BD82: =SUMIFS(BD$4:BD$75,$P$4:$P$75,$B82,$S$4:$S$75,$C82) -> -1562.4 | BE82: =SUMIFS(BE$4:BE$75,$P$4:$P$75,$B82,$S$4:$S$75,$C82) -> 1008
B83: GS 3,000 to 4,999 | C83: Veridian | F83: =SUMIFS(F$4:F$75,$P$4:$P$75,$B83,$S$4:$S$75,$C83) -> 64294.05 | G83: =SUMIFS(G$4:G$75,$P$4:$P$75,$B83,$S$4:$S$75,$C83) -> 156708.15 | H83: =SUMIFS(H$4:H$75,$P$4:$P$75,$B83,$S$4:$S$75,$C83) -> 205006.57 | I83: =SUMIFS(I$4:I$75,$P$4:$P$75,$B83,$S$4:$S$75,$C83) -> 232741.8 | J83: =SUMIFS(J$4:J$75,$P$4:$P$75,$B83,$S$4:$S$75,$C83) -> 244591.58 | K83: =SUMIFS(K$4:K$75,$P$4:$P$75,$B83,$S$4:$S$75,$C83) -> 257678.25 | N83: GS 3,000 to 4,999 | P83: Veridian | T83: =SUMIFS(T$4:T$75,$P$4:$P$75,$B83,$S$4:$S$75,$C83) -> 21679.857 | U83: =SUMIFS(U$4:U$75,$P$4:$P$75,$B83,$S$4:$S$75,$C83) -> 4448 | V83: =SUMIFS(V$4:V$75,$P$4:$P$75,$B83,$S$4:$S$75,$C83) -> 7620 | W83: =SUMIFS(W$4:W$75,$P$4:$P$75,$B83,$S$4:$S$75,$C83) -> 952 | X83: =SUMIFS(X$4:X$75,$P$4:$P$75,$B83,$S$4:$S$75,$C83) -> 1175 | Y83: =SUMIFS(Y$4:Y$75,$P$4:$P$75,$B83,$S$4:$S$75,$C83) -> 3000 | Z83: =SUMIFS(Z$4:Z$75,$P$4:$P$75,$B83,$S$4:$S$75,$C83) -> 18979.857 | AA83: =SUMIFS(AA$4:AA$75,$P$4:$P$75,$B83,$S$4:$S$75,$C83) -> 3898 | ... AK83: =SUMIFS(AK$4:AK$75,$P$4:$P$75,$B83,$S$4:$S$75,$C83) -> 20160 | AM83: =SUMIFS(AM$4:AM$75,$P$4:$P$75,$B83,$S$4:$S$75,$C83) -> 128588.1 | AN83: =SUMIFS(AN$4:AN$75,$P$4:$P$75,$B83,$S$4:$S$75,$C83) -> 56240.1 | AO83: =SUMIFS(AO$4:AO$75,$P$4:$P$75,$B83,$S$4:$S$75,$C83) -> 40356.75 | AP83: =SUMIFS(AP$4:AP$75,$P$4:$P$75,$B83,$S$4:$S$75,$C83) -> 15113.7 | AQ83: =SUMIFS(AQ$4:AQ$75,$P$4:$P$75,$B83,$S$4:$S$75,$C83) -> 8585.85 | AR83: =SUMIFS(AR$4:AR$75,$P$4:$P$75,$B83,$S$4:$S$75,$C83) -> 17587.5 | AS83: =SUMIFS(AS$4:AS$75,$P$4:$P$75,$B83,$S$4:$S$75,$C83) -> 64294.05 | AT83: =SUMIFS(AT$4:AT$75,$P$4:$P$75,$B83,$S$4:$S$75,$C83) -> 156708.15 | ... AX83: =SUMIFS(AX$4:AX$75,$P$4:$P$75,$B83,$S$4:$S$75,$C83) -> 257678.25 | AZ83: =SUMIFS(AZ$4:AZ$75,$P$4:$P$75,$B83,$S$4:$S$75,$C83) -> 12373.2 | BA83: =SUMIFS(BA$4:BA$75,$P$4:$P$75,$B83,$S$4:$S$75,$C83) -> 23216.55 | BB83: =SUMIFS(BB$4:BB$75,$P$4:$P$75,$B83,$S$4:$S$75,$C83) -> 17581.2 | BC83: =SUMIFS(BC$4:BC$75,$P$4:$P$75,$B83,$S$4:$S$75,$C83) -> 11387.25 | BD83: =SUMIFS(BD$4:BD$75,$P$4:$P$75,$B83,$S$4:$S$75,$C83) -> 8849.4 | BE83: =SUMIFS(BE$4:BE$75,$P$4:$P$75,$B83,$S$4:$S$75,$C83) -> 8400
B84: Large Use | C84: Veridian | F84: =SUMIFS(F$4:F$75,$P$4:$P$75,$B84) -> 65383.725 | G84: =SUMIFS(G$4:G$75,$P$4:$P$75,$B84) -> 188022.9 | H84: =SUMIFS(H$4:H$75,$P$4:$P$75,$B84) -> 333318.22 | I84: =SUMIFS(I$4:I$75,$P$4:$P$75,$B84) -> 462025.65 | J84: =SUMIFS(J$4:J$75,$P$4:$P$75,$B84) -> 510568.2 | K84: =SUMIFS(K$4:K$75,$P$4:$P$75,$B84) -> 518443.2 | N84: Large Use | P84: Veridian | T84: =SUMIFS(T$4:T$75,$P$4:$P$75,$B84) -> 23419.429 | U84: =SUMIFS(U$4:U$75,$P$4:$P$75,$B84) -> 19159 | V84: =SUMIFS(V$4:V$75,$P$4:$P$75,$B84) -> 39212 | W84: =SUMIFS(W$4:W$75,$P$4:$P$75,$B84) -> 15000 | X84: =SUMIFS(X$4:X$75,$P$4:$P$75,$B84) -> 0 | Y84: =SUMIFS(Y$4:Y$75,$P$4:$P$75,$B84) -> 0 | Z84: =SUMIFS(Z$4:Z$75,$P$4:$P$75,$B84) -> 17833.929 | AA84: =SUMIFS(AA$4:AA$75,$P$4:$P$75,$B84) -> 13404.5 | ... AK84: =SUMIFS(AK$4:AK$75,$P$4:$P$75,$B84) -> 0 | AM84: =SUMIFS(AM$4:AM$75,$P$4:$P$75,$B84) -> 130767.45 | AN84: =SUMIFS(AN$4:AN$75,$P$4:$P$75,$B84) -> 114510.9 | AO84: =SUMIFS(AO$4:AO$75,$P$4:$P$75,$B84) -> 176079.75 | AP84: =SUMIFS(AP$4:AP$75,$P$4:$P$75,$B84) -> 81335.1 | AQ84: =SUMIFS(AQ$4:AQ$75,$P$4:$P$75,$B84) -> 15750 | AR84: =SUMIFS(AR$4:AR$75,$P$4:$P$75,$B84) -> 0 | AS84: =SUMIFS(AS$4:AS$75,$P$4:$P$75,$B84) -> 65383.725 | AT84: =SUMIFS(AT$4:AT$75,$P$4:$P$75,$B84) -> 188022.9 | ... AX84: =SUMIFS(AX$4:AX$75,$P$4:$P$75,$B84) -> 518443.2 | AZ84: =SUMIFS(AZ$4:AZ$75,$P$4:$P$75,$B84) -> -9002.7 | BA84: =SUMIFS(BA$4:BA$75,$P$4:$P$75,$B84) -> -63131.25 | BB84: =SUMIFS(BB$4:BB$75,$P$4:$P$75,$B84) -> -94796.1 | BC84: =SUMIFS(BC$4:BC$75,$P$4:$P$75,$B84) -> -48542.55 | BD84: =SUMIFS(BD$4:BD$75,$P$4:$P$75,$B84) -> -7875 | BE84: =SUMIFS(BE$4:BE$75,$P$4:$P$75,$B84) -> 0
B86: GS 50 to 2,999 | C86: Whitby | F86: =SUMIFS(F$4:F$75,$P$4:$P$75,$B86,$S$4:$S$75,$C86) -> 31011.135 | G86: =SUMIFS(G$4:G$75,$P$4:$P$75,$B86,$S$4:$S$75,$C86) -> 91501.23 | H86: =SUMIFS(H$4:H$75,$P$4:$P$75,$B86,$S$4:$S$75,$C86) -> 133099.4 | I86: =SUMIFS(I$4:I$75,$P$4:$P$75,$B86,$S$4:$S$75,$C86) -> 158685.38 | J86: =SUMIFS(J$4:J$75,$P$4:$P$75,$B86,$S$4:$S$75,$C86) -> 179828.17 | K86: =SUMIFS(K$4:K$75,$P$4:$P$75,$B86,$S$4:$S$75,$C86) -> 191340.9 | N86: GS 50 to 2,999 | P86: Whitby | T86: =SUMIFS(T$4:T$75,$P$4:$P$75,$B86,$S$4:$S$75,$C86) -> 13122.429 | U86: =SUMIFS(U$4:U$75,$P$4:$P$75,$B86,$S$4:$S$75,$C86) -> 9980 | V86: =SUMIFS(V$4:V$75,$P$4:$P$75,$B86,$S$4:$S$75,$C86) -> 3212 | W86: =SUMIFS(W$4:W$75,$P$4:$P$75,$B86,$S$4:$S$75,$C86) -> 5425 | X86: =SUMIFS(X$4:X$75,$P$4:$P$75,$B86,$S$4:$S$75,$C86) -> 2064 | Y86: =SUMIFS(Y$4:Y$75,$P$4:$P$75,$B86,$S$4:$S$75,$C86) -> 1508 | Z86: =SUMIFS(Z$4:Z$75,$P$4:$P$75,$B86,$S$4:$S$75,$C86) -> 9582.3286 | AA86: =SUMIFS(AA$4:AA$75,$P$4:$P$75,$B86,$S$4:$S$75,$C86) -> 6091.1 | ... AK86: =SUMIFS(AK$4:AK$75,$P$4:$P$75,$B86,$S$4:$S$75,$C86) -> 6333.6 | AM86: =SUMIFS(AM$4:AM$75,$P$4:$P$75,$B86,$S$4:$S$75,$C86) -> 62022.27 | AN86: =SUMIFS(AN$4:AN$75,$P$4:$P$75,$B86,$S$4:$S$75,$C86) -> 58957.92 | AO86: =SUMIFS(AO$4:AO$75,$P$4:$P$75,$B86,$S$4:$S$75,$C86) -> 24238.41 | AP86: =SUMIFS(AP$4:AP$75,$P$4:$P$75,$B86,$S$4:$S$75,$C86) -> 26933.55 | AQ86: =SUMIFS(AQ$4:AQ$75,$P$4:$P$75,$B86,$S$4:$S$75,$C86) -> 15352.05 | AR86: =SUMIFS(AR$4:AR$75,$P$4:$P$75,$B86,$S$4:$S$75,$C86) -> 7673.4 | AS86: =SUMIFS(AS$4:AS$75,$P$4:$P$75,$B86,$S$4:$S$75,$C86) -> 31011.135 | AT86: =SUMIFS(AT$4:AT$75,$P$4:$P$75,$B86,$S$4:$S$75,$C86) -> 91501.23 | ... AX86: =SUMIFS(AX$4:AX$75,$P$4:$P$75,$B86,$S$4:$S$75,$C86) -> 191340.9 | AZ86: =SUMIFS(AZ$4:AZ$75,$P$4:$P$75,$B86,$S$4:$S$75,$C86) -> -4999.74 | BA86: =SUMIFS(BA$4:BA$75,$P$4:$P$75,$B86,$S$4:$S$75,$C86) -> -7129.62 | BB86: =SUMIFS(BB$4:BB$75,$P$4:$P$75,$B86,$S$4:$S$75,$C86) -> -3573.48 | BC86: =SUMIFS(BC$4:BC$75,$P$4:$P$75,$B86,$S$4:$S$75,$C86) -> -2887.2 | BD86: =SUMIFS(BD$4:BD$75,$P$4:$P$75,$B86,$S$4:$S$75,$C86) -> -3387 | BE86: =SUMIFS(BE$4:BE$75,$P$4:$P$75,$B86,$S$4:$S$75,$C86) -> -3886.8
B87: GS 3,000 to 4,999 | C87: Whitby | F87: =SUMIFS(F$4:F$75,$P$4:$P$75,$B87,$S$4:$S$75,$C87) -> 22861.2 | G87: =SUMIFS(G$4:G$75,$P$4:$P$75,$B87,$S$4:$S$75,$C87) -> 57978 | H87: =SUMIFS(H$4:H$75,$P$4:$P$75,$B87,$S$4:$S$75,$C87) -> 76197.6 | I87: =SUMIFS(I$4:I$75,$P$4:$P$75,$B87,$S$4:$S$75,$C87) -> 93825 | J87: =SUMIFS(J$4:J$75,$P$4:$P$75,$B87,$S$4:$S$75,$C87) -> 107588.4 | K87: =SUMIFS(K$4:K$75,$P$4:$P$75,$B87,$S$4:$S$75,$C87) -> 117752.4 | N87: GS 3,000 to 4,999 | P87: Whitby | T87: =SUMIFS(T$4:T$75,$P$4:$P$75,$B87,$S$4:$S$75,$C87) -> 6393.1429 | U87: =SUMIFS(U$4:U$75,$P$4:$P$75,$B87,$S$4:$S$75,$C87) -> 2768 | V87: =SUMIFS(V$4:V$75,$P$4:$P$75,$B87,$S$4:$S$75,$C87) -> 1020 | W87: =SUMIFS(W$4:W$75,$P$4:$P$75,$B87,$S$4:$S$75,$C87) -> 5277 | X87: =SUMIFS(X$4:X$75,$P$4:$P$75,$B87,$S$4:$S$75,$C87) -> 0 | Y87: =SUMIFS(Y$4:Y$75,$P$4:$P$75,$B87,$S$4:$S$75,$C87) -> 3200 | Z87: =SUMIFS(Z$4:Z$75,$P$4:$P$75,$B87,$S$4:$S$75,$C87) -> 6393.1429 | AA87: =SUMIFS(AA$4:AA$75,$P$4:$P$75,$B87,$S$4:$S$75,$C87) -> 2368 | ... AK87: =SUMIFS(AK$4:AK$75,$P$4:$P$75,$B87,$S$4:$S$75,$C87) -> 21504 | AM87: =SUMIFS(AM$4:AM$75,$P$4:$P$75,$B87,$S$4:$S$75,$C87) -> 45722.4 | AN87: =SUMIFS(AN$4:AN$75,$P$4:$P$75,$B87,$S$4:$S$75,$C87) -> 24511.2 | AO87: =SUMIFS(AO$4:AO$75,$P$4:$P$75,$B87,$S$4:$S$75,$C87) -> 11928 | AP87: =SUMIFS(AP$4:AP$75,$P$4:$P$75,$B87,$S$4:$S$75,$C87) -> 23326.8 | AQ87: =SUMIFS(AQ$4:AQ$75,$P$4:$P$75,$B87,$S$4:$S$75,$C87) -> 4200 | AR87: =SUMIFS(AR$4:AR$75,$P$4:$P$75,$B87,$S$4:$S$75,$C87) -> 16128 | AS87: =SUMIFS(AS$4:AS$75,$P$4:$P$75,$B87,$S$4:$S$75,$C87) -> 22861.2 | AT87: =SUMIFS(AT$4:AT$75,$P$4:$P$75,$B87,$S$4:$S$75,$C87) -> 57978 | ... AX87: =SUMIFS(AX$4:AX$75,$P$4:$P$75,$B87,$S$4:$S$75,$C87) -> 117752.4 | AZ87: =SUMIFS(AZ$4:AZ$75,$P$4:$P$75,$B87,$S$4:$S$75,$C87) -> -11340 | BA87: =SUMIFS(BA$4:BA$75,$P$4:$P$75,$B87,$S$4:$S$75,$C87) -> -21420 | BB87: =SUMIFS(BB$4:BB$75,$P$4:$P$75,$B87,$S$4:$S$75,$C87) -> -18480 | BC87: =SUMIFS(BC$4:BC$75,$P$4:$P$75,$B87,$S$4:$S$75,$C87) -> -10500 | BD87: =SUMIFS(BD$4:BD$75,$P$4:$P$75,$B87,$S$4:$S$75,$C87) -> -10164 | BE87: =SUMIFS(BE$4:BE$75,$P$4:$P$75,$B87,$S$4:$S$75,$C87) -> -10752
B88: Total | F88: =SUM(F82:F87) -> 237427.18 | G88: =SUM(G82:G87) -> 626889.85 | H88: =SUM(H82:H87) -> 910350.8 | I88: =SUM(I82:I87) -> 1123622.4 | J88: =SUM(J82:J87) -> 1230355 | K88: =SUM(K82:K87) -> 1276019.9 | N88: Total | T88: =SUM(T82:T87) -> 84119.857 | U88: =SUM(U82:U87) -> 40955 | V88: =SUM(V82:V87) -> 51564 | W88: =SUM(W82:W87) -> 29857 | X88: =SUM(X82:X87) -> 3339 | Y88: =SUM(Y82:Y87) -> 7708 | Z88: =SUM(Z82:Z87) -> 68791.757 | AA88: =SUM(AA82:AA87) -> 29441.6 | ... AK88: =SUM(AK82:AK87) -> 47997.6 | AM88: =SUM(AM82:AM87) -> 474854.37 | AN88: =SUM(AN82:AN87) -> 304070.97 | AO88: =SUM(AO82:AO87) -> 262850.91 | AP88: =SUM(AP82:AP87) -> 163692.27 | AQ88: =SUM(AQ82:AQ87) -> 49772.94 | AR88: =SUM(AR82:AR87) -> 41556.9 | AS88: =SUM(AS82:AS87) -> 237427.18 | AT88: =SUM(AT82:AT87) -> 626889.85 | ... AX88: =SUM(AX82:AX87) -> 1276019.9 | AZ88: =SUM(AZ82:AZ87) -> -24460.44 | BA88: =SUM(BA82:BA87) -> -88725.12 | BB88: =SUM(BB82:BB87) -> -116891.58 | BC88: =SUM(BC82:BC87) -> -61546.5 | BD88: =SUM(BD82:BD87) -> -14139 | BE88: =SUM(BE82:BE87) -> -5230.8
AT89: =AT88-AT95 -> 0
B91: New | C91: Committed | F91: =SUMIFS(F$4:F$75,$Q$4:$Q$75,$N91,$N$4:$N$75,$P91) -> 104227.56 | G91: =SUMIFS(G$4:G$75,$Q$4:$Q$75,$N91,$N$4:$N$75,$P91) -> 268922.73 | H91: =SUMIFS(H$4:H$75,$Q$4:$Q$75,$N91,$N$4:$N$75,$P91) -> 391201.32 | I91: =SUMIFS(I$4:I$75,$Q$4:$Q$75,$N91,$N$4:$N$75,$P91) -> 521702.46 | J91: =SUMIFS(J$4:J$75,$Q$4:$Q$75,$N91,$N$4:$N$75,$P91) -> 613327.14 | K91: =SUMIFS(K$4:K$75,$Q$4:$Q$75,$N91,$N$4:$N$75,$P91) -> 639637.41 | N91: New | P91: Committed | T91: =SUMIFS(T$4:T$75,$Q$4:$Q$75,$N91,$N$4:$N$75,$P91) -> 35762.286 | U91: =SUMIFS(U$4:U$75,$Q$4:$Q$75,$N91,$N$4:$N$75,$P91) -> 12282 | V91: =SUMIFS(V$4:V$75,$Q$4:$Q$75,$N91,$N$4:$N$75,$P91) -> 29261 | W91: =SUMIFS(W$4:W$75,$Q$4:$Q$75,$N91,$N$4:$N$75,$P91) -> 27031 | X91: =SUMIFS(X$4:X$75,$Q$4:$Q$75,$N91,$N$4:$N$75,$P91) -> 2975 | Y91: =SUMIFS(Y$4:Y$75,$Q$4:$Q$75,$N91,$N$4:$N$75,$P91) -> 500 | Z91: =SUMIFS(Z$4:Z$75,$Q$4:$Q$75,$N91,$N$4:$N$75,$P91) -> 31671.686 | AA91: =SUMIFS(AA$4:AA$75,$Q$4:$Q$75,$N91,$N$4:$N$75,$P91) -> 9463.6 | ... AK91: =SUMIFS(AK$4:AK$75,$Q$4:$Q$75,$N91,$N$4:$N$75,$P91) -> 2100 | AM91: =SUMIFS(AM$4:AM$75,$Q$4:$Q$75,$N91,$N$4:$N$75,$P91) -> 208455.12 | AN91: =SUMIFS(AN$4:AN$75,$Q$4:$Q$75,$N91,$N$4:$N$75,$P91) -> 120935.22 | AO91: =SUMIFS(AO$4:AO$75,$Q$4:$Q$75,$N91,$N$4:$N$75,$P91) -> 123621.96 | AP91: =SUMIFS(AP$4:AP$75,$Q$4:$Q$75,$N91,$N$4:$N$75,$P91) -> 137380.32 | AQ91: =SUMIFS(AQ$4:AQ$75,$Q$4:$Q$75,$N91,$N$4:$N$75,$P91) -> 45869.04 | AR91: =SUMIFS(AR$4:AR$75,$Q$4:$Q$75,$N91,$N$4:$N$75,$P91) -> 6751.5 | AS91: =SUMIFS(AS$4:AS$75,$Q$4:$Q$75,$N91,$N$4:$N$75,$P91) -> 104227.56 | AT91: =SUMIFS(AT$4:AT$75,$Q$4:$Q$75,$N91,$N$4:$N$75,$P91) -> 268922.73 | ... AX91: =SUMIFS(AX$4:AX$75,$Q$4:$Q$75,$N91,$N$4:$N$75,$P91) -> 639637.41 | AZ91: =SUMIFS(AZ$4:AZ$75,$Q$4:$Q$75,$N91,$N$4:$N$75,$P91) -> -17750.94 | BA91: =SUMIFS(BA$4:BA$75,$Q$4:$Q$75,$N91,$N$4:$N$75,$P91) -> -71595.42 | BB91: =SUMIFS(BB$4:BB$75,$Q$4:$Q$75,$N91,$N$4:$N$75,$P91) -> -105091.68 | BC91: =SUMIFS(BC$4:BC$75,$Q$4:$Q$75,$N91,$N$4:$N$75,$P91) -> -60616.2 | BD91: =SUMIFS(BD$4:BD$75,$Q$4:$Q$75,$N91,$N$4:$N$75,$P91) -> -6524.4 | BE91: =SUMIFS(BE$4:BE$75,$Q$4:$Q$75,$N91,$N$4:$N$75,$P91) -> 5521.2
B92: Existing | C92: Committed | F92: =SUMIFS(F$4:F$75,$Q$4:$Q$75,$N92,$N$4:$N$75,$P92) -> 103742.4 | G92: =SUMIFS(G$4:G$75,$Q$4:$Q$75,$N92,$N$4:$N$75,$P92) -> 266569.35 | H92: =SUMIFS(H$4:H$75,$Q$4:$Q$75,$N92,$N$4:$N$75,$P92) -> 364521.75 | I92: =SUMIFS(I$4:I$75,$Q$4:$Q$75,$N92,$N$4:$N$75,$P92) -> 404679 | J92: =SUMIFS(J$4:J$75,$Q$4:$Q$75,$N92,$N$4:$N$75,$P92) -> 405968.4 | K92: =SUMIFS(K$4:K$75,$Q$4:$Q$75,$N92,$N$4:$N$75,$P92) -> 421592.4 | N92: =Q73 -> Existing | P92: Committed | T92: =SUMIFS(T$4:T$75,$Q$4:$Q$75,$N92,$N$4:$N$75,$P92) -> 30254.571 | U92: =SUMIFS(U$4:U$75,$Q$4:$Q$75,$N92,$N$4:$N$75,$P92) -> 14283 | V92: =SUMIFS(V$4:V$75,$Q$4:$Q$75,$N92,$N$4:$N$75,$P92) -> 7578 | W92: =SUMIFS(W$4:W$75,$Q$4:$Q$75,$N92,$N$4:$N$75,$P92) -> 200 | X92: =SUMIFS(X$4:X$75,$Q$4:$Q$75,$N92,$N$4:$N$75,$P92) -> 0 | Y92: =SUMIFS(Y$4:Y$75,$Q$4:$Q$75,$N92,$N$4:$N$75,$P92) -> 6200 | Z92: =SUMIFS(Z$4:Z$75,$Q$4:$Q$75,$N92,$N$4:$N$75,$P92) -> 27768.571 | AA92: =SUMIFS(AA$4:AA$75,$Q$4:$Q$75,$N92,$N$4:$N$75,$P92) -> 12783 | ... AK92: =SUMIFS(AK$4:AK$75,$Q$4:$Q$75,$N92,$N$4:$N$75,$P92) -> 41664 | AM92: =SUMIFS(AM$4:AM$75,$Q$4:$Q$75,$N92,$N$4:$N$75,$P92) -> 207484.8 | AN92: =SUMIFS(AN$4:AN$75,$Q$4:$Q$75,$N92,$N$4:$N$75,$P92) -> 118169.1 | AO92: =SUMIFS(AO$4:AO$75,$Q$4:$Q$75,$N92,$N$4:$N$75,$P92) -> 77735.7 | AP92: =SUMIFS(AP$4:AP$75,$Q$4:$Q$75,$N92,$N$4:$N$75,$P92) -> 2578.8 | AQ92: =SUMIFS(AQ$4:AQ$75,$Q$4:$Q$75,$N92,$N$4:$N$75,$P92) -> 0 | AR92: =SUMIFS(AR$4:AR$75,$Q$4:$Q$75,$N92,$N$4:$N$75,$P92) -> 31248 | AS92: =SUMIFS(AS$4:AS$75,$Q$4:$Q$75,$N92,$N$4:$N$75,$P92) -> 103742.4 | AT92: =SUMIFS(AT$4:AT$75,$Q$4:$Q$75,$N92,$N$4:$N$75,$P92) -> 266569.35 | ... AX92: =SUMIFS(AX$4:AX$75,$Q$4:$Q$75,$N92,$N$4:$N$75,$P92) -> 421592.4 | AZ92: =SUMIFS(AZ$4:AZ$75,$Q$4:$Q$75,$N92,$N$4:$N$75,$P92) -> 2293.2 | BA92: =SUMIFS(BA$4:BA$75,$Q$4:$Q$75,$N92,$N$4:$N$75,$P92) -> 6626.55 | BB92: =SUMIFS(BB$4:BB$75,$Q$4:$Q$75,$N92,$N$4:$N$75,$P92) -> 6871.2 | BC92: =SUMIFS(BC$4:BC$75,$Q$4:$Q$75,$N92,$N$4:$N$75,$P92) -> 2987.25 | BD92: =SUMIFS(BD$4:BD$75,$Q$4:$Q$75,$N92,$N$4:$N$75,$P92) -> -7614.6 | BE92: =SUMIFS(BE$4:BE$75,$Q$4:$Q$75,$N92,$N$4:$N$75,$P92) -> -10752
B93: New | C93: Non-Committed | F93: =SUMIFS(F$4:F$75,$Q$4:$Q$75,$N93,$N$4:$N$75,$P93) -> 7048.125 | G93: =SUMIFS(G$4:G$75,$Q$4:$Q$75,$N93,$N$4:$N$75,$P93) -> 32505.9 | H93: =SUMIFS(H$4:H$75,$Q$4:$Q$75,$N93,$N$4:$N$75,$P93) -> 76310.85 | I93: =SUMIFS(I$4:I$75,$Q$4:$Q$75,$N93,$N$4:$N$75,$P93) -> 112522.72 | J93: =SUMIFS(J$4:J$75,$Q$4:$Q$75,$N93,$N$4:$N$75,$P93) -> 125291.25 | K93: =SUMIFS(K$4:K$75,$Q$4:$Q$75,$N93,$N$4:$N$75,$P93) -> 129021.9 | N93: New | P93: Non-Committed | T93: =SUMIFS(T$4:T$75,$Q$4:$Q$75,$N93,$N$4:$N$75,$P93) -> 4475 | U93: =SUMIFS(U$4:U$75,$Q$4:$Q$75,$N93,$N$4:$N$75,$P93) -> 10197 | V93: =SUMIFS(V$4:V$75,$Q$4:$Q$75,$N93,$N$4:$N$75,$P93) -> 12725 | W93: =SUMIFS(W$4:W$75,$Q$4:$Q$75,$N93,$N$4:$N$75,$P93) -> 2626 | X93: =SUMIFS(X$4:X$75,$Q$4:$Q$75,$N93,$N$4:$N$75,$P93) -> 364 | Y93: =SUMIFS(Y$4:Y$75,$Q$4:$Q$75,$N93,$N$4:$N$75,$P93) -> 1008 | Z93: =SUMIFS(Z$4:Z$75,$Q$4:$Q$75,$N93,$N$4:$N$75,$P93) -> 2237.5 | AA93: =SUMIFS(AA$4:AA$75,$Q$4:$Q$75,$N93,$N$4:$N$75,$P93) -> 5098.5 | ... AK93: =SUMIFS(AK$4:AK$75,$Q$4:$Q$75,$N93,$N$4:$N$75,$P93) -> 4233.6 | AM93: =SUMIFS(AM$4:AM$75,$Q$4:$Q$75,$N93,$N$4:$N$75,$P93) -> 14096.25 | AN93: =SUMIFS(AN$4:AN$75,$Q$4:$Q$75,$N93,$N$4:$N$75,$P93) -> 36819.3 | AO93: =SUMIFS(AO$4:AO$75,$Q$4:$Q$75,$N93,$N$4:$N$75,$P93) -> 50790.6 | AP93: =SUMIFS(AP$4:AP$75,$Q$4:$Q$75,$N93,$N$4:$N$75,$P93) -> 21633.15 | AQ93: =SUMIFS(AQ$4:AQ$75,$Q$4:$Q$75,$N93,$N$4:$N$75,$P93) -> 3903.9 | AR93: =SUMIFS(AR$4:AR$75,$Q$4:$Q$75,$N93,$N$4:$N$75,$P93) -> 3557.4 | AS93: =SUMIFS(AS$4:AS$75,$Q$4:$Q$75,$N93,$N$4:$N$75,$P93) -> 7048.125 | AT93: =SUMIFS(AT$4:AT$75,$Q$4:$Q$75,$N93,$N$4:$N$75,$P93) -> 32505.9 | ... AX93: =SUMIFS(AX$4:AX$75,$Q$4:$Q$75,$N93,$N$4:$N$75,$P93) -> 129021.9 | AZ93: =SUMIFS(AZ$4:AZ$75,$Q$4:$Q$75,$N93,$N$4:$N$75,$P93) -> -9002.7 | BA93: =SUMIFS(BA$4:BA$75,$Q$4:$Q$75,$N93,$N$4:$N$75,$P93) -> -23756.25 | BB93: =SUMIFS(BB$4:BB$75,$Q$4:$Q$75,$N93,$N$4:$N$75,$P93) -> -18671.1 | BC93: =SUMIFS(BC$4:BC$75,$Q$4:$Q$75,$N93,$N$4:$N$75,$P93) -> -3917.55 | BD93: =SUMIFS(BD$4:BD$75,$Q$4:$Q$75,$N93,$N$4:$N$75,$P93) -> 0 | BE93: =SUMIFS(BE$4:BE$75,$Q$4:$Q$75,$N93,$N$4:$N$75,$P93) -> 0
B94: Existing | C94: Non-Committed | F94: =SUMIFS(F$4:F$75,$Q$4:$Q$75,$N94,$N$4:$N$75,$P94) -> 22409.1 | G94: =SUMIFS(G$4:G$75,$Q$4:$Q$75,$N94,$N$4:$N$75,$P94) -> 58891.875 | H94: =SUMIFS(H$4:H$75,$Q$4:$Q$75,$N94,$N$4:$N$75,$P94) -> 78316.875 | I94: =SUMIFS(I$4:I$75,$Q$4:$Q$75,$N94,$N$4:$N$75,$P94) -> 84718.2 | J94: =SUMIFS(J$4:J$75,$Q$4:$Q$75,$N94,$N$4:$N$75,$P94) -> 85768.2 | K94: =SUMIFS(K$4:K$75,$Q$4:$Q$75,$N94,$N$4:$N$75,$P94) -> 85768.2 | N94: =N92 -> Existing | P94: Non-Committed | T94: =SUMIFS(T$4:T$75,$Q$4:$Q$75,$N94,$N$4:$N$75,$P94) -> 13628 | U94: =SUMIFS(U$4:U$75,$Q$4:$Q$75,$N94,$N$4:$N$75,$P94) -> 4193 | V94: =SUMIFS(V$4:V$75,$Q$4:$Q$75,$N94,$N$4:$N$75,$P94) -> 2000 | W94: =SUMIFS(W$4:W$75,$Q$4:$Q$75,$N94,$N$4:$N$75,$P94) -> 0 | X94: =SUMIFS(X$4:X$75,$Q$4:$Q$75,$N94,$N$4:$N$75,$P94) -> 0 | Y94: =SUMIFS(Y$4:Y$75,$Q$4:$Q$75,$N94,$N$4:$N$75,$P94) -> 0 | Z94: =SUMIFS(Z$4:Z$75,$Q$4:$Q$75,$N94,$N$4:$N$75,$P94) -> 7114 | AA94: =SUMIFS(AA$4:AA$75,$Q$4:$Q$75,$N94,$N$4:$N$75,$P94) -> 2096.5 | ... AK94: =SUMIFS(AK$4:AK$75,$Q$4:$Q$75,$N94,$N$4:$N$75,$P94) -> 0 | AM94: =SUMIFS(AM$4:AM$75,$Q$4:$Q$75,$N94,$N$4:$N$75,$P94) -> 44818.2 | AN94: =SUMIFS(AN$4:AN$75,$Q$4:$Q$75,$N94,$N$4:$N$75,$P94) -> 28147.35 | AO94: =SUMIFS(AO$4:AO$75,$Q$4:$Q$75,$N94,$N$4:$N$75,$P94) -> 10702.65 | AP94: =SUMIFS(AP$4:AP$75,$Q$4:$Q$75,$N94,$N$4:$N$75,$P94) -> 2100 | AQ94: =SUMIFS(AQ$4:AQ$75,$Q$4:$Q$75,$N94,$N$4:$N$75,$P94) -> 0 | AR94: =SUMIFS(AR$4:AR$75,$Q$4:$Q$75,$N94,$N$4:$N$75,$P94) -> 0 | AS94: =SUMIFS(AS$4:AS$75,$Q$4:$Q$75,$N94,$N$4:$N$75,$P94) -> 22409.1 | AT94: =SUMIFS(AT$4:AT$75,$Q$4:$Q$75,$N94,$N$4:$N$75,$P94) -> 58891.875 | ... AX94: =SUMIFS(AX$4:AX$75,$Q$4:$Q$75,$N94,$N$4:$N$75,$P94) -> 85768.2 | AZ94: =SUMIFS(AZ$4:AZ$75,$Q$4:$Q$75,$N94,$N$4:$N$75,$P94) -> 0 | BA94: =SUMIFS(BA$4:BA$75,$Q$4:$Q$75,$N94,$N$4:$N$75,$P94) -> 0 | BB94: =SUMIFS(BB$4:BB$75,$Q$4:$Q$75,$N94,$N$4:$N$75,$P94) -> 0 | BC94: =SUMIFS(BC$4:BC$75,$Q$4:$Q$75,$N94,$N$4:$N$75,$P94) -> 0 | BD94: =SUMIFS(BD$4:BD$75,$Q$4:$Q$75,$N94,$N$4:$N$75,$P94) -> 0 | BE94: =SUMIFS(BE$4:BE$75,$Q$4:$Q$75,$N94,$N$4:$N$75,$P94) -> 0
F95: =SUM(F91:F94) -> 237427.18 | G95: =SUM(G91:G94) -> 626889.85 | H95: =SUM(H91:H94) -> 910350.8 | I95: =SUM(I91:I94) -> 1123622.4 | J95: =SUM(J91:J94) -> 1230355 | K95: =SUM(K91:K94) -> 1276019.9 | T95: =SUM(T91:T94) -> 84119.857 | U95: =SUM(U91:U94) -> 40955 | V95: =SUM(V91:V94) -> 51564 | W95: =SUM(W91:W94) -> 29857 | X95: =SUM(X91:X94) -> 3339 | Y95: =SUM(Y91:Y94) -> 7708 | Z95: =SUM(Z91:Z94) -> 68791.757 | AA95: =SUM(AA91:AA94) -> 29441.6 | ... AK95: =SUM(AK91:AK94) -> 47997.6 | AM95: =SUM(AM91:AM94) -> 474854.37 | AN95: =SUM(AN91:AN94) -> 304070.97 | AO95: =SUM(AO91:AO94) -> 262850.91 | AP95: =SUM(AP91:AP94) -> 163692.27 | AQ95: =SUM(AQ91:AQ94) -> 49772.94 | AR95: =SUM(AR91:AR94) -> 41556.9 | AS95: =SUM(AS91:AS94) -> 237427.18 | AT95: =SUM(AT91:AT94) -> 626889.85 | ... AX95: =SUM(AX91:AX94) -> 1276019.9 | AZ95: =SUM(AZ91:AZ94) -> -24460.44 | BA95: =SUM(BA91:BA94) -> -88725.12 | BB95: =SUM(BB91:BB94) -> -116891.58 | BC95: =SUM(BC91:BC94) -> -61546.5 | BD95: =SUM(BD91:BD94) -> -14139 | BE95: =SUM(BE91:BE94) -> -5230.8
B98: Likelihood % | C98: 50 | F98: =SUMIFS(F$4:F$75,$E$4:$E$75,$C98) -> 29561.175 | G98: =SUMIFS(G$4:G$75,$E$4:$E$75,$C98) -> 95577.825 | H98: =SUMIFS(H$4:H$75,$E$4:$E$75,$C98) -> 203467.42 | I98: =SUMIFS(I$4:I$75,$E$4:$E$75,$C98) -> 330605.63 | J98: =SUMIFS(J$4:J$75,$E$4:$E$75,$C98) -> 399286.65 | K98: =SUMIFS(K$4:K$75,$E$4:$E$75,$C98) -> 415092.3 | N98: Likelihood % | P98: 50 | T98: =SUMIFS(T$4:T$75,$E$4:$E$75,$C98) -> 18769 | U98: =SUMIFS(U$4:U$75,$E$4:$E$75,$C98) -> 16890 | V98: =SUMIFS(V$4:V$75,$E$4:$E$75,$C98) -> 39725 | W98: =SUMIFS(W$4:W$75,$E$4:$E$75,$C98) -> 22126 | X98: =SUMIFS(X$4:X$75,$E$4:$E$75,$C98) -> 864 | Y98: =SUMIFS(Y$4:Y$75,$E$4:$E$75,$C98) -> 1508 | Z98: =SUMIFS(Z$4:Z$75,$E$4:$E$75,$C98) -> 9384.5 | AA98: =SUMIFS(AA$4:AA$75,$E$4:$E$75,$C98) -> 8445 | ... AK98: =SUMIFS(AK$4:AK$75,$E$4:$E$75,$C98) -> 6333.6 | AM98: =SUMIFS(AM$4:AM$75,$E$4:$E$75,$C98) -> 59122.35 | AN98: =SUMIFS(AN$4:AN$75,$E$4:$E$75,$C98) -> 72910.95 | AO98: =SUMIFS(AO$4:AO$75,$E$4:$E$75,$C98) -> 142868.25 | AP98: =SUMIFS(AP$4:AP$75,$E$4:$E$75,$C98) -> 111408.15 | AQ98: =SUMIFS(AQ$4:AQ$75,$E$4:$E$75,$C98) -> 25953.9 | AR98: =SUMIFS(AR$4:AR$75,$E$4:$E$75,$C98) -> 5657.4 | AS98: =SUMIFS(AS$4:AS$75,$E$4:$E$75,$C98) -> 29561.175 | AT98: =SUMIFS(AT$4:AT$75,$E$4:$E$75,$C98) -> 95577.825 | ... AX98: =SUMIFS(AX$4:AX$75,$E$4:$E$75,$C98) -> 415092.3 | AZ98: =SUMIFS(AZ$4:AZ$75,$E$4:$E$75,$C98) -> -15302.7 | BA98: =SUMIFS(BA$4:BA$75,$E$4:$E$75,$C98) -> -77831.25 | BB98: =SUMIFS(BB$4:BB$75,$E$4:$E$75,$C98) -> -111596.1 | BC98: =SUMIFS(BC$4:BC$75,$E$4:$E$75,$C98) -> -59042.55 | BD98: =SUMIFS(BD$4:BD$75,$E$4:$E$75,$C98) -> -9975 | BE98: =SUMIFS(BE$4:BE$75,$E$4:$E$75,$C98) -> 0
B99: Likelihood % | C99: 80 | F99: =SUMIFS(F$4:F$75,$E$4:$E$75,$C99) -> 74889.36 | G99: =SUMIFS(G$4:G$75,$E$4:$E$75,$C99) -> 213403.68 | H99: =SUMIFS(H$4:H$75,$E$4:$E$75,$C99) -> 292435.92 | I99: =SUMIFS(I$4:I$75,$E$4:$E$75,$C99) -> 322298.76 | J99: =SUMIFS(J$4:J$75,$E$4:$E$75,$C99) -> 344568.84 | K99: =SUMIFS(K$4:K$75,$E$4:$E$75,$C99) -> 369099.36 | N99: Likelihood % | P99: 80 | T99: =SUMIFS(T$4:T$75,$E$4:$E$75,$C99) -> 29718 | U99: =SUMIFS(U$4:U$75,$E$4:$E$75,$C99) -> 15342 | V99: =SUMIFS(V$4:V$75,$E$4:$E$75,$C99) -> 1000 | W99: =SUMIFS(W$4:W$75,$E$4:$E$75,$C99) -> 5403 | X99: =SUMIFS(X$4:X$75,$E$4:$E$75,$C99) -> 1300 | Y99: =SUMIFS(Y$4:Y$75,$E$4:$E$75,$C99) -> 6200 | Z99: =SUMIFS(Z$4:Z$75,$E$4:$E$75,$C99) -> 23774.4 | AA99: =SUMIFS(AA$4:AA$75,$E$4:$E$75,$C99) -> 12273.6 | ... AK99: =SUMIFS(AK$4:AK$75,$E$4:$E$75,$C99) -> 41664 | AM99: =SUMIFS(AM$4:AM$75,$E$4:$E$75,$C99) -> 149778.72 | AN99: =SUMIFS(AN$4:AN$75,$E$4:$E$75,$C99) -> 127249.92 | AO99: =SUMIFS(AO$4:AO$75,$E$4:$E$75,$C99) -> 30814.56 | AP99: =SUMIFS(AP$4:AP$75,$E$4:$E$75,$C99) -> 28911.12 | AQ99: =SUMIFS(AQ$4:AQ$75,$E$4:$E$75,$C99) -> 15629.04 | AR99: =SUMIFS(AR$4:AR$75,$E$4:$E$75,$C99) -> 33432 | AS99: =SUMIFS(AS$4:AS$75,$E$4:$E$75,$C99) -> 74889.36 | AT99: =SUMIFS(AT$4:AT$75,$E$4:$E$75,$C99) -> 213403.68 | ... AX99: =SUMIFS(AX$4:AX$75,$E$4:$E$75,$C99) -> 369099.36 | AZ99: =SUMIFS(AZ$4:AZ$75,$E$4:$E$75,$C99) -> -18149.04 | BA99: =SUMIFS(BA$4:BA$75,$E$4:$E$75,$C99) -> -25987.92 | BB99: =SUMIFS(BB$4:BB$75,$E$4:$E$75,$C99) -> -12492.48 | BC99: =SUMIFS(BC$4:BC$75,$E$4:$E$75,$C99) -> -2604 | BD99: =SUMIFS(BD$4:BD$75,$E$4:$E$75,$C99) -> -1226.4 | BE99: =SUMIFS(BE$4:BE$75,$E$4:$E$75,$C99) -> -1344
B100: Likelihood % | C100: 100 | F100: =SUMIFS(F$4:F$75,$E$4:$E$75,$C100,$AL$4:$AL$75,0) -> 50044.05 | G100: =SUMIFS(G$4:G$75,$E$4:$E$75,$C100,$AL$4:$AL$75,0) -> 120858.15 | H100: =SUMIFS(H$4:H$75,$E$4:$E$75,$C100,$AL$4:$AL$75,0) -> 149899.05 | I100: =SUMIFS(I$4:I$75,$E$4:$E$75,$C100,$AL$4:$AL$75,0) -> 161653.8 | J100: =SUMIFS(J$4:J$75,$E$4:$E$75,$C100,$AL$4:$AL$75,0) -> 169232.7 | K100: =SUMIFS(K$4:K$75,$E$4:$E$75,$C100,$AL$4:$AL$75,0) -> 174561.45 | N100: Likelihood % | P100: 100 | T100: =SUMIFS(T$4:T$75,$E$4:$E$75,$C100,$AL$4:$AL$75,0) -> 15887 | U100: =SUMIFS(U$4:U$75,$E$4:$E$75,$C100,$AL$4:$AL$75,0) -> 1298 | V100: =SUMIFS(V$4:V$75,$E$4:$E$75,$C100,$AL$4:$AL$75,0) -> 2193 | W100: =SUMIFS(W$4:W$75,$E$4:$E$75,$C100,$AL$4:$AL$75,0) -> 375 | X100: =SUMIFS(X$4:X$75,$E$4:$E$75,$C100,$AL$4:$AL$75,0) -> 1175 | Y100: =SUMIFS(Y$4:Y$75,$E$4:$E$75,$C100,$AL$4:$AL$75,0) -> 0 | Z100: =SUMIFS(Z$4:Z$75,$E$4:$E$75,$C100,$AL$4:$AL$75,0) -> 15887 | AA100: =SUMIFS(AA$4:AA$75,$E$4:$E$75,$C100,$AL$4:$AL$75,0) -> 1298 | ... AK100: =SUMIFS(AK$4:AK$75,$E$4:$E$75,$C100,$AL$4:$AL$75,0) -> 0 | AM100: =SUMIFS(AM$4:AM$75,$E$4:$E$75,$C100,$AL$4:$AL$75,0) -> 100088.1 | AN100: =SUMIFS(AN$4:AN$75,$E$4:$E$75,$C100,$AL$4:$AL$75,0) -> 41540.1 | AO100: =SUMIFS(AO$4:AO$75,$E$4:$E$75,$C100,$AL$4:$AL$75,0) -> 16541.7 | AP100: =SUMIFS(AP$4:AP$75,$E$4:$E$75,$C100,$AL$4:$AL$75,0) -> 6967.8 | AQ100: =SUMIFS(AQ$4:AQ$75,$E$4:$E$75,$C100,$AL$4:$AL$75,0) -> 8190 | AR100: =SUMIFS(AR$4:AR$75,$E$4:$E$75,$C100,$AL$4:$AL$75,0) -> 2467.5 | AS100: =SUMIFS(AS$4:AS$75,$E$4:$E$75,$C100,$AL$4:$AL$75,0) -> 50044.05 | AT100: =SUMIFS(AT$4:AT$75,$E$4:$E$75,$C100,$AL$4:$AL$75,0) -> 120858.15 | ... AX100: =SUMIFS(AX$4:AX$75,$E$4:$E$75,$C100,$AL$4:$AL$75,0) -> 174561.45 | AZ100: =SUMIFS(AZ$4:AZ$75,$E$4:$E$75,$C100,$AL$4:$AL$75,0) -> 10483.2 | BA100: =SUMIFS(BA$4:BA$75,$E$4:$E$75,$C100,$AL$4:$AL$75,0) -> 17546.55 | BB100: =SUMIFS(BB$4:BB$75,$E$4:$E$75,$C100,$AL$4:$AL$75,0) -> 9601.2 | BC100: =SUMIFS(BC$4:BC$75,$E$4:$E$75,$C100,$AL$4:$AL$75,0) -> 2987.25 | BD100: =SUMIFS(BD$4:BD$75,$E$4:$E$75,$C100,$AL$4:$AL$75,0) -> 449.4 | BE100: =SUMIFS(BE$4:BE$75,$E$4:$E$75,$C100,$AL$4:$AL$75,0) -> 0
B101: Likelihood % (connected) | C101: 100 | F101: =SUMIFS(F$4:F$75,$E$4:$E$75,$C101,$AL$4:$AL$75,1) -> 82932.6 | G101: =SUMIFS(G$4:G$75,$E$4:$E$75,$C101,$AL$4:$AL$75,1) -> 197050.2 | H101: =SUMIFS(H$4:H$75,$E$4:$E$75,$C101,$AL$4:$AL$75,1) -> 264548.4 | I101: =SUMIFS(I$4:I$75,$E$4:$E$75,$C101,$AL$4:$AL$75,1) -> 309064.2 | J101: =SUMIFS(J$4:J$75,$E$4:$E$75,$C101,$AL$4:$AL$75,1) -> 317266.8 | K101: =SUMIFS(K$4:K$75,$E$4:$E$75,$C101,$AL$4:$AL$75,1) -> 317266.8 | N101: Likelihood % | P101: 100 | T101: =SUMIFS(T$4:T$75,$E$4:$E$75,$C101,$AL$4:$AL$75,1) -> 19745.857 | U101: =SUMIFS(U$4:U$75,$E$4:$E$75,$C101,$AL$4:$AL$75,1) -> 7425 | V101: =SUMIFS(V$4:V$75,$E$4:$E$75,$C101,$AL$4:$AL$75,1) -> 8646 | W101: =SUMIFS(W$4:W$75,$E$4:$E$75,$C101,$AL$4:$AL$75,1) -> 1953 | X101: =SUMIFS(X$4:X$75,$E$4:$E$75,$C101,$AL$4:$AL$75,1) -> 0 | Y101: =SUMIFS(Y$4:Y$75,$E$4:$E$75,$C101,$AL$4:$AL$75,1) -> 0 | Z101: =SUMIFS(Z$4:Z$75,$E$4:$E$75,$C101,$AL$4:$AL$75,1) -> 19745.857 | AA101: =SUMIFS(AA$4:AA$75,$E$4:$E$75,$C101,$AL$4:$AL$75,1) -> 7425 | ... AK101: =SUMIFS(AK$4:AK$75,$E$4:$E$75,$C101,$AL$4:$AL$75,1) -> 0 | AM101: =SUMIFS(AM$4:AM$75,$E$4:$E$75,$C101,$AL$4:$AL$75,1) -> 165865.2 | AN101: =SUMIFS(AN$4:AN$75,$E$4:$E$75,$C101,$AL$4:$AL$75,1) -> 62370 | AO101: =SUMIFS(AO$4:AO$75,$E$4:$E$75,$C101,$AL$4:$AL$75,1) -> 72626.4 | AP101: =SUMIFS(AP$4:AP$75,$E$4:$E$75,$C101,$AL$4:$AL$75,1) -> 16405.2 | AQ101: =SUMIFS(AQ$4:AQ$75,$E$4:$E$75,$C101,$AL$4:$AL$75,1) -> 0 | AR101: =SUMIFS(AR$4:AR$75,$E$4:$E$75,$C101,$AL$4:$AL$75,1) -> 0 | AS101: =SUMIFS(AS$4:AS$75,$E$4:$E$75,$C101,$AL$4:$AL$75,1) -> 82932.6 | AT101: =SUMIFS(AT$4:AT$75,$E$4:$E$75,$C101,$AL$4:$AL$75,1) -> 197050.2 | ... AX101: =SUMIFS(AX$4:AX$75,$E$4:$E$75,$C101,$AL$4:$AL$75,1) -> 317266.8 | AZ101: =SUMIFS(AZ$4:AZ$75,$E$4:$E$75,$C101,$AL$4:$AL$75,1) -> -1491.9 | BA101: =SUMIFS(BA$4:BA$75,$E$4:$E$75,$C101,$AL$4:$AL$75,1) -> -2452.5 | BB101: =SUMIFS(BB$4:BB$75,$E$4:$E$75,$C101,$AL$4:$AL$75,1) -> -2404.2 | BC101: =SUMIFS(BC$4:BC$75,$E$4:$E$75,$C101,$AL$4:$AL$75,1) -> -2887.2 | BD101: =SUMIFS(BD$4:BD$75,$E$4:$E$75,$C101,$AL$4:$AL$75,1) -> -3387 | BE101: =SUMIFS(BE$4:BE$75,$E$4:$E$75,$C101,$AL$4:$AL$75,1) -> -3886.8
F102: =SUM(F98:F101) -> 237427.18 | G102: =SUM(G98:G101) -> 626889.85 | H102: =SUM(H98:H101) -> 910350.79 | I102: =SUM(I98:I101) -> 1123622.4 | J102: =SUM(J98:J101) -> 1230355 | K102: =SUM(K98:K101) -> 1276019.9 | T102: =SUM(T98:T101) -> 84119.857 | U102: =SUM(U98:U101) -> 40955 | V102: =SUM(V98:V101) -> 51564 | W102: =SUM(W98:W101) -> 29857 | X102: =SUM(X98:X101) -> 3339 | Y102: =SUM(Y98:Y101) -> 7708 | Z102: =SUM(Z98:Z101) -> 68791.757 | AA102: =SUM(AA98:AA101) -> 29441.6 | ... AK102: =SUM(AK98:AK101) -> 47997.6 | AM102: =SUM(AM98:AM101) -> 474854.37 | AN102: =SUM(AN98:AN101) -> 304070.97 | AO102: =SUM(AO98:AO101) -> 262850.91 | AP102: =SUM(AP98:AP101) -> 163692.27 | AQ102: =SUM(AQ98:AQ101) -> 49772.94 | AR102: =SUM(AR98:AR101) -> 41556.9 | AS102: =SUM(AS98:AS101) -> 237427.18 | AT102: =SUM(AT98:AT101) -> 626889.85 | ... AX102: =SUM(AX98:AX101) -> 1276019.9 | AZ102: =SUM(AZ98:AZ101) -> -24460.44 | BA102: =SUM(BA98:BA101) -> -88725.12 | BB102: =SUM(BB98:BB101) -> -116891.58 | BC102: =SUM(BC98:BC101) -> -61546.5 | BD102: =SUM(BD98:BD101) -> -14139 | BE102: =SUM(BE98:BE101) -> -5230.8
F103: Descrete Projects
F104: =F81 -> 2026 | G104: =G81 -> 2027 | H104: =H81 -> 2028 | I104: =I81 -> 2029 | J104: =J81 -> 2030 | K104: =K81 -> 2031
B105: =B91 -> New | C105: =C91 -> Committed | F105: =COUNTIFS(F$4:F$75,">0",$N$4:$N$75,$C105,$Q$4:$Q$75,$B105) -> 24 | G105: =COUNTIFS(G$4:G$75,">0",$N$4:$N$75,$C105,$Q$4:$Q$75,$B105) -> 31 | H105: =COUNTIFS(H$4:H$75,">0",$N$4:$N$75,$C105,$Q$4:$Q$75,$B105) -> 33 | I105: =COUNTIFS(I$4:I$75,">0",$N$4:$N$75,$C105,$Q$4:$Q$75,$B105) -> 36 | J105: =COUNTIFS(J$4:J$75,">0",$N$4:$N$75,$C105,$Q$4:$Q$75,$B105) -> 37 | K105: =COUNTIFS(K$4:K$75,">0",$N$4:$N$75,$C105,$Q$4:$Q$75,$B105) -> 37
B106: =B92 -> Existing | C106: =C92 -> Committed | F106: =COUNTIFS(F$4:F$75,">0",$N$4:$N$75,$C106,$Q$4:$Q$75,$B106) -> 15 | G106: =COUNTIFS(G$4:G$75,">0",$N$4:$N$75,$C106,$Q$4:$Q$75,$B106) -> 18 | H106: =COUNTIFS(H$4:H$75,">0",$N$4:$N$75,$C106,$Q$4:$Q$75,$B106) -> 18 | I106: =COUNTIFS(I$4:I$75,">0",$N$4:$N$75,$C106,$Q$4:$Q$75,$B106) -> 18 | J106: =COUNTIFS(J$4:J$75,">0",$N$4:$N$75,$C106,$Q$4:$Q$75,$B106) -> 18 | K106: =COUNTIFS(K$4:K$75,">0",$N$4:$N$75,$C106,$Q$4:$Q$75,$B106) -> 20
B107: =B93 -> New | C107: =C93 -> Non-Committed | F107: =COUNTIFS(F$4:F$75,">0",$N$4:$N$75,$C107,$Q$4:$Q$75,$B107) -> 5 | G107: =COUNTIFS(G$4:G$75,">0",$N$4:$N$75,$C107,$Q$4:$Q$75,$B107) -> 8 | H107: =COUNTIFS(H$4:H$75,">0",$N$4:$N$75,$C107,$Q$4:$Q$75,$B107) -> 10 | I107: =COUNTIFS(I$4:I$75,">0",$N$4:$N$75,$C107,$Q$4:$Q$75,$B107) -> 10 | J107: =COUNTIFS(J$4:J$75,">0",$N$4:$N$75,$C107,$Q$4:$Q$75,$B107) -> 10 | K107: =COUNTIFS(K$4:K$75,">0",$N$4:$N$75,$C107,$Q$4:$Q$75,$B107) -> 10
...

Sheet 3-Staff-93-b Counts
A1: Revised 3-Staff-93 (Loads replaced with customers) | N1: Customer Details | T1: Customer Count Calculation | AT1: Change from 3-Staff 93-b
A2: Customer # | B2: Customer Type | C2: Anticipated Year | D2: Anticipated Load | E2: Confidence | F2: 2026 | G2: 2027 | H2: 2028 | I2: 2029 | J2: 2030 | K2: 2031 | L2: Status (Contracted, Committed or Speculative) | N2: Committed/ Non-Committed | O2: Current Rate Class | P2: Rate Class | Q2: New/ Existing | R2: New in 2025 | S2: Rate Zone | T2: Customer Count | Z2: Probability Adjustment (x Confidence %) | AF2: Connected (2025) | AG2: Connection Timing Adjustment (If connected in 2025 -> full amount , if not, 25% of previous year + 75% of current year) | AM2: Half-Year Rule & Cumulative (if connected in 2025, half-year adjustment is applied in each year)
D3: Peak kW | E3: % | F3: Billed kW | T3: 2026 | U3: =T3+1 -> 2027 | V3: =U3+1 -> 2028 | W3: =V3+1 -> 2029 | X3: =W3+1 -> 2030 | Y3: =X3+1 -> 2031 | Z3: 2026 | AA3: =Z3+1 -> 2027 | AB3: =AA3+1 -> 2028 | AC3: =AB3+1 -> 2029 | AD3: =AC3+1 -> 2030 | AE3: =AD3+1 -> 2031 | AG3: 2026 | AH3: =AG3+1 -> 2027 | AI3: =AH3+1 -> 2028 | AJ3: =AI3+1 -> 2029 | AK3: =AJ3+1 -> 2030 | AL3: =AK3+1 -> 2031 | AM3: =AG3 -> 2026 | AN3: =AH3 -> 2027 | AO3: =AI3 -> 2028 | AP3: =AJ3 -> 2029 | AQ3: =AK3 -> 2030 | AR3: =AL3 -> 2031 | AT3: =AM3 -> 2026 | AU3: =AN3 -> 2027 | AV3: =AO3 -> 2028 | AW3: =AP3 -> 2029 | AX3: =AQ3 -> 2030 | AY3: =AR3 -> 2031 | AZ3: Notes
A4: 1 | B4: Residential (Long Term Care Home) | C4: 2026 | D4: 2700 | E4: 100 | F4: =AM4 -> 0.5 | G4: =AN4 -> 0.5 | H4: =AO4 -> 0.5 | I4: =AP4 -> 0.5 | J4: =AQ4 -> 0.5 | K4: =AR4 -> 0.5 | L4: Contracted (Energized) | N4: Committed | P4: GS 50 to 2,999 | Q4: New | R4: New in 2025 | S4: Veridian | T4: 1 | U4: 0 | V4: 0 | W4: 0 | X4: 0 | Y4: 0 | Z4: =T4*$E4/100 -> 1 | AA4: =U4*$E4/100 -> 0 | AB4: =V4*$E4/100 -> 0 | AC4: =W4*$E4/100 -> 0 | AD4: =X4*$E4/100 -> 0 | AE4: =Y4*$E4/100 -> 0 | AF4: 1 | AG4: =IF($AF4=1,Z4,Z4*0.75) -> 1 | AH4: =IF($AF4=1,AA4,Z4*(1-0.75)+AA4*0.75) -> 0 | AI4: =IF($AF4=1,AB4,AA4*(1-0.75)+AB4*0.75) -> 0 | AJ4: =IF($AF4=1,AC4,AB4*(1-0.75)+AC4*0.75) -> 0 | AK4: =IF($AF4=1,AD4,AC4*(1-0.75)+AD4*0.75) -> 0 | AL4: =IF($AF4=1,AE4,AD4*(1-0.75)+AE4*0.75) -> 0 | AM4: =AG4/2 -> 0.5 | AN4: =IF($R4="New in 2025",0.5,SUM($AG4:AG4)+AH4/2) -> 0.5 | AO4: =IF($R4="New in 2025",0.5,SUM($AG4:AH4)+AI4/2) -> 0.5 | AP4: =IF($R4="New in 2025",0.5,SUM($AG4:AI4)+AJ4/2) -> 0.5 | AQ4: =IF($R4="New in 2025",0.5,SUM($AG4:AJ4)+AK4/2) -> 0.5 | AR4: =IF($R4="New in 2025",0.5,SUM($AG4:AK4)+AL4/2) -> 0.5 | AT4: 0 | AU4: -0.5 | AV4: -0.5 | AW4: -0.5 | AX4: -0.5 | AY4: -0.5 | AZ4: Half-year adjustment in each year
A5: 2 | B5: Industrial | C5: 2026 | D5: 3000 | E5: 80 | F5: =AM5 -> 0 | G5: =AN5 -> 0 | H5: =AO5 -> 0 | I5: =AP5 -> 0 | J5: =AQ5 -> 0 | K5: =AR5 -> 0 | L5: Committed (Desposit Received) | N5: Committed | O5: GS 50 to 2,999 | P5: GS 3,000 to 4,999 | Q5: Existing | S5: Veridian | T5: 0 | U5: 0 | V5: 0 | W5: 0 | X5: 0 | Y5: 0 | Z5: =T5*$E5/100 -> 0 | AA5: =U5*$E5/100 -> 0 | AB5: =V5*$E5/100 -> 0 | AC5: =W5*$E5/100 -> 0 | AD5: =X5*$E5/100 -> 0 | AE5: =Y5*$E5/100 -> 0 | AF5: 0 | AG5: =IF($AF5=1,Z5,Z5*0.75) -> 0 | AH5: =IF($AF5=1,AA5,Z5*(1-0.75)+AA5*0.75) -> 0 | AI5: =IF($AF5=1,AB5,AA5*(1-0.75)+AB5*0.75) -> 0 | AJ5: =IF($AF5=1,AC5,AB5*(1-0.75)+AC5*0.75) -> 0 | AK5: =IF($AF5=1,AD5,AC5*(1-0.75)+AD5*0.75) -> 0 | AL5: =IF($AF5=1,AE5,AD5*(1-0.75)+AE5*0.75) -> 0 | AM5: =AG5/2 -> 0 | AN5: =IF($R5="New in 2025",0.5,SUM($AG5:AG5)+AH5/2) -> 0 | AO5: =IF($R5="New in 2025",0.5,SUM($AG5:AH5)+AI5/2) -> 0 | AP5: =IF($R5="New in 2025",0.5,SUM($AG5:AI5)+AJ5/2) -> 0 | AQ5: =IF($R5="New in 2025",0.5,SUM($AG5:AJ5)+AK5/2) -> 0 | AR5: =IF($R5="New in 2025",0.5,SUM($AG5:AK5)+AL5/2) -> 0 | AT5: 0 | AU5: 0 | AV5: 0 | AW5: 0 | AX5: 0 | AY5: 0
A6: 3 | B6: Industrial | C6: 2025 | D6: 6500 | E6: 100 | F6: =AM6 -> 0.5 | G6: =AN6 -> 0.5 | H6: =AO6 -> 0.5 | I6: =AP6 -> 0.5 | J6: =AQ6 -> 0.5 | K6: =AR6 -> 0.5 | L6: Contracted (Energized) | N6: Committed | O6: GS 50 to 2,999 | P6: Large Use | Q6: Existing | S6: Veridian | T6: 1 | U6: 0 | V6: 0 | W6: 0 | X6: 0 | Y6: 0 | Z6: =T6*$E6/100 -> 1 | AA6: =U6*$E6/100 -> 0 | AB6: =V6*$E6/100 -> 0 | AC6: =W6*$E6/100 -> 0 | AD6: =X6*$E6/100 -> 0 | AE6: =Y6*$E6/100 -> 0 | AF6: 1 | AG6: =IF($AF6=1,Z6,Z6*0.75) -> 1 | AH6: =IF($AF6=1,AA6,Z6*(1-0.75)+AA6*0.75) -> 0 | AI6: =IF($AF6=1,AB6,AA6*(1-0.75)+AB6*0.75) -> 0 | AJ6: =IF($AF6=1,AC6,AB6*(1-0.75)+AC6*0.75) -> 0 | AK6: =IF($AF6=1,AD6,AC6*(1-0.75)+AD6*0.75) -> 0 | AL6: =IF($AF6=1,AE6,AD6*(1-0.75)+AE6*0.75) -> 0 | AM6: =AG6/2 -> 0.5 | AN6: =AM6 -> 0.5 | AO6: =AN6 -> 0.5 | AP6: =AO6 -> 0.5 | AQ6: =AP6 -> 0.5 | AR6: =AQ6 -> 0.5 | AT6: 0 | AU6: -0.5 | AV6: -0.5 | AW6: -0.5 | AX6: -0.5 | AY6: -0.5 | AZ6: Additional connection expected
A7: 4 | B7: Industrial | C7: 2025 | D7: 11000 | E7: 100 | F7: =AM7 -> 0 | G7: =AN7 -> 0 | H7: =AO7 -> 0 | I7: =AP7 -> 0 | J7: =AQ7 -> 0 | K7: =AR7 -> 0 | L7: Contracted (Energized) | N7: Committed | O7: GS 50 to 2,999 | P7: Large Use | Q7: Existing | S7: Veridian | T7: 0 | U7: 0 | V7: 0 | W7: 0 | X7: 0 | Y7: 0 | Z7: =T7*$E7/100 -> 0 | AA7: =U7*$E7/100 -> 0 | AB7: =V7*$E7/100 -> 0 | AC7: =W7*$E7/100 -> 0 | AD7: =X7*$E7/100 -> 0 | AE7: =Y7*$E7/100 -> 0 | AF7: 1 | AG7: =IF($AF7=1,Z7,Z7*0.75) -> 0 | AH7: =IF($AF7=1,AA7,Z7*(1-0.75)+AA7*0.75) -> 0 | AI7: =IF($AF7=1,AB7,AA7*(1-0.75)+AB7*0.75) -> 0 | AJ7: =IF($AF7=1,AC7,AB7*(1-0.75)+AC7*0.75) -> 0 | AK7: =IF($AF7=1,AD7,AC7*(1-0.75)+AD7*0.75) -> 0 | AL7: =IF($AF7=1,AE7,AD7*(1-0.75)+AE7*0.75) -> 0 | AM7: =AG7/2 -> 0 | AN7: =IF($R7="New in 2025",0.5,SUM($AG7:AG7)+AH7/2) -> 0 | AO7: =IF($R7="New in 2025",0.5,SUM($AG7:AH7)+AI7/2) -> 0 | AP7: =IF($R7="New in 2025",0.5,SUM($AG7:AI7)+AJ7/2) -> 0 | AQ7: =IF($R7="New in 2025",0.5,SUM($AG7:AJ7)+AK7/2) -> 0 | AR7: =IF($R7="New in 2025",0.5,SUM($AG7:AK7)+AL7/2) -> 0 | AT7: 0 | AU7: 0 | AV7: 0 | AW7: 0 | AX7: 0 | AY7: 0
A8: 5 | B8: Mixed Use Residential | C8: 2026 | D8: 2100 | E8: 80 | F8: =AM8 -> 0.3 | G8: =AN8 -> 0.7 | H8: =AO8 -> 0.8 | I8: =AP8 -> 0.8 | J8: =AQ8 -> 0.8 | K8: =AR8 -> 0.8 | L8: Committed (Desposit Received) | N8: Committed | P8: GS 50 to 2,999 | Q8: New | S8: Veridian | T8: 1 | U8: 0 | V8: 0 | W8: 0 | X8: 0 | Y8: 0 | Z8: =T8*$E8/100 -> 0.8 | AA8: =U8*$E8/100 -> 0 | AB8: =V8*$E8/100 -> 0 | AC8: =W8*$E8/100 -> 0 | AD8: =X8*$E8/100 -> 0 | AE8: =Y8*$E8/100 -> 0 | AF8: 0 | AG8: =IF($AF8=1,Z8,Z8*0.75) -> 0.6 | AH8: =IF($AF8=1,AA8,Z8*(1-0.75)+AA8*0.75) -> 0.2 | AI8: =IF($AF8=1,AB8,AA8*(1-0.75)+AB8*0.75) -> 0 | AJ8: =IF($AF8=1,AC8,AB8*(1-0.75)+AC8*0.75) -> 0 | AK8: =IF($AF8=1,AD8,AC8*(1-0.75)+AD8*0.75) -> 0 | AL8: =IF($AF8=1,AE8,AD8*(1-0.75)+AE8*0.75) -> 0 | AM8: =AG8/2 -> 0.3 | AN8: =IF($R8="New in 2025",0.5,SUM($AG8:AG8)+AH8/2) -> 0.7 | AO8: =IF($R8="New in 2025",0.5,SUM($AG8:AH8)+AI8/2) -> 0.8 | AP8: =IF($R8="New in 2025",0.5,SUM($AG8:AI8)+AJ8/2) -> 0.8 | AQ8: =IF($R8="New in 2025",0.5,SUM($AG8:AJ8)+AK8/2) -> 0.8 | AR8: =IF($R8="New in 2025",0.5,SUM($AG8:AK8)+AL8/2) -> 0.8 | AT8: 0 | AU8: 0 | AV8: 0 | AW8: 0 | AX8: 0 | AY8: 0
A9: 6 | B9: Industrial | C9: 2026 | D9: 1943 | E9: 80 | F9: =AM9 -> 0.3 | G9: =AN9 -> 0.7 | H9: =AO9 -> 0.8 | I9: =AP9 -> 0.8 | J9: =AQ9 -> 0.8 | K9: =AR9 -> 0.8 | L9: Committed (Desposit Received) | N9: Committed | P9: GS 50 to 2,999 | Q9: New | S9: Veridian | T9: 1 | U9: 0 | V9: 0 | W9: 0 | X9: 0 | Y9: 0 | Z9: =T9*$E9/100 -> 0.8 | AA9: =U9*$E9/100 -> 0 | AB9: =V9*$E9/100 -> 0 | AC9: =W9*$E9/100 -> 0 | AD9: =X9*$E9/100 -> 0 | AE9: =Y9*$E9/100 -> 0 | AF9: 0 | AG9: =IF($AF9=1,Z9,Z9*0.75) -> 0.6 | AH9: =IF($AF9=1,AA9,Z9*(1-0.75)+AA9*0.75) -> 0.2 | AI9: =IF($AF9=1,AB9,AA9*(1-0.75)+AB9*0.75) -> 0 | AJ9: =IF($AF9=1,AC9,AB9*(1-0.75)+AC9*0.75) -> 0 | AK9: =IF($AF9=1,AD9,AC9*(1-0.75)+AD9*0.75) -> 0 | AL9: =IF($AF9=1,AE9,AD9*(1-0.75)+AE9*0.75) -> 0 | AM9: =AG9/2 -> 0.3 | AN9: =IF($R9="New in 2025",0.5,SUM($AG9:AG9)+AH9/2) -> 0.7 | AO9: =IF($R9="New in 2025",0.5,SUM($AG9:AH9)+AI9/2) -> 0.8 | AP9: =IF($R9="New in 2025",0.5,SUM($AG9:AI9)+AJ9/2) -> 0.8 | AQ9: =IF($R9="New in 2025",0.5,SUM($AG9:AJ9)+AK9/2) -> 0.8 | AR9: =IF($R9="New in 2025",0.5,SUM($AG9:AK9)+AL9/2) -> 0.8 | AT9: 0 | AU9: 0 | AV9: 0 | AW9: 0 | AX9: 0 | AY9: 0
A10: 7 | B10: Commercial | C10: 2026 | D10: 3250 | E10: 80 | F10: =AM10 -> 0.3 | G10: =AN10 -> 0.7 | H10: =AO10 -> 0.8 | I10: =AP10 -> 0.8 | J10: =AQ10 -> 0.8 | K10: =AR10 -> 0.8 | L10: Contracted (OTC Signed) | N10: Committed | P10: GS 3,000 to 4,999 | Q10: New | S10: Veridian | T10: 1 | U10: 0 | V10: 0 | W10: 0 | X10: 0 | Y10: 0 | Z10: =T10*$E10/100 -> 0.8 | AA10: =U10*$E10/100 -> 0 | AB10: =V10*$E10/100 -> 0 | AC10: =W10*$E10/100 -> 0 | AD10: =X10*$E10/100 -> 0 | AE10: =Y10*$E10/100 -> 0 | AF10: 0 | AG10: =IF($AF10=1,Z10,Z10*0.75) -> 0.6 | AH10: =IF($AF10=1,AA10,Z10*(1-0.75)+AA10*0.75) -> 0.2 | AI10: =IF($AF10=1,AB10,AA10*(1-0.75)+AB10*0.75) -> 0 | AJ10: =IF($AF10=1,AC10,AB10*(1-0.75)+AC10*0.75) -> 0 | AK10: =IF($AF10=1,AD10,AC10*(1-0.75)+AD10*0.75) -> 0 | AL10: =IF($AF10=1,AE10,AD10*(1-0.75)+AE10*0.75) -> 0 | AM10: =AG10/2 -> 0.3 | AN10: =IF($R10="New in 2025",0.5,SUM($AG10:AG10)+AH10/2) -> 0.7 | AO10: =IF($R10="New in 2025",0.5,SUM($AG10:AH10)+AI10/2) -> 0.8 | AP10: =IF($R10="New in 2025",0.5,SUM($AG10:AI10)+AJ10/2) -> 0.8 | AQ10: =IF($R10="New in 2025",0.5,SUM($AG10:AJ10)+AK10/2) -> 0.8 | AR10: =IF($R10="New in 2025",0.5,SUM($AG10:AK10)+AL10/2) -> 0.8 | AT10: 0.3 | AU10: 0.4 | AV10: 0.1 | AW10: 0 | AX10: 0 | AY10: 0 | AZ10: Project Advanced & Expansion volumes added after anticipated year
A11: 8 | B11: Industrial | C11: 2029 | D11: 2860 | E11: 80 | F11: =AM11 -> 0 | G11: =AN11 -> 0 | H11: =AO11 -> 0 | I11: =AP11 -> 0.3 | J11: =AQ11 -> 0.7 | K11: =AR11 -> 0.8 | L11: Committed (Desposit Received) | N11: Committed | P11: GS 50 to 2,999 | Q11: New | S11: Veridian | T11: 0 | U11: 0 | V11: 0 | W11: 1 | X11: 0 | Y11: 0 | Z11: =T11*$E11/100 -> 0 | AA11: =U11*$E11/100 -> 0 | AB11: =V11*$E11/100 -> 0 | AC11: =W11*$E11/100 -> 0.8 | AD11: =X11*$E11/100 -> 0 | AE11: =Y11*$E11/100 -> 0 | AF11: 0 | AG11: =IF($AF11=1,Z11,Z11*0.75) -> 0 | AH11: =IF($AF11=1,AA11,Z11*(1-0.75)+AA11*0.75) -> 0 | AI11: =IF($AF11=1,AB11,AA11*(1-0.75)+AB11*0.75) -> 0 | AJ11: =IF($AF11=1,AC11,AB11*(1-0.75)+AC11*0.75) -> 0.6 | AK11: =IF($AF11=1,AD11,AC11*(1-0.75)+AD11*0.75) -> 0.2 | AL11: =IF($AF11=1,AE11,AD11*(1-0.75)+AE11*0.75) -> 0 | AM11: =AG11/2 -> 0 | AN11: =IF($R11="New in 2025",0.5,SUM($AG11:AG11)+AH11/2) -> 0 | AO11: =IF($R11="New in 2025",0.5,SUM($AG11:AH11)+AI11/2) -> 0 | AP11: =IF($R11="New in 2025",0.5,SUM($AG11:AI11)+AJ11/2) -> 0.3 | AQ11: =IF($R11="New in 2025",0.5,SUM($AG11:AJ11)+AK11/2) -> 0.7 | AR11: =IF($R11="New in 2025",0.5,SUM($AG11:AK11)+AL11/2) -> 0.8 | AT11: -0.3 | AU11: -0.7 | AV11: -0.8 | AW11: -0.5 | AX11: -0.1 | AY11: 0 | AZ11: Project Delayed
A12: 9 | B12: High Rise Residential | C12: 2026 | D12: 1000 | E12: 100 | F12: =AM12 -> 0.375 | G12: =AN12 -> 0.875 | H12: =AO12 -> 1 | I12: =AP12 -> 1 | J12: =AQ12 -> 1 | K12: =AR12 -> 1 | L12: Contracted (OTC Signed) | N12: Committed | P12: GS 50 to 2,999 | Q12: New | S12: Veridian | T12: 1 | U12: 0 | V12: 0 | W12: 0 | X12: 0 | Y12: 0 | Z12: =T12*$E12/100 -> 1 | AA12: =U12*$E12/100 -> 0 | AB12: =V12*$E12/100 -> 0 | AC12: =W12*$E12/100 -> 0 | AD12: =X12*$E12/100 -> 0 | AE12: =Y12*$E12/100 -> 0 | AF12: 0 | AG12: =IF($AF12=1,Z12,Z12*0.75) -> 0.75 | AH12: =IF($AF12=1,AA12,Z12*(1-0.75)+AA12*0.75) -> 0.25 | AI12: =IF($AF12=1,AB12,AA12*(1-0.75)+AB12*0.75) -> 0 | AJ12: =IF($AF12=1,AC12,AB12*(1-0.75)+AC12*0.75) -> 0 | AK12: =IF($AF12=1,AD12,AC12*(1-0.75)+AD12*0.75) -> 0 | AL12: =IF($AF12=1,AE12,AD12*(1-0.75)+AE12*0.75) -> 0 | AM12: =AG12/2 -> 0.375 | AN12: =IF($R12="New in 2025",0.5,SUM($AG12:AG12)+AH12/2) -> 0.875 | AO12: =IF($R12="New in 2025",0.5,SUM($AG12:AH12)+AI12/2) -> 1 | AP12: =IF($R12="New in 2025",0.5,SUM($AG12:AI12)+AJ12/2) -> 1 | AQ12: =IF($R12="New in 2025",0.5,SUM($AG12:AJ12)+AK12/2) -> 1 | AR12: =IF($R12="New in 2025",0.5,SUM($AG12:AK12)+AL12/2) -> 1 | AT12: 0.375 | AU12: 0.5 | AV12: 0.125 | AW12: 0 | AX12: 0 | AY12: 0 | AZ12: Project Advanced
A13: 10 | B13: High Rise Residential | C13: 2025 | D13: 604 | E13: 100 | F13: =AM13 -> 0.5 | G13: =AN13 -> 0.5 | H13: =AO13 -> 0.5 | I13: =AP13 -> 0.5 | J13: =AQ13 -> 0.5 | K13: =AR13 -> 0.5 | L13: Contracted (Energized) | N13: Committed | P13: GS 50 to 2,999 | Q13: New | R13: New in 2025 | S13: Veridian | T13: 1 | U13: 0 | V13: 0 | W13: 0 | X13: 0 | Y13: 0 | Z13: =T13*$E13/100 -> 1 | AA13: =U13*$E13/100 -> 0 | AB13: =V13*$E13/100 -> 0 | AC13: =W13*$E13/100 -> 0 | AD13: =X13*$E13/100 -> 0 | AE13: =Y13*$E13/100 -> 0 | AF13: 1 | AG13: =IF($AF13=1,Z13,Z13*0.75) -> 1 | AH13: =IF($AF13=1,AA13,Z13*(1-0.75)+AA13*0.75) -> 0 | AI13: =IF($AF13=1,AB13,AA13*(1-0.75)+AB13*0.75) -> 0 | AJ13: =IF($AF13=1,AC13,AB13*(1-0.75)+AC13*0.75) -> 0 | AK13: =IF($AF13=1,AD13,AC13*(1-0.75)+AD13*0.75) -> 0 | AL13: =IF($AF13=1,AE13,AD13*(1-0.75)+AE13*0.75) -> 0 | AM13: =AG13/2 -> 0.5 | AN13: =IF($R13="New in 2025",0.5,SUM($AG13:AG13)+AH13/2) -> 0.5 | AO13: =IF($R13="New in 2025",0.5,SUM($AG13:AH13)+AI13/2) -> 0.5 | AP13: =IF($R13="New in 2025",0.5,SUM($AG13:AI13)+AJ13/2) -> 0.5 | AQ13: =IF($R13="New in 2025",0.5,SUM($AG13:AJ13)+AK13/2) -> 0.5 | AR13: =IF($R13="New in 2025",0.5,SUM($AG13:AK13)+AL13/2) -> 0.5 | AT13: 0 | AU13: -0.5 | AV13: -0.5 | AW13: -0.5 | AX13: -0.5 | AY13: -0.5 | AZ13: Half-year adjustment in each year
A14: 11 | B14: High Rise Residential | C14: 2026 | D14: 4280 | E14: 100 | F14: =AM14 -> 0.375 | G14: =AN14 -> 0.875 | H14: =AO14 -> 1 | I14: =AP14 -> 1 | J14: =AQ14 -> 1 | K14: =AR14 -> 1 | L14: Contracted (OTC Signed) | N14: Committed | P14: GS 3,000 to 4,999 | Q14: New | S14: Veridian | T14: 1 | U14: 0 | V14: 0 | W14: 0 | X14: 0 | Y14: 0 | Z14: =T14*$E14/100 -> 1 | AA14: =U14*$E14/100 -> 0 | AB14: =V14*$E14/100 -> 0 | AC14: =W14*$E14/100 -> 0 | AD14: =X14*$E14/100 -> 0 | AE14: =Y14*$E14/100 -> 0 | AF14: 0 | AG14: =IF($AF14=1,Z14,Z14*0.75) -> 0.75 | AH14: =IF($AF14=1,AA14,Z14*(1-0.75)+AA14*0.75) -> 0.25 | AI14: =IF($AF14=1,AB14,AA14*(1-0.75)+AB14*0.75) -> 0 | AJ14: =IF($AF14=1,AC14,AB14*(1-0.75)+AC14*0.75) -> 0 | AK14: =IF($AF14=1,AD14,AC14*(1-0.75)+AD14*0.75) -> 0 | AL14: =IF($AF14=1,AE14,AD14*(1-0.75)+AE14*0.75) -> 0 | AM14: =AG14/2 -> 0.375 | AN14: =IF($R14="New in 2025",0.5,SUM($AG14:AG14)+AH14/2) -> 0.875 | AO14: =IF($R14="New in 2025",0.5,SUM($AG14:AH14)+AI14/2) -> 1 | AP14: =IF($R14="New in 2025",0.5,SUM($AG14:AI14)+AJ14/2) -> 1 | AQ14: =IF($R14="New in 2025",0.5,SUM($AG14:AJ14)+AK14/2) -> 1 | AR14: =IF($R14="New in 2025",0.5,SUM($AG14:AK14)+AL14/2) -> 1 | AT14: 0 | AU14: 0 | AV14: 0 | AW14: 0 | AX14: 0 | AY14: 0
A15: 12 | B15: Residential (Long Term Care Home) | C15: 2027 | D15: 2500 | E15: 80 | F15: =AM15 -> 0 | G15: =AN15 -> 0.3 | H15: =AO15 -> 0.7 | I15: =AP15 -> 0.8 | J15: =AQ15 -> 0.8 | K15: =AR15 -> 0.8 | L15: Committed (Desposit Received) | N15: Committed | P15: GS 50 to 2,999 | Q15: New | S15: Veridian | T15: 0 | U15: 1 | V15: 0 | W15: 0 | X15: 0 | Y15: 0 | Z15: =T15*$E15/100 -> 0 | AA15: =U15*$E15/100 -> 0.8 | AB15: =V15*$E15/100 -> 0 | AC15: =W15*$E15/100 -> 0 | AD15: =X15*$E15/100 -> 0 | AE15: =Y15*$E15/100 -> 0 | AF15: 0 | AG15: =IF($AF15=1,Z15,Z15*0.75) -> 0 | AH15: =IF($AF15=1,AA15,Z15*(1-0.75)+AA15*0.75) -> 0.6 | AI15: =IF($AF15=1,AB15,AA15*(1-0.75)+AB15*0.75) -> 0.2 | AJ15: =IF($AF15=1,AC15,AB15*(1-0.75)+AC15*0.75) -> 0 | AK15: =IF($AF15=1,AD15,AC15*(1-0.75)+AD15*0.75) -> 0 | AL15: =IF($AF15=1,AE15,AD15*(1-0.75)+AE15*0.75) -> 0 | AM15: =AG15/2 -> 0 | AN15: =IF($R15="New in 2025",0.5,SUM($AG15:AG15)+AH15/2) -> 0.3 | AO15: =IF($R15="New in 2025",0.5,SUM($AG15:AH15)+AI15/2) -> 0.7 | AP15: =IF($R15="New in 2025",0.5,SUM($AG15:AI15)+AJ15/2) -> 0.8 | AQ15: =IF($R15="New in 2025",0.5,SUM($AG15:AJ15)+AK15/2) -> 0.8 | AR15: =IF($R15="New in 2025",0.5,SUM($AG15:AK15)+AL15/2) -> 0.8 | AT15: -0.3 | AU15: -0.4 | AV15: -0.1 | AW15: 0 | AX15: 0 | AY15: 0 | AZ15: Project Delayed
A16: 13 | B16: High Rise Residential | C16: 2026 | D16: 3000 | E16: 100 | F16: =AM16 -> 0.375 | G16: =AN16 -> 0.875 | H16: =AO16 -> 1 | I16: =AP16 -> 1 | J16: =AQ16 -> 1 | K16: =AR16 -> 1 | L16: Contracted (OTC Signed) | N16: Committed | P16: GS 50 to 2,999 | Q16: New | S16: Veridian | T16: 1 | U16: 0 | V16: 0 | W16: 0 | X16: 0 | Y16: 0 | Z16: =T16*$E16/100 -> 1 | AA16: =U16*$E16/100 -> 0 | AB16: =V16*$E16/100 -> 0 | AC16: =W16*$E16/100 -> 0 | AD16: =X16*$E16/100 -> 0 | AE16: =Y16*$E16/100 -> 0 | AF16: 0 | AG16: =IF($AF16=1,Z16,Z16*0.75) -> 0.75 | AH16: =IF($AF16=1,AA16,Z16*(1-0.75)+AA16*0.75) -> 0.25 | AI16: =IF($AF16=1,AB16,AA16*(1-0.75)+AB16*0.75) -> 0 | AJ16: =IF($AF16=1,AC16,AB16*(1-0.75)+AC16*0.75) -> 0 | AK16: =IF($AF16=1,AD16,AC16*(1-0.75)+AD16*0.75) -> 0 | AL16: =IF($AF16=1,AE16,AD16*(1-0.75)+AE16*0.75) -> 0 | AM16: =AG16/2 -> 0.375 | AN16: =IF($R16="New in 2025",0.5,SUM($AG16:AG16)+AH16/2) -> 0.875 | AO16: =IF($R16="New in 2025",0.5,SUM($AG16:AH16)+AI16/2) -> 1 | AP16: =IF($R16="New in 2025",0.5,SUM($AG16:AI16)+AJ16/2) -> 1 | AQ16: =IF($R16="New in 2025",0.5,SUM($AG16:AJ16)+AK16/2) -> 1 | AR16: =IF($R16="New in 2025",0.5,SUM($AG16:AK16)+AL16/2) -> 1 | AT16: 0 | AU16: 0 | AV16: 0 | AW16: 0 | AX16: 0 | AY16: 0
A17: 14 | B17: Industrial | C17: 2026 | D17: 4959 | E17: 100 | F17: =AM17 -> 0.375 | G17: =AN17 -> 0.875 | H17: =AO17 -> 1 | I17: =AP17 -> 1 | J17: =AQ17 -> 1 | K17: =AR17 -> 1 | L17: Contracted (OTC Signed) | N17: Committed | P17: GS 3,000 to 4,999 | Q17: New | S17: Veridian | T17: 1 | U17: 0 | V17: 0 | W17: 0 | X17: 0 | Y17: 0 | Z17: =T17*$E17/100 -> 1 | AA17: =U17*$E17/100 -> 0 | AB17: =V17*$E17/100 -> 0 | AC17: =W17*$E17/100 -> 0 | AD17: =X17*$E17/100 -> 0 | AE17: =Y17*$E17/100 -> 0 | AF17: 0 | AG17: =IF($AF17=1,Z17,Z17*0.75) -> 0.75 | AH17: =IF($AF17=1,AA17,Z17*(1-0.75)+AA17*0.75) -> 0.25 | AI17: =IF($AF17=1,AB17,AA17*(1-0.75)+AB17*0.75) -> 0 | AJ17: =IF($AF17=1,AC17,AB17*(1-0.75)+AC17*0.75) -> 0 | AK17: =IF($AF17=1,AD17,AC17*(1-0.75)+AD17*0.75) -> 0 | AL17: =IF($AF17=1,AE17,AD17*(1-0.75)+AE17*0.75) -> 0 | AM17: =AG17/2 -> 0.375 | AN17: =IF($R17="New in 2025",0.5,SUM($AG17:AG17)+AH17/2) -> 0.875 | AO17: =IF($R17="New in 2025",0.5,SUM($AG17:AH17)+AI17/2) -> 1 | AP17: =IF($R17="New in 2025",0.5,SUM($AG17:AI17)+AJ17/2) -> 1 | AQ17: =IF($R17="New in 2025",0.5,SUM($AG17:AJ17)+AK17/2) -> 1 | AR17: =IF($R17="New in 2025",0.5,SUM($AG17:AK17)+AL17/2) -> 1 | AT17: 0 | AU17: 0 | AV17: 0 | AW17: 0 | AX17: 0 | AY17: 0
A18: 15 | B18: High Rise Residential | C18: 2026 | D18: 1100 | E18: 80 | F18: =AM18 -> 0.3 | G18: =AN18 -> 0.7 | H18: =AO18 -> 0.8 | I18: =AP18 -> 0.8 | J18: =AQ18 -> 0.8 | K18: =AR18 -> 0.8 | L18: Committed (OTC in Progress) | N18: Committed | P18: GS 50 to 2,999 | Q18: New | S18: Veridian | T18: 1 | U18: 0 | V18: 0 | W18: 0 | X18: 0 | Y18: 0 | Z18: =T18*$E18/100 -> 0.8 | AA18: =U18*$E18/100 -> 0 | AB18: =V18*$E18/100 -> 0 | AC18: =W18*$E18/100 -> 0 | AD18: =X18*$E18/100 -> 0 | AE18: =Y18*$E18/100 -> 0 | AF18: 0 | AG18: =IF($AF18=1,Z18,Z18*0.75) -> 0.6 | AH18: =IF($AF18=1,AA18,Z18*(1-0.75)+AA18*0.75) -> 0.2 | AI18: =IF($AF18=1,AB18,AA18*(1-0.75)+AB18*0.75) -> 0 | AJ18: =IF($AF18=1,AC18,AB18*(1-0.75)+AC18*0.75) -> 0 | AK18: =IF($AF18=1,AD18,AC18*(1-0.75)+AD18*0.75) -> 0 | AL18: =IF($AF18=1,AE18,AD18*(1-0.75)+AE18*0.75) -> 0 | AM18: =AG18/2 -> 0.3 | AN18: =IF($R18="New in 2025",0.5,SUM($AG18:AG18)+AH18/2) -> 0.7 | AO18: =IF($R18="New in 2025",0.5,SUM($AG18:AH18)+AI18/2) -> 0.8 | AP18: =IF($R18="New in 2025",0.5,SUM($AG18:AI18)+AJ18/2) -> 0.8 | AQ18: =IF($R18="New in 2025",0.5,SUM($AG18:AJ18)+AK18/2) -> 0.8 | AR18: =IF($R18="New in 2025",0.5,SUM($AG18:AK18)+AL18/2) -> 0.8 | AT18: 0.3 | AU18: 0.7 | AV18: 0.5 | AW18: 0.1 | AX18: 0 | AY18: 0 | AZ18: Project Advanced
A19: 16 | B19: Industrial | C19: 2026 | D19: 3000 | E19: 80 | F19: =AM19 -> 0 | G19: =AN19 -> 0 | H19: =AO19 -> 0 | I19: =AP19 -> 0 | J19: =AQ19 -> 0 | K19: =AR19 -> 0 | L19: Committed (OTC in Progress) | N19: Committed | O19: GS 50 to 2,999 | P19: GS 3,000 to 4,999 | Q19: Existing | S19: Veridian | T19: 0 | U19: 0 | V19: 0 | W19: 0 | X19: 0 | Y19: 0 | Z19: =T19*$E19/100 -> 0 | AA19: =U19*$E19/100 -> 0 | AB19: =V19*$E19/100 -> 0 | AC19: =W19*$E19/100 -> 0 | AD19: =X19*$E19/100 -> 0 | AE19: =Y19*$E19/100 -> 0 | AF19: 0 | AG19: =IF($AF19=1,Z19,Z19*0.75) -> 0 | AH19: =IF($AF19=1,AA19,Z19*(1-0.75)+AA19*0.75) -> 0 | AI19: =IF($AF19=1,AB19,AA19*(1-0.75)+AB19*0.75) -> 0 | AJ19: =IF($AF19=1,AC19,AB19*(1-0.75)+AC19*0.75) -> 0 | AK19: =IF($AF19=1,AD19,AC19*(1-0.75)+AD19*0.75) -> 0 | AL19: =IF($AF19=1,AE19,AD19*(1-0.75)+AE19*0.75) -> 0 | AM19: =AG19/2 -> 0 | AN19: =IF($R19="New in 2025",0.5,SUM($AG19:AG19)+AH19/2) -> 0 | AO19: =IF($R19="New in 2025",0.5,SUM($AG19:AH19)+AI19/2) -> 0 | AP19: =IF($R19="New in 2025",0.5,SUM($AG19:AI19)+AJ19/2) -> 0 | AQ19: =IF($R19="New in 2025",0.5,SUM($AG19:AJ19)+AK19/2) -> 0 | AR19: =IF($R19="New in 2025",0.5,SUM($AG19:AK19)+AL19/2) -> 0 | AT19: 0 | AU19: 0 | AV19: 0 | AW19: 0 | AX19: 0 | AY19: 0
A20: 17 | B20: Industrial | C20: 2026 | D20: 3889 | E20: 100 | F20: =AM20 -> 0 | G20: =AN20 -> 0 | H20: =AO20 -> 0 | I20: =AP20 -> 0 | J20: =AQ20 -> 0 | K20: =AR20 -> 0 | L20: Contracted (OTC Signed) | N20: Committed | O20: GS 50 to 2,999 | P20: GS 3,000 to 4,999 | Q20: Existing | S20: Veridian | T20: 0 | U20: 0 | V20: 0 | W20: 0 | X20: 0 | Y20: 0 | Z20: =T20*$E20/100 -> 0 | AA20: =U20*$E20/100 -> 0 | AB20: =V20*$E20/100 -> 0 | AC20: =W20*$E20/100 -> 0 | AD20: =X20*$E20/100 -> 0 | AE20: =Y20*$E20/100 -> 0 | AF20: 0 | AG20: =IF($AF20=1,Z20,Z20*0.75) -> 0 | AH20: =IF($AF20=1,AA20,Z20*(1-0.75)+AA20*0.75) -> 0 | AI20: =IF($AF20=1,AB20,AA20*(1-0.75)+AB20*0.75) -> 0 | AJ20: =IF($AF20=1,AC20,AB20*(1-0.75)+AC20*0.75) -> 0 | AK20: =IF($AF20=1,AD20,AC20*(1-0.75)+AD20*0.75) -> 0 | AL20: =IF($AF20=1,AE20,AD20*(1-0.75)+AE20*0.75) -> 0 | AM20: =AG20/2 -> 0 | AN20: =IF($R20="New in 2025",0.5,SUM($AG20:AG20)+AH20/2) -> 0 | AO20: =IF($R20="New in 2025",0.5,SUM($AG20:AH20)+AI20/2) -> 0 | AP20: =IF($R20="New in 2025",0.5,SUM($AG20:AI20)+AJ20/2) -> 0 | AQ20: =IF($R20="New in 2025",0.5,SUM($AG20:AJ20)+AK20/2) -> 0 | AR20: =IF($R20="New in 2025",0.5,SUM($AG20:AK20)+AL20/2) -> 0 | AT20: 0 | AU20: 0 | AV20: 0 | AW20: 0 | AX20: 0 | AY20: 0
A21: 18 | B21: Industrial | C21: 2026 | D21: 1800 | E21: 80 | F21: =AM21 -> 0 | G21: =AN21 -> 0 | H21: =AO21 -> 0 | I21: =AP21 -> 0 | J21: =AQ21 -> 0 | K21: =AR21 -> 0 | L21: Contracted (Energized) | N21: Committed | O21: Large Use | P21: Large Use | Q21: Existing | S21: Veridian | T21: 0 | U21: 0 | V21: 0 | W21: 0 | X21: 0 | Y21: 0 | Z21: =T21*$E21/100 -> 0 | AA21: =U21*$E21/100 -> 0 | AB21: =V21*$E21/100 -> 0 | AC21: =W21*$E21/100 -> 0 | AD21: =X21*$E21/100 -> 0 | AE21: =Y21*$E21/100 -> 0 | AF21: 0 | AG21: =IF($AF21=1,Z21,Z21*0.75) -> 0 | AH21: =IF($AF21=1,AA21,Z21*(1-0.75)+AA21*0.75) -> 0 | AI21: =IF($AF21=1,AB21,AA21*(1-0.75)+AB21*0.75) -> 0 | AJ21: =IF($AF21=1,AC21,AB21*(1-0.75)+AC21*0.75) -> 0 | AK21: =IF($AF21=1,AD21,AC21*(1-0.75)+AD21*0.75) -> 0 | AL21: =IF($AF21=1,AE21,AD21*(1-0.75)+AE21*0.75) -> 0 | AM21: =AG21/2 -> 0 | AN21: =IF($R21="New in 2025",0.5,SUM($AG21:AG21)+AH21/2) -> 0 | AO21: =IF($R21="New in 2025",0.5,SUM($AG21:AH21)+AI21/2) -> 0 | AP21: =IF($R21="New in 2025",0.5,SUM($AG21:AI21)+AJ21/2) -> 0 | AQ21: =IF($R21="New in 2025",0.5,SUM($AG21:AJ21)+AK21/2) -> 0 | AR21: =IF($R21="New in 2025",0.5,SUM($AG21:AK21)+AL21/2) -> 0 | AT21: 0 | AU21: 0 | AV21: 0 | AW21: 0 | AX21: 0 | AY21: 0
A22: 19 | B22: Industrial | C22: 2026 | D22: 4000 | E22: 80 | F22: =AM22 -> 0 | G22: =AN22 -> 0 | H22: =AO22 -> 0 | I22: =AP22 -> 0 | J22: =AQ22 -> 0 | K22: =AR22 -> 0 | L22: Committed (Deffered by Customer) | N22: Committed | O22: Large Use | P22: Large Use | Q22: Existing | S22: Veridian | T22: 0 | U22: 0 | V22: 0 | W22: 0 | X22: 0 | Y22: 0 | Z22: =T22*$E22/100 -> 0 | AA22: =U22*$E22/100 -> 0 | AB22: =V22*$E22/100 -> 0 | AC22: =W22*$E22/100 -> 0 | AD22: =X22*$E22/100 -> 0 | AE22: =Y22*$E22/100 -> 0 | AF22: 0 | AG22: =IF($AF22=1,Z22,Z22*0.75) -> 0 | AH22: =IF($AF22=1,AA22,Z22*(1-0.75)+AA22*0.75) -> 0 | AI22: =IF($AF22=1,AB22,AA22*(1-0.75)+AB22*0.75) -> 0 | AJ22: =IF($AF22=1,AC22,AB22*(1-0.75)+AC22*0.75) -> 0 | AK22: =IF($AF22=1,AD22,AC22*(1-0.75)+AD22*0.75) -> 0 | AL22: =IF($AF22=1,AE22,AD22*(1-0.75)+AE22*0.75) -> 0 | AM22: =AG22/2 -> 0 | AN22: =IF($R22="New in 2025",0.5,SUM($AG22:AG22)+AH22/2) -> 0 | AO22: =IF($R22="New in 2025",0.5,SUM($AG22:AH22)+AI22/2) -> 0 | AP22: =IF($R22="New in 2025",0.5,SUM($AG22:AI22)+AJ22/2) -> 0 | AQ22: =IF($R22="New in 2025",0.5,SUM($AG22:AJ22)+AK22/2) -> 0 | AR22: =IF($R22="New in 2025",0.5,SUM($AG22:AK22)+AL22/2) -> 0 | AT22: 0 | AU22: 0 | AV22: 0 | AW22: 0 | AX22: 0 | AY22: 0
A23: 20 | B23: Industrial | C23: 2025 | D23: 2200 | E23: 100 | F23: =AM23 -> 0 | G23: =AN23 -> 0 | H23: =AO23 -> 0 | I23: =AP23 -> 0 | J23: =AQ23 -> 0 | K23: =AR23 -> 0 | L23: Contracted (Energized) | N23: Committed | O23: GS 50 to 2,999 | P23: GS 3,000 to 4,999 | Q23: Existing | S23: Veridian | T23: 0 | U23: 0 | V23: 0 | W23: 0 | X23: 0 | Y23: 0 | Z23: =T23*$E23/100 -> 0 | AA23: =U23*$E23/100 -> 0 | AB23: =V23*$E23/100 -> 0 | AC23: =W23*$E23/100 -> 0 | AD23: =X23*$E23/100 -> 0 | AE23: =Y23*$E23/100 -> 0 | AF23: 1 | AG23: =IF($AF23=1,Z23,Z23*0.75) -> 0 | AH23: =IF($AF23=1,AA23,Z23*(1-0.75)+AA23*0.75) -> 0 | AI23: =IF($AF23=1,AB23,AA23*(1-0.75)+AB23*0.75) -> 0 | AJ23: =IF($AF23=1,AC23,AB23*(1-0.75)+AC23*0.75) -> 0 | AK23: =IF($AF23=1,AD23,AC23*(1-0.75)+AD23*0.75) -> 0 | AL23: =IF($AF23=1,AE23,AD23*(1-0.75)+AE23*0.75) -> 0 | AM23: =AG23/2 -> 0 | AN23: =IF($R23="New in 2025",0.5,SUM($AG23:AG23)+AH23/2) -> 0 | AO23: =IF($R23="New in 2025",0.5,SUM($AG23:AH23)+AI23/2) -> 0 | AP23: =IF($R23="New in 2025",0.5,SUM($AG23:AI23)+AJ23/2) -> 0 | AQ23: =IF($R23="New in 2025",0.5,SUM($AG23:AJ23)+AK23/2) -> 0 | AR23: =IF($R23="New in 2025",0.5,SUM($AG23:AK23)+AL23/2) -> 0 | AT23: -0.5 | AU23: -1 | AV23: -1 | AW23: -1 | AX23: -1 | AY23: -1
A24: 21 | B24: Commercial | C24: 2025 | D24: 2500 | E24: 100 | F24: =AM24 -> 0 | G24: =AN24 -> 0 | H24: =AO24 -> 0 | I24: =AP24 -> 0 | J24: =AQ24 -> 0 | K24: =AR24 -> 0 | L24: Contracted (Energized) | N24: Committed | O24: GS 50 to 2,999 | P24: GS 3,000 to 4,999 | Q24: Existing | S24: Veridian | T24: 0 | U24: 0 | V24: 0 | W24: 0 | X24: 0 | Y24: 0 | Z24: =T24*$E24/100 -> 0 | AA24: =U24*$E24/100 -> 0 | AB24: =V24*$E24/100 -> 0 | AC24: =W24*$E24/100 -> 0 | AD24: =X24*$E24/100 -> 0 | AE24: =Y24*$E24/100 -> 0 | AF24: 1 | AG24: =IF($AF24=1,Z24,Z24*0.75) -> 0 | AH24: =IF($AF24=1,AA24,Z24*(1-0.75)+AA24*0.75) -> 0 | AI24: =IF($AF24=1,AB24,AA24*(1-0.75)+AB24*0.75) -> 0 | AJ24: =IF($AF24=1,AC24,AB24*(1-0.75)+AC24*0.75) -> 0 | AK24: =IF($AF24=1,AD24,AC24*(1-0.75)+AD24*0.75) -> 0 | AL24: =IF($AF24=1,AE24,AD24*(1-0.75)+AE24*0.75) -> 0 | AM24: =AG24/2 -> 0 | AN24: =IF($R24="New in 2025",0.5,SUM($AG24:AG24)+AH24/2) -> 0 | AO24: =IF($R24="New in 2025",0.5,SUM($AG24:AH24)+AI24/2) -> 0 | AP24: =IF($R24="New in 2025",0.5,SUM($AG24:AI24)+AJ24/2) -> 0 | AQ24: =IF($R24="New in 2025",0.5,SUM($AG24:AJ24)+AK24/2) -> 0 | AR24: =IF($R24="New in 2025",0.5,SUM($AG24:AK24)+AL24/2) -> 0 | AT24: 0 | AU24: 0 | AV24: 0 | AW24: 0 | AX24: 0 | AY24: 0
A25: 22 | B25: High Rise Residential | C25: 2027 | D25: 1350 | E25: 80 | F25: =AM25 -> 0 | G25: =AN25 -> 0.3 | H25: =AO25 -> 0.7 | I25: =AP25 -> 0.8 | J25: =AQ25 -> 0.8 | K25: =AR25 -> 0.8 | L25: Committed (Desposit Received) | N25: Committed | P25: GS 50 to 2,999 | Q25: New | S25: Veridian | T25: 0 | U25: 1 | V25: 0 | W25: 0 | X25: 0 | Y25: 0 | Z25: =T25*$E25/100 -> 0 | AA25: =U25*$E25/100 -> 0.8 | AB25: =V25*$E25/100 -> 0 | AC25: =W25*$E25/100 -> 0 | AD25: =X25*$E25/100 -> 0 | AE25: =Y25*$E25/100 -> 0 | AF25: 0 | AG25: =IF($AF25=1,Z25,Z25*0.75) -> 0 | AH25: =IF($AF25=1,AA25,Z25*(1-0.75)+AA25*0.75) -> 0.6 | AI25: =IF($AF25=1,AB25,AA25*(1-0.75)+AB25*0.75) -> 0.2 | AJ25: =IF($AF25=1,AC25,AB25*(1-0.75)+AC25*0.75) -> 0 | AK25: =IF($AF25=1,AD25,AC25*(1-0.75)+AD25*0.75) -> 0 | AL25: =IF($AF25=1,AE25,AD25*(1-0.75)+AE25*0.75) -> 0 | AM25: =AG25/2 -> 0 | AN25: =IF($R25="New in 2025",0.5,SUM($AG25:AG25)+AH25/2) -> 0.3 | AO25: =IF($R25="New in 2025",0.5,SUM($AG25:AH25)+AI25/2) -> 0.7 | AP25: =IF($R25="New in 2025",0.5,SUM($AG25:AI25)+AJ25/2) -> 0.8 | AQ25: =IF($R25="New in 2025",0.5,SUM($AG25:AJ25)+AK25/2) -> 0.8 | AR25: =IF($R25="New in 2025",0.5,SUM($AG25:AK25)+AL25/2) -> 0.8 | AT25: -0.3 | AU25: -0.4 | AV25: -0.1 | AW25: 0 | AX25: 0 | AY25: 0 | AZ25: Project Delayed
A26: 23 | B26: Commercial | C26: 2026 | D26: 1500 | E26: 80 | F26: =AM26 -> 0.3 | G26: =AN26 -> 0.7 | H26: =AO26 -> 0.8 | I26: =AP26 -> 0.8 | J26: =AQ26 -> 0.8 | K26: =AR26 -> 0.8 | L26: Committed (OTC in Progress) | N26: Committed | P26: GS 50 to 2,999 | Q26: New | S26: Veridian | T26: 1 | U26: 0 | V26: 0 | W26: 0 | X26: 0 | Y26: 0 | Z26: =T26*$E26/100 -> 0.8 | AA26: =U26*$E26/100 -> 0 | AB26: =V26*$E26/100 -> 0 | AC26: =W26*$E26/100 -> 0 | AD26: =X26*$E26/100 -> 0 | AE26: =Y26*$E26/100 -> 0 | AF26: 0 | AG26: =IF($AF26=1,Z26,Z26*0.75) -> 0.6 | AH26: =IF($AF26=1,AA26,Z26*(1-0.75)+AA26*0.75) -> 0.2 | AI26: =IF($AF26=1,AB26,AA26*(1-0.75)+AB26*0.75) -> 0 | AJ26: =IF($AF26=1,AC26,AB26*(1-0.75)+AC26*0.75) -> 0 | AK26: =IF($AF26=1,AD26,AC26*(1-0.75)+AD26*0.75) -> 0 | AL26: =IF($AF26=1,AE26,AD26*(1-0.75)+AE26*0.75) -> 0 | AM26: =AG26/2 -> 0.3 | AN26: =IF($R26="New in 2025",0.5,SUM($AG26:AG26)+AH26/2) -> 0.7 | AO26: =IF($R26="New in 2025",0.5,SUM($AG26:AH26)+AI26/2) -> 0.8 | AP26: =IF($R26="New in 2025",0.5,SUM($AG26:AI26)+AJ26/2) -> 0.8 | AQ26: =IF($R26="New in 2025",0.5,SUM($AG26:AJ26)+AK26/2) -> 0.8 | AR26: =IF($R26="New in 2025",0.5,SUM($AG26:AK26)+AL26/2) -> 0.8 | AT26: 0 | AU26: 0 | AV26: 0 | AW26: 0 | AX26: 0 | AY26: 0
A27: 24 | B27: Industrial | C27: 2028 | D27: 40000 | E27: 50 | F27: =AM27 -> 0 | G27: =AN27 -> 0 | H27: =AO27 -> 0.1875 | I27: =AP27 -> 0.4375 | J27: =AQ27 -> 0.5 | K27: =AR27 -> 0.5 | L27: Committed (Mou Signed and Design Desposit Received) | N27: Committed | P27: Large Use | Q27: New | S27: Veridian | T27: 0 | U27: 0 | V27: 1 | W27: 0 | X27: 0 | Y27: 0 | Z27: =T27*$E27/100 -> 0 | AA27: =U27*$E27/100 -> 0 | AB27: =V27*$E27/100 -> 0.5 | AC27: =W27*$E27/100 -> 0 | AD27: =X27*$E27/100 -> 0 | AE27: =Y27*$E27/100 -> 0 | AF27: 0 | AG27: =IF($AF27=1,Z27,Z27*0.75) -> 0 | AH27: =IF($AF27=1,AA27,Z27*(1-0.75)+AA27*0.75) -> 0 | AI27: =IF($AF27=1,AB27,AA27*(1-0.75)+AB27*0.75) -> 0.375 | AJ27: =IF($AF27=1,AC27,AB27*(1-0.75)+AC27*0.75) -> 0.125 | AK27: =IF($AF27=1,AD27,AC27*(1-0.75)+AD27*0.75) -> 0 | AL27: =IF($AF27=1,AE27,AD27*(1-0.75)+AE27*0.75) -> 0 | AM27: =AG27/2 -> 0 | AN27: =IF($R27="New in 2025",0.5,SUM($AG27:AG27)+AH27/2) -> 0 | AO27: =IF($R27="New in 2025",0.5,SUM($AG27:AH27)+AI27/2) -> 0.1875 | AP27: =IF($R27="New in 2025",0.5,SUM($AG27:AI27)+AJ27/2) -> 0.4375 | AQ27: =IF($R27="New in 2025",0.5,SUM($AG27:AJ27)+AK27/2) -> 0.5 | AR27: =IF($R27="New in 2025",0.5,SUM($AG27:AK27)+AL27/2) -> 0.5 | AT27: 0 | AU27: -0.1875 | AV27: -0.25 | AW27: -0.0625 | AX27: 0 | AY27: 0 | AZ27: Project Delayed
A28: 25 | B28: Commercial | C28: 2026 | D28: 1700 | E28: 80 | F28: =AM28 -> 0.3 | G28: =AN28 -> 0.7 | H28: =AO28 -> 0.8 | I28: =AP28 -> 0.8 | J28: =AQ28 -> 0.8 | K28: =AR28 -> 0.8 | L28: Committed (OTC in Progress) | N28: Committed | P28: GS 50 to 2,999 | Q28: New | S28: Veridian | T28: 1 | U28: 0 | V28: 0 | W28: 0 | X28: 0 | Y28: 0 | Z28: =T28*$E28/100 -> 0.8 | AA28: =U28*$E28/100 -> 0 | AB28: =V28*$E28/100 -> 0 | AC28: =W28*$E28/100 -> 0 | AD28: =X28*$E28/100 -> 0 | AE28: =Y28*$E28/100 -> 0 | AF28: 0 | AG28: =IF($AF28=1,Z28,Z28*0.75) -> 0.6 | AH28: =IF($AF28=1,AA28,Z28*(1-0.75)+AA28*0.75) -> 0.2 | AI28: =IF($AF28=1,AB28,AA28*(1-0.75)+AB28*0.75) -> 0 | AJ28: =IF($AF28=1,AC28,AB28*(1-0.75)+AC28*0.75) -> 0 | AK28: =IF($AF28=1,AD28,AC28*(1-0.75)+AD28*0.75) -> 0 | AL28: =IF($AF28=1,AE28,AD28*(1-0.75)+AE28*0.75) -> 0 | AM28: =AG28/2 -> 0.3 | AN28: =IF($R28="New in 2025",0.5,SUM($AG28:AG28)+AH28/2) -> 0.7 | AO28: =IF($R28="New in 2025",0.5,SUM($AG28:AH28)+AI28/2) -> 0.8 | AP28: =IF($R28="New in 2025",0.5,SUM($AG28:AI28)+AJ28/2) -> 0.8 | AQ28: =IF($R28="New in 2025",0.5,SUM($AG28:AJ28)+AK28/2) -> 0.8 | AR28: =IF($R28="New in 2025",0.5,SUM($AG28:AK28)+AL28/2) -> 0.8 | AT28: 0 | AU28: 0 | AV28: 0 | AW28: 0 | AX28: 0 | AY28: 0
A29: 26 | B29: High Rise Residential | C29: 2026 | D29: 1050 | E29: 80 | F29: =AM29 -> 0.3 | G29: =AN29 -> 0.7 | H29: =AO29 -> 0.8 | I29: =AP29 -> 0.8 | J29: =AQ29 -> 0.8 | K29: =AR29 -> 0.8 | L29: Committed (Desposit Received) | N29: Committed | P29: GS 50 to 2,999 | Q29: New | S29: Veridian | T29: 1 | U29: 0 | V29: 0 | W29: 0 | X29: 0 | Y29: 0 | Z29: =T29*$E29/100 -> 0.8 | AA29: =U29*$E29/100 -> 0 | AB29: =V29*$E29/100 -> 0 | AC29: =W29*$E29/100 -> 0 | AD29: =X29*$E29/100 -> 0 | AE29: =Y29*$E29/100 -> 0 | AF29: 0 | AG29: =IF($AF29=1,Z29,Z29*0.75) -> 0.6 | AH29: =IF($AF29=1,AA29,Z29*(1-0.75)+AA29*0.75) -> 0.2 | AI29: =IF($AF29=1,AB29,AA29*(1-0.75)+AB29*0.75) -> 0 | AJ29: =IF($AF29=1,AC29,AB29*(1-0.75)+AC29*0.75) -> 0 | AK29: =IF($AF29=1,AD29,AC29*(1-0.75)+AD29*0.75) -> 0 | AL29: =IF($AF29=1,AE29,AD29*(1-0.75)+AE29*0.75) -> 0 | AM29: =AG29/2 -> 0.3 | AN29: =IF($R29="New in 2025",0.5,SUM($AG29:AG29)+AH29/2) -> 0.7 | AO29: =IF($R29="New in 2025",0.5,SUM($AG29:AH29)+AI29/2) -> 0.8 | AP29: =IF($R29="New in 2025",0.5,SUM($AG29:AI29)+AJ29/2) -> 0.8 | AQ29: =IF($R29="New in 2025",0.5,SUM($AG29:AJ29)+AK29/2) -> 0.8 | AR29: =IF($R29="New in 2025",0.5,SUM($AG29:AK29)+AL29/2) -> 0.8 | AT29: 0 | AU29: 0 | AV29: 0 | AW29: 0 | AX29: 0 | AY29: 0
A30: 27 | B30: Commercial | C30: 2026 | D30: 3830 | E30: 100 | F30: =AM30 -> 0.5 | G30: =AN30 -> 0.5 | H30: =AO30 -> 0.5 | I30: =AP30 -> 0.5 | J30: =AQ30 -> 0.5 | K30: =AR30 -> 0.5 | L30: Contracted (Energized) | N30: Committed | P30: GS 3,000 to 4,999 | Q30: New | R30: New in 2025 | S30: Whitby | T30: 1 | U30: 0 | V30: 0 | W30: 0 | X30: 0 | Y30: 0 | Z30: =T30*$E30/100 -> 1 | AA30: =U30*$E30/100 -> 0 | AB30: =V30*$E30/100 -> 0 | AC30: =W30*$E30/100 -> 0 | AD30: =X30*$E30/100 -> 0 | AE30: =Y30*$E30/100 -> 0 | AF30: 1 | AG30: =IF($AF30=1,Z30,Z30*0.75) -> 1 | AH30: =IF($AF30=1,AA30,Z30*(1-0.75)+AA30*0.75) -> 0 | AI30: =IF($AF30=1,AB30,AA30*(1-0.75)+AB30*0.75) -> 0 | AJ30: =IF($AF30=1,AC30,AB30*(1-0.75)+AC30*0.75) -> 0 | AK30: =IF($AF30=1,AD30,AC30*(1-0.75)+AD30*0.75) -> 0 | AL30: =IF($AF30=1,AE30,AD30*(1-0.75)+AE30*0.75) -> 0 | AM30: =AG30/2 -> 0.5 | AN30: =IF($R30="New in 2025",0.5,SUM($AG30:AG30)+AH30/2) -> 0.5 | AO30: =IF($R30="New in 2025",0.5,SUM($AG30:AH30)+AI30/2) -> 0.5 | AP30: =IF($R30="New in 2025",0.5,SUM($AG30:AI30)+AJ30/2) -> 0.5 | AQ30: =IF($R30="New in 2025",0.5,SUM($AG30:AJ30)+AK30/2) -> 0.5 | AR30: =IF($R30="New in 2025",0.5,SUM($AG30:AK30)+AL30/2) -> 0.5 | AT30: 0 | AU30: -0.5 | AV30: -0.5 | AW30: -0.5 | AX30: -0.5 | AY30: -0.5 | AZ30: Half-year adjustment in each year
A31: 28 | B31: Commercial | C31: 2026 | D31: 780 | E31: 80 | F31: =AM31 -> 0 | G31: =AN31 -> 0 | H31: =AO31 -> 0 | I31: =AP31 -> 0 | J31: =AQ31 -> 0 | K31: =AR31 -> 0 | L31: Committed (Desposit Received) | N31: Committed | O31: GS 50 to 2,999 | P31: GS 50 to 2,999 | Q31: Existing | S31: Whitby | T31: 0 | U31: 0 | V31: 0 | W31: 0 | X31: 0 | Y31: 0 | Z31: =T31*$E31/100 -> 0 | AA31: =U31*$E31/100 -> 0 | AB31: =V31*$E31/100 -> 0 | AC31: =W31*$E31/100 -> 0 | AD31: =X31*$E31/100 -> 0 | AE31: =Y31*$E31/100 -> 0 | AF31: 0 | AG31: =IF($AF31=1,Z31,Z31*0.75) -> 0 | AH31: =IF($AF31=1,AA31,Z31*(1-0.75)+AA31*0.75) -> 0 | AI31: =IF($AF31=1,AB31,AA31*(1-0.75)+AB31*0.75) -> 0 | AJ31: =IF($AF31=1,AC31,AB31*(1-0.75)+AC31*0.75) -> 0 | AK31: =IF($AF31=1,AD31,AC31*(1-0.75)+AD31*0.75) -> 0 | AL31: =IF($AF31=1,AE31,AD31*(1-0.75)+AE31*0.75) -> 0 | AM31: =AG31/2 -> 0 | AN31: =IF($R31="New in 2025",0.5,SUM($AG31:AG31)+AH31/2) -> 0 | AO31: =IF($R31="New in 2025",0.5,SUM($AG31:AH31)+AI31/2) -> 0 | AP31: =IF($R31="New in 2025",0.5,SUM($AG31:AI31)+AJ31/2) -> 0 | AQ31: =IF($R31="New in 2025",0.5,SUM($AG31:AJ31)+AK31/2) -> 0 | AR31: =IF($R31="New in 2025",0.5,SUM($AG31:AK31)+AL31/2) -> 0 | AT31: 0 | AU31: 0 | AV31: 0 | AW31: 0 | AX31: 0 | AY31: 0
A32: 29 | B32: Residential Condo | C32: 2027 | D32: 392 | E32: 80 | F32: =AM32 -> 0 | G32: =AN32 -> 0.3 | H32: =AO32 -> 0.7 | I32: =AP32 -> 0.8 | J32: =AQ32 -> 0.8 | K32: =AR32 -> 0.8 | L32: Committed (Desposit Received) | N32: Committed | P32: GS 50 to 2,999 | Q32: New | S32: Whitby | T32: 0 | U32: 1 | V32: 0 | W32: 0 | X32: 0 | Y32: 0 | Z32: =T32*$E32/100 -> 0 | AA32: =U32*$E32/100 -> 0.8 | AB32: =V32*$E32/100 -> 0 | AC32: =W32*$E32/100 -> 0 | AD32: =X32*$E32/100 -> 0 | AE32: =Y32*$E32/100 -> 0 | AF32: 0 | AG32: =IF($AF32=1,Z32,Z32*0.75) -> 0 | AH32: =IF($AF32=1,AA32,Z32*(1-0.75)+AA32*0.75) -> 0.6 | AI32: =IF($AF32=1,AB32,AA32*(1-0.75)+AB32*0.75) -> 0.2 | AJ32: =IF($AF32=1,AC32,AB32*(1-0.75)+AC32*0.75) -> 0 | AK32: =IF($AF32=1,AD32,AC32*(1-0.75)+AD32*0.75) -> 0 | AL32: =IF($AF32=1,AE32,AD32*(1-0.75)+AE32*0.75) -> 0 | AM32: =AG32/2 -> 0 | AN32: =IF($R32="New in 2025",0.5,SUM($AG32:AG32)+AH32/2) -> 0.3 | AO32: =IF($R32="New in 2025",0.5,SUM($AG32:AH32)+AI32/2) -> 0.7 | AP32: =IF($R32="New in 2025",0.5,SUM($AG32:AI32)+AJ32/2) -> 0.8 | AQ32: =IF($R32="New in 2025",0.5,SUM($AG32:AJ32)+AK32/2) -> 0.8 | AR32: =IF($R32="New in 2025",0.5,SUM($AG32:AK32)+AL32/2) -> 0.8 | AT32: -0.3 | AU32: -0.4 | AV32: -0.1 | AW32: 0 | AX32: 0 | AY32: 0 | AZ32: Project Delayed
A33: 30 | B33: Industrial | C33: 2025 | D33: 1881 | E33: 100 | F33: =AM33 -> 0 | G33: =AN33 -> 0 | H33: =AO33 -> 0 | I33: =AP33 -> 0 | J33: =AQ33 -> 0 | K33: =AR33 -> 0 | L33: Contracted (Energized) | N33: Committed | O33: GS 50 to 2,999 | P33: GS 3,000 to 4,999 | Q33: Existing | S33: Whitby | T33: 0 | U33: 0 | V33: 0 | W33: 0 | X33: 0 | Y33: 0 | Z33: =T33*$E33/100 -> 0 | AA33: =U33*$E33/100 -> 0 | AB33: =V33*$E33/100 -> 0 | AC33: =W33*$E33/100 -> 0 | AD33: =X33*$E33/100 -> 0 | AE33: =Y33*$E33/100 -> 0 | AF33: 1 | AG33: =IF($AF33=1,Z33,Z33*0.75) -> 0 | AH33: =IF($AF33=1,AA33,Z33*(1-0.75)+AA33*0.75) -> 0 | AI33: =IF($AF33=1,AB33,AA33*(1-0.75)+AB33*0.75) -> 0 | AJ33: =IF($AF33=1,AC33,AB33*(1-0.75)+AC33*0.75) -> 0 | AK33: =IF($AF33=1,AD33,AC33*(1-0.75)+AD33*0.75) -> 0 | AL33: =IF($AF33=1,AE33,AD33*(1-0.75)+AE33*0.75) -> 0 | AM33: =AG33/2 -> 0 | AN33: =IF($R33="New in 2025",0.5,SUM($AG33:AG33)+AH33/2) -> 0 | AO33: =IF($R33="New in 2025",0.5,SUM($AG33:AH33)+AI33/2) -> 0 | AP33: =IF($R33="New in 2025",0.5,SUM($AG33:AI33)+AJ33/2) -> 0 | AQ33: =IF($R33="New in 2025",0.5,SUM($AG33:AJ33)+AK33/2) -> 0 | AR33: =IF($R33="New in 2025",0.5,SUM($AG33:AK33)+AL33/2) -> 0 | AT33: 0 | AU33: 0 | AV33: 0 | AW33: 0 | AX33: 0 | AY33: 0
A34: 31 | B34: High Rise Residential | C34: 2027 | D34: 3000 | E34: 80 | F34: =AM34 -> 0 | G34: =AN34 -> 0.3 | H34: =AO34 -> 0.7 | I34: =AP34 -> 0.8 | J34: =AQ34 -> 1.1 | K34: =AR34 -> 1.5 | L34: Committed (OTC in Progress) | N34: Committed | P34: GS 50 to 2,999 | Q34: New | S34: Whitby | T34: 0 | U34: 1 | V34: 0 | W34: 0 | X34: 1 | Y34: 0 | Z34: =T34*$E34/100 -> 0 | AA34: =U34*$E34/100 -> 0.8 | AB34: =V34*$E34/100 -> 0 | AC34: =W34*$E34/100 -> 0 | AD34: =X34*$E34/100 -> 0.8 | AE34: =Y34*$E34/100 -> 0 | AF34: 0 | AG34: =IF($AF34=1,Z34,Z34*0.75) -> 0 | AH34: =IF($AF34=1,AA34,Z34*(1-0.75)+AA34*0.75) -> 0.6 | AI34: =IF($AF34=1,AB34,AA34*(1-0.75)+AB34*0.75) -> 0.2 | AJ34: =IF($AF34=1,AC34,AB34*(1-0.75)+AC34*0.75) -> 0 | AK34: =IF($AF34=1,AD34,AC34*(1-0.75)+AD34*0.75) -> 0.6 | AL34: =IF($AF34=1,AE34,AD34*(1-0.75)+AE34*0.75) -> 0.2 | AM34: =AG34/2 -> 0 | AN34: =IF($R34="New in 2025",0.5,SUM($AG34:AG34)+AH34/2) -> 0.3 | AO34: =IF($R34="New in 2025",0.5,SUM($AG34:AH34)+AI34/2) -> 0.7 | AP34: =IF($R34="New in 2025",0.5,SUM($AG34:AI34)+AJ34/2) -> 0.8 | AQ34: =IF($R34="New in 2025",0.5,SUM($AG34:AJ34)+AK34/2) -> 1.1 | AR34: =IF($R34="New in 2025",0.5,SUM($AG34:AK34)+AL34/2) -> 1.5 | AT34: 0 | AU34: 0 | AV34: 0 | AW34: 0 | AX34: 0 | AY34: 0
A35: 32 | B35: Industrial | C35: 2025 | D35: 2435 | E35: 100 | F35: =AM35 -> 0.5 | G35: =AN35 -> 0.5 | H35: =AO35 -> 0.5 | I35: =AP35 -> 0.5 | J35: =AQ35 -> 0.5 | K35: =AR35 -> 0.5 | L35: Contracted (OTC Signed) | N35: Committed | P35: GS 50 to 2,999 | Q35: New | R35: New in 2025 | S35: Whitby | T35: 1 | U35: 0 | V35: 0 | W35: 0 | X35: 0 | Y35: 0 | Z35: =T35*$E35/100 -> 1 | AA35: =U35*$E35/100 -> 0 | AB35: =V35*$E35/100 -> 0 | AC35: =W35*$E35/100 -> 0 | AD35: =X35*$E35/100 -> 0 | AE35: =Y35*$E35/100 -> 0 | AF35: 1 | AG35: =IF($AF35=1,Z35,Z35*0.75) -> 1 | AH35: =IF($AF35=1,AA35,Z35*(1-0.75)+AA35*0.75) -> 0 | AI35: =IF($AF35=1,AB35,AA35*(1-0.75)+AB35*0.75) -> 0 | AJ35: =IF($AF35=1,AC35,AB35*(1-0.75)+AC35*0.75) -> 0 | AK35: =IF($AF35=1,AD35,AC35*(1-0.75)+AD35*0.75) -> 0 | AL35: =IF($AF35=1,AE35,AD35*(1-0.75)+AE35*0.75) -> 0 | AM35: =AG35/2 -> 0.5 | AN35: =IF($R35="New in 2025",0.5,SUM($AG35:AG35)+AH35/2) -> 0.5 | AO35: =IF($R35="New in 2025",0.5,SUM($AG35:AH35)+AI35/2) -> 0.5 | AP35: =IF($R35="New in 2025",0.5,SUM($AG35:AI35)+AJ35/2) -> 0.5 | AQ35: =IF($R35="New in 2025",0.5,SUM($AG35:AJ35)+AK35/2) -> 0.5 | AR35: =IF($R35="New in 2025",0.5,SUM($AG35:AK35)+AL35/2) -> 0.5 | AT35: 0.125 | AU35: -0.375 | AV35: -0.5 | AW35: -0.5 | AX35: -0.5 | AY35: -0.5 | AZ35: Half-year adjustment in each year
A36: 33 | B36: Industrial | C36: 2026 | D36: 1610 | E36: 50 | F36: =AM36 -> 0.1875 | G36: =AN36 -> 0.4375 | H36: =AO36 -> 0.5 | I36: =AP36 -> 0.5 | J36: =AQ36 -> 0.5 | K36: =AR36 -> 0.5 | L36: Speculative (Application Received) | N36: Non-Committed | P36: GS 50 to 2,999 | Q36: New | S36: Whitby | T36: 1 | U36: 0 | V36: 0 | W36: 0 | X36: 0 | Y36: 0 | Z36: =T36*$E36/100 -> 0.5 | AA36: =U36*$E36/100 -> 0 | AB36: =V36*$E36/100 -> 0 | AC36: =W36*$E36/100 -> 0 | AD36: =X36*$E36/100 -> 0 | AE36: =Y36*$E36/100 -> 0 | AF36: 0 | AG36: =IF($AF36=1,Z36,Z36*0.75) -> 0.375 | AH36: =IF($AF36=1,AA36,Z36*(1-0.75)+AA36*0.75) -> 0.125 | AI36: =IF($AF36=1,AB36,AA36*(1-0.75)+AB36*0.75) -> 0 | AJ36: =IF($AF36=1,AC36,AB36*(1-0.75)+AC36*0.75) -> 0 | AK36: =IF($AF36=1,AD36,AC36*(1-0.75)+AD36*0.75) -> 0 | AL36: =IF($AF36=1,AE36,AD36*(1-0.75)+AE36*0.75) -> 0 | AM36: =AG36/2 -> 0.1875 | AN36: =IF($R36="New in 2025",0.5,SUM($AG36:AG36)+AH36/2) -> 0.4375 | AO36: =IF($R36="New in 2025",0.5,SUM($AG36:AH36)+AI36/2) -> 0.5 | AP36: =IF($R36="New in 2025",0.5,SUM($AG36:AI36)+AJ36/2) -> 0.5 | AQ36: =IF($R36="New in 2025",0.5,SUM($AG36:AJ36)+AK36/2) -> 0.5 | AR36: =IF($R36="New in 2025",0.5,SUM($AG36:AK36)+AL36/2) -> 0.5 | AT36: 0 | AU36: 0 | AV36: 0 | AW36: 0 | AX36: 0 | AY36: 0
A37: 34 | B37: High Rise Residential | C37: 2027 | D37: 1139 | E37: 50 | F37: =AM37 -> 0 | G37: =AN37 -> 0.1875 | H37: =AO37 -> 0.4375 | I37: =AP37 -> 0.5 | J37: =AQ37 -> 0.5 | K37: =AR37 -> 0.5 | L37: Speculative (Application Received) | N37: Non-Committed | P37: GS 50 to 2,999 | Q37: New | S37: Whitby | T37: 0 | U37: 1 | V37: 0 | W37: 0 | X37: 0 | Y37: 0 | Z37: =T37*$E37/100 -> 0 | AA37: =U37*$E37/100 -> 0.5 | AB37: =V37*$E37/100 -> 0 | AC37: =W37*$E37/100 -> 0 | AD37: =X37*$E37/100 -> 0 | AE37: =Y37*$E37/100 -> 0 | AF37: 0 | AG37: =IF($AF37=1,Z37,Z37*0.75) -> 0 | AH37: =IF($AF37=1,AA37,Z37*(1-0.75)+AA37*0.75) -> 0.375 | AI37: =IF($AF37=1,AB37,AA37*(1-0.75)+AB37*0.75) -> 0.125 | AJ37: =IF($AF37=1,AC37,AB37*(1-0.75)+AC37*0.75) -> 0 | AK37: =IF($AF37=1,AD37,AC37*(1-0.75)+AD37*0.75) -> 0 | AL37: =IF($AF37=1,AE37,AD37*(1-0.75)+AE37*0.75) -> 0 | AM37: =AG37/2 -> 0 | AN37: =IF($R37="New in 2025",0.5,SUM($AG37:AG37)+AH37/2) -> 0.1875 | AO37: =IF($R37="New in 2025",0.5,SUM($AG37:AH37)+AI37/2) -> 0.4375 | AP37: =IF($R37="New in 2025",0.5,SUM($AG37:AI37)+AJ37/2) -> 0.5 | AQ37: =IF($R37="New in 2025",0.5,SUM($AG37:AJ37)+AK37/2) -> 0.5 | AR37: =IF($R37="New in 2025",0.5,SUM($AG37:AK37)+AL37/2) -> 0.5 | AT37: 0 | AU37: 0 | AV37: 0 | AW37: 0 | AX37: 0 | AY37: 0
A38: 35 | B38: High Rise Residential | C38: 2027 | D38: 2038 | E38: 50 | F38: =AM38 -> 0 | G38: =AN38 -> 0.1875 | H38: =AO38 -> 0.4375 | I38: =AP38 -> 0.5 | J38: =AQ38 -> 0.5 | K38: =AR38 -> 0.5 | L38: Speculative (Application Received) | N38: Non-Committed | P38: GS 50 to 2,999 | Q38: New | S38: Whitby | T38: 0 | U38: 1 | V38: 0 | W38: 0 | X38: 0 | Y38: 0 | Z38: =T38*$E38/100 -> 0 | AA38: =U38*$E38/100 -> 0.5 | AB38: =V38*$E38/100 -> 0 | AC38: =W38*$E38/100 -> 0 | AD38: =X38*$E38/100 -> 0 | AE38: =Y38*$E38/100 -> 0 | AF38: 0 | AG38: =IF($AF38=1,Z38,Z38*0.75) -> 0 | AH38: =IF($AF38=1,AA38,Z38*(1-0.75)+AA38*0.75) -> 0.375 | AI38: =IF($AF38=1,AB38,AA38*(1-0.75)+AB38*0.75) -> 0.125 | AJ38: =IF($AF38=1,AC38,AB38*(1-0.75)+AC38*0.75) -> 0 | AK38: =IF($AF38=1,AD38,AC38*(1-0.75)+AD38*0.75) -> 0 | AL38: =IF($AF38=1,AE38,AD38*(1-0.75)+AE38*0.75) -> 0 | AM38: =AG38/2 -> 0 | AN38: =IF($R38="New in 2025",0.5,SUM($AG38:AG38)+AH38/2) -> 0.1875 | AO38: =IF($R38="New in 2025",0.5,SUM($AG38:AH38)+AI38/2) -> 0.4375 | AP38: =IF($R38="New in 2025",0.5,SUM($AG38:AI38)+AJ38/2) -> 0.5 | AQ38: =IF($R38="New in 2025",0.5,SUM($AG38:AJ38)+AK38/2) -> 0.5 | AR38: =IF($R38="New in 2025",0.5,SUM($AG38:AK38)+AL38/2) -> 0.5 | AT38: 0 | AU38: 0 | AV38: 0 | AW38: 0 | AX38: 0 | AY38: 0
A39: 36 | B39: Mixed Use Residential | C39: 2026 | D39: 1125 | E39: 80 | F39: =AM39 -> 0.3 | G39: =AN39 -> 0.7 | H39: =AO39 -> 0.8 | I39: =AP39 -> 0.8 | J39: =AQ39 -> 0.8 | K39: =AR39 -> 0.8 | L39: Committed (OTC in Progress) | N39: Committed | P39: GS 50 to 2,999 | Q39: New | S39: Whitby | T39: 1 | U39: 0 | V39: 0 | W39: 0 | X39: 0 | Y39: 0 | Z39: =T39*$E39/100 -> 0.8 | AA39: =U39*$E39/100 -> 0 | AB39: =V39*$E39/100 -> 0 | AC39: =W39*$E39/100 -> 0 | AD39: =X39*$E39/100 -> 0 | AE39: =Y39*$E39/100 -> 0 | AF39: 0 | AG39: =IF($AF39=1,Z39,Z39*0.75) -> 0.6 | AH39: =IF($AF39=1,AA39,Z39*(1-0.75)+AA39*0.75) -> 0.2 | AI39: =IF($AF39=1,AB39,AA39*(1-0.75)+AB39*0.75) -> 0 | AJ39: =IF($AF39=1,AC39,AB39*(1-0.75)+AC39*0.75) -> 0 | AK39: =IF($AF39=1,AD39,AC39*(1-0.75)+AD39*0.75) -> 0 | AL39: =IF($AF39=1,AE39,AD39*(1-0.75)+AE39*0.75) -> 0 | AM39: =AG39/2 -> 0.3 | AN39: =IF($R39="New in 2025",0.5,SUM($AG39:AG39)+AH39/2) -> 0.7 | AO39: =IF($R39="New in 2025",0.5,SUM($AG39:AH39)+AI39/2) -> 0.8 | AP39: =IF($R39="New in 2025",0.5,SUM($AG39:AI39)+AJ39/2) -> 0.8 | AQ39: =IF($R39="New in 2025",0.5,SUM($AG39:AJ39)+AK39/2) -> 0.8 | AR39: =IF($R39="New in 2025",0.5,SUM($AG39:AK39)+AL39/2) -> 0.8 | AT39: 0 | AU39: 0 | AV39: 0 | AW39: 0 | AX39: 0 | AY39: 0
A40: 37 | B40: Commercial | C40: 2030 | D40: 1000 | E40: 50 | F40: =AM40 -> 0 | G40: =AN40 -> 0 | H40: =AO40 -> 0 | I40: =AP40 -> 0 | J40: =AQ40 -> 0.1875 | K40: =AR40 -> 0.625 | L40: Contracted (OTC Signed) | N40: Committed | P40: GS 50 to 2,999 | Q40: New | S40: Whitby | T40: 0 | U40: 0 | V40: 0 | W40: 0 | X40: 1 | Y40: 1 | Z40: =T40*$E40/100 -> 0 | AA40: =U40*$E40/100 -> 0 | AB40: =V40*$E40/100 -> 0 | AC40: =W40*$E40/100 -> 0 | AD40: =X40*$E40/100 -> 0.5 | AE40: =Y40*$E40/100 -> 0.5 | AF40: 0 | AG40: =IF($AF40=1,Z40,Z40*0.75) -> 0 | AH40: =IF($AF40=1,AA40,Z40*(1-0.75)+AA40*0.75) -> 0 | AI40: =IF($AF40=1,AB40,AA40*(1-0.75)+AB40*0.75) -> 0 | AJ40: =IF($AF40=1,AC40,AB40*(1-0.75)+AC40*0.75) -> 0 | AK40: =IF($AF40=1,AD40,AC40*(1-0.75)+AD40*0.75) -> 0.375 | AL40: =IF($AF40=1,AE40,AD40*(1-0.75)+AE40*0.75) -> 0.5 | AM40: =AG40/2 -> 0 | AN40: =IF($R40="New in 2025",0.5,SUM($AG40:AG40)+AH40/2) -> 0 | AO40: =IF($R40="New in 2025",0.5,SUM($AG40:AH40)+AI40/2) -> 0 | AP40: =IF($R40="New in 2025",0.5,SUM($AG40:AI40)+AJ40/2) -> 0 | AQ40: =IF($R40="New in 2025",0.5,SUM($AG40:AJ40)+AK40/2) -> 0.1875 | AR40: =IF($R40="New in 2025",0.5,SUM($AG40:AK40)+AL40/2) -> 0.625 | AT40: 0 | AU40: 0 | AV40: 0 | AW40: 0 | AX40: 0 | AY40: 0
A41: 38 | B41: Commercial | C41: 2028 | D41: 1500 | E41: 80 | F41: =AM41 -> 0 | G41: =AN41 -> 0 | H41: =AO41 -> 0.3 | I41: =AP41 -> 0.7 | J41: =AQ41 -> 0.8 | K41: =AR41 -> 0.8 | L41: Contracted (OTC Signed) | N41: Committed | P41: GS 50 to 2,999 | Q41: New | S41: Whitby | T41: 0 | U41: 0 | V41: 1 | W41: 0 | X41: 0 | Y41: 0 | Z41: =T41*$E41/100 -> 0 | AA41: =U41*$E41/100 -> 0 | AB41: =V41*$E41/100 -> 0.8 | AC41: =W41*$E41/100 -> 0 | AD41: =X41*$E41/100 -> 0 | AE41: =Y41*$E41/100 -> 0 | AF41: 0 | AG41: =IF($AF41=1,Z41,Z41*0.75) -> 0 | AH41: =IF($AF41=1,AA41,Z41*(1-0.75)+AA41*0.75) -> 0 | AI41: =IF($AF41=1,AB41,AA41*(1-0.75)+AB41*0.75) -> 0.6 | AJ41: =IF($AF41=1,AC41,AB41*(1-0.75)+AC41*0.75) -> 0.2 | AK41: =IF($AF41=1,AD41,AC41*(1-0.75)+AD41*0.75) -> 0 | AL41: =IF($AF41=1,AE41,AD41*(1-0.75)+AE41*0.75) -> 0 | AM41: =AG41/2 -> 0 | AN41: =IF($R41="New in 2025",0.5,SUM($AG41:AG41)+AH41/2) -> 0 | AO41: =IF($R41="New in 2025",0.5,SUM($AG41:AH41)+AI41/2) -> 0.3 | AP41: =IF($R41="New in 2025",0.5,SUM($AG41:AI41)+AJ41/2) -> 0.7 | AQ41: =IF($R41="New in 2025",0.5,SUM($AG41:AJ41)+AK41/2) -> 0.8 | AR41: =IF($R41="New in 2025",0.5,SUM($AG41:AK41)+AL41/2) -> 0.8 | AT41: 0 | AU41: 0 | AV41: 0 | AW41: 0 | AX41: 0 | AY41: 0
A42: 39 | B42: Commercial | C42: 2029 | D42: 500 | E42: 50 | F42: =AM42 -> 0 | G42: =AN42 -> 0 | H42: =AO42 -> 0 | I42: =AP42 -> 0.1875 | J42: =AQ42 -> 0.4375 | K42: =AR42 -> 0.5 | L42: Contracted (OTC Signed) | N42: Committed | P42: GS 50 to 2,999 | Q42: New | S42: Whitby | T42: 0 | U42: 0 | V42: 0 | W42: 1 | X42: 0 | Y42: 0 | Z42: =T42*$E42/100 -> 0 | AA42: =U42*$E42/100 -> 0 | AB42: =V42*$E42/100 -> 0 | AC42: =W42*$E42/100 -> 0.5 | AD42: =X42*$E42/100 -> 0 | AE42: =Y42*$E42/100 -> 0 | AF42: 0 | AG42: =IF($AF42=1,Z42,Z42*0.75) -> 0 | AH42: =IF($AF42=1,AA42,Z42*(1-0.75)+AA42*0.75) -> 0 | AI42: =IF($AF42=1,AB42,AA42*(1-0.75)+AB42*0.75) -> 0 | AJ42: =IF($AF42=1,AC42,AB42*(1-0.75)+AC42*0.75) -> 0.375 | AK42: =IF($AF42=1,AD42,AC42*(1-0.75)+AD42*0.75) -> 0.125 | AL42: =IF($AF42=1,AE42,AD42*(1-0.75)+AE42*0.75) -> 0 | AM42: =AG42/2 -> 0 | AN42: =IF($R42="New in 2025",0.5,SUM($AG42:AG42)+AH42/2) -> 0 | AO42: =IF($R42="New in 2025",0.5,SUM($AG42:AH42)+AI42/2) -> 0 | AP42: =IF($R42="New in 2025",0.5,SUM($AG42:AI42)+AJ42/2) -> 0.1875 | AQ42: =IF($R42="New in 2025",0.5,SUM($AG42:AJ42)+AK42/2) -> 0.4375 | AR42: =IF($R42="New in 2025",0.5,SUM($AG42:AK42)+AL42/2) -> 0.5 | AT42: 0 | AU42: 0 | AV42: 0 | AW42: 0 | AX42: 0 | AY42: 0
A43: 40 | B43: Commercial | C43: 2027 | D43: 1000 | E43: 50 | F43: =AM43 -> 0 | G43: =AN43 -> 0.1875 | H43: =AO43 -> 0.4375 | I43: =AP43 -> 0.5 | J43: =AQ43 -> 0.5 | K43: =AR43 -> 0.5 | L43: Contracted (OTC Signed) | N43: Committed | P43: GS 50 to 2,999 | Q43: New | S43: Whitby | T43: 0 | U43: 1 | V43: 0 | W43: 0 | X43: 0 | Y43: 0 | Z43: =T43*$E43/100 -> 0 | AA43: =U43*$E43/100 -> 0.5 | AB43: =V43*$E43/100 -> 0 | AC43: =W43*$E43/100 -> 0 | AD43: =X43*$E43/100 -> 0 | AE43: =Y43*$E43/100 -> 0 | AF43: 0 | AG43: =IF($AF43=1,Z43,Z43*0.75) -> 0 | AH43: =IF($AF43=1,AA43,Z43*(1-0.75)+AA43*0.75) -> 0.375 | AI43: =IF($AF43=1,AB43,AA43*(1-0.75)+AB43*0.75) -> 0.125 | AJ43: =IF($AF43=1,AC43,AB43*(1-0.75)+AC43*0.75) -> 0 | AK43: =IF($AF43=1,AD43,AC43*(1-0.75)+AD43*0.75) -> 0 | AL43: =IF($AF43=1,AE43,AD43*(1-0.75)+AE43*0.75) -> 0 | AM43: =AG43/2 -> 0 | AN43: =IF($R43="New in 2025",0.5,SUM($AG43:AG43)+AH43/2) -> 0.1875 | AO43: =IF($R43="New in 2025",0.5,SUM($AG43:AH43)+AI43/2) -> 0.4375 | AP43: =IF($R43="New in 2025",0.5,SUM($AG43:AI43)+AJ43/2) -> 0.5 | AQ43: =IF($R43="New in 2025",0.5,SUM($AG43:AJ43)+AK43/2) -> 0.5 | AR43: =IF($R43="New in 2025",0.5,SUM($AG43:AK43)+AL43/2) -> 0.5 | AT43: 0 | AU43: 0 | AV43: 0 | AW43: 0 | AX43: 0 | AY43: 0
A44: 41 | B44: Commercial | C44: 2025 | D44: 800 | E44: 100 | F44: =AM44 -> 0 | G44: =AN44 -> 0 | H44: =AO44 -> 0 | I44: =AP44 -> 0 | J44: =AQ44 -> 0 | K44: =AR44 -> 0 | L44: Contracted (OTC Signed) | N44: Committed | O44: GS 50 to 2,999 | P44: GS 50 to 2,999 | Q44: Existing | S44: Whitby | T44: 0 | U44: 0 | V44: 0 | W44: 0 | X44: 0 | Y44: 0 | Z44: =T44*$E44/100 -> 0 | AA44: =U44*$E44/100 -> 0 | AB44: =V44*$E44/100 -> 0 | AC44: =W44*$E44/100 -> 0 | AD44: =X44*$E44/100 -> 0 | AE44: =Y44*$E44/100 -> 0 | AF44: 1 | AG44: =IF($AF44=1,Z44,Z44*0.75) -> 0 | AH44: =IF($AF44=1,AA44,Z44*(1-0.75)+AA44*0.75) -> 0 | AI44: =IF($AF44=1,AB44,AA44*(1-0.75)+AB44*0.75) -> 0 | AJ44: =IF($AF44=1,AC44,AB44*(1-0.75)+AC44*0.75) -> 0 | AK44: =IF($AF44=1,AD44,AC44*(1-0.75)+AD44*0.75) -> 0 | AL44: =IF($AF44=1,AE44,AD44*(1-0.75)+AE44*0.75) -> 0 | AM44: =AG44/2 -> 0 | AN44: =IF($R44="New in 2025",0.5,SUM($AG44:AG44)+AH44/2) -> 0 | AO44: =IF($R44="New in 2025",0.5,SUM($AG44:AH44)+AI44/2) -> 0 | AP44: =IF($R44="New in 2025",0.5,SUM($AG44:AI44)+AJ44/2) -> 0 | AQ44: =IF($R44="New in 2025",0.5,SUM($AG44:AJ44)+AK44/2) -> 0 | AR44: =IF($R44="New in 2025",0.5,SUM($AG44:AK44)+AL44/2) -> 0 | AT44: 0 | AU44: 0 | AV44: 0 | AW44: 0 | AX44: 0 | AY44: 0
A45: 42 | B45: Commercial | C45: 2027 | D45: 1500 | E45: 50 | F45: =AM45 -> 0 | G45: =AN45 -> 0.1875 | H45: =AO45 -> 0.4375 | I45: =AP45 -> 0.5 | J45: =AQ45 -> 0.5 | K45: =AR45 -> 0.5 | L45: Contracted (OTC Signed) | N45: Committed | P45: GS 50 to 2,999 | Q45: New | S45: Whitby | T45: 0 | U45: 1 | V45: 0 | W45: 0 | X45: 0 | Y45: 0 | Z45: =T45*$E45/100 -> 0 | AA45: =U45*$E45/100 -> 0.5 | AB45: =V45*$E45/100 -> 0 | AC45: =W45*$E45/100 -> 0 | AD45: =X45*$E45/100 -> 0 | AE45: =Y45*$E45/100 -> 0 | AF45: 0 | AG45: =IF($AF45=1,Z45,Z45*0.75) -> 0 | AH45: =IF($AF45=1,AA45,Z45*(1-0.75)+AA45*0.75) -> 0.375 | AI45: =IF($AF45=1,AB45,AA45*(1-0.75)+AB45*0.75) -> 0.125 | AJ45: =IF($AF45=1,AC45,AB45*(1-0.75)+AC45*0.75) -> 0 | AK45: =IF($AF45=1,AD45,AC45*(1-0.75)+AD45*0.75) -> 0 | AL45: =IF($AF45=1,AE45,AD45*(1-0.75)+AE45*0.75) -> 0 | AM45: =AG45/2 -> 0 | AN45: =IF($R45="New in 2025",0.5,SUM($AG45:AG45)+AH45/2) -> 0.1875 | AO45: =IF($R45="New in 2025",0.5,SUM($AG45:AH45)+AI45/2) -> 0.4375 | AP45: =IF($R45="New in 2025",0.5,SUM($AG45:AI45)+AJ45/2) -> 0.5 | AQ45: =IF($R45="New in 2025",0.5,SUM($AG45:AJ45)+AK45/2) -> 0.5 | AR45: =IF($R45="New in 2025",0.5,SUM($AG45:AK45)+AL45/2) -> 0.5 | AT45: 0 | AU45: 0 | AV45: 0 | AW45: 0 | AX45: 0 | AY45: 0
A46: 43 | B46: High Rise Residential | C46: 2028 | D46: 4808 | E46: 50 | F46: =AM46 -> 0 | G46: =AN46 -> 0 | H46: =AO46 -> 0.1875 | I46: =AP46 -> 0.625 | J46: =AQ46 -> 0.9375 | K46: =AR46 -> 1.1875 | L46: Speculative (Application Received) | N46: Non-Committed | P46: GS 50 to 2,999 | Q46: New | S46: Whitby | T46: 0 | U46: 0 | V46: 1 | W46: 1 | X46: 0 | Y46: 1 | Z46: =T46*$E46/100 -> 0 | AA46: =U46*$E46/100 -> 0 | AB46: =V46*$E46/100 -> 0.5 | AC46: =W46*$E46/100 -> 0.5 | AD46: =X46*$E46/100 -> 0 | AE46: =Y46*$E46/100 -> 0.5 | AF46: 0 | AG46: =IF($AF46=1,Z46,Z46*0.75) -> 0 | AH46: =IF($AF46=1,AA46,Z46*(1-0.75)+AA46*0.75) -> 0 | AI46: =IF($AF46=1,AB46,AA46*(1-0.75)+AB46*0.75) -> 0.375 | AJ46: =IF($AF46=1,AC46,AB46*(1-0.75)+AC46*0.75) -> 0.5 | AK46: =IF($AF46=1,AD46,AC46*(1-0.75)+AD46*0.75) -> 0.125 | AL46: =IF($AF46=1,AE46,AD46*(1-0.75)+AE46*0.75) -> 0.375 | AM46: =AG46/2 -> 0 | AN46: =IF($R46="New in 2025",0.5,SUM($AG46:AG46)+AH46/2) -> 0 | AO46: =IF($R46="New in 2025",0.5,SUM($AG46:AH46)+AI46/2) -> 0.1875 | AP46: =IF($R46="New in 2025",0.5,SUM($AG46:AI46)+AJ46/2) -> 0.625 | AQ46: =IF($R46="New in 2025",0.5,SUM($AG46:AJ46)+AK46/2) -> 0.9375 | AR46: =IF($R46="New in 2025",0.5,SUM($AG46:AK46)+AL46/2) -> 1.1875 | AT46: 0 | AU46: 0 | AV46: 0 | AW46: 0 | AX46: 0 | AY46: 0
A47: 44 | B47: Industrial | C47: 2025 | D47: 3800 | E47: 100 | F47: =AM47 -> 0.375 | G47: =AN47 -> 0.875 | H47: =AO47 -> 1 | I47: =AP47 -> 1 | J47: =AQ47 -> 1 | K47: =AR47 -> 1 | L47: Contracted (OTC Signed) | N47: Committed | P47: GS 3,000 to 4,999 | Q47: New | S47: Whitby | T47: 1 | U47: 0 | V47: 0 | W47: 0 | X47: 0 | Y47: 0 | Z47: =T47*$E47/100 -> 1 | AA47: =U47*$E47/100 -> 0 | AB47: =V47*$E47/100 -> 0 | AC47: =W47*$E47/100 -> 0 | AD47: =X47*$E47/100 -> 0 | AE47: =Y47*$E47/100 -> 0 | AF47: 0 | AG47: =IF($AF47=1,Z47,Z47*0.75) -> 0.75 | AH47: =IF($AF47=1,AA47,Z47*(1-0.75)+AA47*0.75) -> 0.25 | AI47: =IF($AF47=1,AB47,AA47*(1-0.75)+AB47*0.75) -> 0 | AJ47: =IF($AF47=1,AC47,AB47*(1-0.75)+AC47*0.75) -> 0 | AK47: =IF($AF47=1,AD47,AC47*(1-0.75)+AD47*0.75) -> 0 | AL47: =IF($AF47=1,AE47,AD47*(1-0.75)+AE47*0.75) -> 0 | AM47: =AG47/2 -> 0.375 | AN47: =IF($R47="New in 2025",0.5,SUM($AG47:AG47)+AH47/2) -> 0.875 | AO47: =IF($R47="New in 2025",0.5,SUM($AG47:AH47)+AI47/2) -> 1 | AP47: =IF($R47="New in 2025",0.5,SUM($AG47:AI47)+AJ47/2) -> 1 | AQ47: =IF($R47="New in 2025",0.5,SUM($AG47:AJ47)+AK47/2) -> 1 | AR47: =IF($R47="New in 2025",0.5,SUM($AG47:AK47)+AL47/2) -> 1 | AT47: 0.125 | AU47: -0.375 | AV47: -0.5 | AW47: -0.5 | AX47: -0.5 | AY47: -0.5 | AZ47: Half-year adjustment in each year
A48: 45 | B48: Industrial | C48: 2029 | D48: 4000 | E48: 50 | F48: =AM48 -> 0 | G48: =AN48 -> 0 | H48: =AO48 -> 0 | I48: =AP48 -> 0.1875 | J48: =AQ48 -> 0.4375 | K48: =AR48 -> 0.5 | L48: Committed (OTC in Progress) | N48: Committed | P48: GS 3,000 to 4,999 | Q48: New | S48: Whitby | T48: 0 | U48: 0 | V48: 0 | W48: 1 | X48: 0 | Y48: 0 | Z48: =T48*$E48/100 -> 0 | AA48: =U48*$E48/100 -> 0 | AB48: =V48*$E48/100 -> 0 | AC48: =W48*$E48/100 -> 0.5 | AD48: =X48*$E48/100 -> 0 | AE48: =Y48*$E48/100 -> 0 | AF48: 0 | AG48: =IF($AF48=1,Z48,Z48*0.75) -> 0 | AH48: =IF($AF48=1,AA48,Z48*(1-0.75)+AA48*0.75) -> 0 | AI48: =IF($AF48=1,AB48,AA48*(1-0.75)+AB48*0.75) -> 0 | AJ48: =IF($AF48=1,AC48,AB48*(1-0.75)+AC48*0.75) -> 0.375 | AK48: =IF($AF48=1,AD48,AC48*(1-0.75)+AD48*0.75) -> 0.125 | AL48: =IF($AF48=1,AE48,AD48*(1-0.75)+AE48*0.75) -> 0 | AM48: =AG48/2 -> 0 | AN48: =IF($R48="New in 2025",0.5,SUM($AG48:AG48)+AH48/2) -> 0 | AO48: =IF($R48="New in 2025",0.5,SUM($AG48:AH48)+AI48/2) -> 0 | AP48: =IF($R48="New in 2025",0.5,SUM($AG48:AI48)+AJ48/2) -> 0.1875 | AQ48: =IF($R48="New in 2025",0.5,SUM($AG48:AJ48)+AK48/2) -> 0.4375 | AR48: =IF($R48="New in 2025",0.5,SUM($AG48:AK48)+AL48/2) -> 0.5 | AT48: -0.1875 | AU48: -0.4375 | AV48: -0.5 | AW48: -0.3125 | AX48: -0.0625 | AY48: 0 | AZ48: Project Delayed
A49: 46 | B49: Industrial | C49: 2026 | D49: 2788 | E49: 50 | F49: =AM49 -> 0.1875 | G49: =AN49 -> 0.4375 | H49: =AO49 -> 0.5 | I49: =AP49 -> 0.5 | J49: =AQ49 -> 0.5 | K49: =AR49 -> 0.5 | L49: Speculative (Application Received) | N49: Non-Committed | P49: GS 50 to 2,999 | Q49: New | S49: Whitby | T49: 1 | U49: 0 | V49: 0 | W49: 0 | X49: 0 | Y49: 0 | Z49: =T49*$E49/100 -> 0.5 | AA49: =U49*$E49/100 -> 0 | AB49: =V49*$E49/100 -> 0 | AC49: =W49*$E49/100 -> 0 | AD49: =X49*$E49/100 -> 0 | AE49: =Y49*$E49/100 -> 0 | AF49: 0 | AG49: =IF($AF49=1,Z49,Z49*0.75) -> 0.375 | AH49: =IF($AF49=1,AA49,Z49*(1-0.75)+AA49*0.75) -> 0.125 | AI49: =IF($AF49=1,AB49,AA49*(1-0.75)+AB49*0.75) -> 0 | AJ49: =IF($AF49=1,AC49,AB49*(1-0.75)+AC49*0.75) -> 0 | AK49: =IF($AF49=1,AD49,AC49*(1-0.75)+AD49*0.75) -> 0 | AL49: =IF($AF49=1,AE49,AD49*(1-0.75)+AE49*0.75) -> 0 | AM49: =AG49/2 -> 0.1875 | AN49: =IF($R49="New in 2025",0.5,SUM($AG49:AG49)+AH49/2) -> 0.4375 | AO49: =IF($R49="New in 2025",0.5,SUM($AG49:AH49)+AI49/2) -> 0.5 | AP49: =IF($R49="New in 2025",0.5,SUM($AG49:AI49)+AJ49/2) -> 0.5 | AQ49: =IF($R49="New in 2025",0.5,SUM($AG49:AJ49)+AK49/2) -> 0.5 | AR49: =IF($R49="New in 2025",0.5,SUM($AG49:AK49)+AL49/2) -> 0.5 | AT49: 0 | AU49: 0 | AV49: 0 | AW49: 0 | AX49: 0 | AY49: 0
A50: 47 | B50: Commercial | C50: 2026 | D50: 903 | E50: 80 | F50: =AM50 -> 0.3 | G50: =AN50 -> 0.7 | H50: =AO50 -> 0.8 | I50: =AP50 -> 0.8 | J50: =AQ50 -> 0.8 | K50: =AR50 -> 0.8 | L50: Committed (OTC in Progress) | N50: Committed | P50: GS 50 to 2,999 | Q50: New | S50: Whitby | T50: 1 | U50: 0 | V50: 0 | W50: 0 | X50: 0 | Y50: 0 | Z50: =T50*$E50/100 -> 0.8 | AA50: =U50*$E50/100 -> 0 | AB50: =V50*$E50/100 -> 0 | AC50: =W50*$E50/100 -> 0 | AD50: =X50*$E50/100 -> 0 | AE50: =Y50*$E50/100 -> 0 | AF50: 0 | AG50: =IF($AF50=1,Z50,Z50*0.75) -> 0.6 | AH50: =IF($AF50=1,AA50,Z50*(1-0.75)+AA50*0.75) -> 0.2 | AI50: =IF($AF50=1,AB50,AA50*(1-0.75)+AB50*0.75) -> 0 | AJ50: =IF($AF50=1,AC50,AB50*(1-0.75)+AC50*0.75) -> 0 | AK50: =IF($AF50=1,AD50,AC50*(1-0.75)+AD50*0.75) -> 0 | AL50: =IF($AF50=1,AE50,AD50*(1-0.75)+AE50*0.75) -> 0 | AM50: =AG50/2 -> 0.3 | AN50: =IF($R50="New in 2025",0.5,SUM($AG50:AG50)+AH50/2) -> 0.7 | AO50: =IF($R50="New in 2025",0.5,SUM($AG50:AH50)+AI50/2) -> 0.8 | AP50: =IF($R50="New in 2025",0.5,SUM($AG50:AI50)+AJ50/2) -> 0.8 | AQ50: =IF($R50="New in 2025",0.5,SUM($AG50:AJ50)+AK50/2) -> 0.8 | AR50: =IF($R50="New in 2025",0.5,SUM($AG50:AK50)+AL50/2) -> 0.8 | AT50: 0 | AU50: 0 | AV50: 0 | AW50: 0 | AX50: 0 | AY50: 0
A51: 48 | B51: Commercial | C51: 2026 | D51: 750 | E51: 50 | F51: =AM51 -> 0.1875 | G51: =AN51 -> 0.4375 | H51: =AO51 -> 0.5 | I51: =AP51 -> 0.5 | J51: =AQ51 -> 0.5 | K51: =AR51 -> 0.5 | L51: Committed (Deposit Received) | N51: Committed | P51: GS 50 to 2,999 | Q51: New | S51: Whitby | T51: 1 | U51: 0 | V51: 0 | W51: 0 | X51: 0 | Y51: 0 | Z51: =T51*$E51/100 -> 0.5 | AA51: =U51*$E51/100 -> 0 | AB51: =V51*$E51/100 -> 0 | AC51: =W51*$E51/100 -> 0 | AD51: =X51*$E51/100 -> 0 | AE51: =Y51*$E51/100 -> 0 | AF51: 0 | AG51: =IF($AF51=1,Z51,Z51*0.75) -> 0.375 | AH51: =IF($AF51=1,AA51,Z51*(1-0.75)+AA51*0.75) -> 0.125 | AI51: =IF($AF51=1,AB51,AA51*(1-0.75)+AB51*0.75) -> 0 | AJ51: =IF($AF51=1,AC51,AB51*(1-0.75)+AC51*0.75) -> 0 | AK51: =IF($AF51=1,AD51,AC51*(1-0.75)+AD51*0.75) -> 0 | AL51: =IF($AF51=1,AE51,AD51*(1-0.75)+AE51*0.75) -> 0 | AM51: =AG51/2 -> 0.1875 | AN51: =IF($R51="New in 2025",0.5,SUM($AG51:AG51)+AH51/2) -> 0.4375 | AO51: =IF($R51="New in 2025",0.5,SUM($AG51:AH51)+AI51/2) -> 0.5 | AP51: =IF($R51="New in 2025",0.5,SUM($AG51:AI51)+AJ51/2) -> 0.5 | AQ51: =IF($R51="New in 2025",0.5,SUM($AG51:AJ51)+AK51/2) -> 0.5 | AR51: =IF($R51="New in 2025",0.5,SUM($AG51:AK51)+AL51/2) -> 0.5 | AT51: 0 | AU51: 0 | AV51: 0 | AW51: 0 | AX51: 0 | AY51: 0
