Workbook
Name BridgeYear: #REF!
Name EBNUMBER: #REF!
Name TestYear: #REF!

Sheet LLRVA
B2: Billed kW
O3: GS 3,000 to 4,999 kW | Q3: Large Use
B4: ='3-Staff-93-b Billed kW'!A2 -> Customer # | C4: ='3-Staff-93-b Billed kW'!C2 -> Anticipated Year | D4: ='3-Staff-93-b Billed kW'!D2 -> Anticipated Load | E4: ='3-Staff-93-b Billed kW'!E2 -> Confidence | F4: ='3-Staff-93-b Billed kW'!F2 -> 2026 | G4: ='3-Staff-93-b Billed kW'!G2 -> 2027 | H4: ='3-Staff-93-b Billed kW'!H2 -> 2028 | I4: ='3-Staff-93-b Billed kW'!I2 -> 2029 | J4: ='3-Staff-93-b Billed kW'!J2 -> 2030 | K4: ='3-Staff-93-b Billed kW'!K2 -> 2031 | N4: Year | O4: Customer Count | P4: Billed kW | Q4: Customer Count | R4: Billed kW
B5: GS 3,000 to 4,999 kW | N5: 2026 | O5: =OFFSET($F$28,0,ROW()-ROW($O$5)) -> 1.425 | P5: =OFFSET($F$12,0,ROW()-ROW($P$5)) -> 35150.85 | Q5: =OFFSET($F$32,0,ROW()-ROW($Q$5)) -> 0 | R5: =OFFSET($F$16,0,ROW()-ROW($R$5)) -> 0
B6: ='3-Staff-93-b Billed kW'!A114 -> 7 | C6: ='3-Staff-93-b Billed kW'!C114 -> 2026 | D6: ='3-Staff-93-b Billed kW'!D114 -> 3250 | E6: ='3-Staff-93-b Billed kW'!E114 -> 80 | F6: ='3-Staff-93-b Billed kW'!F114 -> 5040 | G6: ='3-Staff-93-b Billed kW'!G114 -> 14910 | H6: ='3-Staff-93-b Billed kW'!H114 -> 20790 | I6: ='3-Staff-93-b Billed kW'!I114 -> 21840 | J6: ='3-Staff-93-b Billed kW'!J114 -> 21840 | K6: ='3-Staff-93-b Billed kW'!K114 -> 21840 | N6: 2027 | O6: =OFFSET($F$28,0,ROW()-ROW($O$5)) -> 3.325 | P6: =OFFSET($F$12,0,ROW()-ROW($P$5)) -> 85688.4 | Q6: =OFFSET($F$32,0,ROW()-ROW($Q$5)) -> 0 | R6: =OFFSET($F$16,0,ROW()-ROW($R$5)) -> 0
B7: ='3-Staff-93-b Billed kW'!A115 -> 11 | C7: ='3-Staff-93-b Billed kW'!C115 -> 2026 | D7: ='3-Staff-93-b Billed kW'!D115 -> 4280 | E7: ='3-Staff-93-b Billed kW'!E115 -> 100 | F7: ='3-Staff-93-b Billed kW'!F115 -> 2520 | G7: ='3-Staff-93-b Billed kW'!G115 -> 6399.75 | H7: ='3-Staff-93-b Billed kW'!H115 -> 13492.5 | I7: ='3-Staff-93-b Billed kW'!I115 -> 22260 | J7: ='3-Staff-93-b Billed kW'!J115 -> 29389.5 | K7: ='3-Staff-93-b Billed kW'!K115 -> 34718.25 | N7: 2028 | O7: =OFFSET($F$28,0,ROW()-ROW($O$5)) -> 3.9875 | P7: =OFFSET($F$12,0,ROW()-ROW($P$5)) -> 112625.62 | Q7: =OFFSET($F$32,0,ROW()-ROW($Q$5)) -> 0.1875 | R7: =OFFSET($F$16,0,ROW()-ROW($R$5)) -> 39375
B8: ='3-Staff-93-b Billed kW'!A116 -> 14 | C8: ='3-Staff-93-b Billed kW'!C116 -> 2026 | D8: ='3-Staff-93-b Billed kW'!D116 -> 4959 | E8: ='3-Staff-93-b Billed kW'!E116 -> 100 | F8: ='3-Staff-93-b Billed kW'!F116 -> 15620.85 | G8: ='3-Staff-93-b Billed kW'!G116 -> 36448.65 | H8: ='3-Staff-93-b Billed kW'!H116 -> 41655.6 | I8: ='3-Staff-93-b Billed kW'!I116 -> 41655.6 | J8: ='3-Staff-93-b Billed kW'!J116 -> 41655.6 | K8: ='3-Staff-93-b Billed kW'!K116 -> 41655.6 | N8: 2029 | O8: =OFFSET($F$28,0,ROW()-ROW($O$5)) -> 4.425 | P8: =OFFSET($F$12,0,ROW()-ROW($P$5)) -> 135693.6 | Q8: =OFFSET($F$32,0,ROW()-ROW($Q$5)) -> 0.4375 | R8: =OFFSET($F$16,0,ROW()-ROW($R$5)) -> 115500
B9: ='3-Staff-93-b Billed kW'!A117 -> 44 | C9: ='3-Staff-93-b Billed kW'!C117 -> 2026 | D9: ='3-Staff-93-b Billed kW'!D117 -> 3800 | E9: ='3-Staff-93-b Billed kW'!E117 -> 100 | F9: ='3-Staff-93-b Billed kW'!F117 -> 11970 | G9: ='3-Staff-93-b Billed kW'!G117 -> 27930 | H9: ='3-Staff-93-b Billed kW'!H117 -> 31920 | I9: ='3-Staff-93-b Billed kW'!I117 -> 31920 | J9: ='3-Staff-93-b Billed kW'!J117 -> 31920 | K9: ='3-Staff-93-b Billed kW'!K117 -> 31920 | N9: 2030 | O9: =OFFSET($F$28,0,ROW()-ROW($O$5)) -> 4.7375 | P9: =OFFSET($F$12,0,ROW()-ROW($P$5)) -> 153603.98 | Q9: =OFFSET($F$32,0,ROW()-ROW($Q$5)) -> 0.5 | R9: =OFFSET($F$16,0,ROW()-ROW($R$5)) -> 160125
B10: ='3-Staff-93-b Billed kW'!A118 -> 45 | C10: ='3-Staff-93-b Billed kW'!C118 -> 2029 | D10: ='3-Staff-93-b Billed kW'!D118 -> 4000 | E10: ='3-Staff-93-b Billed kW'!E118 -> 50 | F10: ='3-Staff-93-b Billed kW'!F118 -> 0 | G10: ='3-Staff-93-b Billed kW'!G118 -> 0 | H10: ='3-Staff-93-b Billed kW'!H118 -> 0 | I10: ='3-Staff-93-b Billed kW'!I118 -> 6300 | J10: ='3-Staff-93-b Billed kW'!J118 -> 14700 | K10: ='3-Staff-93-b Billed kW'!K118 -> 16800 | N10: 2031 | O10: =OFFSET($F$28,0,ROW()-ROW($O$5)) -> 4.8 | P10: =OFFSET($F$12,0,ROW()-ROW($P$5)) -> 161230.65 | Q10: =OFFSET($F$32,0,ROW()-ROW($Q$5)) -> 0.5 | R10: =OFFSET($F$16,0,ROW()-ROW($R$5)) -> 168000
B11: ='3-Staff-93-b Billed kW'!A119 -> 66 | C11: ='3-Staff-93-b Billed kW'!C119 -> 2028 | D11: ='3-Staff-93-b Billed kW'!D119 -> 3404 | E11: ='3-Staff-93-b Billed kW'!E119 -> 50 | F11: ='3-Staff-93-b Billed kW'!F119 -> 0 | G11: ='3-Staff-93-b Billed kW'!G119 -> 0 | H11: ='3-Staff-93-b Billed kW'!H119 -> 4767.525 | I11: ='3-Staff-93-b Billed kW'!I119 -> 11718 | J11: ='3-Staff-93-b Billed kW'!J119 -> 14098.875 | K11: ='3-Staff-93-b Billed kW'!K119 -> 14296.8
B12: Total | F12: ='3-Staff-93-b Billed kW'!F120 -> 35150.85 | G12: ='3-Staff-93-b Billed kW'!G120 -> 85688.4 | H12: ='3-Staff-93-b Billed kW'!H120 -> 112625.62 | I12: ='3-Staff-93-b Billed kW'!I120 -> 135693.6 | J12: ='3-Staff-93-b Billed kW'!J120 -> 153603.98 | K12: ='3-Staff-93-b Billed kW'!K120 -> 161230.65
B14: Large Use
B15: ='3-Staff-93-b Billed kW'!A123 -> 24 | C15: ='3-Staff-93-b Billed kW'!C123 -> 2028 | D15: ='3-Staff-93-b Billed kW'!D123 -> 40000 | E15: ='3-Staff-93-b Billed kW'!E123 -> 50 | F15: ='3-Staff-93-b Billed kW'!F123 -> 0 | G15: ='3-Staff-93-b Billed kW'!G123 -> 0 | H15: ='3-Staff-93-b Billed kW'!H123 -> 39375 | I15: ='3-Staff-93-b Billed kW'!I123 -> 115500 | J15: ='3-Staff-93-b Billed kW'!J123 -> 160125 | K15: ='3-Staff-93-b Billed kW'!K123 -> 168000
B16: Total | F16: ='3-Staff-93-b Billed kW'!F124 -> 0 | G16: ='3-Staff-93-b Billed kW'!G124 -> 0 | H16: ='3-Staff-93-b Billed kW'!H124 -> 39375 | I16: ='3-Staff-93-b Billed kW'!I124 -> 115500 | J16: ='3-Staff-93-b Billed kW'!J124 -> 160125 | K16: ='3-Staff-93-b Billed kW'!K124 -> 168000
B18: Customer Counts
B20: ='3-Staff-93-b Counts'!A2 -> Customer # | C20: ='3-Staff-93-b Counts'!C2 -> Anticipated Year | D20: ='3-Staff-93-b Counts'!D2 -> Anticipated Load | E20: ='3-Staff-93-b Counts'!E2 -> Confidence | F20: ='3-Staff-93-b Counts'!F2 -> 2026 | G20: ='3-Staff-93-b Counts'!G2 -> 2027 | H20: ='3-Staff-93-b Counts'!H2 -> 2028 | I20: ='3-Staff-93-b Counts'!I2 -> 2029 | J20: ='3-Staff-93-b Counts'!J2 -> 2030 | K20: ='3-Staff-93-b Counts'!K2 -> 2031
B21: GS 3,000 to 4,999 kW
B22: ='3-Staff-93-b Counts'!A101 -> 7 | C22: ='3-Staff-93-b Counts'!C101 -> 2026 | D22: ='3-Staff-93-b Counts'!D101 -> 3250 | E22: ='3-Staff-93-b Counts'!E101 -> 80 | F22: ='3-Staff-93-b Counts'!F101 -> 0.3 | G22: ='3-Staff-93-b Counts'!G101 -> 0.7 | H22: ='3-Staff-93-b Counts'!H101 -> 0.8 | I22: ='3-Staff-93-b Counts'!I101 -> 0.8 | J22: ='3-Staff-93-b Counts'!J101 -> 0.8 | K22: ='3-Staff-93-b Counts'!K101 -> 0.8
B23: ='3-Staff-93-b Counts'!A102 -> 11 | C23: ='3-Staff-93-b Counts'!C102 -> 2026 | D23: ='3-Staff-93-b Counts'!D102 -> 4280 | E23: ='3-Staff-93-b Counts'!E102 -> 100 | F23: ='3-Staff-93-b Counts'!F102 -> 0.375 | G23: ='3-Staff-93-b Counts'!G102 -> 0.875 | H23: ='3-Staff-93-b Counts'!H102 -> 1 | I23: ='3-Staff-93-b Counts'!I102 -> 1 | J23: ='3-Staff-93-b Counts'!J102 -> 1 | K23: ='3-Staff-93-b Counts'!K102 -> 1
B24: ='3-Staff-93-b Counts'!A103 -> 14 | C24: ='3-Staff-93-b Counts'!C103 -> 2026 | D24: ='3-Staff-93-b Counts'!D103 -> 4959 | E24: ='3-Staff-93-b Counts'!E103 -> 100 | F24: ='3-Staff-93-b Counts'!F103 -> 0.375 | G24: ='3-Staff-93-b Counts'!G103 -> 0.875 | H24: ='3-Staff-93-b Counts'!H103 -> 1 | I24: ='3-Staff-93-b Counts'!I103 -> 1 | J24: ='3-Staff-93-b Counts'!J103 -> 1 | K24: ='3-Staff-93-b Counts'!K103 -> 1
B25: ='3-Staff-93-b Counts'!A104 -> 44 | C25: ='3-Staff-93-b Counts'!C104 -> 2025 | D25: ='3-Staff-93-b Counts'!D104 -> 3800 | E25: ='3-Staff-93-b Counts'!E104 -> 100 | F25: ='3-Staff-93-b Counts'!F104 -> 0.375 | G25: ='3-Staff-93-b Counts'!G104 -> 0.875 | H25: ='3-Staff-93-b Counts'!H104 -> 1 | I25: ='3-Staff-93-b Counts'!I104 -> 1 | J25: ='3-Staff-93-b Counts'!J104 -> 1 | K25: ='3-Staff-93-b Counts'!K104 -> 1
B26: ='3-Staff-93-b Counts'!A105 -> 45 | C26: ='3-Staff-93-b Counts'!C105 -> 2029 | D26: ='3-Staff-93-b Counts'!D105 -> 4000 | E26: ='3-Staff-93-b Counts'!E105 -> 50 | F26: ='3-Staff-93-b Counts'!F105 -> 0 | G26: ='3-Staff-93-b Counts'!G105 -> 0 | H26: ='3-Staff-93-b Counts'!H105 -> 0 | I26: ='3-Staff-93-b Counts'!I105 -> 0.1875 | J26: ='3-Staff-93-b Counts'!J105 -> 0.4375 | K26: ='3-Staff-93-b Counts'!K105 -> 0.5
B27: ='3-Staff-93-b Counts'!A106 -> 66 | C27: ='3-Staff-93-b Counts'!C106 -> 2028 | D27: ='3-Staff-93-b Counts'!D106 -> 3404 | E27: ='3-Staff-93-b Counts'!E106 -> 50 | F27: ='3-Staff-93-b Counts'!F106 -> 0 | G27: ='3-Staff-93-b Counts'!G106 -> 0 | H27: ='3-Staff-93-b Counts'!H106 -> 0.1875 | I27: ='3-Staff-93-b Counts'!I106 -> 0.4375 | J27: ='3-Staff-93-b Counts'!J106 -> 0.5 | K27: ='3-Staff-93-b Counts'!K106 -> 0.5
B28: Total | F28: ='3-Staff-93-b Counts'!F107 -> 1.425 | G28: ='3-Staff-93-b Counts'!G107 -> 3.325 | H28: ='3-Staff-93-b Counts'!H107 -> 3.9875 | I28: ='3-Staff-93-b Counts'!I107 -> 4.425 | J28: ='3-Staff-93-b Counts'!J107 -> 4.7375 | K28: ='3-Staff-93-b Counts'!K107 -> 4.8
B30: Large Use
B31: ='3-Staff-93-b Counts'!A110 -> 24 | C31: ='3-Staff-93-b Counts'!C110 -> 2028 | D31: ='3-Staff-93-b Counts'!D110 -> 40000 | E31: ='3-Staff-93-b Counts'!E110 -> 50 | F31: ='3-Staff-93-b Counts'!F110 -> 0 | G31: ='3-Staff-93-b Counts'!G110 -> 0 | H31: ='3-Staff-93-b Counts'!H110 -> 0.1875 | I31: ='3-Staff-93-b Counts'!I110 -> 0.4375 | J31: ='3-Staff-93-b Counts'!J110 -> 0.5 | K31: ='3-Staff-93-b Counts'!K110 -> 0.5
B32: Total | F32: ='3-Staff-93-b Counts'!F111 -> 0 | G32: ='3-Staff-93-b Counts'!G111 -> 0 | H32: ='3-Staff-93-b Counts'!H111 -> 0.1875 | I32: ='3-Staff-93-b Counts'!I111 -> 0.4375 | J32: ='3-Staff-93-b Counts'!J111 -> 0.5 | K32: ='3-Staff-93-b Counts'!K111 -> 0.5

Sheet 3-Staff-93-b Billed kW
A1: Revised 3-Staff-93-b | N1: Customer Details | T1: Billed kW Calculation | AZ1: Cumulative Change from 3-Staff 93-b
A2: Customer # | B2: Customer Type | C2: Anticipated Year | D2: Anticipated Load | E2: Confidence | F2: 2026 | G2: 2027 | H2: 2028 | I2: 2029 | J2: 2030 | K2: 2031 | L2: Status (Contracted, Committed or Speculative) | N2: Committed/ Non-Committed | O2: Current Rate Class | P2: Rate Class | Q2: New/ Existing | R2: New in 2025 | S2: Rate Zone | T2: Annual Anticipated Loads (Peak kW) (2026 Loads include anticipated 2025 loads that have not yet materialized for customers that connected in 2025) | Z2: Probability Adjustment (x Confidence %) | AF2: Billed Load Adjustment (x 70% x 12 months) | AL2: Connected (2025) | AM2: Connection Timing Adjustment (If connected in 2025 -> full amount , if not, 25% of previous year + 75% of current year) | AS2: Half-Year Rule & Cumulative
D3: Peak kW | E3: % | F3: Billed kW | T3: 2026 | U3: =T3+1 -> 2027 | V3: =U3+1 -> 2028 | W3: =V3+1 -> 2029 | X3: =W3+1 -> 2030 | Y3: =X3+1 -> 2031 | Z3: 2026 | AA3: =Z3+1 -> 2027 | AB3: =AA3+1 -> 2028 | AC3: =AB3+1 -> 2029 | AD3: =AC3+1 -> 2030 | AE3: =AD3+1 -> 2031 | AF3: =Z3 -> 2026 | AG3: =AA3 -> 2027 | AH3: =AB3 -> 2028 | AI3: =AC3 -> 2029 | AJ3: =AD3 -> 2030 | AK3: =AE3 -> 2031 | AM3: 2026 | AN3: =AM3+1 -> 2027 | AO3: =AN3+1 -> 2028 | AP3: =AO3+1 -> 2029 | AQ3: =AP3+1 -> 2030 | AR3: =AQ3+1 -> 2031 | AS3: =AM3 -> 2026 | AT3: =AN3 -> 2027 | AU3: =AO3 -> 2028 | AV3: =AP3 -> 2029 | AW3: =AQ3 -> 2030 | AX3: =AR3 -> 2031 | AZ3: =AS3 -> 2026 | BA3: =AT3 -> 2027 | BB3: =AU3 -> 2028 | BC3: =AV3 -> 2029 | BD3: =AW3 -> 2030 | BE3: =AX3 -> 2031 | BF3: Notes
A4: 1 | B4: Residential (Long Term Care Home) | C4: 2026 | D4: 2700 | E4: 100 | F4: =AS4 -> 11340 | G4: =AT4 -> 22680 | H4: =AU4 -> 22680 | I4: =AV4 -> 22680 | J4: =AW4 -> 22680 | K4: =AX4 -> 22680 | L4: Contracted (Energized) | N4: Committed | P4: GS 50 to 2,999 | Q4: New | R4: New in 2025 | S4: Veridian | T4: 2700 | U4: 0 | V4: 0 | W4: 0 | X4: 0 | Y4: 0 | Z4: =T4*$E4/100 -> 2700 | AA4: =U4*$E4/100 -> 0 | AB4: =V4*$E4/100 -> 0 | AC4: =W4*$E4/100 -> 0 | AD4: =X4*$E4/100 -> 0 | AE4: =Y4*$E4/100 -> 0 | AF4: =Z4*70%*12 -> 22680 | AG4: =AA4*70%*12 -> 0 | AH4: =AB4*70%*12 -> 0 | AI4: =AC4*70%*12 -> 0 | AJ4: =AD4*70%*12 -> 0 | AK4: =AE4*70%*12 -> 0 | AL4: 1 | AM4: =IF($AL4=1,AF4,AF4*0.75) -> 22680 | AN4: =IF($AL4=1,AG4,AF4*(1-0.75)+AG4*0.75) -> 0 | AO4: =IF($AL4=1,AH4,AG4*(1-0.75)+AH4*0.75) -> 0 | AP4: =IF($AL4=1,AI4,AH4*(1-0.75)+AI4*0.75) -> 0 | AQ4: =IF($AL4=1,AJ4,AI4*(1-0.75)+AJ4*0.75) -> 0 | AR4: =IF($AL4=1,AK4,AJ4*(1-0.75)+AK4*0.75) -> 0 | AS4: =AM4/2 -> 11340 | AT4: =SUM($AM4:AM4)+AN4/2 -> 22680 | AU4: =SUM($AM4:AN4)+AO4/2 -> 22680 | AV4: =SUM($AM4:AO4)+AP4/2 -> 22680 | AW4: =SUM($AM4:AP4)+AQ4/2 -> 22680 | AX4: =SUM($AM4:AQ4)+AR4/2 -> 22680 | AZ4: 0 | BA4: 0 | BB4: 0 | BC4: 0 | BD4: 0 | BE4: 0
A5: 2 | B5: Industrial | C5: 2026 | D5: 3000 | E5: 80 | F5: =AS5 -> 7560 | G5: =AT5 -> 17640 | H5: =AU5 -> 20160 | I5: =AV5 -> 20160 | J5: =AW5 -> 20160 | K5: =AX5 -> 20160 | L5: Committed (Desposit Received) | N5: Committed | O5: GS 50 to 2,999 | P5: GS 3,000 to 4,999 | Q5: Existing | S5: Veridian | T5: 3000 | U5: 0 | V5: 0 | W5: 0 | X5: 0 | Y5: 0 | Z5: =T5*$E5/100 -> 2400 | AA5: =U5*$E5/100 -> 0 | AB5: =V5*$E5/100 -> 0 | AC5: =W5*$E5/100 -> 0 | AD5: =X5*$E5/100 -> 0 | AE5: =Y5*$E5/100 -> 0 | AF5: =Z5*70%*12 -> 20160 | AG5: =AA5*70%*12 -> 0 | AH5: =AB5*70%*12 -> 0 | AI5: =AC5*70%*12 -> 0 | AJ5: =AD5*70%*12 -> 0 | AK5: =AE5*70%*12 -> 0 | AL5: 0 | AM5: =IF($AL5=1,AF5,AF5*0.75) -> 15120 | AN5: =IF($AL5=1,AG5,AF5*(1-0.75)+AG5*0.75) -> 5040 | AO5: =IF($AL5=1,AH5,AG5*(1-0.75)+AH5*0.75) -> 0 | AP5: =IF($AL5=1,AI5,AH5*(1-0.75)+AI5*0.75) -> 0 | AQ5: =IF($AL5=1,AJ5,AI5*(1-0.75)+AJ5*0.75) -> 0 | AR5: =IF($AL5=1,AK5,AJ5*(1-0.75)+AK5*0.75) -> 0 | AS5: =AM5/2 -> 7560 | AT5: =SUM($AM5:AM5)+AN5/2 -> 17640 | AU5: =SUM($AM5:AN5)+AO5/2 -> 20160 | AV5: =SUM($AM5:AO5)+AP5/2 -> 20160 | AW5: =SUM($AM5:AP5)+AQ5/2 -> 20160 | AX5: =SUM($AM5:AQ5)+AR5/2 -> 20160 | AZ5: 0 | BA5: 0 | BB5: 0 | BC5: 0 | BD5: 0 | BE5: 0
A6: 3 | B6: Industrial | C6: 2025 | D6: 6500 | E6: 100 | F6: =AS6 -> 6570 | G6: =AT6 -> 19440 | H6: =AU6 -> 38340 | I6: =AV6 -> 50940 | J6: =AW6 -> 50940 | K6: =AX6 -> 50940 | L6: Contracted (Energized) | N6: Committed | O6: GS 50 to 2,999 | P6: Large Use | Q6: Existing | S6: Veridian | T6: 1564.2857 | U6: 1500 | V6: 3000 | W6: 0 | X6: 0 | Y6: 0 | Z6: =T6*$E6/100 -> 1564.2857 | AA6: =U6*$E6/100 -> 1500 | AB6: =V6*$E6/100 -> 3000 | AC6: =W6*$E6/100 -> 0 | AD6: =X6*$E6/100 -> 0 | AE6: =Y6*$E6/100 -> 0 | AF6: =Z6*70%*12 -> 13140 | AG6: =AA6*70%*12 -> 12600 | AH6: =AB6*70%*12 -> 25200 | AI6: =AC6*70%*12 -> 0 | AJ6: =AD6*70%*12 -> 0 | AK6: =AE6*70%*12 -> 0 | AL6: 1 | AM6: =IF($AL6=1,AF6,AF6*0.75) -> 13140 | AN6: =IF($AL6=1,AG6,AF6*(1-0.75)+AG6*0.75) -> 12600 | AO6: =IF($AL6=1,AH6,AG6*(1-0.75)+AH6*0.75) -> 25200 | AP6: =IF($AL6=1,AI6,AH6*(1-0.75)+AI6*0.75) -> 0 | AQ6: =IF($AL6=1,AJ6,AI6*(1-0.75)+AJ6*0.75) -> 0 | AR6: =IF($AL6=1,AK6,AJ6*(1-0.75)+AK6*0.75) -> 0 | AS6: =AM6/2 -> 6570 | AT6: =SUM($AM6:AM6)+AN6/2 -> 19440 | AU6: =SUM($AM6:AN6)+AO6/2 -> 38340 | AV6: =SUM($AM6:AO6)+AP6/2 -> 50940 | AW6: =SUM($AM6:AP6)+AQ6/2 -> 50940 | AX6: =SUM($AM6:AQ6)+AR6/2 -> 50940 | AZ6: 0 | BA6: 0 | BB6: 0 | BC6: 0 | BD6: 0 | BE6: 0
A7: 4 | B7: Industrial | C7: 2025 | D7: 11000 | E7: 100 | F7: =AS7 -> 17154 | G7: =AT7 -> 42708 | H7: =AU7 -> 55308 | I7: =AV7 -> 59508 | J7: =AW7 -> 59508 | K7: =AX7 -> 59508 | L7: Contracted (Energized) | N7: Committed | O7: GS 50 to 2,999 | P7: Large Use | Q7: Existing | S7: Veridian | T7: 4084.2857 | U7: 2000 | V7: 1000 | W7: 0 | X7: 0 | Y7: 0 | Z7: =T7*$E7/100 -> 4084.2857 | AA7: =U7*$E7/100 -> 2000 | AB7: =V7*$E7/100 -> 1000 | AC7: =W7*$E7/100 -> 0 | AD7: =X7*$E7/100 -> 0 | AE7: =Y7*$E7/100 -> 0 | AF7: =Z7*70%*12 -> 34308 | AG7: =AA7*70%*12 -> 16800 | AH7: =AB7*70%*12 -> 8400 | AI7: =AC7*70%*12 -> 0 | AJ7: =AD7*70%*12 -> 0 | AK7: =AE7*70%*12 -> 0 | AL7: 1 | AM7: =IF($AL7=1,AF7,AF7*0.75) -> 34308 | AN7: =IF($AL7=1,AG7,AF7*(1-0.75)+AG7*0.75) -> 16800 | AO7: =IF($AL7=1,AH7,AG7*(1-0.75)+AH7*0.75) -> 8400 | AP7: =IF($AL7=1,AI7,AH7*(1-0.75)+AI7*0.75) -> 0 | AQ7: =IF($AL7=1,AJ7,AI7*(1-0.75)+AJ7*0.75) -> 0 | AR7: =IF($AL7=1,AK7,AJ7*(1-0.75)+AK7*0.75) -> 0 | AS7: =AM7/2 -> 17154 | AT7: =SUM($AM7:AM7)+AN7/2 -> 42708 | AU7: =SUM($AM7:AN7)+AO7/2 -> 55308 | AV7: =SUM($AM7:AO7)+AP7/2 -> 59508 | AW7: =SUM($AM7:AP7)+AQ7/2 -> 59508 | AX7: =SUM($AM7:AQ7)+AR7/2 -> 59508 | AZ7: 0 | BA7: 0 | BB7: 0 | BC7: 0 | BD7: 0 | BE7: 0
A8: 5 | B8: Mixed Use Residential | C8: 2026 | D8: 2100 | E8: 80 | F8: =AS8 -> 5292 | G8: =AT8 -> 12348 | H8: =AU8 -> 14112 | I8: =AV8 -> 14112 | J8: =AW8 -> 14112 | K8: =AX8 -> 14112 | L8: Committed (Desposit Received) | N8: Committed | P8: GS 50 to 2,999 | Q8: New | S8: Veridian | T8: 2100 | U8: 0 | V8: 0 | W8: 0 | X8: 0 | Y8: 0 | Z8: =T8*$E8/100 -> 1680 | AA8: =U8*$E8/100 -> 0 | AB8: =V8*$E8/100 -> 0 | AC8: =W8*$E8/100 -> 0 | AD8: =X8*$E8/100 -> 0 | AE8: =Y8*$E8/100 -> 0 | AF8: =Z8*70%*12 -> 14112 | AG8: =AA8*70%*12 -> 0 | AH8: =AB8*70%*12 -> 0 | AI8: =AC8*70%*12 -> 0 | AJ8: =AD8*70%*12 -> 0 | AK8: =AE8*70%*12 -> 0 | AL8: 0 | AM8: =IF($AL8=1,AF8,AF8*0.75) -> 10584 | AN8: =IF($AL8=1,AG8,AF8*(1-0.75)+AG8*0.75) -> 3528 | AO8: =IF($AL8=1,AH8,AG8*(1-0.75)+AH8*0.75) -> 0 | AP8: =IF($AL8=1,AI8,AH8*(1-0.75)+AI8*0.75) -> 0 | AQ8: =IF($AL8=1,AJ8,AI8*(1-0.75)+AJ8*0.75) -> 0 | AR8: =IF($AL8=1,AK8,AJ8*(1-0.75)+AK8*0.75) -> 0 | AS8: =AM8/2 -> 5292 | AT8: =SUM($AM8:AM8)+AN8/2 -> 12348 | AU8: =SUM($AM8:AN8)+AO8/2 -> 14112 | AV8: =SUM($AM8:AO8)+AP8/2 -> 14112 | AW8: =SUM($AM8:AP8)+AQ8/2 -> 14112 | AX8: =SUM($AM8:AQ8)+AR8/2 -> 14112 | AZ8: 0 | BA8: 0 | BB8: 0 | BC8: 0 | BD8: 0 | BE8: 0
A9: 6 | B9: Industrial | C9: 2026 | D9: 1943 | E9: 80 | F9: =AS9 -> 1134 | G9: =AT9 -> 4536 | H9: =AU9 -> 8694 | I9: =AV9 -> 11616.36 | J9: =AW9 -> 12852.84 | K9: =AX9 -> 13056.96 | L9: Committed (Desposit Received) | N9: Committed | P9: GS 50 to 2,999 | Q9: New | S9: Veridian | T9: 450 | U9: 750 | V9: 500 | W9: 243 | X9: 0 | Y9: 0 | Z9: =T9*$E9/100 -> 360 | AA9: =U9*$E9/100 -> 600 | AB9: =V9*$E9/100 -> 400 | AC9: =W9*$E9/100 -> 194.4 | AD9: =X9*$E9/100 -> 0 | AE9: =Y9*$E9/100 -> 0 | AF9: =Z9*70%*12 -> 3024 | AG9: =AA9*70%*12 -> 5040 | AH9: =AB9*70%*12 -> 3360 | AI9: =AC9*70%*12 -> 1632.96 | AJ9: =AD9*70%*12 -> 0 | AK9: =AE9*70%*12 -> 0 | AL9: 0 | AM9: =IF($AL9=1,AF9,AF9*0.75) -> 2268 | AN9: =IF($AL9=1,AG9,AF9*(1-0.75)+AG9*0.75) -> 4536 | AO9: =IF($AL9=1,AH9,AG9*(1-0.75)+AH9*0.75) -> 3780 | AP9: =IF($AL9=1,AI9,AH9*(1-0.75)+AI9*0.75) -> 2064.72 | AQ9: =IF($AL9=1,AJ9,AI9*(1-0.75)+AJ9*0.75) -> 408.24 | AR9: =IF($AL9=1,AK9,AJ9*(1-0.75)+AK9*0.75) -> 0 | AS9: =AM9/2 -> 1134 | AT9: =SUM($AM9:AM9)+AN9/2 -> 4536 | AU9: =SUM($AM9:AN9)+AO9/2 -> 8694 | AV9: =SUM($AM9:AO9)+AP9/2 -> 11616.36 | AW9: =SUM($AM9:AP9)+AQ9/2 -> 12852.84 | AX9: =SUM($AM9:AQ9)+AR9/2 -> 13056.96 | AZ9: 0 | BA9: 0 | BB9: 0 | BC9: 0 | BD9: 0 | BE9: 0
A10: 7 | B10: Commercial | C10: 2026 | D10: 3250 | E10: 80 | F10: =AS10 -> 5040 | G10: =AT10 -> 14910 | H10: =AU10 -> 20790 | I10: =AV10 -> 21840 | J10: =AW10 -> 21840 | K10: =AX10 -> 21840 | L10: Contracted (OTC Signed) | N10: Committed | P10: GS 3,000 to 4,999 | Q10: New | S10: Veridian | T10: 2000 | U10: 1250 | V10: 0 | W10: 0 | X10: 0 | Y10: 0 | Z10: =T10*$E10/100 -> 1600 | AA10: =U10*$E10/100 -> 1000 | AB10: =V10*$E10/100 -> 0 | AC10: =W10*$E10/100 -> 0 | AD10: =X10*$E10/100 -> 0 | AE10: =Y10*$E10/100 -> 0 | AF10: =Z10*70%*12 -> 13440 | AG10: =AA10*70%*12 -> 8400 | AH10: =AB10*70%*12 -> 0 | AI10: =AC10*70%*12 -> 0 | AJ10: =AD10*70%*12 -> 0 | AK10: =AE10*70%*12 -> 0 | AL10: 0 | AM10: =IF($AL10=1,AF10,AF10*0.75) -> 10080 | AN10: =IF($AL10=1,AG10,AF10*(1-0.75)+AG10*0.75) -> 9660 | AO10: =IF($AL10=1,AH10,AG10*(1-0.75)+AH10*0.75) -> 2100 | AP10: =IF($AL10=1,AI10,AH10*(1-0.75)+AI10*0.75) -> 0 | AQ10: =IF($AL10=1,AJ10,AI10*(1-0.75)+AJ10*0.75) -> 0 | AR10: =IF($AL10=1,AK10,AJ10*(1-0.75)+AK10*0.75) -> 0 | AS10: =AM10/2 -> 5040 | AT10: =SUM($AM10:AM10)+AN10/2 -> 14910 | AU10: =SUM($AM10:AN10)+AO10/2 -> 20790 | AV10: =SUM($AM10:AO10)+AP10/2 -> 21840 | AW10: =SUM($AM10:AP10)+AQ10/2 -> 21840 | AX10: =SUM($AM10:AQ10)+AR10/2 -> 21840 | AZ10: 5040 | BA10: 9870 | BB10: 9030 | BC10: 8400 | BD10: 8400 | BE10: 8400 | BF10: Project Advanced & Expansion volumes added after anticipated year
A11: 8 | B11: Industrial | C11: 2029 | D11: 2860 | E11: 80 | F11: =AS11 -> 0 | G11: =AT11 -> 0 | H11: =AU11 -> 0 | I11: =AV11 -> 7207.2 | J11: =AW11 -> 16816.8 | K11: =AX11 -> 19219.2 | L11: Committed (Desposit Received) | N11: Committed | P11: GS 50 to 2,999 | Q11: New | S11: Veridian | T11: 0 | U11: 0 | V11: 0 | W11: =D11 -> 2860 | X11: 0 | Y11: 0 | Z11: =T11*$E11/100 -> 0 | AA11: =U11*$E11/100 -> 0 | AB11: =V11*$E11/100 -> 0 | AC11: =W11*$E11/100 -> 2288 | AD11: =X11*$E11/100 -> 0 | AE11: =Y11*$E11/100 -> 0 | AF11: =Z11*70%*12 -> 0 | AG11: =AA11*70%*12 -> 0 | AH11: =AB11*70%*12 -> 0 | AI11: =AC11*70%*12 -> 19219.2 | AJ11: =AD11*70%*12 -> 0 | AK11: =AE11*70%*12 -> 0 | AL11: 0 | AM11: =IF($AL11=1,AF11,AF11*0.75) -> 0 | AN11: =IF($AL11=1,AG11,AF11*(1-0.75)+AG11*0.75) -> 0 | AO11: =IF($AL11=1,AH11,AG11*(1-0.75)+AH11*0.75) -> 0 | AP11: =IF($AL11=1,AI11,AH11*(1-0.75)+AI11*0.75) -> 14414.4 | AQ11: =IF($AL11=1,AJ11,AI11*(1-0.75)+AJ11*0.75) -> 4804.8 | AR11: =IF($AL11=1,AK11,AJ11*(1-0.75)+AK11*0.75) -> 0 | AS11: =AM11/2 -> 0 | AT11: =SUM($AM11:AM11)+AN11/2 -> 0 | AU11: =SUM($AM11:AN11)+AO11/2 -> 0 | AV11: =SUM($AM11:AO11)+AP11/2 -> 7207.2 | AW11: =SUM($AM11:AP11)+AQ11/2 -> 16816.8 | AX11: =SUM($AM11:AQ11)+AR11/2 -> 19219.2 | AZ11: -7207.2 | BA11: -16816.8 | BB11: -19219.2 | BC11: -12012 | BD11: -2402.4 | BE11: 0 | BF11: Project Delayed
A12: 9 | B12: High Rise Residential | C12: 2026 | D12: 1000 | E12: 100 | F12: =AS12 -> 3150 | G12: =AT12 -> 7350 | H12: =AU12 -> 8400 | I12: =AV12 -> 8400 | J12: =AW12 -> 8400 | K12: =AX12 -> 8400 | L12: Contracted (OTC Signed) | N12: Committed | P12: GS 50 to 2,999 | Q12: New | S12: Veridian | T12: 1000 | U12: 0 | V12: 0 | W12: 0 | X12: 0 | Y12: 0 | Z12: =T12*$E12/100 -> 1000 | AA12: =U12*$E12/100 -> 0 | AB12: =V12*$E12/100 -> 0 | AC12: =W12*$E12/100 -> 0 | AD12: =X12*$E12/100 -> 0 | AE12: =Y12*$E12/100 -> 0 | AF12: =Z12*70%*12 -> 8400 | AG12: =AA12*70%*12 -> 0 | AH12: =AB12*70%*12 -> 0 | AI12: =AC12*70%*12 -> 0 | AJ12: =AD12*70%*12 -> 0 | AK12: =AE12*70%*12 -> 0 | AL12: 0 | AM12: =IF($AL12=1,AF12,AF12*0.75) -> 6300 | AN12: =IF($AL12=1,AG12,AF12*(1-0.75)+AG12*0.75) -> 2100 | AO12: =IF($AL12=1,AH12,AG12*(1-0.75)+AH12*0.75) -> 0 | AP12: =IF($AL12=1,AI12,AH12*(1-0.75)+AI12*0.75) -> 0 | AQ12: =IF($AL12=1,AJ12,AI12*(1-0.75)+AJ12*0.75) -> 0 | AR12: =IF($AL12=1,AK12,AJ12*(1-0.75)+AK12*0.75) -> 0 | AS12: =AM12/2 -> 3150 | AT12: =SUM($AM12:AM12)+AN12/2 -> 7350 | AU12: =SUM($AM12:AN12)+AO12/2 -> 8400 | AV12: =SUM($AM12:AO12)+AP12/2 -> 8400 | AW12: =SUM($AM12:AP12)+AQ12/2 -> 8400 | AX12: =SUM($AM12:AQ12)+AR12/2 -> 8400 | AZ12: 3150 | BA12: 4200 | BB12: 1050 | BC12: 0 | BD12: 0 | BE12: 0 | BF12: Project Advanced
A13: 10 | B13: High Rise Residential | C13: 2025 | D13: 604 | E13: 100 | F13: =AS13 -> 2536.8 | G13: =AT13 -> 5073.6 | H13: =AU13 -> 5073.6 | I13: =AV13 -> 5073.6 | J13: =AW13 -> 5073.6 | K13: =AX13 -> 5073.6 | L13: Contracted (Energized) | N13: Committed | P13: GS 50 to 2,999 | Q13: New | R13: New in 2025 | S13: Veridian | T13: 604 | U13: 0 | V13: 0 | W13: 0 | X13: 0 | Y13: 0 | Z13: =T13*$E13/100 -> 604 | AA13: =U13*$E13/100 -> 0 | AB13: =V13*$E13/100 -> 0 | AC13: =W13*$E13/100 -> 0 | AD13: =X13*$E13/100 -> 0 | AE13: =Y13*$E13/100 -> 0 | AF13: =Z13*70%*12 -> 5073.6 | AG13: =AA13*70%*12 -> 0 | AH13: =AB13*70%*12 -> 0 | AI13: =AC13*70%*12 -> 0 | AJ13: =AD13*70%*12 -> 0 | AK13: =AE13*70%*12 -> 0 | AL13: 1 | AM13: =IF($AL13=1,AF13,AF13*0.75) -> 5073.6 | AN13: =IF($AL13=1,AG13,AF13*(1-0.75)+AG13*0.75) -> 0 | AO13: =IF($AL13=1,AH13,AG13*(1-0.75)+AH13*0.75) -> 0 | AP13: =IF($AL13=1,AI13,AH13*(1-0.75)+AI13*0.75) -> 0 | AQ13: =IF($AL13=1,AJ13,AI13*(1-0.75)+AJ13*0.75) -> 0 | AR13: =IF($AL13=1,AK13,AJ13*(1-0.75)+AK13*0.75) -> 0 | AS13: =AM13/2 -> 2536.8 | AT13: =SUM($AM13:AM13)+AN13/2 -> 5073.6 | AU13: =SUM($AM13:AN13)+AO13/2 -> 5073.6 | AV13: =SUM($AM13:AO13)+AP13/2 -> 5073.6 | AW13: =SUM($AM13:AP13)+AQ13/2 -> 5073.6 | AX13: =SUM($AM13:AQ13)+AR13/2 -> 5073.6 | AZ13: 0 | BA13: 0 | BB13: 0 | BC13: 0 | BD13: 0 | BE13: 0
A14: 11 | B14: High Rise Residential | C14: 2026 | D14: 4280 | E14: 100 | F14: =AS14 -> 2520 | G14: =AT14 -> 6399.75 | H14: =AU14 -> 13492.5 | I14: =AV14 -> 22260 | J14: =AW14 -> 29389.5 | K14: =AX14 -> 34718.25 | L14: Contracted (OTC Signed) | N14: Committed | P14: GS 3,000 to 4,999 | Q14: New | S14: Veridian | T14: 800 | U14: 165 | V14: 1765 | W14: 375 | X14: 1175 | Y14: 0 | Z14: =T14*$E14/100 -> 800 | AA14: =U14*$E14/100 -> 165 | AB14: =V14*$E14/100 -> 1765 | AC14: =W14*$E14/100 -> 375 | AD14: =X14*$E14/100 -> 1175 | AE14: =Y14*$E14/100 -> 0 | AF14: =Z14*70%*12 -> 6720 | AG14: =AA14*70%*12 -> 1386 | AH14: =AB14*70%*12 -> 14826 | AI14: =AC14*70%*12 -> 3150 | AJ14: =AD14*70%*12 -> 9870 | AK14: =AE14*70%*12 -> 0 | AL14: 0 | AM14: =IF($AL14=1,AF14,AF14*0.75) -> 5040 | AN14: =IF($AL14=1,AG14,AF14*(1-0.75)+AG14*0.75) -> 2719.5 | AO14: =IF($AL14=1,AH14,AG14*(1-0.75)+AH14*0.75) -> 11466 | AP14: =IF($AL14=1,AI14,AH14*(1-0.75)+AI14*0.75) -> 6069 | AQ14: =IF($AL14=1,AJ14,AI14*(1-0.75)+AJ14*0.75) -> 8190 | AR14: =IF($AL14=1,AK14,AJ14*(1-0.75)+AK14*0.75) -> 2467.5 | AS14: =AM14/2 -> 2520 | AT14: =SUM($AM14:AM14)+AN14/2 -> 6399.75 | AU14: =SUM($AM14:AN14)+AO14/2 -> 13492.5 | AV14: =SUM($AM14:AO14)+AP14/2 -> 22260 | AW14: =SUM($AM14:AP14)+AQ14/2 -> 29389.5 | AX14: =SUM($AM14:AQ14)+AR14/2 -> 34718.25 | AZ14: 0 | BA14: 0 | BB14: 0 | BC14: 0 | BD14: 0 | BE14: 0
A15: 12 | B15: Residential (Long Term Care Home) | C15: 2027 | D15: 2500 | E15: 80 | F15: =AS15 -> 0 | G15: =AT15 -> 6300 | H15: =AU15 -> 14700 | I15: =AV15 -> 16800 | J15: =AW15 -> 16800 | K15: =AX15 -> 16800 | L15: Committed (Desposit Received) | N15: Committed | P15: GS 50 to 2,999 | Q15: New | S15: Veridian | T15: 0 | U15: 2500 | V15: 0 | W15: 0 | X15: 0 | Y15: 0 | Z15: =T15*$E15/100 -> 0 | AA15: =U15*$E15/100 -> 2000 | AB15: =V15*$E15/100 -> 0 | AC15: =W15*$E15/100 -> 0 | AD15: =X15*$E15/100 -> 0 | AE15: =Y15*$E15/100 -> 0 | AF15: =Z15*70%*12 -> 0 | AG15: =AA15*70%*12 -> 16800 | AH15: =AB15*70%*12 -> 0 | AI15: =AC15*70%*12 -> 0 | AJ15: =AD15*70%*12 -> 0 | AK15: =AE15*70%*12 -> 0 | AL15: 0 | AM15: =IF($AL15=1,AF15,AF15*0.75) -> 0 | AN15: =IF($AL15=1,AG15,AF15*(1-0.75)+AG15*0.75) -> 12600 | AO15: =IF($AL15=1,AH15,AG15*(1-0.75)+AH15*0.75) -> 4200 | AP15: =IF($AL15=1,AI15,AH15*(1-0.75)+AI15*0.75) -> 0 | AQ15: =IF($AL15=1,AJ15,AI15*(1-0.75)+AJ15*0.75) -> 0 | AR15: =IF($AL15=1,AK15,AJ15*(1-0.75)+AK15*0.75) -> 0 | AS15: =AM15/2 -> 0 | AT15: =SUM($AM15:AM15)+AN15/2 -> 6300 | AU15: =SUM($AM15:AN15)+AO15/2 -> 14700 | AV15: =SUM($AM15:AO15)+AP15/2 -> 16800 | AW15: =SUM($AM15:AP15)+AQ15/2 -> 16800 | AX15: =SUM($AM15:AQ15)+AR15/2 -> 16800 | AZ15: -6300 | BA15: -8400 | BB15: -2100 | BC15: 0 | BD15: 0 | BE15: 0 | BF15: Project Delayed
A16: 13 | B16: High Rise Residential | C16: 2026 | D16: 3000 | E16: 100 | F16: =AS16 -> 9450 | G16: =AT16 -> 22050 | H16: =AU16 -> 25200 | I16: =AV16 -> 25200 | J16: =AW16 -> 25200 | K16: =AX16 -> 25200 | L16: Contracted (OTC Signed) | N16: Committed | P16: GS 50 to 2,999 | Q16: New | S16: Veridian | T16: 3000 | U16: 0 | V16: 0 | W16: 0 | X16: 0 | Y16: 0 | Z16: =T16*$E16/100 -> 3000 | AA16: =U16*$E16/100 -> 0 | AB16: =V16*$E16/100 -> 0 | AC16: =W16*$E16/100 -> 0 | AD16: =X16*$E16/100 -> 0 | AE16: =Y16*$E16/100 -> 0 | AF16: =Z16*70%*12 -> 25200 | AG16: =AA16*70%*12 -> 0 | AH16: =AB16*70%*12 -> 0 | AI16: =AC16*70%*12 -> 0 | AJ16: =AD16*70%*12 -> 0 | AK16: =AE16*70%*12 -> 0 | AL16: 0 | AM16: =IF($AL16=1,AF16,AF16*0.75) -> 18900 | AN16: =IF($AL16=1,AG16,AF16*(1-0.75)+AG16*0.75) -> 6300 | AO16: =IF($AL16=1,AH16,AG16*(1-0.75)+AH16*0.75) -> 0 | AP16: =IF($AL16=1,AI16,AH16*(1-0.75)+AI16*0.75) -> 0 | AQ16: =IF($AL16=1,AJ16,AI16*(1-0.75)+AJ16*0.75) -> 0 | AR16: =IF($AL16=1,AK16,AJ16*(1-0.75)+AK16*0.75) -> 0 | AS16: =AM16/2 -> 9450 | AT16: =SUM($AM16:AM16)+AN16/2 -> 22050 | AU16: =SUM($AM16:AN16)+AO16/2 -> 25200 | AV16: =SUM($AM16:AO16)+AP16/2 -> 25200 | AW16: =SUM($AM16:AP16)+AQ16/2 -> 25200 | AX16: =SUM($AM16:AQ16)+AR16/2 -> 25200 | AZ16: 0 | BA16: 0 | BB16: 0 | BC16: 0 | BD16: 0 | BE16: 0
A17: 14 | B17: Industrial | C17: 2026 | D17: 4959 | E17: 100 | F17: =AS17 -> 15620.85 | G17: =AT17 -> 36448.65 | H17: =AU17 -> 41655.6 | I17: =AV17 -> 41655.6 | J17: =AW17 -> 41655.6 | K17: =AX17 -> 41655.6 | L17: Contracted (OTC Signed) | N17: Committed | P17: GS 3,000 to 4,999 | Q17: New | S17: Veridian | T17: 4959 | U17: 0 | V17: 0 | W17: 0 | X17: 0 | Y17: 0 | Z17: =T17*$E17/100 -> 4959 | AA17: =U17*$E17/100 -> 0 | AB17: =V17*$E17/100 -> 0 | AC17: =W17*$E17/100 -> 0 | AD17: =X17*$E17/100 -> 0 | AE17: =Y17*$E17/100 -> 0 | AF17: =Z17*70%*12 -> 41655.6 | AG17: =AA17*70%*12 -> 0 | AH17: =AB17*70%*12 -> 0 | AI17: =AC17*70%*12 -> 0 | AJ17: =AD17*70%*12 -> 0 | AK17: =AE17*70%*12 -> 0 | AL17: 0 | AM17: =IF($AL17=1,AF17,AF17*0.75) -> 31241.7 | AN17: =IF($AL17=1,AG17,AF17*(1-0.75)+AG17*0.75) -> 10413.9 | AO17: =IF($AL17=1,AH17,AG17*(1-0.75)+AH17*0.75) -> 0 | AP17: =IF($AL17=1,AI17,AH17*(1-0.75)+AI17*0.75) -> 0 | AQ17: =IF($AL17=1,AJ17,AI17*(1-0.75)+AJ17*0.75) -> 0 | AR17: =IF($AL17=1,AK17,AJ17*(1-0.75)+AK17*0.75) -> 0 | AS17: =AM17/2 -> 15620.85 | AT17: =SUM($AM17:AM17)+AN17/2 -> 36448.65 | AU17: =SUM($AM17:AN17)+AO17/2 -> 41655.6 | AV17: =SUM($AM17:AO17)+AP17/2 -> 41655.6 | AW17: =SUM($AM17:AP17)+AQ17/2 -> 41655.6 | AX17: =SUM($AM17:AQ17)+AR17/2 -> 41655.6 | AZ17: 0 | BA17: 0 | BB17: 0 | BC17: 0 | BD17: 0 | BE17: 0
A18: 15 | B18: High Rise Residential | C18: 2026 | D18: 1100 | E18: 80 | F18: =AS18 -> 2268 | G18: =AT18 -> 5292 | H18: =AU18 -> 6048 | I18: =AV18 -> 6300 | J18: =AW18 -> 6888 | K18: =AX18 -> 7308 | L18: Committed (OTC in Progress) | N18: Committed | P18: GS 50 to 2,999 | Q18: New | S18: Veridian | T18: 900 | U18: 0 | V18: 0 | W18: 100 | X18: 100 | Y18: 0 | Z18: =T18*$E18/100 -> 720 | AA18: =U18*$E18/100 -> 0 | AB18: =V18*$E18/100 -> 0 | AC18: =W18*$E18/100 -> 80 | AD18: =X18*$E18/100 -> 80 | AE18: =Y18*$E18/100 -> 0 | AF18: =Z18*70%*12 -> 6048 | AG18: =AA18*70%*12 -> 0 | AH18: =AB18*70%*12 -> 0 | AI18: =AC18*70%*12 -> 672 | AJ18: =AD18*70%*12 -> 672 | AK18: =AE18*70%*12 -> 0 | AL18: 0 | AM18: =IF($AL18=1,AF18,AF18*0.75) -> 4536 | AN18: =IF($AL18=1,AG18,AF18*(1-0.75)+AG18*0.75) -> 1512 | AO18: =IF($AL18=1,AH18,AG18*(1-0.75)+AH18*0.75) -> 0 | AP18: =IF($AL18=1,AI18,AH18*(1-0.75)+AI18*0.75) -> 504 | AQ18: =IF($AL18=1,AJ18,AI18*(1-0.75)+AJ18*0.75) -> 672 | AR18: =IF($AL18=1,AK18,AJ18*(1-0.75)+AK18*0.75) -> 168 | AS18: =AM18/2 -> 2268 | AT18: =SUM($AM18:AM18)+AN18/2 -> 5292 | AU18: =SUM($AM18:AN18)+AO18/2 -> 6048 | AV18: =SUM($AM18:AO18)+AP18/2 -> 6300 | AW18: =SUM($AM18:AP18)+AQ18/2 -> 6888 | AX18: =SUM($AM18:AQ18)+AR18/2 -> 7308 | AZ18: 2268 | BA18: 5292 | BB18: 3780 | BC18: 1008 | BD18: 840 | BE18: 1008 | BF18: Project Advanced
A19: 16 | B19: Industrial | C19: 2026 | D19: 3000 | E19: 80 | F19: =AS19 -> 3780 | G19: =AT19 -> 12600 | H19: =AU19 -> 18900 | I19: =AV19 -> 20160 | J19: =AW19 -> 20160 | K19: =AX19 -> 20160 | L19: Committed (OTC in Progress) | N19: Committed | O19: GS 50 to 2,999 | P19: GS 3,000 to 4,999 | Q19: Existing | S19: Veridian | T19: 1500 | U19: 1500 | V19: 0 | W19: 0 | X19: 0 | Y19: 0 | Z19: =T19*$E19/100 -> 1200 | AA19: =U19*$E19/100 -> 1200 | AB19: =V19*$E19/100 -> 0 | AC19: =W19*$E19/100 -> 0 | AD19: =X19*$E19/100 -> 0 | AE19: =Y19*$E19/100 -> 0 | AF19: =Z19*70%*12 -> 10080 | AG19: =AA19*70%*12 -> 10080 | AH19: =AB19*70%*12 -> 0 | AI19: =AC19*70%*12 -> 0 | AJ19: =AD19*70%*12 -> 0 | AK19: =AE19*70%*12 -> 0 | AL19: 0 | AM19: =IF($AL19=1,AF19,AF19*0.75) -> 7560 | AN19: =IF($AL19=1,AG19,AF19*(1-0.75)+AG19*0.75) -> 10080 | AO19: =IF($AL19=1,AH19,AG19*(1-0.75)+AH19*0.75) -> 2520 | AP19: =IF($AL19=1,AI19,AH19*(1-0.75)+AI19*0.75) -> 0 | AQ19: =IF($AL19=1,AJ19,AI19*(1-0.75)+AJ19*0.75) -> 0 | AR19: =IF($AL19=1,AK19,AJ19*(1-0.75)+AK19*0.75) -> 0 | AS19: =AM19/2 -> 3780 | AT19: =SUM($AM19:AM19)+AN19/2 -> 12600 | AU19: =SUM($AM19:AN19)+AO19/2 -> 18900 | AV19: =SUM($AM19:AO19)+AP19/2 -> 20160 | AW19: =SUM($AM19:AP19)+AQ19/2 -> 20160 | AX19: =SUM($AM19:AQ19)+AR19/2 -> 20160 | AZ19: 0 | BA19: 0 | BB19: 0 | BC19: 0 | BD19: 0 | BE19: 0
A20: 17 | B20: Industrial | C20: 2026 | D20: 3889 | E20: 100 | F20: =AS20 -> 7333.2 | G20: =AT20 -> 20679.75 | H20: =AU20 -> 29230.95 | I20: =AV20 -> 32218.2 | J20: =AW20 -> 32667.6 | K20: =AX20 -> 32667.6 | L20: Contracted (OTC Signed) | N20: Committed | O20: GS 50 to 2,999 | P20: GS 3,000 to 4,999 | Q20: Existing | S20: Veridian | T20: 2328 | U20: 1133 | V20: 428 | W20: 0 | X20: 0 | Y20: 0 | Z20: =T20*$E20/100 -> 2328 | AA20: =U20*$E20/100 -> 1133 | AB20: =V20*$E20/100 -> 428 | AC20: =W20*$E20/100 -> 0 | AD20: =X20*$E20/100 -> 0 | AE20: =Y20*$E20/100 -> 0 | AF20: =Z20*70%*12 -> 19555.2 | AG20: =AA20*70%*12 -> 9517.2 | AH20: =AB20*70%*12 -> 3595.2 | AI20: =AC20*70%*12 -> 0 | AJ20: =AD20*70%*12 -> 0 | AK20: =AE20*70%*12 -> 0 | AL20: 0 | AM20: =IF($AL20=1,AF20,AF20*0.75) -> 14666.4 | AN20: =IF($AL20=1,AG20,AF20*(1-0.75)+AG20*0.75) -> 12026.7 | AO20: =IF($AL20=1,AH20,AG20*(1-0.75)+AH20*0.75) -> 5075.7 | AP20: =IF($AL20=1,AI20,AH20*(1-0.75)+AI20*0.75) -> 898.8 | AQ20: =IF($AL20=1,AJ20,AI20*(1-0.75)+AJ20*0.75) -> 0 | AR20: =IF($AL20=1,AK20,AJ20*(1-0.75)+AK20*0.75) -> 0 | AS20: =AM20/2 -> 7333.2 | AT20: =SUM($AM20:AM20)+AN20/2 -> 20679.75 | AU20: =SUM($AM20:AN20)+AO20/2 -> 29230.95 | AV20: =SUM($AM20:AO20)+AP20/2 -> 32218.2 | AW20: =SUM($AM20:AP20)+AQ20/2 -> 32667.6 | AX20: =SUM($AM20:AQ20)+AR20/2 -> 32667.6 | AZ20: 7333.2 | BA20: 13346.55 | BB20: 8551.2 | BC20: 2987.25 | BD20: 449.4 | BE20: 0 | BF20: Project Advanced
A21: 18 | B21: Industrial | C21: 2026 | D21: 1800 | E21: 80 | F21: =AS21 -> 4536 | G21: =AT21 -> 10584 | H21: =AU21 -> 12096 | I21: =AV21 -> 12096 | J21: =AW21 -> 12096 | K21: =AX21 -> 12096 | L21: Contracted (Energized) | N21: Committed | O21: Large Use | P21: Large Use | Q21: Existing | S21: Veridian | T21: 1800 | U21: 0 | V21: 0 | W21: 0 | X21: 0 | Y21: 0 | Z21: =T21*$E21/100 -> 1440 | AA21: =U21*$E21/100 -> 0 | AB21: =V21*$E21/100 -> 0 | AC21: =W21*$E21/100 -> 0 | AD21: =X21*$E21/100 -> 0 | AE21: =Y21*$E21/100 -> 0 | AF21: =Z21*70%*12 -> 12096 | AG21: =AA21*70%*12 -> 0 | AH21: =AB21*70%*12 -> 0 | AI21: =AC21*70%*12 -> 0 | AJ21: =AD21*70%*12 -> 0 | AK21: =AE21*70%*12 -> 0 | AL21: 0 | AM21: =IF($AL21=1,AF21,AF21*0.75) -> 9072 | AN21: =IF($AL21=1,AG21,AF21*(1-0.75)+AG21*0.75) -> 3024 | AO21: =IF($AL21=1,AH21,AG21*(1-0.75)+AH21*0.75) -> 0 | AP21: =IF($AL21=1,AI21,AH21*(1-0.75)+AI21*0.75) -> 0 | AQ21: =IF($AL21=1,AJ21,AI21*(1-0.75)+AJ21*0.75) -> 0 | AR21: =IF($AL21=1,AK21,AJ21*(1-0.75)+AK21*0.75) -> 0 | AS21: =AM21/2 -> 4536 | AT21: =SUM($AM21:AM21)+AN21/2 -> 10584 | AU21: =SUM($AM21:AN21)+AO21/2 -> 12096 | AV21: =SUM($AM21:AO21)+AP21/2 -> 12096 | AW21: =SUM($AM21:AP21)+AQ21/2 -> 12096 | AX21: =SUM($AM21:AQ21)+AR21/2 -> 12096 | AZ21: 0 | BA21: 0 | BB21: 0 | BC21: 0 | BD21: 0 | BE21: 0
A22: 19 | B22: Industrial | C22: 2026 | D22: 4000 | E22: 80 | F22: =AS22 -> 10080 | G22: =AT22 -> 23520 | H22: =AU22 -> 26880 | I22: =AV22 -> 26880 | J22: =AW22 -> 26880 | K22: =AX22 -> 26880 | L22: Committed (Deffered by Customer) | N22: Committed | O22: Large Use | P22: Large Use | Q22: Existing | S22: Veridian | T22: 4000 | U22: 0 | V22: 0 | W22: 0 | X22: 0 | Y22: 0 | Z22: =T22*$E22/100 -> 3200 | AA22: =U22*$E22/100 -> 0 | AB22: =V22*$E22/100 -> 0 | AC22: =W22*$E22/100 -> 0 | AD22: =X22*$E22/100 -> 0 | AE22: =Y22*$E22/100 -> 0 | AF22: =Z22*70%*12 -> 26880 | AG22: =AA22*70%*12 -> 0 | AH22: =AB22*70%*12 -> 0 | AI22: =AC22*70%*12 -> 0 | AJ22: =AD22*70%*12 -> 0 | AK22: =AE22*70%*12 -> 0 | AL22: 0 | AM22: =IF($AL22=1,AF22,AF22*0.75) -> 20160 | AN22: =IF($AL22=1,AG22,AF22*(1-0.75)+AG22*0.75) -> 6720 | AO22: =IF($AL22=1,AH22,AG22*(1-0.75)+AH22*0.75) -> 0 | AP22: =IF($AL22=1,AI22,AH22*(1-0.75)+AI22*0.75) -> 0 | AQ22: =IF($AL22=1,AJ22,AI22*(1-0.75)+AJ22*0.75) -> 0 | AR22: =IF($AL22=1,AK22,AJ22*(1-0.75)+AK22*0.75) -> 0 | AS22: =AM22/2 -> 10080 | AT22: =SUM($AM22:AM22)+AN22/2 -> 23520 | AU22: =SUM($AM22:AN22)+AO22/2 -> 26880 | AV22: =SUM($AM22:AO22)+AP22/2 -> 26880 | AW22: =SUM($AM22:AP22)+AQ22/2 -> 26880 | AX22: =SUM($AM22:AQ22)+AR22/2 -> 26880 | AZ22: 0 | BA22: 0 | BB22: 0 | BC22: 0 | BD22: 0 | BE22: 0
A23: 20 | B23: Industrial | C23: 2025 | D23: 2200 | E23: 100 | F23: =AS23 -> 5040 | G23: =AT23 -> 11760 | H23: =AU23 -> 15120 | I23: =AV23 -> 17640 | J23: =AW23 -> 18480 | K23: =AX23 -> 18480 | L23: Contracted (Energized) | N23: Committed | O23: GS 50 to 2,999 | P23: GS 3,000 to 4,999 | Q23: Existing | S23: Veridian | T23: 1200 | U23: 400 | V23: 400 | W23: 200 | X23: 0 | Y23: 0 | Z23: =T23*$E23/100 -> 1200 | AA23: =U23*$E23/100 -> 400 | AB23: =V23*$E23/100 -> 400 | AC23: =W23*$E23/100 -> 200 | AD23: =X23*$E23/100 -> 0 | AE23: =Y23*$E23/100 -> 0 | AF23: =Z23*70%*12 -> 10080 | AG23: =AA23*70%*12 -> 3360 | AH23: =AB23*70%*12 -> 3360 | AI23: =AC23*70%*12 -> 1680 | AJ23: =AD23*70%*12 -> 0 | AK23: =AE23*70%*12 -> 0 | AL23: 1 | AM23: =IF($AL23=1,AF23,AF23*0.75) -> 10080 | AN23: =IF($AL23=1,AG23,AF23*(1-0.75)+AG23*0.75) -> 3360 | AO23: =IF($AL23=1,AH23,AG23*(1-0.75)+AH23*0.75) -> 3360 | AP23: =IF($AL23=1,AI23,AH23*(1-0.75)+AI23*0.75) -> 1680 | AQ23: =IF($AL23=1,AJ23,AI23*(1-0.75)+AJ23*0.75) -> 0 | AR23: =IF($AL23=1,AK23,AJ23*(1-0.75)+AK23*0.75) -> 0 | AS23: =AM23/2 -> 5040 | AT23: =SUM($AM23:AM23)+AN23/2 -> 11760 | AU23: =SUM($AM23:AN23)+AO23/2 -> 15120 | AV23: =SUM($AM23:AO23)+AP23/2 -> 17640 | AW23: =SUM($AM23:AP23)+AQ23/2 -> 18480 | AX23: =SUM($AM23:AQ23)+AR23/2 -> 18480 | AZ23: 0 | BA23: 0 | BB23: 0 | BC23: 0 | BD23: 0 | BE23: 0
A24: 21 | B24: Commercial | C24: 2025 | D24: 2500 | E24: 100 | F24: =AS24 -> 6750 | G24: =AT24 -> 13500 | H24: =AU24 -> 13500 | I24: =AV24 -> 13500 | J24: =AW24 -> 13500 | K24: =AX24 -> 13500 | L24: Contracted (Energized) | N24: Committed | O24: GS 50 to 2,999 | P24: GS 3,000 to 4,999 | Q24: Existing | S24: Veridian | T24: 1607.1429 | U24: 0 | V24: 0 | W24: 0 | X24: 0 | Y24: 0 | Z24: =T24*$E24/100 -> 1607.1429 | AA24: =U24*$E24/100 -> 0 | AB24: =V24*$E24/100 -> 0 | AC24: =W24*$E24/100 -> 0 | AD24: =X24*$E24/100 -> 0 | AE24: =Y24*$E24/100 -> 0 | AF24: =Z24*70%*12 -> 13500 | AG24: =AA24*70%*12 -> 0 | AH24: =AB24*70%*12 -> 0 | AI24: =AC24*70%*12 -> 0 | AJ24: =AD24*70%*12 -> 0 | AK24: =AE24*70%*12 -> 0 | AL24: 1 | AM24: =IF($AL24=1,AF24,AF24*0.75) -> 13500 | AN24: =IF($AL24=1,AG24,AF24*(1-0.75)+AG24*0.75) -> 0 | AO24: =IF($AL24=1,AH24,AG24*(1-0.75)+AH24*0.75) -> 0 | AP24: =IF($AL24=1,AI24,AH24*(1-0.75)+AI24*0.75) -> 0 | AQ24: =IF($AL24=1,AJ24,AI24*(1-0.75)+AJ24*0.75) -> 0 | AR24: =IF($AL24=1,AK24,AJ24*(1-0.75)+AK24*0.75) -> 0 | AS24: =AM24/2 -> 6750 | AT24: =SUM($AM24:AM24)+AN24/2 -> 13500 | AU24: =SUM($AM24:AN24)+AO24/2 -> 13500 | AV24: =SUM($AM24:AO24)+AP24/2 -> 13500 | AW24: =SUM($AM24:AP24)+AQ24/2 -> 13500 | AX24: =SUM($AM24:AQ24)+AR24/2 -> 13500 | AZ24: 0 | BA24: 0 | BB24: 0 | BC24: 0 | BD24: 0 | BE24: 0
A25: 22 | B25: High Rise Residential | C25: 2027 | D25: 1350 | E25: 80 | F25: =AS25 -> 0 | G25: =AT25 -> 3402 | H25: =AU25 -> 7938 | I25: =AV25 -> 9072 | J25: =AW25 -> 9072 | K25: =AX25 -> 9072 | L25: Committed (Desposit Received) | N25: Committed | P25: GS 50 to 2,999 | Q25: New | S25: Veridian | T25: 0 | U25: 1350 | V25: 0 | W25: 0 | X25: 0 | Y25: 0 | Z25: =T25*$E25/100 -> 0 | AA25: =U25*$E25/100 -> 1080 | AB25: =V25*$E25/100 -> 0 | AC25: =W25*$E25/100 -> 0 | AD25: =X25*$E25/100 -> 0 | AE25: =Y25*$E25/100 -> 0 | AF25: =Z25*70%*12 -> 0 | AG25: =AA25*70%*12 -> 9072 | AH25: =AB25*70%*12 -> 0 | AI25: =AC25*70%*12 -> 0 | AJ25: =AD25*70%*12 -> 0 | AK25: =AE25*70%*12 -> 0 | AL25: 0 | AM25: =IF($AL25=1,AF25,AF25*0.75) -> 0 | AN25: =IF($AL25=1,AG25,AF25*(1-0.75)+AG25*0.75) -> 6804 | AO25: =IF($AL25=1,AH25,AG25*(1-0.75)+AH25*0.75) -> 2268 | AP25: =IF($AL25=1,AI25,AH25*(1-0.75)+AI25*0.75) -> 0 | AQ25: =IF($AL25=1,AJ25,AI25*(1-0.75)+AJ25*0.75) -> 0 | AR25: =IF($AL25=1,AK25,AJ25*(1-0.75)+AK25*0.75) -> 0 | AS25: =AM25/2 -> 0 | AT25: =SUM($AM25:AM25)+AN25/2 -> 3402 | AU25: =SUM($AM25:AN25)+AO25/2 -> 7938 | AV25: =SUM($AM25:AO25)+AP25/2 -> 9072 | AW25: =SUM($AM25:AP25)+AQ25/2 -> 9072 | AX25: =SUM($AM25:AQ25)+AR25/2 -> 9072 | AZ25: -3402 | BA25: -4536 | BB25: -1134 | BC25: 0 | BD25: 0 | BE25: 0 | BF25: Project Delayed
A26: 23 | B26: Commercial | C26: 2026 | D26: 1500 | E26: 80 | F26: =AS26 -> 3780 | G26: =AT26 -> 8820 | H26: =AU26 -> 10080 | I26: =AV26 -> 10080 | J26: =AW26 -> 10080 | K26: =AX26 -> 10080 | L26: Committed (OTC in Progress) | N26: Committed | P26: GS 50 to 2,999 | Q26: New | S26: Veridian | T26: 1500 | U26: 0 | V26: 0 | W26: 0 | X26: 0 | Y26: 0 | Z26: =T26*$E26/100 -> 1200 | AA26: =U26*$E26/100 -> 0 | AB26: =V26*$E26/100 -> 0 | AC26: =W26*$E26/100 -> 0 | AD26: =X26*$E26/100 -> 0 | AE26: =Y26*$E26/100 -> 0 | AF26: =Z26*70%*12 -> 10080 | AG26: =AA26*70%*12 -> 0 | AH26: =AB26*70%*12 -> 0 | AI26: =AC26*70%*12 -> 0 | AJ26: =AD26*70%*12 -> 0 | AK26: =AE26*70%*12 -> 0 | AL26: 0 | AM26: =IF($AL26=1,AF26,AF26*0.75) -> 7560 | AN26: =IF($AL26=1,AG26,AF26*(1-0.75)+AG26*0.75) -> 2520 | AO26: =IF($AL26=1,AH26,AG26*(1-0.75)+AH26*0.75) -> 0 | AP26: =IF($AL26=1,AI26,AH26*(1-0.75)+AI26*0.75) -> 0 | AQ26: =IF($AL26=1,AJ26,AI26*(1-0.75)+AJ26*0.75) -> 0 | AR26: =IF($AL26=1,AK26,AJ26*(1-0.75)+AK26*0.75) -> 0 | AS26: =AM26/2 -> 3780 | AT26: =SUM($AM26:AM26)+AN26/2 -> 8820 | AU26: =SUM($AM26:AN26)+AO26/2 -> 10080 | AV26: =SUM($AM26:AO26)+AP26/2 -> 10080 | AW26: =SUM($AM26:AP26)+AQ26/2 -> 10080 | AX26: =SUM($AM26:AQ26)+AR26/2 -> 10080 | AZ26: 0 | BA26: 0 | BB26: 0 | BC26: 0 | BD26: 0 | BE26: 0
A27: 24 | B27: Industrial | C27: 2028 | D27: 40000 | E27: 50 | F27: =AS27 -> 0 | G27: =AT27 -> 0 | H27: =AU27 -> 39375 | I27: =AV27 -> 115500 | J27: =AW27 -> 160125 | K27: =AX27 -> 168000 | L27: Committed (Mou Signed and Design Desposit Received) | N27: Committed | P27: Large Use | Q27: New | S27: Veridian | T27: 0 | U27: 0 | V27: 25000 | W27: 15000 | X27: 0 | Y27: 0 | Z27: =T27*$E27/100 -> 0 | AA27: =U27*$E27/100 -> 0 | AB27: =V27*$E27/100 -> 12500 | AC27: =W27*$E27/100 -> 7500 | AD27: =X27*$E27/100 -> 0 | AE27: =Y27*$E27/100 -> 0 | AF27: =Z27*70%*12 -> 0 | AG27: =AA27*70%*12 -> 0 | AH27: =AB27*70%*12 -> 105000 | AI27: =AC27*70%*12 -> 63000 | AJ27: =AD27*70%*12 -> 0 | AK27: =AE27*70%*12 -> 0 | AL27: 0 | AM27: =IF($AL27=1,AF27,AF27*0.75) -> 0 | AN27: =IF($AL27=1,AG27,AF27*(1-0.75)+AG27*0.75) -> 0 | AO27: =IF($AL27=1,AH27,AG27*(1-0.75)+AH27*0.75) -> 78750 | AP27: =IF($AL27=1,AI27,AH27*(1-0.75)+AI27*0.75) -> 73500 | AQ27: =IF($AL27=1,AJ27,AI27*(1-0.75)+AJ27*0.75) -> 15750 | AR27: =IF($AL27=1,AK27,AJ27*(1-0.75)+AK27*0.75) -> 0 | AS27: =AM27/2 -> 0 | AT27: =SUM($AM27:AM27)+AN27/2 -> 0 | AU27: =SUM($AM27:AN27)+AO27/2 -> 39375 | AV27: =SUM($AM27:AO27)+AP27/2 -> 115500 | AW27: =SUM($AM27:AP27)+AQ27/2 -> 160125 | AX27: =SUM($AM27:AQ27)+AR27/2 -> 168000 | AZ27: 0 | BA27: -39375 | BB27: -76125 | BC27: -44625 | BD27: -7875 | BE27: 0 | BF27: Project Delayed
A28: 25 | B28: Commercial | C28: 2026 | D28: 1700 | E28: 80 | F28: =AS28 -> 4284 | G28: =AT28 -> 9996 | H28: =AU28 -> 11424 | I28: =AV28 -> 11424 | J28: =AW28 -> 11424 | K28: =AX28 -> 11424 | L28: Committed (OTC in Progress) | N28: Committed | P28: GS 50 to 2,999 | Q28: New | S28: Veridian | T28: 1700 | U28: 0 | V28: 0 | W28: 0 | X28: 0 | Y28: 0 | Z28: =T28*$E28/100 -> 1360 | AA28: =U28*$E28/100 -> 0 | AB28: =V28*$E28/100 -> 0 | AC28: =W28*$E28/100 -> 0 | AD28: =X28*$E28/100 -> 0 | AE28: =Y28*$E28/100 -> 0 | AF28: =Z28*70%*12 -> 11424 | AG28: =AA28*70%*12 -> 0 | AH28: =AB28*70%*12 -> 0 | AI28: =AC28*70%*12 -> 0 | AJ28: =AD28*70%*12 -> 0 | AK28: =AE28*70%*12 -> 0 | AL28: 0 | AM28: =IF($AL28=1,AF28,AF28*0.75) -> 8568 | AN28: =IF($AL28=1,AG28,AF28*(1-0.75)+AG28*0.75) -> 2856 | AO28: =IF($AL28=1,AH28,AG28*(1-0.75)+AH28*0.75) -> 0 | AP28: =IF($AL28=1,AI28,AH28*(1-0.75)+AI28*0.75) -> 0 | AQ28: =IF($AL28=1,AJ28,AI28*(1-0.75)+AJ28*0.75) -> 0 | AR28: =IF($AL28=1,AK28,AJ28*(1-0.75)+AK28*0.75) -> 0 | AS28: =AM28/2 -> 4284 | AT28: =SUM($AM28:AM28)+AN28/2 -> 9996 | AU28: =SUM($AM28:AN28)+AO28/2 -> 11424 | AV28: =SUM($AM28:AO28)+AP28/2 -> 11424 | AW28: =SUM($AM28:AP28)+AQ28/2 -> 11424 | AX28: =SUM($AM28:AQ28)+AR28/2 -> 11424 | AZ28: 0 | BA28: 0 | BB28: 0 | BC28: 0 | BD28: 0 | BE28: 0
A29: 26 | B29: High Rise Residential | C29: 2026 | D29: 1050 | E29: 80 | F29: =AS29 -> 2646 | G29: =AT29 -> 6174 | H29: =AU29 -> 7056 | I29: =AV29 -> 7056 | J29: =AW29 -> 7056 | K29: =AX29 -> 7056 | L29: Committed (Desposit Received) | N29: Committed | P29: GS 50 to 2,999 | Q29: New | S29: Veridian | T29: 1050 | U29: 0 | V29: 0 | W29: 0 | X29: 0 | Y29: 0 | Z29: =T29*$E29/100 -> 840 | AA29: =U29*$E29/100 -> 0 | AB29: =V29*$E29/100 -> 0 | AC29: =W29*$E29/100 -> 0 | AD29: =X29*$E29/100 -> 0 | AE29: =Y29*$E29/100 -> 0 | AF29: =Z29*70%*12 -> 7056 | AG29: =AA29*70%*12 -> 0 | AH29: =AB29*70%*12 -> 0 | AI29: =AC29*70%*12 -> 0 | AJ29: =AD29*70%*12 -> 0 | AK29: =AE29*70%*12 -> 0 | AL29: 0 | AM29: =IF($AL29=1,AF29,AF29*0.75) -> 5292 | AN29: =IF($AL29=1,AG29,AF29*(1-0.75)+AG29*0.75) -> 1764 | AO29: =IF($AL29=1,AH29,AG29*(1-0.75)+AH29*0.75) -> 0 | AP29: =IF($AL29=1,AI29,AH29*(1-0.75)+AI29*0.75) -> 0 | AQ29: =IF($AL29=1,AJ29,AI29*(1-0.75)+AJ29*0.75) -> 0 | AR29: =IF($AL29=1,AK29,AJ29*(1-0.75)+AK29*0.75) -> 0 | AS29: =AM29/2 -> 2646 | AT29: =SUM($AM29:AM29)+AN29/2 -> 6174 | AU29: =SUM($AM29:AN29)+AO29/2 -> 7056 | AV29: =SUM($AM29:AO29)+AP29/2 -> 7056 | AW29: =SUM($AM29:AP29)+AQ29/2 -> 7056 | AX29: =SUM($AM29:AQ29)+AR29/2 -> 7056 | AZ29: 0 | BA29: 0 | BB29: 0 | BC29: 0 | BD29: 0 | BE29: 0
A30: 27 | B30: Commercial | C30: 2026 | D30: 3830 | E30: 100 | F30: =AS30 -> 3213 | G30: =AT30 -> 9651.6 | H30: =AU30 -> 17161.2 | I30: =AV30 -> 26808.6 | J30: =AW30 -> 32172 | K30: =AX30 -> 32172 | L30: Contracted (Energized) | N30: Committed | P30: GS 3,000 to 4,999 | Q30: New | R30: New in 2025 | S30: Whitby | T30: 765 | U30: 768 | V30: 1020 | W30: 1277 | X30: 0 | Y30: 0 | Z30: =T30*$E30/100 -> 765 | AA30: =U30*$E30/100 -> 768 | AB30: =V30*$E30/100 -> 1020 | AC30: =W30*$E30/100 -> 1277 | AD30: =X30*$E30/100 -> 0 | AE30: =Y30*$E30/100 -> 0 | AF30: =Z30*70%*12 -> 6426 | AG30: =AA30*70%*12 -> 6451.2 | AH30: =AB30*70%*12 -> 8568 | AI30: =AC30*70%*12 -> 10726.8 | AJ30: =AD30*70%*12 -> 0 | AK30: =AE30*70%*12 -> 0 | AL30: 1 | AM30: =IF($AL30=1,AF30,AF30*0.75) -> 6426 | AN30: =IF($AL30=1,AG30,AF30*(1-0.75)+AG30*0.75) -> 6451.2 | AO30: =IF($AL30=1,AH30,AG30*(1-0.75)+AH30*0.75) -> 8568 | AP30: =IF($AL30=1,AI30,AH30*(1-0.75)+AI30*0.75) -> 10726.8 | AQ30: =IF($AL30=1,AJ30,AI30*(1-0.75)+AJ30*0.75) -> 0 | AR30: =IF($AL30=1,AK30,AJ30*(1-0.75)+AK30*0.75) -> 0 | AS30: =AM30/2 -> 3213 | AT30: =SUM($AM30:AM30)+AN30/2 -> 9651.6 | AU30: =SUM($AM30:AN30)+AO30/2 -> 17161.2 | AV30: =SUM($AM30:AO30)+AP30/2 -> 26808.6 | AW30: =SUM($AM30:AP30)+AQ30/2 -> 32172 | AX30: =SUM($AM30:AQ30)+AR30/2 -> 32172 | AZ30: 0 | BA30: 0 | BB30: 0 | BC30: 0 | BD30: 0 | BE30: 0
A31: 28 | B31: Commercial | C31: 2026 | D31: 780 | E31: 80 | F31: =AS31 -> 1965.6 | G31: =AT31 -> 4586.4 | H31: =AU31 -> 5241.6 | I31: =AV31 -> 5241.6 | J31: =AW31 -> 5241.6 | K31: =AX31 -> 5241.6 | L31: Committed (Desposit Received) | N31: Committed | O31: GS 50 to 2,999 | P31: GS 50 to 2,999 | Q31: Existing | S31: Whitby | T31: 780 | U31: 0 | V31: 0 | W31: 0 | X31: 0 | Y31: 0 | Z31: =T31*$E31/100 -> 624 | AA31: =U31*$E31/100 -> 0 | AB31: =V31*$E31/100 -> 0 | AC31: =W31*$E31/100 -> 0 | AD31: =X31*$E31/100 -> 0 | AE31: =Y31*$E31/100 -> 0 | AF31: =Z31*70%*12 -> 5241.6 | AG31: =AA31*70%*12 -> 0 | AH31: =AB31*70%*12 -> 0 | AI31: =AC31*70%*12 -> 0 | AJ31: =AD31*70%*12 -> 0 | AK31: =AE31*70%*12 -> 0 | AL31: 0 | AM31: =IF($AL31=1,AF31,AF31*0.75) -> 3931.2 | AN31: =IF($AL31=1,AG31,AF31*(1-0.75)+AG31*0.75) -> 1310.4 | AO31: =IF($AL31=1,AH31,AG31*(1-0.75)+AH31*0.75) -> 0 | AP31: =IF($AL31=1,AI31,AH31*(1-0.75)+AI31*0.75) -> 0 | AQ31: =IF($AL31=1,AJ31,AI31*(1-0.75)+AJ31*0.75) -> 0 | AR31: =IF($AL31=1,AK31,AJ31*(1-0.75)+AK31*0.75) -> 0 | AS31: =AM31/2 -> 1965.6 | AT31: =SUM($AM31:AM31)+AN31/2 -> 4586.4 | AU31: =SUM($AM31:AN31)+AO31/2 -> 5241.6 | AV31: =SUM($AM31:AO31)+AP31/2 -> 5241.6 | AW31: =SUM($AM31:AP31)+AQ31/2 -> 5241.6 | AX31: =SUM($AM31:AQ31)+AR31/2 -> 5241.6 | AZ31: 0 | BA31: 0 | BB31: 0 | BC31: 0 | BD31: 0 | BE31: 0
A32: 29 | B32: Residential Condo | C32: 2027 | D32: 392 | E32: 80 | F32: =AS32 -> 0 | G32: =AT32 -> 987.84 | H32: =AU32 -> 2304.96 | I32: =AV32 -> 2634.24 | J32: =AW32 -> 2634.24 | K32: =AX32 -> 2634.24 | L32: Committed (Desposit Received) | N32: Committed | P32: GS 50 to 2,999 | Q32: New | S32: Whitby | T32: 0 | U32: 392 | V32: 0 | W32: 0 | X32: 0 | Y32: 0 | Z32: =T32*$E32/100 -> 0 | AA32: =U32*$E32/100 -> 313.6 | AB32: =V32*$E32/100 -> 0 | AC32: =W32*$E32/100 -> 0 | AD32: =X32*$E32/100 -> 0 | AE32: =Y32*$E32/100 -> 0 | AF32: =Z32*70%*12 -> 0 | AG32: =AA32*70%*12 -> 2634.24 | AH32: =AB32*70%*12 -> 0 | AI32: =AC32*70%*12 -> 0 | AJ32: =AD32*70%*12 -> 0 | AK32: =AE32*70%*12 -> 0 | AL32: 0 | AM32: =IF($AL32=1,AF32,AF32*0.75) -> 0 | AN32: =IF($AL32=1,AG32,AF32*(1-0.75)+AG32*0.75) -> 1975.68 | AO32: =IF($AL32=1,AH32,AG32*(1-0.75)+AH32*0.75) -> 658.56 | AP32: =IF($AL32=1,AI32,AH32*(1-0.75)+AI32*0.75) -> 0 | AQ32: =IF($AL32=1,AJ32,AI32*(1-0.75)+AJ32*0.75) -> 0 | AR32: =IF($AL32=1,AK32,AJ32*(1-0.75)+AK32*0.75) -> 0 | AS32: =AM32/2 -> 0 | AT32: =SUM($AM32:AM32)+AN32/2 -> 987.84 | AU32: =SUM($AM32:AN32)+AO32/2 -> 2304.96 | AV32: =SUM($AM32:AO32)+AP32/2 -> 2634.24 | AW32: =SUM($AM32:AP32)+AQ32/2 -> 2634.24 | AX32: =SUM($AM32:AQ32)+AR32/2 -> 2634.24 | AZ32: -987.84 | BA32: -1317.12 | BB32: -329.28 | BC32: 0 | BD32: 0 | BE32: 0 | BF32: Project Delayed
A33: 30 | B33: Industrial | C33: 2025 | D33: 1881 | E33: 100 | F33: =AS33 -> 7678.2 | G33: =AT33 -> 15356.4 | H33: =AU33 -> 15356.4 | I33: =AV33 -> 15356.4 | J33: =AW33 -> 15356.4 | K33: =AX33 -> 15356.4 | L33: Contracted (Energized) | N33: Committed | O33: GS 50 to 2,999 | P33: GS 3,000 to 4,999 | Q33: Existing | S33: Whitby | T33: 1828.1429 | U33: 0 | V33: 0 | W33: 0 | X33: 0 | Y33: 0 | Z33: =T33*$E33/100 -> 1828.1429 | AA33: =U33*$E33/100 -> 0 | AB33: =V33*$E33/100 -> 0 | AC33: =W33*$E33/100 -> 0 | AD33: =X33*$E33/100 -> 0 | AE33: =Y33*$E33/100 -> 0 | AF33: =Z33*70%*12 -> 15356.4 | AG33: =AA33*70%*12 -> 0 | AH33: =AB33*70%*12 -> 0 | AI33: =AC33*70%*12 -> 0 | AJ33: =AD33*70%*12 -> 0 | AK33: =AE33*70%*12 -> 0 | AL33: 1 | AM33: =IF($AL33=1,AF33,AF33*0.75) -> 15356.4 | AN33: =IF($AL33=1,AG33,AF33*(1-0.75)+AG33*0.75) -> 0 | AO33: =IF($AL33=1,AH33,AG33*(1-0.75)+AH33*0.75) -> 0 | AP33: =IF($AL33=1,AI33,AH33*(1-0.75)+AI33*0.75) -> 0 | AQ33: =IF($AL33=1,AJ33,AI33*(1-0.75)+AJ33*0.75) -> 0 | AR33: =IF($AL33=1,AK33,AJ33*(1-0.75)+AK33*0.75) -> 0 | AS33: =AM33/2 -> 7678.2 | AT33: =SUM($AM33:AM33)+AN33/2 -> 15356.4 | AU33: =SUM($AM33:AN33)+AO33/2 -> 15356.4 | AV33: =SUM($AM33:AO33)+AP33/2 -> 15356.4 | AW33: =SUM($AM33:AP33)+AQ33/2 -> 15356.4 | AX33: =SUM($AM33:AQ33)+AR33/2 -> 15356.4 | AZ33: 0 | BA33: 0 | BB33: 0 | BC33: 0 | BD33: 0 | BE33: 0
A34: 31 | B34: High Rise Residential | C34: 2027 | D34: 3000 | E34: 80 | F34: =AS34 -> 0 | G34: =AT34 -> 1512 | H34: =AU34 -> 3528 | I34: =AV34 -> 7056 | J34: =AW34 -> 14112 | K34: =AX34 -> 19152 | L34: Committed (OTC in Progress) | N34: Committed | P34: GS 50 to 2,999 | Q34: New | S34: Whitby | T34: 0 | U34: 600 | V34: 0 | W34: 1200 | X34: 1200 | Y34: 0 | Z34: =T34*$E34/100 -> 0 | AA34: =U34*$E34/100 -> 480 | AB34: =V34*$E34/100 -> 0 | AC34: =W34*$E34/100 -> 960 | AD34: =X34*$E34/100 -> 960 | AE34: =Y34*$E34/100 -> 0 | AF34: =Z34*70%*12 -> 0 | AG34: =AA34*70%*12 -> 4032 | AH34: =AB34*70%*12 -> 0 | AI34: =AC34*70%*12 -> 8064 | AJ34: =AD34*70%*12 -> 8064 | AK34: =AE34*70%*12 -> 0 | AL34: 0 | AM34: =IF($AL34=1,AF34,AF34*0.75) -> 0 | AN34: =IF($AL34=1,AG34,AF34*(1-0.75)+AG34*0.75) -> 3024 | AO34: =IF($AL34=1,AH34,AG34*(1-0.75)+AH34*0.75) -> 1008 | AP34: =IF($AL34=1,AI34,AH34*(1-0.75)+AI34*0.75) -> 6048 | AQ34: =IF($AL34=1,AJ34,AI34*(1-0.75)+AJ34*0.75) -> 8064 | AR34: =IF($AL34=1,AK34,AJ34*(1-0.75)+AK34*0.75) -> 2016 | AS34: =AM34/2 -> 0 | AT34: =SUM($AM34:AM34)+AN34/2 -> 1512 | AU34: =SUM($AM34:AN34)+AO34/2 -> 3528 | AV34: =SUM($AM34:AO34)+AP34/2 -> 7056 | AW34: =SUM($AM34:AP34)+AQ34/2 -> 14112 | AX34: =SUM($AM34:AQ34)+AR34/2 -> 19152 | AZ34: 0 | BA34: 0 | BB34: 0 | BC34: 0 | BD34: 0 | BE34: 0
A35: 32 | B35: Industrial | C35: 2025 | D35: 2435 | E35: 100 | F35: =AS35 -> 757.2 | G35: =AT35 -> 5743.8 | H35: =AU35 -> 11972.4 | I35: =AV35 -> 15970.8 | J35: =AW35 -> 17970 | K35: =AX35 -> 17970 | L35: Contracted (OTC Signed) | N35: Committed | P35: GS 50 to 2,999 | Q35: New | R35: New in 2025 | S35: Whitby | T35: 180.28571 | U35: 1007 | V35: 476 | W35: 476 | X35: 0 | Y35: 0 | Z35: =T35*$E35/100 -> 180.28571 | AA35: =U35*$E35/100 -> 1007 | AB35: =V35*$E35/100 -> 476 | AC35: =W35*$E35/100 -> 476 | AD35: =X35*$E35/100 -> 0 | AE35: =Y35*$E35/100 -> 0 | AF35: =Z35*70%*12 -> 1514.4 | AG35: =AA35*70%*12 -> 8458.8 | AH35: =AB35*70%*12 -> 3998.4 | AI35: =AC35*70%*12 -> 3998.4 | AJ35: =AD35*70%*12 -> 0 | AK35: =AE35*70%*12 -> 0 | AL35: 1 | AM35: =IF($AL35=1,AF35,AF35*0.75) -> 1514.4 | AN35: =IF($AL35=1,AG35,AF35*(1-0.75)+AG35*0.75) -> 8458.8 | AO35: =IF($AL35=1,AH35,AG35*(1-0.75)+AH35*0.75) -> 3998.4 | AP35: =IF($AL35=1,AI35,AH35*(1-0.75)+AI35*0.75) -> 3998.4 | AQ35: =IF($AL35=1,AJ35,AI35*(1-0.75)+AJ35*0.75) -> 0 | AR35: =IF($AL35=1,AK35,AJ35*(1-0.75)+AK35*0.75) -> 0 | AS35: =AM35/2 -> 757.2 | AT35: =SUM($AM35:AM35)+AN35/2 -> 5743.8 | AU35: =SUM($AM35:AN35)+AO35/2 -> 11972.4 | AV35: =SUM($AM35:AO35)+AP35/2 -> 15970.8 | AW35: =SUM($AM35:AP35)+AQ35/2 -> 17970 | AX35: =SUM($AM35:AQ35)+AR35/2 -> 17970 | AZ35: -1491.9 | BA35: -2452.5 | BB35: -2404.2 | BC35: -2887.2 | BD35: -3387 | BE35: -3886.8 | BF35: Connected in 2025, anticipated loads reduced
A36: 33 | B36: Industrial | C36: 2026 | D36: 1610 | E36: 50 | F36: =AS36 -> 504 | G36: =AT36 -> 3207.75 | H36: =AU36 -> 6084.75 | I36: =AV36 -> 6762 | J36: =AW36 -> 6762 | K36: =AX36 -> 6762 | L36: Speculative (Application Received) | N36: Non-Committed | P36: GS 50 to 2,999 | Q36: New | S36: Whitby | T36: 320 | U36: 1290 | V36: 0 | W36: 0 | X36: 0 | Y36: 0 | Z36: =T36*$E36/100 -> 160 | AA36: =U36*$E36/100 -> 645 | AB36: =V36*$E36/100 -> 0 | AC36: =W36*$E36/100 -> 0 | AD36: =X36*$E36/100 -> 0 | AE36: =Y36*$E36/100 -> 0 | AF36: =Z36*70%*12 -> 1344 | AG36: =AA36*70%*12 -> 5418 | AH36: =AB36*70%*12 -> 0 | AI36: =AC36*70%*12 -> 0 | AJ36: =AD36*70%*12 -> 0 | AK36: =AE36*70%*12 -> 0 | AL36: 0 | AM36: =IF($AL36=1,AF36,AF36*0.75) -> 1008 | AN36: =IF($AL36=1,AG36,AF36*(1-0.75)+AG36*0.75) -> 4399.5 | AO36: =IF($AL36=1,AH36,AG36*(1-0.75)+AH36*0.75) -> 1354.5 | AP36: =IF($AL36=1,AI36,AH36*(1-0.75)+AI36*0.75) -> 0 | AQ36: =IF($AL36=1,AJ36,AI36*(1-0.75)+AJ36*0.75) -> 0 | AR36: =IF($AL36=1,AK36,AJ36*(1-0.75)+AK36*0.75) -> 0 | AS36: =AM36/2 -> 504 | AT36: =SUM($AM36:AM36)+AN36/2 -> 3207.75 | AU36: =SUM($AM36:AN36)+AO36/2 -> 6084.75 | AV36: =SUM($AM36:AO36)+AP36/2 -> 6762 | AW36: =SUM($AM36:AP36)+AQ36/2 -> 6762 | AX36: =SUM($AM36:AQ36)+AR36/2 -> 6762 | AZ36: 0 | BA36: 0 | BB36: 0 | BC36: 0 | BD36: 0 | BE36: 0
A37: 34 | B37: High Rise Residential | C37: 2027 | D37: 1139 | E37: 50 | F37: =AS37 -> 0 | G37: =AT37 -> 756 | H37: =AU37 -> 2047.5 | I37: =AV37 -> 3431.925 | J37: =AW37 -> 4532.325 | K37: =AX37 -> 4783.8 | L37: Speculative (Application Received) | N37: Non-Committed | P37: GS 50 to 2,999 | Q37: New | S37: Whitby | T37: 0 | U37: 480 | V37: 180 | W37: 479 | X37: 0 | Y37: 0 | Z37: =T37*$E37/100 -> 0 | AA37: =U37*$E37/100 -> 240 | AB37: =V37*$E37/100 -> 90 | AC37: =W37*$E37/100 -> 239.5 | AD37: =X37*$E37/100 -> 0 | AE37: =Y37*$E37/100 -> 0 | AF37: =Z37*70%*12 -> 0 | AG37: =AA37*70%*12 -> 2016 | AH37: =AB37*70%*12 -> 756 | AI37: =AC37*70%*12 -> 2011.8 | AJ37: =AD37*70%*12 -> 0 | AK37: =AE37*70%*12 -> 0 | AL37: 0 | AM37: =IF($AL37=1,AF37,AF37*0.75) -> 0 | AN37: =IF($AL37=1,AG37,AF37*(1-0.75)+AG37*0.75) -> 1512 | AO37: =IF($AL37=1,AH37,AG37*(1-0.75)+AH37*0.75) -> 1071 | AP37: =IF($AL37=1,AI37,AH37*(1-0.75)+AI37*0.75) -> 1697.85 | AQ37: =IF($AL37=1,AJ37,AI37*(1-0.75)+AJ37*0.75) -> 502.95 | AR37: =IF($AL37=1,AK37,AJ37*(1-0.75)+AK37*0.75) -> 0 | AS37: =AM37/2 -> 0 | AT37: =SUM($AM37:AM37)+AN37/2 -> 756 | AU37: =SUM($AM37:AN37)+AO37/2 -> 2047.5 | AV37: =SUM($AM37:AO37)+AP37/2 -> 3431.925 | AW37: =SUM($AM37:AP37)+AQ37/2 -> 4532.325 | AX37: =SUM($AM37:AQ37)+AR37/2 -> 4783.8 | AZ37: 0 | BA37: 0 | BB37: 0 | BC37: 0 | BD37: 0 | BE37: 0
A38: 35 | B38: High Rise Residential | C38: 2027 | D38: 2038 | E38: 50 | F38: =AS38 -> 0 | G38: =AT38 -> 756 | H38: =AU38 -> 3087 | I38: =AV38 -> 5668.425 | J38: =AW38 -> 7428.75 | K38: =AX38 -> 8371.125 | L38: Speculative (Application Received) | N38: Non-Committed | P38: GS 50 to 2,999 | Q38: New | S38: Whitby | T38: 0 | U38: 480 | V38: 840 | W38: 359 | X38: 359 | Y38: 0 | Z38: =T38*$E38/100 -> 0 | AA38: =U38*$E38/100 -> 240 | AB38: =V38*$E38/100 -> 420 | AC38: =W38*$E38/100 -> 179.5 | AD38: =X38*$E38/100 -> 179.5 | AE38: =Y38*$E38/100 -> 0 | AF38: =Z38*70%*12 -> 0 | AG38: =AA38*70%*12 -> 2016 | AH38: =AB38*70%*12 -> 3528 | AI38: =AC38*70%*12 -> 1507.8 | AJ38: =AD38*70%*12 -> 1507.8 | AK38: =AE38*70%*12 -> 0 | AL38: 0 | AM38: =IF($AL38=1,AF38,AF38*0.75) -> 0 | AN38: =IF($AL38=1,AG38,AF38*(1-0.75)+AG38*0.75) -> 1512 | AO38: =IF($AL38=1,AH38,AG38*(1-0.75)+AH38*0.75) -> 3150 | AP38: =IF($AL38=1,AI38,AH38*(1-0.75)+AI38*0.75) -> 2012.85 | AQ38: =IF($AL38=1,AJ38,AI38*(1-0.75)+AJ38*0.75) -> 1507.8 | AR38: =IF($AL38=1,AK38,AJ38*(1-0.75)+AK38*0.75) -> 376.95 | AS38: =AM38/2 -> 0 | AT38: =SUM($AM38:AM38)+AN38/2 -> 756 | AU38: =SUM($AM38:AN38)+AO38/2 -> 3087 | AV38: =SUM($AM38:AO38)+AP38/2 -> 5668.425 | AW38: =SUM($AM38:AP38)+AQ38/2 -> 7428.75 | AX38: =SUM($AM38:AQ38)+AR38/2 -> 8371.125 | AZ38: 0 | BA38: 0 | BB38: 0 | BC38: 0 | BD38: 0 | BE38: 0
A39: 36 | B39: Mixed Use Residential | C39: 2026 | D39: 1125 | E39: 80 | F39: =AS39 -> 2835 | G39: =AT39 -> 6615 | H39: =AU39 -> 7560 | I39: =AV39 -> 7560 | J39: =AW39 -> 7560 | K39: =AX39 -> 7560 | L39: Committed (OTC in Progress) | N39: Committed | P39: GS 50 to 2,999 | Q39: New | S39: Whitby | T39: 1125 | U39: 0 | V39: 0 | W39: 0 | X39: 0 | Y39: 0 | Z39: =T39*$E39/100 -> 900 | AA39: =U39*$E39/100 -> 0 | AB39: =V39*$E39/100 -> 0 | AC39: =W39*$E39/100 -> 0 | AD39: =X39*$E39/100 -> 0 | AE39: =Y39*$E39/100 -> 0 | AF39: =Z39*70%*12 -> 7560 | AG39: =AA39*70%*12 -> 0 | AH39: =AB39*70%*12 -> 0 | AI39: =AC39*70%*12 -> 0 | AJ39: =AD39*70%*12 -> 0 | AK39: =AE39*70%*12 -> 0 | AL39: 0 | AM39: =IF($AL39=1,AF39,AF39*0.75) -> 5670 | AN39: =IF($AL39=1,AG39,AF39*(1-0.75)+AG39*0.75) -> 1890 | AO39: =IF($AL39=1,AH39,AG39*(1-0.75)+AH39*0.75) -> 0 | AP39: =IF($AL39=1,AI39,AH39*(1-0.75)+AI39*0.75) -> 0 | AQ39: =IF($AL39=1,AJ39,AI39*(1-0.75)+AJ39*0.75) -> 0 | AR39: =IF($AL39=1,AK39,AJ39*(1-0.75)+AK39*0.75) -> 0 | AS39: =AM39/2 -> 2835 | AT39: =SUM($AM39:AM39)+AN39/2 -> 6615 | AU39: =SUM($AM39:AN39)+AO39/2 -> 7560 | AV39: =SUM($AM39:AO39)+AP39/2 -> 7560 | AW39: =SUM($AM39:AP39)+AQ39/2 -> 7560 | AX39: =SUM($AM39:AQ39)+AR39/2 -> 7560 | AZ39: 0 | BA39: 0 | BB39: 0 | BC39: 0 | BD39: 0 | BE39: 0
